Workbook
Name fériés: fériés!$B$2:$B$12

Sheet fériés
B2: 42370 | C2: vendredi | D2: Premier de l'An 2016
B3: 42457 | C3: lundi | D3: Lundi de Pâques 2016
B4: 42491 | C4: dimanche | D4: Fête du travail 2016
B5: 42498 | C5: dimanche | D5: Victoire 1945 2016
B6: 42495 | C6: jeudi | D6: Ascension 2016
B7: 42506 | C7: lundi | D7: Lundi de Pentecôte 2016
B8: 42565 | C8: jeudi | D8: Fête Nationale 2016
B9: 42597 | C9: lundi | D9: Assomption 2016
B10: 42675 | C10: mardi | D10: Toussaint 2016
B11: 42685 | C11: vendredi | D11: Armistice de 1918 2016
B12: 42729 | C12: dimanche | D12: Noël 2016

Sheet BDD
A2: AIT SAID A | B2: SANS PORC
A3: ALVES F | B3: NORMAL
A4: AUBASPEYRAS Y | B4: NORMAL
A5: AUDY M | B5: NORMAL
A6: BRAUD J | B6: NORMAL
A7: BAZETOUX V | B7: NORMAL
A8: BOKALO E | B8: NORMAL
A9: BRIOUAL Z | B9: HYPOCHOLESTEROMIANT SANS PORC
A10: CERISUELA S | B10: HYPOCALORIQUE
A11: CHANUT B | B11: HYPOCHOLESTEROMIANT
A12: CHATTI A | B12: SANS PORC
A13: DELZOR N | B13: HYPO URICEMIANT
... A45: VERGNY fr | B45: NORMAL
A47: STAGIAIRE | B47: NORMAL | G47: HYPOCHOLESTEROMIANT
G48: HYPOCHOLESTEROMIANT SANS PORC
A49: FORMATEUR | B49: NORMAL | G49: HYPOCHOLESTEROMIANT & HYPOCALORIQUE
A50: INVITE | B50: NORMAL | G50: HYPOCALORIQUE
A51: ENCADREMENT | B51: NORMAL | G51: HYPO URICEMIANT
A52: Mr CHAVEROCHE | B52: NORMAL | G52: SANS PORC
A53: Mr RIMOUX | B53: NORMAL | G53: NORMAL
A54: Mr VIALLEMONTEIL | B54: NORMAL

Sheet 17
A1: P : Présent
A2: A : Absent | B2: 2016 | C2: Semaine
A3: E : Repas Ext | B3: =TODAY() -> 42564 | C3: =MID(CELL("nomfichier",$A$1),FIND("]",CELL("nomfichier",$A$1))+1,50) -> 17
C4: =C5 -> 42485 | D4: =D5 -> 42486 | E4: =E5 -> 42487 | F4: =F5 -> 42488 | G4: =G5 -> 42489
B5: NOMS | C5: =7*C3+DATE(B2,1,3)-WEEKDAY(DATE(B2,1,3))-5 -> 42485 | D5: =C5+1 -> 42486 | E5: =D5+1 -> 42487 | F5: =E5+1 -> 42488 | G5: =F5+1 -> 42489
B6: =BDD!A2 -> AIT SAID A | C6: p | D6: p | E6: p | F6: p | I6: =IF(C6="P",INDEX(BDD!$A$2:$B$52,MATCH('17'!$B6,BDD!$A$2:$A$52,0),2),"") -> SANS PORC | J6: =IF(D6="P",INDEX(BDD!$A$2:$B$52,MATCH('17'!$B6,BDD!$A$2:$A$52,0),2),"") -> SANS PORC | K6: =IF(E6="P",INDEX(BDD!$A$2:$B$52,MATCH('17'!$B6,BDD!$A$2:$A$52,0),2),"") -> SANS PORC | L6: =IF(F6="P",INDEX(BDD!$A$2:$B$52,MATCH('17'!$B6,BDD!$A$2:$A$52,0),2),"") -> SANS PORC | M6: =IF(G6="P",INDEX(BDD!$A$2:$B$52,MATCH('17'!$B6,BDD!$A$2:$A$52,0),2),"")
B7: =BDD!A3 -> ALVES F | C7: p | D7: p | E7: p | F7: p | G7: P | I7: =IF(C7="P",INDEX(BDD!$A$2:$B$52,MATCH('17'!$B7,BDD!$A$2:$A$52,0),2),"") -> NORMAL | J7: =IF(D7="P",INDEX(BDD!$A$2:$B$52,MATCH('17'!$B7,BDD!$A$2:$A$52,0),2),"") -> NORMAL | K7: =IF(E7="P",INDEX(BDD!$A$2:$B$52,MATCH('17'!$B7,BDD!$A$2:$A$52,0),2),"") -> NORMAL | L7: =IF(F7="P",INDEX(BDD!$A$2:$B$52,MATCH('17'!$B7,BDD!$A$2:$A$52,0),2),"") -> NORMAL | M7: =IF(G7="P",INDEX(BDD!$A$2:$B$52,MATCH('17'!$B7,BDD!$A$2:$A$52,0),2),"") -> NORMAL
B8: =BDD!A4 -> AUBASPEYRAS Y | C8: p | D8: p | E8: p | F8: p | I8: =IF(C8="P",INDEX(BDD!$A$2:$B$52,MATCH('17'!$B8,BDD!$A$2:$A$52,0),2),"") -> NORMAL | J8: =IF(D8="P",INDEX(BDD!$A$2:$B$52,MATCH('17'!$B8,BDD!$A$2:$A$52,0),2),"") -> NORMAL | K8: =IF(E8="P",INDEX(BDD!$A$2:$B$52,MATCH('17'!$B8,BDD!$A$2:$A$52,0),2),"") -> NORMAL | L8: =IF(F8="P",INDEX(BDD!$A$2:$B$52,MATCH('17'!$B8,BDD!$A$2:$A$52,0),2),"") -> NORMAL | M8: =IF(G8="P",INDEX(BDD!$A$2:$B$52,MATCH('17'!$B8,BDD!$A$2:$A$52,0),2),"")
B9: =BDD!A5 -> AUDY M | C9: p | D9: p | E9: p | F9: p | G9: P | I9: =IF(C9="P",INDEX(BDD!$A$2:$B$52,MATCH('17'!$B9,BDD!$A$2:$A$52,0),2),"") -> NORMAL | J9: =IF(D9="P",INDEX(BDD!$A$2:$B$52,MATCH('17'!$B9,BDD!$A$2:$A$52,0),2),"") -> NORMAL | K9: =IF(E9="P",INDEX(BDD!$A$2:$B$52,MATCH('17'!$B9,BDD!$A$2:$A$52,0),2),"") -> NORMAL | L9: =IF(F9="P",INDEX(BDD!$A$2:$B$52,MATCH('17'!$B9,BDD!$A$2:$A$52,0),2),"") -> NORMAL | M9: =IF(G9="P",INDEX(BDD!$A$2:$B$52,MATCH('17'!$B9,BDD!$A$2:$A$52,0),2),"") -> NORMAL
B10: =BDD!A6 -> BRAUD J | C10: p | D10: p | E10: p | F10: p | I10: =IF(C10="P",INDEX(BDD!$A$2:$B$52,MATCH('17'!$B10,BDD!$A$2:$A$52,0),2),"") -> NORMAL | J10: =IF(D10="P",INDEX(BDD!$A$2:$B$52,MATCH('17'!$B10,BDD!$A$2:$A$52,0),2),"") -> NORMAL | K10: =IF(E10="P",INDEX(BDD!$A$2:$B$52,MATCH('17'!$B10,BDD!$A$2:$A$52,0),2),"") -> NORMAL | L10: =IF(F10="P",INDEX(BDD!$A$2:$B$52,MATCH('17'!$B10,BDD!$A$2:$A$52,0),2),"") -> NORMAL | M10: =IF(G10="P",INDEX(BDD!$A$2:$B$52,MATCH('17'!$B10,BDD!$A$2:$A$52,0),2),"")
B11: =BDD!A7 -> BAZETOUX V | C11: p | D11: p | E11: p | F11: p | G11: P | I11: =IF(C11="P",INDEX(BDD!$A$2:$B$52,MATCH('17'!$B11,BDD!$A$2:$A$52,0),2),"") -> NORMAL | J11: =IF(D11="P",INDEX(BDD!$A$2:$B$52,MATCH('17'!$B11,BDD!$A$2:$A$52,0),2),"") -> NORMAL | K11: =IF(E11="P",INDEX(BDD!$A$2:$B$52,MATCH('17'!$B11,BDD!$A$2:$A$52,0),2),"") -> NORMAL | L11: =IF(F11="P",INDEX(BDD!$A$2:$B$52,MATCH('17'!$B11,BDD!$A$2:$A$52,0),2),"") -> NORMAL | M11: =IF(G11="P",INDEX(BDD!$A$2:$B$52,MATCH('17'!$B11,BDD!$A$2:$A$52,0),2),"") -> NORMAL
B12: =BDD!A8 -> BOKALO E | C12: a | D12: a | E12: a | F12: a | G12: a | I12: =IF(C12="P",INDEX(BDD!$A$2:$B$52,MATCH('17'!$B12,BDD!$A$2:$A$52,0),2),"") | J12: =IF(D12="P",INDEX(BDD!$A$2:$B$52,MATCH('17'!$B12,BDD!$A$2:$A$52,0),2),"") | K12: =IF(E12="P",INDEX(BDD!$A$2:$B$52,MATCH('17'!$B12,BDD!$A$2:$A$52,0),2),"") | L12: =IF(F12="P",INDEX(BDD!$A$2:$B$52,MATCH('17'!$B12,BDD!$A$2:$A$52,0),2),"") | M12: =IF(G12="P",INDEX(BDD!$A$2:$B$52,MATCH('17'!$B12,BDD!$A$2:$A$52,0),2),"")
B13: =BDD!A9 -> BRIOUAL Z | C13: a | D13: a | E13: a | F13: a | G13: a | I13: =IF(C13="P",INDEX(BDD!$A$2:$B$52,MATCH('17'!$B13,BDD!$A$2:$A$52,0),2),"") | J13: =IF(D13="P",INDEX(BDD!$A$2:$B$52,MATCH('17'!$B13,BDD!$A$2:$A$52,0),2),"") | K13: =IF(E13="P",INDEX(BDD!$A$2:$B$52,MATCH('17'!$B13,BDD!$A$2:$A$52,0),2),"") | L13: =IF(F13="P",INDEX(BDD!$A$2:$B$52,MATCH('17'!$B13,BDD!$A$2:$A$52,0),2),"") | M13: =IF(G13="P",INDEX(BDD!$A$2:$B$52,MATCH('17'!$B13,BDD!$A$2:$A$52,0),2),"")
B14: =BDD!A10 -> CERISUELA S | C14: p | D14: p | E14: p | F14: p | G14: P | I14: =IF(C14="P",INDEX(BDD!$A$2:$B$52,MATCH('17'!$B14,BDD!$A$2:$A$52,0),2),"") -> HYPOCALORIQUE | J14: =IF(D14="P",INDEX(BDD!$A$2:$B$52,MATCH('17'!$B14,BDD!$A$2:$A$52,0),2),"") -> HYPOCALORIQUE | K14: =IF(E14="P",INDEX(BDD!$A$2:$B$52,MATCH('17'!$B14,BDD!$A$2:$A$52,0),2),"") -> HYPOCALORIQUE | L14: =IF(F14="P",INDEX(BDD!$A$2:$B$52,MATCH('17'!$B14,BDD!$A$2:$A$52,0),2),"") -> HYPOCALORIQUE | M14: =IF(G14="P",INDEX(BDD!$A$2:$B$52,MATCH('17'!$B14,BDD!$A$2:$A$52,0),2),"") -> HYPOCALORIQUE
B15: =BDD!A11 -> CHANUT B | C15: p | D15: p | E15: p | F15: p | I15: =IF(C15="P",INDEX(BDD!$A$2:$B$52,MATCH('17'!$B15,BDD!$A$2:$A$52,0),2),"") -> HYPOCHOLESTEROMIANT | J15: =IF(D15="P",INDEX(BDD!$A$2:$B$52,MATCH('17'!$B15,BDD!$A$2:$A$52,0),2),"") -> HYPOCHOLESTEROMIANT | K15: =IF(E15="P",INDEX(BDD!$A$2:$B$52,MATCH('17'!$B15,BDD!$A$2:$A$52,0),2),"") -> HYPOCHOLESTEROMIANT | L15: =IF(F15="P",INDEX(BDD!$A$2:$B$52,MATCH('17'!$B15,BDD!$A$2:$A$52,0),2),"") -> HYPOCHOLESTEROMIANT | M15: =IF(G15="P",INDEX(BDD!$A$2:$B$52,MATCH('17'!$B15,BDD!$A$2:$A$52,0),2),"")
B16: =BDD!A12 -> CHATTI A | C16: p | D16: p | E16: p | F16: p | G16: P | I16: =IF(C16="P",INDEX(BDD!$A$2:$B$52,MATCH('17'!$B16,BDD!$A$2:$A$52,0),2),"") -> SANS PORC | J16: =IF(D16="P",INDEX(BDD!$A$2:$B$52,MATCH('17'!$B16,BDD!$A$2:$A$52,0),2),"") -> SANS PORC | K16: =IF(E16="P",INDEX(BDD!$A$2:$B$52,MATCH('17'!$B16,BDD!$A$2:$A$52,0),2),"") -> SANS PORC | L16: =IF(F16="P",INDEX(BDD!$A$2:$B$52,MATCH('17'!$B16,BDD!$A$2:$A$52,0),2),"") -> SANS PORC | M16: =IF(G16="P",INDEX(BDD!$A$2:$B$52,MATCH('17'!$B16,BDD!$A$2:$A$52,0),2),"") -> SANS PORC
B17: =BDD!A13 -> DELZOR N | C17: p | D17: p | E17: p | F17: p | I17: =IF(C17="P",INDEX(BDD!$A$2:$B$52,MATCH('17'!$B17,BDD!$A$2:$A$52,0),2),"") -> HYPO URICEMIANT | J17: =IF(D17="P",INDEX(BDD!$A$2:$B$52,MATCH('17'!$B17,BDD!$A$2:$A$52,0),2),"") -> HYPO URICEMIANT | K17: =IF(E17="P",INDEX(BDD!$A$2:$B$52,MATCH('17'!$B17,BDD!$A$2:$A$52,0),2),"") -> HYPO URICEMIANT | L17: =IF(F17="P",INDEX(BDD!$A$2:$B$52,MATCH('17'!$B17,BDD!$A$2:$A$52,0),2),"") -> HYPO URICEMIANT | M17: =IF(G17="P",INDEX(BDD!$A$2:$B$52,MATCH('17'!$B17,BDD!$A$2:$A$52,0),2),"")
B18: =BDD!A14 -> DEMICHEL A | C18: p | D18: p | E18: p | F18: p | I18: =IF(C18="P",INDEX(BDD!$A$2:$B$52,MATCH('17'!$B18,BDD!$A$2:$A$52,0),2),"") -> NORMAL | J18: =IF(D18="P",INDEX(BDD!$A$2:$B$52,MATCH('17'!$B18,BDD!$A$2:$A$52,0),2),"") -> NORMAL | K18: =IF(E18="P",INDEX(BDD!$A$2:$B$52,MATCH('17'!$B18,BDD!$A$2:$A$52,0),2),"") -> NORMAL | L18: =IF(F18="P",INDEX(BDD!$A$2:$B$52,MATCH('17'!$B18,BDD!$A$2:$A$52,0),2),"") -> NORMAL | M18: =IF(G18="P",INDEX(BDD!$A$2:$B$52,MATCH('17'!$B18,BDD!$A$2:$A$52,0),2),"")
B19: =BDD!A15 -> DENIS P | C19: p | D19: p | E19: p | F19: p | I19: =IF(C19="P",INDEX(BDD!$A$2:$B$52,MATCH('17'!$B19,BDD!$A$2:$A$52,0),2),"") -> NORMAL | J19: =IF(D19="P",INDEX(BDD!$A$2:$B$52,MATCH('17'!$B19,BDD!$A$2:$A$52,0),2),"") -> NORMAL | K19: =IF(E19="P",INDEX(BDD!$A$2:$B$52,MATCH('17'!$B19,BDD!$A$2:$A$52,0),2),"") -> NORMAL | L19: =IF(F19="P",INDEX(BDD!$A$2:$B$52,MATCH('17'!$B19,BDD!$A$2:$A$52,0),2),"") -> NORMAL | M19: =IF(G19="P",INDEX(BDD!$A$2:$B$52,MATCH('17'!$B19,BDD!$A$2:$A$52,0),2),"")
B20: =BDD!#REF! -> #REF! | C20: p | D20: p | E20: p | F20: p | G20: P | I20: =IF(C20="P",INDEX(BDD!$A$2:$B$52,MATCH('17'!$B20,BDD!$A$2:$A$52,0),2),"") -> #REF! | J20: =IF(D20="P",INDEX(BDD!$A$2:$B$52,MATCH('17'!$B20,BDD!$A$2:$A$52,0),2),"") -> #REF! | K20: =IF(E20="P",INDEX(BDD!$A$2:$B$52,MATCH('17'!$B20,BDD!$A$2:$A$52,0),2),"") -> #REF! | L20: =IF(F20="P",INDEX(BDD!$A$2:$B$52,MATCH('17'!$B20,BDD!$A$2:$A$52,0),2),"") -> #REF! | M20: =IF(G20="P",INDEX(BDD!$A$2:$B$52,MATCH('17'!$B20,BDD!$A$2:$A$52,0),2),"") -> #REF!
B21: =BDD!A16 -> GAUTHIER JF | C21: p | D21: p | E21: p | F21: p | G21: P | I21: =IF(C21="P",INDEX(BDD!$A$2:$B$52,MATCH('17'!$B21,BDD!$A$2:$A$52,0),2),"") -> NORMAL | J21: =IF(D21="P",INDEX(BDD!$A$2:$B$52,MATCH('17'!$B21,BDD!$A$2:$A$52,0),2),"") -> NORMAL | K21: =IF(E21="P",INDEX(BDD!$A$2:$B$52,MATCH('17'!$B21,BDD!$A$2:$A$52,0),2),"") -> NORMAL | L21: =IF(F21="P",INDEX(BDD!$A$2:$B$52,MATCH('17'!$B21,BDD!$A$2:$A$52,0),2),"") -> NORMAL | M21: =IF(G21="P",INDEX(BDD!$A$2:$B$52,MATCH('17'!$B21,BDD!$A$2:$A$52,0),2),"") -> NORMAL
B22: =BDD!A17 -> GAUTIER Y | C22: p | D22: p | E22: p | F22: p | G22: P | I22: =IF(C22="P",INDEX(BDD!$A$2:$B$52,MATCH('17'!$B22,BDD!$A$2:$A$52,0),2),"") -> NORMAL | J22: =IF(D22="P",INDEX(BDD!$A$2:$B$52,MATCH('17'!$B22,BDD!$A$2:$A$52,0),2),"") -> NORMAL | K22: =IF(E22="P",INDEX(BDD!$A$2:$B$52,MATCH('17'!$B22,BDD!$A$2:$A$52,0),2),"") -> NORMAL | L22: =IF(F22="P",INDEX(BDD!$A$2:$B$52,MATCH('17'!$B22,BDD!$A$2:$A$52,0),2),"") -> NORMAL | M22: =IF(G22="P",INDEX(BDD!$A$2:$B$52,MATCH('17'!$B22,BDD!$A$2:$A$52,0),2),"") -> NORMAL
B23: =BDD!A18 -> GOURDON F | C23: p | D23: p | E23: p | F23: p | I23: =IF(C23="P",INDEX(BDD!$A$2:$B$52,MATCH('17'!$B23,BDD!$A$2:$A$52,0),2),"") -> NORMAL | J23: =IF(D23="P",INDEX(BDD!$A$2:$B$52,MATCH('17'!$B23,BDD!$A$2:$A$52,0),2),"") -> NORMAL | K23: =IF(E23="P",INDEX(BDD!$A$2:$B$52,MATCH('17'!$B23,BDD!$A$2:$A$52,0),2),"") -> NORMAL | L23: =IF(F23="P",INDEX(BDD!$A$2:$B$52,MATCH('17'!$B23,BDD!$A$2:$A$52,0),2),"") -> NORMAL | M23: =IF(G23="P",INDEX(BDD!$A$2:$B$52,MATCH('17'!$B23,BDD!$A$2:$A$52,0),2),"")
B24: =BDD!A19 -> GORDOGA K | C24: p | D24: p | E24: p | F24: p | G24: p | I24: =IF(C24="P",INDEX(BDD!$A$2:$B$52,MATCH('17'!$B24,BDD!$A$2:$A$52,0),2),"") -> SANS PORC | J24: =IF(D24="P",INDEX(BDD!$A$2:$B$52,MATCH('17'!$B24,BDD!$A$2:$A$52,0),2),"") -> SANS PORC | K24: =IF(E24="P",INDEX(BDD!$A$2:$B$52,MATCH('17'!$B24,BDD!$A$2:$A$52,0),2),"") -> SANS PORC | L24: =IF(F24="P",INDEX(BDD!$A$2:$B$52,MATCH('17'!$B24,BDD!$A$2:$A$52,0),2),"") -> SANS PORC | M24: =IF(G24="P",INDEX(BDD!$A$2:$B$52,MATCH('17'!$B24,BDD!$A$2:$A$52,0),2),"") -> SANS PORC
B25: =BDD!A20 -> GRAVIERE JP | C25: p | D25: p | E25: p | F25: p | G25: P | I25: =IF(C25="P",INDEX(BDD!$A$2:$B$52,MATCH('17'!$B25,BDD!$A$2:$A$52,0),2),"") -> NORMAL | J25: =IF(D25="P",INDEX(BDD!$A$2:$B$52,MATCH('17'!$B25,BDD!$A$2:$A$52,0),2),"") -> NORMAL | K25: =IF(E25="P",INDEX(BDD!$A$2:$B$52,MATCH('17'!$B25,BDD!$A$2:$A$52,0),2),"") -> NORMAL | L25: =IF(F25="P",INDEX(BDD!$A$2:$B$52,MATCH('17'!$B25,BDD!$A$2:$A$52,0),2),"") -> NORMAL | M25: =IF(G25="P",INDEX(BDD!$A$2:$B$52,MATCH('17'!$B25,BDD!$A$2:$A$52,0),2),"") -> NORMAL
B26: =BDD!A21 -> JULLIOT Y | C26: p | D26: p | E26: p | F26: p | G26: P | I26: =IF(C26="P",INDEX(BDD!$A$2:$B$52,MATCH('17'!$B26,BDD!$A$2:$A$52,0),2),"") -> NORMAL | J26: =IF(D26="P",INDEX(BDD!$A$2:$B$52,MATCH('17'!$B26,BDD!$A$2:$A$52,0),2),"") -> NORMAL | K26: =IF(E26="P",INDEX(BDD!$A$2:$B$52,MATCH('17'!$B26,BDD!$A$2:$A$52,0),2),"") -> NORMAL | L26: =IF(F26="P",INDEX(BDD!$A$2:$B$52,MATCH('17'!$B26,BDD!$A$2:$A$52,0),2),"") -> NORMAL | M26: =IF(G26="P",INDEX(BDD!$A$2:$B$52,MATCH('17'!$B26,BDD!$A$2:$A$52,0),2),"") -> NORMAL
B27: =BDD!A22 -> LARBRE JM | C27: p | D27: p | E27: p | F27: p | G27: P | I27: =IF(C27="P",INDEX(BDD!$A$2:$B$52,MATCH('17'!$B27,BDD!$A$2:$A$52,0),2),"") -> NORMAL | J27: =IF(D27="P",INDEX(BDD!$A$2:$B$52,MATCH('17'!$B27,BDD!$A$2:$A$52,0),2),"") -> NORMAL | K27: =IF(E27="P",INDEX(BDD!$A$2:$B$52,MATCH('17'!$B27,BDD!$A$2:$A$52,0),2),"") -> NORMAL | L27: =IF(F27="P",INDEX(BDD!$A$2:$B$52,MATCH('17'!$B27,BDD!$A$2:$A$52,0),2),"") -> NORMAL | M27: =IF(G27="P",INDEX(BDD!$A$2:$B$52,MATCH('17'!$B27,BDD!$A$2:$A$52,0),2),"") -> NORMAL
B28: =BDD!A23 -> LAPLACE F | C28: p | D28: p | E28: p | F28: p | I28: =IF(C28="P",INDEX(BDD!$A$2:$B$52,MATCH('17'!$B28,BDD!$A$2:$A$52,0),2),"") -> NORMAL | J28: =IF(D28="P",INDEX(BDD!$A$2:$B$52,MATCH('17'!$B28,BDD!$A$2:$A$52,0),2),"") -> NORMAL | K28: =IF(E28="P",INDEX(BDD!$A$2:$B$52,MATCH('17'!$B28,BDD!$A$2:$A$52,0),2),"") -> NORMAL | L28: =IF(F28="P",INDEX(BDD!$A$2:$B$52,MATCH('17'!$B28,BDD!$A$2:$A$52,0),2),"") -> NORMAL | M28: =IF(G28="P",INDEX(BDD!$A$2:$B$52,MATCH('17'!$B28,BDD!$A$2:$A$52,0),2),"")
B29: =BDD!A24 -> LARA C | C29: p | D29: p | E29: p | F29: p | G29: P | I29: =IF(C29="P",INDEX(BDD!$A$2:$B$52,MATCH('17'!$B29,BDD!$A$2:$A$52,0),2),"") -> HYPOCALORIQUE | J29: =IF(D29="P",INDEX(BDD!$A$2:$B$52,MATCH('17'!$B29,BDD!$A$2:$A$52,0),2),"") -> HYPOCALORIQUE | K29: =IF(E29="P",INDEX(BDD!$A$2:$B$52,MATCH('17'!$B29,BDD!$A$2:$A$52,0),2),"") -> HYPOCALORIQUE | L29: =IF(F29="P",INDEX(BDD!$A$2:$B$52,MATCH('17'!$B29,BDD!$A$2:$A$52,0),2),"") -> HYPOCALORIQUE | M29: =IF(G29="P",INDEX(BDD!$A$2:$B$52,MATCH('17'!$B29,BDD!$A$2:$A$52,0),2),"") -> HYPOCALORIQUE
B30: =BDD!A25 -> LAURENT N | C30: p | D30: a | E30: a | F30: a | G30: a | I30: =IF(C30="P",INDEX(BDD!$A$2:$B$52,MATCH('17'!$B30,BDD!$A$2:$A$52,0),2),"") -> NORMAL | J30: =IF(D30="P",INDEX(BDD!$A$2:$B$52,MATCH('17'!$B30,BDD!$A$2:$A$52,0),2),"") | K30: =IF(E30="P",INDEX(BDD!$A$2:$B$52,MATCH('17'!$B30,BDD!$A$2:$A$52,0),2),"") | L30: =IF(F30="P",INDEX(BDD!$A$2:$B$52,MATCH('17'!$B30,BDD!$A$2:$A$52,0),2),"") | M30: =IF(G30="P",INDEX(BDD!$A$2:$B$52,MATCH('17'!$B30,BDD!$A$2:$A$52,0),2),"")
B31: =BDD!A26 -> LEBON Y | C31: p | D31: p | E31: p | F31: p | I31: =IF(C31="P",INDEX(BDD!$A$2:$B$52,MATCH('17'!$B31,BDD!$A$2:$A$52,0),2),"") -> NORMAL | J31: =IF(D31="P",INDEX(BDD!$A$2:$B$52,MATCH('17'!$B31,BDD!$A$2:$A$52,0),2),"") -> NORMAL | K31: =IF(E31="P",INDEX(BDD!$A$2:$B$52,MATCH('17'!$B31,BDD!$A$2:$A$52,0),2),"") -> NORMAL | L31: =IF(F31="P",INDEX(BDD!$A$2:$B$52,MATCH('17'!$B31,BDD!$A$2:$A$52,0),2),"") -> NORMAL | M31: =IF(G31="P",INDEX(BDD!$A$2:$B$52,MATCH('17'!$B31,BDD!$A$2:$A$52,0),2),"")
B32: =BDD!A27 -> LECAM A | C32: p | D32: p | E32: p | F32: p | I32: =IF(C32="P",INDEX(BDD!$A$2:$B$52,MATCH('17'!$B32,BDD!$A$2:$A$52,0),2),"") -> NORMAL | J32: =IF(D32="P",INDEX(BDD!$A$2:$B$52,MATCH('17'!$B32,BDD!$A$2:$A$52,0),2),"") -> NORMAL | K32: =IF(E32="P",INDEX(BDD!$A$2:$B$52,MATCH('17'!$B32,BDD!$A$2:$A$52,0),2),"") -> NORMAL | L32: =IF(F32="P",INDEX(BDD!$A$2:$B$52,MATCH('17'!$B32,BDD!$A$2:$A$52,0),2),"") -> NORMAL | M32: =IF(G32="P",INDEX(BDD!$A$2:$B$52,MATCH('17'!$B32,BDD!$A$2:$A$52,0),2),"")
B33: =BDD!A28 -> LEHON JL | C33: p | D33: p | E33: p | F33: p | I33: =IF(C33="P",INDEX(BDD!$A$2:$B$52,MATCH('17'!$B33,BDD!$A$2:$A$52,0),2),"") -> NORMAL | J33: =IF(D33="P",INDEX(BDD!$A$2:$B$52,MATCH('17'!$B33,BDD!$A$2:$A$52,0),2),"") -> NORMAL | K33: =IF(E33="P",INDEX(BDD!$A$2:$B$52,MATCH('17'!$B33,BDD!$A$2:$A$52,0),2),"") -> NORMAL | L33: =IF(F33="P",INDEX(BDD!$A$2:$B$52,MATCH('17'!$B33,BDD!$A$2:$A$52,0),2),"") -> NORMAL | M33: =IF(G33="P",INDEX(BDD!$A$2:$B$52,MATCH('17'!$B33,BDD!$A$2:$A$52,0),2),"")
B34: =BDD!A29 -> MALERGUE MC | C34: p | D34: p | E34: p | F34: p | I34: =IF(C34="P",INDEX(BDD!$A$2:$B$52,MATCH('17'!$B34,BDD!$A$2:$A$52,0),2),"") -> HYPOCALORIQUE | J34: =IF(D34="P",INDEX(BDD!$A$2:$B$52,MATCH('17'!$B34,BDD!$A$2:$A$52,0),2),"") -> HYPOCALORIQUE | K34: =IF(E34="P",INDEX(BDD!$A$2:$B$52,MATCH('17'!$B34,BDD!$A$2:$A$52,0),2),"") -> HYPOCALORIQUE | L34: =IF(F34="P",INDEX(BDD!$A$2:$B$52,MATCH('17'!$B34,BDD!$A$2:$A$52,0),2),"") -> HYPOCALORIQUE | M34: =IF(G34="P",INDEX(BDD!$A$2:$B$52,MATCH('17'!$B34,BDD!$A$2:$A$52,0),2),"")
B35: =BDD!A30 -> MASSIAS JM | C35: p | D35: p | E35: p | F35: p | G35: P | I35: =IF(C35="P",INDEX(BDD!$A$2:$B$52,MATCH('17'!$B35,BDD!$A$2:$A$52,0),2),"") -> NORMAL | J35: =IF(D35="P",INDEX(BDD!$A$2:$B$52,MATCH('17'!$B35,BDD!$A$2:$A$52,0),2),"") -> NORMAL | K35: =IF(E35="P",INDEX(BDD!$A$2:$B$52,MATCH('17'!$B35,BDD!$A$2:$A$52,0),2),"") -> NORMAL | L35: =IF(F35="P",INDEX(BDD!$A$2:$B$52,MATCH('17'!$B35,BDD!$A$2:$A$52,0),2),"") -> NORMAL | M35: =IF(G35="P",INDEX(BDD!$A$2:$B$52,MATCH('17'!$B35,BDD!$A$2:$A$52,0),2),"") -> NORMAL
B36: =BDD!A31 -> MAURY E | C36: p | D36: p | E36: p | F36: p | I36: =IF(C36="P",INDEX(BDD!$A$2:$B$52,MATCH('17'!$B36,BDD!$A$2:$A$52,0),2),"") -> NORMAL | J36: =IF(D36="P",INDEX(BDD!$A$2:$B$52,MATCH('17'!$B36,BDD!$A$2:$A$52,0),2),"") -> NORMAL | K36: =IF(E36="P",INDEX(BDD!$A$2:$B$52,MATCH('17'!$B36,BDD!$A$2:$A$52,0),2),"") -> NORMAL | L36: =IF(F36="P",INDEX(BDD!$A$2:$B$52,MATCH('17'!$B36,BDD!$A$2:$A$52,0),2),"") -> NORMAL | M36: =IF(G36="P",INDEX(BDD!$A$2:$B$52,MATCH('17'!$B36,BDD!$A$2:$A$52,0),2),"")
B37: =BDD!A32 -> MICHELOU S | C37: p | D37: p | E37: p | F37: p | I37: =IF(C37="P",INDEX(BDD!$A$2:$B$52,MATCH('17'!$B37,BDD!$A$2:$A$52,0),2),"") -> NORMAL | J37: =IF(D37="P",INDEX(BDD!$A$2:$B$52,MATCH('17'!$B37,BDD!$A$2:$A$52,0),2),"") -> NORMAL | K37: =IF(E37="P",INDEX(BDD!$A$2:$B$52,MATCH('17'!$B37,BDD!$A$2:$A$52,0),2),"") -> NORMAL | L37: =IF(F37="P",INDEX(BDD!$A$2:$B$52,MATCH('17'!$B37,BDD!$A$2:$A$52,0),2),"") -> NORMAL | M37: =IF(G37="P",INDEX(BDD!$A$2:$B$52,MATCH('17'!$B37,BDD!$A$2:$A$52,0),2),"")
B38: =BDD!A33 -> ORLIANGE O | C38: p | D38: p | E38: p | F38: p | I38: =IF(C38="P",INDEX(BDD!$A$2:$B$52,MATCH('17'!$B38,BDD!$A$2:$A$52,0),2),"") -> NORMAL | J38: =IF(D38="P",INDEX(BDD!$A$2:$B$52,MATCH('17'!$B38,BDD!$A$2:$A$52,0),2),"") -> NORMAL | K38: =IF(E38="P",INDEX(BDD!$A$2:$B$52,MATCH('17'!$B38,BDD!$A$2:$A$52,0),2),"") -> NORMAL | L38: =IF(F38="P",INDEX(BDD!$A$2:$B$52,MATCH('17'!$B38,BDD!$A$2:$A$52,0),2),"") -> NORMAL | M38: =IF(G38="P",INDEX(BDD!$A$2:$B$52,MATCH('17'!$B38,BDD!$A$2:$A$52,0),2),"")
B39: =BDD!A34 -> PELISSIER J | C39: p | D39: p | E39: p | F39: p | G39: P | I39: =IF(C39="P",INDEX(BDD!$A$2:$B$52,MATCH('17'!$B39,BDD!$A$2:$A$52,0),2),"") -> NORMAL | J39: =IF(D39="P",INDEX(BDD!$A$2:$B$52,MATCH('17'!$B39,BDD!$A$2:$A$52,0),2),"") -> NORMAL | K39: =IF(E39="P",INDEX(BDD!$A$2:$B$52,MATCH('17'!$B39,BDD!$A$2:$A$52,0),2),"") -> NORMAL | L39: =IF(F39="P",INDEX(BDD!$A$2:$B$52,MATCH('17'!$B39,BDD!$A$2:$A$52,0),2),"") -> NORMAL | M39: =IF(G39="P",INDEX(BDD!$A$2:$B$52,MATCH('17'!$B39,BDD!$A$2:$A$52,0),2),"") -> NORMAL
B40: =BDD!A35 -> PHIALIP Ch | C40: p | D40: p | E40: p | F40: p | I40: =IF(C40="P",INDEX(BDD!$A$2:$B$52,MATCH('17'!$B40,BDD!$A$2:$A$52,0),2),"") -> NORMAL | J40: =IF(D40="P",INDEX(BDD!$A$2:$B$52,MATCH('17'!$B40,BDD!$A$2:$A$52,0),2),"") -> NORMAL | K40: =IF(E40="P",INDEX(BDD!$A$2:$B$52,MATCH('17'!$B40,BDD!$A$2:$A$52,0),2),"") -> NORMAL | L40: =IF(F40="P",INDEX(BDD!$A$2:$B$52,MATCH('17'!$B40,BDD!$A$2:$A$52,0),2),"") -> NORMAL | M40: =IF(G40="P",INDEX(BDD!$A$2:$B$52,MATCH('17'!$B40,BDD!$A$2:$A$52,0),2),"")
...

Sheet 18
A1: P : Présent
A2: A : Absent | B2: 2016 | C2: Semaine
A3: E : Repas Ext | B3: =TODAY() -> 42564 | C3: =MID(CELL("nomfichier",$A$1),FIND("]",CELL("nomfichier",$A$1))+1,50) -> 18
C4: =C5 -> 42492 | D4: =D5 -> 42493 | E4: =E5 -> 42494 | F4: =F5 -> 42495 | G4: =G5 -> 42496
B5: NOMS | C5: =7*C3+DATE(B2,1,3)-WEEKDAY(DATE(B2,1,3))-5 -> 42492 | D5: =C5+1 -> 42493 | E5: =D5+1 -> 42494 | F5: =E5+1 -> 42495 | G5: =F5+1 -> 42496
B6: =BDD!A2 -> AIT SAID A | C6: p | D6: p | E6: p | I6: =IF(C6="P",INDEX(BDD!$A$2:$B$52,MATCH('18'!$B6,BDD!$A$2:$A$52,0),2),"") -> SANS PORC | J6: =IF(D6="P",INDEX(BDD!$A$2:$B$52,MATCH('18'!$B6,BDD!$A$2:$A$52,0),2),"") -> SANS PORC | K6: =IF(E6="P",INDEX(BDD!$A$2:$B$52,MATCH('18'!$B6,BDD!$A$2:$A$52,0),2),"") -> SANS PORC | L6: =IF(F6="P",INDEX(BDD!$A$2:$B$52,MATCH('18'!$B6,BDD!$A$2:$A$52,0),2),"") | M6: =IF(G6="P",INDEX(BDD!$A$2:$B$52,MATCH('18'!$B6,BDD!$A$2:$A$52,0),2),"")
B7: =BDD!A3 -> ALVES F | C7: a | D7: a | E7: a | I7: =IF(C7="P",INDEX(BDD!$A$2:$B$52,MATCH('18'!$B7,BDD!$A$2:$A$52,0),2),"") | J7: =IF(D7="P",INDEX(BDD!$A$2:$B$52,MATCH('18'!$B7,BDD!$A$2:$A$52,0),2),"") | K7: =IF(E7="P",INDEX(BDD!$A$2:$B$52,MATCH('18'!$B7,BDD!$A$2:$A$52,0),2),"") | L7: =IF(F7="P",INDEX(BDD!$A$2:$B$52,MATCH('18'!$B7,BDD!$A$2:$A$52,0),2),"") | M7: =IF(G7="P",INDEX(BDD!$A$2:$B$52,MATCH('18'!$B7,BDD!$A$2:$A$52,0),2),"")
B8: =BDD!A4 -> AUBASPEYRAS Y | C8: p | D8: p | E8: p | I8: =IF(C8="P",INDEX(BDD!$A$2:$B$52,MATCH('18'!$B8,BDD!$A$2:$A$52,0),2),"") -> NORMAL | J8: =IF(D8="P",INDEX(BDD!$A$2:$B$52,MATCH('18'!$B8,BDD!$A$2:$A$52,0),2),"") -> NORMAL | K8: =IF(E8="P",INDEX(BDD!$A$2:$B$52,MATCH('18'!$B8,BDD!$A$2:$A$52,0),2),"") -> NORMAL | L8: =IF(F8="P",INDEX(BDD!$A$2:$B$52,MATCH('18'!$B8,BDD!$A$2:$A$52,0),2),"") | M8: =IF(G8="P",INDEX(BDD!$A$2:$B$52,MATCH('18'!$B8,BDD!$A$2:$A$52,0),2),"")
B9: =BDD!A5 -> AUDY M | C9: p | D9: a | E9: a | I9: =IF(C9="P",INDEX(BDD!$A$2:$B$52,MATCH('18'!$B9,BDD!$A$2:$A$52,0),2),"") -> NORMAL | J9: =IF(D9="P",INDEX(BDD!$A$2:$B$52,MATCH('18'!$B9,BDD!$A$2:$A$52,0),2),"") | K9: =IF(E9="P",INDEX(BDD!$A$2:$B$52,MATCH('18'!$B9,BDD!$A$2:$A$52,0),2),"") | L9: =IF(F9="P",INDEX(BDD!$A$2:$B$52,MATCH('18'!$B9,BDD!$A$2:$A$52,0),2),"") | M9: =IF(G9="P",INDEX(BDD!$A$2:$B$52,MATCH('18'!$B9,BDD!$A$2:$A$52,0),2),"")
B10: =BDD!A6 -> BRAUD J | C10: a | D10: a | E10: a | I10: =IF(C10="P",INDEX(BDD!$A$2:$B$52,MATCH('18'!$B10,BDD!$A$2:$A$52,0),2),"") | J10: =IF(D10="P",INDEX(BDD!$A$2:$B$52,MATCH('18'!$B10,BDD!$A$2:$A$52,0),2),"") | K10: =IF(E10="P",INDEX(BDD!$A$2:$B$52,MATCH('18'!$B10,BDD!$A$2:$A$52,0),2),"") | L10: =IF(F10="P",INDEX(BDD!$A$2:$B$52,MATCH('18'!$B10,BDD!$A$2:$A$52,0),2),"") | M10: =IF(G10="P",INDEX(BDD!$A$2:$B$52,MATCH('18'!$B10,BDD!$A$2:$A$52,0),2),"")
B11: =BDD!A7 -> BAZETOUX V | C11: a | D11: a | E11: a | I11: =IF(C11="P",INDEX(BDD!$A$2:$B$52,MATCH('18'!$B11,BDD!$A$2:$A$52,0),2),"") | J11: =IF(D11="P",INDEX(BDD!$A$2:$B$52,MATCH('18'!$B11,BDD!$A$2:$A$52,0),2),"") | K11: =IF(E11="P",INDEX(BDD!$A$2:$B$52,MATCH('18'!$B11,BDD!$A$2:$A$52,0),2),"") | L11: =IF(F11="P",INDEX(BDD!$A$2:$B$52,MATCH('18'!$B11,BDD!$A$2:$A$52,0),2),"") | M11: =IF(G11="P",INDEX(BDD!$A$2:$B$52,MATCH('18'!$B11,BDD!$A$2:$A$52,0),2),"")
B12: =BDD!A8 -> BOKALO E | C12: a | D12: a | E12: a | I12: =IF(C12="P",INDEX(BDD!$A$2:$B$52,MATCH('18'!$B12,BDD!$A$2:$A$52,0),2),"") | J12: =IF(D12="P",INDEX(BDD!$A$2:$B$52,MATCH('18'!$B12,BDD!$A$2:$A$52,0),2),"") | K12: =IF(E12="P",INDEX(BDD!$A$2:$B$52,MATCH('18'!$B12,BDD!$A$2:$A$52,0),2),"") | L12: =IF(F12="P",INDEX(BDD!$A$2:$B$52,MATCH('18'!$B12,BDD!$A$2:$A$52,0),2),"") | M12: =IF(G12="P",INDEX(BDD!$A$2:$B$52,MATCH('18'!$B12,BDD!$A$2:$A$52,0),2),"")
B13: =BDD!A9 -> BRIOUAL Z | C13: p | D13: p | E13: p | I13: =IF(C13="P",INDEX(BDD!$A$2:$B$52,MATCH('18'!$B13,BDD!$A$2:$A$52,0),2),"") -> HYPOCHOLESTEROMIANT SANS PORC | J13: =IF(D13="P",INDEX(BDD!$A$2:$B$52,MATCH('18'!$B13,BDD!$A$2:$A$52,0),2),"") -> HYPOCHOLESTEROMIANT SANS PORC | K13: =IF(E13="P",INDEX(BDD!$A$2:$B$52,MATCH('18'!$B13,BDD!$A$2:$A$52,0),2),"") -> HYPOCHOLESTEROMIANT SANS PORC | L13: =IF(F13="P",INDEX(BDD!$A$2:$B$52,MATCH('18'!$B13,BDD!$A$2:$A$52,0),2),"") | M13: =IF(G13="P",INDEX(BDD!$A$2:$B$52,MATCH('18'!$B13,BDD!$A$2:$A$52,0),2),"")
B14: =BDD!A10 -> CERISUELA S | C14: a | D14: a | E14: a | I14: =IF(C14="P",INDEX(BDD!$A$2:$B$52,MATCH('18'!$B14,BDD!$A$2:$A$52,0),2),"") | J14: =IF(D14="P",INDEX(BDD!$A$2:$B$52,MATCH('18'!$B14,BDD!$A$2:$A$52,0),2),"") | K14: =IF(E14="P",INDEX(BDD!$A$2:$B$52,MATCH('18'!$B14,BDD!$A$2:$A$52,0),2),"") | L14: =IF(F14="P",INDEX(BDD!$A$2:$B$52,MATCH('18'!$B14,BDD!$A$2:$A$52,0),2),"") | M14: =IF(G14="P",INDEX(BDD!$A$2:$B$52,MATCH('18'!$B14,BDD!$A$2:$A$52,0),2),"")
B15: =BDD!A11 -> CHANUT B | C15: a | D15: a | E15: a | I15: =IF(C15="P",INDEX(BDD!$A$2:$B$52,MATCH('18'!$B15,BDD!$A$2:$A$52,0),2),"") | J15: =IF(D15="P",INDEX(BDD!$A$2:$B$52,MATCH('18'!$B15,BDD!$A$2:$A$52,0),2),"") | K15: =IF(E15="P",INDEX(BDD!$A$2:$B$52,MATCH('18'!$B15,BDD!$A$2:$A$52,0),2),"") | L15: =IF(F15="P",INDEX(BDD!$A$2:$B$52,MATCH('18'!$B15,BDD!$A$2:$A$52,0),2),"") | M15: =IF(G15="P",INDEX(BDD!$A$2:$B$52,MATCH('18'!$B15,BDD!$A$2:$A$52,0),2),"")
B16: =BDD!A12 -> CHATTI A | C16: p | D16: p | E16: p | I16: =IF(C16="P",INDEX(BDD!$A$2:$B$52,MATCH('18'!$B16,BDD!$A$2:$A$52,0),2),"") -> SANS PORC | J16: =IF(D16="P",INDEX(BDD!$A$2:$B$52,MATCH('18'!$B16,BDD!$A$2:$A$52,0),2),"") -> SANS PORC | K16: =IF(E16="P",INDEX(BDD!$A$2:$B$52,MATCH('18'!$B16,BDD!$A$2:$A$52,0),2),"") -> SANS PORC | L16: =IF(F16="P",INDEX(BDD!$A$2:$B$52,MATCH('18'!$B16,BDD!$A$2:$A$52,0),2),"") | M16: =IF(G16="P",INDEX(BDD!$A$2:$B$52,MATCH('18'!$B16,BDD!$A$2:$A$52,0),2),"")
B17: =BDD!A13 -> DELZOR N | C17: p | D17: p | E17: p | I17: =IF(C17="P",INDEX(BDD!$A$2:$B$52,MATCH('18'!$B17,BDD!$A$2:$A$52,0),2),"") -> HYPO URICEMIANT | J17: =IF(D17="P",INDEX(BDD!$A$2:$B$52,MATCH('18'!$B17,BDD!$A$2:$A$52,0),2),"") -> HYPO URICEMIANT | K17: =IF(E17="P",INDEX(BDD!$A$2:$B$52,MATCH('18'!$B17,BDD!$A$2:$A$52,0),2),"") -> HYPO URICEMIANT | L17: =IF(F17="P",INDEX(BDD!$A$2:$B$52,MATCH('18'!$B17,BDD!$A$2:$A$52,0),2),"") | M17: =IF(G17="P",INDEX(BDD!$A$2:$B$52,MATCH('18'!$B17,BDD!$A$2:$A$52,0),2),"")
... B19: =BDD!A15 -> DENIS P | C19: a | D19: a | E19: a | I19: =IF(C19="P",INDEX(BDD!$A$2:$B$52,MATCH('18'!$B19,BDD!$A$2:$A$52,0),2),"") | J19: =IF(D19="P",INDEX(BDD!$A$2:$B$52,MATCH('18'!$B19,BDD!$A$2:$A$52,0),2),"") | K19: =IF(E19="P",INDEX(BDD!$A$2:$B$52,MATCH('18'!$B19,BDD!$A$2:$A$52,0),2),"") | L19: =IF(F19="P",INDEX(BDD!$A$2:$B$52,MATCH('18'!$B19,BDD!$A$2:$A$52,0),2),"") | M19: =IF(G19="P",INDEX(BDD!$A$2:$B$52,MATCH('18'!$B19,BDD!$A$2:$A$52,0),2),"")
B20: =BDD!#REF! -> #REF! | C20: a | D20: p | E20: p | I20: =IF(C20="P",INDEX(BDD!$A$2:$B$52,MATCH('18'!$B20,BDD!$A$2:$A$52,0),2),"") | J20: =IF(D20="P",INDEX(BDD!$A$2:$B$52,MATCH('18'!$B20,BDD!$A$2:$A$52,0),2),"") -> #REF! | K20: =IF(E20="P",INDEX(BDD!$A$2:$B$52,MATCH('18'!$B20,BDD!$A$2:$A$52,0),2),"") -> #REF! | L20: =IF(F20="P",INDEX(BDD!$A$2:$B$52,MATCH('18'!$B20,BDD!$A$2:$A$52,0),2),"") | M20: =IF(G20="P",INDEX(BDD!$A$2:$B$52,MATCH('18'!$B20,BDD!$A$2:$A$52,0),2),"")
B21: =BDD!A16 -> GAUTHIER JF | C21: p | D21: p | E21: p | I21: =IF(C21="P",INDEX(BDD!$A$2:$B$52,MATCH('18'!$B21,BDD!$A$2:$A$52,0),2),"") -> NORMAL | J21: =IF(D21="P",INDEX(BDD!$A$2:$B$52,MATCH('18'!$B21,BDD!$A$2:$A$52,0),2),"") -> NORMAL | K21: =IF(E21="P",INDEX(BDD!$A$2:$B$52,MATCH('18'!$B21,BDD!$A$2:$A$52,0),2),"") -> NORMAL | L21: =IF(F21="P",INDEX(BDD!$A$2:$B$52,MATCH('18'!$B21,BDD!$A$2:$A$52,0),2),"") | M21: =IF(G21="P",INDEX(BDD!$A$2:$B$52,MATCH('18'!$B21,BDD!$A$2:$A$52,0),2),"")
B22: =BDD!A17 -> GAUTIER Y | C22: p | D22: p | E22: p | I22: =IF(C22="P",INDEX(BDD!$A$2:$B$52,MATCH('18'!$B22,BDD!$A$2:$A$52,0),2),"") -> NORMAL | J22: =IF(D22="P",INDEX(BDD!$A$2:$B$52,MATCH('18'!$B22,BDD!$A$2:$A$52,0),2),"") -> NORMAL | K22: =IF(E22="P",INDEX(BDD!$A$2:$B$52,MATCH('18'!$B22,BDD!$A$2:$A$52,0),2),"") -> NORMAL | L22: =IF(F22="P",INDEX(BDD!$A$2:$B$52,MATCH('18'!$B22,BDD!$A$2:$A$52,0),2),"") | M22: =IF(G22="P",INDEX(BDD!$A$2:$B$52,MATCH('18'!$B22,BDD!$A$2:$A$52,0),2),"")
B23: =BDD!A18 -> GOURDON F | C23: p | D23: p | E23: p | I23: =IF(C23="P",INDEX(BDD!$A$2:$B$52,MATCH('18'!$B23,BDD!$A$2:$A$52,0),2),"") -> NORMAL | J23: =IF(D23="P",INDEX(BDD!$A$2:$B$52,MATCH('18'!$B23,BDD!$A$2:$A$52,0),2),"") -> NORMAL | K23: =IF(E23="P",INDEX(BDD!$A$2:$B$52,MATCH('18'!$B23,BDD!$A$2:$A$52,0),2),"") -> NORMAL | L23: =IF(F23="P",INDEX(BDD!$A$2:$B$52,MATCH('18'!$B23,BDD!$A$2:$A$52,0),2),"") | M23: =IF(G23="P",INDEX(BDD!$A$2:$B$52,MATCH('18'!$B23,BDD!$A$2:$A$52,0),2),"")
B24: =BDD!A19 -> GORDOGA K | C24: p | D24: p | E24: p | I24: =IF(C24="P",INDEX(BDD!$A$2:$B$52,MATCH('18'!$B24,BDD!$A$2:$A$52,0),2),"") -> SANS PORC | J24: =IF(D24="P",INDEX(BDD!$A$2:$B$52,MATCH('18'!$B24,BDD!$A$2:$A$52,0),2),"") -> SANS PORC | K24: =IF(E24="P",INDEX(BDD!$A$2:$B$52,MATCH('18'!$B24,BDD!$A$2:$A$52,0),2),"") -> SANS PORC | L24: =IF(F24="P",INDEX(BDD!$A$2:$B$52,MATCH('18'!$B24,BDD!$A$2:$A$52,0),2),"") | M24: =IF(G24="P",INDEX(BDD!$A$2:$B$52,MATCH('18'!$B24,BDD!$A$2:$A$52,0),2),"")
B25: =BDD!A20 -> GRAVIERE JP | C25: p | D25: p | E25: p | I25: =IF(C25="P",INDEX(BDD!$A$2:$B$52,MATCH('18'!$B25,BDD!$A$2:$A$52,0),2),"") -> NORMAL | J25: =IF(D25="P",INDEX(BDD!$A$2:$B$52,MATCH('18'!$B25,BDD!$A$2:$A$52,0),2),"") -> NORMAL | K25: =IF(E25="P",INDEX(BDD!$A$2:$B$52,MATCH('18'!$B25,BDD!$A$2:$A$52,0),2),"") -> NORMAL | L25: =IF(F25="P",INDEX(BDD!$A$2:$B$52,MATCH('18'!$B25,BDD!$A$2:$A$52,0),2),"") | M25: =IF(G25="P",INDEX(BDD!$A$2:$B$52,MATCH('18'!$B25,BDD!$A$2:$A$52,0),2),"")
B26: =BDD!A21 -> JULLIOT Y | C26: p | D26: p | E26: p | I26: =IF(C26="P",INDEX(BDD!$A$2:$B$52,MATCH('18'!$B26,BDD!$A$2:$A$52,0),2),"") -> NORMAL | J26: =IF(D26="P",INDEX(BDD!$A$2:$B$52,MATCH('18'!$B26,BDD!$A$2:$A$52,0),2),"") -> NORMAL | K26: =IF(E26="P",INDEX(BDD!$A$2:$B$52,MATCH('18'!$B26,BDD!$A$2:$A$52,0),2),"") -> NORMAL | L26: =IF(F26="P",INDEX(BDD!$A$2:$B$52,MATCH('18'!$B26,BDD!$A$2:$A$52,0),2),"") | M26: =IF(G26="P",INDEX(BDD!$A$2:$B$52,MATCH('18'!$B26,BDD!$A$2:$A$52,0),2),"")
B27: =BDD!A22 -> LARBRE JM | C27: a | D27: p | E27: p | I27: =IF(C27="P",INDEX(BDD!$A$2:$B$52,MATCH('18'!$B27,BDD!$A$2:$A$52,0),2),"") | J27: =IF(D27="P",INDEX(BDD!$A$2:$B$52,MATCH('18'!$B27,BDD!$A$2:$A$52,0),2),"") -> NORMAL | K27: =IF(E27="P",INDEX(BDD!$A$2:$B$52,MATCH('18'!$B27,BDD!$A$2:$A$52,0),2),"") -> NORMAL | L27: =IF(F27="P",INDEX(BDD!$A$2:$B$52,MATCH('18'!$B27,BDD!$A$2:$A$52,0),2),"") | M27: =IF(G27="P",INDEX(BDD!$A$2:$B$52,MATCH('18'!$B27,BDD!$A$2:$A$52,0),2),"")
B28: =BDD!A23 -> LAPLACE F | C28: p | D28: p | E28: p | I28: =IF(C28="P",INDEX(BDD!$A$2:$B$52,MATCH('18'!$B28,BDD!$A$2:$A$52,0),2),"") -> NORMAL | J28: =IF(D28="P",INDEX(BDD!$A$2:$B$52,MATCH('18'!$B28,BDD!$A$2:$A$52,0),2),"") -> NORMAL | K28: =IF(E28="P",INDEX(BDD!$A$2:$B$52,MATCH('18'!$B28,BDD!$A$2:$A$52,0),2),"") -> NORMAL | L28: =IF(F28="P",INDEX(BDD!$A$2:$B$52,MATCH('18'!$B28,BDD!$A$2:$A$52,0),2),"") | M28: =IF(G28="P",INDEX(BDD!$A$2:$B$52,MATCH('18'!$B28,BDD!$A$2:$A$52,0),2),"")
B29: =BDD!A24 -> LARA C | C29: a | D29: a | E29: a | I29: =IF(C29="P",INDEX(BDD!$A$2:$B$52,MATCH('18'!$B29,BDD!$A$2:$A$52,0),2),"") | J29: =IF(D29="P",INDEX(BDD!$A$2:$B$52,MATCH('18'!$B29,BDD!$A$2:$A$52,0),2),"") | K29: =IF(E29="P",INDEX(BDD!$A$2:$B$52,MATCH('18'!$B29,BDD!$A$2:$A$52,0),2),"") | L29: =IF(F29="P",INDEX(BDD!$A$2:$B$52,MATCH('18'!$B29,BDD!$A$2:$A$52,0),2),"") | M29: =IF(G29="P",INDEX(BDD!$A$2:$B$52,MATCH('18'!$B29,BDD!$A$2:$A$52,0),2),"")
B30: =BDD!A25 -> LAURENT N | C30: a | D30: a | E30: a | I30: =IF(C30="P",INDEX(BDD!$A$2:$B$52,MATCH('18'!$B30,BDD!$A$2:$A$52,0),2),"") | J30: =IF(D30="P",INDEX(BDD!$A$2:$B$52,MATCH('18'!$B30,BDD!$A$2:$A$52,0),2),"") | K30: =IF(E30="P",INDEX(BDD!$A$2:$B$52,MATCH('18'!$B30,BDD!$A$2:$A$52,0),2),"") | L30: =IF(F30="P",INDEX(BDD!$A$2:$B$52,MATCH('18'!$B30,BDD!$A$2:$A$52,0),2),"") | M30: =IF(G30="P",INDEX(BDD!$A$2:$B$52,MATCH('18'!$B30,BDD!$A$2:$A$52,0),2),"")
B31: =BDD!A26 -> LEBON Y | C31: p | D31: p | E31: p | I31: =IF(C31="P",INDEX(BDD!$A$2:$B$52,MATCH('18'!$B31,BDD!$A$2:$A$52,0),2),"") -> NORMAL | J31: =IF(D31="P",INDEX(BDD!$A$2:$B$52,MATCH('18'!$B31,BDD!$A$2:$A$52,0),2),"") -> NORMAL | K31: =IF(E31="P",INDEX(BDD!$A$2:$B$52,MATCH('18'!$B31,BDD!$A$2:$A$52,0),2),"") -> NORMAL | L31: =IF(F31="P",INDEX(BDD!$A$2:$B$52,MATCH('18'!$B31,BDD!$A$2:$A$52,0),2),"") | M31: =IF(G31="P",INDEX(BDD!$A$2:$B$52,MATCH('18'!$B31,BDD!$A$2:$A$52,0),2),"")
B32: =BDD!A27 -> LECAM A | C32: p | D32: p | E32: p | I32: =IF(C32="P",INDEX(BDD!$A$2:$B$52,MATCH('18'!$B32,BDD!$A$2:$A$52,0),2),"") -> NORMAL | J32: =IF(D32="P",INDEX(BDD!$A$2:$B$52,MATCH('18'!$B32,BDD!$A$2:$A$52,0),2),"") -> NORMAL | K32: =IF(E32="P",INDEX(BDD!$A$2:$B$52,MATCH('18'!$B32,BDD!$A$2:$A$52,0),2),"") -> NORMAL | L32: =IF(F32="P",INDEX(BDD!$A$2:$B$52,MATCH('18'!$B32,BDD!$A$2:$A$52,0),2),"") | M32: =IF(G32="P",INDEX(BDD!$A$2:$B$52,MATCH('18'!$B32,BDD!$A$2:$A$52,0),2),"")
... B50: =BDD!A45 -> VERGNY fr | C50: p | D50: p | E50: p | I50: =IF(C50="P",INDEX(BDD!$A$2:$B$52,MATCH('18'!$B50,BDD!$A$2:$A$52,0),2),"") -> NORMAL | J50: =IF(D50="P",INDEX(BDD!$A$2:$B$52,MATCH('18'!$B50,BDD!$A$2:$A$52,0),2),"") -> NORMAL | K50: =IF(E50="P",INDEX(BDD!$A$2:$B$52,MATCH('18'!$B50,BDD!$A$2:$A$52,0),2),"") -> NORMAL | L50: =IF(F50="P",INDEX(BDD!$A$2:$B$52,MATCH('18'!$B50,BDD!$A$2:$A$52,0),2),"") | M50: =IF(G50="P",INDEX(BDD!$A$2:$B$52,MATCH('18'!$B50,BDD!$A$2:$A$52,0),2),"")
I51: =IF(C51="P",INDEX(BDD!$A$2:$B$52,MATCH('18'!$B51,BDD!$A$2:$A$52,0),2),"") | J51: =IF(D51="P",INDEX(BDD!$A$2:$B$52,MATCH('18'!$B51,BDD!$A$2:$A$52,0),2),"") | K51: =IF(E51="P",INDEX(BDD!$A$2:$B$52,MATCH('18'!$B51,BDD!$A$2:$A$52,0),2),"") | L51: =IF(F51="P",INDEX(BDD!$A$2:$B$52,MATCH('18'!$B51,BDD!$A$2:$A$52,0),2),"") | M51: =IF(G51="P",INDEX(BDD!$A$2:$B$52,MATCH('18'!$B51,BDD!$A$2:$A$52,0),2),"")
B52: =BDD!A47 -> STAGIAIRE | I52: =IF(C52="P",INDEX(BDD!$A$2:$B$52,MATCH('18'!$B52,BDD!$A$2:$A$52,0),2),"") | J52: =IF(D52="P",INDEX(BDD!$A$2:$B$52,MATCH('18'!$B52,BDD!$A$2:$A$52,0),2),"") | K52: =IF(E52="P",INDEX(BDD!$A$2:$B$52,MATCH('18'!$B52,BDD!$A$2:$A$52,0),2),"") | L52: =IF(F52="P",INDEX(BDD!$A$2:$B$52,MATCH('18'!$B52,BDD!$A$2:$A$52,0),2),"") | M52: =IF(G52="P",INDEX(BDD!$A$2:$B$52,MATCH('18'!$B52,BDD!$A$2:$A$52,0),2),"")
C54: Effectifs cuisine
C55: =MID(CELL("nomfichier",$A$1),FIND("]",CELL("nomfichier",$A$1))+1,50) -> 18
A56: Total J/S | C56: =C57 -> 42492 | D56: =D57 -> 42493 | E56: =E57 -> 42494 | F56: =F57 -> 42495 | G56: =G57 -> 42496
C57: =7*C55+DATE(B2,1,3)-WEEKDAY(DATE(B2,1,3))-5 -> 42492 | D57: =C57+1 -> 42493 | E57: =D57+1 -> 42494 | F57: =E57+1 -> 42495 | G57: =F57+1 -> 42496
A58: =SUM(C58:G58) -> 56 | B58: NORMAL | C58: =IF(COUNTIF(I$6:I$52,$B58)>0,COUNTIF(I$6:I$52,$B58),"") -> 19 | D58: =IF(COUNTIF(J$6:J$52,$B58)>0,COUNTIF(J$6:J$52,$B58),"") -> 19 | E58: =IF(COUNTIF(K$6:K$52,$B58)>0,COUNTIF(K$6:K$52,$B58),"") -> 18 | F58: =IF(COUNTIF(L$6:L$52,$B58)>0,COUNTIF(L$6:L$52,$B58),"") | G58: =IF(COUNTIF(M$6:M$52,$B58)>0,COUNTIF(M$6:M$52,$B58),"")
A59: =SUM(C59:G59) -> 0 | B59: HYPOCHOLESTEROMIANT | C59: =IF(COUNTIF(I$6:I$52,$B59)>0,COUNTIF(I$6:I$52,$B59),"") | D59: =IF(COUNTIF(J$6:J$52,$B59)>0,COUNTIF(J$6:J$52,$B59),"") | E59: =IF(COUNTIF(K$6:K$52,$B59)>0,COUNTIF(K$6:K$52,$B59),"") | F59: =IF(COUNTIF(L$6:L$52,$B59)>0,COUNTIF(L$6:L$52,$B59),"") | G59: =IF(COUNTIF(M$6:M$52,$B59)>0,COUNTIF(M$6:M$52,$B59),"") | I59: =COUNTIF($I$6:$I$52,$B59) -> 0
...

Sheet 19
A1: P : Présent
A2: A : Absent | B2: 2016 | C2: Semaine
A3: E : Repas Ext | B3: =TODAY() -> 42564 | C3: =MID(CELL("nomfichier",$A$1),FIND("]",CELL("nomfichier",$A$1))+1,50) -> 19
C4: =C5 -> 42499 | D4: =D5 -> 42500 | E4: =E5 -> 42501 | F4: =F5 -> 42502 | G4: =G5 -> 42503
B5: NOMS | C5: =7*C3+DATE(B2,1,3)-WEEKDAY(DATE(B2,1,3))-5 -> 42499 | D5: =C5+1 -> 42500 | E5: =D5+1 -> 42501 | F5: =E5+1 -> 42502 | G5: =F5+1 -> 42503
B6: =BDD!A2 -> AIT SAID A | C6: p | D6: p | E6: p | F6: p | G6: p | I6: =IF(C6="P",INDEX(BDD!$A$2:$B$52,MATCH('19'!$B6,BDD!$A$2:$A$52,0),2),"") -> SANS PORC | J6: =IF(D6="P",INDEX(BDD!$A$2:$B$52,MATCH('19'!$B6,BDD!$A$2:$A$52,0),2),"") -> SANS PORC | K6: =IF(E6="P",INDEX(BDD!$A$2:$B$52,MATCH('19'!$B6,BDD!$A$2:$A$52,0),2),"") -> SANS PORC | L6: =IF(F6="P",INDEX(BDD!$A$2:$B$52,MATCH('19'!$B6,BDD!$A$2:$A$52,0),2),"") -> SANS PORC | M6: =IF(G6="P",INDEX(BDD!$A$2:$B$52,MATCH('19'!$B6,BDD!$A$2:$A$52,0),2),"") -> SANS PORC
B7: =BDD!A3 -> ALVES F | C7: p | D7: p | E7: p | F7: p | G7: p | I7: =IF(C7="P",INDEX(BDD!$A$2:$B$52,MATCH('19'!$B7,BDD!$A$2:$A$52,0),2),"") -> NORMAL | J7: =IF(D7="P",INDEX(BDD!$A$2:$B$52,MATCH('19'!$B7,BDD!$A$2:$A$52,0),2),"") -> NORMAL | K7: =IF(E7="P",INDEX(BDD!$A$2:$B$52,MATCH('19'!$B7,BDD!$A$2:$A$52,0),2),"") -> NORMAL | L7: =IF(F7="P",INDEX(BDD!$A$2:$B$52,MATCH('19'!$B7,BDD!$A$2:$A$52,0),2),"") -> NORMAL | M7: =IF(G7="P",INDEX(BDD!$A$2:$B$52,MATCH('19'!$B7,BDD!$A$2:$A$52,0),2),"") -> NORMAL
B8: =BDD!A4 -> AUBASPEYRAS Y | C8: p | D8: p | E8: p | F8: p | G8: p | I8: =IF(C8="P",INDEX(BDD!$A$2:$B$52,MATCH('19'!$B8,BDD!$A$2:$A$52,0),2),"") -> NORMAL | J8: =IF(D8="P",INDEX(BDD!$A$2:$B$52,MATCH('19'!$B8,BDD!$A$2:$A$52,0),2),"") -> NORMAL | K8: =IF(E8="P",INDEX(BDD!$A$2:$B$52,MATCH('19'!$B8,BDD!$A$2:$A$52,0),2),"") -> NORMAL | L8: =IF(F8="P",INDEX(BDD!$A$2:$B$52,MATCH('19'!$B8,BDD!$A$2:$A$52,0),2),"") -> NORMAL | M8: =IF(G8="P",INDEX(BDD!$A$2:$B$52,MATCH('19'!$B8,BDD!$A$2:$A$52,0),2),"") -> NORMAL
B9: =BDD!A5 -> AUDY M | C9: a | D9: a | E9: a | F9: a | G9: a | I9: =IF(C9="P",INDEX(BDD!$A$2:$B$52,MATCH('19'!$B9,BDD!$A$2:$A$52,0),2),"") | J9: =IF(D9="P",INDEX(BDD!$A$2:$B$52,MATCH('19'!$B9,BDD!$A$2:$A$52,0),2),"") | K9: =IF(E9="P",INDEX(BDD!$A$2:$B$52,MATCH('19'!$B9,BDD!$A$2:$A$52,0),2),"") | L9: =IF(F9="P",INDEX(BDD!$A$2:$B$52,MATCH('19'!$B9,BDD!$A$2:$A$52,0),2),"") | M9: =IF(G9="P",INDEX(BDD!$A$2:$B$52,MATCH('19'!$B9,BDD!$A$2:$A$52,0),2),"")
B10: =BDD!A6 -> BRAUD J | C10: p | D10: p | E10: p | F10: p | G10: p | I10: =IF(C10="P",INDEX(BDD!$A$2:$B$52,MATCH('19'!$B10,BDD!$A$2:$A$52,0),2),"") -> NORMAL | J10: =IF(D10="P",INDEX(BDD!$A$2:$B$52,MATCH('19'!$B10,BDD!$A$2:$A$52,0),2),"") -> NORMAL | K10: =IF(E10="P",INDEX(BDD!$A$2:$B$52,MATCH('19'!$B10,BDD!$A$2:$A$52,0),2),"") -> NORMAL | L10: =IF(F10="P",INDEX(BDD!$A$2:$B$52,MATCH('19'!$B10,BDD!$A$2:$A$52,0),2),"") -> NORMAL | M10: =IF(G10="P",INDEX(BDD!$A$2:$B$52,MATCH('19'!$B10,BDD!$A$2:$A$52,0),2),"") -> NORMAL
B11: =BDD!A7 -> BAZETOUX V | C11: p | D11: p | E11: p | F11: p | G11: p | I11: =IF(C11="P",INDEX(BDD!$A$2:$B$52,MATCH('19'!$B11,BDD!$A$2:$A$52,0),2),"") -> NORMAL | J11: =IF(D11="P",INDEX(BDD!$A$2:$B$52,MATCH('19'!$B11,BDD!$A$2:$A$52,0),2),"") -> NORMAL | K11: =IF(E11="P",INDEX(BDD!$A$2:$B$52,MATCH('19'!$B11,BDD!$A$2:$A$52,0),2),"") -> NORMAL | L11: =IF(F11="P",INDEX(BDD!$A$2:$B$52,MATCH('19'!$B11,BDD!$A$2:$A$52,0),2),"") -> NORMAL | M11: =IF(G11="P",INDEX(BDD!$A$2:$B$52,MATCH('19'!$B11,BDD!$A$2:$A$52,0),2),"") -> NORMAL
B12: =BDD!A8 -> BOKALO E | C12: a | D12: a | E12: a | F12: a | G12: a | I12: =IF(C12="P",INDEX(BDD!$A$2:$B$52,MATCH('19'!$B12,BDD!$A$2:$A$52,0),2),"") | J12: =IF(D12="P",INDEX(BDD!$A$2:$B$52,MATCH('19'!$B12,BDD!$A$2:$A$52,0),2),"") | K12: =IF(E12="P",INDEX(BDD!$A$2:$B$52,MATCH('19'!$B12,BDD!$A$2:$A$52,0),2),"") | L12: =IF(F12="P",INDEX(BDD!$A$2:$B$52,MATCH('19'!$B12,BDD!$A$2:$A$52,0),2),"") | M12: =IF(G12="P",INDEX(BDD!$A$2:$B$52,MATCH('19'!$B12,BDD!$A$2:$A$52,0),2),"")
B13: =BDD!A9 -> BRIOUAL Z | C13: p | D13: p | E13: p | F13: p | G13: p | I13: =IF(C13="P",INDEX(BDD!$A$2:$B$52,MATCH('19'!$B13,BDD!$A$2:$A$52,0),2),"") -> HYPOCHOLESTEROMIANT SANS PORC | J13: =IF(D13="P",INDEX(BDD!$A$2:$B$52,MATCH('19'!$B13,BDD!$A$2:$A$52,0),2),"") -> HYPOCHOLESTEROMIANT SANS PORC | K13: =IF(E13="P",INDEX(BDD!$A$2:$B$52,MATCH('19'!$B13,BDD!$A$2:$A$52,0),2),"") -> HYPOCHOLESTEROMIANT SANS PORC | L13: =IF(F13="P",INDEX(BDD!$A$2:$B$52,MATCH('19'!$B13,BDD!$A$2:$A$52,0),2),"") -> HYPOCHOLESTEROMIANT SANS PORC | M13: =IF(G13="P",INDEX(BDD!$A$2:$B$52,MATCH('19'!$B13,BDD!$A$2:$A$52,0),2),"") -> HYPOCHOLESTEROMIANT SANS PORC
B14: =BDD!A10 -> CERISUELA S | C14: p | D14: p | E14: p | F14: p | G14: p | I14: =IF(C14="P",INDEX(BDD!$A$2:$B$52,MATCH('19'!$B14,BDD!$A$2:$A$52,0),2),"") -> HYPOCALORIQUE | J14: =IF(D14="P",INDEX(BDD!$A$2:$B$52,MATCH('19'!$B14,BDD!$A$2:$A$52,0),2),"") -> HYPOCALORIQUE | K14: =IF(E14="P",INDEX(BDD!$A$2:$B$52,MATCH('19'!$B14,BDD!$A$2:$A$52,0),2),"") -> HYPOCALORIQUE | L14: =IF(F14="P",INDEX(BDD!$A$2:$B$52,MATCH('19'!$B14,BDD!$A$2:$A$52,0),2),"") -> HYPOCALORIQUE | M14: =IF(G14="P",INDEX(BDD!$A$2:$B$52,MATCH('19'!$B14,BDD!$A$2:$A$52,0),2),"") -> HYPOCALORIQUE
B15: =BDD!A11 -> CHANUT B | C15: p | D15: p | E15: p | F15: p | G15: p | I15: =IF(C15="P",INDEX(BDD!$A$2:$B$52,MATCH('19'!$B15,BDD!$A$2:$A$52,0),2),"") -> HYPOCHOLESTEROMIANT | J15: =IF(D15="P",INDEX(BDD!$A$2:$B$52,MATCH('19'!$B15,BDD!$A$2:$A$52,0),2),"") -> HYPOCHOLESTEROMIANT | K15: =IF(E15="P",INDEX(BDD!$A$2:$B$52,MATCH('19'!$B15,BDD!$A$2:$A$52,0),2),"") -> HYPOCHOLESTEROMIANT | L15: =IF(F15="P",INDEX(BDD!$A$2:$B$52,MATCH('19'!$B15,BDD!$A$2:$A$52,0),2),"") -> HYPOCHOLESTEROMIANT | M15: =IF(G15="P",INDEX(BDD!$A$2:$B$52,MATCH('19'!$B15,BDD!$A$2:$A$52,0),2),"") -> HYPOCHOLESTEROMIANT
B16: =BDD!A12 -> CHATTI A | C16: p | D16: p | E16: p | F16: p | G16: p | I16: =IF(C16="P",INDEX(BDD!$A$2:$B$52,MATCH('19'!$B16,BDD!$A$2:$A$52,0),2),"") -> SANS PORC | J16: =IF(D16="P",INDEX(BDD!$A$2:$B$52,MATCH('19'!$B16,BDD!$A$2:$A$52,0),2),"") -> SANS PORC | K16: =IF(E16="P",INDEX(BDD!$A$2:$B$52,MATCH('19'!$B16,BDD!$A$2:$A$52,0),2),"") -> SANS PORC | L16: =IF(F16="P",INDEX(BDD!$A$2:$B$52,MATCH('19'!$B16,BDD!$A$2:$A$52,0),2),"") -> SANS PORC | M16: =IF(G16="P",INDEX(BDD!$A$2:$B$52,MATCH('19'!$B16,BDD!$A$2:$A$52,0),2),"") -> SANS PORC
B17: =BDD!A13 -> DELZOR N | C17: p | D17: p | E17: p | F17: p | G17: p | I17: =IF(C17="P",INDEX(BDD!$A$2:$B$52,MATCH('19'!$B17,BDD!$A$2:$A$52,0),2),"") -> HYPO URICEMIANT | J17: =IF(D17="P",INDEX(BDD!$A$2:$B$52,MATCH('19'!$B17,BDD!$A$2:$A$52,0),2),"") -> HYPO URICEMIANT | K17: =IF(E17="P",INDEX(BDD!$A$2:$B$52,MATCH('19'!$B17,BDD!$A$2:$A$52,0),2),"") -> HYPO URICEMIANT | L17: =IF(F17="P",INDEX(BDD!$A$2:$B$52,MATCH('19'!$B17,BDD!$A$2:$A$52,0),2),"") -> HYPO URICEMIANT | M17: =IF(G17="P",INDEX(BDD!$A$2:$B$52,MATCH('19'!$B17,BDD!$A$2:$A$52,0),2),"") -> HYPO URICEMIANT
... B19: =BDD!A15 -> DENIS P | C19: a | D19: a | E19: a | F19: a | G19: a | I19: =IF(C19="P",INDEX(BDD!$A$2:$B$52,MATCH('19'!$B19,BDD!$A$2:$A$52,0),2),"") | J19: =IF(D19="P",INDEX(BDD!$A$2:$B$52,MATCH('19'!$B19,BDD!$A$2:$A$52,0),2),"") | K19: =IF(E19="P",INDEX(BDD!$A$2:$B$52,MATCH('19'!$B19,BDD!$A$2:$A$52,0),2),"") | L19: =IF(F19="P",INDEX(BDD!$A$2:$B$52,MATCH('19'!$B19,BDD!$A$2:$A$52,0),2),"") | M19: =IF(G19="P",INDEX(BDD!$A$2:$B$52,MATCH('19'!$B19,BDD!$A$2:$A$52,0),2),"")
B20: =BDD!#REF! -> #REF! | C20: p | D20: p | E20: p | F20: p | G20: p | I20: =IF(C20="P",INDEX(BDD!$A$2:$B$52,MATCH('19'!$B20,BDD!$A$2:$A$52,0),2),"") -> #REF! | J20: =IF(D20="P",INDEX(BDD!$A$2:$B$52,MATCH('19'!$B20,BDD!$A$2:$A$52,0),2),"") -> #REF! | K20: =IF(E20="P",INDEX(BDD!$A$2:$B$52,MATCH('19'!$B20,BDD!$A$2:$A$52,0),2),"") -> #REF! | L20: =IF(F20="P",INDEX(BDD!$A$2:$B$52,MATCH('19'!$B20,BDD!$A$2:$A$52,0),2),"") -> #REF! | M20: =IF(G20="P",INDEX(BDD!$A$2:$B$52,MATCH('19'!$B20,BDD!$A$2:$A$52,0),2),"") -> #REF!
B21: =BDD!A16 -> GAUTHIER JF | C21: a | D21: a | E21: a | F21: a | G21: a | I21: =IF(C21="P",INDEX(BDD!$A$2:$B$52,MATCH('19'!$B21,BDD!$A$2:$A$52,0),2),"") | J21: =IF(D21="P",INDEX(BDD!$A$2:$B$52,MATCH('19'!$B21,BDD!$A$2:$A$52,0),2),"") | K21: =IF(E21="P",INDEX(BDD!$A$2:$B$52,MATCH('19'!$B21,BDD!$A$2:$A$52,0),2),"") | L21: =IF(F21="P",INDEX(BDD!$A$2:$B$52,MATCH('19'!$B21,BDD!$A$2:$A$52,0),2),"") | M21: =IF(G21="P",INDEX(BDD!$A$2:$B$52,MATCH('19'!$B21,BDD!$A$2:$A$52,0),2),"")
B22: =BDD!A17 -> GAUTIER Y | C22: p | D22: p | E22: p | F22: p | G22: p | I22: =IF(C22="P",INDEX(BDD!$A$2:$B$52,MATCH('19'!$B22,BDD!$A$2:$A$52,0),2),"") -> NORMAL | J22: =IF(D22="P",INDEX(BDD!$A$2:$B$52,MATCH('19'!$B22,BDD!$A$2:$A$52,0),2),"") -> NORMAL | K22: =IF(E22="P",INDEX(BDD!$A$2:$B$52,MATCH('19'!$B22,BDD!$A$2:$A$52,0),2),"") -> NORMAL | L22: =IF(F22="P",INDEX(BDD!$A$2:$B$52,MATCH('19'!$B22,BDD!$A$2:$A$52,0),2),"") -> NORMAL | M22: =IF(G22="P",INDEX(BDD!$A$2:$B$52,MATCH('19'!$B22,BDD!$A$2:$A$52,0),2),"") -> NORMAL
B23: =BDD!A18 -> GOURDON F | C23: p | D23: p | E23: p | F23: p | G23: p | I23: =IF(C23="P",INDEX(BDD!$A$2:$B$52,MATCH('19'!$B23,BDD!$A$2:$A$52,0),2),"") -> NORMAL | J23: =IF(D23="P",INDEX(BDD!$A$2:$B$52,MATCH('19'!$B23,BDD!$A$2:$A$52,0),2),"") -> NORMAL | K23: =IF(E23="P",INDEX(BDD!$A$2:$B$52,MATCH('19'!$B23,BDD!$A$2:$A$52,0),2),"") -> NORMAL | L23: =IF(F23="P",INDEX(BDD!$A$2:$B$52,MATCH('19'!$B23,BDD!$A$2:$A$52,0),2),"") -> NORMAL | M23: =IF(G23="P",INDEX(BDD!$A$2:$B$52,MATCH('19'!$B23,BDD!$A$2:$A$52,0),2),"") -> NORMAL
B24: =BDD!A19 -> GORDOGA K | C24: p | D24: p | E24: p | F24: p | G24: p | I24: =IF(C24="P",INDEX(BDD!$A$2:$B$52,MATCH('19'!$B24,BDD!$A$2:$A$52,0),2),"") -> SANS PORC | J24: =IF(D24="P",INDEX(BDD!$A$2:$B$52,MATCH('19'!$B24,BDD!$A$2:$A$52,0),2),"") -> SANS PORC | K24: =IF(E24="P",INDEX(BDD!$A$2:$B$52,MATCH('19'!$B24,BDD!$A$2:$A$52,0),2),"") -> SANS PORC | L24: =IF(F24="P",INDEX(BDD!$A$2:$B$52,MATCH('19'!$B24,BDD!$A$2:$A$52,0),2),"") -> SANS PORC | M24: =IF(G24="P",INDEX(BDD!$A$2:$B$52,MATCH('19'!$B24,BDD!$A$2:$A$52,0),2),"") -> SANS PORC
B25: =BDD!A20 -> GRAVIERE JP | C25: p | D25: p | E25: p | F25: p | G25: p | I25: =IF(C25="P",INDEX(BDD!$A$2:$B$52,MATCH('19'!$B25,BDD!$A$2:$A$52,0),2),"") -> NORMAL | J25: =IF(D25="P",INDEX(BDD!$A$2:$B$52,MATCH('19'!$B25,BDD!$A$2:$A$52,0),2),"") -> NORMAL | K25: =IF(E25="P",INDEX(BDD!$A$2:$B$52,MATCH('19'!$B25,BDD!$A$2:$A$52,0),2),"") -> NORMAL | L25: =IF(F25="P",INDEX(BDD!$A$2:$B$52,MATCH('19'!$B25,BDD!$A$2:$A$52,0),2),"") -> NORMAL | M25: =IF(G25="P",INDEX(BDD!$A$2:$B$52,MATCH('19'!$B25,BDD!$A$2:$A$52,0),2),"") -> NORMAL
B26: =BDD!A21 -> JULLIOT Y | C26: p | D26: p | E26: p | F26: p | G26: p | I26: =IF(C26="P",INDEX(BDD!$A$2:$B$52,MATCH('19'!$B26,BDD!$A$2:$A$52,0),2),"") -> NORMAL | J26: =IF(D26="P",INDEX(BDD!$A$2:$B$52,MATCH('19'!$B26,BDD!$A$2:$A$52,0),2),"") -> NORMAL | K26: =IF(E26="P",INDEX(BDD!$A$2:$B$52,MATCH('19'!$B26,BDD!$A$2:$A$52,0),2),"") -> NORMAL | L26: =IF(F26="P",INDEX(BDD!$A$2:$B$52,MATCH('19'!$B26,BDD!$A$2:$A$52,0),2),"") -> NORMAL | M26: =IF(G26="P",INDEX(BDD!$A$2:$B$52,MATCH('19'!$B26,BDD!$A$2:$A$52,0),2),"") -> NORMAL
B27: =BDD!A22 -> LARBRE JM | C27: a | D27: a | E27: a | F27: a | G27: a | I27: =IF(C27="P",INDEX(BDD!$A$2:$B$52,MATCH('19'!$B27,BDD!$A$2:$A$52,0),2),"") | J27: =IF(D27="P",INDEX(BDD!$A$2:$B$52,MATCH('19'!$B27,BDD!$A$2:$A$52,0),2),"") | K27: =IF(E27="P",INDEX(BDD!$A$2:$B$52,MATCH('19'!$B27,BDD!$A$2:$A$52,0),2),"") | L27: =IF(F27="P",INDEX(BDD!$A$2:$B$52,MATCH('19'!$B27,BDD!$A$2:$A$52,0),2),"") | M27: =IF(G27="P",INDEX(BDD!$A$2:$B$52,MATCH('19'!$B27,BDD!$A$2:$A$52,0),2),"")
B28: =BDD!A23 -> LAPLACE F | C28: p | D28: p | E28: p | F28: p | G28: p | I28: =IF(C28="P",INDEX(BDD!$A$2:$B$52,MATCH('19'!$B28,BDD!$A$2:$A$52,0),2),"") -> NORMAL | J28: =IF(D28="P",INDEX(BDD!$A$2:$B$52,MATCH('19'!$B28,BDD!$A$2:$A$52,0),2),"") -> NORMAL | K28: =IF(E28="P",INDEX(BDD!$A$2:$B$52,MATCH('19'!$B28,BDD!$A$2:$A$52,0),2),"") -> NORMAL | L28: =IF(F28="P",INDEX(BDD!$A$2:$B$52,MATCH('19'!$B28,BDD!$A$2:$A$52,0),2),"") -> NORMAL | M28: =IF(G28="P",INDEX(BDD!$A$2:$B$52,MATCH('19'!$B28,BDD!$A$2:$A$52,0),2),"") -> NORMAL
B29: LAURENT N | C29: a | D29: a | E29: a | F29: p | G29: p
B30: =BDD!A24 -> LARA C | C30: p | D30: p | E30: p | F30: p | G30: p | I30: =IF(C30="P",INDEX(BDD!$A$2:$B$52,MATCH('19'!$B30,BDD!$A$2:$A$52,0),2),"") -> HYPOCALORIQUE | J30: =IF(D30="P",INDEX(BDD!$A$2:$B$52,MATCH('19'!$B30,BDD!$A$2:$A$52,0),2),"") -> HYPOCALORIQUE | K30: =IF(E30="P",INDEX(BDD!$A$2:$B$52,MATCH('19'!$B30,BDD!$A$2:$A$52,0),2),"") -> HYPOCALORIQUE | L30: =IF(F30="P",INDEX(BDD!$A$2:$B$52,MATCH('19'!$B30,BDD!$A$2:$A$52,0),2),"") -> HYPOCALORIQUE | M30: =IF(G30="P",INDEX(BDD!$A$2:$B$52,MATCH('19'!$B30,BDD!$A$2:$A$52,0),2),"") -> HYPOCALORIQUE
B31: =BDD!A26 -> LEBON Y | C31: p | D31: p | E31: p | F31: a | G31: a | I31: =IF(C31="P",INDEX(BDD!$A$2:$B$52,MATCH('19'!$B31,BDD!$A$2:$A$52,0),2),"") -> NORMAL | J31: =IF(D31="P",INDEX(BDD!$A$2:$B$52,MATCH('19'!$B31,BDD!$A$2:$A$52,0),2),"") -> NORMAL | K31: =IF(E31="P",INDEX(BDD!$A$2:$B$52,MATCH('19'!$B31,BDD!$A$2:$A$52,0),2),"") -> NORMAL | L31: =IF(F31="P",INDEX(BDD!$A$2:$B$52,MATCH('19'!$B31,BDD!$A$2:$A$52,0),2),"") | M31: =IF(G31="P",INDEX(BDD!$A$2:$B$52,MATCH('19'!$B31,BDD!$A$2:$A$52,0),2),"")
B32: =BDD!A27 -> LECAM A | C32: p | D32: p | E32: p | F32: p | G32: p | I32: =IF(C32="P",INDEX(BDD!$A$2:$B$52,MATCH('19'!$B32,BDD!$A$2:$A$52,0),2),"") -> NORMAL | J32: =IF(D32="P",INDEX(BDD!$A$2:$B$52,MATCH('19'!$B32,BDD!$A$2:$A$52,0),2),"") -> NORMAL | K32: =IF(E32="P",INDEX(BDD!$A$2:$B$52,MATCH('19'!$B32,BDD!$A$2:$A$52,0),2),"") -> NORMAL | L32: =IF(F32="P",INDEX(BDD!$A$2:$B$52,MATCH('19'!$B32,BDD!$A$2:$A$52,0),2),"") -> NORMAL | M32: =IF(G32="P",INDEX(BDD!$A$2:$B$52,MATCH('19'!$B32,BDD!$A$2:$A$52,0),2),"") -> NORMAL
B33: =BDD!A28 -> LEHON JL | C33: a | D33: a | E33: a | F33: a | G33: a | I33: =IF(C33="P",INDEX(BDD!$A$2:$B$52,MATCH('19'!$B33,BDD!$A$2:$A$52,0),2),"") | J33: =IF(D33="P",INDEX(BDD!$A$2:$B$52,MATCH('19'!$B33,BDD!$A$2:$A$52,0),2),"") | K33: =IF(E33="P",INDEX(BDD!$A$2:$B$52,MATCH('19'!$B33,BDD!$A$2:$A$52,0),2),"") | L33: =IF(F33="P",INDEX(BDD!$A$2:$B$52,MATCH('19'!$B33,BDD!$A$2:$A$52,0),2),"") | M33: =IF(G33="P",INDEX(BDD!$A$2:$B$52,MATCH('19'!$B33,BDD!$A$2:$A$52,0),2),"")
B34: =BDD!A29 -> MALERGUE MC | C34: p | D34: p | E34: p | F34: p | G34: p | I34: =IF(C34="P",INDEX(BDD!$A$2:$B$52,MATCH('19'!$B34,BDD!$A$2:$A$52,0),2),"") -> HYPOCALORIQUE | J34: =IF(D34="P",INDEX(BDD!$A$2:$B$52,MATCH('19'!$B34,BDD!$A$2:$A$52,0),2),"") -> HYPOCALORIQUE | K34: =IF(E34="P",INDEX(BDD!$A$2:$B$52,MATCH('19'!$B34,BDD!$A$2:$A$52,0),2),"") -> HYPOCALORIQUE | L34: =IF(F34="P",INDEX(BDD!$A$2:$B$52,MATCH('19'!$B34,BDD!$A$2:$A$52,0),2),"") -> HYPOCALORIQUE | M34: =IF(G34="P",INDEX(BDD!$A$2:$B$52,MATCH('19'!$B34,BDD!$A$2:$A$52,0),2),"") -> HYPOCALORIQUE
B35: =BDD!A30 -> MASSIAS JM | C35: p | D35: p | E35: p | F35: p | G35: p | I35: =IF(C35="P",INDEX(BDD!$A$2:$B$52,MATCH('19'!$B35,BDD!$A$2:$A$52,0),2),"") -> NORMAL | J35: =IF(D35="P",INDEX(BDD!$A$2:$B$52,MATCH('19'!$B35,BDD!$A$2:$A$52,0),2),"") -> NORMAL | K35: =IF(E35="P",INDEX(BDD!$A$2:$B$52,MATCH('19'!$B35,BDD!$A$2:$A$52,0),2),"") -> NORMAL | L35: =IF(F35="P",INDEX(BDD!$A$2:$B$52,MATCH('19'!$B35,BDD!$A$2:$A$52,0),2),"") -> NORMAL | M35: =IF(G35="P",INDEX(BDD!$A$2:$B$52,MATCH('19'!$B35,BDD!$A$2:$A$52,0),2),"") -> NORMAL
B36: =BDD!A31 -> MAURY E | C36: p | D36: p | E36: p | F36: p | G36: p | I36: =IF(C36="P",INDEX(BDD!$A$2:$B$52,MATCH('19'!$B36,BDD!$A$2:$A$52,0),2),"") -> NORMAL | J36: =IF(D36="P",INDEX(BDD!$A$2:$B$52,MATCH('19'!$B36,BDD!$A$2:$A$52,0),2),"") -> NORMAL | K36: =IF(E36="P",INDEX(BDD!$A$2:$B$52,MATCH('19'!$B36,BDD!$A$2:$A$52,0),2),"") -> NORMAL | L36: =IF(F36="P",INDEX(BDD!$A$2:$B$52,MATCH('19'!$B36,BDD!$A$2:$A$52,0),2),"") -> NORMAL | M36: =IF(G36="P",INDEX(BDD!$A$2:$B$52,MATCH('19'!$B36,BDD!$A$2:$A$52,0),2),"") -> NORMAL
B37: =BDD!A32 -> MICHELOU S | C37: p | D37: p | E37: p | F37: p | G37: p | I37: =IF(C37="P",INDEX(BDD!$A$2:$B$52,MATCH('19'!$B37,BDD!$A$2:$A$52,0),2),"") -> NORMAL | J37: =IF(D37="P",INDEX(BDD!$A$2:$B$52,MATCH('19'!$B37,BDD!$A$2:$A$52,0),2),"") -> NORMAL | K37: =IF(E37="P",INDEX(BDD!$A$2:$B$52,MATCH('19'!$B37,BDD!$A$2:$A$52,0),2),"") -> NORMAL | L37: =IF(F37="P",INDEX(BDD!$A$2:$B$52,MATCH('19'!$B37,BDD!$A$2:$A$52,0),2),"") -> NORMAL | M37: =IF(G37="P",INDEX(BDD!$A$2:$B$52,MATCH('19'!$B37,BDD!$A$2:$A$52,0),2),"") -> NORMAL
B38: =BDD!A33 -> ORLIANGE O | C38: p | D38: p | E38: p | F38: p | G38: p | I38: =IF(C38="P",INDEX(BDD!$A$2:$B$52,MATCH('19'!$B38,BDD!$A$2:$A$52,0),2),"") -> NORMAL | J38: =IF(D38="P",INDEX(BDD!$A$2:$B$52,MATCH('19'!$B38,BDD!$A$2:$A$52,0),2),"") -> NORMAL | K38: =IF(E38="P",INDEX(BDD!$A$2:$B$52,MATCH('19'!$B38,BDD!$A$2:$A$52,0),2),"") -> NORMAL | L38: =IF(F38="P",INDEX(BDD!$A$2:$B$52,MATCH('19'!$B38,BDD!$A$2:$A$52,0),2),"") -> NORMAL | M38: =IF(G38="P",INDEX(BDD!$A$2:$B$52,MATCH('19'!$B38,BDD!$A$2:$A$52,0),2),"") -> NORMAL
B39: =BDD!A34 -> PELISSIER J | C39: p | D39: p | E39: p | F39: p | G39: p | I39: =IF(C39="P",INDEX(BDD!$A$2:$B$52,MATCH('19'!$B39,BDD!$A$2:$A$52,0),2),"") -> NORMAL | J39: =IF(D39="P",INDEX(BDD!$A$2:$B$52,MATCH('19'!$B39,BDD!$A$2:$A$52,0),2),"") -> NORMAL | K39: =IF(E39="P",INDEX(BDD!$A$2:$B$52,MATCH('19'!$B39,BDD!$A$2:$A$52,0),2),"") -> NORMAL | L39: =IF(F39="P",INDEX(BDD!$A$2:$B$52,MATCH('19'!$B39,BDD!$A$2:$A$52,0),2),"") -> NORMAL | M39: =IF(G39="P",INDEX(BDD!$A$2:$B$52,MATCH('19'!$B39,BDD!$A$2:$A$52,0),2),"") -> NORMAL
B40: =BDD!A35 -> PHIALIP Ch | C40: p | D40: p | E40: p | F40: p | G40: p | I40: =IF(C40="P",INDEX(BDD!$A$2:$B$52,MATCH('19'!$B40,BDD!$A$2:$A$52,0),2),"") -> NORMAL | J40: =IF(D40="P",INDEX(BDD!$A$2:$B$52,MATCH('19'!$B40,BDD!$A$2:$A$52,0),2),"") -> NORMAL | K40: =IF(E40="P",INDEX(BDD!$A$2:$B$52,MATCH('19'!$B40,BDD!$A$2:$A$52,0),2),"") -> NORMAL | L40: =IF(F40="P",INDEX(BDD!$A$2:$B$52,MATCH('19'!$B40,BDD!$A$2:$A$52,0),2),"") -> NORMAL | M40: =IF(G40="P",INDEX(BDD!$A$2:$B$52,MATCH('19'!$B40,BDD!$A$2:$A$52,0),2),"") -> NORMAL
B41: =BDD!A36 -> PIGORREAU M | C41: a | D41: a | E41: a | F41: a | G41: a | I41: =IF(C41="P",INDEX(BDD!$A$2:$B$52,MATCH('19'!$B41,BDD!$A$2:$A$52,0),2),"") | J41: =IF(D41="P",INDEX(BDD!$A$2:$B$52,MATCH('19'!$B41,BDD!$A$2:$A$52,0),2),"") | K41: =IF(E41="P",INDEX(BDD!$A$2:$B$52,MATCH('19'!$B41,BDD!$A$2:$A$52,0),2),"") | L41: =IF(F41="P",INDEX(BDD!$A$2:$B$52,MATCH('19'!$B41,BDD!$A$2:$A$52,0),2),"") | M41: =IF(G41="P",INDEX(BDD!$A$2:$B$52,MATCH('19'!$B41,BDD!$A$2:$A$52,0),2),"")
...

Sheet 20
A1: P : Présent
A2: A : Absent | B2: 2016 | C2: Semaine
A3: E : Repas Ext | B3: =TODAY() -> 42564 | C3: =MID(CELL("nomfichier",$A$1),FIND("]",CELL("nomfichier",$A$1))+1,50) -> 20
C4: =C5 -> 42506 | D4: =D5 -> 42507 | E4: =E5 -> 42508 | F4: =F5 -> 42509 | G4: =G5 -> 42510
B5: NOMS | C5: =7*C3+DATE(B2,1,3)-WEEKDAY(DATE(B2,1,3))-5 -> 42506 | D5: =C5+1 -> 42507 | E5: =D5+1 -> 42508 | F5: =E5+1 -> 42509 | G5: =F5+1 -> 42510
B6: =BDD!A2 -> AIT SAID A | C6: a | D6: p | E6: p | F6: p | G6: p | I6: =IF(C6="P",INDEX(BDD!$A$2:$B$52,MATCH('20'!$B6,BDD!$A$2:$A$52,0),2),"") | J6: =IF(D6="P",INDEX(BDD!$A$2:$B$52,MATCH('20'!$B6,BDD!$A$2:$A$52,0),2),"") -> SANS PORC | K6: =IF(E6="P",INDEX(BDD!$A$2:$B$52,MATCH('20'!$B6,BDD!$A$2:$A$52,0),2),"") -> SANS PORC | L6: =IF(F6="P",INDEX(BDD!$A$2:$B$52,MATCH('20'!$B6,BDD!$A$2:$A$52,0),2),"") -> SANS PORC | M6: =IF(G6="P",INDEX(BDD!$A$2:$B$52,MATCH('20'!$B6,BDD!$A$2:$A$52,0),2),"") -> SANS PORC
B7: =BDD!A3 -> ALVES F | C7: a | D7: p | E7: p | F7: p | G7: P | I7: =IF(C7="P",INDEX(BDD!$A$2:$B$52,MATCH('20'!$B7,BDD!$A$2:$A$52,0),2),"") | J7: =IF(D7="P",INDEX(BDD!$A$2:$B$52,MATCH('20'!$B7,BDD!$A$2:$A$52,0),2),"") -> NORMAL | K7: =IF(E7="P",INDEX(BDD!$A$2:$B$52,MATCH('20'!$B7,BDD!$A$2:$A$52,0),2),"") -> NORMAL | L7: =IF(F7="P",INDEX(BDD!$A$2:$B$52,MATCH('20'!$B7,BDD!$A$2:$A$52,0),2),"") -> NORMAL | M7: =IF(G7="P",INDEX(BDD!$A$2:$B$52,MATCH('20'!$B7,BDD!$A$2:$A$52,0),2),"") -> NORMAL
B8: =BDD!A4 -> AUBASPEYRAS Y | C8: a | D8: p | E8: p | F8: p | G8: p | I8: =IF(C8="P",INDEX(BDD!$A$2:$B$52,MATCH('20'!$B8,BDD!$A$2:$A$52,0),2),"") | J8: =IF(D8="P",INDEX(BDD!$A$2:$B$52,MATCH('20'!$B8,BDD!$A$2:$A$52,0),2),"") -> NORMAL | K8: =IF(E8="P",INDEX(BDD!$A$2:$B$52,MATCH('20'!$B8,BDD!$A$2:$A$52,0),2),"") -> NORMAL | L8: =IF(F8="P",INDEX(BDD!$A$2:$B$52,MATCH('20'!$B8,BDD!$A$2:$A$52,0),2),"") -> NORMAL | M8: =IF(G8="P",INDEX(BDD!$A$2:$B$52,MATCH('20'!$B8,BDD!$A$2:$A$52,0),2),"") -> NORMAL
B9: =BDD!A5 -> AUDY M | C9: a | D9: p | E9: p | F9: p | G9: a | I9: =IF(C9="P",INDEX(BDD!$A$2:$B$52,MATCH('20'!$B9,BDD!$A$2:$A$52,0),2),"") | J9: =IF(D9="P",INDEX(BDD!$A$2:$B$52,MATCH('20'!$B9,BDD!$A$2:$A$52,0),2),"") -> NORMAL | K9: =IF(E9="P",INDEX(BDD!$A$2:$B$52,MATCH('20'!$B9,BDD!$A$2:$A$52,0),2),"") -> NORMAL | L9: =IF(F9="P",INDEX(BDD!$A$2:$B$52,MATCH('20'!$B9,BDD!$A$2:$A$52,0),2),"") -> NORMAL | M9: =IF(G9="P",INDEX(BDD!$A$2:$B$52,MATCH('20'!$B9,BDD!$A$2:$A$52,0),2),"")
B10: =BDD!A6 -> BRAUD J | C10: a | D10: p | E10: p | F10: p | G10: p | I10: =IF(C10="P",INDEX(BDD!$A$2:$B$52,MATCH('20'!$B10,BDD!$A$2:$A$52,0),2),"") | J10: =IF(D10="P",INDEX(BDD!$A$2:$B$52,MATCH('20'!$B10,BDD!$A$2:$A$52,0),2),"") -> NORMAL | K10: =IF(E10="P",INDEX(BDD!$A$2:$B$52,MATCH('20'!$B10,BDD!$A$2:$A$52,0),2),"") -> NORMAL | L10: =IF(F10="P",INDEX(BDD!$A$2:$B$52,MATCH('20'!$B10,BDD!$A$2:$A$52,0),2),"") -> NORMAL | M10: =IF(G10="P",INDEX(BDD!$A$2:$B$52,MATCH('20'!$B10,BDD!$A$2:$A$52,0),2),"") -> NORMAL
B11: =BDD!A7 -> BAZETOUX V | C11: a | D11: p | E11: p | F11: p | G11: a | I11: =IF(C11="P",INDEX(BDD!$A$2:$B$52,MATCH('20'!$B11,BDD!$A$2:$A$52,0),2),"") | J11: =IF(D11="P",INDEX(BDD!$A$2:$B$52,MATCH('20'!$B11,BDD!$A$2:$A$52,0),2),"") -> NORMAL | K11: =IF(E11="P",INDEX(BDD!$A$2:$B$52,MATCH('20'!$B11,BDD!$A$2:$A$52,0),2),"") -> NORMAL | L11: =IF(F11="P",INDEX(BDD!$A$2:$B$52,MATCH('20'!$B11,BDD!$A$2:$A$52,0),2),"") -> NORMAL | M11: =IF(G11="P",INDEX(BDD!$A$2:$B$52,MATCH('20'!$B11,BDD!$A$2:$A$52,0),2),"")
B12: =BDD!A8 -> BOKALO E | C12: a | D12: a | E12: a | F12: a | G12: a | I12: =IF(C12="P",INDEX(BDD!$A$2:$B$52,MATCH('20'!$B12,BDD!$A$2:$A$52,0),2),"") | J12: =IF(D12="P",INDEX(BDD!$A$2:$B$52,MATCH('20'!$B12,BDD!$A$2:$A$52,0),2),"") | K12: =IF(E12="P",INDEX(BDD!$A$2:$B$52,MATCH('20'!$B12,BDD!$A$2:$A$52,0),2),"") | L12: =IF(F12="P",INDEX(BDD!$A$2:$B$52,MATCH('20'!$B12,BDD!$A$2:$A$52,0),2),"") | M12: =IF(G12="P",INDEX(BDD!$A$2:$B$52,MATCH('20'!$B12,BDD!$A$2:$A$52,0),2),"")
B13: =BDD!A9 -> BRIOUAL Z | C13: a | D13: p | E13: p | F13: p | G13: a | I13: =IF(C13="P",INDEX(BDD!$A$2:$B$52,MATCH('20'!$B13,BDD!$A$2:$A$52,0),2),"") | J13: =IF(D13="P",INDEX(BDD!$A$2:$B$52,MATCH('20'!$B13,BDD!$A$2:$A$52,0),2),"") -> HYPOCHOLESTEROMIANT SANS PORC | K13: =IF(E13="P",INDEX(BDD!$A$2:$B$52,MATCH('20'!$B13,BDD!$A$2:$A$52,0),2),"") -> HYPOCHOLESTEROMIANT SANS PORC | L13: =IF(F13="P",INDEX(BDD!$A$2:$B$52,MATCH('20'!$B13,BDD!$A$2:$A$52,0),2),"") -> HYPOCHOLESTEROMIANT SANS PORC | M13: =IF(G13="P",INDEX(BDD!$A$2:$B$52,MATCH('20'!$B13,BDD!$A$2:$A$52,0),2),"")
B14: =BDD!A10 -> CERISUELA S | C14: a | D14: p | E14: p | F14: p | G14: a | I14: =IF(C14="P",INDEX(BDD!$A$2:$B$52,MATCH('20'!$B14,BDD!$A$2:$A$52,0),2),"") | J14: =IF(D14="P",INDEX(BDD!$A$2:$B$52,MATCH('20'!$B14,BDD!$A$2:$A$52,0),2),"") -> HYPOCALORIQUE | K14: =IF(E14="P",INDEX(BDD!$A$2:$B$52,MATCH('20'!$B14,BDD!$A$2:$A$52,0),2),"") -> HYPOCALORIQUE | L14: =IF(F14="P",INDEX(BDD!$A$2:$B$52,MATCH('20'!$B14,BDD!$A$2:$A$52,0),2),"") -> HYPOCALORIQUE | M14: =IF(G14="P",INDEX(BDD!$A$2:$B$52,MATCH('20'!$B14,BDD!$A$2:$A$52,0),2),"")
B15: =BDD!A11 -> CHANUT B | C15: a | D15: p | E15: p | F15: p | G15: p | I15: =IF(C15="P",INDEX(BDD!$A$2:$B$52,MATCH('20'!$B15,BDD!$A$2:$A$52,0),2),"") | J15: =IF(D15="P",INDEX(BDD!$A$2:$B$52,MATCH('20'!$B15,BDD!$A$2:$A$52,0),2),"") -> HYPOCHOLESTEROMIANT | K15: =IF(E15="P",INDEX(BDD!$A$2:$B$52,MATCH('20'!$B15,BDD!$A$2:$A$52,0),2),"") -> HYPOCHOLESTEROMIANT | L15: =IF(F15="P",INDEX(BDD!$A$2:$B$52,MATCH('20'!$B15,BDD!$A$2:$A$52,0),2),"") -> HYPOCHOLESTEROMIANT | M15: =IF(G15="P",INDEX(BDD!$A$2:$B$52,MATCH('20'!$B15,BDD!$A$2:$A$52,0),2),"") -> HYPOCHOLESTEROMIANT
B16: =BDD!A12 -> CHATTI A | C16: a | D16: p | E16: p | F16: p | G16: a | I16: =IF(C16="P",INDEX(BDD!$A$2:$B$52,MATCH('20'!$B16,BDD!$A$2:$A$52,0),2),"") | J16: =IF(D16="P",INDEX(BDD!$A$2:$B$52,MATCH('20'!$B16,BDD!$A$2:$A$52,0),2),"") -> SANS PORC | K16: =IF(E16="P",INDEX(BDD!$A$2:$B$52,MATCH('20'!$B16,BDD!$A$2:$A$52,0),2),"") -> SANS PORC | L16: =IF(F16="P",INDEX(BDD!$A$2:$B$52,MATCH('20'!$B16,BDD!$A$2:$A$52,0),2),"") -> SANS PORC | M16: =IF(G16="P",INDEX(BDD!$A$2:$B$52,MATCH('20'!$B16,BDD!$A$2:$A$52,0),2),"")
