Workbook
Name fériés: fériés!$B$2:$B$12

Sheet fériés
B2: 42370 | C2: vendredi | D2: Premier de l'An 2016
B3: 42457 | C3: lundi | D3: Lundi de Pâques 2016
B4: 42491 | C4: dimanche | D4: Fête du travail 2016
B5: 42498 | C5: dimanche | D5: Victoire 1945 2016
B6: 42495 | C6: jeudi | D6: Ascension 2016
B7: 42506 | C7: lundi | D7: Lundi de Pentecôte 2016
B8: 42565 | C8: jeudi | D8: Fête Nationale 2016
B9: 42597 | C9: lundi | D9: Assomption 2016
B10: 42675 | C10: mardi | D10: Toussaint 2016
B11: 42685 | C11: vendredi | D11: Armistice de 1918 2016
B12: 42729 | C12: dimanche | D12: Noël 2016

Sheet BDD
A2: AIT SAID A | B2: SANS PORC
A3: ALVES F | B3: NORMAL
A4: AUBASPEYRAS Y | B4: NORMAL
A5: AUDY M | B5: NORMAL
A6: BRAUD J | B6: NORMAL
A7: BAZETOUX V | B7: NORMAL
A8: BOKALO E | B8: NORMAL
A9: BRIOUAL Z | B9: HYPOCHOLESTEROMIANT SANS PORC
A10: CERISUELA S | B10: HYPOCALORIQUE
A11: CHANUT B | B11: HYPOCHOLESTEROMIANT
A12: CHATTI A | B12: SANS PORC
A13: DELZOR N | B13: HYPO URICEMIANT
... A45: VERGNY fr | B45: NORMAL
A47: STAGIAIRE | B47: NORMAL | G47: HYPOCHOLESTEROMIANT
G48: HYPOCHOLESTEROMIANT SANS PORC
A49: FORMATEUR | B49: NORMAL | G49: HYPOCHOLESTEROMIANT & HYPOCALORIQUE
A50: INVITE | B50: NORMAL | G50: HYPOCALORIQUE
A51: ENCADREMENT | B51: NORMAL | G51: HYPO URICEMIANT
A52: Mr CHAVEROCHE | B52: NORMAL | G52: SANS PORC
A53: Mr RIMOUX | B53: NORMAL | G53: NORMAL
A54: Mr VIALLEMONTEIL | B54: NORMAL

Sheet 17
A1: P : Présent
A2: A : Absent | B2: 2016 | C2: Semaine
A3: E : Repas Ext | B3: =TODAY() -> 42564 | C3: =MID(CELL("nomfichier",$A$1),FIND("]",CELL("nomfichier",$A$1))+1,50) -> 17
C4: =C5 -> 42485 | D4: =D5 -> 42486 | E4: =E5 -> 42487 | F4: =F5 -> 42488 | G4: =G5 -> 42489
B5: NOMS | C5: =7*C3+DATE(B2,1,3)-WEEKDAY(DATE(B2,1,3))-5 -> 42485 | D5: =C5+1 -> 42486 | E5: =D5+1 -> 42487 | F5: =E5+1 -> 42488 | G5: =F5+1 -> 42489
B6: =BDD!A2 -> AIT SAID A | C6: p | D6: p | E6: p | F6: p | I6: =IF(C6="P",INDEX(BDD!$A$2:$B$52,MATCH('17'!$B6,BDD!$A$2:$A$52,0),2),"") -> SANS PORC | J6: =IF(D6="P",INDEX(BDD!$A$2:$B$52,MATCH('17'!$B6,BDD!$A$2:$A$52,0),2),"") -> SANS PORC | K6: =IF(E6="P",INDEX(BDD!$A$2:$B$52,MATCH('17'!$B6,BDD!$A$2:$A$52,0),2),"") -> SANS PORC | L6: =IF(F6="P",INDEX(BDD!$A$2:$B$52,MATCH('17'!$B6,BDD!$A$2:$A$52,0),2),"") -> SANS PORC | M6: =IF(G6="P",INDEX(BDD!$A$2:$B$52,MATCH('17'!$B6,BDD!$A$2:$A$52,0),2),"")
B7: =BDD!A3 -> ALVES F | C7: p | D7: p | E7: p | F7: p | G7: P | I7: =IF(C7="P",INDEX(BDD!$A$2:$B$52,MATCH('17'!$B7,BDD!$A$2:$A$52,0),2),"") -> NORMAL | J7: =IF(D7="P",INDEX(BDD!$A$2:$B$52,MATCH('17'!$B7,BDD!$A$2:$A$52,0),2),"") -> NORMAL | K7: =IF(E7="P",INDEX(BDD!$A$2:$B$52,MATCH('17'!$B7,BDD!$A$2:$A$52,0),2),"") -> NORMAL | L7: =IF(F7="P",INDEX(BDD!$A$2:$B$52,MATCH('17'!$B7,BDD!$A$2:$A$52,0),2),"") -> NORMAL | M7: =IF(G7="P",INDEX(BDD!$A$2:$B$52,MATCH('17'!$B7,BDD!$A$2:$A$52,0),2),"") -> NORMAL
B8: =BDD!A4 -> AUBASPEYRAS Y | C8: p | D8: p | E8: p | F8: p | I8: =IF(C8="P",INDEX(BDD!$A$2:$B$52,MATCH('17'!$B8,BDD!$A$2:$A$52,0),2),"") -> NORMAL | J8: =IF(D8="P",INDEX(BDD!$A$2:$B$52,MATCH('17'!$B8,BDD!$A$2:$A$52,0),2),"") -> NORMAL | K8: =IF(E8="P",INDEX(BDD!$A$2:$B$52,MATCH('17'!$B8,BDD!$A$2:$A$52,0),2),"") -> NORMAL | L8: =IF(F8="P",INDEX(BDD!$A$2:$B$52,MATCH('17'!$B8,BDD!$A$2:$A$52,0),2),"") -> NORMAL | M8: =IF(G8="P",INDEX(BDD!$A$2:$B$52,MATCH('17'!$B8,BDD!$A$2:$A$52,0),2),"")
B9: =BDD!A5 -> AUDY M | C9: p | D9: p | E9: p | F9: p | G9: P | I9: =IF(C9="P",INDEX(BDD!$A$2:$B$52,MATCH('17'!$B9,BDD!$A$2:$A$52,0),2),"") -> NORMAL | J9: =IF(D9="P",INDEX(BDD!$A$2:$B$52,MATCH('17'!$B9,BDD!$A$2:$A$52,0),2),"") -> NORMAL | K9: =IF(E9="P",INDEX(BDD!$A$2:$B$52,MATCH('17'!$B9,BDD!$A$2:$A$52,0),2),"") -> NORMAL | L9: =IF(F9="P",INDEX(BDD!$A$2:$B$52,MATCH('17'!$B9,BDD!$A$2:$A$52,0),2),"") -> NORMAL | M9: =IF(G9="P",INDEX(BDD!$A$2:$B$52,MATCH('17'!$B9,BDD!$A$2:$A$52,0),2),"") -> NORMAL
B10: =BDD!A6 -> BRAUD J | C10: p | D10: p | E10: p | F10: p | I10: =IF(C10="P",INDEX(BDD!$A$2:$B$52,MATCH('17'!$B10,BDD!$A$2:$A$52,0),2),"") -> NORMAL | J10: =IF(D10="P",INDEX(BDD!$A$2:$B$52,MATCH('17'!$B10,BDD!$A$2:$A$52,0),2),"") -> NORMAL | K10: =IF(E10="P",INDEX(BDD!$A$2:$B$52,MATCH('17'!$B10,BDD!$A$2:$A$52,0),2),"") -> NORMAL | L10: =IF(F10="P",INDEX(BDD!$A$2:$B$52,MATCH('17'!$B10,BDD!$A$2:$A$52,0),2),"") -> NORMAL | M10: =IF(G10="P",INDEX(BDD!$A$2:$B$52,MATCH('17'!$B10,BDD!$A$2:$A$52,0),2),"")
B11: =BDD!A7 -> BAZETOUX V | C11: p | D11: p | E11: p | F11: p | G11: P | I11: =IF(C11="P",INDEX(BDD!$A$2:$B$52,MATCH('17'!$B11,BDD!$A$2:$A$52,0),2),"") -> NORMAL | J11: =IF(D11="P",INDEX(BDD!$A$2:$B$52,MATCH('17'!$B11,BDD!$A$2:$A$52,0),2),"") -> NORMAL | K11: =IF(E11="P",INDEX(BDD!$A$2:$B$52,MATCH('17'!$B11,BDD!$A$2:$A$52,0),2),"") -> NORMAL | L11: =IF(F11="P",INDEX(BDD!$A$2:$B$52,MATCH('17'!$B11,BDD!$A$2:$A$52,0),2),"") -> NORMAL | M11: =IF(G11="P",INDEX(BDD!$A$2:$B$52,MATCH('17'!$B11,BDD!$A$2:$A$52,0),2),"") -> NORMAL
B12: =BDD!A8 -> BOKALO E | C12: a | D12: a | E12: a | F12: a | G12: a | I12: =IF(C12="P",INDEX(BDD!$A$2:$B$52,MATCH('17'!$B12,BDD!$A$2:$A$52,0),2),"") | J12: =IF(D12="P",INDEX(BDD!$A$2:$B$52,MATCH('17'!$B12,BDD!$A$2:$A$52,0),2),"") | K12: =IF(E12="P",INDEX(BDD!$A$2:$B$52,MATCH('17'!$B12,BDD!$A$2:$A$52,0),2),"") | L12: =IF(F12="P",INDEX(BDD!$A$2:$B$52,MATCH('17'!$B12,BDD!$A$2:$A$52,0),2),"") | M12: =IF(G12="P",INDEX(BDD!$A$2:$B$52,MATCH('17'!$B12,BDD!$A$2:$A$52,0),2),"")
B13: =BDD!A9 -> BRIOUAL Z | C13: a | D13: a | E13: a | F13: a | G13: a | I13: =IF(C13="P",INDEX(BDD!$A$2:$B$52,MATCH('17'!$B13,BDD!$A$2:$A$52,0),2),"") | J13: =IF(D13="P",INDEX(BDD!$A$2:$B$52,MATCH('17'!$B13,BDD!$A$2:$A$52,0),2),"") | K13: =IF(E13="P",INDEX(BDD!$A$2:$B$52,MATCH('17'!$B13,BDD!$A$2:$A$52,0),2),"") | L13: =IF(F13="P",INDEX(BDD!$A$2:$B$52,MATCH('17'!$B13,BDD!$A$2:$A$52,0),2),"") | M13: =IF(G13="P",INDEX(BDD!$A$2:$B$52,MATCH('17'!$B13,BDD!$A$2:$A$52,0),2),"")
B14: =BDD!A10 -> CERISUELA S | C14: p | D14: p | E14: p | F14: p | G14: P | I14: =IF(C14="P",INDEX(BDD!$A$2:$B$52,MATCH('17'!$B14,BDD!$A$2:$A$52,0),2),"") -> HYPOCALORIQUE | J14: =IF(D14="P",INDEX(BDD!$A$2:$B$52,MATCH('17'!$B14,BDD!$A$2:$A$52,0),2),"") -> HYPOCALORIQUE | K14: =IF(E14="P",INDEX(BDD!$A$2:$B$52,MATCH('17'!$B14,BDD!$A$2:$A$52,0),2),"") -> HYPOCALORIQUE | L14: =IF(F14="P",INDEX(BDD!$A$2:$B$52,MATCH('17'!$B14,BDD!$A$2:$A$52,0),2),"") -> HYPOCALORIQUE | M14: =IF(G14="P",INDEX(BDD!$A$2:$B$52,MATCH('17'!$B14,BDD!$A$2:$A$52,0),2),"") -> HYPOCALORIQUE
B15: =BDD!A11 -> CHANUT B | C15: p | D15: p | E15: p | F15: p | I15: =IF(C15="P",INDEX(BDD!$A$2:$B$52,MATCH('17'!$B15,BDD!$A$2:$A$52,0),2),"") -> HYPOCHOLESTEROMIANT | J15: =IF(D15="P",INDEX(BDD!$A$2:$B$52,MATCH('17'!$B15,BDD!$A$2:$A$52,0),2),"") -> HYPOCHOLESTEROMIANT | K15: =IF(E15="P",INDEX(BDD!$A$2:$B$52,MATCH('17'!$B15,BDD!$A$2:$A$52,0),2),"") -> HYPOCHOLESTEROMIANT | L15: =IF(F15="P",INDEX(BDD!$A$2:$B$52,MATCH('17'!$B15,BDD!$A$2:$A$52,0),2),"") -> HYPOCHOLESTEROMIANT | M15: =IF(G15="P",INDEX(BDD!$A$2:$B$52,MATCH('17'!$B15,BDD!$A$2:$A$52,0),2),"")
B16: =BDD!A12 -> CHATTI A | C16: p | D16: p | E16: p | F16: p | G16: P | I16: =IF(C16="P",INDEX(BDD!$A$2:$B$52,MATCH('17'!$B16,BDD!$A$2:$A$52,0),2),"") -> SANS PORC | J16: =IF(D16="P",INDEX(BDD!$A$2:$B$52,MATCH('17'!$B16,BDD!$A$2:$A$52,0),2),"") -> SANS PORC | K16: =IF(E16="P",INDEX(BDD!$A$2:$B$52,MATCH('17'!$B16,BDD!$A$2:$A$52,0),2),"") -> SANS PORC | L16: =IF(F16="P",INDEX(BDD!$A$2:$B$52,MATCH('17'!$B16,BDD!$A$2:$A$52,0),2),"") -> SANS PORC | M16: =IF(G16="P",INDEX(BDD!$A$2:$B$52,MATCH('17'!$B16,BDD!$A$2:$A$52,0),2),"") -> SANS PORC
B17: =BDD!A13 -> DELZOR N | C17: p | D17: p | E17: p | F17: p | I17: =IF(C17="P",INDEX(BDD!$A$2:$B$52,MATCH('17'!$B17,BDD!$A$2:$A$52,0),2),"") -> HYPO URICEMIANT | J17: =IF(D17="P",INDEX(BDD!$A$2:$B$52,MATCH('17'!$B17,BDD!$A$2:$A$52,0),2),"") -> HYPO URICEMIANT | K17: =IF(E17="P",INDEX(BDD!$A$2:$B$52,MATCH('17'!$B17,BDD!$A$2:$A$52,0),2),"") -> HYPO URICEMIANT | L17: =IF(F17="P",INDEX(BDD!$A$2:$B$52,MATCH('17'!$B17,BDD!$A$2:$A$52,0),2),"") -> HYPO URICEMIANT | M17: =IF(G17="P",INDEX(BDD!$A$2:$B$52,MATCH('17'!$B17,BDD!$A$2:$A$52,0),2),"")
B18: =BDD!A14 -> DEMICHEL A | C18: p | D18: p | E18: p | F18: p | I18: =IF(C18="P",INDEX(BDD!$A$2:$B$52,MATCH('17'!$B18,BDD!$A$2:$A$52,0),2),"") -> NORMAL | J18: =IF(D18="P",INDEX(BDD!$A$2:$B$52,MATCH('17'!$B18,BDD!$A$2:$A$52,0),2),"") -> NORMAL | K18: =IF(E18="P",INDEX(BDD!$A$2:$B$52,MATCH('17'!$B18,BDD!$A$2:$A$52,0),2),"") -> NORMAL | L18: =IF(F18="P",INDEX(BDD!$A$2:$B$52,MATCH('17'!$B18,BDD!$A$2:$A$52,0),2),"") -> NORMAL | M18: =IF(G18="P",INDEX(BDD!$A$2:$B$52,MATCH('17'!$B18,BDD!$A$2:$A$52,0),2),"")
B19: =BDD!A15 -> DENIS P | C19: p | D19: p | E19: p | F19: p | I19: =IF(C19="P",INDEX(BDD!$A$2:$B$52,MATCH('17'!$B19,BDD!$A$2:$A$52,0),2),"") -> NORMAL | J19: =IF(D19="P",INDEX(BDD!$A$2:$B$52,MATCH('17'!$B19,BDD!$A$2:$A$52,0),2),"") -> NORMAL | K19: =IF(E19="P",INDEX(BDD!$A$2:$B$52,MATCH('17'!$B19,BDD!$A$2:$A$52,0),2),"") -> NORMAL | L19: =IF(F19="P",INDEX(BDD!$A$2:$B$52,MATCH('17'!$B19,BDD!$A$2:$A$52,0),2),"") -> NORMAL | M19: =IF(G19="P",INDEX(BDD!$A$2:$B$52,MATCH('17'!$B19,BDD!$A$2:$A$52,0),2),"")
B20: =BDD!#REF! -> #REF! | C20: p | D20: p | E20: p | F20: p | G20: P | I20: =IF(C20="P",INDEX(BDD!$A$2:$B$52,MATCH('17'!$B20,BDD!$A$2:$A$52,0),2),"") -> #REF! | J20: =IF(D20="P",INDEX(BDD!$A$2:$B$52,MATCH('17'!$B20,BDD!$A$2:$A$52,0),2),"") -> #REF! | K20: =IF(E20="P",INDEX(BDD!$A$2:$B$52,MATCH('17'!$B20,BDD!$A$2:$A$52,0),2),"") -> #REF! | L20: =IF(F20="P",INDEX(BDD!$A$2:$B$52,MATCH('17'!$B20,BDD!$A$2:$A$52,0),2),"") -> #REF! | M20: =IF(G20="P",INDEX(BDD!$A$2:$B$52,MATCH('17'!$B20,BDD!$A$2:$A$52,0),2),"") -> #REF!
B21: =BDD!A16 -> GAUTHIER JF | C21: p | D21: p | E21: p | F21: p | G21: P | I21: =IF(C21="P",INDEX(BDD!$A$2:$B$52,MATCH('17'!$B21,BDD!$A$2:$A$52,0),2),"") -> NORMAL | J21: =IF(D21="P",INDEX(BDD!$A$2:$B$52,MATCH('17'!$B21,BDD!$A$2:$A$52,0),2),"") -> NORMAL | K21: =IF(E21="P",INDEX(BDD!$A$2:$B$52,MATCH('17'!$B21,BDD!$A$2:$A$52,0),2),"") -> NORMAL | L21: =IF(F21="P",INDEX(BDD!$A$2:$B$52,MATCH('17'!$B21,BDD!$A$2:$A$52,0),2),"") -> NORMAL | M21: =IF(G21="P",INDEX(BDD!$A$2:$B$52,MATCH('17'!$B21,BDD!$A$2:$A$52,0),2),"") -> NORMAL
B22: =BDD!A17 -> GAUTIER Y | C22: p | D22: p | E22: p | F22: p | G22: P | I22: =IF(C22="P",INDEX(BDD!$A$2:$B$52,MATCH('17'!$B22,BDD!$A$2:$A$52,0),2),"") -> NORMAL | J22: =IF(D22="P",INDEX(BDD!$A$2:$B$52,MATCH('17'!$B22,BDD!$A$2:$A$52,0),2),"") -> NORMAL | K22: =IF(E22="P",INDEX(BDD!$A$2:$B$52,MATCH('17'!$B22,BDD!$A$2:$A$52,0),2),"") -> NORMAL | L22: =IF(F22="P",INDEX(BDD!$A$2:$B$52,MATCH('17'!$B22,BDD!$A$2:$A$52,0),2),"") -> NORMAL | M22: =IF(G22="P",INDEX(BDD!$A$2:$B$52,MATCH('17'!$B22,BDD!$A$2:$A$52,0),2),"") -> NORMAL
B23: =BDD!A18 -> GOURDON F | C23: p | D23: p | E23: p | F23: p | I23: =IF(C23="P",INDEX(BDD!$A$2:$B$52,MATCH('17'!$B23,BDD!$A$2:$A$52,0),2),"") -> NORMAL | J23: =IF(D23="P",INDEX(BDD!$A$2:$B$52,MATCH('17'!$B23,BDD!$A$2:$A$52,0),2),"") -> NORMAL | K23: =IF(E23="P",INDEX(BDD!$A$2:$B$52,MATCH('17'!$B23,BDD!$A$2:$A$52,0),2),"") -> NORMAL | L23: =IF(F23="P",INDEX(BDD!$A$2:$B$52,MATCH('17'!$B23,BDD!$A$2:$A$52,0),2),"") -> NORMAL | M23: =IF(G23="P",INDEX(BDD!$A$2:$B$52,MATCH('17'!$B23,BDD!$A$2:$A$52,0),2),"")
B24: =BDD!A19 -> GORDOGA K | C24: p | D24: p | E24: p | F24: p | G24: p | I24: =IF(C24="P",INDEX(BDD!$A$2:$B$52,MATCH('17'!$B24,BDD!$A$2:$A$52,0),2),"") -> SANS PORC | J24: =IF(D24="P",INDEX(BDD!$A$2:$B$52,MATCH('17'!$B24,BDD!$A$2:$A$52,0),2),"") -> SANS PORC | K24: =IF(E24="P",INDEX(BDD!$A$2:$B$52,MATCH('17'!$B24,BDD!$A$2:$A$52,0),2),"") -> SANS PORC | L24: =IF(F24="P",INDEX(BDD!$A$2:$B$52,MATCH('17'!$B24,BDD!$A$2:$A$52,0),2),"") -> SANS PORC | M24: =IF(G24="P",INDEX(BDD!$A$2:$B$52,MATCH('17'!$B24,BDD!$A$2:$A$52,0),2),"") -> SANS PORC
B25: =BDD!A20 -> GRAVIERE JP | C25: p | D25: p | E25: p | F25: p | G25: P | I25: =IF(C25="P",INDEX(BDD!$A$2:$B$52,MATCH('17'!$B25,BDD!$A$2:$A$52,0),2),"") -> NORMAL | J25: =IF(D25="P",INDEX(BDD!$A$2:$B$52,MATCH('17'!$B25,BDD!$A$2:$A$52,0),2),"") -> NORMAL | K25: =IF(E25="P",INDEX(BDD!$A$2:$B$52,MATCH('17'!$B25,BDD!$A$2:$A$52,0),2),"") -> NORMAL | L25: =IF(F25="P",INDEX(BDD!$A$2:$B$52,MATCH('17'!$B25,BDD!$A$2:$A$52,0),2),"") -> NORMAL | M25: =IF(G25="P",INDEX(BDD!$A$2:$B$52,MATCH('17'!$B25,BDD!$A$2:$A$52,0),2),"") -> NORMAL
B26: =BDD!A21 -> JULLIOT Y | C26: p | D26: p | E26: p | F26: p | G26: P | I26: =IF(C26="P",INDEX(BDD!$A$2:$B$52,MATCH('17'!$B26,BDD!$A$2:$A$52,0),2),"") -> NORMAL | J26: =IF(D26="P",INDEX(BDD!$A$2:$B$52,MATCH('17'!$B26,BDD!$A$2:$A$52,0),2),"") -> NORMAL | K26: =IF(E26="P",INDEX(BDD!$A$2:$B$52,MATCH('17'!$B26,BDD!$A$2:$A$52,0),2),"") -> NORMAL | L26: =IF(F26="P",INDEX(BDD!$A$2:$B$52,MATCH('17'!$B26,BDD!$A$2:$A$52,0),2),"") -> NORMAL | M26: =IF(G26="P",INDEX(BDD!$A$2:$B$52,MATCH('17'!$B26,BDD!$A$2:$A$52,0),2),"") -> NORMAL
B27: =BDD!A22 -> LARBRE JM | C27: p | D27: p | E27: p | F27: p | G27: P | I27: =IF(C27="P",INDEX(BDD!$A$2:$B$52,MATCH('17'!$B27,BDD!$A$2:$A$52,0),2),"") -> NORMAL | J27: =IF(D27="P",INDEX(BDD!$A$2:$B$52,MATCH('17'!$B27,BDD!$A$2:$A$52,0),2),"") -> NORMAL | K27: =IF(E27="P",INDEX(BDD!$A$2:$B$52,MATCH('17'!$B27,BDD!$A$2:$A$52,0),2),"") -> NORMAL | L27: =IF(F27="P",INDEX(BDD!$A$2:$B$52,MATCH('17'!$B27,BDD!$A$2:$A$52,0),2),"") -> NORMAL | M27: =IF(G27="P",INDEX(BDD!$A$2:$B$52,MATCH('17'!$B27,BDD!$A$2:$A$52,0),2),"") -> NORMAL
B28: =BDD!A23 -> LAPLACE F | C28: p | D28: p | E28: p | F28: p | I28: =IF(C28="P",INDEX(BDD!$A$2:$B$52,MATCH('17'!$B28,BDD!$A$2:$A$52,0),2),"") -> NORMAL | J28: =IF(D28="P",INDEX(BDD!$A$2:$B$52,MATCH('17'!$B28,BDD!$A$2:$A$52,0),2),"") -> NORMAL | K28: =IF(E28="P",INDEX(BDD!$A$2:$B$52,MATCH('17'!$B28,BDD!$A$2:$A$52,0),2),"") -> NORMAL | L28: =IF(F28="P",INDEX(BDD!$A$2:$B$52,MATCH('17'!$B28,BDD!$A$2:$A$52,0),2),"") -> NORMAL | M28: =IF(G28="P",INDEX(BDD!$A$2:$B$52,MATCH('17'!$B28,BDD!$A$2:$A$52,0),2),"")
B29: =BDD!A24 -> LARA C | C29: p | D29: p | E29: p | F29: p | G29: P | I29: =IF(C29="P",INDEX(BDD!$A$2:$B$52,MATCH('17'!$B29,BDD!$A$2:$A$52,0),2),"") -> HYPOCALORIQUE | J29: =IF(D29="P",INDEX(BDD!$A$2:$B$52,MATCH('17'!$B29,BDD!$A$2:$A$52,0),2),"") -> HYPOCALORIQUE | K29: =IF(E29="P",INDEX(BDD!$A$2:$B$52,MATCH('17'!$B29,BDD!$A$2:$A$52,0),2),"") -> HYPOCALORIQUE | L29: =IF(F29="P",INDEX(BDD!$A$2:$B$52,MATCH('17'!$B29,BDD!$A$2:$A$52,0),2),"") -> HYPOCALORIQUE | M29: =IF(G29="P",INDEX(BDD!$A$2:$B$52,MATCH('17'!$B29,BDD!$A$2:$A$52,0),2),"") -> HYPOCALORIQUE
B30: =BDD!A25 -> LAURENT N | C30: p | D30: a | E30: a | F30: a | G30: a | I30: =IF(C30="P",INDEX(BDD!$A$2:$B$52,MATCH('17'!$B30,BDD!$A$2:$A$52,0),2),"") -> NORMAL | J30: =IF(D30="P",INDEX(BDD!$A$2:$B$52,MATCH('17'!$B30,BDD!$A$2:$A$52,0),2),"") | K30: =IF(E30="P",INDEX(BDD!$A$2:$B$52,MATCH('17'!$B30,BDD!$A$2:$A$52,0),2),"") | L30: =IF(F30="P",INDEX(BDD!$A$2:$B$52,MATCH('17'!$B30,BDD!$A$2:$A$52,0),2),"") | M30: =IF(G30="P",INDEX(BDD!$A$2:$B$52,MATCH('17'!$B30,BDD!$A$2:$A$52,0),2),"")
B31: =BDD!A26 -> LEBON Y | C31: p | D31: p | E31: p | F31: p | I31: =IF(C31="P",INDEX(BDD!$A$2:$B$52,MATCH('17'!$B31,BDD!$A$2:$A$52,0),2),"") -> NORMAL | J31: =IF(D31="P",INDEX(BDD!$A$2:$B$52,MATCH('17'!$B31,BDD!$A$2:$A$52,0),2),"") -> NORMAL | K31: =IF(E31="P",INDEX(BDD!$A$2:$B$52,MATCH('17'!$B31,BDD!$A$2:$A$52,0),2),"") -> NORMAL | L31: =IF(F31="P",INDEX(BDD!$A$2:$B$52,MATCH('17'!$B31,BDD!$A$2:$A$52,0),2),"") -> NORMAL | M31: =IF(G31="P",INDEX(BDD!$A$2:$B$52,MATCH('17'!$B31,BDD!$A$2:$A$52,0),2),"")
B32: =BDD!A27 -> LECAM A | C32: p | D32: p | E32: p | F32: p | I32: =IF(C32="P",INDEX(BDD!$A$2:$B$52,MATCH('17'!$B32,BDD!$A$2:$A$52,0),2),"") -> NORMAL | J32: =IF(D32="P",INDEX(BDD!$A$2:$B$52,MATCH('17'!$B32,BDD!$A$2:$A$52,0),2),"") -> NORMAL | K32: =IF(E32="P",INDEX(BDD!$A$2:$B$52,MATCH('17'!$B32,BDD!$A$2:$A$52,0),2),"") -> NORMAL | L32: =IF(F32="P",INDEX(BDD!$A$2:$B$52,MATCH('17'!$B32,BDD!$A$2:$A$52,0),2),"") -> NORMAL | M32: =IF(G32="P",INDEX(BDD!$A$2:$B$52,MATCH('17'!$B32,BDD!$A$2:$A$52,0),2),"")
B33: =BDD!A28 -> LEHON JL | C33: p | D33: p | E33: p | F33: p | I33: =IF(C33="P",INDEX(BDD!$A$2:$B$52,MATCH('17'!$B33,BDD!$A$2:$A$52,0),2),"") -> NORMAL | J33: =IF(D33="P",INDEX(BDD!$A$2:$B$52,MATCH('17'!$B33,BDD!$A$2:$A$52,0),2),"") -> NORMAL | K33: =IF(E33="P",INDEX(BDD!$A$2:$B$52,MATCH('17'!$B33,BDD!$A$2:$A$52,0),2),"") -> NORMAL | L33: =IF(F33="P",INDEX(BDD!$A$2:$B$52,MATCH('17'!$B33,BDD!$A$2:$A$52,0),2),"") -> NORMAL | M33: =IF(G33="P",INDEX(BDD!$A$2:$B$52,MATCH('17'!$B33,BDD!$A$2:$A$52,0),2),"")
B34: =BDD!A29 -> MALERGUE MC | C34: p | D34: p | E34: p | F34: p | I34: =IF(C34="P",INDEX(BDD!$A$2:$B$52,MATCH('17'!$B34,BDD!$A$2:$A$52,0),2),"") -> HYPOCALORIQUE | J34: =IF(D34="P",INDEX(BDD!$A$2:$B$52,MATCH('17'!$B34,BDD!$A$2:$A$52,0),2),"") -> HYPOCALORIQUE | K34: =IF(E34="P",INDEX(BDD!$A$2:$B$52,MATCH('17'!$B34,BDD!$A$2:$A$52,0),2),"") -> HYPOCALORIQUE | L34: =IF(F34="P",INDEX(BDD!$A$2:$B$52,MATCH('17'!$B34,BDD!$A$2:$A$52,0),2),"") -> HYPOCALORIQUE | M34: =IF(G34="P",INDEX(BDD!$A$2:$B$52,MATCH('17'!$B34,BDD!$A$2:$A$52,0),2),"")
B35: =BDD!A30 -> MASSIAS JM | C35: p | D35: p | E35: p | F35: p | G35: P | I35: =IF(C35="P",INDEX(BDD!$A$2:$B$52,MATCH('17'!$B35,BDD!$A$2:$A$52,0),2),"") -> NORMAL | J35: =IF(D35="P",INDEX(BDD!$A$2:$B$52,MATCH('17'!$B35,BDD!$A$2:$A$52,0),2),"") -> NORMAL | K35: =IF(E35="P",INDEX(BDD!$A$2:$B$52,MATCH('17'!$B35,BDD!$A$2:$A$52,0),2),"") -> NORMAL | L35: =IF(F35="P",INDEX(BDD!$A$2:$B$52,MATCH('17'!$B35,BDD!$A$2:$A$52,0),2),"") -> NORMAL | M35: =IF(G35="P",INDEX(BDD!$A$2:$B$52,MATCH('17'!$B35,BDD!$A$2:$A$52,0),2),"") -> NORMAL
B36: =BDD!A31 -> MAURY E | C36: p | D36: p | E36: p | F36: p | I36: =IF(C36="P",INDEX(BDD!$A$2:$B$52,MATCH('17'!$B36,BDD!$A$2:$A$52,0),2),"") -> NORMAL | J36: =IF(D36="P",INDEX(BDD!$A$2:$B$52,MATCH('17'!$B36,BDD!$A$2:$A$52,0),2),"") -> NORMAL | K36: =IF(E36="P",INDEX(BDD!$A$2:$B$52,MATCH('17'!$B36,BDD!$A$2:$A$52,0),2),"") -> NORMAL | L36: =IF(F36="P",INDEX(BDD!$A$2:$B$52,MATCH('17'!$B36,BDD!$A$2:$A$52,0),2),"") -> NORMAL | M36: =IF(G36="P",INDEX(BDD!$A$2:$B$52,MATCH('17'!$B36,BDD!$A$2:$A$52,0),2),"")
B37: =BDD!A32 -> MICHELOU S | C37: p | D37: p | E37: p | F37: p | I37: =IF(C37="P",INDEX(BDD!$A$2:$B$52,MATCH('17'!$B37,BDD!$A$2:$A$52,0),2),"") -> NORMAL | J37: =IF(D37="P",INDEX(BDD!$A$2:$B$52,MATCH('17'!$B37,BDD!$A$2:$A$52,0),2),"") -> NORMAL | K37: =IF(E37="P",INDEX(BDD!$A$2:$B$52,MATCH('17'!$B37,BDD!$A$2:$A$52,0),2),"") -> NORMAL | L37: =IF(F37="P",INDEX(BDD!$A$2:$B$52,MATCH('17'!$B37,BDD!$A$2:$A$52,0),2),"") -> NORMAL | M37: =IF(G37="P",INDEX(BDD!$A$2:$B$52,MATCH('17'!$B37,BDD!$A$2:$A$52,0),2),"")
B38: =BDD!A33 -> ORLIANGE O | C38: p | D38: p | E38: p | F38: p | I38: =IF(C38="P",INDEX(BDD!$A$2:$B$52,MATCH('17'!$B38,BDD!$A$2:$A$52,0),2),"") -> NORMAL | J38: =IF(D38="P",INDEX(BDD!$A$2:$B$52,MATCH('17'!$B38,BDD!$A$2:$A$52,0),2),"") -> NORMAL | K38: =IF(E38="P",INDEX(BDD!$A$2:$B$52,MATCH('17'!$B38,BDD!$A$2:$A$52,0),2),"") -> NORMAL | L38: =IF(F38="P",INDEX(BDD!$A$2:$B$52,MATCH('17'!$B38,BDD!$A$2:$A$52,0),2),"") -> NORMAL | M38: =IF(G38="P",INDEX(BDD!$A$2:$B$52,MATCH('17'!$B38,BDD!$A$2:$A$52,0),2),"")
B39: =BDD!A34 -> PELISSIER J | C39: p | D39: p | E39: p | F39: p | G39: P | I39: =IF(C39="P",INDEX(BDD!$A$2:$B$52,MATCH('17'!$B39,BDD!$A$2:$A$52,0),2),"") -> NORMAL | J39: =IF(D39="P",INDEX(BDD!$A$2:$B$52,MATCH('17'!$B39,BDD!$A$2:$A$52,0),2),"") -> NORMAL | K39: =IF(E39="P",INDEX(BDD!$A$2:$B$52,MATCH('17'!$B39,BDD!$A$2:$A$52,0),2),"") -> NORMAL | L39: =IF(F39="P",INDEX(BDD!$A$2:$B$52,MATCH('17'!$B39,BDD!$A$2:$A$52,0),2),"") -> NORMAL | M39: =IF(G39="P",INDEX(BDD!$A$2:$B$52,MATCH('17'!$B39,BDD!$A$2:$A$52,0),2),"") -> NORMAL
B40: =BDD!A35 -> PHIALIP Ch | C40: p | D40: p | E40: p | F40: p | I40: =IF(C40="P",INDEX(BDD!$A$2:$B$52,MATCH('17'!$B40,BDD!$A$2:$A$52,0),2),"") -> NORMAL | J40: =IF(D40="P",INDEX(BDD!$A$2:$B$52,MATCH('17'!$B40,BDD!$A$2:$A$52,0),2),"") -> NORMAL | K40: =IF(E40="P",INDEX(BDD!$A$2:$B$52,MATCH('17'!$B40,BDD!$A$2:$A$52,0),2),"") -> NORMAL | L40: =IF(F40="P",INDEX(BDD!$A$2:$B$52,MATCH('17'!$B40,BDD!$A$2:$A$52,0),2),"") -> NORMAL | M40: =IF(G40="P",INDEX(BDD!$A$2:$B$52,MATCH('17'!$B40,BDD!$A$2:$A$52,0),2),"")
B41: =BDD!A36 -> PIGORREAU M | C41: p | D41: p | E41: p | F41: p | I41: =IF(C41="P",INDEX(BDD!$A$2:$B$52,MATCH('17'!$B41,BDD!$A$2:$A$52,0),2),"") -> NORMAL | J41: =IF(D41="P",INDEX(BDD!$A$2:$B$52,MATCH('17'!$B41,BDD!$A$2:$A$52,0),2),"") -> NORMAL | K41: =IF(E41="P",INDEX(BDD!$A$2:$B$52,MATCH('17'!$B41,BDD!$A$2:$A$52,0),2),"") -> NORMAL | L41: =IF(F41="P",INDEX(BDD!$A$2:$B$52,MATCH('17'!$B41,BDD!$A$2:$A$52,0),2),"") -> NORMAL | M41: =IF(G41="P",INDEX(BDD!$A$2:$B$52,MATCH('17'!$B41,BDD!$A$2:$A$52,0),2),"")
B42: =BDD!A37 -> PONT D | C42: p | D42: p | E42: p | F42: p | I42: =IF(C42="P",INDEX(BDD!$A$2:$B$52,MATCH('17'!$B42,BDD!$A$2:$A$52,0),2),"") -> HYPOCHOLESTEROMIANT & HYPOCALORIQUE | J42: =IF(D42="P",INDEX(BDD!$A$2:$B$52,MATCH('17'!$B42,BDD!$A$2:$A$52,0),2),"") -> HYPOCHOLESTEROMIANT & HYPOCALORIQUE | K42: =IF(E42="P",INDEX(BDD!$A$2:$B$52,MATCH('17'!$B42,BDD!$A$2:$A$52,0),2),"") -> HYPOCHOLESTEROMIANT & HYPOCALORIQUE | L42: =IF(F42="P",INDEX(BDD!$A$2:$B$52,MATCH('17'!$B42,BDD!$A$2:$A$52,0),2),"") -> HYPOCHOLESTEROMIANT & HYPOCALORIQUE | M42: =IF(G42="P",INDEX(BDD!$A$2:$B$52,MATCH('17'!$B42,BDD!$A$2:$A$52,0),2),"")
B43: =BDD!A38 -> PORTE V | C43: p | D43: p | E43: p | F43: p | G43: P | I43: =IF(C43="P",INDEX(BDD!$A$2:$B$52,MATCH('17'!$B43,BDD!$A$2:$A$52,0),2),"") -> NORMAL | J43: =IF(D43="P",INDEX(BDD!$A$2:$B$52,MATCH('17'!$B43,BDD!$A$2:$A$52,0),2),"") -> NORMAL | K43: =IF(E43="P",INDEX(BDD!$A$2:$B$52,MATCH('17'!$B43,BDD!$A$2:$A$52,0),2),"") -> NORMAL | L43: =IF(F43="P",INDEX(BDD!$A$2:$B$52,MATCH('17'!$B43,BDD!$A$2:$A$52,0),2),"") -> NORMAL | M43: =IF(G43="P",INDEX(BDD!$A$2:$B$52,MATCH('17'!$B43,BDD!$A$2:$A$52,0),2),"") -> NORMAL
B44: =BDD!A39 -> SERRE C | C44: p | D44: p | E44: p | F44: p | I44: =IF(C44="P",INDEX(BDD!$A$2:$B$52,MATCH('17'!$B44,BDD!$A$2:$A$52,0),2),"") -> HYPOCHOLESTEROMIANT & HYPOCALORIQUE | J44: =IF(D44="P",INDEX(BDD!$A$2:$B$52,MATCH('17'!$B44,BDD!$A$2:$A$52,0),2),"") -> HYPOCHOLESTEROMIANT & HYPOCALORIQUE | K44: =IF(E44="P",INDEX(BDD!$A$2:$B$52,MATCH('17'!$B44,BDD!$A$2:$A$52,0),2),"") -> HYPOCHOLESTEROMIANT & HYPOCALORIQUE | L44: =IF(F44="P",INDEX(BDD!$A$2:$B$52,MATCH('17'!$B44,BDD!$A$2:$A$52,0),2),"") -> HYPOCHOLESTEROMIANT & HYPOCALORIQUE | M44: =IF(G44="P",INDEX(BDD!$A$2:$B$52,MATCH('17'!$B44,BDD!$A$2:$A$52,0),2),"")
B45: =BDD!A40 -> SOLEILHAVOUP B | C45: a | D45: a | E45: a | F45: a | G45: a | I45: =IF(C45="P",INDEX(BDD!$A$2:$B$52,MATCH('17'!$B45,BDD!$A$2:$A$52,0),2),"") | J45: =IF(D45="P",INDEX(BDD!$A$2:$B$52,MATCH('17'!$B45,BDD!$A$2:$A$52,0),2),"") | K45: =IF(E45="P",INDEX(BDD!$A$2:$B$52,MATCH('17'!$B45,BDD!$A$2:$A$52,0),2),"") | L45: =IF(F45="P",INDEX(BDD!$A$2:$B$52,MATCH('17'!$B45,BDD!$A$2:$A$52,0),2),"") | M45: =IF(G45="P",INDEX(BDD!$A$2:$B$52,MATCH('17'!$B45,BDD!$A$2:$A$52,0),2),"")
B46: =BDD!A41 -> SOURDEIX L | C46: p | D46: p | E46: p | F46: p | G46: P | I46: =IF(C46="P",INDEX(BDD!$A$2:$B$52,MATCH('17'!$B46,BDD!$A$2:$A$52,0),2),"") -> NORMAL | J46: =IF(D46="P",INDEX(BDD!$A$2:$B$52,MATCH('17'!$B46,BDD!$A$2:$A$52,0),2),"") -> NORMAL | K46: =IF(E46="P",INDEX(BDD!$A$2:$B$52,MATCH('17'!$B46,BDD!$A$2:$A$52,0),2),"") -> NORMAL | L46: =IF(F46="P",INDEX(BDD!$A$2:$B$52,MATCH('17'!$B46,BDD!$A$2:$A$52,0),2),"") -> NORMAL | M46: =IF(G46="P",INDEX(BDD!$A$2:$B$52,MATCH('17'!$B46,BDD!$A$2:$A$52,0),2),"") -> NORMAL
B47: =BDD!A42 -> TAYSSE S | C47: p | D47: p | E47: p | F47: p | G47: P | I47: =IF(C47="P",INDEX(BDD!$A$2:$B$52,MATCH('17'!$B47,BDD!$A$2:$A$52,0),2),"") -> NORMAL | J47: =IF(D47="P",INDEX(BDD!$A$2:$B$52,MATCH('17'!$B47,BDD!$A$2:$A$52,0),2),"") -> NORMAL | K47: =IF(E47="P",INDEX(BDD!$A$2:$B$52,MATCH('17'!$B47,BDD!$A$2:$A$52,0),2),"") -> NORMAL | L47: =IF(F47="P",INDEX(BDD!$A$2:$B$52,MATCH('17'!$B47,BDD!$A$2:$A$52,0),2),"") -> NORMAL | M47: =IF(G47="P",INDEX(BDD!$A$2:$B$52,MATCH('17'!$B47,BDD!$A$2:$A$52,0),2),"") -> NORMAL
B48: =BDD!A43 -> TINDILIERE M | C48: p | D48: p | E48: p | F48: p | G48: P | I48: =IF(C48="P",INDEX(BDD!$A$2:$B$52,MATCH('17'!$B48,BDD!$A$2:$A$52,0),2),"") -> NORMAL | J48: =IF(D48="P",INDEX(BDD!$A$2:$B$52,MATCH('17'!$B48,BDD!$A$2:$A$52,0),2),"") -> NORMAL | K48: =IF(E48="P",INDEX(BDD!$A$2:$B$52,MATCH('17'!$B48,BDD!$A$2:$A$52,0),2),"") -> NORMAL | L48: =IF(F48="P",INDEX(BDD!$A$2:$B$52,MATCH('17'!$B48,BDD!$A$2:$A$52,0),2),"") -> NORMAL | M48: =IF(G48="P",INDEX(BDD!$A$2:$B$52,MATCH('17'!$B48,BDD!$A$2:$A$52,0),2),"") -> NORMAL
B49: =BDD!A44 -> URSY A | C49: p | D49: p | E49: p | F49: p | G49: P | I49: =IF(C49="P",INDEX(BDD!$A$2:$B$52,MATCH('17'!$B49,BDD!$A$2:$A$52,0),2),"") -> NORMAL | J49: =IF(D49="P",INDEX(BDD!$A$2:$B$52,MATCH('17'!$B49,BDD!$A$2:$A$52,0),2),"") -> NORMAL | K49: =IF(E49="P",INDEX(BDD!$A$2:$B$52,MATCH('17'!$B49,BDD!$A$2:$A$52,0),2),"") -> NORMAL | L49: =IF(F49="P",INDEX(BDD!$A$2:$B$52,MATCH('17'!$B49,BDD!$A$2:$A$52,0),2),"") -> NORMAL | M49: =IF(G49="P",INDEX(BDD!$A$2:$B$52,MATCH('17'!$B49,BDD!$A$2:$A$52,0),2),"") -> NORMAL
B50: =BDD!A45 -> VERGNY fr | C50: p | D50: p | E50: p | F50: p | I50: =IF(C50="P",INDEX(BDD!$A$2:$B$52,MATCH('17'!$B50,BDD!$A$2:$A$52,0),2),"") -> NORMAL | J50: =IF(D50="P",INDEX(BDD!$A$2:$B$52,MATCH('17'!$B50,BDD!$A$2:$A$52,0),2),"") -> NORMAL | K50: =IF(E50="P",INDEX(BDD!$A$2:$B$52,MATCH('17'!$B50,BDD!$A$2:$A$52,0),2),"") -> NORMAL | L50: =IF(F50="P",INDEX(BDD!$A$2:$B$52,MATCH('17'!$B50,BDD!$A$2:$A$52,0),2),"") -> NORMAL | M50: =IF(G50="P",INDEX(BDD!$A$2:$B$52,MATCH('17'!$B50,BDD!$A$2:$A$52,0),2),"")
I51: =IF(C51="P",INDEX(BDD!$A$2:$B$52,MATCH('17'!$B51,BDD!$A$2:$A$52,0),2),"") | J51: =IF(D51="P",INDEX(BDD!$A$2:$B$52,MATCH('17'!$B51,BDD!$A$2:$A$52,0),2),"") | K51: =IF(E51="P",INDEX(BDD!$A$2:$B$52,MATCH('17'!$B51,BDD!$A$2:$A$52,0),2),"") | L51: =IF(F51="P",INDEX(BDD!$A$2:$B$52,MATCH('17'!$B51,BDD!$A$2:$A$52,0),2),"") | M51: =IF(G51="P",INDEX(BDD!$A$2:$B$52,MATCH('17'!$B51,BDD!$A$2:$A$52,0),2),"")
B52: =BDD!A47 -> STAGIAIRE | I52: =IF(C52="P",INDEX(BDD!$A$2:$B$52,MATCH('17'!$B52,BDD!$A$2:$A$52,0),2),"") | J52: =IF(D52="P",INDEX(BDD!$A$2:$B$52,MATCH('17'!$B52,BDD!$A$2:$A$52,0),2),"") | K52: =IF(E52="P",INDEX(BDD!$A$2:$B$52,MATCH('17'!$B52,BDD!$A$2:$A$52,0),2),"") | L52: =IF(F52="P",INDEX(BDD!$A$2:$B$52,MATCH('17'!$B52,BDD!$A$2:$A$52,0),2),"") | M52: =IF(G52="P",INDEX(BDD!$A$2:$B$52,MATCH('17'!$B52,BDD!$A$2:$A$52,0),2),"")
C54: Effectifs cuisine
C55: =MID(CELL("nomfichier",$A$1),FIND("]",CELL("nomfichier",$A$1))+1,50) -> 17
A56: Total J/S | C56: =C57 -> 42485 | D56: =D57 -> 42486 | E56: =E57 -> 42487 | F56: =F57 -> 42488 | G56: =G57 -> 42489
C57: =7*C55+DATE(B2,1,3)-WEEKDAY(DATE(B2,1,3))-5 -> 42485 | D57: =C57+1 -> 42486 | E57: =D57+1 -> 42487 | F57: =E57+1 -> 42488 | G57: =F57+1 -> 42489
A58: =SUM(C58:G58) -> 136 | B58: NORMAL | C58: =IF(COUNTIF(I$6:I$52,$B58)>0,COUNTIF(I$6:I$52,$B58),"") -> 31 | D58: =IF(COUNTIF(J$6:J$52,$B58)>0,COUNTIF(J$6:J$52,$B58),"") -> 30 | E58: =IF(COUNTIF(K$6:K$52,$B58)>0,COUNTIF(K$6:K$52,$B58),"") -> 30 | F58: =IF(COUNTIF(L$6:L$52,$B58)>0,COUNTIF(L$6:L$52,$B58),"") -> 30 | G58: =IF(COUNTIF(M$6:M$52,$B58)>0,COUNTIF(M$6:M$52,$B58),"") -> 15
A59: =SUM(C59:G59) -> 4 | B59: HYPOCHOLESTEROMIANT | C59: =IF(COUNTIF(I$6:I$52,$B59)>0,COUNTIF(I$6:I$52,$B59),"") -> 1 | D59: =IF(COUNTIF(J$6:J$52,$B59)>0,COUNTIF(J$6:J$52,$B59),"") -> 1 | E59: =IF(COUNTIF(K$6:K$52,$B59)>0,COUNTIF(K$6:K$52,$B59),"") -> 1 | F59: =IF(COUNTIF(L$6:L$52,$B59)>0,COUNTIF(L$6:L$52,$B59),"") -> 1 | G59: =IF(COUNTIF(M$6:M$52,$B59)>0,COUNTIF(M$6:M$52,$B59),"") | I59: =COUNTIF($I$6:$I$52,$B59) -> 1
A60: =SUM(C60:G60) -> 0 | B60: HYPOCHOLESTEROMIANT SANS PORC | C60: =IF(COUNTIF(I$6:I$52,$B60)>0,COUNTIF(I$6:I$52,$B60),"") | D60: =IF(COUNTIF(J$6:J$52,$B60)>0,COUNTIF(J$6:J$52,$B60),"") | E60: =IF(COUNTIF(K$6:K$52,$B60)>0,COUNTIF(K$6:K$52,$B60),"") | F60: =IF(COUNTIF(L$6:L$52,$B60)>0,COUNTIF(L$6:L$52,$B60),"") | G60: =IF(COUNTIF(M$6:M$52,$B60)>0,COUNTIF(M$6:M$52,$B60),"") | I60: =COUNTIF($I$6:$I$52,$B60) -> 0
A61: =SUM(C61:G61) -> 8 | B61: HYPOCHOLESTEROMIANT & HYPOCALORIQUE | C61: =IF(COUNTIF(I$6:I$52,$B61)>0,COUNTIF(I$6:I$52,$B61),"") -> 2 | D61: =IF(COUNTIF(J$6:J$52,$B61)>0,COUNTIF(J$6:J$52,$B61),"") -> 2 | E61: =IF(COUNTIF(K$6:K$52,$B61)>0,COUNTIF(K$6:K$52,$B61),"") -> 2 | F61: =IF(COUNTIF(L$6:L$52,$B61)>0,COUNTIF(L$6:L$52,$B61),"") -> 2 | G61: =IF(COUNTIF(M$6:M$52,$B61)>0,COUNTIF(M$6:M$52,$B61),"") | I61: =COUNTIF($I$6:$I$52,$B61) -> 2
A62: =SUM(C62:G62) -> 14 | B62: HYPOCALORIQUE | C62: =IF(COUNTIF(I$6:I$52,$B62)>0,COUNTIF(I$6:I$52,$B62),"") -> 3 | D62: =IF(COUNTIF(J$6:J$52,$B62)>0,COUNTIF(J$6:J$52,$B62),"") -> 3 | E62: =IF(COUNTIF(K$6:K$52,$B62)>0,COUNTIF(K$6:K$52,$B62),"") -> 3 | F62: =IF(COUNTIF(L$6:L$52,$B62)>0,COUNTIF(L$6:L$52,$B62),"") -> 3 | G62: =IF(COUNTIF(M$6:M$52,$B62)>0,COUNTIF(M$6:M$52,$B62),"") -> 2 | I62: =COUNTIF($I$6:$I$52,$B62) -> 3
A63: =SUM(C63:G63) -> 4 | B63: HYPO URICEMIANT | C63: =IF(COUNTIF(I$6:I$52,$B63)>0,COUNTIF(I$6:I$52,$B63),"") -> 1 | D63: =IF(COUNTIF(J$6:J$52,$B63)>0,COUNTIF(J$6:J$52,$B63),"") -> 1 | E63: =IF(COUNTIF(K$6:K$52,$B63)>0,COUNTIF(K$6:K$52,$B63),"") -> 1 | F63: =IF(COUNTIF(L$6:L$52,$B63)>0,COUNTIF(L$6:L$52,$B63),"") -> 1 | G63: =IF(COUNTIF(M$6:M$52,$B63)>0,COUNTIF(M$6:M$52,$B63),"") | I63: =COUNTIF($I$6:$I$52,$B63) -> 1
A64: =SUM(C64:G64) -> 14 | B64: SANS PORC | C64: =IF(COUNTIF(I$6:I$52,$B64)>0,COUNTIF(I$6:I$52,$B64),"") -> 3 | D64: =IF(COUNTIF(J$6:J$52,$B64)>0,COUNTIF(J$6:J$52,$B64),"") -> 3 | E64: =IF(COUNTIF(K$6:K$52,$B64)>0,COUNTIF(K$6:K$52,$B64),"") -> 3 | F64: =IF(COUNTIF(L$6:L$52,$B64)>0,COUNTIF(L$6:L$52,$B64),"") -> 3 | G64: =IF(COUNTIF(M$6:M$52,$B64)>0,COUNTIF(M$6:M$52,$B64),"") -> 2 | I64: =COUNTIF($I$6:$I$52,$B64) -> 3
A65: =SUM(C65:G65) -> 0 | C65: =IF(COUNTIF(I$6:I$52,$B65)>0,COUNTIF(I$6:I$52,$B65),"") | D65: =IF(COUNTIF(J$6:J$52,$B65)>0,COUNTIF(J$6:J$52,$B65),"") | E65: =IF(COUNTIF(K$6:K$52,$B65)>0,COUNTIF(K$6:K$52,$B65),"") | F65: =IF(COUNTIF(L$6:L$52,$B65)>0,COUNTIF(L$6:L$52,$B65),"") | G65: =IF(COUNTIF(M$6:M$52,$B65)>0,COUNTIF(M$6:M$52,$B65),"") | I65: =COUNTIF($I$6:$I$52,$B65) -> 0
A67: =SUM(C67:G67) -> 0 | B67: Repas Froid
A68: =SUM(C68:G68) -> 0 | B68: Malemort / Tulle
A70: =SUM(C70:G70) -> 5 | B70: Encadrement | C70: 1 | D70: 1 | E70: 1 | F70: 1 | G70: 1
A71: =SUM(C71:G71) -> 0 | B71: Mr CONTINSUZAT J.
A72: =SUM(C72:G72) -> 1 | B72: Mme CHEDOZAUD F. | E72: 1
A73: =SUM(C73:G73) -> 0 | B73: Mme SALOU S. | E73: 0
A74: =SUM(C74:G74) -> 0 | B74: Mr CHASSAING N.
A75: =SUM(C75:G75) -> 0 | B75: Invités
A76: =SUM(C76:G76) -> 0 | B76: Formateurs
A78: =SUM(C78:G78) -> 2 | B78: Mr CHAVEROCHE | F78: 1 | G78: 1
A79: =SUM(C79:G79) -> 5 | B79: Mr RIMOUX | C79: 1 | D79: 1 | E79: 1 | F79: 1 | G79: 1
A80: =SUM(C80:G80) -> 3 | B80: Mr VIALLEMONTEIL | D80: 1 | E80: 1 | G80: 1
A81: =SUM(C81:G81) -> 0 | B81: AUTRES TICKETS
A82: =SUM(C82:G82) -> 10 | B82: TOTAL TICKET | C82: =SUM(C78:C81) -> 1 | D82: =SUM(D78:D81) -> 2 | E82: =SUM(E78:E81) -> 2 | F82: =SUM(F78:F81) -> 2 | G82: =SUM(G78:G81) -> 3
A84: =SUM(C84:G84) -> 0 | B84: Repas Extérieur | C84: =COUNTIF(C6:C52,"E") -> 0 | D84: =COUNTIF(D6:D52,"E") -> 0 | E84: =COUNTIF(E6:E52,"E") -> 0 | F84: =COUNTIF(F6:F52,"E") -> 0 | G84: =COUNTIF(G6:G52,"E") -> 0
A86: =SUM(C86:G86) -> 196 | B86: Total effectif jour | C86: =SUM(C58:C81) -> 43 | D86: =SUM(D58:D81) -> 43 | E86: =SUM(E58:E81) -> 44 | F86: =SUM(F58:F81) -> 43 | G86: =SUM(G58:G81) -> 23
A87: =SUM(C87:G87) -> 179 | B87: Total effetif J-2 (facturation) | C87: 43 | D87: 39 | E87: 40 | F87: 39 | G87: 18
A88: =SUM(C88:G88) -> 207 | B88: Total effectif J-2 (repas servis) | C88: 44 | D88: 46 | E88: 47 | F88: 45 | G88: 25
C90: Semaine : | E90: =WEEKNUM(C57,21)+1 -> 18
A91: =SUM(C91:G91) -> 95 | B91: Total effectif S+1 (commandes) | C91: 31 | D91: 32 | E91: 32 | F91: 0 | G91: 0
C93: Semaine : | E93: =WEEKNUM(C57,21)+2 -> 19
A94: =SUM(C94:G94) -> 217 | B94: Total effectif S+2 (commandes) | C94: 43 | D94: 44 | E94: 46 | F94: 42 | G94: 42

Sheet 18
A1: P : Présent
A2: A : Absent | B2: 2016 | C2: Semaine
A3: E : Repas Ext | B3: =TODAY() -> 42564 | C3: =MID(CELL("nomfichier",$A$1),FIND("]",CELL("nomfichier",$A$1))+1,50) -> 18
C4: =C5 -> 42492 | D4: =D5 -> 42493 | E4: =E5 -> 42494 | F4: =F5 -> 42495 | G4: =G5 -> 42496
B5: NOMS | C5: =7*C3+DATE(B2,1,3)-WEEKDAY(DATE(B2,1,3))-5 -> 42492 | D5: =C5+1 -> 42493 | E5: =D5+1 -> 42494 | F5: =E5+1 -> 42495 | G5: =F5+1 -> 42496
B6: =BDD!A2 -> AIT SAID A | C6: p | D6: p | E6: p | I6: =IF(C6="P",INDEX(BDD!$A$2:$B$52,MATCH('18'!$B6,BDD!$A$2:$A$52,0),2),"") -> SANS PORC | J6: =IF(D6="P",INDEX(BDD!$A$2:$B$52,MATCH('18'!$B6,BDD!$A$2:$A$52,0),2),"") -> SANS PORC | K6: =IF(E6="P",INDEX(BDD!$A$2:$B$52,MATCH('18'!$B6,BDD!$A$2:$A$52,0),2),"") -> SANS PORC | L6: =IF(F6="P",INDEX(BDD!$A$2:$B$52,MATCH('18'!$B6,BDD!$A$2:$A$52,0),2),"") | M6: =IF(G6="P",INDEX(BDD!$A$2:$B$52,MATCH('18'!$B6,BDD!$A$2:$A$52,0),2),"")
B7: =BDD!A3 -> ALVES F | C7: a | D7: a | E7: a | I7: =IF(C7="P",INDEX(BDD!$A$2:$B$52,MATCH('18'!$B7,BDD!$A$2:$A$52,0),2),"") | J7: =IF(D7="P",INDEX(BDD!$A$2:$B$52,MATCH('18'!$B7,BDD!$A$2:$A$52,0),2),"") | K7: =IF(E7="P",INDEX(BDD!$A$2:$B$52,MATCH('18'!$B7,BDD!$A$2:$A$52,0),2),"") | L7: =IF(F7="P",INDEX(BDD!$A$2:$B$52,MATCH('18'!$B7,BDD!$A$2:$A$52,0),2),"") | M7: =IF(G7="P",INDEX(BDD!$A$2:$B$52,MATCH('18'!$B7,BDD!$A$2:$A$52,0),2),"")
B8: =BDD!A4 -> AUBASPEYRAS Y | C8: p | D8: p | E8: p | I8: =IF(C8="P",INDEX(BDD!$A$2:$B$52,MATCH('18'!$B8,BDD!$A$2:$A$52,0),2),"") -> NORMAL | J8: =IF(D8="P",INDEX(BDD!$A$2:$B$52,MATCH('18'!$B8,BDD!$A$2:$A$52,0),2),"") -> NORMAL | K8: =IF(E8="P",INDEX(BDD!$A$2:$B$52,MATCH('18'!$B8,BDD!$A$2:$A$52,0),2),"") -> NORMAL | L8: =IF(F8="P",INDEX(BDD!$A$2:$B$52,MATCH('18'!$B8,BDD!$A$2:$A$52,0),2),"") | M8: =IF(G8="P",INDEX(BDD!$A$2:$B$52,MATCH('18'!$B8,BDD!$A$2:$A$52,0),2),"")
B9: =BDD!A5 -> AUDY M | C9: p | D9: a | E9: a | I9: =IF(C9="P",INDEX(BDD!$A$2:$B$52,MATCH('18'!$B9,BDD!$A$2:$A$52,0),2),"") -> NORMAL | J9: =IF(D9="P",INDEX(BDD!$A$2:$B$52,MATCH('18'!$B9,BDD!$A$2:$A$52,0),2),"") | K9: =IF(E9="P",INDEX(BDD!$A$2:$B$52,MATCH('18'!$B9,BDD!$A$2:$A$52,0),2),"") | L9: =IF(F9="P",INDEX(BDD!$A$2:$B$52,MATCH('18'!$B9,BDD!$A$2:$A$52,0),2),"") | M9: =IF(G9="P",INDEX(BDD!$A$2:$B$52,MATCH('18'!$B9,BDD!$A$2:$A$52,0),2),"")
B10: =BDD!A6 -> BRAUD J | C10: a | D10: a | E10: a | I10: =IF(C10="P",INDEX(BDD!$A$2:$B$52,MATCH('18'!$B10,BDD!$A$2:$A$52,0),2),"") | J10: =IF(D10="P",INDEX(BDD!$A$2:$B$52,MATCH('18'!$B10,BDD!$A$2:$A$52,0),2),"") | K10: =IF(E10="P",INDEX(BDD!$A$2:$B$52,MATCH('18'!$B10,BDD!$A$2:$A$52,0),2),"") | L10: =IF(F10="P",INDEX(BDD!$A$2:$B$52,MATCH('18'!$B10,BDD!$A$2:$A$52,0),2),"") | M10: =IF(G10="P",INDEX(BDD!$A$2:$B$52,MATCH('18'!$B10,BDD!$A$2:$A$52,0),2),"")
B11: =BDD!A7 -> BAZETOUX V | C11: a | D11: a | E11: a | I11: =IF(C11="P",INDEX(BDD!$A$2:$B$52,MATCH('18'!$B11,BDD!$A$2:$A$52,0),2),"") | J11: =IF(D11="P",INDEX(BDD!$A$2:$B$52,MATCH('18'!$B11,BDD!$A$2:$A$52,0),2),"") | K11: =IF(E11="P",INDEX(BDD!$A$2:$B$52,MATCH('18'!$B11,BDD!$A$2:$A$52,0),2),"") | L11: =IF(F11="P",INDEX(BDD!$A$2:$B$52,MATCH('18'!$B11,BDD!$A$2:$A$52,0),2),"") | M11: =IF(G11="P",INDEX(BDD!$A$2:$B$52,MATCH('18'!$B11,BDD!$A$2:$A$52,0),2),"")
B12: =BDD!A8 -> BOKALO E | C12: a | D12: a | E12: a | I12: =IF(C12="P",INDEX(BDD!$A$2:$B$52,MATCH('18'!$B12,BDD!$A$2:$A$52,0),2),"") | J12: =IF(D12="P",INDEX(BDD!$A$2:$B$52,MATCH('18'!$B12,BDD!$A$2:$A$52,0),2),"") | K12: =IF(E12="P",INDEX(BDD!$A$2:$B$52,MATCH('18'!$B12,BDD!$A$2:$A$52,0),2),"") | L12: =IF(F12="P",INDEX(BDD!$A$2:$B$52,MATCH('18'!$B12,BDD!$A$2:$A$52,0),2),"") | M12: =IF(G12="P",INDEX(BDD!$A$2:$B$52,MATCH('18'!$B12,BDD!$A$2:$A$52,0),2),"")
B13: =BDD!A9 -> BRIOUAL Z | C13: p | D13: p | E13: p | I13: =IF(C13="P",INDEX(BDD!$A$2:$B$52,MATCH('18'!$B13,BDD!$A$2:$A$52,0),2),"") -> HYPOCHOLESTEROMIANT SANS PORC | J13: =IF(D13="P",INDEX(BDD!$A$2:$B$52,MATCH('18'!$B13,BDD!$A$2:$A$52,0),2),"") -> HYPOCHOLESTEROMIANT SANS PORC | K13: =IF(E13="P",INDEX(BDD!$A$2:$B$52,MATCH('18'!$B13,BDD!$A$2:$A$52,0),2),"") -> HYPOCHOLESTEROMIANT SANS PORC | L13: =IF(F13="P",INDEX(BDD!$A$2:$B$52,MATCH('18'!$B13,BDD!$A$2:$A$52,0),2),"") | M13: =IF(G13="P",INDEX(BDD!$A$2:$B$52,MATCH('18'!$B13,BDD!$A$2:$A$52,0),2),"")
B14: =BDD!A10 -> CERISUELA S | C14: a | D14: a | E14: a | I14: =IF(C14="P",INDEX(BDD!$A$2:$B$52,MATCH('18'!$B14,BDD!$A$2:$A$52,0),2),"") | J14: =IF(D14="P",INDEX(BDD!$A$2:$B$52,MATCH('18'!$B14,BDD!$A$2:$A$52,0),2),"") | K14: =IF(E14="P",INDEX(BDD!$A$2:$B$52,MATCH('18'!$B14,BDD!$A$2:$A$52,0),2),"") | L14: =IF(F14="P",INDEX(BDD!$A$2:$B$52,MATCH('18'!$B14,BDD!$A$2:$A$52,0),2),"") | M14: =IF(G14="P",INDEX(BDD!$A$2:$B$52,MATCH('18'!$B14,BDD!$A$2:$A$52,0),2),"")
B15: =BDD!A11 -> CHANUT B | C15: a | D15: a | E15: a | I15: =IF(C15="P",INDEX(BDD!$A$2:$B$52,MATCH('18'!$B15,BDD!$A$2:$A$52,0),2),"") | J15: =IF(D15="P",INDEX(BDD!$A$2:$B$52,MATCH('18'!$B15,BDD!$A$2:$A$52,0),2),"") | K15: =IF(E15="P",INDEX(BDD!$A$2:$B$52,MATCH('18'!$B15,BDD!$A$2:$A$52,0),2),"") | L15: =IF(F15="P",INDEX(BDD!$A$2:$B$52,MATCH('18'!$B15,BDD!$A$2:$A$52,0),2),"") | M15: =IF(G15="P",INDEX(BDD!$A$2:$B$52,MATCH('18'!$B15,BDD!$A$2:$A$52,0),2),"")
B16: =BDD!A12 -> CHATTI A | C16: p | D16: p | E16: p | I16: =IF(C16="P",INDEX(BDD!$A$2:$B$52,MATCH('18'!$B16,BDD!$A$2:$A$52,0),2),"") -> SANS PORC | J16: =IF(D16="P",INDEX(BDD!$A$2:$B$52,MATCH('18'!$B16,BDD!$A$2:$A$52,0),2),"") -> SANS PORC | K16: =IF(E16="P",INDEX(BDD!$A$2:$B$52,MATCH('18'!$B16,BDD!$A$2:$A$52,0),2),"") -> SANS PORC | L16: =IF(F16="P",INDEX(BDD!$A$2:$B$52,MATCH('18'!$B16,BDD!$A$2:$A$52,0),2),"") | M16: =IF(G16="P",INDEX(BDD!$A$2:$B$52,MATCH('18'!$B16,BDD!$A$2:$A$52,0),2),"")
B17: =BDD!A13 -> DELZOR N | C17: p | D17: p | E17: p | I17: =IF(C17="P",INDEX(BDD!$A$2:$B$52,MATCH('18'!$B17,BDD!$A$2:$A$52,0),2),"") -> HYPO URICEMIANT | J17: =IF(D17="P",INDEX(BDD!$A$2:$B$52,MATCH('18'!$B17,BDD!$A$2:$A$52,0),2),"") -> HYPO URICEMIANT | K17: =IF(E17="P",INDEX(BDD!$A$2:$B$52,MATCH('18'!$B17,BDD!$A$2:$A$52,0),2),"") -> HYPO URICEMIANT | L17: =IF(F17="P",INDEX(BDD!$A$2:$B$52,MATCH('18'!$B17,BDD!$A$2:$A$52,0),2),"") | M17: =IF(G17="P",INDEX(BDD!$A$2:$B$52,MATCH('18'!$B17,BDD!$A$2:$A$52,0),2),"")
... B19: =BDD!A15 -> DENIS P | C19: a | D19: a | E19: a | I19: =IF(C19="P",INDEX(BDD!$A$2:$B$52,MATCH('18'!$B19,BDD!$A$2:$A$52,0),2),"") | J19: =IF(D19="P",INDEX(BDD!$A$2:$B$52,MATCH('18'!$B19,BDD!$A$2:$A$52,0),2),"") | K19: =IF(E19="P",INDEX(BDD!$A$2:$B$52,MATCH('18'!$B19,BDD!$A$2:$A$52,0),2),"") | L19: =IF(F19="P",INDEX(BDD!$A$2:$B$52,MATCH('18'!$B19,BDD!$A$2:$A$52,0),2),"") | M19: =IF(G19="P",INDEX(BDD!$A$2:$B$52,MATCH('18'!$B19,BDD!$A$2:$A$52,0),2),"")
B20: =BDD!#REF! -> #REF! | C20: a | D20: p | E20: p | I20: =IF(C20="P",INDEX(BDD!$A$2:$B$52,MATCH('18'!$B20,BDD!$A$2:$A$52,0),2),"") | J20: =IF(D20="P",INDEX(BDD!$A$2:$B$52,MATCH('18'!$B20,BDD!$A$2:$A$52,0),2),"") -> #REF! | K20: =IF(E20="P",INDEX(BDD!$A$2:$B$52,MATCH('18'!$B20,BDD!$A$2:$A$52,0),2),"") -> #REF! | L20: =IF(F20="P",INDEX(BDD!$A$2:$B$52,MATCH('18'!$B20,BDD!$A$2:$A$52,0),2),"") | M20: =IF(G20="P",INDEX(BDD!$A$2:$B$52,MATCH('18'!$B20,BDD!$A$2:$A$52,0),2),"")
B21: =BDD!A16 -> GAUTHIER JF | C21: p | D21: p | E21: p | I21: =IF(C21="P",INDEX(BDD!$A$2:$B$52,MATCH('18'!$B21,BDD!$A$2:$A$52,0),2),"") -> NORMAL | J21: =IF(D21="P",INDEX(BDD!$A$2:$B$52,MATCH('18'!$B21,BDD!$A$2:$A$52,0),2),"") -> NORMAL | K21: =IF(E21="P",INDEX(BDD!$A$2:$B$52,MATCH('18'!$B21,BDD!$A$2:$A$52,0),2),"") -> NORMAL | L21: =IF(F21="P",INDEX(BDD!$A$2:$B$52,MATCH('18'!$B21,BDD!$A$2:$A$52,0),2),"") | M21: =IF(G21="P",INDEX(BDD!$A$2:$B$52,MATCH('18'!$B21,BDD!$A$2:$A$52,0),2),"")
B22: =BDD!A17 -> GAUTIER Y | C22: p | D22: p | E22: p | I22: =IF(C22="P",INDEX(BDD!$A$2:$B$52,MATCH('18'!$B22,BDD!$A$2:$A$52,0),2),"") -> NORMAL | J22: =IF(D22="P",INDEX(BDD!$A$2:$B$52,MATCH('18'!$B22,BDD!$A$2:$A$52,0),2),"") -> NORMAL | K22: =IF(E22="P",INDEX(BDD!$A$2:$B$52,MATCH('18'!$B22,BDD!$A$2:$A$52,0),2),"") -> NORMAL | L22: =IF(F22="P",INDEX(BDD!$A$2:$B$52,MATCH('18'!$B22,BDD!$A$2:$A$52,0),2),"") | M22: =IF(G22="P",INDEX(BDD!$A$2:$B$52,MATCH('18'!$B22,BDD!$A$2:$A$52,0),2),"")
B23: =BDD!A18 -> GOURDON F | C23: p | D23: p | E23: p | I23: =IF(C23="P",INDEX(BDD!$A$2:$B$52,MATCH('18'!$B23,BDD!$A$2:$A$52,0),2),"") -> NORMAL | J23: =IF(D23="P",INDEX(BDD!$A$2:$B$52,MATCH('18'!$B23,BDD!$A$2:$A$52,0),2),"") -> NORMAL | K23: =IF(E23="P",INDEX(BDD!$A$2:$B$52,MATCH('18'!$B23,BDD!$A$2:$A$52,0),2),"") -> NORMAL | L23: =IF(F23="P",INDEX(BDD!$A$2:$B$52,MATCH('18'!$B23,BDD!$A$2:$A$52,0),2),"") | M23: =IF(G23="P",INDEX(BDD!$A$2:$B$52,MATCH('18'!$B23,BDD!$A$2:$A$52,0),2),"")
B24: =BDD!A19 -> GORDOGA K | C24: p | D24: p | E24: p | I24: =IF(C24="P",INDEX(BDD!$A$2:$B$52,MATCH('18'!$B24,BDD!$A$2:$A$52,0),2),"") -> SANS PORC | J24: =IF(D24="P",INDEX(BDD!$A$2:$B$52,MATCH('18'!$B24,BDD!$A$2:$A$52,0),2),"") -> SANS PORC | K24: =IF(E24="P",INDEX(BDD!$A$2:$B$52,MATCH('18'!$B24,BDD!$A$2:$A$52,0),2),"") -> SANS PORC | L24: =IF(F24="P",INDEX(BDD!$A$2:$B$52,MATCH('18'!$B24,BDD!$A$2:$A$52,0),2),"") | M24: =IF(G24="P",INDEX(BDD!$A$2:$B$52,MATCH('18'!$B24,BDD!$A$2:$A$52,0),2),"")
B25: =BDD!A20 -> GRAVIERE JP | C25: p | D25: p | E25: p | I25: =IF(C25="P",INDEX(BDD!$A$2:$B$52,MATCH('18'!$B25,BDD!$A$2:$A$52,0),2),"") -> NORMAL | J25: =IF(D25="P",INDEX(BDD!$A$2:$B$52,MATCH('18'!$B25,BDD!$A$2:$A$52,0),2),"") -> NORMAL | K25: =IF(E25="P",INDEX(BDD!$A$2:$B$52,MATCH('18'!$B25,BDD!$A$2:$A$52,0),2),"") -> NORMAL | L25: =IF(F25="P",INDEX(BDD!$A$2:$B$52,MATCH('18'!$B25,BDD!$A$2:$A$52,0),2),"") | M25: =IF(G25="P",INDEX(BDD!$A$2:$B$52,MATCH('18'!$B25,BDD!$A$2:$A$52,0),2),"")
B26: =BDD!A21 -> JULLIOT Y | C26: p | D26: p | E26: p | I26: =IF(C26="P",INDEX(BDD!$A$2:$B$52,MATCH('18'!$B26,BDD!$A$2:$A$52,0),2),"") -> NORMAL | J26: =IF(D26="P",INDEX(BDD!$A$2:$B$52,MATCH('18'!$B26,BDD!$A$2:$A$52,0),2),"") -> NORMAL | K26: =IF(E26="P",INDEX(BDD!$A$2:$B$52,MATCH('18'!$B26,BDD!$A$2:$A$52,0),2),"") -> NORMAL | L26: =IF(F26="P",INDEX(BDD!$A$2:$B$52,MATCH('18'!$B26,BDD!$A$2:$A$52,0),2),"") | M26: =IF(G26="P",INDEX(BDD!$A$2:$B$52,MATCH('18'!$B26,BDD!$A$2:$A$52,0),2),"")
B27: =BDD!A22 -> LARBRE JM | C27: a | D27: p | E27: p | I27: =IF(C27="P",INDEX(BDD!$A$2:$B$52,MATCH('18'!$B27,BDD!$A$2:$A$52,0),2),"") | J27: =IF(D27="P",INDEX(BDD!$A$2:$B$52,MATCH('18'!$B27,BDD!$A$2:$A$52,0),2),"") -> NORMAL | K27: =IF(E27="P",INDEX(BDD!$A$2:$B$52,MATCH('18'!$B27,BDD!$A$2:$A$52,0),2),"") -> NORMAL | L27: =IF(F27="P",INDEX(BDD!$A$2:$B$52,MATCH('18'!$B27,BDD!$A$2:$A$52,0),2),"") | M27: =IF(G27="P",INDEX(BDD!$A$2:$B$52,MATCH('18'!$B27,BDD!$A$2:$A$52,0),2),"")
B28: =BDD!A23 -> LAPLACE F | C28: p | D28: p | E28: p | I28: =IF(C28="P",INDEX(BDD!$A$2:$B$52,MATCH('18'!$B28,BDD!$A$2:$A$52,0),2),"") -> NORMAL | J28: =IF(D28="P",INDEX(BDD!$A$2:$B$52,MATCH('18'!$B28,BDD!$A$2:$A$52,0),2),"") -> NORMAL | K28: =IF(E28="P",INDEX(BDD!$A$2:$B$52,MATCH('18'!$B28,BDD!$A$2:$A$52,0),2),"") -> NORMAL | L28: =IF(F28="P",INDEX(BDD!$A$2:$B$52,MATCH('18'!$B28,BDD!$A$2:$A$52,0),2),"") | M28: =IF(G28="P",INDEX(BDD!$A$2:$B$52,MATCH('18'!$B28,BDD!$A$2:$A$52,0),2),"")
B29: =BDD!A24 -> LARA C | C29: a | D29: a | E29: a | I29: =IF(C29="P",INDEX(BDD!$A$2:$B$52,MATCH('18'!$B29,BDD!$A$2:$A$52,0),2),"") | J29: =IF(D29="P",INDEX(BDD!$A$2:$B$52,MATCH('18'!$B29,BDD!$A$2:$A$52,0),2),"") | K29: =IF(E29="P",INDEX(BDD!$A$2:$B$52,MATCH('18'!$B29,BDD!$A$2:$A$52,0),2),"") | L29: =IF(F29="P",INDEX(BDD!$A$2:$B$52,MATCH('18'!$B29,BDD!$A$2:$A$52,0),2),"") | M29: =IF(G29="P",INDEX(BDD!$A$2:$B$52,MATCH('18'!$B29,BDD!$A$2:$A$52,0),2),"")
B30: =BDD!A25 -> LAURENT N | C30: a | D30: a | E30: a | I30: =IF(C30="P",INDEX(BDD!$A$2:$B$52,MATCH('18'!$B30,BDD!$A$2:$A$52,0),2),"") | J30: =IF(D30="P",INDEX(BDD!$A$2:$B$52,MATCH('18'!$B30,BDD!$A$2:$A$52,0),2),"") | K30: =IF(E30="P",INDEX(BDD!$A$2:$B$52,MATCH('18'!$B30,BDD!$A$2:$A$52,0),2),"") | L30: =IF(F30="P",INDEX(BDD!$A$2:$B$52,MATCH('18'!$B30,BDD!$A$2:$A$52,0),2),"") | M30: =IF(G30="P",INDEX(BDD!$A$2:$B$52,MATCH('18'!$B30,BDD!$A$2:$A$52,0),2),"")
B31: =BDD!A26 -> LEBON Y | C31: p | D31: p | E31: p | I31: =IF(C31="P",INDEX(BDD!$A$2:$B$52,MATCH('18'!$B31,BDD!$A$2:$A$52,0),2),"") -> NORMAL | J31: =IF(D31="P",INDEX(BDD!$A$2:$B$52,MATCH('18'!$B31,BDD!$A$2:$A$52,0),2),"") -> NORMAL | K31: =IF(E31="P",INDEX(BDD!$A$2:$B$52,MATCH('18'!$B31,BDD!$A$2:$A$52,0),2),"") -> NORMAL | L31: =IF(F31="P",INDEX(BDD!$A$2:$B$52,MATCH('18'!$B31,BDD!$A$2:$A$52,0),2),"") | M31: =IF(G31="P",INDEX(BDD!$A$2:$B$52,MATCH('18'!$B31,BDD!$A$2:$A$52,0),2),"")
B32: =BDD!A27 -> LECAM A | C32: p | D32: p | E32: p | I32: =IF(C32="P",INDEX(BDD!$A$2:$B$52,MATCH('18'!$B32,BDD!$A$2:$A$52,0),2),"") -> NORMAL | J32: =IF(D32="P",INDEX(BDD!$A$2:$B$52,MATCH('18'!$B32,BDD!$A$2:$A$52,0),2),"") -> NORMAL | K32: =IF(E32="P",INDEX(BDD!$A$2:$B$52,MATCH('18'!$B32,BDD!$A$2:$A$52,0),2),"") -> NORMAL | L32: =IF(F32="P",INDEX(BDD!$A$2:$B$52,MATCH('18'!$B32,BDD!$A$2:$A$52,0),2),"") | M32: =IF(G32="P",INDEX(BDD!$A$2:$B$52,MATCH('18'!$B32,BDD!$A$2:$A$52,0),2),"")
... B50: =BDD!A45 -> VERGNY fr | C50: p | D50: p | E50: p | I50: =IF(C50="P",INDEX(BDD!$A$2:$B$52,MATCH('18'!$B50,BDD!$A$2:$A$52,0),2),"") -> NORMAL | J50: =IF(D50="P",INDEX(BDD!$A$2:$B$52,MATCH('18'!$B50,BDD!$A$2:$A$52,0),2),"") -> NORMAL | K50: =IF(E50="P",INDEX(BDD!$A$2:$B$52,MATCH('18'!$B50,BDD!$A$2:$A$52,0),2),"") -> NORMAL | L50: =IF(F50="P",INDEX(BDD!$A$2:$B$52,MATCH('18'!$B50,BDD!$A$2:$A$52,0),2),"") | M50: =IF(G50="P",INDEX(BDD!$A$2:$B$52,MATCH('18'!$B50,BDD!$A$2:$A$52,0),2),"")
I51: =IF(C51="P",INDEX(BDD!$A$2:$B$52,MATCH('18'!$B51,BDD!$A$2:$A$52,0),2),"") | J51: =IF(D51="P",INDEX(BDD!$A$2:$B$52,MATCH('18'!$B51,BDD!$A$2:$A$52,0),2),"") | K51: =IF(E51="P",INDEX(BDD!$A$2:$B$52,MATCH('18'!$B51,BDD!$A$2:$A$52,0),2),"") | L51: =IF(F51="P",INDEX(BDD!$A$2:$B$52,MATCH('18'!$B51,BDD!$A$2:$A$52,0),2),"") | M51: =IF(G51="P",INDEX(BDD!$A$2:$B$52,MATCH('18'!$B51,BDD!$A$2:$A$52,0),2),"")
B52: =BDD!A47 -> STAGIAIRE | I52: =IF(C52="P",INDEX(BDD!$A$2:$B$52,MATCH('18'!$B52,BDD!$A$2:$A$52,0),2),"") | J52: =IF(D52="P",INDEX(BDD!$A$2:$B$52,MATCH('18'!$B52,BDD!$A$2:$A$52,0),2),"") | K52: =IF(E52="P",INDEX(BDD!$A$2:$B$52,MATCH('18'!$B52,BDD!$A$2:$A$52,0),2),"") | L52: =IF(F52="P",INDEX(BDD!$A$2:$B$52,MATCH('18'!$B52,BDD!$A$2:$A$52,0),2),"") | M52: =IF(G52="P",INDEX(BDD!$A$2:$B$52,MATCH('18'!$B52,BDD!$A$2:$A$52,0),2),"")
C54: Effectifs cuisine
C55: =MID(CELL("nomfichier",$A$1),FIND("]",CELL("nomfichier",$A$1))+1,50) -> 18
A56: Total J/S | C56: =C57 -> 42492 | D56: =D57 -> 42493 | E56: =E57 -> 42494 | F56: =F57 -> 42495 | G56: =G57 -> 42496
C57: =7*C55+DATE(B2,1,3)-WEEKDAY(DATE(B2,1,3))-5 -> 42492 | D57: =C57+1 -> 42493 | E57: =D57+1 -> 42494 | F57: =E57+1 -> 42495 | G57: =F57+1 -> 42496
A58: =SUM(C58:G58) -> 56 | B58: NORMAL | C58: =IF(COUNTIF(I$6:I$52,$B58)>0,COUNTIF(I$6:I$52,$B58),"") -> 19 | D58: =IF(COUNTIF(J$6:J$52,$B58)>0,COUNTIF(J$6:J$52,$B58),"") -> 19 | E58: =IF(COUNTIF(K$6:K$52,$B58)>0,COUNTIF(K$6:K$52,$B58),"") -> 18 | F58: =IF(COUNTIF(L$6:L$52,$B58)>0,COUNTIF(L$6:L$52,$B58),"") | G58: =IF(COUNTIF(M$6:M$52,$B58)>0,COUNTIF(M$6:M$52,$B58),"")
A59: =SUM(C59:G59) -> 0 | B59: HYPOCHOLESTEROMIANT | C59: =IF(COUNTIF(I$6:I$52,$B59)>0,COUNTIF(I$6:I$52,$B59),"") | D59: =IF(COUNTIF(J$6:J$52,$B59)>0,COUNTIF(J$6:J$52,$B59),"") | E59: =IF(COUNTIF(K$6:K$52,$B59)>0,COUNTIF(K$6:K$52,$B59),"") | F59: =IF(COUNTIF(L$6:L$52,$B59)>0,COUNTIF(L$6:L$52,$B59),"") | G59: =IF(COUNTIF(M$6:M$52,$B59)>0,COUNTIF(M$6:M$52,$B59),"") | I59: =COUNTIF($I$6:$I$52,$B59) -> 0
A60: =SUM(C60:G60) -> 3 | B60: HYPOCHOLESTEROMIANT SANS PORC | C60: =IF(COUNTIF(I$6:I$52,$B60)>0,COUNTIF(I$6:I$52,$B60),"") -> 1 | D60: =IF(COUNTIF(J$6:J$52,$B60)>0,COUNTIF(J$6:J$52,$B60),"") -> 1 | E60: =IF(COUNTIF(K$6:K$52,$B60)>0,COUNTIF(K$6:K$52,$B60),"") -> 1 | F60: =IF(COUNTIF(L$6:L$52,$B60)>0,COUNTIF(L$6:L$52,$B60),"") | G60: =IF(COUNTIF(M$6:M$52,$B60)>0,COUNTIF(M$6:M$52,$B60),"") | I60: =COUNTIF($I$6:$I$52,$B60) -> 1
A61: =SUM(C61:G61) -> 3 | B61: HYPOCHOLESTEROMIANT & HYPOCALORIQUE | C61: =IF(COUNTIF(I$6:I$52,$B61)>0,COUNTIF(I$6:I$52,$B61),"") -> 1 | D61: =IF(COUNTIF(J$6:J$52,$B61)>0,COUNTIF(J$6:J$52,$B61),"") -> 1 | E61: =IF(COUNTIF(K$6:K$52,$B61)>0,COUNTIF(K$6:K$52,$B61),"") -> 1 | F61: =IF(COUNTIF(L$6:L$52,$B61)>0,COUNTIF(L$6:L$52,$B61),"") | G61: =IF(COUNTIF(M$6:M$52,$B61)>0,COUNTIF(M$6:M$52,$B61),"") | I61: =COUNTIF($I$6:$I$52,$B61) -> 1
A62: =SUM(C62:G62) -> 3 | B62: HYPOCALORIQUE | C62: =IF(COUNTIF(I$6:I$52,$B62)>0,COUNTIF(I$6:I$52,$B62),"") -> 1 | D62: =IF(COUNTIF(J$6:J$52,$B62)>0,COUNTIF(J$6:J$52,$B62),"") -> 1 | E62: =IF(COUNTIF(K$6:K$52,$B62)>0,COUNTIF(K$6:K$52,$B62),"") -> 1 | F62: =IF(COUNTIF(L$6:L$52,$B62)>0,COUNTIF(L$6:L$52,$B62),"") | G62: =IF(COUNTIF(M$6:M$52,$B62)>0,COUNTIF(M$6:M$52,$B62),"") | I62: =COUNTIF($I$6:$I$52,$B62) -> 1
A63: =SUM(C63:G63) -> 3 | B63: HYPO URICEMIANT | C63: =IF(COUNTIF(I$6:I$52,$B63)>0,COUNTIF(I$6:I$52,$B63),"") -> 1 | D63: =IF(COUNTIF(J$6:J$52,$B63)>0,COUNTIF(J$6:J$52,$B63),"") -> 1 | E63: =IF(COUNTIF(K$6:K$52,$B63)>0,COUNTIF(K$6:K$52,$B63),"") -> 1 | F63: =IF(COUNTIF(L$6:L$52,$B63)>0,COUNTIF(L$6:L$52,$B63),"") | G63: =IF(COUNTIF(M$6:M$52,$B63)>0,COUNTIF(M$6:M$52,$B63),"") | I63: =COUNTIF($I$6:$I$52,$B63) -> 1
A64: =SUM(C64:G64) -> 9 | B64: SANS PORC | C64: =IF(COUNTIF(I$6:I$52,$B64)>0,COUNTIF(I$6:I$52,$B64),"") -> 3 | D64: =IF(COUNTIF(J$6:J$52,$B64)>0,COUNTIF(J$6:J$52,$B64),"") -> 3 | E64: =IF(COUNTIF(K$6:K$52,$B64)>0,COUNTIF(K$6:K$52,$B64),"") -> 3 | F64: =IF(COUNTIF(L$6:L$52,$B64)>0,COUNTIF(L$6:L$52,$B64),"") | G64: =IF(COUNTIF(M$6:M$52,$B64)>0,COUNTIF(M$6:M$52,$B64),"") | I64: =COUNTIF($I$6:$I$52,$B64) -> 3
A65: =SUM(C65:G65) -> 0 | C65: =IF(COUNTIF(I$6:I$52,$B65)>0,COUNTIF(I$6:I$52,$B65),"") | D65: =IF(COUNTIF(J$6:J$52,$B65)>0,COUNTIF(J$6:J$52,$B65),"") | E65: =IF(COUNTIF(K$6:K$52,$B65)>0,COUNTIF(K$6:K$52,$B65),"") | F65: =IF(COUNTIF(L$6:L$52,$B65)>0,COUNTIF(L$6:L$52,$B65),"") | G65: =IF(COUNTIF(M$6:M$52,$B65)>0,COUNTIF(M$6:M$52,$B65),"") | I65: =COUNTIF($I$6:$I$52,$B65) -> 0
A67: =SUM(C67:G67) -> 0 | B67: Repas Froid
A68: =SUM(C68:G68) -> 0 | B68: Malemort / Tulle
A70: =SUM(C70:G70) -> 3 | B70: Encadrement | C70: 1 | D70: 1 | E70: 1
A71: =SUM(C71:G71) -> 2 | B71: Mr CONTINSUZAT J. | D71: 1 | E71: 1
A72: =SUM(C72:G72) -> 1 | B72: Mme CHEDOZAUD F. | E72: 1
A73: =SUM(C73:G73) -> 1 | B73: Mme SALOU S. | D73: 1
A74: =SUM(C74:G74) -> 0 | B74: Mr CHASSAING N.
A75: =SUM(C75:G75) -> 0 | B75: Invités
A76: =SUM(C76:G76) -> 0 | B76: Formateurs
A78: =SUM(C78:G78) -> 1 | B78: Mr CHAVEROCHE | E78: 1
A79: =SUM(C79:G79) -> 3 | B79: Mr RIMOUX | C79: 1 | D79: 1 | E79: 1
A80: =SUM(C80:G80) -> 2 | B80: Mr VIALLEMONTEIL | C80: 1 | D80: 0 | E80: 1
A81: =SUM(C81:G81) -> 0 | B81: AUTRES TICKETS
A82: =SUM(C82:G82) -> 6 | B82: TOTAL TICKET | C82: =SUM(C78:C81) -> 2 | D82: =SUM(D78:D81) -> 1 | E82: =SUM(E78:E81) -> 3 | F82: =SUM(F78:F81) -> 0 | G82: =SUM(G78:G81) -> 0
A84: =SUM(C84:G84) -> 0 | B84: Repas Extérieur | C84: =COUNTIF(C6:C52,"E") -> 0 | D84: =COUNTIF(D6:D52,"E") -> 0 | E84: =COUNTIF(E6:E52,"E") -> 0 | F84: =COUNTIF(F6:F52,"E") -> 0 | G84: =COUNTIF(G6:G52,"E") -> 0
A86: =SUM(C86:G86) -> 90 | B86: Total effectif jour | C86: =SUM(C58:C81) -> 29 | D86: =SUM(D58:D81) -> 30 | E86: =SUM(E58:E81) -> 31 | F86: =SUM(F58:F81) -> 0 | G86: =SUM(G58:G81) -> 0
A87: =SUM(C87:G87) -> 86 | B87: Total effetif J-2 (facturation) | C87: 28 | D87: 29 | E87: 29 | F87: 0 | G87: 0
A88: =SUM(C88:G88) -> 86 | B88: Total effectif J-2 (repas servis) | C88: 29 | D88: 29 | E88: 28 | F88: 0 | G88: 0
C90: Semaine : | E90: =WEEKNUM(C57,21)+1 -> 19
A91: =SUM(C91:G91) -> 217 | B91: Total effectif S+1 (commandes) | C91: 43 | D91: 44 | E91: 46 | F91: 42 | G91: 42
C93: Semaine : | E93: =WEEKNUM(C57,21)+2 -> 20
A94: =SUM(C94:G94) -> 0 | B94: Total effectif S+2 (commandes)

Sheet 19
A1: P : Présent
A2: A : Absent | B2: 2016 | C2: Semaine
A3: E : Repas Ext | B3: =TODAY() -> 42564 | C3: =MID(CELL("nomfichier",$A$1),FIND("]",CELL("nomfichier",$A$1))+1,50) -> 19
C4: =C5 -> 42499 | D4: =D5 -> 42500 | E4: =E5 -> 42501 | F4: =F5 -> 42502 | G4: =G5 -> 42503
B5: NOMS | C5: =7*C3+DATE(B2,1,3)-WEEKDAY(DATE(B2,1,3))-5 -> 42499 | D5: =C5+1 -> 42500 | E5: =D5+1 -> 42501 | F5: =E5+1 -> 42502 | G5: =F5+1 -> 42503
B6: =BDD!A2 -> AIT SAID A | C6: p | D6: p | E6: p | F6: p | G6: p | I6: =IF(C6="P",INDEX(BDD!$A$2:$B$52,MATCH('19'!$B6,BDD!$A$2:$A$52,0),2),"") -> SANS PORC | J6: =IF(D6="P",INDEX(BDD!$A$2:$B$52,MATCH('19'!$B6,BDD!$A$2:$A$52,0),2),"") -> SANS PORC | K6: =IF(E6="P",INDEX(BDD!$A$2:$B$52,MATCH('19'!$B6,BDD!$A$2:$A$52,0),2),"") -> SANS PORC | L6: =IF(F6="P",INDEX(BDD!$A$2:$B$52,MATCH('19'!$B6,BDD!$A$2:$A$52,0),2),"") -> SANS PORC | M6: =IF(G6="P",INDEX(BDD!$A$2:$B$52,MATCH('19'!$B6,BDD!$A$2:$A$52,0),2),"") -> SANS PORC
B7: =BDD!A3 -> ALVES F | C7: p | D7: p | E7: p | F7: p | G7: p | I7: =IF(C7="P",INDEX(BDD!$A$2:$B$52,MATCH('19'!$B7,BDD!$A$2:$A$52,0),2),"") -> NORMAL | J7: =IF(D7="P",INDEX(BDD!$A$2:$B$52,MATCH('19'!$B7,BDD!$A$2:$A$52,0),2),"") -> NORMAL | K7: =IF(E7="P",INDEX(BDD!$A$2:$B$52,MATCH('19'!$B7,BDD!$A$2:$A$52,0),2),"") -> NORMAL | L7: =IF(F7="P",INDEX(BDD!$A$2:$B$52,MATCH('19'!$B7,BDD!$A$2:$A$52,0),2),"") -> NORMAL | M7: =IF(G7="P",INDEX(BDD!$A$2:$B$52,MATCH('19'!$B7,BDD!$A$2:$A$52,0),2),"") -> NORMAL
B8: =BDD!A4 -> AUBASPEYRAS Y | C8: p | D8: p | E8: p | F8: p | G8: p | I8: =IF(C8="P",INDEX(BDD!$A$2:$B$52,MATCH('19'!$B8,BDD!$A$2:$A$52,0),2),"") -> NORMAL | J8: =IF(D8="P",INDEX(BDD!$A$2:$B$52,MATCH('19'!$B8,BDD!$A$2:$A$52,0),2),"") -> NORMAL | K8: =IF(E8="P",INDEX(BDD!$A$2:$B$52,MATCH('19'!$B8,BDD!$A$2:$A$52,0),2),"") -> NORMAL | L8: =IF(F8="P",INDEX(BDD!$A$2:$B$52,MATCH('19'!$B8,BDD!$A$2:$A$52,0),2),"") -> NORMAL | M8: =IF(G8="P",INDEX(BDD!$A$2:$B$52,MATCH('19'!$B8,BDD!$A$2:$A$52,0),2),"") -> NORMAL
B9: =BDD!A5 -> AUDY M | C9: a | D9: a | E9: a | F9: a | G9: a | I9: =IF(C9="P",INDEX(BDD!$A$2:$B$52,MATCH('19'!$B9,BDD!$A$2:$A$52,0),2),"") | J9: =IF(D9="P",INDEX(BDD!$A$2:$B$52,MATCH('19'!$B9,BDD!$A$2:$A$52,0),2),"") | K9: =IF(E9="P",INDEX(BDD!$A$2:$B$52,MATCH('19'!$B9,BDD!$A$2:$A$52,0),2),"") | L9: =IF(F9="P",INDEX(BDD!$A$2:$B$52,MATCH('19'!$B9,BDD!$A$2:$A$52,0),2),"") | M9: =IF(G9="P",INDEX(BDD!$A$2:$B$52,MATCH('19'!$B9,BDD!$A$2:$A$52,0),2),"")
B10: =BDD!A6 -> BRAUD J | C10: p | D10: p | E10: p | F10: p | G10: p | I10: =IF(C10="P",INDEX(BDD!$A$2:$B$52,MATCH('19'!$B10,BDD!$A$2:$A$52,0),2),"") -> NORMAL | J10: =IF(D10="P",INDEX(BDD!$A$2:$B$52,MATCH('19'!$B10,BDD!$A$2:$A$52,0),2),"") -> NORMAL | K10: =IF(E10="P",INDEX(BDD!$A$2:$B$52,MATCH('19'!$B10,BDD!$A$2:$A$52,0),2),"") -> NORMAL | L10: =IF(F10="P",INDEX(BDD!$A$2:$B$52,MATCH('19'!$B10,BDD!$A$2:$A$52,0),2),"") -> NORMAL | M10: =IF(G10="P",INDEX(BDD!$A$2:$B$52,MATCH('19'!$B10,BDD!$A$2:$A$52,0),2),"") -> NORMAL
B11: =BDD!A7 -> BAZETOUX V | C11: p | D11: p | E11: p | F11: p | G11: p | I11: =IF(C11="P",INDEX(BDD!$A$2:$B$52,MATCH('19'!$B11,BDD!$A$2:$A$52,0),2),"") -> NORMAL | J11: =IF(D11="P",INDEX(BDD!$A$2:$B$52,MATCH('19'!$B11,BDD!$A$2:$A$52,0),2),"") -> NORMAL | K11: =IF(E11="P",INDEX(BDD!$A$2:$B$52,MATCH('19'!$B11,BDD!$A$2:$A$52,0),2),"") -> NORMAL | L11: =IF(F11="P",INDEX(BDD!$A$2:$B$52,MATCH('19'!$B11,BDD!$A$2:$A$52,0),2),"") -> NORMAL | M11: =IF(G11="P",INDEX(BDD!$A$2:$B$52,MATCH('19'!$B11,BDD!$A$2:$A$52,0),2),"") -> NORMAL
B12: =BDD!A8 -> BOKALO E | C12: a | D12: a | E12: a | F12: a | G12: a | I12: =IF(C12="P",INDEX(BDD!$A$2:$B$52,MATCH('19'!$B12,BDD!$A$2:$A$52,0),2),"") | J12: =IF(D12="P",INDEX(BDD!$A$2:$B$52,MATCH('19'!$B12,BDD!$A$2:$A$52,0),2),"") | K12: =IF(E12="P",INDEX(BDD!$A$2:$B$52,MATCH('19'!$B12,BDD!$A$2:$A$52,0),2),"") | L12: =IF(F12="P",INDEX(BDD!$A$2:$B$52,MATCH('19'!$B12,BDD!$A$2:$A$52,0),2),"") | M12: =IF(G12="P",INDEX(BDD!$A$2:$B$52,MATCH('19'!$B12,BDD!$A$2:$A$52,0),2),"")
B13: =BDD!A9 -> BRIOUAL Z | C13: p | D13: p | E13: p | F13: p | G13: p | I13: =IF(C13="P",INDEX(BDD!$A$2:$B$52,MATCH('19'!$B13,BDD!$A$2:$A$52,0),2),"") -> HYPOCHOLESTEROMIANT SANS PORC | J13: =IF(D13="P",INDEX(BDD!$A$2:$B$52,MATCH('19'!$B13,BDD!$A$2:$A$52,0),2),"") -> HYPOCHOLESTEROMIANT SANS PORC | K13: =IF(E13="P",INDEX(BDD!$A$2:$B$52,MATCH('19'!$B13,BDD!$A$2:$A$52,0),2),"") -> HYPOCHOLESTEROMIANT SANS PORC | L13: =IF(F13="P",INDEX(BDD!$A$2:$B$52,MATCH('19'!$B13,BDD!$A$2:$A$52,0),2),"") -> HYPOCHOLESTEROMIANT SANS PORC | M13: =IF(G13="P",INDEX(BDD!$A$2:$B$52,MATCH('19'!$B13,BDD!$A$2:$A$52,0),2),"") -> HYPOCHOLESTEROMIANT SANS PORC
B14: =BDD!A10 -> CERISUELA S | C14: p | D14: p | E14: p | F14: p | G14: p | I14: =IF(C14="P",INDEX(BDD!$A$2:$B$52,MATCH('19'!$B14,BDD!$A$2:$A$52,0),2),"") -> HYPOCALORIQUE | J14: =IF(D14="P",INDEX(BDD!$A$2:$B$52,MATCH('19'!$B14,BDD!$A$2:$A$52,0),2),"") -> HYPOCALORIQUE | K14: =IF(E14="P",INDEX(BDD!$A$2:$B$52,MATCH('19'!$B14,BDD!$A$2:$A$52,0),2),"") -> HYPOCALORIQUE | L14: =IF(F14="P",INDEX(BDD!$A$2:$B$52,MATCH('19'!$B14,BDD!$A$2:$A$52,0),2),"") -> HYPOCALORIQUE | M14: =IF(G14="P",INDEX(BDD!$A$2:$B$52,MATCH('19'!$B14,BDD!$A$2:$A$52,0),2),"") -> HYPOCALORIQUE
B15: =BDD!A11 -> CHANUT B | C15: p | D15: p | E15: p | F15: p | G15: p | I15: =IF(C15="P",INDEX(BDD!$A$2:$B$52,MATCH('19'!$B15,BDD!$A$2:$A$52,0),2),"") -> HYPOCHOLESTEROMIANT | J15: =IF(D15="P",INDEX(BDD!$A$2:$B$52,MATCH('19'!$B15,BDD!$A$2:$A$52,0),2),"") -> HYPOCHOLESTEROMIANT | K15: =IF(E15="P",INDEX(BDD!$A$2:$B$52,MATCH('19'!$B15,BDD!$A$2:$A$52,0),2),"") -> HYPOCHOLESTEROMIANT | L15: =IF(F15="P",INDEX(BDD!$A$2:$B$52,MATCH('19'!$B15,BDD!$A$2:$A$52,0),2),"") -> HYPOCHOLESTEROMIANT | M15: =IF(G15="P",INDEX(BDD!$A$2:$B$52,MATCH('19'!$B15,BDD!$A$2:$A$52,0),2),"") -> HYPOCHOLESTEROMIANT
B16: =BDD!A12 -> CHATTI A | C16: p | D16: p | E16: p | F16: p | G16: p | I16: =IF(C16="P",INDEX(BDD!$A$2:$B$52,MATCH('19'!$B16,BDD!$A$2:$A$52,0),2),"") -> SANS PORC | J16: =IF(D16="P",INDEX(BDD!$A$2:$B$52,MATCH('19'!$B16,BDD!$A$2:$A$52,0),2),"") -> SANS PORC | K16: =IF(E16="P",INDEX(BDD!$A$2:$B$52,MATCH('19'!$B16,BDD!$A$2:$A$52,0),2),"") -> SANS PORC | L16: =IF(F16="P",INDEX(BDD!$A$2:$B$52,MATCH('19'!$B16,BDD!$A$2:$A$52,0),2),"") -> SANS PORC | M16: =IF(G16="P",INDEX(BDD!$A$2:$B$52,MATCH('19'!$B16,BDD!$A$2:$A$52,0),2),"") -> SANS PORC
B17: =BDD!A13 -> DELZOR N | C17: p | D17: p | E17: p | F17: p | G17: p | I17: =IF(C17="P",INDEX(BDD!$A$2:$B$52,MATCH('19'!$B17,BDD!$A$2:$A$52,0),2),"") -> HYPO URICEMIANT | J17: =IF(D17="P",INDEX(BDD!$A$2:$B$52,MATCH('19'!$B17,BDD!$A$2:$A$52,0),2),"") -> HYPO URICEMIANT | K17: =IF(E17="P",INDEX(BDD!$A$2:$B$52,MATCH('19'!$B17,BDD!$A$2:$A$52,0),2),"") -> HYPO URICEMIANT | L17: =IF(F17="P",INDEX(BDD!$A$2:$B$52,MATCH('19'!$B17,BDD!$A$2:$A$52,0),2),"") -> HYPO URICEMIANT | M17: =IF(G17="P",INDEX(BDD!$A$2:$B$52,MATCH('19'!$B17,BDD!$A$2:$A$52,0),2),"") -> HYPO URICEMIANT
... B19: =BDD!A15 -> DENIS P | C19: a | D19: a | E19: a | F19: a | G19: a | I19: =IF(C19="P",INDEX(BDD!$A$2:$B$52,MATCH('19'!$B19,BDD!$A$2:$A$52,0),2),"") | J19: =IF(D19="P",INDEX(BDD!$A$2:$B$52,MATCH('19'!$B19,BDD!$A$2:$A$52,0),2),"") | K19: =IF(E19="P",INDEX(BDD!$A$2:$B$52,MATCH('19'!$B19,BDD!$A$2:$A$52,0),2),"") | L19: =IF(F19="P",INDEX(BDD!$A$2:$B$52,MATCH('19'!$B19,BDD!$A$2:$A$52,0),2),"") | M19: =IF(G19="P",INDEX(BDD!$A$2:$B$52,MATCH('19'!$B19,BDD!$A$2:$A$52,0),2),"")
B20: =BDD!#REF! -> #REF! | C20: p | D20: p | E20: p | F20: p | G20: p | I20: =IF(C20="P",INDEX(BDD!$A$2:$B$52,MATCH('19'!$B20,BDD!$A$2:$A$52,0),2),"") -> #REF! | J20: =IF(D20="P",INDEX(BDD!$A$2:$B$52,MATCH('19'!$B20,BDD!$A$2:$A$52,0),2),"") -> #REF! | K20: =IF(E20="P",INDEX(BDD!$A$2:$B$52,MATCH('19'!$B20,BDD!$A$2:$A$52,0),2),"") -> #REF! | L20: =IF(F20="P",INDEX(BDD!$A$2:$B$52,MATCH('19'!$B20,BDD!$A$2:$A$52,0),2),"") -> #REF! | M20: =IF(G20="P",INDEX(BDD!$A$2:$B$52,MATCH('19'!$B20,BDD!$A$2:$A$52,0),2),"") -> #REF!
B21: =BDD!A16 -> GAUTHIER JF | C21: a | D21: a | E21: a | F21: a | G21: a | I21: =IF(C21="P",INDEX(BDD!$A$2:$B$52,MATCH('19'!$B21,BDD!$A$2:$A$52,0),2),"") | J21: =IF(D21="P",INDEX(BDD!$A$2:$B$52,MATCH('19'!$B21,BDD!$A$2:$A$52,0),2),"") | K21: =IF(E21="P",INDEX(BDD!$A$2:$B$52,MATCH('19'!$B21,BDD!$A$2:$A$52,0),2),"") | L21: =IF(F21="P",INDEX(BDD!$A$2:$B$52,MATCH('19'!$B21,BDD!$A$2:$A$52,0),2),"") | M21: =IF(G21="P",INDEX(BDD!$A$2:$B$52,MATCH('19'!$B21,BDD!$A$2:$A$52,0),2),"")
B22: =BDD!A17 -> GAUTIER Y | C22: p | D22: p | E22: p | F22: p | G22: p | I22: =IF(C22="P",INDEX(BDD!$A$2:$B$52,MATCH('19'!$B22,BDD!$A$2:$A$52,0),2),"") -> NORMAL | J22: =IF(D22="P",INDEX(BDD!$A$2:$B$52,MATCH('19'!$B22,BDD!$A$2:$A$52,0),2),"") -> NORMAL | K22: =IF(E22="P",INDEX(BDD!$A$2:$B$52,MATCH('19'!$B22,BDD!$A$2:$A$52,0),2),"") -> NORMAL | L22: =IF(F22="P",INDEX(BDD!$A$2:$B$52,MATCH('19'!$B22,BDD!$A$2:$A$52,0),2),"") -> NORMAL | M22: =IF(G22="P",INDEX(BDD!$A$2:$B$52,MATCH('19'!$B22,BDD!$A$2:$A$52,0),2),"") -> NORMAL
B23: =BDD!A18 -> GOURDON F | C23: p | D23: p | E23: p | F23: p | G23: p | I23: =IF(C23="P",INDEX(BDD!$A$2:$B$52,MATCH('19'!$B23,BDD!$A$2:$A$52,0),2),"") -> NORMAL | J23: =IF(D23="P",INDEX(BDD!$A$2:$B$52,MATCH('19'!$B23,BDD!$A$2:$A$52,0),2),"") -> NORMAL | K23: =IF(E23="P",INDEX(BDD!$A$2:$B$52,MATCH('19'!$B23,BDD!$A$2:$A$52,0),2),"") -> NORMAL | L23: =IF(F23="P",INDEX(BDD!$A$2:$B$52,MATCH('19'!$B23,BDD!$A$2:$A$52,0),2),"") -> NORMAL | M23: =IF(G23="P",INDEX(BDD!$A$2:$B$52,MATCH('19'!$B23,BDD!$A$2:$A$52,0),2),"") -> NORMAL
B24: =BDD!A19 -> GORDOGA K | C24: p | D24: p | E24: p | F24: p | G24: p | I24: =IF(C24="P",INDEX(BDD!$A$2:$B$52,MATCH('19'!$B24,BDD!$A$2:$A$52,0),2),"") -> SANS PORC | J24: =IF(D24="P",INDEX(BDD!$A$2:$B$52,MATCH('19'!$B24,BDD!$A$2:$A$52,0),2),"") -> SANS PORC | K24: =IF(E24="P",INDEX(BDD!$A$2:$B$52,MATCH('19'!$B24,BDD!$A$2:$A$52,0),2),"") -> SANS PORC | L24: =IF(F24="P",INDEX(BDD!$A$2:$B$52,MATCH('19'!$B24,BDD!$A$2:$A$52,0),2),"") -> SANS PORC | M24: =IF(G24="P",INDEX(BDD!$A$2:$B$52,MATCH('19'!$B24,BDD!$A$2:$A$52,0),2),"") -> SANS PORC
B25: =BDD!A20 -> GRAVIERE JP | C25: p | D25: p | E25: p | F25: p | G25: p | I25: =IF(C25="P",INDEX(BDD!$A$2:$B$52,MATCH('19'!$B25,BDD!$A$2:$A$52,0),2),"") -> NORMAL | J25: =IF(D25="P",INDEX(BDD!$A$2:$B$52,MATCH('19'!$B25,BDD!$A$2:$A$52,0),2),"") -> NORMAL | K25: =IF(E25="P",INDEX(BDD!$A$2:$B$52,MATCH('19'!$B25,BDD!$A$2:$A$52,0),2),"") -> NORMAL | L25: =IF(F25="P",INDEX(BDD!$A$2:$B$52,MATCH('19'!$B25,BDD!$A$2:$A$52,0),2),"") -> NORMAL | M25: =IF(G25="P",INDEX(BDD!$A$2:$B$52,MATCH('19'!$B25,BDD!$A$2:$A$52,0),2),"") -> NORMAL
B26: =BDD!A21 -> JULLIOT Y | C26: p | D26: p | E26: p | F26: p | G26: p | I26: =IF(C26="P",INDEX(BDD!$A$2:$B$52,MATCH('19'!$B26,BDD!$A$2:$A$52,0),2),"") -> NORMAL | J26: =IF(D26="P",INDEX(BDD!$A$2:$B$52,MATCH('19'!$B26,BDD!$A$2:$A$52,0),2),"") -> NORMAL | K26: =IF(E26="P",INDEX(BDD!$A$2:$B$52,MATCH('19'!$B26,BDD!$A$2:$A$52,0),2),"") -> NORMAL | L26: =IF(F26="P",INDEX(BDD!$A$2:$B$52,MATCH('19'!$B26,BDD!$A$2:$A$52,0),2),"") -> NORMAL | M26: =IF(G26="P",INDEX(BDD!$A$2:$B$52,MATCH('19'!$B26,BDD!$A$2:$A$52,0),2),"") -> NORMAL
B27: =BDD!A22 -> LARBRE JM | C27: a | D27: a | E27: a | F27: a | G27: a | I27: =IF(C27="P",INDEX(BDD!$A$2:$B$52,MATCH('19'!$B27,BDD!$A$2:$A$52,0),2),"") | J27: =IF(D27="P",INDEX(BDD!$A$2:$B$52,MATCH('19'!$B27,BDD!$A$2:$A$52,0),2),"") | K27: =IF(E27="P",INDEX(BDD!$A$2:$B$52,MATCH('19'!$B27,BDD!$A$2:$A$52,0),2),"") | L27: =IF(F27="P",INDEX(BDD!$A$2:$B$52,MATCH('19'!$B27,BDD!$A$2:$A$52,0),2),"") | M27: =IF(G27="P",INDEX(BDD!$A$2:$B$52,MATCH('19'!$B27,BDD!$A$2:$A$52,0),2),"")
B28: =BDD!A23 -> LAPLACE F | C28: p | D28: p | E28: p | F28: p | G28: p | I28: =IF(C28="P",INDEX(BDD!$A$2:$B$52,MATCH('19'!$B28,BDD!$A$2:$A$52,0),2),"") -> NORMAL | J28: =IF(D28="P",INDEX(BDD!$A$2:$B$52,MATCH('19'!$B28,BDD!$A$2:$A$52,0),2),"") -> NORMAL | K28: =IF(E28="P",INDEX(BDD!$A$2:$B$52,MATCH('19'!$B28,BDD!$A$2:$A$52,0),2),"") -> NORMAL | L28: =IF(F28="P",INDEX(BDD!$A$2:$B$52,MATCH('19'!$B28,BDD!$A$2:$A$52,0),2),"") -> NORMAL | M28: =IF(G28="P",INDEX(BDD!$A$2:$B$52,MATCH('19'!$B28,BDD!$A$2:$A$52,0),2),"") -> NORMAL
B29: LAURENT N | C29: a | D29: a | E29: a | F29: p | G29: p
B30: =BDD!A24 -> LARA C | C30: p | D30: p | E30: p | F30: p | G30: p | I30: =IF(C30="P",INDEX(BDD!$A$2:$B$52,MATCH('19'!$B30,BDD!$A$2:$A$52,0),2),"") -> HYPOCALORIQUE | J30: =IF(D30="P",INDEX(BDD!$A$2:$B$52,MATCH('19'!$B30,BDD!$A$2:$A$52,0),2),"") -> HYPOCALORIQUE | K30: =IF(E30="P",INDEX(BDD!$A$2:$B$52,MATCH('19'!$B30,BDD!$A$2:$A$52,0),2),"") -> HYPOCALORIQUE | L30: =IF(F30="P",INDEX(BDD!$A$2:$B$52,MATCH('19'!$B30,BDD!$A$2:$A$52,0),2),"") -> HYPOCALORIQUE | M30: =IF(G30="P",INDEX(BDD!$A$2:$B$52,MATCH('19'!$B30,BDD!$A$2:$A$52,0),2),"") -> HYPOCALORIQUE
B31: =BDD!A26 -> LEBON Y | C31: p | D31: p | E31: p | F31: a | G31: a | I31: =IF(C31="P",INDEX(BDD!$A$2:$B$52,MATCH('19'!$B31,BDD!$A$2:$A$52,0),2),"") -> NORMAL | J31: =IF(D31="P",INDEX(BDD!$A$2:$B$52,MATCH('19'!$B31,BDD!$A$2:$A$52,0),2),"") -> NORMAL | K31: =IF(E31="P",INDEX(BDD!$A$2:$B$52,MATCH('19'!$B31,BDD!$A$2:$A$52,0),2),"") -> NORMAL | L31: =IF(F31="P",INDEX(BDD!$A$2:$B$52,MATCH('19'!$B31,BDD!$A$2:$A$52,0),2),"") | M31: =IF(G31="P",INDEX(BDD!$A$2:$B$52,MATCH('19'!$B31,BDD!$A$2:$A$52,0),2),"")
B32: =BDD!A27 -> LECAM A | C32: p | D32: p | E32: p | F32: p | G32: p | I32: =IF(C32="P",INDEX(BDD!$A$2:$B$52,MATCH('19'!$B32,BDD!$A$2:$A$52,0),2),"") -> NORMAL | J32: =IF(D32="P",INDEX(BDD!$A$2:$B$52,MATCH('19'!$B32,BDD!$A$2:$A$52,0),2),"") -> NORMAL | K32: =IF(E32="P",INDEX(BDD!$A$2:$B$52,MATCH('19'!$B32,BDD!$A$2:$A$52,0),2),"") -> NORMAL | L32: =IF(F32="P",INDEX(BDD!$A$2:$B$52,MATCH('19'!$B32,BDD!$A$2:$A$52,0),2),"") -> NORMAL | M32: =IF(G32="P",INDEX(BDD!$A$2:$B$52,MATCH('19'!$B32,BDD!$A$2:$A$52,0),2),"") -> NORMAL
B33: =BDD!A28 -> LEHON JL | C33: a | D33: a | E33: a | F33: a | G33: a | I33: =IF(C33="P",INDEX(BDD!$A$2:$B$52,MATCH('19'!$B33,BDD!$A$2:$A$52,0),2),"") | J33: =IF(D33="P",INDEX(BDD!$A$2:$B$52,MATCH('19'!$B33,BDD!$A$2:$A$52,0),2),"") | K33: =IF(E33="P",INDEX(BDD!$A$2:$B$52,MATCH('19'!$B33,BDD!$A$2:$A$52,0),2),"") | L33: =IF(F33="P",INDEX(BDD!$A$2:$B$52,MATCH('19'!$B33,BDD!$A$2:$A$52,0),2),"") | M33: =IF(G33="P",INDEX(BDD!$A$2:$B$52,MATCH('19'!$B33,BDD!$A$2:$A$52,0),2),"")
B34: =BDD!A29 -> MALERGUE MC | C34: p | D34: p | E34: p | F34: p | G34: p | I34: =IF(C34="P",INDEX(BDD!$A$2:$B$52,MATCH('19'!$B34,BDD!$A$2:$A$52,0),2),"") -> HYPOCALORIQUE | J34: =IF(D34="P",INDEX(BDD!$A$2:$B$52,MATCH('19'!$B34,BDD!$A$2:$A$52,0),2),"") -> HYPOCALORIQUE | K34: =IF(E34="P",INDEX(BDD!$A$2:$B$52,MATCH('19'!$B34,BDD!$A$2:$A$52,0),2),"") -> HYPOCALORIQUE | L34: =IF(F34="P",INDEX(BDD!$A$2:$B$52,MATCH('19'!$B34,BDD!$A$2:$A$52,0),2),"") -> HYPOCALORIQUE | M34: =IF(G34="P",INDEX(BDD!$A$2:$B$52,MATCH('19'!$B34,BDD!$A$2:$A$52,0),2),"") -> HYPOCALORIQUE
B35: =BDD!A30 -> MASSIAS JM | C35: p | D35: p | E35: p | F35: p | G35: p | I35: =IF(C35="P",INDEX(BDD!$A$2:$B$52,MATCH('19'!$B35,BDD!$A$2:$A$52,0),2),"") -> NORMAL | J35: =IF(D35="P",INDEX(BDD!$A$2:$B$52,MATCH('19'!$B35,BDD!$A$2:$A$52,0),2),"") -> NORMAL | K35: =IF(E35="P",INDEX(BDD!$A$2:$B$52,MATCH('19'!$B35,BDD!$A$2:$A$52,0),2),"") -> NORMAL | L35: =IF(F35="P",INDEX(BDD!$A$2:$B$52,MATCH('19'!$B35,BDD!$A$2:$A$52,0),2),"") -> NORMAL | M35: =IF(G35="P",INDEX(BDD!$A$2:$B$52,MATCH('19'!$B35,BDD!$A$2:$A$52,0),2),"") -> NORMAL
B36: =BDD!A31 -> MAURY E | C36: p | D36: p | E36: p | F36: p | G36: p | I36: =IF(C36="P",INDEX(BDD!$A$2:$B$52,MATCH('19'!$B36,BDD!$A$2:$A$52,0),2),"") -> NORMAL | J36: =IF(D36="P",INDEX(BDD!$A$2:$B$52,MATCH('19'!$B36,BDD!$A$2:$A$52,0),2),"") -> NORMAL | K36: =IF(E36="P",INDEX(BDD!$A$2:$B$52,MATCH('19'!$B36,BDD!$A$2:$A$52,0),2),"") -> NORMAL | L36: =IF(F36="P",INDEX(BDD!$A$2:$B$52,MATCH('19'!$B36,BDD!$A$2:$A$52,0),2),"") -> NORMAL | M36: =IF(G36="P",INDEX(BDD!$A$2:$B$52,MATCH('19'!$B36,BDD!$A$2:$A$52,0),2),"") -> NORMAL
B37: =BDD!A32 -> MICHELOU S | C37: p | D37: p | E37: p | F37: p | G37: p | I37: =IF(C37="P",INDEX(BDD!$A$2:$B$52,MATCH('19'!$B37,BDD!$A$2:$A$52,0),2),"") -> NORMAL | J37: =IF(D37="P",INDEX(BDD!$A$2:$B$52,MATCH('19'!$B37,BDD!$A$2:$A$52,0),2),"") -> NORMAL | K37: =IF(E37="P",INDEX(BDD!$A$2:$B$52,MATCH('19'!$B37,BDD!$A$2:$A$52,0),2),"") -> NORMAL | L37: =IF(F37="P",INDEX(BDD!$A$2:$B$52,MATCH('19'!$B37,BDD!$A$2:$A$52,0),2),"") -> NORMAL | M37: =IF(G37="P",INDEX(BDD!$A$2:$B$52,MATCH('19'!$B37,BDD!$A$2:$A$52,0),2),"") -> NORMAL
B38: =BDD!A33 -> ORLIANGE O | C38: p | D38: p | E38: p | F38: p | G38: p | I38: =IF(C38="P",INDEX(BDD!$A$2:$B$52,MATCH('19'!$B38,BDD!$A$2:$A$52,0),2),"") -> NORMAL | J38: =IF(D38="P",INDEX(BDD!$A$2:$B$52,MATCH('19'!$B38,BDD!$A$2:$A$52,0),2),"") -> NORMAL | K38: =IF(E38="P",INDEX(BDD!$A$2:$B$52,MATCH('19'!$B38,BDD!$A$2:$A$52,0),2),"") -> NORMAL | L38: =IF(F38="P",INDEX(BDD!$A$2:$B$52,MATCH('19'!$B38,BDD!$A$2:$A$52,0),2),"") -> NORMAL | M38: =IF(G38="P",INDEX(BDD!$A$2:$B$52,MATCH('19'!$B38,BDD!$A$2:$A$52,0),2),"") -> NORMAL
B39: =BDD!A34 -> PELISSIER J | C39: p | D39: p | E39: p | F39: p | G39: p | I39: =IF(C39="P",INDEX(BDD!$A$2:$B$52,MATCH('19'!$B39,BDD!$A$2:$A$52,0),2),"") -> NORMAL | J39: =IF(D39="P",INDEX(BDD!$A$2:$B$52,MATCH('19'!$B39,BDD!$A$2:$A$52,0),2),"") -> NORMAL | K39: =IF(E39="P",INDEX(BDD!$A$2:$B$52,MATCH('19'!$B39,BDD!$A$2:$A$52,0),2),"") -> NORMAL | L39: =IF(F39="P",INDEX(BDD!$A$2:$B$52,MATCH('19'!$B39,BDD!$A$2:$A$52,0),2),"") -> NORMAL | M39: =IF(G39="P",INDEX(BDD!$A$2:$B$52,MATCH('19'!$B39,BDD!$A$2:$A$52,0),2),"") -> NORMAL
B40: =BDD!A35 -> PHIALIP Ch | C40: p | D40: p | E40: p | F40: p | G40: p | I40: =IF(C40="P",INDEX(BDD!$A$2:$B$52,MATCH('19'!$B40,BDD!$A$2:$A$52,0),2),"") -> NORMAL | J40: =IF(D40="P",INDEX(BDD!$A$2:$B$52,MATCH('19'!$B40,BDD!$A$2:$A$52,0),2),"") -> NORMAL | K40: =IF(E40="P",INDEX(BDD!$A$2:$B$52,MATCH('19'!$B40,BDD!$A$2:$A$52,0),2),"") -> NORMAL | L40: =IF(F40="P",INDEX(BDD!$A$2:$B$52,MATCH('19'!$B40,BDD!$A$2:$A$52,0),2),"") -> NORMAL | M40: =IF(G40="P",INDEX(BDD!$A$2:$B$52,MATCH('19'!$B40,BDD!$A$2:$A$52,0),2),"") -> NORMAL
B41: =BDD!A36 -> PIGORREAU M | C41: a | D41: a | E41: a | F41: a | G41: a | I41: =IF(C41="P",INDEX(BDD!$A$2:$B$52,MATCH('19'!$B41,BDD!$A$2:$A$52,0),2),"") | J41: =IF(D41="P",INDEX(BDD!$A$2:$B$52,MATCH('19'!$B41,BDD!$A$2:$A$52,0),2),"") | K41: =IF(E41="P",INDEX(BDD!$A$2:$B$52,MATCH('19'!$B41,BDD!$A$2:$A$52,0),2),"") | L41: =IF(F41="P",INDEX(BDD!$A$2:$B$52,MATCH('19'!$B41,BDD!$A$2:$A$52,0),2),"") | M41: =IF(G41="P",INDEX(BDD!$A$2:$B$52,MATCH('19'!$B41,BDD!$A$2:$A$52,0),2),"")
B42: =BDD!A37 -> PONT D | C42: e | D42: p | E42: p | F42: p | G42: p | I42: =IF(C42="P",INDEX(BDD!$A$2:$B$52,MATCH('19'!$B42,BDD!$A$2:$A$52,0),2),"") | J42: =IF(D42="P",INDEX(BDD!$A$2:$B$52,MATCH('19'!$B42,BDD!$A$2:$A$52,0),2),"") -> HYPOCHOLESTEROMIANT & HYPOCALORIQUE | K42: =IF(E42="P",INDEX(BDD!$A$2:$B$52,MATCH('19'!$B42,BDD!$A$2:$A$52,0),2),"") -> HYPOCHOLESTEROMIANT & HYPOCALORIQUE | L42: =IF(F42="P",INDEX(BDD!$A$2:$B$52,MATCH('19'!$B42,BDD!$A$2:$A$52,0),2),"") -> HYPOCHOLESTEROMIANT & HYPOCALORIQUE | M42: =IF(G42="P",INDEX(BDD!$A$2:$B$52,MATCH('19'!$B42,BDD!$A$2:$A$52,0),2),"") -> HYPOCHOLESTEROMIANT & HYPOCALORIQUE
... B50: =BDD!A45 -> VERGNY fr | C50: p | D50: p | E50: p | F50: p | G50: p | I50: =IF(C50="P",INDEX(BDD!$A$2:$B$52,MATCH('19'!$B50,BDD!$A$2:$A$52,0),2),"") -> NORMAL | J50: =IF(D50="P",INDEX(BDD!$A$2:$B$52,MATCH('19'!$B50,BDD!$A$2:$A$52,0),2),"") -> NORMAL | K50: =IF(E50="P",INDEX(BDD!$A$2:$B$52,MATCH('19'!$B50,BDD!$A$2:$A$52,0),2),"") -> NORMAL | L50: =IF(F50="P",INDEX(BDD!$A$2:$B$52,MATCH('19'!$B50,BDD!$A$2:$A$52,0),2),"") -> NORMAL | M50: =IF(G50="P",INDEX(BDD!$A$2:$B$52,MATCH('19'!$B50,BDD!$A$2:$A$52,0),2),"") -> NORMAL
I51: =IF(C51="P",INDEX(BDD!$A$2:$B$52,MATCH('19'!$B51,BDD!$A$2:$A$52,0),2),"") | J51: =IF(D51="P",INDEX(BDD!$A$2:$B$52,MATCH('19'!$B51,BDD!$A$2:$A$52,0),2),"") | K51: =IF(E51="P",INDEX(BDD!$A$2:$B$52,MATCH('19'!$B51,BDD!$A$2:$A$52,0),2),"") | L51: =IF(F51="P",INDEX(BDD!$A$2:$B$52,MATCH('19'!$B51,BDD!$A$2:$A$52,0),2),"") | M51: =IF(G51="P",INDEX(BDD!$A$2:$B$52,MATCH('19'!$B51,BDD!$A$2:$A$52,0),2),"")
B52: =BDD!A47 -> STAGIAIRE | I52: =IF(C52="P",INDEX(BDD!$A$2:$B$52,MATCH('19'!$B52,BDD!$A$2:$A$52,0),2),"") | J52: =IF(D52="P",INDEX(BDD!$A$2:$B$52,MATCH('19'!$B52,BDD!$A$2:$A$52,0),2),"") | K52: =IF(E52="P",INDEX(BDD!$A$2:$B$52,MATCH('19'!$B52,BDD!$A$2:$A$52,0),2),"") | L52: =IF(F52="P",INDEX(BDD!$A$2:$B$52,MATCH('19'!$B52,BDD!$A$2:$A$52,0),2),"") | M52: =IF(G52="P",INDEX(BDD!$A$2:$B$52,MATCH('19'!$B52,BDD!$A$2:$A$52,0),2),"")
C54: Effectifs cuisine
C55: =MID(CELL("nomfichier",$A$1),FIND("]",CELL("nomfichier",$A$1))+1,50) -> 19
A56: Total J/S | C56: =C57 -> 42499 | D56: =D57 -> 42500 | E56: =E57 -> 42501 | F56: =F57 -> 42502 | G56: =G57 -> 42503
C57: =7*C55+DATE(B2,1,3)-WEEKDAY(DATE(B2,1,3))-5 -> 42499 | D57: =C57+1 -> 42500 | E57: =D57+1 -> 42501 | F57: =E57+1 -> 42502 | G57: =F57+1 -> 42503
A58: =SUM(C58:G58) -> 117 | B58: NORMAL | C58: =IF(COUNTIF(I$6:I$52,$B58)>0,COUNTIF(I$6:I$52,$B58),"") -> 24 | D58: =IF(COUNTIF(J$6:J$52,$B58)>0,COUNTIF(J$6:J$52,$B58),"") -> 23 | E58: =IF(COUNTIF(K$6:K$52,$B58)>0,COUNTIF(K$6:K$52,$B58),"") -> 24 | F58: =IF(COUNTIF(L$6:L$52,$B58)>0,COUNTIF(L$6:L$52,$B58),"") -> 23 | G58: =IF(COUNTIF(M$6:M$52,$B58)>0,COUNTIF(M$6:M$52,$B58),"") -> 23
A59: =SUM(C59:G59) -> 5 | B59: HYPOCHOLESTEROMIANT | C59: =IF(COUNTIF(I$6:I$52,$B59)>0,COUNTIF(I$6:I$52,$B59),"") -> 1 | D59: =IF(COUNTIF(J$6:J$52,$B59)>0,COUNTIF(J$6:J$52,$B59),"") -> 1 | E59: =IF(COUNTIF(K$6:K$52,$B59)>0,COUNTIF(K$6:K$52,$B59),"") -> 1 | F59: =IF(COUNTIF(L$6:L$52,$B59)>0,COUNTIF(L$6:L$52,$B59),"") -> 1 | G59: =IF(COUNTIF(M$6:M$52,$B59)>0,COUNTIF(M$6:M$52,$B59),"") -> 1 | I59: =COUNTIF($I$6:$I$52,$B59) -> 1
A60: =SUM(C60:G60) -> 5 | B60: HYPOCHOLESTEROMIANT SANS PORC | C60: =IF(COUNTIF(I$6:I$52,$B60)>0,COUNTIF(I$6:I$52,$B60),"") -> 1 | D60: =IF(COUNTIF(J$6:J$52,$B60)>0,COUNTIF(J$6:J$52,$B60),"") -> 1 | E60: =IF(COUNTIF(K$6:K$52,$B60)>0,COUNTIF(K$6:K$52,$B60),"") -> 1 | F60: =IF(COUNTIF(L$6:L$52,$B60)>0,COUNTIF(L$6:L$52,$B60),"") -> 1 | G60: =IF(COUNTIF(M$6:M$52,$B60)>0,COUNTIF(M$6:M$52,$B60),"") -> 1 | I60: =COUNTIF($I$6:$I$52,$B60) -> 1
A61: =SUM(C61:G61) -> 9 | B61: HYPOCHOLESTEROMIANT & HYPOCALORIQUE | C61: =IF(COUNTIF(I$6:I$52,$B61)>0,COUNTIF(I$6:I$52,$B61),"") -> 1 | D61: =IF(COUNTIF(J$6:J$52,$B61)>0,COUNTIF(J$6:J$52,$B61),"") -> 2 | E61: =IF(COUNTIF(K$6:K$52,$B61)>0,COUNTIF(K$6:K$52,$B61),"") -> 2 | F61: =IF(COUNTIF(L$6:L$52,$B61)>0,COUNTIF(L$6:L$52,$B61),"") -> 2 | G61: =IF(COUNTIF(M$6:M$52,$B61)>0,COUNTIF(M$6:M$52,$B61),"") -> 2 | I61: =COUNTIF($I$6:$I$52,$B61) -> 1
A62: =SUM(C62:G62) -> 15 | B62: HYPOCALORIQUE | C62: =IF(COUNTIF(I$6:I$52,$B62)>0,COUNTIF(I$6:I$52,$B62),"") -> 3 | D62: =IF(COUNTIF(J$6:J$52,$B62)>0,COUNTIF(J$6:J$52,$B62),"") -> 3 | E62: =IF(COUNTIF(K$6:K$52,$B62)>0,COUNTIF(K$6:K$52,$B62),"") -> 3 | F62: =IF(COUNTIF(L$6:L$52,$B62)>0,COUNTIF(L$6:L$52,$B62),"") -> 3 | G62: =IF(COUNTIF(M$6:M$52,$B62)>0,COUNTIF(M$6:M$52,$B62),"") -> 3 | I62: =COUNTIF($I$6:$I$52,$B62) -> 3
A63: =SUM(C63:G63) -> 5 | B63: HYPO URICEMIANT | C63: =IF(COUNTIF(I$6:I$52,$B63)>0,COUNTIF(I$6:I$52,$B63),"") -> 1 | D63: =IF(COUNTIF(J$6:J$52,$B63)>0,COUNTIF(J$6:J$52,$B63),"") -> 1 | E63: =IF(COUNTIF(K$6:K$52,$B63)>0,COUNTIF(K$6:K$52,$B63),"") -> 1 | F63: =IF(COUNTIF(L$6:L$52,$B63)>0,COUNTIF(L$6:L$52,$B63),"") -> 1 | G63: =IF(COUNTIF(M$6:M$52,$B63)>0,COUNTIF(M$6:M$52,$B63),"") -> 1 | I63: =COUNTIF($I$6:$I$52,$B63) -> 1
A64: =SUM(C64:G64) -> 15 | B64: SANS PORC | C64: =IF(COUNTIF(I$6:I$52,$B64)>0,COUNTIF(I$6:I$52,$B64),"") -> 3 | D64: =IF(COUNTIF(J$6:J$52,$B64)>0,COUNTIF(J$6:J$52,$B64),"") -> 3 | E64: =IF(COUNTIF(K$6:K$52,$B64)>0,COUNTIF(K$6:K$52,$B64),"") -> 3 | F64: =IF(COUNTIF(L$6:L$52,$B64)>0,COUNTIF(L$6:L$52,$B64),"") -> 3 | G64: =IF(COUNTIF(M$6:M$52,$B64)>0,COUNTIF(M$6:M$52,$B64),"") -> 3 | I64: =COUNTIF($I$6:$I$52,$B64) -> 3
A65: =SUM(C65:G65) -> 0 | C65: =IF(COUNTIF(I$6:I$52,$B65)>0,COUNTIF(I$6:I$52,$B65),"") | D65: =IF(COUNTIF(J$6:J$52,$B65)>0,COUNTIF(J$6:J$52,$B65),"") | E65: =IF(COUNTIF(K$6:K$52,$B65)>0,COUNTIF(K$6:K$52,$B65),"") | F65: =IF(COUNTIF(L$6:L$52,$B65)>0,COUNTIF(L$6:L$52,$B65),"") | G65: =IF(COUNTIF(M$6:M$52,$B65)>0,COUNTIF(M$6:M$52,$B65),"") | I65: =COUNTIF($I$6:$I$52,$B65) -> 0
A67: =SUM(C67:G67) -> 0 | B67: Repas Froid
A68: =SUM(C68:G68) -> 0 | B68: Malemort / Tulle
A70: =SUM(C70:G70) -> 5 | B70: Encadrement | C70: 1 | D70: 1 | E70: 1 | F70: 1 | G70: 1
A71: =SUM(C71:G71) -> 0 | B71: Mr CONTINSUZAT J.
A72: =SUM(C72:G72) -> 0 | B72: Mme CHEDOZAUD F. | E72: 0
A73: =SUM(C73:G73) -> 1 | B73: Mme SALOU S. | E73: 1
A74: =SUM(C74:G74) -> 0 | B74: Mr CHASSAING N.
A75: =SUM(C75:G75) -> 0 | B75: Invités
A76: =SUM(C76:G76) -> 0 | B76: Formateurs
A78: =SUM(C78:G78) -> 1 | B78: Mr CHAVEROCHE | G78: 1
A79: =SUM(C79:G79) -> 5 | B79: Mr RIMOUX | C79: 1 | D79: 1 | E79: 1 | F79: 1 | G79: 1
A80: =SUM(C80:G80) -> 2 | B80: Mr VIALLEMONTEIL | C80: 0 | D80: 1 | E80: 1 | G80: 0
A81: =SUM(C81:G81) -> 0 | B81: AUTRES TICKETS
A82: =SUM(C82:G82) -> 8 | B82: TOTAL TICKET | C82: =SUM(C78:C81) -> 1 | D82: =SUM(D78:D81) -> 2 | E82: =SUM(E78:E81) -> 2 | F82: =SUM(F78:F81) -> 1 | G82: =SUM(G78:G81) -> 2
A84: =SUM(C84:G84) -> 1 | B84: Repas Extérieur | C84: =COUNTIF(C6:C52,"E") -> 1 | D84: =COUNTIF(D6:D52,"E") -> 0 | E84: =COUNTIF(E6:E52,"E") -> 0 | F84: =COUNTIF(F6:F52,"E") -> 0 | G84: =COUNTIF(G6:G52,"E") -> 0
A86: =SUM(C86:G86) -> 185 | B86: Total effectif jour | C86: =SUM(C58:C81) -> 36 | D86: =SUM(D58:D81) -> 37 | E86: =SUM(E58:E81) -> 39 | F86: =SUM(F58:F81) -> 36 | G86: =SUM(G58:G81) -> 37
A87: =SUM(C87:G87) -> 185 | B87: Total effetif J-2 (facturation) | C87: 37 | D87: 37 | E87: 39 | F87: 36 | G87: 36
A88: =SUM(C88:G88) -> 197 | B88: Total effectif J-2 (repas servis) | C88: 38 | D88: 40 | E88: 42 | F88: 38 | G88: 39
C90: Semaine : | E90: =WEEKNUM(C57,21)+1 -> 20
A91: =SUM(C91:G91) -> 210 | B91: Total effectif S+1 (commandes) | C91: 45 | D91: 45 | E91: 46 | F91: 46 | G91: 28
C93: Semaine : | E93: =WEEKNUM(C57,21)+2 -> 21
A94: =SUM(C94:G94) -> 0 | B94: Total effectif S+2 (commandes)

Sheet 20
A1: P : Présent
A2: A : Absent | B2: 2016 | C2: Semaine
A3: E : Repas Ext | B3: =TODAY() -> 42564 | C3: =MID(CELL("nomfichier",$A$1),FIND("]",CELL("nomfichier",$A$1))+1,50) -> 20
C4: =C5 -> 42506 | D4: =D5 -> 42507 | E4: =E5 -> 42508 | F4: =F5 -> 42509 | G4: =G5 -> 42510
B5: NOMS | C5: =7*C3+DATE(B2,1,3)-WEEKDAY(DATE(B2,1,3))-5 -> 42506 | D5: =C5+1 -> 42507 | E5: =D5+1 -> 42508 | F5: =E5+1 -> 42509 | G5: =F5+1 -> 42510
B6: =BDD!A2 -> AIT SAID A | C6: a | D6: p | E6: p | F6: p | G6: p | I6: =IF(C6="P",INDEX(BDD!$A$2:$B$52,MATCH('20'!$B6,BDD!$A$2:$A$52,0),2),"") | J6: =IF(D6="P",INDEX(BDD!$A$2:$B$52,MATCH('20'!$B6,BDD!$A$2:$A$52,0),2),"") -> SANS PORC | K6: =IF(E6="P",INDEX(BDD!$A$2:$B$52,MATCH('20'!$B6,BDD!$A$2:$A$52,0),2),"") -> SANS PORC | L6: =IF(F6="P",INDEX(BDD!$A$2:$B$52,MATCH('20'!$B6,BDD!$A$2:$A$52,0),2),"") -> SANS PORC | M6: =IF(G6="P",INDEX(BDD!$A$2:$B$52,MATCH('20'!$B6,BDD!$A$2:$A$52,0),2),"") -> SANS PORC
B7: =BDD!A3 -> ALVES F | C7: a | D7: p | E7: p | F7: p | G7: P | I7: =IF(C7="P",INDEX(BDD!$A$2:$B$52,MATCH('20'!$B7,BDD!$A$2:$A$52,0),2),"") | J7: =IF(D7="P",INDEX(BDD!$A$2:$B$52,MATCH('20'!$B7,BDD!$A$2:$A$52,0),2),"") -> NORMAL | K7: =IF(E7="P",INDEX(BDD!$A$2:$B$52,MATCH('20'!$B7,BDD!$A$2:$A$52,0),2),"") -> NORMAL | L7: =IF(F7="P",INDEX(BDD!$A$2:$B$52,MATCH('20'!$B7,BDD!$A$2:$A$52,0),2),"") -> NORMAL | M7: =IF(G7="P",INDEX(BDD!$A$2:$B$52,MATCH('20'!$B7,BDD!$A$2:$A$52,0),2),"") -> NORMAL
B8: =BDD!A4 -> AUBASPEYRAS Y | C8: a | D8: p | E8: p | F8: p | G8: p | I8: =IF(C8="P",INDEX(BDD!$A$2:$B$52,MATCH('20'!$B8,BDD!$A$2:$A$52,0),2),"") | J8: =IF(D8="P",INDEX(BDD!$A$2:$B$52,MATCH('20'!$B8,BDD!$A$2:$A$52,0),2),"") -> NORMAL | K8: =IF(E8="P",INDEX(BDD!$A$2:$B$52,MATCH('20'!$B8,BDD!$A$2:$A$52,0),2),"") -> NORMAL | L8: =IF(F8="P",INDEX(BDD!$A$2:$B$52,MATCH('20'!$B8,BDD!$A$2:$A$52,0),2),"") -> NORMAL | M8: =IF(G8="P",INDEX(BDD!$A$2:$B$52,MATCH('20'!$B8,BDD!$A$2:$A$52,0),2),"") -> NORMAL
B9: =BDD!A5 -> AUDY M | C9: a | D9: p | E9: p | F9: p | G9: a | I9: =IF(C9="P",INDEX(BDD!$A$2:$B$52,MATCH('20'!$B9,BDD!$A$2:$A$52,0),2),"") | J9: =IF(D9="P",INDEX(BDD!$A$2:$B$52,MATCH('20'!$B9,BDD!$A$2:$A$52,0),2),"") -> NORMAL | K9: =IF(E9="P",INDEX(BDD!$A$2:$B$52,MATCH('20'!$B9,BDD!$A$2:$A$52,0),2),"") -> NORMAL | L9: =IF(F9="P",INDEX(BDD!$A$2:$B$52,MATCH('20'!$B9,BDD!$A$2:$A$52,0),2),"") -> NORMAL | M9: =IF(G9="P",INDEX(BDD!$A$2:$B$52,MATCH('20'!$B9,BDD!$A$2:$A$52,0),2),"")
B10: =BDD!A6 -> BRAUD J | C10: a | D10: p | E10: p | F10: p | G10: p | I10: =IF(C10="P",INDEX(BDD!$A$2:$B$52,MATCH('20'!$B10,BDD!$A$2:$A$52,0),2),"") | J10: =IF(D10="P",INDEX(BDD!$A$2:$B$52,MATCH('20'!$B10,BDD!$A$2:$A$52,0),2),"") -> NORMAL | K10: =IF(E10="P",INDEX(BDD!$A$2:$B$52,MATCH('20'!$B10,BDD!$A$2:$A$52,0),2),"") -> NORMAL | L10: =IF(F10="P",INDEX(BDD!$A$2:$B$52,MATCH('20'!$B10,BDD!$A$2:$A$52,0),2),"") -> NORMAL | M10: =IF(G10="P",INDEX(BDD!$A$2:$B$52,MATCH('20'!$B10,BDD!$A$2:$A$52,0),2),"") -> NORMAL
B11: =BDD!A7 -> BAZETOUX V | C11: a | D11: p | E11: p | F11: p | G11: a | I11: =IF(C11="P",INDEX(BDD!$A$2:$B$52,MATCH('20'!$B11,BDD!$A$2:$A$52,0),2),"") | J11: =IF(D11="P",INDEX(BDD!$A$2:$B$52,MATCH('20'!$B11,BDD!$A$2:$A$52,0),2),"") -> NORMAL | K11: =IF(E11="P",INDEX(BDD!$A$2:$B$52,MATCH('20'!$B11,BDD!$A$2:$A$52,0),2),"") -> NORMAL | L11: =IF(F11="P",INDEX(BDD!$A$2:$B$52,MATCH('20'!$B11,BDD!$A$2:$A$52,0),2),"") -> NORMAL | M11: =IF(G11="P",INDEX(BDD!$A$2:$B$52,MATCH('20'!$B11,BDD!$A$2:$A$52,0),2),"")
B12: =BDD!A8 -> BOKALO E | C12: a | D12: a | E12: a | F12: a | G12: a | I12: =IF(C12="P",INDEX(BDD!$A$2:$B$52,MATCH('20'!$B12,BDD!$A$2:$A$52,0),2),"") | J12: =IF(D12="P",INDEX(BDD!$A$2:$B$52,MATCH('20'!$B12,BDD!$A$2:$A$52,0),2),"") | K12: =IF(E12="P",INDEX(BDD!$A$2:$B$52,MATCH('20'!$B12,BDD!$A$2:$A$52,0),2),"") | L12: =IF(F12="P",INDEX(BDD!$A$2:$B$52,MATCH('20'!$B12,BDD!$A$2:$A$52,0),2),"") | M12: =IF(G12="P",INDEX(BDD!$A$2:$B$52,MATCH('20'!$B12,BDD!$A$2:$A$52,0),2),"")
B13: =BDD!A9 -> BRIOUAL Z | C13: a | D13: p | E13: p | F13: p | G13: a | I13: =IF(C13="P",INDEX(BDD!$A$2:$B$52,MATCH('20'!$B13,BDD!$A$2:$A$52,0),2),"") | J13: =IF(D13="P",INDEX(BDD!$A$2:$B$52,MATCH('20'!$B13,BDD!$A$2:$A$52,0),2),"") -> HYPOCHOLESTEROMIANT SANS PORC | K13: =IF(E13="P",INDEX(BDD!$A$2:$B$52,MATCH('20'!$B13,BDD!$A$2:$A$52,0),2),"") -> HYPOCHOLESTEROMIANT SANS PORC | L13: =IF(F13="P",INDEX(BDD!$A$2:$B$52,MATCH('20'!$B13,BDD!$A$2:$A$52,0),2),"") -> HYPOCHOLESTEROMIANT SANS PORC | M13: =IF(G13="P",INDEX(BDD!$A$2:$B$52,MATCH('20'!$B13,BDD!$A$2:$A$52,0),2),"")
B14: =BDD!A10 -> CERISUELA S | C14: a | D14: p | E14: p | F14: p | G14: a | I14: =IF(C14="P",INDEX(BDD!$A$2:$B$52,MATCH('20'!$B14,BDD!$A$2:$A$52,0),2),"") | J14: =IF(D14="P",INDEX(BDD!$A$2:$B$52,MATCH('20'!$B14,BDD!$A$2:$A$52,0),2),"") -> HYPOCALORIQUE | K14: =IF(E14="P",INDEX(BDD!$A$2:$B$52,MATCH('20'!$B14,BDD!$A$2:$A$52,0),2),"") -> HYPOCALORIQUE | L14: =IF(F14="P",INDEX(BDD!$A$2:$B$52,MATCH('20'!$B14,BDD!$A$2:$A$52,0),2),"") -> HYPOCALORIQUE | M14: =IF(G14="P",INDEX(BDD!$A$2:$B$52,MATCH('20'!$B14,BDD!$A$2:$A$52,0),2),"")
B15: =BDD!A11 -> CHANUT B | C15: a | D15: p | E15: p | F15: p | G15: p | I15: =IF(C15="P",INDEX(BDD!$A$2:$B$52,MATCH('20'!$B15,BDD!$A$2:$A$52,0),2),"") | J15: =IF(D15="P",INDEX(BDD!$A$2:$B$52,MATCH('20'!$B15,BDD!$A$2:$A$52,0),2),"") -> HYPOCHOLESTEROMIANT | K15: =IF(E15="P",INDEX(BDD!$A$2:$B$52,MATCH('20'!$B15,BDD!$A$2:$A$52,0),2),"") -> HYPOCHOLESTEROMIANT | L15: =IF(F15="P",INDEX(BDD!$A$2:$B$52,MATCH('20'!$B15,BDD!$A$2:$A$52,0),2),"") -> HYPOCHOLESTEROMIANT | M15: =IF(G15="P",INDEX(BDD!$A$2:$B$52,MATCH('20'!$B15,BDD!$A$2:$A$52,0),2),"") -> HYPOCHOLESTEROMIANT
B16: =BDD!A12 -> CHATTI A | C16: a | D16: p | E16: p | F16: p | G16: a | I16: =IF(C16="P",INDEX(BDD!$A$2:$B$52,MATCH('20'!$B16,BDD!$A$2:$A$52,0),2),"") | J16: =IF(D16="P",INDEX(BDD!$A$2:$B$52,MATCH('20'!$B16,BDD!$A$2:$A$52,0),2),"") -> SANS PORC | K16: =IF(E16="P",INDEX(BDD!$A$2:$B$52,MATCH('20'!$B16,BDD!$A$2:$A$52,0),2),"") -> SANS PORC | L16: =IF(F16="P",INDEX(BDD!$A$2:$B$52,MATCH('20'!$B16,BDD!$A$2:$A$52,0),2),"") -> SANS PORC | M16: =IF(G16="P",INDEX(BDD!$A$2:$B$52,MATCH('20'!$B16,BDD!$A$2:$A$52,0),2),"")
B17: =BDD!A13 -> DELZOR N | C17: a | D17: p | E17: p | F17: p | G17: p | I17: =IF(C17="P",INDEX(BDD!$A$2:$B$52,MATCH('20'!$B17,BDD!$A$2:$A$52,0),2),"") | J17: =IF(D17="P",INDEX(BDD!$A$2:$B$52,MATCH('20'!$B17,BDD!$A$2:$A$52,0),2),"") -> HYPO URICEMIANT | K17: =IF(E17="P",INDEX(BDD!$A$2:$B$52,MATCH('20'!$B17,BDD!$A$2:$A$52,0),2),"") -> HYPO URICEMIANT | L17: =IF(F17="P",INDEX(BDD!$A$2:$B$52,MATCH('20'!$B17,BDD!$A$2:$A$52,0),2),"") -> HYPO URICEMIANT | M17: =IF(G17="P",INDEX(BDD!$A$2:$B$52,MATCH('20'!$B17,BDD!$A$2:$A$52,0),2),"") -> HYPO URICEMIANT
... B19: =BDD!A15 -> DENIS P | C19: a | D19: p | E19: p | F19: p | G19: p | I19: =IF(C19="P",INDEX(BDD!$A$2:$B$52,MATCH('20'!$B19,BDD!$A$2:$A$52,0),2),"") | J19: =IF(D19="P",INDEX(BDD!$A$2:$B$52,MATCH('20'!$B19,BDD!$A$2:$A$52,0),2),"") -> NORMAL | K19: =IF(E19="P",INDEX(BDD!$A$2:$B$52,MATCH('20'!$B19,BDD!$A$2:$A$52,0),2),"") -> NORMAL | L19: =IF(F19="P",INDEX(BDD!$A$2:$B$52,MATCH('20'!$B19,BDD!$A$2:$A$52,0),2),"") -> NORMAL | M19: =IF(G19="P",INDEX(BDD!$A$2:$B$52,MATCH('20'!$B19,BDD!$A$2:$A$52,0),2),"") -> NORMAL
B20: =BDD!#REF! -> #REF! | C20: a | D20: p | E20: p | F20: p | G20: p | I20: =IF(C20="P",INDEX(BDD!$A$2:$B$52,MATCH('20'!$B20,BDD!$A$2:$A$52,0),2),"") | J20: =IF(D20="P",INDEX(BDD!$A$2:$B$52,MATCH('20'!$B20,BDD!$A$2:$A$52,0),2),"") -> #REF! | K20: =IF(E20="P",INDEX(BDD!$A$2:$B$52,MATCH('20'!$B20,BDD!$A$2:$A$52,0),2),"") -> #REF! | L20: =IF(F20="P",INDEX(BDD!$A$2:$B$52,MATCH('20'!$B20,BDD!$A$2:$A$52,0),2),"") -> #REF! | M20: =IF(G20="P",INDEX(BDD!$A$2:$B$52,MATCH('20'!$B20,BDD!$A$2:$A$52,0),2),"") -> #REF!
B21: =BDD!A16 -> GAUTHIER JF | C21: a | D21: a | E21: p | F21: p | G21: a | I21: =IF(C21="P",INDEX(BDD!$A$2:$B$52,MATCH('20'!$B21,BDD!$A$2:$A$52,0),2),"") | J21: =IF(D21="P",INDEX(BDD!$A$2:$B$52,MATCH('20'!$B21,BDD!$A$2:$A$52,0),2),"") | K21: =IF(E21="P",INDEX(BDD!$A$2:$B$52,MATCH('20'!$B21,BDD!$A$2:$A$52,0),2),"") -> NORMAL | L21: =IF(F21="P",INDEX(BDD!$A$2:$B$52,MATCH('20'!$B21,BDD!$A$2:$A$52,0),2),"") -> NORMAL | M21: =IF(G21="P",INDEX(BDD!$A$2:$B$52,MATCH('20'!$B21,BDD!$A$2:$A$52,0),2),"")
B22: =BDD!A17 -> GAUTIER Y | C22: a | D22: p | E22: p | F22: p | G22: a | I22: =IF(C22="P",INDEX(BDD!$A$2:$B$52,MATCH('20'!$B22,BDD!$A$2:$A$52,0),2),"") | J22: =IF(D22="P",INDEX(BDD!$A$2:$B$52,MATCH('20'!$B22,BDD!$A$2:$A$52,0),2),"") -> NORMAL | K22: =IF(E22="P",INDEX(BDD!$A$2:$B$52,MATCH('20'!$B22,BDD!$A$2:$A$52,0),2),"") -> NORMAL | L22: =IF(F22="P",INDEX(BDD!$A$2:$B$52,MATCH('20'!$B22,BDD!$A$2:$A$52,0),2),"") -> NORMAL | M22: =IF(G22="P",INDEX(BDD!$A$2:$B$52,MATCH('20'!$B22,BDD!$A$2:$A$52,0),2),"")
B23: =BDD!A18 -> GOURDON F | C23: a | D23: a | E23: a | F23: a | G23: a | I23: =IF(C23="P",INDEX(BDD!$A$2:$B$52,MATCH('20'!$B23,BDD!$A$2:$A$52,0),2),"") | J23: =IF(D23="P",INDEX(BDD!$A$2:$B$52,MATCH('20'!$B23,BDD!$A$2:$A$52,0),2),"") | K23: =IF(E23="P",INDEX(BDD!$A$2:$B$52,MATCH('20'!$B23,BDD!$A$2:$A$52,0),2),"") | L23: =IF(F23="P",INDEX(BDD!$A$2:$B$52,MATCH('20'!$B23,BDD!$A$2:$A$52,0),2),"") | M23: =IF(G23="P",INDEX(BDD!$A$2:$B$52,MATCH('20'!$B23,BDD!$A$2:$A$52,0),2),"")
B24: =BDD!A19 -> GORDOGA K | C24: a | D24: p | E24: p | F24: p | G24: p | I24: =IF(C24="P",INDEX(BDD!$A$2:$B$52,MATCH('20'!$B24,BDD!$A$2:$A$52,0),2),"") | J24: =IF(D24="P",INDEX(BDD!$A$2:$B$52,MATCH('20'!$B24,BDD!$A$2:$A$52,0),2),"") -> SANS PORC | K24: =IF(E24="P",INDEX(BDD!$A$2:$B$52,MATCH('20'!$B24,BDD!$A$2:$A$52,0),2),"") -> SANS PORC | L24: =IF(F24="P",INDEX(BDD!$A$2:$B$52,MATCH('20'!$B24,BDD!$A$2:$A$52,0),2),"") -> SANS PORC | M24: =IF(G24="P",INDEX(BDD!$A$2:$B$52,MATCH('20'!$B24,BDD!$A$2:$A$52,0),2),"") -> SANS PORC
B25: =BDD!A20 -> GRAVIERE JP | C25: a | D25: p | E25: p | F25: p | G25: a | I25: =IF(C25="P",INDEX(BDD!$A$2:$B$52,MATCH('20'!$B25,BDD!$A$2:$A$52,0),2),"") | J25: =IF(D25="P",INDEX(BDD!$A$2:$B$52,MATCH('20'!$B25,BDD!$A$2:$A$52,0),2),"") -> NORMAL | K25: =IF(E25="P",INDEX(BDD!$A$2:$B$52,MATCH('20'!$B25,BDD!$A$2:$A$52,0),2),"") -> NORMAL | L25: =IF(F25="P",INDEX(BDD!$A$2:$B$52,MATCH('20'!$B25,BDD!$A$2:$A$52,0),2),"") -> NORMAL | M25: =IF(G25="P",INDEX(BDD!$A$2:$B$52,MATCH('20'!$B25,BDD!$A$2:$A$52,0),2),"")
B26: =BDD!A21 -> JULLIOT Y | C26: a | D26: a | E26: a | F26: a | G26: a | I26: =IF(C26="P",INDEX(BDD!$A$2:$B$52,MATCH('20'!$B26,BDD!$A$2:$A$52,0),2),"") | J26: =IF(D26="P",INDEX(BDD!$A$2:$B$52,MATCH('20'!$B26,BDD!$A$2:$A$52,0),2),"") | K26: =IF(E26="P",INDEX(BDD!$A$2:$B$52,MATCH('20'!$B26,BDD!$A$2:$A$52,0),2),"") | L26: =IF(F26="P",INDEX(BDD!$A$2:$B$52,MATCH('20'!$B26,BDD!$A$2:$A$52,0),2),"") | M26: =IF(G26="P",INDEX(BDD!$A$2:$B$52,MATCH('20'!$B26,BDD!$A$2:$A$52,0),2),"")
B27: =BDD!A22 -> LARBRE JM | C27: a | D27: p | E27: p | F27: p | G27: a | I27: =IF(C27="P",INDEX(BDD!$A$2:$B$52,MATCH('20'!$B27,BDD!$A$2:$A$52,0),2),"") | J27: =IF(D27="P",INDEX(BDD!$A$2:$B$52,MATCH('20'!$B27,BDD!$A$2:$A$52,0),2),"") -> NORMAL | K27: =IF(E27="P",INDEX(BDD!$A$2:$B$52,MATCH('20'!$B27,BDD!$A$2:$A$52,0),2),"") -> NORMAL | L27: =IF(F27="P",INDEX(BDD!$A$2:$B$52,MATCH('20'!$B27,BDD!$A$2:$A$52,0),2),"") -> NORMAL | M27: =IF(G27="P",INDEX(BDD!$A$2:$B$52,MATCH('20'!$B27,BDD!$A$2:$A$52,0),2),"")
B28: =BDD!A23 -> LAPLACE F | C28: a | D28: p | E28: p | F28: p | G28: p | I28: =IF(C28="P",INDEX(BDD!$A$2:$B$52,MATCH('20'!$B28,BDD!$A$2:$A$52,0),2),"") | J28: =IF(D28="P",INDEX(BDD!$A$2:$B$52,MATCH('20'!$B28,BDD!$A$2:$A$52,0),2),"") -> NORMAL | K28: =IF(E28="P",INDEX(BDD!$A$2:$B$52,MATCH('20'!$B28,BDD!$A$2:$A$52,0),2),"") -> NORMAL | L28: =IF(F28="P",INDEX(BDD!$A$2:$B$52,MATCH('20'!$B28,BDD!$A$2:$A$52,0),2),"") -> NORMAL | M28: =IF(G28="P",INDEX(BDD!$A$2:$B$52,MATCH('20'!$B28,BDD!$A$2:$A$52,0),2),"") -> NORMAL
B29: LAURENT N | C29: a | D29: p | E29: p | F29: p | G29: a
B30: =BDD!A24 -> LARA C | C30: a | D30: a | E30: p | F30: p | G30: a | I30: =IF(C30="P",INDEX(BDD!$A$2:$B$52,MATCH('20'!$B30,BDD!$A$2:$A$52,0),2),"") | J30: =IF(D30="P",INDEX(BDD!$A$2:$B$52,MATCH('20'!$B30,BDD!$A$2:$A$52,0),2),"") | K30: =IF(E30="P",INDEX(BDD!$A$2:$B$52,MATCH('20'!$B30,BDD!$A$2:$A$52,0),2),"") -> HYPOCALORIQUE | L30: =IF(F30="P",INDEX(BDD!$A$2:$B$52,MATCH('20'!$B30,BDD!$A$2:$A$52,0),2),"") -> HYPOCALORIQUE | M30: =IF(G30="P",INDEX(BDD!$A$2:$B$52,MATCH('20'!$B30,BDD!$A$2:$A$52,0),2),"")
B31: =BDD!A26 -> LEBON Y | C31: a | D31: p | E31: p | F31: p | G31: p | I31: =IF(C31="P",INDEX(BDD!$A$2:$B$52,MATCH('20'!$B31,BDD!$A$2:$A$52,0),2),"") | J31: =IF(D31="P",INDEX(BDD!$A$2:$B$52,MATCH('20'!$B31,BDD!$A$2:$A$52,0),2),"") -> NORMAL | K31: =IF(E31="P",INDEX(BDD!$A$2:$B$52,MATCH('20'!$B31,BDD!$A$2:$A$52,0),2),"") -> NORMAL | L31: =IF(F31="P",INDEX(BDD!$A$2:$B$52,MATCH('20'!$B31,BDD!$A$2:$A$52,0),2),"") -> NORMAL | M31: =IF(G31="P",INDEX(BDD!$A$2:$B$52,MATCH('20'!$B31,BDD!$A$2:$A$52,0),2),"") -> NORMAL
B32: =BDD!A27 -> LECAM A | C32: a | D32: p | E32: p | F32: p | G32: p | I32: =IF(C32="P",INDEX(BDD!$A$2:$B$52,MATCH('20'!$B32,BDD!$A$2:$A$52,0),2),"") | J32: =IF(D32="P",INDEX(BDD!$A$2:$B$52,MATCH('20'!$B32,BDD!$A$2:$A$52,0),2),"") -> NORMAL | K32: =IF(E32="P",INDEX(BDD!$A$2:$B$52,MATCH('20'!$B32,BDD!$A$2:$A$52,0),2),"") -> NORMAL | L32: =IF(F32="P",INDEX(BDD!$A$2:$B$52,MATCH('20'!$B32,BDD!$A$2:$A$52,0),2),"") -> NORMAL | M32: =IF(G32="P",INDEX(BDD!$A$2:$B$52,MATCH('20'!$B32,BDD!$A$2:$A$52,0),2),"") -> NORMAL
B33: =BDD!A28 -> LEHON JL | C33: a | D33: a | E33: a | F33: a | G33: a | I33: =IF(C33="P",INDEX(BDD!$A$2:$B$52,MATCH('20'!$B33,BDD!$A$2:$A$52,0),2),"") | J33: =IF(D33="P",INDEX(BDD!$A$2:$B$52,MATCH('20'!$B33,BDD!$A$2:$A$52,0),2),"") | K33: =IF(E33="P",INDEX(BDD!$A$2:$B$52,MATCH('20'!$B33,BDD!$A$2:$A$52,0),2),"") | L33: =IF(F33="P",INDEX(BDD!$A$2:$B$52,MATCH('20'!$B33,BDD!$A$2:$A$52,0),2),"") | M33: =IF(G33="P",INDEX(BDD!$A$2:$B$52,MATCH('20'!$B33,BDD!$A$2:$A$52,0),2),"")
B34: =BDD!A29 -> MALERGUE MC | C34: a | D34: p | E34: p | F34: p | G34: p | I34: =IF(C34="P",INDEX(BDD!$A$2:$B$52,MATCH('20'!$B34,BDD!$A$2:$A$52,0),2),"") | J34: =IF(D34="P",INDEX(BDD!$A$2:$B$52,MATCH('20'!$B34,BDD!$A$2:$A$52,0),2),"") -> HYPOCALORIQUE | K34: =IF(E34="P",INDEX(BDD!$A$2:$B$52,MATCH('20'!$B34,BDD!$A$2:$A$52,0),2),"") -> HYPOCALORIQUE | L34: =IF(F34="P",INDEX(BDD!$A$2:$B$52,MATCH('20'!$B34,BDD!$A$2:$A$52,0),2),"") -> HYPOCALORIQUE | M34: =IF(G34="P",INDEX(BDD!$A$2:$B$52,MATCH('20'!$B34,BDD!$A$2:$A$52,0),2),"") -> HYPOCALORIQUE
B35: =BDD!A30 -> MASSIAS JM | C35: a | D35: p | E35: p | F35: p | G35: p | I35: =IF(C35="P",INDEX(BDD!$A$2:$B$52,MATCH('20'!$B35,BDD!$A$2:$A$52,0),2),"") | J35: =IF(D35="P",INDEX(BDD!$A$2:$B$52,MATCH('20'!$B35,BDD!$A$2:$A$52,0),2),"") -> NORMAL | K35: =IF(E35="P",INDEX(BDD!$A$2:$B$52,MATCH('20'!$B35,BDD!$A$2:$A$52,0),2),"") -> NORMAL | L35: =IF(F35="P",INDEX(BDD!$A$2:$B$52,MATCH('20'!$B35,BDD!$A$2:$A$52,0),2),"") -> NORMAL | M35: =IF(G35="P",INDEX(BDD!$A$2:$B$52,MATCH('20'!$B35,BDD!$A$2:$A$52,0),2),"") -> NORMAL
B36: =BDD!A31 -> MAURY E | C36: a | D36: p | E36: p | F36: p | G36: a | I36: =IF(C36="P",INDEX(BDD!$A$2:$B$52,MATCH('20'!$B36,BDD!$A$2:$A$52,0),2),"") | J36: =IF(D36="P",INDEX(BDD!$A$2:$B$52,MATCH('20'!$B36,BDD!$A$2:$A$52,0),2),"") -> NORMAL | K36: =IF(E36="P",INDEX(BDD!$A$2:$B$52,MATCH('20'!$B36,BDD!$A$2:$A$52,0),2),"") -> NORMAL | L36: =IF(F36="P",INDEX(BDD!$A$2:$B$52,MATCH('20'!$B36,BDD!$A$2:$A$52,0),2),"") -> NORMAL | M36: =IF(G36="P",INDEX(BDD!$A$2:$B$52,MATCH('20'!$B36,BDD!$A$2:$A$52,0),2),"")
B37: =BDD!A32 -> MICHELOU S | C37: a | D37: p | E37: p | F37: p | G37: p | I37: =IF(C37="P",INDEX(BDD!$A$2:$B$52,MATCH('20'!$B37,BDD!$A$2:$A$52,0),2),"") | J37: =IF(D37="P",INDEX(BDD!$A$2:$B$52,MATCH('20'!$B37,BDD!$A$2:$A$52,0),2),"") -> NORMAL | K37: =IF(E37="P",INDEX(BDD!$A$2:$B$52,MATCH('20'!$B37,BDD!$A$2:$A$52,0),2),"") -> NORMAL | L37: =IF(F37="P",INDEX(BDD!$A$2:$B$52,MATCH('20'!$B37,BDD!$A$2:$A$52,0),2),"") -> NORMAL | M37: =IF(G37="P",INDEX(BDD!$A$2:$B$52,MATCH('20'!$B37,BDD!$A$2:$A$52,0),2),"") -> NORMAL
B38: =BDD!A33 -> ORLIANGE O | C38: a | D38: p | E38: p | F38: p | G38: p | I38: =IF(C38="P",INDEX(BDD!$A$2:$B$52,MATCH('20'!$B38,BDD!$A$2:$A$52,0),2),"") | J38: =IF(D38="P",INDEX(BDD!$A$2:$B$52,MATCH('20'!$B38,BDD!$A$2:$A$52,0),2),"") -> NORMAL | K38: =IF(E38="P",INDEX(BDD!$A$2:$B$52,MATCH('20'!$B38,BDD!$A$2:$A$52,0),2),"") -> NORMAL | L38: =IF(F38="P",INDEX(BDD!$A$2:$B$52,MATCH('20'!$B38,BDD!$A$2:$A$52,0),2),"") -> NORMAL | M38: =IF(G38="P",INDEX(BDD!$A$2:$B$52,MATCH('20'!$B38,BDD!$A$2:$A$52,0),2),"") -> NORMAL
B39: =BDD!A34 -> PELISSIER J | C39: a | D39: p | E39: p | F39: p | G39: a | I39: =IF(C39="P",INDEX(BDD!$A$2:$B$52,MATCH('20'!$B39,BDD!$A$2:$A$52,0),2),"") | J39: =IF(D39="P",INDEX(BDD!$A$2:$B$52,MATCH('20'!$B39,BDD!$A$2:$A$52,0),2),"") -> NORMAL | K39: =IF(E39="P",INDEX(BDD!$A$2:$B$52,MATCH('20'!$B39,BDD!$A$2:$A$52,0),2),"") -> NORMAL | L39: =IF(F39="P",INDEX(BDD!$A$2:$B$52,MATCH('20'!$B39,BDD!$A$2:$A$52,0),2),"") -> NORMAL | M39: =IF(G39="P",INDEX(BDD!$A$2:$B$52,MATCH('20'!$B39,BDD!$A$2:$A$52,0),2),"")
B40: =BDD!A35 -> PHIALIP Ch | C40: a | D40: p | E40: p | F40: p | G40: p | I40: =IF(C40="P",INDEX(BDD!$A$2:$B$52,MATCH('20'!$B40,BDD!$A$2:$A$52,0),2),"") | J40: =IF(D40="P",INDEX(BDD!$A$2:$B$52,MATCH('20'!$B40,BDD!$A$2:$A$52,0),2),"") -> NORMAL | K40: =IF(E40="P",INDEX(BDD!$A$2:$B$52,MATCH('20'!$B40,BDD!$A$2:$A$52,0),2),"") -> NORMAL | L40: =IF(F40="P",INDEX(BDD!$A$2:$B$52,MATCH('20'!$B40,BDD!$A$2:$A$52,0),2),"") -> NORMAL | M40: =IF(G40="P",INDEX(BDD!$A$2:$B$52,MATCH('20'!$B40,BDD!$A$2:$A$52,0),2),"") -> NORMAL
B41: =BDD!A36 -> PIGORREAU M | C41: a | D41: a | E41: a | F41: a | G41: a | I41: =IF(C41="P",INDEX(BDD!$A$2:$B$52,MATCH('20'!$B41,BDD!$A$2:$A$52,0),2),"") | J41: =IF(D41="P",INDEX(BDD!$A$2:$B$52,MATCH('20'!$B41,BDD!$A$2:$A$52,0),2),"") | K41: =IF(E41="P",INDEX(BDD!$A$2:$B$52,MATCH('20'!$B41,BDD!$A$2:$A$52,0),2),"") | L41: =IF(F41="P",INDEX(BDD!$A$2:$B$52,MATCH('20'!$B41,BDD!$A$2:$A$52,0),2),"") | M41: =IF(G41="P",INDEX(BDD!$A$2:$B$52,MATCH('20'!$B41,BDD!$A$2:$A$52,0),2),"")
B42: =BDD!A37 -> PONT D | C42: a | D42: p | E42: p | F42: p | G42: p | I42: =IF(C42="P",INDEX(BDD!$A$2:$B$52,MATCH('20'!$B42,BDD!$A$2:$A$52,0),2),"") | J42: =IF(D42="P",INDEX(BDD!$A$2:$B$52,MATCH('20'!$B42,BDD!$A$2:$A$52,0),2),"") -> HYPOCHOLESTEROMIANT & HYPOCALORIQUE | K42: =IF(E42="P",INDEX(BDD!$A$2:$B$52,MATCH('20'!$B42,BDD!$A$2:$A$52,0),2),"") -> HYPOCHOLESTEROMIANT & HYPOCALORIQUE | L42: =IF(F42="P",INDEX(BDD!$A$2:$B$52,MATCH('20'!$B42,BDD!$A$2:$A$52,0),2),"") -> HYPOCHOLESTEROMIANT & HYPOCALORIQUE | M42: =IF(G42="P",INDEX(BDD!$A$2:$B$52,MATCH('20'!$B42,BDD!$A$2:$A$52,0),2),"") -> HYPOCHOLESTEROMIANT & HYPOCALORIQUE
... B50: =BDD!A45 -> VERGNY fr | C50: a | D50: p | E50: p | F50: p | G50: p | I50: =IF(C50="P",INDEX(BDD!$A$2:$B$52,MATCH('20'!$B50,BDD!$A$2:$A$52,0),2),"") | J50: =IF(D50="P",INDEX(BDD!$A$2:$B$52,MATCH('20'!$B50,BDD!$A$2:$A$52,0),2),"") -> NORMAL | K50: =IF(E50="P",INDEX(BDD!$A$2:$B$52,MATCH('20'!$B50,BDD!$A$2:$A$52,0),2),"") -> NORMAL | L50: =IF(F50="P",INDEX(BDD!$A$2:$B$52,MATCH('20'!$B50,BDD!$A$2:$A$52,0),2),"") -> NORMAL | M50: =IF(G50="P",INDEX(BDD!$A$2:$B$52,MATCH('20'!$B50,BDD!$A$2:$A$52,0),2),"") -> NORMAL
I51: =IF(C51="P",INDEX(BDD!$A$2:$B$52,MATCH('20'!$B51,BDD!$A$2:$A$52,0),2),"") | J51: =IF(D51="P",INDEX(BDD!$A$2:$B$52,MATCH('20'!$B51,BDD!$A$2:$A$52,0),2),"") | K51: =IF(E51="P",INDEX(BDD!$A$2:$B$52,MATCH('20'!$B51,BDD!$A$2:$A$52,0),2),"") | L51: =IF(F51="P",INDEX(BDD!$A$2:$B$52,MATCH('20'!$B51,BDD!$A$2:$A$52,0),2),"") | M51: =IF(G51="P",INDEX(BDD!$A$2:$B$52,MATCH('20'!$B51,BDD!$A$2:$A$52,0),2),"")
B52: =BDD!A47 -> STAGIAIRE | I52: =IF(C52="P",INDEX(BDD!$A$2:$B$52,MATCH('20'!$B52,BDD!$A$2:$A$52,0),2),"") | J52: =IF(D52="P",INDEX(BDD!$A$2:$B$52,MATCH('20'!$B52,BDD!$A$2:$A$52,0),2),"") | K52: =IF(E52="P",INDEX(BDD!$A$2:$B$52,MATCH('20'!$B52,BDD!$A$2:$A$52,0),2),"") | L52: =IF(F52="P",INDEX(BDD!$A$2:$B$52,MATCH('20'!$B52,BDD!$A$2:$A$52,0),2),"") | M52: =IF(G52="P",INDEX(BDD!$A$2:$B$52,MATCH('20'!$B52,BDD!$A$2:$A$52,0),2),"")
C54: Effectifs cuisine
C55: =MID(CELL("nomfichier",$A$1),FIND("]",CELL("nomfichier",$A$1))+1,50) -> 20
A56: Total J/S | C56: =C57 -> 42506 | D56: =D57 -> 42507 | E56: =E57 -> 42508 | F56: =F57 -> 42509 | G56: =G57 -> 42510
C57: =7*C55+DATE(B2,1,3)-WEEKDAY(DATE(B2,1,3))-5 -> 42506 | D57: =C57+1 -> 42507 | E57: =D57+1 -> 42508 | F57: =E57+1 -> 42509 | G57: =F57+1 -> 42510
A58: =SUM(C58:G58) -> 92 | B58: NORMAL | C58: =IF(COUNTIF(I$6:I$52,$B58)>0,COUNTIF(I$6:I$52,$B58),"") | D58: =IF(COUNTIF(J$6:J$52,$B58)>0,COUNTIF(J$6:J$52,$B58),"") -> 25 | E58: =IF(COUNTIF(K$6:K$52,$B58)>0,COUNTIF(K$6:K$52,$B58),"") -> 26 | F58: =IF(COUNTIF(L$6:L$52,$B58)>0,COUNTIF(L$6:L$52,$B58),"") -> 26 | G58: =IF(COUNTIF(M$6:M$52,$B58)>0,COUNTIF(M$6:M$52,$B58),"") -> 15
A59: =SUM(C59:G59) -> 4 | B59: HYPOCHOLESTEROMIANT | C59: =IF(COUNTIF(I$6:I$52,$B59)>0,COUNTIF(I$6:I$52,$B59),"") | D59: =IF(COUNTIF(J$6:J$52,$B59)>0,COUNTIF(J$6:J$52,$B59),"") -> 1 | E59: =IF(COUNTIF(K$6:K$52,$B59)>0,COUNTIF(K$6:K$52,$B59),"") -> 1 | F59: =IF(COUNTIF(L$6:L$52,$B59)>0,COUNTIF(L$6:L$52,$B59),"") -> 1 | G59: =IF(COUNTIF(M$6:M$52,$B59)>0,COUNTIF(M$6:M$52,$B59),"") -> 1 | I59: =COUNTIF($I$6:$I$52,$B59) -> 0
A60: =SUM(C60:G60) -> 3 | B60: HYPOCHOLESTEROMIANT SANS PORC | C60: =IF(COUNTIF(I$6:I$52,$B60)>0,COUNTIF(I$6:I$52,$B60),"") | D60: =IF(COUNTIF(J$6:J$52,$B60)>0,COUNTIF(J$6:J$52,$B60),"") -> 1 | E60: =IF(COUNTIF(K$6:K$52,$B60)>0,COUNTIF(K$6:K$52,$B60),"") -> 1 | F60: =IF(COUNTIF(L$6:L$52,$B60)>0,COUNTIF(L$6:L$52,$B60),"") -> 1 | G60: =IF(COUNTIF(M$6:M$52,$B60)>0,COUNTIF(M$6:M$52,$B60),"") | I60: =COUNTIF($I$6:$I$52,$B60) -> 0
A61: =SUM(C61:G61) -> 8 | B61: HYPOCHOLESTEROMIANT & HYPOCALORIQUE | C61: =IF(COUNTIF(I$6:I$52,$B61)>0,COUNTIF(I$6:I$52,$B61),"") | D61: =IF(COUNTIF(J$6:J$52,$B61)>0,COUNTIF(J$6:J$52,$B61),"") -> 2 | E61: =IF(COUNTIF(K$6:K$52,$B61)>0,COUNTIF(K$6:K$52,$B61),"") -> 2 | F61: =IF(COUNTIF(L$6:L$52,$B61)>0,COUNTIF(L$6:L$52,$B61),"") -> 2 | G61: =IF(COUNTIF(M$6:M$52,$B61)>0,COUNTIF(M$6:M$52,$B61),"") -> 2 | I61: =COUNTIF($I$6:$I$52,$B61) -> 0
A62: =SUM(C62:G62) -> 9 | B62: HYPOCALORIQUE | C62: =IF(COUNTIF(I$6:I$52,$B62)>0,COUNTIF(I$6:I$52,$B62),"") | D62: =IF(COUNTIF(J$6:J$52,$B62)>0,COUNTIF(J$6:J$52,$B62),"") -> 2 | E62: =IF(COUNTIF(K$6:K$52,$B62)>0,COUNTIF(K$6:K$52,$B62),"") -> 3 | F62: =IF(COUNTIF(L$6:L$52,$B62)>0,COUNTIF(L$6:L$52,$B62),"") -> 3 | G62: =IF(COUNTIF(M$6:M$52,$B62)>0,COUNTIF(M$6:M$52,$B62),"") -> 1 | I62: =COUNTIF($I$6:$I$52,$B62) -> 0
A63: =SUM(C63:G63) -> 4 | B63: HYPO URICEMIANT | C63: =IF(COUNTIF(I$6:I$52,$B63)>0,COUNTIF(I$6:I$52,$B63),"") | D63: =IF(COUNTIF(J$6:J$52,$B63)>0,COUNTIF(J$6:J$52,$B63),"") -> 1 | E63: =IF(COUNTIF(K$6:K$52,$B63)>0,COUNTIF(K$6:K$52,$B63),"") -> 1 | F63: =IF(COUNTIF(L$6:L$52,$B63)>0,COUNTIF(L$6:L$52,$B63),"") -> 1 | G63: =IF(COUNTIF(M$6:M$52,$B63)>0,COUNTIF(M$6:M$52,$B63),"") -> 1 | I63: =COUNTIF($I$6:$I$52,$B63) -> 0
A64: =SUM(C64:G64) -> 11 | B64: SANS PORC | C64: =IF(COUNTIF(I$6:I$52,$B64)>0,COUNTIF(I$6:I$52,$B64),"") | D64: =IF(COUNTIF(J$6:J$52,$B64)>0,COUNTIF(J$6:J$52,$B64),"") -> 3 | E64: =IF(COUNTIF(K$6:K$52,$B64)>0,COUNTIF(K$6:K$52,$B64),"") -> 3 | F64: =IF(COUNTIF(L$6:L$52,$B64)>0,COUNTIF(L$6:L$52,$B64),"") -> 3 | G64: =IF(COUNTIF(M$6:M$52,$B64)>0,COUNTIF(M$6:M$52,$B64),"") -> 2 | I64: =COUNTIF($I$6:$I$52,$B64) -> 0
A65: =SUM(C65:G65) -> 0 | C65: =IF(COUNTIF(I$6:I$52,$B65)>0,COUNTIF(I$6:I$52,$B65),"") | D65: =IF(COUNTIF(J$6:J$52,$B65)>0,COUNTIF(J$6:J$52,$B65),"") | E65: =IF(COUNTIF(K$6:K$52,$B65)>0,COUNTIF(K$6:K$52,$B65),"") | F65: =IF(COUNTIF(L$6:L$52,$B65)>0,COUNTIF(L$6:L$52,$B65),"") | G65: =IF(COUNTIF(M$6:M$52,$B65)>0,COUNTIF(M$6:M$52,$B65),"") | I65: =COUNTIF($I$6:$I$52,$B65) -> 0
A67: =SUM(C67:G67) -> 0 | B67: Repas Froid
A68: =SUM(C68:G68) -> 0 | B68: Malemort / Tulle
A70: =SUM(C70:G70) -> 4 | B70: Encadrement | C70: 0 | D70: 1 | E70: 1 | F70: 1 | G70: 1
A71: =SUM(C71:G71) -> 0 | B71: Mr CONTINSUZAT J.
A72: =SUM(C72:G72) -> 1 | B72: Mme CHEDOZAUD F. | E72: 1
A73: =SUM(C73:G73) -> 1 | B73: Mme SALOU S. | D73: 1 | E73: 0
A74: =SUM(C74:G74) -> 1 | B74: Mr CHASSAING N. | D74: 1
A75: =SUM(C75:G75) -> 0 | B75: Invités
A76: =SUM(C76:G76) -> 0 | B76: Formateurs
A78: =SUM(C78:G78) -> 2 | B78: Mr CHAVEROCHE | F78: 1 | G78: 1
A79: =SUM(C79:G79) -> 2 | B79: Mr RIMOUX | C79: 0 | D79: 0 | E79: 0 | F79: 1 | G79: 1
A80: =SUM(C80:G80) -> 3 | B80: Mr VIALLEMONTEIL | C80: 0 | D80: 1 | E80: 1 | G80: 1
A81: =SUM(C81:G81) -> 0 | B81: AUTRES TICKETS
A82: =SUM(C82:G82) -> 7 | B82: TOTAL TICKET | C82: =SUM(C78:C81) -> 0 | D82: =SUM(D78:D81) -> 1 | E82: =SUM(E78:E81) -> 1 | F82: =SUM(F78:F81) -> 2 | G82: =SUM(G78:G81) -> 3
A84: =SUM(C84:G84) -> 0 | B84: Repas Extérieur | C84: =COUNTIF(C6:C52,"E") -> 0 | D84: =COUNTIF(D6:D52,"E") -> 0 | E84: =COUNTIF(E6:E52,"E") -> 0 | F84: =COUNTIF(F6:F52,"E") -> 0 | G84: =COUNTIF(G6:G52,"E") -> 0
A86: =SUM(C86:G86) -> 145 | B86: Total effectif jour | C86: =SUM(C58:C81) -> 0 | D86: =SUM(D58:D81) -> 39 | E86: =SUM(E58:E81) -> 40 | F86: =SUM(F58:F81) -> 40 | G86: =SUM(G58:G81) -> 26
A87: =SUM(C87:G87) -> 138 | B87: Total effetif J-2 (facturation) | C87: 0 | D87: 39 | E87: 39 | F87: 37 | G87: 23
A88: =SUM(C88:G88) -> 148 | B88: Total effectif J-2 (repas servis) | C88: 0 | D88: 41 | E88: 43 | F88: 42 | G88: 22
C90: Semaine : | E90: =WEEKNUM(C57,21)+1 -> 21
A91: =SUM(C91:G91) -> 210 | B91: Total effectif S+1 (commandes) | C91: 45 | D91: 45 | E91: 46 | F91: 46 | G91: 28
C93: Semaine : | E93: =WEEKNUM(C57,21)+2 -> 22
A94: =SUM(C94:G94) -> 0 | B94: Total effectif S+2 (commandes)
A96: annule remplace

Sheet 21
A1: P : Présent
A2: A : Absent | B2: 2016 | C2: Semaine
A3: E : Repas Ext | B3: =TODAY() -> 42564 | C3: =MID(CELL("nomfichier",$A$1),FIND("]",CELL("nomfichier",$A$1))+1,50) -> 21
C4: =C5 -> 42513 | D4: =D5 -> 42514 | E4: =E5 -> 42515 | F4: =F5 -> 42516 | G4: =G5 -> 42517
B5: NOMS | C5: =7*C3+DATE(B2,1,3)-WEEKDAY(DATE(B2,1,3))-5 -> 42513 | D5: =C5+1 -> 42514 | E5: =D5+1 -> 42515 | F5: =E5+1 -> 42516 | G5: =F5+1 -> 42517
B6: =BDD!A2 -> AIT SAID A | C6: p | D6: p | E6: p | F6: p | G6: a | I6: =IF(C6="P",INDEX(BDD!$A$2:$B$52,MATCH('21'!$B6,BDD!$A$2:$A$52,0),2),"") -> SANS PORC | J6: =IF(D6="P",INDEX(BDD!$A$2:$B$52,MATCH('21'!$B6,BDD!$A$2:$A$52,0),2),"") -> SANS PORC | K6: =IF(E6="P",INDEX(BDD!$A$2:$B$52,MATCH('21'!$B6,BDD!$A$2:$A$52,0),2),"") -> SANS PORC | L6: =IF(F6="P",INDEX(BDD!$A$2:$B$52,MATCH('21'!$B6,BDD!$A$2:$A$52,0),2),"") -> SANS PORC | M6: =IF(G6="P",INDEX(BDD!$A$2:$B$52,MATCH('21'!$B6,BDD!$A$2:$A$52,0),2),"")
B7: =BDD!A3 -> ALVES F | C7: p | D7: p | E7: p | F7: p | G7: p | I7: =IF(C7="P",INDEX(BDD!$A$2:$B$52,MATCH('21'!$B7,BDD!$A$2:$A$52,0),2),"") -> NORMAL | J7: =IF(D7="P",INDEX(BDD!$A$2:$B$52,MATCH('21'!$B7,BDD!$A$2:$A$52,0),2),"") -> NORMAL | K7: =IF(E7="P",INDEX(BDD!$A$2:$B$52,MATCH('21'!$B7,BDD!$A$2:$A$52,0),2),"") -> NORMAL | L7: =IF(F7="P",INDEX(BDD!$A$2:$B$52,MATCH('21'!$B7,BDD!$A$2:$A$52,0),2),"") -> NORMAL | M7: =IF(G7="P",INDEX(BDD!$A$2:$B$52,MATCH('21'!$B7,BDD!$A$2:$A$52,0),2),"") -> NORMAL
B8: =BDD!A4 -> AUBASPEYRAS Y | C8: p | D8: p | E8: p | F8: p | G8: a | I8: =IF(C8="P",INDEX(BDD!$A$2:$B$52,MATCH('21'!$B8,BDD!$A$2:$A$52,0),2),"") -> NORMAL | J8: =IF(D8="P",INDEX(BDD!$A$2:$B$52,MATCH('21'!$B8,BDD!$A$2:$A$52,0),2),"") -> NORMAL | K8: =IF(E8="P",INDEX(BDD!$A$2:$B$52,MATCH('21'!$B8,BDD!$A$2:$A$52,0),2),"") -> NORMAL | L8: =IF(F8="P",INDEX(BDD!$A$2:$B$52,MATCH('21'!$B8,BDD!$A$2:$A$52,0),2),"") -> NORMAL | M8: =IF(G8="P",INDEX(BDD!$A$2:$B$52,MATCH('21'!$B8,BDD!$A$2:$A$52,0),2),"")
B9: =BDD!A5 -> AUDY M | C9: p | D9: p | E9: p | F9: p | G9: p | I9: =IF(C9="P",INDEX(BDD!$A$2:$B$52,MATCH('21'!$B9,BDD!$A$2:$A$52,0),2),"") -> NORMAL | J9: =IF(D9="P",INDEX(BDD!$A$2:$B$52,MATCH('21'!$B9,BDD!$A$2:$A$52,0),2),"") -> NORMAL | K9: =IF(E9="P",INDEX(BDD!$A$2:$B$52,MATCH('21'!$B9,BDD!$A$2:$A$52,0),2),"") -> NORMAL | L9: =IF(F9="P",INDEX(BDD!$A$2:$B$52,MATCH('21'!$B9,BDD!$A$2:$A$52,0),2),"") -> NORMAL | M9: =IF(G9="P",INDEX(BDD!$A$2:$B$52,MATCH('21'!$B9,BDD!$A$2:$A$52,0),2),"") -> NORMAL
B10: =BDD!A6 -> BRAUD J | C10: p | D10: p | E10: e | F10: p | G10: a | I10: =IF(C10="P",INDEX(BDD!$A$2:$B$52,MATCH('21'!$B10,BDD!$A$2:$A$52,0),2),"") -> NORMAL | J10: =IF(D10="P",INDEX(BDD!$A$2:$B$52,MATCH('21'!$B10,BDD!$A$2:$A$52,0),2),"") -> NORMAL | K10: =IF(E10="P",INDEX(BDD!$A$2:$B$52,MATCH('21'!$B10,BDD!$A$2:$A$52,0),2),"") | L10: =IF(F10="P",INDEX(BDD!$A$2:$B$52,MATCH('21'!$B10,BDD!$A$2:$A$52,0),2),"") -> NORMAL | M10: =IF(G10="P",INDEX(BDD!$A$2:$B$52,MATCH('21'!$B10,BDD!$A$2:$A$52,0),2),"")
B11: =BDD!A7 -> BAZETOUX V | C11: p | D11: p | E11: p | F11: p | G11: p | I11: =IF(C11="P",INDEX(BDD!$A$2:$B$52,MATCH('21'!$B11,BDD!$A$2:$A$52,0),2),"") -> NORMAL | J11: =IF(D11="P",INDEX(BDD!$A$2:$B$52,MATCH('21'!$B11,BDD!$A$2:$A$52,0),2),"") -> NORMAL | K11: =IF(E11="P",INDEX(BDD!$A$2:$B$52,MATCH('21'!$B11,BDD!$A$2:$A$52,0),2),"") -> NORMAL | L11: =IF(F11="P",INDEX(BDD!$A$2:$B$52,MATCH('21'!$B11,BDD!$A$2:$A$52,0),2),"") -> NORMAL | M11: =IF(G11="P",INDEX(BDD!$A$2:$B$52,MATCH('21'!$B11,BDD!$A$2:$A$52,0),2),"") -> NORMAL
B12: =BDD!A8 -> BOKALO E | C12: a | D12: a | E12: a | F12: a | G12: a | I12: =IF(C12="P",INDEX(BDD!$A$2:$B$52,MATCH('21'!$B12,BDD!$A$2:$A$52,0),2),"") | J12: =IF(D12="P",INDEX(BDD!$A$2:$B$52,MATCH('21'!$B12,BDD!$A$2:$A$52,0),2),"") | K12: =IF(E12="P",INDEX(BDD!$A$2:$B$52,MATCH('21'!$B12,BDD!$A$2:$A$52,0),2),"") | L12: =IF(F12="P",INDEX(BDD!$A$2:$B$52,MATCH('21'!$B12,BDD!$A$2:$A$52,0),2),"") | M12: =IF(G12="P",INDEX(BDD!$A$2:$B$52,MATCH('21'!$B12,BDD!$A$2:$A$52,0),2),"")
B13: =BDD!A9 -> BRIOUAL Z | C13: p | D13: p | E13: p | F13: p | G13: p | I13: =IF(C13="P",INDEX(BDD!$A$2:$B$52,MATCH('21'!$B13,BDD!$A$2:$A$52,0),2),"") -> HYPOCHOLESTEROMIANT SANS PORC | J13: =IF(D13="P",INDEX(BDD!$A$2:$B$52,MATCH('21'!$B13,BDD!$A$2:$A$52,0),2),"") -> HYPOCHOLESTEROMIANT SANS PORC | K13: =IF(E13="P",INDEX(BDD!$A$2:$B$52,MATCH('21'!$B13,BDD!$A$2:$A$52,0),2),"") -> HYPOCHOLESTEROMIANT SANS PORC | L13: =IF(F13="P",INDEX(BDD!$A$2:$B$52,MATCH('21'!$B13,BDD!$A$2:$A$52,0),2),"") -> HYPOCHOLESTEROMIANT SANS PORC | M13: =IF(G13="P",INDEX(BDD!$A$2:$B$52,MATCH('21'!$B13,BDD!$A$2:$A$52,0),2),"") -> HYPOCHOLESTEROMIANT SANS PORC
B14: =BDD!A10 -> CERISUELA S | C14: p | D14: p | E14: p | F14: p | G14: p | I14: =IF(C14="P",INDEX(BDD!$A$2:$B$52,MATCH('21'!$B14,BDD!$A$2:$A$52,0),2),"") -> HYPOCALORIQUE | J14: =IF(D14="P",INDEX(BDD!$A$2:$B$52,MATCH('21'!$B14,BDD!$A$2:$A$52,0),2),"") -> HYPOCALORIQUE | K14: =IF(E14="P",INDEX(BDD!$A$2:$B$52,MATCH('21'!$B14,BDD!$A$2:$A$52,0),2),"") -> HYPOCALORIQUE | L14: =IF(F14="P",INDEX(BDD!$A$2:$B$52,MATCH('21'!$B14,BDD!$A$2:$A$52,0),2),"") -> HYPOCALORIQUE | M14: =IF(G14="P",INDEX(BDD!$A$2:$B$52,MATCH('21'!$B14,BDD!$A$2:$A$52,0),2),"") -> HYPOCALORIQUE
B15: =BDD!A11 -> CHANUT B | C15: p | D15: p | E15: p | F15: p | G15: a | I15: =IF(C15="P",INDEX(BDD!$A$2:$B$52,MATCH('21'!$B15,BDD!$A$2:$A$52,0),2),"") -> HYPOCHOLESTEROMIANT | J15: =IF(D15="P",INDEX(BDD!$A$2:$B$52,MATCH('21'!$B15,BDD!$A$2:$A$52,0),2),"") -> HYPOCHOLESTEROMIANT | K15: =IF(E15="P",INDEX(BDD!$A$2:$B$52,MATCH('21'!$B15,BDD!$A$2:$A$52,0),2),"") -> HYPOCHOLESTEROMIANT | L15: =IF(F15="P",INDEX(BDD!$A$2:$B$52,MATCH('21'!$B15,BDD!$A$2:$A$52,0),2),"") -> HYPOCHOLESTEROMIANT | M15: =IF(G15="P",INDEX(BDD!$A$2:$B$52,MATCH('21'!$B15,BDD!$A$2:$A$52,0),2),"")
B16: =BDD!A12 -> CHATTI A | C16: p | D16: p | E16: p | F16: p | G16: p | I16: =IF(C16="P",INDEX(BDD!$A$2:$B$52,MATCH('21'!$B16,BDD!$A$2:$A$52,0),2),"") -> SANS PORC | J16: =IF(D16="P",INDEX(BDD!$A$2:$B$52,MATCH('21'!$B16,BDD!$A$2:$A$52,0),2),"") -> SANS PORC | K16: =IF(E16="P",INDEX(BDD!$A$2:$B$52,MATCH('21'!$B16,BDD!$A$2:$A$52,0),2),"") -> SANS PORC | L16: =IF(F16="P",INDEX(BDD!$A$2:$B$52,MATCH('21'!$B16,BDD!$A$2:$A$52,0),2),"") -> SANS PORC | M16: =IF(G16="P",INDEX(BDD!$A$2:$B$52,MATCH('21'!$B16,BDD!$A$2:$A$52,0),2),"") -> SANS PORC
B17: =BDD!A13 -> DELZOR N | C17: p | D17: p | E17: p | F17: p | G17: a | I17: =IF(C17="P",INDEX(BDD!$A$2:$B$52,MATCH('21'!$B17,BDD!$A$2:$A$52,0),2),"") -> HYPO URICEMIANT | J17: =IF(D17="P",INDEX(BDD!$A$2:$B$52,MATCH('21'!$B17,BDD!$A$2:$A$52,0),2),"") -> HYPO URICEMIANT | K17: =IF(E17="P",INDEX(BDD!$A$2:$B$52,MATCH('21'!$B17,BDD!$A$2:$A$52,0),2),"") -> HYPO URICEMIANT | L17: =IF(F17="P",INDEX(BDD!$A$2:$B$52,MATCH('21'!$B17,BDD!$A$2:$A$52,0),2),"") -> HYPO URICEMIANT | M17: =IF(G17="P",INDEX(BDD!$A$2:$B$52,MATCH('21'!$B17,BDD!$A$2:$A$52,0),2),"")
... B19: =BDD!A15 -> DENIS P | C19: p | D19: p | E19: p | F19: p | G19: a | I19: =IF(C19="P",INDEX(BDD!$A$2:$B$52,MATCH('21'!$B19,BDD!$A$2:$A$52,0),2),"") -> NORMAL | J19: =IF(D19="P",INDEX(BDD!$A$2:$B$52,MATCH('21'!$B19,BDD!$A$2:$A$52,0),2),"") -> NORMAL | K19: =IF(E19="P",INDEX(BDD!$A$2:$B$52,MATCH('21'!$B19,BDD!$A$2:$A$52,0),2),"") -> NORMAL | L19: =IF(F19="P",INDEX(BDD!$A$2:$B$52,MATCH('21'!$B19,BDD!$A$2:$A$52,0),2),"") -> NORMAL | M19: =IF(G19="P",INDEX(BDD!$A$2:$B$52,MATCH('21'!$B19,BDD!$A$2:$A$52,0),2),"")
B20: =BDD!#REF! -> #REF! | C20: p | D20: p | E20: e | F20: p | G20: p | I20: =IF(C20="P",INDEX(BDD!$A$2:$B$52,MATCH('21'!$B20,BDD!$A$2:$A$52,0),2),"") -> #REF! | J20: =IF(D20="P",INDEX(BDD!$A$2:$B$52,MATCH('21'!$B20,BDD!$A$2:$A$52,0),2),"") -> #REF! | K20: =IF(E20="P",INDEX(BDD!$A$2:$B$52,MATCH('21'!$B20,BDD!$A$2:$A$52,0),2),"") | L20: =IF(F20="P",INDEX(BDD!$A$2:$B$52,MATCH('21'!$B20,BDD!$A$2:$A$52,0),2),"") -> #REF! | M20: =IF(G20="P",INDEX(BDD!$A$2:$B$52,MATCH('21'!$B20,BDD!$A$2:$A$52,0),2),"") -> #REF!
B21: =BDD!A16 -> GAUTHIER JF | C21: p | D21: p | E21: p | F21: p | G21: p | I21: =IF(C21="P",INDEX(BDD!$A$2:$B$52,MATCH('21'!$B21,BDD!$A$2:$A$52,0),2),"") -> NORMAL | J21: =IF(D21="P",INDEX(BDD!$A$2:$B$52,MATCH('21'!$B21,BDD!$A$2:$A$52,0),2),"") -> NORMAL | K21: =IF(E21="P",INDEX(BDD!$A$2:$B$52,MATCH('21'!$B21,BDD!$A$2:$A$52,0),2),"") -> NORMAL | L21: =IF(F21="P",INDEX(BDD!$A$2:$B$52,MATCH('21'!$B21,BDD!$A$2:$A$52,0),2),"") -> NORMAL | M21: =IF(G21="P",INDEX(BDD!$A$2:$B$52,MATCH('21'!$B21,BDD!$A$2:$A$52,0),2),"") -> NORMAL
B22: =BDD!A17 -> GAUTIER Y | C22: p | D22: p | E22: p | F22: p | G22: p | I22: =IF(C22="P",INDEX(BDD!$A$2:$B$52,MATCH('21'!$B22,BDD!$A$2:$A$52,0),2),"") -> NORMAL | J22: =IF(D22="P",INDEX(BDD!$A$2:$B$52,MATCH('21'!$B22,BDD!$A$2:$A$52,0),2),"") -> NORMAL | K22: =IF(E22="P",INDEX(BDD!$A$2:$B$52,MATCH('21'!$B22,BDD!$A$2:$A$52,0),2),"") -> NORMAL | L22: =IF(F22="P",INDEX(BDD!$A$2:$B$52,MATCH('21'!$B22,BDD!$A$2:$A$52,0),2),"") -> NORMAL | M22: =IF(G22="P",INDEX(BDD!$A$2:$B$52,MATCH('21'!$B22,BDD!$A$2:$A$52,0),2),"") -> NORMAL
B23: =BDD!A18 -> GOURDON F | C23: p | D23: p | E23: p | F23: p | G23: a | I23: =IF(C23="P",INDEX(BDD!$A$2:$B$52,MATCH('21'!$B23,BDD!$A$2:$A$52,0),2),"") -> NORMAL | J23: =IF(D23="P",INDEX(BDD!$A$2:$B$52,MATCH('21'!$B23,BDD!$A$2:$A$52,0),2),"") -> NORMAL | K23: =IF(E23="P",INDEX(BDD!$A$2:$B$52,MATCH('21'!$B23,BDD!$A$2:$A$52,0),2),"") -> NORMAL | L23: =IF(F23="P",INDEX(BDD!$A$2:$B$52,MATCH('21'!$B23,BDD!$A$2:$A$52,0),2),"") -> NORMAL | M23: =IF(G23="P",INDEX(BDD!$A$2:$B$52,MATCH('21'!$B23,BDD!$A$2:$A$52,0),2),"")
B24: =BDD!A19 -> GORDOGA K | C24: p | D24: p | E24: p | F24: p | G24: a | I24: =IF(C24="P",INDEX(BDD!$A$2:$B$52,MATCH('21'!$B24,BDD!$A$2:$A$52,0),2),"") -> SANS PORC | J24: =IF(D24="P",INDEX(BDD!$A$2:$B$52,MATCH('21'!$B24,BDD!$A$2:$A$52,0),2),"") -> SANS PORC | K24: =IF(E24="P",INDEX(BDD!$A$2:$B$52,MATCH('21'!$B24,BDD!$A$2:$A$52,0),2),"") -> SANS PORC | L24: =IF(F24="P",INDEX(BDD!$A$2:$B$52,MATCH('21'!$B24,BDD!$A$2:$A$52,0),2),"") -> SANS PORC | M24: =IF(G24="P",INDEX(BDD!$A$2:$B$52,MATCH('21'!$B24,BDD!$A$2:$A$52,0),2),"")
B25: =BDD!A20 -> GRAVIERE JP | C25: p | D25: p | E25: p | F25: p | G25: p | I25: =IF(C25="P",INDEX(BDD!$A$2:$B$52,MATCH('21'!$B25,BDD!$A$2:$A$52,0),2),"") -> NORMAL | J25: =IF(D25="P",INDEX(BDD!$A$2:$B$52,MATCH('21'!$B25,BDD!$A$2:$A$52,0),2),"") -> NORMAL | K25: =IF(E25="P",INDEX(BDD!$A$2:$B$52,MATCH('21'!$B25,BDD!$A$2:$A$52,0),2),"") -> NORMAL | L25: =IF(F25="P",INDEX(BDD!$A$2:$B$52,MATCH('21'!$B25,BDD!$A$2:$A$52,0),2),"") -> NORMAL | M25: =IF(G25="P",INDEX(BDD!$A$2:$B$52,MATCH('21'!$B25,BDD!$A$2:$A$52,0),2),"") -> NORMAL
B26: =BDD!A21 -> JULLIOT Y | C26: p | D26: p | E26: e | F26: p | G26: p | I26: =IF(C26="P",INDEX(BDD!$A$2:$B$52,MATCH('21'!$B26,BDD!$A$2:$A$52,0),2),"") -> NORMAL | J26: =IF(D26="P",INDEX(BDD!$A$2:$B$52,MATCH('21'!$B26,BDD!$A$2:$A$52,0),2),"") -> NORMAL | K26: =IF(E26="P",INDEX(BDD!$A$2:$B$52,MATCH('21'!$B26,BDD!$A$2:$A$52,0),2),"") | L26: =IF(F26="P",INDEX(BDD!$A$2:$B$52,MATCH('21'!$B26,BDD!$A$2:$A$52,0),2),"") -> NORMAL | M26: =IF(G26="P",INDEX(BDD!$A$2:$B$52,MATCH('21'!$B26,BDD!$A$2:$A$52,0),2),"") -> NORMAL
B27: =BDD!A22 -> LARBRE JM | C27: p | D27: p | E27: p | F27: p | G27: p | I27: =IF(C27="P",INDEX(BDD!$A$2:$B$52,MATCH('21'!$B27,BDD!$A$2:$A$52,0),2),"") -> NORMAL | J27: =IF(D27="P",INDEX(BDD!$A$2:$B$52,MATCH('21'!$B27,BDD!$A$2:$A$52,0),2),"") -> NORMAL | K27: =IF(E27="P",INDEX(BDD!$A$2:$B$52,MATCH('21'!$B27,BDD!$A$2:$A$52,0),2),"") -> NORMAL | L27: =IF(F27="P",INDEX(BDD!$A$2:$B$52,MATCH('21'!$B27,BDD!$A$2:$A$52,0),2),"") -> NORMAL | M27: =IF(G27="P",INDEX(BDD!$A$2:$B$52,MATCH('21'!$B27,BDD!$A$2:$A$52,0),2),"") -> NORMAL
B28: =BDD!A23 -> LAPLACE F | C28: p | D28: p | E28: p | F28: p | G28: a | I28: =IF(C28="P",INDEX(BDD!$A$2:$B$52,MATCH('21'!$B28,BDD!$A$2:$A$52,0),2),"") -> NORMAL | J28: =IF(D28="P",INDEX(BDD!$A$2:$B$52,MATCH('21'!$B28,BDD!$A$2:$A$52,0),2),"") -> NORMAL | K28: =IF(E28="P",INDEX(BDD!$A$2:$B$52,MATCH('21'!$B28,BDD!$A$2:$A$52,0),2),"") -> NORMAL | L28: =IF(F28="P",INDEX(BDD!$A$2:$B$52,MATCH('21'!$B28,BDD!$A$2:$A$52,0),2),"") -> NORMAL | M28: =IF(G28="P",INDEX(BDD!$A$2:$B$52,MATCH('21'!$B28,BDD!$A$2:$A$52,0),2),"")
B29: =BDD!A24 -> LARA C | C29: p | D29: p | E29: p | F29: p | G29: p
B30: =BDD!A25 -> LAURENT N | C30: p | D30: p | E30: p | F30: p | G30: p | I30: =IF(C30="P",INDEX(BDD!$A$2:$B$52,MATCH('21'!$B30,BDD!$A$2:$A$52,0),2),"") -> NORMAL | J30: =IF(D30="P",INDEX(BDD!$A$2:$B$52,MATCH('21'!$B30,BDD!$A$2:$A$52,0),2),"") -> NORMAL | K30: =IF(E30="P",INDEX(BDD!$A$2:$B$52,MATCH('21'!$B30,BDD!$A$2:$A$52,0),2),"") -> NORMAL | L30: =IF(F30="P",INDEX(BDD!$A$2:$B$52,MATCH('21'!$B30,BDD!$A$2:$A$52,0),2),"") -> NORMAL | M30: =IF(G30="P",INDEX(BDD!$A$2:$B$52,MATCH('21'!$B30,BDD!$A$2:$A$52,0),2),"") -> NORMAL
B31: =BDD!A26 -> LEBON Y | C31: p | D31: p | E31: p | F31: p | G31: a | I31: =IF(C31="P",INDEX(BDD!$A$2:$B$52,MATCH('21'!$B31,BDD!$A$2:$A$52,0),2),"") -> NORMAL | J31: =IF(D31="P",INDEX(BDD!$A$2:$B$52,MATCH('21'!$B31,BDD!$A$2:$A$52,0),2),"") -> NORMAL | K31: =IF(E31="P",INDEX(BDD!$A$2:$B$52,MATCH('21'!$B31,BDD!$A$2:$A$52,0),2),"") -> NORMAL | L31: =IF(F31="P",INDEX(BDD!$A$2:$B$52,MATCH('21'!$B31,BDD!$A$2:$A$52,0),2),"") -> NORMAL | M31: =IF(G31="P",INDEX(BDD!$A$2:$B$52,MATCH('21'!$B31,BDD!$A$2:$A$52,0),2),"")
B32: =BDD!A27 -> LECAM A | C32: p | D32: p | E32: p | F32: p | G32: a | I32: =IF(C32="P",INDEX(BDD!$A$2:$B$52,MATCH('21'!$B32,BDD!$A$2:$A$52,0),2),"") -> NORMAL | J32: =IF(D32="P",INDEX(BDD!$A$2:$B$52,MATCH('21'!$B32,BDD!$A$2:$A$52,0),2),"") -> NORMAL | K32: =IF(E32="P",INDEX(BDD!$A$2:$B$52,MATCH('21'!$B32,BDD!$A$2:$A$52,0),2),"") -> NORMAL | L32: =IF(F32="P",INDEX(BDD!$A$2:$B$52,MATCH('21'!$B32,BDD!$A$2:$A$52,0),2),"") -> NORMAL | M32: =IF(G32="P",INDEX(BDD!$A$2:$B$52,MATCH('21'!$B32,BDD!$A$2:$A$52,0),2),"")
B33: =BDD!A28 -> LEHON JL | C33: p | D33: p | E33: p | F33: p | G33: p | I33: =IF(C33="P",INDEX(BDD!$A$2:$B$52,MATCH('21'!$B33,BDD!$A$2:$A$52,0),2),"") -> NORMAL | J33: =IF(D33="P",INDEX(BDD!$A$2:$B$52,MATCH('21'!$B33,BDD!$A$2:$A$52,0),2),"") -> NORMAL | K33: =IF(E33="P",INDEX(BDD!$A$2:$B$52,MATCH('21'!$B33,BDD!$A$2:$A$52,0),2),"") -> NORMAL | L33: =IF(F33="P",INDEX(BDD!$A$2:$B$52,MATCH('21'!$B33,BDD!$A$2:$A$52,0),2),"") -> NORMAL | M33: =IF(G33="P",INDEX(BDD!$A$2:$B$52,MATCH('21'!$B33,BDD!$A$2:$A$52,0),2),"") -> NORMAL
B34: =BDD!A29 -> MALERGUE MC | C34: p | D34: p | E34: p | F34: p | G34: a | I34: =IF(C34="P",INDEX(BDD!$A$2:$B$52,MATCH('21'!$B34,BDD!$A$2:$A$52,0),2),"") -> HYPOCALORIQUE | J34: =IF(D34="P",INDEX(BDD!$A$2:$B$52,MATCH('21'!$B34,BDD!$A$2:$A$52,0),2),"") -> HYPOCALORIQUE | K34: =IF(E34="P",INDEX(BDD!$A$2:$B$52,MATCH('21'!$B34,BDD!$A$2:$A$52,0),2),"") -> HYPOCALORIQUE | L34: =IF(F34="P",INDEX(BDD!$A$2:$B$52,MATCH('21'!$B34,BDD!$A$2:$A$52,0),2),"") -> HYPOCALORIQUE | M34: =IF(G34="P",INDEX(BDD!$A$2:$B$52,MATCH('21'!$B34,BDD!$A$2:$A$52,0),2),"")
B35: =BDD!A30 -> MASSIAS JM | C35: p | D35: p | E35: p | F35: p | G35: p | I35: =IF(C35="P",INDEX(BDD!$A$2:$B$52,MATCH('21'!$B35,BDD!$A$2:$A$52,0),2),"") -> NORMAL | J35: =IF(D35="P",INDEX(BDD!$A$2:$B$52,MATCH('21'!$B35,BDD!$A$2:$A$52,0),2),"") -> NORMAL | K35: =IF(E35="P",INDEX(BDD!$A$2:$B$52,MATCH('21'!$B35,BDD!$A$2:$A$52,0),2),"") -> NORMAL | L35: =IF(F35="P",INDEX(BDD!$A$2:$B$52,MATCH('21'!$B35,BDD!$A$2:$A$52,0),2),"") -> NORMAL | M35: =IF(G35="P",INDEX(BDD!$A$2:$B$52,MATCH('21'!$B35,BDD!$A$2:$A$52,0),2),"") -> NORMAL
B36: =BDD!A31 -> MAURY E | C36: p | D36: p | E36: p | F36: a | G36: a | I36: =IF(C36="P",INDEX(BDD!$A$2:$B$52,MATCH('21'!$B36,BDD!$A$2:$A$52,0),2),"") -> NORMAL | J36: =IF(D36="P",INDEX(BDD!$A$2:$B$52,MATCH('21'!$B36,BDD!$A$2:$A$52,0),2),"") -> NORMAL | K36: =IF(E36="P",INDEX(BDD!$A$2:$B$52,MATCH('21'!$B36,BDD!$A$2:$A$52,0),2),"") -> NORMAL | L36: =IF(F36="P",INDEX(BDD!$A$2:$B$52,MATCH('21'!$B36,BDD!$A$2:$A$52,0),2),"") | M36: =IF(G36="P",INDEX(BDD!$A$2:$B$52,MATCH('21'!$B36,BDD!$A$2:$A$52,0),2),"")
B37: =BDD!A32 -> MICHELOU S | C37: p | D37: p | E37: p | F37: p | G37: a | I37: =IF(C37="P",INDEX(BDD!$A$2:$B$52,MATCH('21'!$B37,BDD!$A$2:$A$52,0),2),"") -> NORMAL | J37: =IF(D37="P",INDEX(BDD!$A$2:$B$52,MATCH('21'!$B37,BDD!$A$2:$A$52,0),2),"") -> NORMAL | K37: =IF(E37="P",INDEX(BDD!$A$2:$B$52,MATCH('21'!$B37,BDD!$A$2:$A$52,0),2),"") -> NORMAL | L37: =IF(F37="P",INDEX(BDD!$A$2:$B$52,MATCH('21'!$B37,BDD!$A$2:$A$52,0),2),"") -> NORMAL | M37: =IF(G37="P",INDEX(BDD!$A$2:$B$52,MATCH('21'!$B37,BDD!$A$2:$A$52,0),2),"")
B38: =BDD!A33 -> ORLIANGE O | C38: p | D38: p | E38: p | F38: p | G38: a | I38: =IF(C38="P",INDEX(BDD!$A$2:$B$52,MATCH('21'!$B38,BDD!$A$2:$A$52,0),2),"") -> NORMAL | J38: =IF(D38="P",INDEX(BDD!$A$2:$B$52,MATCH('21'!$B38,BDD!$A$2:$A$52,0),2),"") -> NORMAL | K38: =IF(E38="P",INDEX(BDD!$A$2:$B$52,MATCH('21'!$B38,BDD!$A$2:$A$52,0),2),"") -> NORMAL | L38: =IF(F38="P",INDEX(BDD!$A$2:$B$52,MATCH('21'!$B38,BDD!$A$2:$A$52,0),2),"") -> NORMAL | M38: =IF(G38="P",INDEX(BDD!$A$2:$B$52,MATCH('21'!$B38,BDD!$A$2:$A$52,0),2),"")
B39: =BDD!A34 -> PELISSIER J | C39: p | D39: p | E39: p | F39: p | G39: p | I39: =IF(C39="P",INDEX(BDD!$A$2:$B$52,MATCH('21'!$B39,BDD!$A$2:$A$52,0),2),"") -> NORMAL | J39: =IF(D39="P",INDEX(BDD!$A$2:$B$52,MATCH('21'!$B39,BDD!$A$2:$A$52,0),2),"") -> NORMAL | K39: =IF(E39="P",INDEX(BDD!$A$2:$B$52,MATCH('21'!$B39,BDD!$A$2:$A$52,0),2),"") -> NORMAL | L39: =IF(F39="P",INDEX(BDD!$A$2:$B$52,MATCH('21'!$B39,BDD!$A$2:$A$52,0),2),"") -> NORMAL | M39: =IF(G39="P",INDEX(BDD!$A$2:$B$52,MATCH('21'!$B39,BDD!$A$2:$A$52,0),2),"") -> NORMAL
B40: =BDD!A35 -> PHIALIP Ch | C40: p | D40: p | E40: p | F40: p | G40: p | I40: =IF(C40="P",INDEX(BDD!$A$2:$B$52,MATCH('21'!$B40,BDD!$A$2:$A$52,0),2),"") -> NORMAL | J40: =IF(D40="P",INDEX(BDD!$A$2:$B$52,MATCH('21'!$B40,BDD!$A$2:$A$52,0),2),"") -> NORMAL | K40: =IF(E40="P",INDEX(BDD!$A$2:$B$52,MATCH('21'!$B40,BDD!$A$2:$A$52,0),2),"") -> NORMAL | L40: =IF(F40="P",INDEX(BDD!$A$2:$B$52,MATCH('21'!$B40,BDD!$A$2:$A$52,0),2),"") -> NORMAL | M40: =IF(G40="P",INDEX(BDD!$A$2:$B$52,MATCH('21'!$B40,BDD!$A$2:$A$52,0),2),"") -> NORMAL
B41: =BDD!A36 -> PIGORREAU M | C41: p | D41: p | E41: p | F41: p | G41: a | I41: =IF(C41="P",INDEX(BDD!$A$2:$B$52,MATCH('21'!$B41,BDD!$A$2:$A$52,0),2),"") -> NORMAL | J41: =IF(D41="P",INDEX(BDD!$A$2:$B$52,MATCH('21'!$B41,BDD!$A$2:$A$52,0),2),"") -> NORMAL | K41: =IF(E41="P",INDEX(BDD!$A$2:$B$52,MATCH('21'!$B41,BDD!$A$2:$A$52,0),2),"") -> NORMAL | L41: =IF(F41="P",INDEX(BDD!$A$2:$B$52,MATCH('21'!$B41,BDD!$A$2:$A$52,0),2),"") -> NORMAL | M41: =IF(G41="P",INDEX(BDD!$A$2:$B$52,MATCH('21'!$B41,BDD!$A$2:$A$52,0),2),"")
... B50: =BDD!A45 -> VERGNY fr | C50: p | D50: p | E50: p | F50: p | G50: a | I50: =IF(C50="P",INDEX(BDD!$A$2:$B$52,MATCH('21'!$B50,BDD!$A$2:$A$52,0),2),"") -> NORMAL | J50: =IF(D50="P",INDEX(BDD!$A$2:$B$52,MATCH('21'!$B50,BDD!$A$2:$A$52,0),2),"") -> NORMAL | K50: =IF(E50="P",INDEX(BDD!$A$2:$B$52,MATCH('21'!$B50,BDD!$A$2:$A$52,0),2),"") -> NORMAL | L50: =IF(F50="P",INDEX(BDD!$A$2:$B$52,MATCH('21'!$B50,BDD!$A$2:$A$52,0),2),"") -> NORMAL | M50: =IF(G50="P",INDEX(BDD!$A$2:$B$52,MATCH('21'!$B50,BDD!$A$2:$A$52,0),2),"")
I51: =IF(C51="P",INDEX(BDD!$A$2:$B$52,MATCH('21'!$B51,BDD!$A$2:$A$52,0),2),"") | J51: =IF(D51="P",INDEX(BDD!$A$2:$B$52,MATCH('21'!$B51,BDD!$A$2:$A$52,0),2),"") | K51: =IF(E51="P",INDEX(BDD!$A$2:$B$52,MATCH('21'!$B51,BDD!$A$2:$A$52,0),2),"") | L51: =IF(F51="P",INDEX(BDD!$A$2:$B$52,MATCH('21'!$B51,BDD!$A$2:$A$52,0),2),"") | M51: =IF(G51="P",INDEX(BDD!$A$2:$B$52,MATCH('21'!$B51,BDD!$A$2:$A$52,0),2),"")
B52: =BDD!A47 -> STAGIAIRE | I52: =IF(C52="P",INDEX(BDD!$A$2:$B$52,MATCH('21'!$B52,BDD!$A$2:$A$52,0),2),"") | J52: =IF(D52="P",INDEX(BDD!$A$2:$B$52,MATCH('21'!$B52,BDD!$A$2:$A$52,0),2),"") | K52: =IF(E52="P",INDEX(BDD!$A$2:$B$52,MATCH('21'!$B52,BDD!$A$2:$A$52,0),2),"") | L52: =IF(F52="P",INDEX(BDD!$A$2:$B$52,MATCH('21'!$B52,BDD!$A$2:$A$52,0),2),"") | M52: =IF(G52="P",INDEX(BDD!$A$2:$B$52,MATCH('21'!$B52,BDD!$A$2:$A$52,0),2),"")
C54: Effectifs cuisine
C55: =MID(CELL("nomfichier",$A$1),FIND("]",CELL("nomfichier",$A$1))+1,50) -> 21
A56: Total J/S | C56: =C57 -> 42513 | D56: =D57 -> 42514 | E56: =E57 -> 42515 | F56: =F57 -> 42516 | G56: =G57 -> 42517
C57: =7*C55+DATE(B2,1,3)-WEEKDAY(DATE(B2,1,3))-5 -> 42513 | D57: =C57+1 -> 42514 | E57: =D57+1 -> 42515 | F57: =E57+1 -> 42516 | G57: =F57+1 -> 42517
A58: =SUM(C58:G58) -> 138 | B58: NORMAL | C58: =IF(COUNTIF(I$6:I$52,$B58)>0,COUNTIF(I$6:I$52,$B58),"") -> 31 | D58: =IF(COUNTIF(J$6:J$52,$B58)>0,COUNTIF(J$6:J$52,$B58),"") -> 31 | E58: =IF(COUNTIF(K$6:K$52,$B58)>0,COUNTIF(K$6:K$52,$B58),"") -> 28 | F58: =IF(COUNTIF(L$6:L$52,$B58)>0,COUNTIF(L$6:L$52,$B58),"") -> 30 | G58: =IF(COUNTIF(M$6:M$52,$B58)>0,COUNTIF(M$6:M$52,$B58),"") -> 18
A59: =SUM(C59:G59) -> 4 | B59: HYPOCHOLESTEROMIANT | C59: =IF(COUNTIF(I$6:I$52,$B59)>0,COUNTIF(I$6:I$52,$B59),"") -> 1 | D59: =IF(COUNTIF(J$6:J$52,$B59)>0,COUNTIF(J$6:J$52,$B59),"") -> 1 | E59: =IF(COUNTIF(K$6:K$52,$B59)>0,COUNTIF(K$6:K$52,$B59),"") -> 1 | F59: =IF(COUNTIF(L$6:L$52,$B59)>0,COUNTIF(L$6:L$52,$B59),"") -> 1 | G59: =IF(COUNTIF(M$6:M$52,$B59)>0,COUNTIF(M$6:M$52,$B59),"") | I59: =COUNTIF($I$6:$I$52,$B59) -> 1
A60: =SUM(C60:G60) -> 5 | B60: HYPOCHOLESTEROMIANT SANS PORC | C60: =IF(COUNTIF(I$6:I$52,$B60)>0,COUNTIF(I$6:I$52,$B60),"") -> 1 | D60: =IF(COUNTIF(J$6:J$52,$B60)>0,COUNTIF(J$6:J$52,$B60),"") -> 1 | E60: =IF(COUNTIF(K$6:K$52,$B60)>0,COUNTIF(K$6:K$52,$B60),"") -> 1 | F60: =IF(COUNTIF(L$6:L$52,$B60)>0,COUNTIF(L$6:L$52,$B60),"") -> 1 | G60: =IF(COUNTIF(M$6:M$52,$B60)>0,COUNTIF(M$6:M$52,$B60),"") -> 1 | I60: =COUNTIF($I$6:$I$52,$B60) -> 1
A61: =SUM(C61:G61) -> 8 | B61: HYPOCHOLESTEROMIANT & HYPOCALORIQUE | C61: =IF(COUNTIF(I$6:I$52,$B61)>0,COUNTIF(I$6:I$52,$B61),"") -> 2 | D61: =IF(COUNTIF(J$6:J$52,$B61)>0,COUNTIF(J$6:J$52,$B61),"") -> 2 | E61: =IF(COUNTIF(K$6:K$52,$B61)>0,COUNTIF(K$6:K$52,$B61),"") -> 2 | F61: =IF(COUNTIF(L$6:L$52,$B61)>0,COUNTIF(L$6:L$52,$B61),"") -> 2 | G61: =IF(COUNTIF(M$6:M$52,$B61)>0,COUNTIF(M$6:M$52,$B61),"") | I61: =COUNTIF($I$6:$I$52,$B61) -> 2
A62: =SUM(C62:G62) -> 9 | B62: HYPOCALORIQUE | C62: =IF(COUNTIF(I$6:I$52,$B62)>0,COUNTIF(I$6:I$52,$B62),"") -> 2 | D62: =IF(COUNTIF(J$6:J$52,$B62)>0,COUNTIF(J$6:J$52,$B62),"") -> 2 | E62: =IF(COUNTIF(K$6:K$52,$B62)>0,COUNTIF(K$6:K$52,$B62),"") -> 2 | F62: =IF(COUNTIF(L$6:L$52,$B62)>0,COUNTIF(L$6:L$52,$B62),"") -> 2 | G62: =IF(COUNTIF(M$6:M$52,$B62)>0,COUNTIF(M$6:M$52,$B62),"") -> 1 | I62: =COUNTIF($I$6:$I$52,$B62) -> 2
A63: =SUM(C63:G63) -> 4 | B63: HYPO URICEMIANT | C63: =IF(COUNTIF(I$6:I$52,$B63)>0,COUNTIF(I$6:I$52,$B63),"") -> 1 | D63: =IF(COUNTIF(J$6:J$52,$B63)>0,COUNTIF(J$6:J$52,$B63),"") -> 1 | E63: =IF(COUNTIF(K$6:K$52,$B63)>0,COUNTIF(K$6:K$52,$B63),"") -> 1 | F63: =IF(COUNTIF(L$6:L$52,$B63)>0,COUNTIF(L$6:L$52,$B63),"") -> 1 | G63: =IF(COUNTIF(M$6:M$52,$B63)>0,COUNTIF(M$6:M$52,$B63),"") | I63: =COUNTIF($I$6:$I$52,$B63) -> 1
A64: =SUM(C64:G64) -> 13 | B64: SANS PORC | C64: =IF(COUNTIF(I$6:I$52,$B64)>0,COUNTIF(I$6:I$52,$B64),"") -> 3 | D64: =IF(COUNTIF(J$6:J$52,$B64)>0,COUNTIF(J$6:J$52,$B64),"") -> 3 | E64: =IF(COUNTIF(K$6:K$52,$B64)>0,COUNTIF(K$6:K$52,$B64),"") -> 3 | F64: =IF(COUNTIF(L$6:L$52,$B64)>0,COUNTIF(L$6:L$52,$B64),"") -> 3 | G64: =IF(COUNTIF(M$6:M$52,$B64)>0,COUNTIF(M$6:M$52,$B64),"") -> 1 | I64: =COUNTIF($I$6:$I$52,$B64) -> 3
A65: =SUM(C65:G65) -> 0 | C65: =IF(COUNTIF(I$6:I$52,$B65)>0,COUNTIF(I$6:I$52,$B65),"") | D65: =IF(COUNTIF(J$6:J$52,$B65)>0,COUNTIF(J$6:J$52,$B65),"") | E65: =IF(COUNTIF(K$6:K$52,$B65)>0,COUNTIF(K$6:K$52,$B65),"") | F65: =IF(COUNTIF(L$6:L$52,$B65)>0,COUNTIF(L$6:L$52,$B65),"") | G65: =IF(COUNTIF(M$6:M$52,$B65)>0,COUNTIF(M$6:M$52,$B65),"") | I65: =COUNTIF($I$6:$I$52,$B65) -> 0
A67: =SUM(C67:G67) -> 0 | B67: Repas Froid
A68: =SUM(C68:G68) -> 0 | B68: Malemort / Tulle
A70: =SUM(C70:G70) -> 4 | B70: Encadrement | C70: 0 | D70: 1 | E70: 1 | F70: 1 | G70: 1
A71: =SUM(C71:G71) -> 0 | B71: Mr CONTINSUZAT J.
A72: =SUM(C72:G72) -> 1 | B72: Mme CHEDOZAUD F. | E72: 1
A73: =SUM(C73:G73) -> 1 | B73: Mme SALOU S. | D73: 0 | E73: 1
A74: =SUM(C74:G74) -> 0 | B74: Mr CHASSAING N. | D74: 0
A75: =SUM(C75:G75) -> 0 | B75: Invités
A76: =SUM(C76:G76) -> 0 | B76: Formateurs
A78: =SUM(C78:G78) -> 2 | B78: Mr CHAVEROCHE | F78: 1 | G78: 1
A79: =SUM(C79:G79) -> 5 | B79: Mr RIMOUX | C79: 1 | D79: 1 | E79: 1 | F79: 1 | G79: 1
A80: =SUM(C80:G80) -> 4 | B80: Mr VIALLEMONTEIL | C80: 1 | D80: 0 | E80: 1 | F80: 1 | G80: 1
A81: =SUM(C81:G81) -> 0 | B81: AUTRES TICKETS
A82: =SUM(C82:G82) -> 11 | B82: TOTAL TICKET | C82: =SUM(C78:C81) -> 2 | D82: =SUM(D78:D81) -> 1 | E82: =SUM(E78:E81) -> 2 | F82: =SUM(F78:F81) -> 3 | G82: =SUM(G78:G81) -> 3
A84: =SUM(C84:G84) -> 4 | B84: Repas Extérieur | C84: =COUNTIF(C6:C52,"E") -> 0 | D84: =COUNTIF(D6:D52,"E") -> 0 | E84: =COUNTIF(E6:E52,"E") -> 4 | F84: =COUNTIF(F6:F52,"E") -> 0 | G84: =COUNTIF(G6:G52,"E") -> 0
A86: =SUM(C86:G86) -> 198 | B86: Total effectif jour | C86: =SUM(C58:C81) -> 43 | D86: =SUM(D58:D81) -> 43 | E86: =SUM(E58:E81) -> 43 | F86: =SUM(F58:F81) -> 44 | G86: =SUM(G58:G81) -> 25
A87: =SUM(C87:G87) -> 185 | B87: Total effetif J-2 (facturation) | C87: 42 | D87: 42 | E87: 40 | F87: 40 | G87: 21
A88: =SUM(C88:G88) -> 192 | B88: Total effectif J-2 (repas servis) | C88: 44 | D88: 41 | E88: 43 | F88: 42 | G88: 22
C90: Semaine : | E90: =WEEKNUM(C57,21)+1 -> 22
A91: =SUM(C91:G91) -> 210 | B91: Total effectif S+1 (commandes) | C91: 45 | D91: 45 | E91: 46 | F91: 46 | G91: 28
C93: Semaine : | E93: =WEEKNUM(C57,21)+2 -> 23
A94: =SUM(C94:G94) -> 0 | B94: Total effectif S+2 (commandes)

Sheet 22
A1: P : Présent
A2: A : Absent | B2: 2016 | C2: Semaine
A3: E : Repas Ext | B3: =TODAY() -> 42564 | C3: =MID(CELL("nomfichier",$A$1),FIND("]",CELL("nomfichier",$A$1))+1,50) -> 22
C4: =C5 -> 42520 | D4: =D5 -> 42521 | E4: =E5 -> 42522 | F4: =F5 -> 42523 | G4: =G5 -> 42524
B5: NOMS | C5: =7*C3+DATE(B2,1,3)-WEEKDAY(DATE(B2,1,3))-5 -> 42520 | D5: =C5+1 -> 42521 | E5: =D5+1 -> 42522 | F5: =E5+1 -> 42523 | G5: =F5+1 -> 42524
B6: =BDD!A2 -> AIT SAID A | C6: p | D6: p | E6: p | F6: p | G6: p | I6: =IF(C6="P",INDEX(BDD!$A$2:$B$52,MATCH('22'!$B6,BDD!$A$2:$A$52,0),2),"") -> SANS PORC | J6: =IF(D6="P",INDEX(BDD!$A$2:$B$52,MATCH('22'!$B6,BDD!$A$2:$A$52,0),2),"") -> SANS PORC | K6: =IF(E6="P",INDEX(BDD!$A$2:$B$52,MATCH('22'!$B6,BDD!$A$2:$A$52,0),2),"") -> SANS PORC | L6: =IF(F6="P",INDEX(BDD!$A$2:$B$52,MATCH('22'!$B6,BDD!$A$2:$A$52,0),2),"") -> SANS PORC | M6: =IF(G6="P",INDEX(BDD!$A$2:$B$52,MATCH('22'!$B6,BDD!$A$2:$A$52,0),2),"") -> SANS PORC | R6: 1
B7: =BDD!A3 -> ALVES F | C7: p | D7: p | E7: a | F7: p | G7: p | I7: =IF(C7="P",INDEX(BDD!$A$2:$B$52,MATCH('22'!$B7,BDD!$A$2:$A$52,0),2),"") -> NORMAL | J7: =IF(D7="P",INDEX(BDD!$A$2:$B$52,MATCH('22'!$B7,BDD!$A$2:$A$52,0),2),"") -> NORMAL | K7: =IF(E7="P",INDEX(BDD!$A$2:$B$52,MATCH('22'!$B7,BDD!$A$2:$A$52,0),2),"") | L7: =IF(F7="P",INDEX(BDD!$A$2:$B$52,MATCH('22'!$B7,BDD!$A$2:$A$52,0),2),"") -> NORMAL | M7: =IF(G7="P",INDEX(BDD!$A$2:$B$52,MATCH('22'!$B7,BDD!$A$2:$A$52,0),2),"") -> NORMAL | R7: 2
B8: =BDD!A4 -> AUBASPEYRAS Y | C8: p | D8: p | E8: p | F8: p | G8: p | I8: =IF(C8="P",INDEX(BDD!$A$2:$B$52,MATCH('22'!$B8,BDD!$A$2:$A$52,0),2),"") -> NORMAL | J8: =IF(D8="P",INDEX(BDD!$A$2:$B$52,MATCH('22'!$B8,BDD!$A$2:$A$52,0),2),"") -> NORMAL | K8: =IF(E8="P",INDEX(BDD!$A$2:$B$52,MATCH('22'!$B8,BDD!$A$2:$A$52,0),2),"") -> NORMAL | L8: =IF(F8="P",INDEX(BDD!$A$2:$B$52,MATCH('22'!$B8,BDD!$A$2:$A$52,0),2),"") -> NORMAL | M8: =IF(G8="P",INDEX(BDD!$A$2:$B$52,MATCH('22'!$B8,BDD!$A$2:$A$52,0),2),"") -> NORMAL | R8: 3
B9: =BDD!A5 -> AUDY M | C9: a | D9: a | E9: a | F9: a | G9: a | I9: =IF(C9="P",INDEX(BDD!$A$2:$B$52,MATCH('22'!$B9,BDD!$A$2:$A$52,0),2),"") | J9: =IF(D9="P",INDEX(BDD!$A$2:$B$52,MATCH('22'!$B9,BDD!$A$2:$A$52,0),2),"") | K9: =IF(E9="P",INDEX(BDD!$A$2:$B$52,MATCH('22'!$B9,BDD!$A$2:$A$52,0),2),"") | L9: =IF(F9="P",INDEX(BDD!$A$2:$B$52,MATCH('22'!$B9,BDD!$A$2:$A$52,0),2),"") | M9: =IF(G9="P",INDEX(BDD!$A$2:$B$52,MATCH('22'!$B9,BDD!$A$2:$A$52,0),2),"") | R9: 4
B10: =BDD!A6 -> BRAUD J | C10: p | D10: p | E10: p | F10: p | G10: p | I10: =IF(C10="P",INDEX(BDD!$A$2:$B$52,MATCH('22'!$B10,BDD!$A$2:$A$52,0),2),"") -> NORMAL | J10: =IF(D10="P",INDEX(BDD!$A$2:$B$52,MATCH('22'!$B10,BDD!$A$2:$A$52,0),2),"") -> NORMAL | K10: =IF(E10="P",INDEX(BDD!$A$2:$B$52,MATCH('22'!$B10,BDD!$A$2:$A$52,0),2),"") -> NORMAL | L10: =IF(F10="P",INDEX(BDD!$A$2:$B$52,MATCH('22'!$B10,BDD!$A$2:$A$52,0),2),"") -> NORMAL | M10: =IF(G10="P",INDEX(BDD!$A$2:$B$52,MATCH('22'!$B10,BDD!$A$2:$A$52,0),2),"") -> NORMAL | R10: 5
B11: =BDD!A7 -> BAZETOUX V | C11: p | D11: p | E11: p | F11: p | G11: a | I11: =IF(C11="P",INDEX(BDD!$A$2:$B$52,MATCH('22'!$B11,BDD!$A$2:$A$52,0),2),"") -> NORMAL | J11: =IF(D11="P",INDEX(BDD!$A$2:$B$52,MATCH('22'!$B11,BDD!$A$2:$A$52,0),2),"") -> NORMAL | K11: =IF(E11="P",INDEX(BDD!$A$2:$B$52,MATCH('22'!$B11,BDD!$A$2:$A$52,0),2),"") -> NORMAL | L11: =IF(F11="P",INDEX(BDD!$A$2:$B$52,MATCH('22'!$B11,BDD!$A$2:$A$52,0),2),"") -> NORMAL | M11: =IF(G11="P",INDEX(BDD!$A$2:$B$52,MATCH('22'!$B11,BDD!$A$2:$A$52,0),2),"") | R11: 6
B12: =BDD!A8 -> BOKALO E | C12: a | D12: a | E12: a | F12: a | G12: a | I12: =IF(C12="P",INDEX(BDD!$A$2:$B$52,MATCH('22'!$B12,BDD!$A$2:$A$52,0),2),"") | J12: =IF(D12="P",INDEX(BDD!$A$2:$B$52,MATCH('22'!$B12,BDD!$A$2:$A$52,0),2),"") | K12: =IF(E12="P",INDEX(BDD!$A$2:$B$52,MATCH('22'!$B12,BDD!$A$2:$A$52,0),2),"") | L12: =IF(F12="P",INDEX(BDD!$A$2:$B$52,MATCH('22'!$B12,BDD!$A$2:$A$52,0),2),"") | M12: =IF(G12="P",INDEX(BDD!$A$2:$B$52,MATCH('22'!$B12,BDD!$A$2:$A$52,0),2),"") | R12: 7
B13: =BDD!A9 -> BRIOUAL Z | C13: p | D13: p | E13: p | F13: p | G13: a | I13: =IF(C13="P",INDEX(BDD!$A$2:$B$52,MATCH('22'!$B13,BDD!$A$2:$A$52,0),2),"") -> HYPOCHOLESTEROMIANT SANS PORC | J13: =IF(D13="P",INDEX(BDD!$A$2:$B$52,MATCH('22'!$B13,BDD!$A$2:$A$52,0),2),"") -> HYPOCHOLESTEROMIANT SANS PORC | K13: =IF(E13="P",INDEX(BDD!$A$2:$B$52,MATCH('22'!$B13,BDD!$A$2:$A$52,0),2),"") -> HYPOCHOLESTEROMIANT SANS PORC | L13: =IF(F13="P",INDEX(BDD!$A$2:$B$52,MATCH('22'!$B13,BDD!$A$2:$A$52,0),2),"") -> HYPOCHOLESTEROMIANT SANS PORC | M13: =IF(G13="P",INDEX(BDD!$A$2:$B$52,MATCH('22'!$B13,BDD!$A$2:$A$52,0),2),"") | R13: 8
B14: =BDD!A10 -> CERISUELA S | C14: p | D14: p | E14: p | F14: p | G14: a | I14: =IF(C14="P",INDEX(BDD!$A$2:$B$52,MATCH('22'!$B14,BDD!$A$2:$A$52,0),2),"") -> HYPOCALORIQUE | J14: =IF(D14="P",INDEX(BDD!$A$2:$B$52,MATCH('22'!$B14,BDD!$A$2:$A$52,0),2),"") -> HYPOCALORIQUE | K14: =IF(E14="P",INDEX(BDD!$A$2:$B$52,MATCH('22'!$B14,BDD!$A$2:$A$52,0),2),"") -> HYPOCALORIQUE | L14: =IF(F14="P",INDEX(BDD!$A$2:$B$52,MATCH('22'!$B14,BDD!$A$2:$A$52,0),2),"") -> HYPOCALORIQUE | M14: =IF(G14="P",INDEX(BDD!$A$2:$B$52,MATCH('22'!$B14,BDD!$A$2:$A$52,0),2),"") | R14: 9
B15: =BDD!A11 -> CHANUT B | C15: p | D15: p | E15: p | F15: p | G15: p | I15: =IF(C15="P",INDEX(BDD!$A$2:$B$52,MATCH('22'!$B15,BDD!$A$2:$A$52,0),2),"") -> HYPOCHOLESTEROMIANT | J15: =IF(D15="P",INDEX(BDD!$A$2:$B$52,MATCH('22'!$B15,BDD!$A$2:$A$52,0),2),"") -> HYPOCHOLESTEROMIANT | K15: =IF(E15="P",INDEX(BDD!$A$2:$B$52,MATCH('22'!$B15,BDD!$A$2:$A$52,0),2),"") -> HYPOCHOLESTEROMIANT | L15: =IF(F15="P",INDEX(BDD!$A$2:$B$52,MATCH('22'!$B15,BDD!$A$2:$A$52,0),2),"") -> HYPOCHOLESTEROMIANT | M15: =IF(G15="P",INDEX(BDD!$A$2:$B$52,MATCH('22'!$B15,BDD!$A$2:$A$52,0),2),"") -> HYPOCHOLESTEROMIANT | R15: 10
B16: =BDD!A12 -> CHATTI A | C16: p | D16: p | E16: p | F16: p | G16: a | I16: =IF(C16="P",INDEX(BDD!$A$2:$B$52,MATCH('22'!$B16,BDD!$A$2:$A$52,0),2),"") -> SANS PORC | J16: =IF(D16="P",INDEX(BDD!$A$2:$B$52,MATCH('22'!$B16,BDD!$A$2:$A$52,0),2),"") -> SANS PORC | K16: =IF(E16="P",INDEX(BDD!$A$2:$B$52,MATCH('22'!$B16,BDD!$A$2:$A$52,0),2),"") -> SANS PORC | L16: =IF(F16="P",INDEX(BDD!$A$2:$B$52,MATCH('22'!$B16,BDD!$A$2:$A$52,0),2),"") -> SANS PORC | M16: =IF(G16="P",INDEX(BDD!$A$2:$B$52,MATCH('22'!$B16,BDD!$A$2:$A$52,0),2),"") | R16: 11
B17: =BDD!A13 -> DELZOR N | C17: p | D17: p | E17: a | F17: p | G17: p | I17: =IF(C17="P",INDEX(BDD!$A$2:$B$52,MATCH('22'!$B17,BDD!$A$2:$A$52,0),2),"") -> HYPO URICEMIANT | J17: =IF(D17="P",INDEX(BDD!$A$2:$B$52,MATCH('22'!$B17,BDD!$A$2:$A$52,0),2),"") -> HYPO URICEMIANT | K17: =IF(E17="P",INDEX(BDD!$A$2:$B$52,MATCH('22'!$B17,BDD!$A$2:$A$52,0),2),"") | L17: =IF(F17="P",INDEX(BDD!$A$2:$B$52,MATCH('22'!$B17,BDD!$A$2:$A$52,0),2),"") -> HYPO URICEMIANT | M17: =IF(G17="P",INDEX(BDD!$A$2:$B$52,MATCH('22'!$B17,BDD!$A$2:$A$52,0),2),"") -> HYPO URICEMIANT | R17: 12
... B19: =BDD!A15 -> DENIS P | C19: p | D19: p | E19: p | F19: p | G19: p | I19: =IF(C19="P",INDEX(BDD!$A$2:$B$52,MATCH('22'!$B19,BDD!$A$2:$A$52,0),2),"") -> NORMAL | J19: =IF(D19="P",INDEX(BDD!$A$2:$B$52,MATCH('22'!$B19,BDD!$A$2:$A$52,0),2),"") -> NORMAL | K19: =IF(E19="P",INDEX(BDD!$A$2:$B$52,MATCH('22'!$B19,BDD!$A$2:$A$52,0),2),"") -> NORMAL | L19: =IF(F19="P",INDEX(BDD!$A$2:$B$52,MATCH('22'!$B19,BDD!$A$2:$A$52,0),2),"") -> NORMAL | M19: =IF(G19="P",INDEX(BDD!$A$2:$B$52,MATCH('22'!$B19,BDD!$A$2:$A$52,0),2),"") -> NORMAL | R19: 14
B20: =BDD!#REF! -> #REF! | C20: p | D20: p | E20: p | F20: p | G20: a | I20: =IF(C20="P",INDEX(BDD!$A$2:$B$52,MATCH('22'!$B20,BDD!$A$2:$A$52,0),2),"") -> #REF! | J20: =IF(D20="P",INDEX(BDD!$A$2:$B$52,MATCH('22'!$B20,BDD!$A$2:$A$52,0),2),"") -> #REF! | K20: =IF(E20="P",INDEX(BDD!$A$2:$B$52,MATCH('22'!$B20,BDD!$A$2:$A$52,0),2),"") -> #REF! | L20: =IF(F20="P",INDEX(BDD!$A$2:$B$52,MATCH('22'!$B20,BDD!$A$2:$A$52,0),2),"") -> #REF! | M20: =IF(G20="P",INDEX(BDD!$A$2:$B$52,MATCH('22'!$B20,BDD!$A$2:$A$52,0),2),"") | R20: 15
B21: =BDD!A16 -> GAUTHIER JF | C21: p | D21: p | E21: a | F21: p | G21: a | I21: =IF(C21="P",INDEX(BDD!$A$2:$B$52,MATCH('22'!$B21,BDD!$A$2:$A$52,0),2),"") -> NORMAL | J21: =IF(D21="P",INDEX(BDD!$A$2:$B$52,MATCH('22'!$B21,BDD!$A$2:$A$52,0),2),"") -> NORMAL | K21: =IF(E21="P",INDEX(BDD!$A$2:$B$52,MATCH('22'!$B21,BDD!$A$2:$A$52,0),2),"") | L21: =IF(F21="P",INDEX(BDD!$A$2:$B$52,MATCH('22'!$B21,BDD!$A$2:$A$52,0),2),"") -> NORMAL | M21: =IF(G21="P",INDEX(BDD!$A$2:$B$52,MATCH('22'!$B21,BDD!$A$2:$A$52,0),2),"") | R21: 16
B22: =BDD!A17 -> GAUTIER Y | C22: p | D22: p | E22: p | F22: p | G22: a | I22: =IF(C22="P",INDEX(BDD!$A$2:$B$52,MATCH('22'!$B22,BDD!$A$2:$A$52,0),2),"") -> NORMAL | J22: =IF(D22="P",INDEX(BDD!$A$2:$B$52,MATCH('22'!$B22,BDD!$A$2:$A$52,0),2),"") -> NORMAL | K22: =IF(E22="P",INDEX(BDD!$A$2:$B$52,MATCH('22'!$B22,BDD!$A$2:$A$52,0),2),"") -> NORMAL | L22: =IF(F22="P",INDEX(BDD!$A$2:$B$52,MATCH('22'!$B22,BDD!$A$2:$A$52,0),2),"") -> NORMAL | M22: =IF(G22="P",INDEX(BDD!$A$2:$B$52,MATCH('22'!$B22,BDD!$A$2:$A$52,0),2),"") | R22: 17
B23: =BDD!A18 -> GOURDON F | C23: p | D23: p | E23: p | F23: p | G23: p | I23: =IF(C23="P",INDEX(BDD!$A$2:$B$52,MATCH('22'!$B23,BDD!$A$2:$A$52,0),2),"") -> NORMAL | J23: =IF(D23="P",INDEX(BDD!$A$2:$B$52,MATCH('22'!$B23,BDD!$A$2:$A$52,0),2),"") -> NORMAL | K23: =IF(E23="P",INDEX(BDD!$A$2:$B$52,MATCH('22'!$B23,BDD!$A$2:$A$52,0),2),"") -> NORMAL | L23: =IF(F23="P",INDEX(BDD!$A$2:$B$52,MATCH('22'!$B23,BDD!$A$2:$A$52,0),2),"") -> NORMAL | M23: =IF(G23="P",INDEX(BDD!$A$2:$B$52,MATCH('22'!$B23,BDD!$A$2:$A$52,0),2),"") -> NORMAL | R23: 18
B24: =BDD!A19 -> GORDOGA K | C24: p | D24: p | E24: p | F24: p | G24: p | I24: =IF(C24="P",INDEX(BDD!$A$2:$B$52,MATCH('22'!$B24,BDD!$A$2:$A$52,0),2),"") -> SANS PORC | J24: =IF(D24="P",INDEX(BDD!$A$2:$B$52,MATCH('22'!$B24,BDD!$A$2:$A$52,0),2),"") -> SANS PORC | K24: =IF(E24="P",INDEX(BDD!$A$2:$B$52,MATCH('22'!$B24,BDD!$A$2:$A$52,0),2),"") -> SANS PORC | L24: =IF(F24="P",INDEX(BDD!$A$2:$B$52,MATCH('22'!$B24,BDD!$A$2:$A$52,0),2),"") -> SANS PORC | M24: =IF(G24="P",INDEX(BDD!$A$2:$B$52,MATCH('22'!$B24,BDD!$A$2:$A$52,0),2),"") -> SANS PORC | R24: 19
B25: =BDD!A20 -> GRAVIERE JP | C25: p | D25: p | E25: p | F25: p | G25: a | I25: =IF(C25="P",INDEX(BDD!$A$2:$B$52,MATCH('22'!$B25,BDD!$A$2:$A$52,0),2),"") -> NORMAL | J25: =IF(D25="P",INDEX(BDD!$A$2:$B$52,MATCH('22'!$B25,BDD!$A$2:$A$52,0),2),"") -> NORMAL | K25: =IF(E25="P",INDEX(BDD!$A$2:$B$52,MATCH('22'!$B25,BDD!$A$2:$A$52,0),2),"") -> NORMAL | L25: =IF(F25="P",INDEX(BDD!$A$2:$B$52,MATCH('22'!$B25,BDD!$A$2:$A$52,0),2),"") -> NORMAL | M25: =IF(G25="P",INDEX(BDD!$A$2:$B$52,MATCH('22'!$B25,BDD!$A$2:$A$52,0),2),"") | R25: 20
B26: =BDD!A21 -> JULLIOT Y | C26: p | D26: p | E26: p | F26: p | G26: p | I26: =IF(C26="P",INDEX(BDD!$A$2:$B$52,MATCH('22'!$B26,BDD!$A$2:$A$52,0),2),"") -> NORMAL | J26: =IF(D26="P",INDEX(BDD!$A$2:$B$52,MATCH('22'!$B26,BDD!$A$2:$A$52,0),2),"") -> NORMAL | K26: =IF(E26="P",INDEX(BDD!$A$2:$B$52,MATCH('22'!$B26,BDD!$A$2:$A$52,0),2),"") -> NORMAL | L26: =IF(F26="P",INDEX(BDD!$A$2:$B$52,MATCH('22'!$B26,BDD!$A$2:$A$52,0),2),"") -> NORMAL | M26: =IF(G26="P",INDEX(BDD!$A$2:$B$52,MATCH('22'!$B26,BDD!$A$2:$A$52,0),2),"") -> NORMAL | R26: 21
B27: =BDD!A22 -> LARBRE JM | C27: p | D27: p | E27: p | F27: p | G27: a | I27: =IF(C27="P",INDEX(BDD!$A$2:$B$52,MATCH('22'!$B27,BDD!$A$2:$A$52,0),2),"") -> NORMAL | J27: =IF(D27="P",INDEX(BDD!$A$2:$B$52,MATCH('22'!$B27,BDD!$A$2:$A$52,0),2),"") -> NORMAL | K27: =IF(E27="P",INDEX(BDD!$A$2:$B$52,MATCH('22'!$B27,BDD!$A$2:$A$52,0),2),"") -> NORMAL | L27: =IF(F27="P",INDEX(BDD!$A$2:$B$52,MATCH('22'!$B27,BDD!$A$2:$A$52,0),2),"") -> NORMAL | M27: =IF(G27="P",INDEX(BDD!$A$2:$B$52,MATCH('22'!$B27,BDD!$A$2:$A$52,0),2),"") | R27: 22
B28: =BDD!A23 -> LAPLACE F | C28: p | D28: p | E28: a | F28: p | G28: p | I28: =IF(C28="P",INDEX(BDD!$A$2:$B$52,MATCH('22'!$B28,BDD!$A$2:$A$52,0),2),"") -> NORMAL | J28: =IF(D28="P",INDEX(BDD!$A$2:$B$52,MATCH('22'!$B28,BDD!$A$2:$A$52,0),2),"") -> NORMAL | K28: =IF(E28="P",INDEX(BDD!$A$2:$B$52,MATCH('22'!$B28,BDD!$A$2:$A$52,0),2),"") | L28: =IF(F28="P",INDEX(BDD!$A$2:$B$52,MATCH('22'!$B28,BDD!$A$2:$A$52,0),2),"") -> NORMAL | M28: =IF(G28="P",INDEX(BDD!$A$2:$B$52,MATCH('22'!$B28,BDD!$A$2:$A$52,0),2),"") -> NORMAL | R28: 23
B29: =BDD!A24 -> LARA C | C29: p | D29: p | E29: p | F29: p | G29: a | R29: 24
B30: =BDD!A25 -> LAURENT N | C30: p | D30: p | E30: p | F30: p | G30: a | I30: =IF(C30="P",INDEX(BDD!$A$2:$B$52,MATCH('22'!$B30,BDD!$A$2:$A$52,0),2),"") -> NORMAL | J30: =IF(D30="P",INDEX(BDD!$A$2:$B$52,MATCH('22'!$B30,BDD!$A$2:$A$52,0),2),"") -> NORMAL | K30: =IF(E30="P",INDEX(BDD!$A$2:$B$52,MATCH('22'!$B30,BDD!$A$2:$A$52,0),2),"") -> NORMAL | L30: =IF(F30="P",INDEX(BDD!$A$2:$B$52,MATCH('22'!$B30,BDD!$A$2:$A$52,0),2),"") -> NORMAL | M30: =IF(G30="P",INDEX(BDD!$A$2:$B$52,MATCH('22'!$B30,BDD!$A$2:$A$52,0),2),"") | R30: 25
B31: =BDD!A26 -> LEBON Y | C31: p | D31: p | E31: p | F31: p | G31: p | I31: =IF(C31="P",INDEX(BDD!$A$2:$B$52,MATCH('22'!$B31,BDD!$A$2:$A$52,0),2),"") -> NORMAL | J31: =IF(D31="P",INDEX(BDD!$A$2:$B$52,MATCH('22'!$B31,BDD!$A$2:$A$52,0),2),"") -> NORMAL | K31: =IF(E31="P",INDEX(BDD!$A$2:$B$52,MATCH('22'!$B31,BDD!$A$2:$A$52,0),2),"") -> NORMAL | L31: =IF(F31="P",INDEX(BDD!$A$2:$B$52,MATCH('22'!$B31,BDD!$A$2:$A$52,0),2),"") -> NORMAL | M31: =IF(G31="P",INDEX(BDD!$A$2:$B$52,MATCH('22'!$B31,BDD!$A$2:$A$52,0),2),"") -> NORMAL | R31: 26
B32: =BDD!A27 -> LECAM A | C32: p | D32: p | E32: p | F32: p | G32: p | I32: =IF(C32="P",INDEX(BDD!$A$2:$B$52,MATCH('22'!$B32,BDD!$A$2:$A$52,0),2),"") -> NORMAL | J32: =IF(D32="P",INDEX(BDD!$A$2:$B$52,MATCH('22'!$B32,BDD!$A$2:$A$52,0),2),"") -> NORMAL | K32: =IF(E32="P",INDEX(BDD!$A$2:$B$52,MATCH('22'!$B32,BDD!$A$2:$A$52,0),2),"") -> NORMAL | L32: =IF(F32="P",INDEX(BDD!$A$2:$B$52,MATCH('22'!$B32,BDD!$A$2:$A$52,0),2),"") -> NORMAL | M32: =IF(G32="P",INDEX(BDD!$A$2:$B$52,MATCH('22'!$B32,BDD!$A$2:$A$52,0),2),"") -> NORMAL | R32: 27
B33: =BDD!A28 -> LEHON JL | C33: p | D33: p | E33: a | F33: p | G33: a | I33: =IF(C33="P",INDEX(BDD!$A$2:$B$52,MATCH('22'!$B33,BDD!$A$2:$A$52,0),2),"") -> NORMAL | J33: =IF(D33="P",INDEX(BDD!$A$2:$B$52,MATCH('22'!$B33,BDD!$A$2:$A$52,0),2),"") -> NORMAL | K33: =IF(E33="P",INDEX(BDD!$A$2:$B$52,MATCH('22'!$B33,BDD!$A$2:$A$52,0),2),"") | L33: =IF(F33="P",INDEX(BDD!$A$2:$B$52,MATCH('22'!$B33,BDD!$A$2:$A$52,0),2),"") -> NORMAL | M33: =IF(G33="P",INDEX(BDD!$A$2:$B$52,MATCH('22'!$B33,BDD!$A$2:$A$52,0),2),"") | R33: 28
B34: =BDD!A29 -> MALERGUE MC | C34: a | D34: a | E34: p | F34: p | G34: p | I34: =IF(C34="P",INDEX(BDD!$A$2:$B$52,MATCH('22'!$B34,BDD!$A$2:$A$52,0),2),"") | J34: =IF(D34="P",INDEX(BDD!$A$2:$B$52,MATCH('22'!$B34,BDD!$A$2:$A$52,0),2),"") | K34: =IF(E34="P",INDEX(BDD!$A$2:$B$52,MATCH('22'!$B34,BDD!$A$2:$A$52,0),2),"") -> HYPOCALORIQUE | L34: =IF(F34="P",INDEX(BDD!$A$2:$B$52,MATCH('22'!$B34,BDD!$A$2:$A$52,0),2),"") -> HYPOCALORIQUE | M34: =IF(G34="P",INDEX(BDD!$A$2:$B$52,MATCH('22'!$B34,BDD!$A$2:$A$52,0),2),"") -> HYPOCALORIQUE | R34: 29
B35: =BDD!A30 -> MASSIAS JM | C35: p | D35: p | E35: p | F35: p | G35: a | I35: =IF(C35="P",INDEX(BDD!$A$2:$B$52,MATCH('22'!$B35,BDD!$A$2:$A$52,0),2),"") -> NORMAL | J35: =IF(D35="P",INDEX(BDD!$A$2:$B$52,MATCH('22'!$B35,BDD!$A$2:$A$52,0),2),"") -> NORMAL | K35: =IF(E35="P",INDEX(BDD!$A$2:$B$52,MATCH('22'!$B35,BDD!$A$2:$A$52,0),2),"") -> NORMAL | L35: =IF(F35="P",INDEX(BDD!$A$2:$B$52,MATCH('22'!$B35,BDD!$A$2:$A$52,0),2),"") -> NORMAL | M35: =IF(G35="P",INDEX(BDD!$A$2:$B$52,MATCH('22'!$B35,BDD!$A$2:$A$52,0),2),"") | R35: 30
B36: =BDD!A31 -> MAURY E | C36: a | D36: a | E36: a | F36: a | G36: a | I36: =IF(C36="P",INDEX(BDD!$A$2:$B$52,MATCH('22'!$B36,BDD!$A$2:$A$52,0),2),"") | J36: =IF(D36="P",INDEX(BDD!$A$2:$B$52,MATCH('22'!$B36,BDD!$A$2:$A$52,0),2),"") | K36: =IF(E36="P",INDEX(BDD!$A$2:$B$52,MATCH('22'!$B36,BDD!$A$2:$A$52,0),2),"") | L36: =IF(F36="P",INDEX(BDD!$A$2:$B$52,MATCH('22'!$B36,BDD!$A$2:$A$52,0),2),"") | M36: =IF(G36="P",INDEX(BDD!$A$2:$B$52,MATCH('22'!$B36,BDD!$A$2:$A$52,0),2),"") | R36: 31
B37: =BDD!A32 -> MICHELOU S | C37: p | D37: p | E37: p | F37: p | G37: p | I37: =IF(C37="P",INDEX(BDD!$A$2:$B$52,MATCH('22'!$B37,BDD!$A$2:$A$52,0),2),"") -> NORMAL | J37: =IF(D37="P",INDEX(BDD!$A$2:$B$52,MATCH('22'!$B37,BDD!$A$2:$A$52,0),2),"") -> NORMAL | K37: =IF(E37="P",INDEX(BDD!$A$2:$B$52,MATCH('22'!$B37,BDD!$A$2:$A$52,0),2),"") -> NORMAL | L37: =IF(F37="P",INDEX(BDD!$A$2:$B$52,MATCH('22'!$B37,BDD!$A$2:$A$52,0),2),"") -> NORMAL | M37: =IF(G37="P",INDEX(BDD!$A$2:$B$52,MATCH('22'!$B37,BDD!$A$2:$A$52,0),2),"") -> NORMAL | R37: 32
B38: =BDD!A33 -> ORLIANGE O | C38: p | D38: p | E38: p | F38: p | G38: p | I38: =IF(C38="P",INDEX(BDD!$A$2:$B$52,MATCH('22'!$B38,BDD!$A$2:$A$52,0),2),"") -> NORMAL | J38: =IF(D38="P",INDEX(BDD!$A$2:$B$52,MATCH('22'!$B38,BDD!$A$2:$A$52,0),2),"") -> NORMAL | K38: =IF(E38="P",INDEX(BDD!$A$2:$B$52,MATCH('22'!$B38,BDD!$A$2:$A$52,0),2),"") -> NORMAL | L38: =IF(F38="P",INDEX(BDD!$A$2:$B$52,MATCH('22'!$B38,BDD!$A$2:$A$52,0),2),"") -> NORMAL | M38: =IF(G38="P",INDEX(BDD!$A$2:$B$52,MATCH('22'!$B38,BDD!$A$2:$A$52,0),2),"") -> NORMAL | R38: 33
B39: =BDD!A34 -> PELISSIER J | C39: p | D39: p | E39: p | F39: p | G39: a | I39: =IF(C39="P",INDEX(BDD!$A$2:$B$52,MATCH('22'!$B39,BDD!$A$2:$A$52,0),2),"") -> NORMAL | J39: =IF(D39="P",INDEX(BDD!$A$2:$B$52,MATCH('22'!$B39,BDD!$A$2:$A$52,0),2),"") -> NORMAL | K39: =IF(E39="P",INDEX(BDD!$A$2:$B$52,MATCH('22'!$B39,BDD!$A$2:$A$52,0),2),"") -> NORMAL | L39: =IF(F39="P",INDEX(BDD!$A$2:$B$52,MATCH('22'!$B39,BDD!$A$2:$A$52,0),2),"") -> NORMAL | M39: =IF(G39="P",INDEX(BDD!$A$2:$B$52,MATCH('22'!$B39,BDD!$A$2:$A$52,0),2),"") | R39: 34
B40: =BDD!A35 -> PHIALIP Ch | C40: p | D40: p | E40: a | F40: p | G40: p | I40: =IF(C40="P",INDEX(BDD!$A$2:$B$52,MATCH('22'!$B40,BDD!$A$2:$A$52,0),2),"") -> NORMAL | J40: =IF(D40="P",INDEX(BDD!$A$2:$B$52,MATCH('22'!$B40,BDD!$A$2:$A$52,0),2),"") -> NORMAL | K40: =IF(E40="P",INDEX(BDD!$A$2:$B$52,MATCH('22'!$B40,BDD!$A$2:$A$52,0),2),"") | L40: =IF(F40="P",INDEX(BDD!$A$2:$B$52,MATCH('22'!$B40,BDD!$A$2:$A$52,0),2),"") -> NORMAL | M40: =IF(G40="P",INDEX(BDD!$A$2:$B$52,MATCH('22'!$B40,BDD!$A$2:$A$52,0),2),"") -> NORMAL | R40: 35
B41: =BDD!A36 -> PIGORREAU M | C41: p | D41: p | E41: p | F41: p | G41: p | I41: =IF(C41="P",INDEX(BDD!$A$2:$B$52,MATCH('22'!$B41,BDD!$A$2:$A$52,0),2),"") -> NORMAL | J41: =IF(D41="P",INDEX(BDD!$A$2:$B$52,MATCH('22'!$B41,BDD!$A$2:$A$52,0),2),"") -> NORMAL | K41: =IF(E41="P",INDEX(BDD!$A$2:$B$52,MATCH('22'!$B41,BDD!$A$2:$A$52,0),2),"") -> NORMAL | L41: =IF(F41="P",INDEX(BDD!$A$2:$B$52,MATCH('22'!$B41,BDD!$A$2:$A$52,0),2),"") -> NORMAL | M41: =IF(G41="P",INDEX(BDD!$A$2:$B$52,MATCH('22'!$B41,BDD!$A$2:$A$52,0),2),"") -> NORMAL | R41: 36
... B50: =BDD!A45 -> VERGNY fr | C50: p | D50: p | E50: p | F50: p | G50: p | I50: =IF(C50="P",INDEX(BDD!$A$2:$B$52,MATCH('22'!$B50,BDD!$A$2:$A$52,0),2),"") -> NORMAL | J50: =IF(D50="P",INDEX(BDD!$A$2:$B$52,MATCH('22'!$B50,BDD!$A$2:$A$52,0),2),"") -> NORMAL | K50: =IF(E50="P",INDEX(BDD!$A$2:$B$52,MATCH('22'!$B50,BDD!$A$2:$A$52,0),2),"") -> NORMAL | L50: =IF(F50="P",INDEX(BDD!$A$2:$B$52,MATCH('22'!$B50,BDD!$A$2:$A$52,0),2),"") -> NORMAL | M50: =IF(G50="P",INDEX(BDD!$A$2:$B$52,MATCH('22'!$B50,BDD!$A$2:$A$52,0),2),"") -> NORMAL | R50: 45
I51: =IF(C51="P",INDEX(BDD!$A$2:$B$52,MATCH('22'!$B51,BDD!$A$2:$A$52,0),2),"") | J51: =IF(D51="P",INDEX(BDD!$A$2:$B$52,MATCH('22'!$B51,BDD!$A$2:$A$52,0),2),"") | K51: =IF(E51="P",INDEX(BDD!$A$2:$B$52,MATCH('22'!$B51,BDD!$A$2:$A$52,0),2),"") | L51: =IF(F51="P",INDEX(BDD!$A$2:$B$52,MATCH('22'!$B51,BDD!$A$2:$A$52,0),2),"") | M51: =IF(G51="P",INDEX(BDD!$A$2:$B$52,MATCH('22'!$B51,BDD!$A$2:$A$52,0),2),"")
B52: =BDD!A47 -> STAGIAIRE | I52: =IF(C52="P",INDEX(BDD!$A$2:$B$52,MATCH('22'!$B52,BDD!$A$2:$A$52,0),2),"") | J52: =IF(D52="P",INDEX(BDD!$A$2:$B$52,MATCH('22'!$B52,BDD!$A$2:$A$52,0),2),"") | K52: =IF(E52="P",INDEX(BDD!$A$2:$B$52,MATCH('22'!$B52,BDD!$A$2:$A$52,0),2),"") | L52: =IF(F52="P",INDEX(BDD!$A$2:$B$52,MATCH('22'!$B52,BDD!$A$2:$A$52,0),2),"") | M52: =IF(G52="P",INDEX(BDD!$A$2:$B$52,MATCH('22'!$B52,BDD!$A$2:$A$52,0),2),"")
C54: Effectifs cuisine
C55: =MID(CELL("nomfichier",$A$1),FIND("]",CELL("nomfichier",$A$1))+1,50) -> 22
A56: Total J/S | C56: =C57 -> 42520 | D56: =D57 -> 42521 | E56: =E57 -> 42522 | F56: =F57 -> 42523 | G56: =G57 -> 42524
C57: =7*C55+DATE(B2,1,3)-WEEKDAY(DATE(B2,1,3))-5 -> 42520 | D57: =C57+1 -> 42521 | E57: =D57+1 -> 42522 | F57: =E57+1 -> 42523 | G57: =F57+1 -> 42524
A58: =SUM(C58:G58) -> 126 | B58: NORMAL | C58: =IF(COUNTIF(I$6:I$52,$B58)>0,COUNTIF(I$6:I$52,$B58),"") -> 29 | D58: =IF(COUNTIF(J$6:J$52,$B58)>0,COUNTIF(J$6:J$52,$B58),"") -> 29 | E58: =IF(COUNTIF(K$6:K$52,$B58)>0,COUNTIF(K$6:K$52,$B58),"") -> 22 | F58: =IF(COUNTIF(L$6:L$52,$B58)>0,COUNTIF(L$6:L$52,$B58),"") -> 29 | G58: =IF(COUNTIF(M$6:M$52,$B58)>0,COUNTIF(M$6:M$52,$B58),"") -> 17
A59: =SUM(C59:G59) -> 5 | B59: HYPOCHOLESTEROMIANT | C59: =IF(COUNTIF(I$6:I$52,$B59)>0,COUNTIF(I$6:I$52,$B59),"") -> 1 | D59: =IF(COUNTIF(J$6:J$52,$B59)>0,COUNTIF(J$6:J$52,$B59),"") -> 1 | E59: =IF(COUNTIF(K$6:K$52,$B59)>0,COUNTIF(K$6:K$52,$B59),"") -> 1 | F59: =IF(COUNTIF(L$6:L$52,$B59)>0,COUNTIF(L$6:L$52,$B59),"") -> 1 | G59: =IF(COUNTIF(M$6:M$52,$B59)>0,COUNTIF(M$6:M$52,$B59),"") -> 1 | I59: =COUNTIF($I$6:$I$52,$B59) -> 1
A60: =SUM(C60:G60) -> 4 | B60: HYPOCHOLESTEROMIANT SANS PORC | C60: =IF(COUNTIF(I$6:I$52,$B60)>0,COUNTIF(I$6:I$52,$B60),"") -> 1 | D60: =IF(COUNTIF(J$6:J$52,$B60)>0,COUNTIF(J$6:J$52,$B60),"") -> 1 | E60: =IF(COUNTIF(K$6:K$52,$B60)>0,COUNTIF(K$6:K$52,$B60),"") -> 1 | F60: =IF(COUNTIF(L$6:L$52,$B60)>0,COUNTIF(L$6:L$52,$B60),"") -> 1 | G60: =IF(COUNTIF(M$6:M$52,$B60)>0,COUNTIF(M$6:M$52,$B60),"") | I60: =COUNTIF($I$6:$I$52,$B60) -> 1
A61: =SUM(C61:G61) -> 10 | B61: HYPOCHOLESTEROMIANT & HYPOCALORIQUE | C61: =IF(COUNTIF(I$6:I$52,$B61)>0,COUNTIF(I$6:I$52,$B61),"") -> 2 | D61: =IF(COUNTIF(J$6:J$52,$B61)>0,COUNTIF(J$6:J$52,$B61),"") -> 2 | E61: =IF(COUNTIF(K$6:K$52,$B61)>0,COUNTIF(K$6:K$52,$B61),"") -> 2 | F61: =IF(COUNTIF(L$6:L$52,$B61)>0,COUNTIF(L$6:L$52,$B61),"") -> 2 | G61: =IF(COUNTIF(M$6:M$52,$B61)>0,COUNTIF(M$6:M$52,$B61),"") -> 2 | I61: =COUNTIF($I$6:$I$52,$B61) -> 2
A62: =SUM(C62:G62) -> 7 | B62: HYPOCALORIQUE | C62: =IF(COUNTIF(I$6:I$52,$B62)>0,COUNTIF(I$6:I$52,$B62),"") -> 1 | D62: =IF(COUNTIF(J$6:J$52,$B62)>0,COUNTIF(J$6:J$52,$B62),"") -> 1 | E62: =IF(COUNTIF(K$6:K$52,$B62)>0,COUNTIF(K$6:K$52,$B62),"") -> 2 | F62: =IF(COUNTIF(L$6:L$52,$B62)>0,COUNTIF(L$6:L$52,$B62),"") -> 2 | G62: =IF(COUNTIF(M$6:M$52,$B62)>0,COUNTIF(M$6:M$52,$B62),"") -> 1 | I62: =COUNTIF($I$6:$I$52,$B62) -> 1
A63: =SUM(C63:G63) -> 4 | B63: HYPO URICEMIANT | C63: =IF(COUNTIF(I$6:I$52,$B63)>0,COUNTIF(I$6:I$52,$B63),"") -> 1 | D63: =IF(COUNTIF(J$6:J$52,$B63)>0,COUNTIF(J$6:J$52,$B63),"") -> 1 | E63: =IF(COUNTIF(K$6:K$52,$B63)>0,COUNTIF(K$6:K$52,$B63),"") | F63: =IF(COUNTIF(L$6:L$52,$B63)>0,COUNTIF(L$6:L$52,$B63),"") -> 1 | G63: =IF(COUNTIF(M$6:M$52,$B63)>0,COUNTIF(M$6:M$52,$B63),"") -> 1 | I63: =COUNTIF($I$6:$I$52,$B63) -> 1
A64: =SUM(C64:G64) -> 14 | B64: SANS PORC | C64: =IF(COUNTIF(I$6:I$52,$B64)>0,COUNTIF(I$6:I$52,$B64),"") -> 3 | D64: =IF(COUNTIF(J$6:J$52,$B64)>0,COUNTIF(J$6:J$52,$B64),"") -> 3 | E64: =IF(COUNTIF(K$6:K$52,$B64)>0,COUNTIF(K$6:K$52,$B64),"") -> 3 | F64: =IF(COUNTIF(L$6:L$52,$B64)>0,COUNTIF(L$6:L$52,$B64),"") -> 3 | G64: =IF(COUNTIF(M$6:M$52,$B64)>0,COUNTIF(M$6:M$52,$B64),"") -> 2 | I64: =COUNTIF($I$6:$I$52,$B64) -> 3
A65: =SUM(C65:G65) -> 0 | C65: =IF(COUNTIF(I$6:I$52,$B65)>0,COUNTIF(I$6:I$52,$B65),"") | D65: =IF(COUNTIF(J$6:J$52,$B65)>0,COUNTIF(J$6:J$52,$B65),"") | E65: =IF(COUNTIF(K$6:K$52,$B65)>0,COUNTIF(K$6:K$52,$B65),"") | F65: =IF(COUNTIF(L$6:L$52,$B65)>0,COUNTIF(L$6:L$52,$B65),"") | G65: =IF(COUNTIF(M$6:M$52,$B65)>0,COUNTIF(M$6:M$52,$B65),"") | I65: =COUNTIF($I$6:$I$52,$B65) -> 0
A67: =SUM(C67:G67) -> 0 | B67: Repas Froid
A68: =SUM(C68:G68) -> 0 | B68: Malemort / Tulle
A70: =SUM(C70:G70) -> 4 | B70: Encadrement | C70: 0 | D70: 1 | E70: 1 | F70: 1 | G70: 1
A71: =SUM(C71:G71) -> 0 | B71: Mr CONTINSUZAT J.
A72: =SUM(C72:G72) -> 1 | B72: Mme CHEDOZAUD F. | E72: 1
A73: =SUM(C73:G73) -> 1 | B73: Mme SALOU S. | D73: 1 | E73: 0
A74: =SUM(C74:G74) -> 0 | B74: Mr CHASSAING N. | D74: 0
A75: =SUM(C75:G75) -> 0 | B75: Invités
A76: =SUM(C76:G76) -> 0 | B76: Formateurs
A78: =SUM(C78:G78) -> 2 | B78: Mr CHAVEROCHE | F78: 1 | G78: 1
A79: =SUM(C79:G79) -> 5 | B79: Mr RIMOUX | C79: 1 | D79: 1 | E79: 1 | F79: 1 | G79: 1
A80: =SUM(C80:G80) -> 2 | B80: Mr VIALLEMONTEIL | C80: 1 | D80: 1 | E80: 0 | F80: 0 | G80: 0
A81: =SUM(C81:G81) -> 0 | B81: AUTRES TICKETS
A82: =SUM(C82:G82) -> 9 | B82: TOTAL TICKET | C82: =SUM(C78:C81) -> 2 | D82: =SUM(D78:D81) -> 2 | E82: =SUM(E78:E81) -> 1 | F82: =SUM(F78:F81) -> 2 | G82: =SUM(G78:G81) -> 2
A84: =SUM(C84:G84) -> 0 | B84: Repas Extérieur | C84: =COUNTIF(C6:C52,"E") -> 0 | D84: =COUNTIF(D6:D52,"E") -> 0 | E84: =COUNTIF(E6:E52,"E") -> 0 | F84: =COUNTIF(F6:F52,"E") -> 0 | G84: =COUNTIF(G6:G52,"E") -> 0
A86: =SUM(C86:G86) -> 185 | B86: Total effectif jour | C86: =SUM(C58:C81) -> 40 | D86: =SUM(D58:D81) -> 42 | E86: =SUM(E58:E81) -> 34 | F86: =SUM(F58:F81) -> 42 | G86: =SUM(G58:G81) -> 27
A87: =SUM(C87:G87) -> 175 | B87: Total effetif J-2 (facturation) | C87: 39 | D87: 40 | E87: 34 | F87: 41 | G87: 21
A88: =SUM(C88:G88) -> 186 | B88: Total effectif J-2 (repas servis) | C88: 41 | D88: 43 | E88: 36 | F88: 43 | G88: 23
C90: Semaine : | E90: =WEEKNUM(C57,21)+1 -> 23
A91: =SUM(C91:G91) -> 210 | B91: Total effectif S+1 (commandes) | C91: 45 | D91: 45 | E91: 46 | F91: 46 | G91: 28
C93: Semaine : | E93: =WEEKNUM(C57,21)+2 -> 24
A94: =SUM(C94:G94) -> 0 | B94: Total effectif S+2 (commandes)

Sheet 23
A1: P : Présent
A2: A : Absent | B2: 2016 | C2: Semaine
A3: E : Repas Ext | B3: =TODAY() -> 42564 | C3: =MID(CELL("nomfichier",$A$1),FIND("]",CELL("nomfichier",$A$1))+1,50) -> 23
C4: =C5 -> 42527 | D4: =D5 -> 42528 | E4: =E5 -> 42529 | F4: =F5 -> 42530 | G4: =G5 -> 42531
B5: NOMS | C5: =7*C3+DATE(B2,1,3)-WEEKDAY(DATE(B2,1,3))-5 -> 42527 | D5: =C5+1 -> 42528 | E5: =D5+1 -> 42529 | F5: =E5+1 -> 42530 | G5: =F5+1 -> 42531
B6: =BDD!A2 -> AIT SAID A | C6: p | D6: p | E6: p | F6: p | G6: A | I6: =IF(C6="P",INDEX(BDD!$A$2:$B$52,MATCH('23'!$B6,BDD!$A$2:$A$52,0),2),"") -> SANS PORC | J6: =IF(D6="P",INDEX(BDD!$A$2:$B$52,MATCH('23'!$B6,BDD!$A$2:$A$52,0),2),"") -> SANS PORC | K6: =IF(E6="P",INDEX(BDD!$A$2:$B$52,MATCH('23'!$B6,BDD!$A$2:$A$52,0),2),"") -> SANS PORC | L6: =IF(F6="P",INDEX(BDD!$A$2:$B$52,MATCH('23'!$B6,BDD!$A$2:$A$52,0),2),"") -> SANS PORC | M6: =IF(G6="P",INDEX(BDD!$A$2:$B$52,MATCH('23'!$B6,BDD!$A$2:$A$52,0),2),"") | R6: 1
B7: =BDD!A3 -> ALVES F | C7: p | D7: p | E7: P | F7: p | G7: p | I7: =IF(C7="P",INDEX(BDD!$A$2:$B$52,MATCH('23'!$B7,BDD!$A$2:$A$52,0),2),"") -> NORMAL | J7: =IF(D7="P",INDEX(BDD!$A$2:$B$52,MATCH('23'!$B7,BDD!$A$2:$A$52,0),2),"") -> NORMAL | K7: =IF(E7="P",INDEX(BDD!$A$2:$B$52,MATCH('23'!$B7,BDD!$A$2:$A$52,0),2),"") -> NORMAL | L7: =IF(F7="P",INDEX(BDD!$A$2:$B$52,MATCH('23'!$B7,BDD!$A$2:$A$52,0),2),"") -> NORMAL | M7: =IF(G7="P",INDEX(BDD!$A$2:$B$52,MATCH('23'!$B7,BDD!$A$2:$A$52,0),2),"") -> NORMAL | R7: 2
B8: =BDD!A4 -> AUBASPEYRAS Y | C8: p | D8: p | E8: p | F8: p | G8: A | I8: =IF(C8="P",INDEX(BDD!$A$2:$B$52,MATCH('23'!$B8,BDD!$A$2:$A$52,0),2),"") -> NORMAL | J8: =IF(D8="P",INDEX(BDD!$A$2:$B$52,MATCH('23'!$B8,BDD!$A$2:$A$52,0),2),"") -> NORMAL | K8: =IF(E8="P",INDEX(BDD!$A$2:$B$52,MATCH('23'!$B8,BDD!$A$2:$A$52,0),2),"") -> NORMAL | L8: =IF(F8="P",INDEX(BDD!$A$2:$B$52,MATCH('23'!$B8,BDD!$A$2:$A$52,0),2),"") -> NORMAL | M8: =IF(G8="P",INDEX(BDD!$A$2:$B$52,MATCH('23'!$B8,BDD!$A$2:$A$52,0),2),"") | R8: 3
B9: =BDD!A5 -> AUDY M | C9: P | D9: P | E9: P | F9: P | G9: a | I9: =IF(C9="P",INDEX(BDD!$A$2:$B$52,MATCH('23'!$B9,BDD!$A$2:$A$52,0),2),"") -> NORMAL | J9: =IF(D9="P",INDEX(BDD!$A$2:$B$52,MATCH('23'!$B9,BDD!$A$2:$A$52,0),2),"") -> NORMAL | K9: =IF(E9="P",INDEX(BDD!$A$2:$B$52,MATCH('23'!$B9,BDD!$A$2:$A$52,0),2),"") -> NORMAL | L9: =IF(F9="P",INDEX(BDD!$A$2:$B$52,MATCH('23'!$B9,BDD!$A$2:$A$52,0),2),"") -> NORMAL | M9: =IF(G9="P",INDEX(BDD!$A$2:$B$52,MATCH('23'!$B9,BDD!$A$2:$A$52,0),2),"") | R9: 4
B10: =BDD!A6 -> BRAUD J | C10: P | D10: P | E10: P | F10: p | G10: A | I10: =IF(C10="P",INDEX(BDD!$A$2:$B$52,MATCH('23'!$B10,BDD!$A$2:$A$52,0),2),"") -> NORMAL | J10: =IF(D10="P",INDEX(BDD!$A$2:$B$52,MATCH('23'!$B10,BDD!$A$2:$A$52,0),2),"") -> NORMAL | K10: =IF(E10="P",INDEX(BDD!$A$2:$B$52,MATCH('23'!$B10,BDD!$A$2:$A$52,0),2),"") -> NORMAL | L10: =IF(F10="P",INDEX(BDD!$A$2:$B$52,MATCH('23'!$B10,BDD!$A$2:$A$52,0),2),"") -> NORMAL | M10: =IF(G10="P",INDEX(BDD!$A$2:$B$52,MATCH('23'!$B10,BDD!$A$2:$A$52,0),2),"") | R10: 5
B11: =BDD!A7 -> BAZETOUX V | C11: p | D11: p | E11: p | F11: p | G11: P | I11: =IF(C11="P",INDEX(BDD!$A$2:$B$52,MATCH('23'!$B11,BDD!$A$2:$A$52,0),2),"") -> NORMAL | J11: =IF(D11="P",INDEX(BDD!$A$2:$B$52,MATCH('23'!$B11,BDD!$A$2:$A$52,0),2),"") -> NORMAL | K11: =IF(E11="P",INDEX(BDD!$A$2:$B$52,MATCH('23'!$B11,BDD!$A$2:$A$52,0),2),"") -> NORMAL | L11: =IF(F11="P",INDEX(BDD!$A$2:$B$52,MATCH('23'!$B11,BDD!$A$2:$A$52,0),2),"") -> NORMAL | M11: =IF(G11="P",INDEX(BDD!$A$2:$B$52,MATCH('23'!$B11,BDD!$A$2:$A$52,0),2),"") -> NORMAL | R11: 6
B12: =BDD!A8 -> BOKALO E | C12: a | D12: a | E12: a | F12: a | G12: a | I12: =IF(C12="P",INDEX(BDD!$A$2:$B$52,MATCH('23'!$B12,BDD!$A$2:$A$52,0),2),"") | J12: =IF(D12="P",INDEX(BDD!$A$2:$B$52,MATCH('23'!$B12,BDD!$A$2:$A$52,0),2),"") | K12: =IF(E12="P",INDEX(BDD!$A$2:$B$52,MATCH('23'!$B12,BDD!$A$2:$A$52,0),2),"") | L12: =IF(F12="P",INDEX(BDD!$A$2:$B$52,MATCH('23'!$B12,BDD!$A$2:$A$52,0),2),"") | M12: =IF(G12="P",INDEX(BDD!$A$2:$B$52,MATCH('23'!$B12,BDD!$A$2:$A$52,0),2),"") | R12: 7
B13: =BDD!A9 -> BRIOUAL Z | C13: A | D13: p | E13: p | F13: p | G13: P | I13: =IF(C13="P",INDEX(BDD!$A$2:$B$52,MATCH('23'!$B13,BDD!$A$2:$A$52,0),2),"") | J13: =IF(D13="P",INDEX(BDD!$A$2:$B$52,MATCH('23'!$B13,BDD!$A$2:$A$52,0),2),"") -> HYPOCHOLESTEROMIANT SANS PORC | K13: =IF(E13="P",INDEX(BDD!$A$2:$B$52,MATCH('23'!$B13,BDD!$A$2:$A$52,0),2),"") -> HYPOCHOLESTEROMIANT SANS PORC | L13: =IF(F13="P",INDEX(BDD!$A$2:$B$52,MATCH('23'!$B13,BDD!$A$2:$A$52,0),2),"") -> HYPOCHOLESTEROMIANT SANS PORC | M13: =IF(G13="P",INDEX(BDD!$A$2:$B$52,MATCH('23'!$B13,BDD!$A$2:$A$52,0),2),"") -> HYPOCHOLESTEROMIANT SANS PORC | R13: 8
B14: =BDD!A10 -> CERISUELA S | C14: p | D14: e | E14: p | F14: p | G14: e | I14: =IF(C14="P",INDEX(BDD!$A$2:$B$52,MATCH('23'!$B14,BDD!$A$2:$A$52,0),2),"") -> HYPOCALORIQUE | J14: =IF(D14="P",INDEX(BDD!$A$2:$B$52,MATCH('23'!$B14,BDD!$A$2:$A$52,0),2),"") | K14: =IF(E14="P",INDEX(BDD!$A$2:$B$52,MATCH('23'!$B14,BDD!$A$2:$A$52,0),2),"") -> HYPOCALORIQUE | L14: =IF(F14="P",INDEX(BDD!$A$2:$B$52,MATCH('23'!$B14,BDD!$A$2:$A$52,0),2),"") -> HYPOCALORIQUE | M14: =IF(G14="P",INDEX(BDD!$A$2:$B$52,MATCH('23'!$B14,BDD!$A$2:$A$52,0),2),"") | R14: 9
B15: =BDD!A11 -> CHANUT B | C15: p | D15: p | E15: p | F15: p | G15: A | I15: =IF(C15="P",INDEX(BDD!$A$2:$B$52,MATCH('23'!$B15,BDD!$A$2:$A$52,0),2),"") -> HYPOCHOLESTEROMIANT | J15: =IF(D15="P",INDEX(BDD!$A$2:$B$52,MATCH('23'!$B15,BDD!$A$2:$A$52,0),2),"") -> HYPOCHOLESTEROMIANT | K15: =IF(E15="P",INDEX(BDD!$A$2:$B$52,MATCH('23'!$B15,BDD!$A$2:$A$52,0),2),"") -> HYPOCHOLESTEROMIANT | L15: =IF(F15="P",INDEX(BDD!$A$2:$B$52,MATCH('23'!$B15,BDD!$A$2:$A$52,0),2),"") -> HYPOCHOLESTEROMIANT | M15: =IF(G15="P",INDEX(BDD!$A$2:$B$52,MATCH('23'!$B15,BDD!$A$2:$A$52,0),2),"") | R15: 10
B16: =BDD!A12 -> CHATTI A | C16: p | D16: p | E16: p | F16: p | G16: P | I16: =IF(C16="P",INDEX(BDD!$A$2:$B$52,MATCH('23'!$B16,BDD!$A$2:$A$52,0),2),"") -> SANS PORC | J16: =IF(D16="P",INDEX(BDD!$A$2:$B$52,MATCH('23'!$B16,BDD!$A$2:$A$52,0),2),"") -> SANS PORC | K16: =IF(E16="P",INDEX(BDD!$A$2:$B$52,MATCH('23'!$B16,BDD!$A$2:$A$52,0),2),"") -> SANS PORC | L16: =IF(F16="P",INDEX(BDD!$A$2:$B$52,MATCH('23'!$B16,BDD!$A$2:$A$52,0),2),"") -> SANS PORC | M16: =IF(G16="P",INDEX(BDD!$A$2:$B$52,MATCH('23'!$B16,BDD!$A$2:$A$52,0),2),"") -> SANS PORC | R16: 11
B17: =BDD!A13 -> DELZOR N | C17: p | D17: a | E17: a | F17: a | G17: a | I17: =IF(C17="P",INDEX(BDD!$A$2:$B$52,MATCH('23'!$B17,BDD!$A$2:$A$52,0),2),"") -> HYPO URICEMIANT | J17: =IF(D17="P",INDEX(BDD!$A$2:$B$52,MATCH('23'!$B17,BDD!$A$2:$A$52,0),2),"") | K17: =IF(E17="P",INDEX(BDD!$A$2:$B$52,MATCH('23'!$B17,BDD!$A$2:$A$52,0),2),"") | L17: =IF(F17="P",INDEX(BDD!$A$2:$B$52,MATCH('23'!$B17,BDD!$A$2:$A$52,0),2),"") | M17: =IF(G17="P",INDEX(BDD!$A$2:$B$52,MATCH('23'!$B17,BDD!$A$2:$A$52,0),2),"") | R17: 12
... B19: =BDD!A15 -> DENIS P | C19: p | D19: p | E19: p | F19: p | G19: A | I19: =IF(C19="P",INDEX(BDD!$A$2:$B$52,MATCH('23'!$B19,BDD!$A$2:$A$52,0),2),"") -> NORMAL | J19: =IF(D19="P",INDEX(BDD!$A$2:$B$52,MATCH('23'!$B19,BDD!$A$2:$A$52,0),2),"") -> NORMAL | K19: =IF(E19="P",INDEX(BDD!$A$2:$B$52,MATCH('23'!$B19,BDD!$A$2:$A$52,0),2),"") -> NORMAL | L19: =IF(F19="P",INDEX(BDD!$A$2:$B$52,MATCH('23'!$B19,BDD!$A$2:$A$52,0),2),"") -> NORMAL | M19: =IF(G19="P",INDEX(BDD!$A$2:$B$52,MATCH('23'!$B19,BDD!$A$2:$A$52,0),2),"") | R19: 14
B20: =BDD!#REF! -> #REF! | C20: p | D20: p | E20: p | F20: p | G20: P | I20: =IF(C20="P",INDEX(BDD!$A$2:$B$52,MATCH('23'!$B20,BDD!$A$2:$A$52,0),2),"") -> #REF! | J20: =IF(D20="P",INDEX(BDD!$A$2:$B$52,MATCH('23'!$B20,BDD!$A$2:$A$52,0),2),"") -> #REF! | K20: =IF(E20="P",INDEX(BDD!$A$2:$B$52,MATCH('23'!$B20,BDD!$A$2:$A$52,0),2),"") -> #REF! | L20: =IF(F20="P",INDEX(BDD!$A$2:$B$52,MATCH('23'!$B20,BDD!$A$2:$A$52,0),2),"") -> #REF! | M20: =IF(G20="P",INDEX(BDD!$A$2:$B$52,MATCH('23'!$B20,BDD!$A$2:$A$52,0),2),"") -> #REF! | R20: 15
B21: =BDD!A16 -> GAUTHIER JF | C21: p | D21: a | E21: a | F21: a | G21: a | I21: =IF(C21="P",INDEX(BDD!$A$2:$B$52,MATCH('23'!$B21,BDD!$A$2:$A$52,0),2),"") -> NORMAL | J21: =IF(D21="P",INDEX(BDD!$A$2:$B$52,MATCH('23'!$B21,BDD!$A$2:$A$52,0),2),"") | K21: =IF(E21="P",INDEX(BDD!$A$2:$B$52,MATCH('23'!$B21,BDD!$A$2:$A$52,0),2),"") | L21: =IF(F21="P",INDEX(BDD!$A$2:$B$52,MATCH('23'!$B21,BDD!$A$2:$A$52,0),2),"") | M21: =IF(G21="P",INDEX(BDD!$A$2:$B$52,MATCH('23'!$B21,BDD!$A$2:$A$52,0),2),"") | R21: 16
B22: =BDD!A17 -> GAUTIER Y | C22: p | D22: p | E22: p | F22: p | G22: P | I22: =IF(C22="P",INDEX(BDD!$A$2:$B$52,MATCH('23'!$B22,BDD!$A$2:$A$52,0),2),"") -> NORMAL | J22: =IF(D22="P",INDEX(BDD!$A$2:$B$52,MATCH('23'!$B22,BDD!$A$2:$A$52,0),2),"") -> NORMAL | K22: =IF(E22="P",INDEX(BDD!$A$2:$B$52,MATCH('23'!$B22,BDD!$A$2:$A$52,0),2),"") -> NORMAL | L22: =IF(F22="P",INDEX(BDD!$A$2:$B$52,MATCH('23'!$B22,BDD!$A$2:$A$52,0),2),"") -> NORMAL | M22: =IF(G22="P",INDEX(BDD!$A$2:$B$52,MATCH('23'!$B22,BDD!$A$2:$A$52,0),2),"") -> NORMAL | R22: 17
B23: =BDD!A18 -> GOURDON F | C23: p | D23: p | E23: p | F23: p | G23: A | I23: =IF(C23="P",INDEX(BDD!$A$2:$B$52,MATCH('23'!$B23,BDD!$A$2:$A$52,0),2),"") -> NORMAL | J23: =IF(D23="P",INDEX(BDD!$A$2:$B$52,MATCH('23'!$B23,BDD!$A$2:$A$52,0),2),"") -> NORMAL | K23: =IF(E23="P",INDEX(BDD!$A$2:$B$52,MATCH('23'!$B23,BDD!$A$2:$A$52,0),2),"") -> NORMAL | L23: =IF(F23="P",INDEX(BDD!$A$2:$B$52,MATCH('23'!$B23,BDD!$A$2:$A$52,0),2),"") -> NORMAL | M23: =IF(G23="P",INDEX(BDD!$A$2:$B$52,MATCH('23'!$B23,BDD!$A$2:$A$52,0),2),"") | R23: 18
B24: =BDD!A19 -> GORDOGA K | C24: a | D24: a | E24: a | F24: a | G24: a | I24: =IF(C24="P",INDEX(BDD!$A$2:$B$52,MATCH('23'!$B24,BDD!$A$2:$A$52,0),2),"") | J24: =IF(D24="P",INDEX(BDD!$A$2:$B$52,MATCH('23'!$B24,BDD!$A$2:$A$52,0),2),"") | K24: =IF(E24="P",INDEX(BDD!$A$2:$B$52,MATCH('23'!$B24,BDD!$A$2:$A$52,0),2),"") | L24: =IF(F24="P",INDEX(BDD!$A$2:$B$52,MATCH('23'!$B24,BDD!$A$2:$A$52,0),2),"") | M24: =IF(G24="P",INDEX(BDD!$A$2:$B$52,MATCH('23'!$B24,BDD!$A$2:$A$52,0),2),"") | R24: 19
B25: =BDD!A20 -> GRAVIERE JP | C25: p | D25: a | E25: p | F25: p | G25: P | I25: =IF(C25="P",INDEX(BDD!$A$2:$B$52,MATCH('23'!$B25,BDD!$A$2:$A$52,0),2),"") -> NORMAL | J25: =IF(D25="P",INDEX(BDD!$A$2:$B$52,MATCH('23'!$B25,BDD!$A$2:$A$52,0),2),"") | K25: =IF(E25="P",INDEX(BDD!$A$2:$B$52,MATCH('23'!$B25,BDD!$A$2:$A$52,0),2),"") -> NORMAL | L25: =IF(F25="P",INDEX(BDD!$A$2:$B$52,MATCH('23'!$B25,BDD!$A$2:$A$52,0),2),"") -> NORMAL | M25: =IF(G25="P",INDEX(BDD!$A$2:$B$52,MATCH('23'!$B25,BDD!$A$2:$A$52,0),2),"") -> NORMAL | R25: 20
B26: =BDD!A21 -> JULLIOT Y | C26: p | D26: p | E26: p | F26: p | G26: p | I26: =IF(C26="P",INDEX(BDD!$A$2:$B$52,MATCH('23'!$B26,BDD!$A$2:$A$52,0),2),"") -> NORMAL | J26: =IF(D26="P",INDEX(BDD!$A$2:$B$52,MATCH('23'!$B26,BDD!$A$2:$A$52,0),2),"") -> NORMAL | K26: =IF(E26="P",INDEX(BDD!$A$2:$B$52,MATCH('23'!$B26,BDD!$A$2:$A$52,0),2),"") -> NORMAL | L26: =IF(F26="P",INDEX(BDD!$A$2:$B$52,MATCH('23'!$B26,BDD!$A$2:$A$52,0),2),"") -> NORMAL | M26: =IF(G26="P",INDEX(BDD!$A$2:$B$52,MATCH('23'!$B26,BDD!$A$2:$A$52,0),2),"") -> NORMAL | R26: 21
B27: =BDD!A22 -> LARBRE JM | C27: p | D27: p | E27: p | F27: p | G27: p | I27: =IF(C27="P",INDEX(BDD!$A$2:$B$52,MATCH('23'!$B27,BDD!$A$2:$A$52,0),2),"") -> NORMAL | J27: =IF(D27="P",INDEX(BDD!$A$2:$B$52,MATCH('23'!$B27,BDD!$A$2:$A$52,0),2),"") -> NORMAL | K27: =IF(E27="P",INDEX(BDD!$A$2:$B$52,MATCH('23'!$B27,BDD!$A$2:$A$52,0),2),"") -> NORMAL | L27: =IF(F27="P",INDEX(BDD!$A$2:$B$52,MATCH('23'!$B27,BDD!$A$2:$A$52,0),2),"") -> NORMAL | M27: =IF(G27="P",INDEX(BDD!$A$2:$B$52,MATCH('23'!$B27,BDD!$A$2:$A$52,0),2),"") -> NORMAL | R27: 22
B28: =BDD!A23 -> LAPLACE F | C28: p | D28: a | E28: a | F28: a | G28: a | I28: =IF(C28="P",INDEX(BDD!$A$2:$B$52,MATCH('23'!$B28,BDD!$A$2:$A$52,0),2),"") -> NORMAL | J28: =IF(D28="P",INDEX(BDD!$A$2:$B$52,MATCH('23'!$B28,BDD!$A$2:$A$52,0),2),"") | K28: =IF(E28="P",INDEX(BDD!$A$2:$B$52,MATCH('23'!$B28,BDD!$A$2:$A$52,0),2),"") | L28: =IF(F28="P",INDEX(BDD!$A$2:$B$52,MATCH('23'!$B28,BDD!$A$2:$A$52,0),2),"") | M28: =IF(G28="P",INDEX(BDD!$A$2:$B$52,MATCH('23'!$B28,BDD!$A$2:$A$52,0),2),"") | R28: 23
B29: =BDD!A24 -> LARA C | C29: p | D29: p | E29: a | F29: a | G29: a | R29: 24
B30: =BDD!A25 -> LAURENT N | C30: p | D30: p | E30: p | F30: p | G30: p | I30: =IF(C30="P",INDEX(BDD!$A$2:$B$52,MATCH('23'!$B30,BDD!$A$2:$A$52,0),2),"") -> NORMAL | J30: =IF(D30="P",INDEX(BDD!$A$2:$B$52,MATCH('23'!$B30,BDD!$A$2:$A$52,0),2),"") -> NORMAL | K30: =IF(E30="P",INDEX(BDD!$A$2:$B$52,MATCH('23'!$B30,BDD!$A$2:$A$52,0),2),"") -> NORMAL | L30: =IF(F30="P",INDEX(BDD!$A$2:$B$52,MATCH('23'!$B30,BDD!$A$2:$A$52,0),2),"") -> NORMAL | M30: =IF(G30="P",INDEX(BDD!$A$2:$B$52,MATCH('23'!$B30,BDD!$A$2:$A$52,0),2),"") -> NORMAL | R30: 25
B31: =BDD!A26 -> LEBON Y | C31: p | D31: p | E31: p | F31: p | G31: A | I31: =IF(C31="P",INDEX(BDD!$A$2:$B$52,MATCH('23'!$B31,BDD!$A$2:$A$52,0),2),"") -> NORMAL | J31: =IF(D31="P",INDEX(BDD!$A$2:$B$52,MATCH('23'!$B31,BDD!$A$2:$A$52,0),2),"") -> NORMAL | K31: =IF(E31="P",INDEX(BDD!$A$2:$B$52,MATCH('23'!$B31,BDD!$A$2:$A$52,0),2),"") -> NORMAL | L31: =IF(F31="P",INDEX(BDD!$A$2:$B$52,MATCH('23'!$B31,BDD!$A$2:$A$52,0),2),"") -> NORMAL | M31: =IF(G31="P",INDEX(BDD!$A$2:$B$52,MATCH('23'!$B31,BDD!$A$2:$A$52,0),2),"") | R31: 26
B32: =BDD!A27 -> LECAM A | C32: p | D32: p | E32: p | F32: p | G32: A | I32: =IF(C32="P",INDEX(BDD!$A$2:$B$52,MATCH('23'!$B32,BDD!$A$2:$A$52,0),2),"") -> NORMAL | J32: =IF(D32="P",INDEX(BDD!$A$2:$B$52,MATCH('23'!$B32,BDD!$A$2:$A$52,0),2),"") -> NORMAL | K32: =IF(E32="P",INDEX(BDD!$A$2:$B$52,MATCH('23'!$B32,BDD!$A$2:$A$52,0),2),"") -> NORMAL | L32: =IF(F32="P",INDEX(BDD!$A$2:$B$52,MATCH('23'!$B32,BDD!$A$2:$A$52,0),2),"") -> NORMAL | M32: =IF(G32="P",INDEX(BDD!$A$2:$B$52,MATCH('23'!$B32,BDD!$A$2:$A$52,0),2),"") | R32: 27
B33: =BDD!A28 -> LEHON JL | C33: p | D33: p | E33: P | F33: p | G33: p | I33: =IF(C33="P",INDEX(BDD!$A$2:$B$52,MATCH('23'!$B33,BDD!$A$2:$A$52,0),2),"") -> NORMAL | J33: =IF(D33="P",INDEX(BDD!$A$2:$B$52,MATCH('23'!$B33,BDD!$A$2:$A$52,0),2),"") -> NORMAL | K33: =IF(E33="P",INDEX(BDD!$A$2:$B$52,MATCH('23'!$B33,BDD!$A$2:$A$52,0),2),"") -> NORMAL | L33: =IF(F33="P",INDEX(BDD!$A$2:$B$52,MATCH('23'!$B33,BDD!$A$2:$A$52,0),2),"") -> NORMAL | M33: =IF(G33="P",INDEX(BDD!$A$2:$B$52,MATCH('23'!$B33,BDD!$A$2:$A$52,0),2),"") -> NORMAL | R33: 28
B34: =BDD!A29 -> MALERGUE MC | C34: P | D34: P | E34: p | F34: p | G34: p | I34: =IF(C34="P",INDEX(BDD!$A$2:$B$52,MATCH('23'!$B34,BDD!$A$2:$A$52,0),2),"") -> HYPOCALORIQUE | J34: =IF(D34="P",INDEX(BDD!$A$2:$B$52,MATCH('23'!$B34,BDD!$A$2:$A$52,0),2),"") -> HYPOCALORIQUE | K34: =IF(E34="P",INDEX(BDD!$A$2:$B$52,MATCH('23'!$B34,BDD!$A$2:$A$52,0),2),"") -> HYPOCALORIQUE | L34: =IF(F34="P",INDEX(BDD!$A$2:$B$52,MATCH('23'!$B34,BDD!$A$2:$A$52,0),2),"") -> HYPOCALORIQUE | M34: =IF(G34="P",INDEX(BDD!$A$2:$B$52,MATCH('23'!$B34,BDD!$A$2:$A$52,0),2),"") -> HYPOCALORIQUE | R34: 29
B35: =BDD!A30 -> MASSIAS JM | C35: p | D35: p | E35: p | F35: p | G35: e | I35: =IF(C35="P",INDEX(BDD!$A$2:$B$52,MATCH('23'!$B35,BDD!$A$2:$A$52,0),2),"") -> NORMAL | J35: =IF(D35="P",INDEX(BDD!$A$2:$B$52,MATCH('23'!$B35,BDD!$A$2:$A$52,0),2),"") -> NORMAL | K35: =IF(E35="P",INDEX(BDD!$A$2:$B$52,MATCH('23'!$B35,BDD!$A$2:$A$52,0),2),"") -> NORMAL | L35: =IF(F35="P",INDEX(BDD!$A$2:$B$52,MATCH('23'!$B35,BDD!$A$2:$A$52,0),2),"") -> NORMAL | M35: =IF(G35="P",INDEX(BDD!$A$2:$B$52,MATCH('23'!$B35,BDD!$A$2:$A$52,0),2),"") | R35: 30
B36: =BDD!A31 -> MAURY E | C36: a | D36: a | E36: a | F36: a | G36: a | I36: =IF(C36="P",INDEX(BDD!$A$2:$B$52,MATCH('23'!$B36,BDD!$A$2:$A$52,0),2),"") | J36: =IF(D36="P",INDEX(BDD!$A$2:$B$52,MATCH('23'!$B36,BDD!$A$2:$A$52,0),2),"") | K36: =IF(E36="P",INDEX(BDD!$A$2:$B$52,MATCH('23'!$B36,BDD!$A$2:$A$52,0),2),"") | L36: =IF(F36="P",INDEX(BDD!$A$2:$B$52,MATCH('23'!$B36,BDD!$A$2:$A$52,0),2),"") | M36: =IF(G36="P",INDEX(BDD!$A$2:$B$52,MATCH('23'!$B36,BDD!$A$2:$A$52,0),2),"") | R36: 31
B37: =BDD!A32 -> MICHELOU S | C37: a | D37: a | E37: a | F37: a | G37: a | I37: =IF(C37="P",INDEX(BDD!$A$2:$B$52,MATCH('23'!$B37,BDD!$A$2:$A$52,0),2),"") | J37: =IF(D37="P",INDEX(BDD!$A$2:$B$52,MATCH('23'!$B37,BDD!$A$2:$A$52,0),2),"") | K37: =IF(E37="P",INDEX(BDD!$A$2:$B$52,MATCH('23'!$B37,BDD!$A$2:$A$52,0),2),"") | L37: =IF(F37="P",INDEX(BDD!$A$2:$B$52,MATCH('23'!$B37,BDD!$A$2:$A$52,0),2),"") | M37: =IF(G37="P",INDEX(BDD!$A$2:$B$52,MATCH('23'!$B37,BDD!$A$2:$A$52,0),2),"") | R37: 32
B38: =BDD!A33 -> ORLIANGE O | C38: p | D38: p | E38: p | F38: p | G38: a | I38: =IF(C38="P",INDEX(BDD!$A$2:$B$52,MATCH('23'!$B38,BDD!$A$2:$A$52,0),2),"") -> NORMAL | J38: =IF(D38="P",INDEX(BDD!$A$2:$B$52,MATCH('23'!$B38,BDD!$A$2:$A$52,0),2),"") -> NORMAL | K38: =IF(E38="P",INDEX(BDD!$A$2:$B$52,MATCH('23'!$B38,BDD!$A$2:$A$52,0),2),"") -> NORMAL | L38: =IF(F38="P",INDEX(BDD!$A$2:$B$52,MATCH('23'!$B38,BDD!$A$2:$A$52,0),2),"") -> NORMAL | M38: =IF(G38="P",INDEX(BDD!$A$2:$B$52,MATCH('23'!$B38,BDD!$A$2:$A$52,0),2),"") | R38: 33
B39: =BDD!A34 -> PELISSIER J | C39: p | D39: e | E39: p | F39: p | G39: P | I39: =IF(C39="P",INDEX(BDD!$A$2:$B$52,MATCH('23'!$B39,BDD!$A$2:$A$52,0),2),"") -> NORMAL | J39: =IF(D39="P",INDEX(BDD!$A$2:$B$52,MATCH('23'!$B39,BDD!$A$2:$A$52,0),2),"") | K39: =IF(E39="P",INDEX(BDD!$A$2:$B$52,MATCH('23'!$B39,BDD!$A$2:$A$52,0),2),"") -> NORMAL | L39: =IF(F39="P",INDEX(BDD!$A$2:$B$52,MATCH('23'!$B39,BDD!$A$2:$A$52,0),2),"") -> NORMAL | M39: =IF(G39="P",INDEX(BDD!$A$2:$B$52,MATCH('23'!$B39,BDD!$A$2:$A$52,0),2),"") -> NORMAL | R39: 34
B40: =BDD!A35 -> PHIALIP Ch | C40: p | D40: p | E40: P | F40: p | G40: A | I40: =IF(C40="P",INDEX(BDD!$A$2:$B$52,MATCH('23'!$B40,BDD!$A$2:$A$52,0),2),"") -> NORMAL | J40: =IF(D40="P",INDEX(BDD!$A$2:$B$52,MATCH('23'!$B40,BDD!$A$2:$A$52,0),2),"") -> NORMAL | K40: =IF(E40="P",INDEX(BDD!$A$2:$B$52,MATCH('23'!$B40,BDD!$A$2:$A$52,0),2),"") -> NORMAL | L40: =IF(F40="P",INDEX(BDD!$A$2:$B$52,MATCH('23'!$B40,BDD!$A$2:$A$52,0),2),"") -> NORMAL | M40: =IF(G40="P",INDEX(BDD!$A$2:$B$52,MATCH('23'!$B40,BDD!$A$2:$A$52,0),2),"") | R40: 35
B41: =BDD!A36 -> PIGORREAU M | C41: p | D41: p | E41: p | F41: p | G41: A | I41: =IF(C41="P",INDEX(BDD!$A$2:$B$52,MATCH('23'!$B41,BDD!$A$2:$A$52,0),2),"") -> NORMAL | J41: =IF(D41="P",INDEX(BDD!$A$2:$B$52,MATCH('23'!$B41,BDD!$A$2:$A$52,0),2),"") -> NORMAL | K41: =IF(E41="P",INDEX(BDD!$A$2:$B$52,MATCH('23'!$B41,BDD!$A$2:$A$52,0),2),"") -> NORMAL | L41: =IF(F41="P",INDEX(BDD!$A$2:$B$52,MATCH('23'!$B41,BDD!$A$2:$A$52,0),2),"") -> NORMAL | M41: =IF(G41="P",INDEX(BDD!$A$2:$B$52,MATCH('23'!$B41,BDD!$A$2:$A$52,0),2),"") | R41: 36
... B50: =BDD!A45 -> VERGNY fr | C50: p | D50: p | E50: p | F50: p | G50: A | I50: =IF(C50="P",INDEX(BDD!$A$2:$B$52,MATCH('23'!$B50,BDD!$A$2:$A$52,0),2),"") -> NORMAL | J50: =IF(D50="P",INDEX(BDD!$A$2:$B$52,MATCH('23'!$B50,BDD!$A$2:$A$52,0),2),"") -> NORMAL | K50: =IF(E50="P",INDEX(BDD!$A$2:$B$52,MATCH('23'!$B50,BDD!$A$2:$A$52,0),2),"") -> NORMAL | L50: =IF(F50="P",INDEX(BDD!$A$2:$B$52,MATCH('23'!$B50,BDD!$A$2:$A$52,0),2),"") -> NORMAL | M50: =IF(G50="P",INDEX(BDD!$A$2:$B$52,MATCH('23'!$B50,BDD!$A$2:$A$52,0),2),"") | R50: 45
I51: =IF(C51="P",INDEX(BDD!$A$2:$B$52,MATCH('23'!$B51,BDD!$A$2:$A$52,0),2),"") | J51: =IF(D51="P",INDEX(BDD!$A$2:$B$52,MATCH('23'!$B51,BDD!$A$2:$A$52,0),2),"") | K51: =IF(E51="P",INDEX(BDD!$A$2:$B$52,MATCH('23'!$B51,BDD!$A$2:$A$52,0),2),"") | L51: =IF(F51="P",INDEX(BDD!$A$2:$B$52,MATCH('23'!$B51,BDD!$A$2:$A$52,0),2),"") | M51: =IF(G51="P",INDEX(BDD!$A$2:$B$52,MATCH('23'!$B51,BDD!$A$2:$A$52,0),2),"")
B52: =BDD!A47 -> STAGIAIRE | I52: =IF(C52="P",INDEX(BDD!$A$2:$B$52,MATCH('23'!$B52,BDD!$A$2:$A$52,0),2),"") | J52: =IF(D52="P",INDEX(BDD!$A$2:$B$52,MATCH('23'!$B52,BDD!$A$2:$A$52,0),2),"") | K52: =IF(E52="P",INDEX(BDD!$A$2:$B$52,MATCH('23'!$B52,BDD!$A$2:$A$52,0),2),"") | L52: =IF(F52="P",INDEX(BDD!$A$2:$B$52,MATCH('23'!$B52,BDD!$A$2:$A$52,0),2),"") | M52: =IF(G52="P",INDEX(BDD!$A$2:$B$52,MATCH('23'!$B52,BDD!$A$2:$A$52,0),2),"")
C54: Effectifs cuisine
C55: =MID(CELL("nomfichier",$A$1),FIND("]",CELL("nomfichier",$A$1))+1,50) -> 23
A56: Total J/S | C56: =C57 -> 42527 | D56: =D57 -> 42528 | E56: =E57 -> 42529 | F56: =F57 -> 42530 | G56: =G57 -> 42531
C57: =7*C55+DATE(B2,1,3)-WEEKDAY(DATE(B2,1,3))-5 -> 42527 | D57: =C57+1 -> 42528 | E57: =D57+1 -> 42529 | F57: =E57+1 -> 42530 | G57: =F57+1 -> 42531
A58: =SUM(C58:G58) -> 119 | B58: NORMAL | C58: =IF(COUNTIF(I$6:I$52,$B58)>0,COUNTIF(I$6:I$52,$B58),"") -> 29 | D58: =IF(COUNTIF(J$6:J$52,$B58)>0,COUNTIF(J$6:J$52,$B58),"") -> 25 | E58: =IF(COUNTIF(K$6:K$52,$B58)>0,COUNTIF(K$6:K$52,$B58),"") -> 26 | F58: =IF(COUNTIF(L$6:L$52,$B58)>0,COUNTIF(L$6:L$52,$B58),"") -> 26 | G58: =IF(COUNTIF(M$6:M$52,$B58)>0,COUNTIF(M$6:M$52,$B58),"") -> 13
A59: =SUM(C59:G59) -> 4 | B59: HYPOCHOLESTEROMIANT | C59: =IF(COUNTIF(I$6:I$52,$B59)>0,COUNTIF(I$6:I$52,$B59),"") -> 1 | D59: =IF(COUNTIF(J$6:J$52,$B59)>0,COUNTIF(J$6:J$52,$B59),"") -> 1 | E59: =IF(COUNTIF(K$6:K$52,$B59)>0,COUNTIF(K$6:K$52,$B59),"") -> 1 | F59: =IF(COUNTIF(L$6:L$52,$B59)>0,COUNTIF(L$6:L$52,$B59),"") -> 1 | G59: =IF(COUNTIF(M$6:M$52,$B59)>0,COUNTIF(M$6:M$52,$B59),"") | I59: =COUNTIF($I$6:$I$52,$B59) -> 1
A60: =SUM(C60:G60) -> 4 | B60: HYPOCHOLESTEROMIANT SANS PORC | C60: =IF(COUNTIF(I$6:I$52,$B60)>0,COUNTIF(I$6:I$52,$B60),"") | D60: =IF(COUNTIF(J$6:J$52,$B60)>0,COUNTIF(J$6:J$52,$B60),"") -> 1 | E60: =IF(COUNTIF(K$6:K$52,$B60)>0,COUNTIF(K$6:K$52,$B60),"") -> 1 | F60: =IF(COUNTIF(L$6:L$52,$B60)>0,COUNTIF(L$6:L$52,$B60),"") -> 1 | G60: =IF(COUNTIF(M$6:M$52,$B60)>0,COUNTIF(M$6:M$52,$B60),"") -> 1 | I60: =COUNTIF($I$6:$I$52,$B60) -> 0
A61: =SUM(C61:G61) -> 9 | B61: HYPOCHOLESTEROMIANT & HYPOCALORIQUE | C61: =IF(COUNTIF(I$6:I$52,$B61)>0,COUNTIF(I$6:I$52,$B61),"") -> 2 | D61: =IF(COUNTIF(J$6:J$52,$B61)>0,COUNTIF(J$6:J$52,$B61),"") -> 2 | E61: =IF(COUNTIF(K$6:K$52,$B61)>0,COUNTIF(K$6:K$52,$B61),"") -> 2 | F61: =IF(COUNTIF(L$6:L$52,$B61)>0,COUNTIF(L$6:L$52,$B61),"") -> 2 | G61: =IF(COUNTIF(M$6:M$52,$B61)>0,COUNTIF(M$6:M$52,$B61),"") -> 1 | I61: =COUNTIF($I$6:$I$52,$B61) -> 2
A62: =SUM(C62:G62) -> 8 | B62: HYPOCALORIQUE | C62: =IF(COUNTIF(I$6:I$52,$B62)>0,COUNTIF(I$6:I$52,$B62),"") -> 2 | D62: =IF(COUNTIF(J$6:J$52,$B62)>0,COUNTIF(J$6:J$52,$B62),"") -> 1 | E62: =IF(COUNTIF(K$6:K$52,$B62)>0,COUNTIF(K$6:K$52,$B62),"") -> 2 | F62: =IF(COUNTIF(L$6:L$52,$B62)>0,COUNTIF(L$6:L$52,$B62),"") -> 2 | G62: =IF(COUNTIF(M$6:M$52,$B62)>0,COUNTIF(M$6:M$52,$B62),"") -> 1 | I62: =COUNTIF($I$6:$I$52,$B62) -> 2
A63: =SUM(C63:G63) -> 1 | B63: HYPO URICEMIANT | C63: =IF(COUNTIF(I$6:I$52,$B63)>0,COUNTIF(I$6:I$52,$B63),"") -> 1 | D63: =IF(COUNTIF(J$6:J$52,$B63)>0,COUNTIF(J$6:J$52,$B63),"") | E63: =IF(COUNTIF(K$6:K$52,$B63)>0,COUNTIF(K$6:K$52,$B63),"") | F63: =IF(COUNTIF(L$6:L$52,$B63)>0,COUNTIF(L$6:L$52,$B63),"") | G63: =IF(COUNTIF(M$6:M$52,$B63)>0,COUNTIF(M$6:M$52,$B63),"") | I63: =COUNTIF($I$6:$I$52,$B63) -> 1
A64: =SUM(C64:G64) -> 9 | B64: SANS PORC | C64: =IF(COUNTIF(I$6:I$52,$B64)>0,COUNTIF(I$6:I$52,$B64),"") -> 2 | D64: =IF(COUNTIF(J$6:J$52,$B64)>0,COUNTIF(J$6:J$52,$B64),"") -> 2 | E64: =IF(COUNTIF(K$6:K$52,$B64)>0,COUNTIF(K$6:K$52,$B64),"") -> 2 | F64: =IF(COUNTIF(L$6:L$52,$B64)>0,COUNTIF(L$6:L$52,$B64),"") -> 2 | G64: =IF(COUNTIF(M$6:M$52,$B64)>0,COUNTIF(M$6:M$52,$B64),"") -> 1 | I64: =COUNTIF($I$6:$I$52,$B64) -> 2
A65: =SUM(C65:G65) -> 0 | C65: =IF(COUNTIF(I$6:I$52,$B65)>0,COUNTIF(I$6:I$52,$B65),"") | D65: =IF(COUNTIF(J$6:J$52,$B65)>0,COUNTIF(J$6:J$52,$B65),"") | E65: =IF(COUNTIF(K$6:K$52,$B65)>0,COUNTIF(K$6:K$52,$B65),"") | F65: =IF(COUNTIF(L$6:L$52,$B65)>0,COUNTIF(L$6:L$52,$B65),"") | G65: =IF(COUNTIF(M$6:M$52,$B65)>0,COUNTIF(M$6:M$52,$B65),"") | I65: =COUNTIF($I$6:$I$52,$B65) -> 0
A67: =SUM(C67:G67) -> 0 | B67: Repas Froid
A68: =SUM(C68:G68) -> 0 | B68: Malemort / Tulle
A70: =SUM(C70:G70) -> 5 | B70: Encadrement | C70: 1 | D70: 1 | E70: 1 | F70: 1 | G70: 1
A71: =SUM(C71:G71) -> 1 | B71: Mr CONTINSUZAT J. | D71: 1
A72: =SUM(C72:G72) -> 1 | B72: Mme CHEDOZAUD F. | E72: 1
A73: =SUM(C73:G73) -> 1 | B73: Mme SALOU S. | D73: 0 | E73: 1
A74: =SUM(C74:G74) -> 0 | B74: Mr CHASSAING N. | D74: 0
A75: =SUM(C75:G75) -> 0 | B75: Invités
A76: =SUM(C76:G76) -> 0 | B76: Formateurs
A78: =SUM(C78:G78) -> 2 | B78: Mr CHAVEROCHE | F78: 1 | G78: 1
A79: =SUM(C79:G79) -> 5 | B79: Mr RIMOUX | C79: 1 | D79: 1 | E79: 1 | F79: 1 | G79: 1
A80: =SUM(C80:G80) -> 3 | B80: Mr VIALLEMONTEIL | C80: 0 | D80: 1 | E80: 1 | F80: 1 | G80: 0
A81: =SUM(C81:G81) -> 0 | B81: AUTRES TICKETS
A82: =SUM(C82:G82) -> 10 | B82: TOTAL TICKET | C82: =SUM(C78:C81) -> 1 | D82: =SUM(D78:D81) -> 2 | E82: =SUM(E78:E81) -> 2 | F82: =SUM(F78:F81) -> 3 | G82: =SUM(G78:G81) -> 2
A84: =SUM(C84:G84) -> 4 | B84: Repas Extérieur | C84: =COUNTIF(C6:C52,"E") -> 0 | D84: =COUNTIF(D6:D52,"E") -> 2 | E84: =COUNTIF(E6:E52,"E") -> 0 | F84: =COUNTIF(F6:F52,"E") -> 0 | G84: =COUNTIF(G6:G52,"E") -> 2
A86: =SUM(C86:G86) -> 172 | B86: Total effectif jour | C86: =SUM(C58:C81) -> 39 | D86: =SUM(D58:D81) -> 36 | E86: =SUM(E58:E81) -> 39 | F86: =SUM(F58:F81) -> 38 | G86: =SUM(G58:G81) -> 20
A87: =SUM(C87:G87) -> 167 | B87: Total effetif J-2 (facturation) | C87: 39 | D87: 35 | E87: 38 | F87: 35 | G87: 20
A88: =SUM(C88:G88) -> 186 | B88: Total effectif J-2 (repas servis) | C88: 41 | D88: 43 | E88: 36 | F88: 43 | G88: 23
C90: Semaine : | E90: =WEEKNUM(C57,21)+1 -> 24
A91: =SUM(C91:G91) -> 210 | B91: Total effectif S+1 (commandes) | C91: 45 | D91: 45 | E91: 46 | F91: 46 | G91: 28
C93: Semaine : | E93: =WEEKNUM(C57,21)+2 -> 25
A94: =SUM(C94:G94) -> 0 | B94: Total effectif S+2 (commandes)

Sheet 24
A1: P : Présent
A2: A : Absent | B2: 2016 | C2: Semaine
A3: E : Repas Ext | B3: =TODAY() -> 42564 | C3: =MID(CELL("nomfichier",$A$1),FIND("]",CELL("nomfichier",$A$1))+1,50) -> 24
C4: =C5 -> 42534 | D4: =D5 -> 42535 | E4: =E5 -> 42536 | F4: =F5 -> 42537 | G4: =G5 -> 42538
B5: NOMS | C5: =7*C3+DATE(B2,1,3)-WEEKDAY(DATE(B2,1,3))-5 -> 42534 | D5: =C5+1 -> 42535 | E5: =D5+1 -> 42536 | F5: =E5+1 -> 42537 | G5: =F5+1 -> 42538
B6: =BDD!A2 -> AIT SAID A | C6: p | D6: p | E6: p | F6: p | G6: p | I6: =IF(C6="P",INDEX(BDD!$A$2:$B$52,MATCH('24'!$B6,BDD!$A$2:$A$52,0),2),"") -> SANS PORC | J6: =IF(D6="P",INDEX(BDD!$A$2:$B$52,MATCH('24'!$B6,BDD!$A$2:$A$52,0),2),"") -> SANS PORC | K6: =IF(E6="P",INDEX(BDD!$A$2:$B$52,MATCH('24'!$B6,BDD!$A$2:$A$52,0),2),"") -> SANS PORC | L6: =IF(F6="P",INDEX(BDD!$A$2:$B$52,MATCH('24'!$B6,BDD!$A$2:$A$52,0),2),"") -> SANS PORC | M6: =IF(G6="P",INDEX(BDD!$A$2:$B$52,MATCH('24'!$B6,BDD!$A$2:$A$52,0),2),"") -> SANS PORC
B7: =BDD!A3 -> ALVES F | C7: p | D7: p | E7: P | F7: p | G7: a | I7: =IF(C7="P",INDEX(BDD!$A$2:$B$52,MATCH('24'!$B7,BDD!$A$2:$A$52,0),2),"") -> NORMAL | J7: =IF(D7="P",INDEX(BDD!$A$2:$B$52,MATCH('24'!$B7,BDD!$A$2:$A$52,0),2),"") -> NORMAL | K7: =IF(E7="P",INDEX(BDD!$A$2:$B$52,MATCH('24'!$B7,BDD!$A$2:$A$52,0),2),"") -> NORMAL | L7: =IF(F7="P",INDEX(BDD!$A$2:$B$52,MATCH('24'!$B7,BDD!$A$2:$A$52,0),2),"") -> NORMAL | M7: =IF(G7="P",INDEX(BDD!$A$2:$B$52,MATCH('24'!$B7,BDD!$A$2:$A$52,0),2),"")
B8: =BDD!A4 -> AUBASPEYRAS Y | C8: p | D8: p | E8: p | F8: p | G8: p | I8: =IF(C8="P",INDEX(BDD!$A$2:$B$52,MATCH('24'!$B8,BDD!$A$2:$A$52,0),2),"") -> NORMAL | J8: =IF(D8="P",INDEX(BDD!$A$2:$B$52,MATCH('24'!$B8,BDD!$A$2:$A$52,0),2),"") -> NORMAL | K8: =IF(E8="P",INDEX(BDD!$A$2:$B$52,MATCH('24'!$B8,BDD!$A$2:$A$52,0),2),"") -> NORMAL | L8: =IF(F8="P",INDEX(BDD!$A$2:$B$52,MATCH('24'!$B8,BDD!$A$2:$A$52,0),2),"") -> NORMAL | M8: =IF(G8="P",INDEX(BDD!$A$2:$B$52,MATCH('24'!$B8,BDD!$A$2:$A$52,0),2),"") -> NORMAL
B9: =BDD!A5 -> AUDY M | C9: P | D9: P | E9: P | F9: P | G9: p | I9: =IF(C9="P",INDEX(BDD!$A$2:$B$52,MATCH('24'!$B9,BDD!$A$2:$A$52,0),2),"") -> NORMAL | J9: =IF(D9="P",INDEX(BDD!$A$2:$B$52,MATCH('24'!$B9,BDD!$A$2:$A$52,0),2),"") -> NORMAL | K9: =IF(E9="P",INDEX(BDD!$A$2:$B$52,MATCH('24'!$B9,BDD!$A$2:$A$52,0),2),"") -> NORMAL | L9: =IF(F9="P",INDEX(BDD!$A$2:$B$52,MATCH('24'!$B9,BDD!$A$2:$A$52,0),2),"") -> NORMAL | M9: =IF(G9="P",INDEX(BDD!$A$2:$B$52,MATCH('24'!$B9,BDD!$A$2:$A$52,0),2),"") -> NORMAL
B10: =BDD!A6 -> BRAUD J | C10: P | D10: P | E10: e | F10: p | G10: p | I10: =IF(C10="P",INDEX(BDD!$A$2:$B$52,MATCH('24'!$B10,BDD!$A$2:$A$52,0),2),"") -> NORMAL | J10: =IF(D10="P",INDEX(BDD!$A$2:$B$52,MATCH('24'!$B10,BDD!$A$2:$A$52,0),2),"") -> NORMAL | K10: =IF(E10="P",INDEX(BDD!$A$2:$B$52,MATCH('24'!$B10,BDD!$A$2:$A$52,0),2),"") | L10: =IF(F10="P",INDEX(BDD!$A$2:$B$52,MATCH('24'!$B10,BDD!$A$2:$A$52,0),2),"") -> NORMAL | M10: =IF(G10="P",INDEX(BDD!$A$2:$B$52,MATCH('24'!$B10,BDD!$A$2:$A$52,0),2),"") -> NORMAL
B11: =BDD!A7 -> BAZETOUX V | C11: p | D11: p | E11: p | F11: p | G11: a | I11: =IF(C11="P",INDEX(BDD!$A$2:$B$52,MATCH('24'!$B11,BDD!$A$2:$A$52,0),2),"") -> NORMAL | J11: =IF(D11="P",INDEX(BDD!$A$2:$B$52,MATCH('24'!$B11,BDD!$A$2:$A$52,0),2),"") -> NORMAL | K11: =IF(E11="P",INDEX(BDD!$A$2:$B$52,MATCH('24'!$B11,BDD!$A$2:$A$52,0),2),"") -> NORMAL | L11: =IF(F11="P",INDEX(BDD!$A$2:$B$52,MATCH('24'!$B11,BDD!$A$2:$A$52,0),2),"") -> NORMAL | M11: =IF(G11="P",INDEX(BDD!$A$2:$B$52,MATCH('24'!$B11,BDD!$A$2:$A$52,0),2),"")
B12: =BDD!A8 -> BOKALO E | C12: a | D12: a | E12: a | F12: a | G12: a | I12: =IF(C12="P",INDEX(BDD!$A$2:$B$52,MATCH('24'!$B12,BDD!$A$2:$A$52,0),2),"") | J12: =IF(D12="P",INDEX(BDD!$A$2:$B$52,MATCH('24'!$B12,BDD!$A$2:$A$52,0),2),"") | K12: =IF(E12="P",INDEX(BDD!$A$2:$B$52,MATCH('24'!$B12,BDD!$A$2:$A$52,0),2),"") | L12: =IF(F12="P",INDEX(BDD!$A$2:$B$52,MATCH('24'!$B12,BDD!$A$2:$A$52,0),2),"") | M12: =IF(G12="P",INDEX(BDD!$A$2:$B$52,MATCH('24'!$B12,BDD!$A$2:$A$52,0),2),"")
B13: =BDD!A9 -> BRIOUAL Z | C13: p | D13: p | E13: p | F13: p | G13: a | I13: =IF(C13="P",INDEX(BDD!$A$2:$B$52,MATCH('24'!$B13,BDD!$A$2:$A$52,0),2),"") -> HYPOCHOLESTEROMIANT SANS PORC | J13: =IF(D13="P",INDEX(BDD!$A$2:$B$52,MATCH('24'!$B13,BDD!$A$2:$A$52,0),2),"") -> HYPOCHOLESTEROMIANT SANS PORC | K13: =IF(E13="P",INDEX(BDD!$A$2:$B$52,MATCH('24'!$B13,BDD!$A$2:$A$52,0),2),"") -> HYPOCHOLESTEROMIANT SANS PORC | L13: =IF(F13="P",INDEX(BDD!$A$2:$B$52,MATCH('24'!$B13,BDD!$A$2:$A$52,0),2),"") -> HYPOCHOLESTEROMIANT SANS PORC | M13: =IF(G13="P",INDEX(BDD!$A$2:$B$52,MATCH('24'!$B13,BDD!$A$2:$A$52,0),2),"")
B14: =BDD!A10 -> CERISUELA S | C14: e | D14: p | E14: p | F14: p | G14: a | I14: =IF(C14="P",INDEX(BDD!$A$2:$B$52,MATCH('24'!$B14,BDD!$A$2:$A$52,0),2),"") | J14: =IF(D14="P",INDEX(BDD!$A$2:$B$52,MATCH('24'!$B14,BDD!$A$2:$A$52,0),2),"") -> HYPOCALORIQUE | K14: =IF(E14="P",INDEX(BDD!$A$2:$B$52,MATCH('24'!$B14,BDD!$A$2:$A$52,0),2),"") -> HYPOCALORIQUE | L14: =IF(F14="P",INDEX(BDD!$A$2:$B$52,MATCH('24'!$B14,BDD!$A$2:$A$52,0),2),"") -> HYPOCALORIQUE | M14: =IF(G14="P",INDEX(BDD!$A$2:$B$52,MATCH('24'!$B14,BDD!$A$2:$A$52,0),2),"")
B15: =BDD!A11 -> CHANUT B | C15: p | D15: p | E15: p | F15: p | G15: p | I15: =IF(C15="P",INDEX(BDD!$A$2:$B$52,MATCH('24'!$B15,BDD!$A$2:$A$52,0),2),"") -> HYPOCHOLESTEROMIANT | J15: =IF(D15="P",INDEX(BDD!$A$2:$B$52,MATCH('24'!$B15,BDD!$A$2:$A$52,0),2),"") -> HYPOCHOLESTEROMIANT | K15: =IF(E15="P",INDEX(BDD!$A$2:$B$52,MATCH('24'!$B15,BDD!$A$2:$A$52,0),2),"") -> HYPOCHOLESTEROMIANT | L15: =IF(F15="P",INDEX(BDD!$A$2:$B$52,MATCH('24'!$B15,BDD!$A$2:$A$52,0),2),"") -> HYPOCHOLESTEROMIANT | M15: =IF(G15="P",INDEX(BDD!$A$2:$B$52,MATCH('24'!$B15,BDD!$A$2:$A$52,0),2),"") -> HYPOCHOLESTEROMIANT
B16: =BDD!A12 -> CHATTI A | C16: p | D16: p | E16: p | F16: p | G16: a | I16: =IF(C16="P",INDEX(BDD!$A$2:$B$52,MATCH('24'!$B16,BDD!$A$2:$A$52,0),2),"") -> SANS PORC | J16: =IF(D16="P",INDEX(BDD!$A$2:$B$52,MATCH('24'!$B16,BDD!$A$2:$A$52,0),2),"") -> SANS PORC | K16: =IF(E16="P",INDEX(BDD!$A$2:$B$52,MATCH('24'!$B16,BDD!$A$2:$A$52,0),2),"") -> SANS PORC | L16: =IF(F16="P",INDEX(BDD!$A$2:$B$52,MATCH('24'!$B16,BDD!$A$2:$A$52,0),2),"") -> SANS PORC | M16: =IF(G16="P",INDEX(BDD!$A$2:$B$52,MATCH('24'!$B16,BDD!$A$2:$A$52,0),2),"")
B17: =BDD!A13 -> DELZOR N | C17: p | D17: p | E17: p | F17: p | G17: p | I17: =IF(C17="P",INDEX(BDD!$A$2:$B$52,MATCH('24'!$B17,BDD!$A$2:$A$52,0),2),"") -> HYPO URICEMIANT | J17: =IF(D17="P",INDEX(BDD!$A$2:$B$52,MATCH('24'!$B17,BDD!$A$2:$A$52,0),2),"") -> HYPO URICEMIANT | K17: =IF(E17="P",INDEX(BDD!$A$2:$B$52,MATCH('24'!$B17,BDD!$A$2:$A$52,0),2),"") -> HYPO URICEMIANT | L17: =IF(F17="P",INDEX(BDD!$A$2:$B$52,MATCH('24'!$B17,BDD!$A$2:$A$52,0),2),"") -> HYPO URICEMIANT | M17: =IF(G17="P",INDEX(BDD!$A$2:$B$52,MATCH('24'!$B17,BDD!$A$2:$A$52,0),2),"") -> HYPO URICEMIANT
... B19: =BDD!A15 -> DENIS P | C19: p | D19: p | E19: p | F19: p | G19: p | I19: =IF(C19="P",INDEX(BDD!$A$2:$B$52,MATCH('24'!$B19,BDD!$A$2:$A$52,0),2),"") -> NORMAL | J19: =IF(D19="P",INDEX(BDD!$A$2:$B$52,MATCH('24'!$B19,BDD!$A$2:$A$52,0),2),"") -> NORMAL | K19: =IF(E19="P",INDEX(BDD!$A$2:$B$52,MATCH('24'!$B19,BDD!$A$2:$A$52,0),2),"") -> NORMAL | L19: =IF(F19="P",INDEX(BDD!$A$2:$B$52,MATCH('24'!$B19,BDD!$A$2:$A$52,0),2),"") -> NORMAL | M19: =IF(G19="P",INDEX(BDD!$A$2:$B$52,MATCH('24'!$B19,BDD!$A$2:$A$52,0),2),"") -> NORMAL
B20: =BDD!#REF! -> #REF! | C20: p | D20: p | E20: p | F20: p | G20: P | I20: =IF(C20="P",INDEX(BDD!$A$2:$B$52,MATCH('24'!$B20,BDD!$A$2:$A$52,0),2),"") -> #REF! | J20: =IF(D20="P",INDEX(BDD!$A$2:$B$52,MATCH('24'!$B20,BDD!$A$2:$A$52,0),2),"") -> #REF! | K20: =IF(E20="P",INDEX(BDD!$A$2:$B$52,MATCH('24'!$B20,BDD!$A$2:$A$52,0),2),"") -> #REF! | L20: =IF(F20="P",INDEX(BDD!$A$2:$B$52,MATCH('24'!$B20,BDD!$A$2:$A$52,0),2),"") -> #REF! | M20: =IF(G20="P",INDEX(BDD!$A$2:$B$52,MATCH('24'!$B20,BDD!$A$2:$A$52,0),2),"") -> #REF!
B21: =BDD!A16 -> GAUTHIER JF | C21: p | D21: p | E21: p | F21: p | G21: a | I21: =IF(C21="P",INDEX(BDD!$A$2:$B$52,MATCH('24'!$B21,BDD!$A$2:$A$52,0),2),"") -> NORMAL | J21: =IF(D21="P",INDEX(BDD!$A$2:$B$52,MATCH('24'!$B21,BDD!$A$2:$A$52,0),2),"") -> NORMAL | K21: =IF(E21="P",INDEX(BDD!$A$2:$B$52,MATCH('24'!$B21,BDD!$A$2:$A$52,0),2),"") -> NORMAL | L21: =IF(F21="P",INDEX(BDD!$A$2:$B$52,MATCH('24'!$B21,BDD!$A$2:$A$52,0),2),"") -> NORMAL | M21: =IF(G21="P",INDEX(BDD!$A$2:$B$52,MATCH('24'!$B21,BDD!$A$2:$A$52,0),2),"")
B22: =BDD!A17 -> GAUTIER Y | C22: p | D22: p | E22: p | F22: p | G22: a | I22: =IF(C22="P",INDEX(BDD!$A$2:$B$52,MATCH('24'!$B22,BDD!$A$2:$A$52,0),2),"") -> NORMAL | J22: =IF(D22="P",INDEX(BDD!$A$2:$B$52,MATCH('24'!$B22,BDD!$A$2:$A$52,0),2),"") -> NORMAL | K22: =IF(E22="P",INDEX(BDD!$A$2:$B$52,MATCH('24'!$B22,BDD!$A$2:$A$52,0),2),"") -> NORMAL | L22: =IF(F22="P",INDEX(BDD!$A$2:$B$52,MATCH('24'!$B22,BDD!$A$2:$A$52,0),2),"") -> NORMAL | M22: =IF(G22="P",INDEX(BDD!$A$2:$B$52,MATCH('24'!$B22,BDD!$A$2:$A$52,0),2),"")
B23: =BDD!A18 -> GOURDON F | C23: p | D23: p | E23: p | F23: p | G23: p | I23: =IF(C23="P",INDEX(BDD!$A$2:$B$52,MATCH('24'!$B23,BDD!$A$2:$A$52,0),2),"") -> NORMAL | J23: =IF(D23="P",INDEX(BDD!$A$2:$B$52,MATCH('24'!$B23,BDD!$A$2:$A$52,0),2),"") -> NORMAL | K23: =IF(E23="P",INDEX(BDD!$A$2:$B$52,MATCH('24'!$B23,BDD!$A$2:$A$52,0),2),"") -> NORMAL | L23: =IF(F23="P",INDEX(BDD!$A$2:$B$52,MATCH('24'!$B23,BDD!$A$2:$A$52,0),2),"") -> NORMAL | M23: =IF(G23="P",INDEX(BDD!$A$2:$B$52,MATCH('24'!$B23,BDD!$A$2:$A$52,0),2),"") -> NORMAL
B24: =BDD!A19 -> GORDOGA K | C24: a | D24: a | E24: p | F24: a | G24: a | I24: =IF(C24="P",INDEX(BDD!$A$2:$B$52,MATCH('24'!$B24,BDD!$A$2:$A$52,0),2),"") | J24: =IF(D24="P",INDEX(BDD!$A$2:$B$52,MATCH('24'!$B24,BDD!$A$2:$A$52,0),2),"") | K24: =IF(E24="P",INDEX(BDD!$A$2:$B$52,MATCH('24'!$B24,BDD!$A$2:$A$52,0),2),"") -> SANS PORC | L24: =IF(F24="P",INDEX(BDD!$A$2:$B$52,MATCH('24'!$B24,BDD!$A$2:$A$52,0),2),"") | M24: =IF(G24="P",INDEX(BDD!$A$2:$B$52,MATCH('24'!$B24,BDD!$A$2:$A$52,0),2),"")
B25: =BDD!A20 -> GRAVIERE JP | C25: p | D25: a | E25: p | F25: p | G25: a | I25: =IF(C25="P",INDEX(BDD!$A$2:$B$52,MATCH('24'!$B25,BDD!$A$2:$A$52,0),2),"") -> NORMAL | J25: =IF(D25="P",INDEX(BDD!$A$2:$B$52,MATCH('24'!$B25,BDD!$A$2:$A$52,0),2),"") | K25: =IF(E25="P",INDEX(BDD!$A$2:$B$52,MATCH('24'!$B25,BDD!$A$2:$A$52,0),2),"") -> NORMAL | L25: =IF(F25="P",INDEX(BDD!$A$2:$B$52,MATCH('24'!$B25,BDD!$A$2:$A$52,0),2),"") -> NORMAL | M25: =IF(G25="P",INDEX(BDD!$A$2:$B$52,MATCH('24'!$B25,BDD!$A$2:$A$52,0),2),"")
B26: =BDD!A21 -> JULLIOT Y | C26: p | D26: p | E26: p | F26: p | G26: a | I26: =IF(C26="P",INDEX(BDD!$A$2:$B$52,MATCH('24'!$B26,BDD!$A$2:$A$52,0),2),"") -> NORMAL | J26: =IF(D26="P",INDEX(BDD!$A$2:$B$52,MATCH('24'!$B26,BDD!$A$2:$A$52,0),2),"") -> NORMAL | K26: =IF(E26="P",INDEX(BDD!$A$2:$B$52,MATCH('24'!$B26,BDD!$A$2:$A$52,0),2),"") -> NORMAL | L26: =IF(F26="P",INDEX(BDD!$A$2:$B$52,MATCH('24'!$B26,BDD!$A$2:$A$52,0),2),"") -> NORMAL | M26: =IF(G26="P",INDEX(BDD!$A$2:$B$52,MATCH('24'!$B26,BDD!$A$2:$A$52,0),2),"")
B27: =BDD!A22 -> LARBRE JM | C27: p | D27: p | E27: p | F27: p | G27: a | I27: =IF(C27="P",INDEX(BDD!$A$2:$B$52,MATCH('24'!$B27,BDD!$A$2:$A$52,0),2),"") -> NORMAL | J27: =IF(D27="P",INDEX(BDD!$A$2:$B$52,MATCH('24'!$B27,BDD!$A$2:$A$52,0),2),"") -> NORMAL | K27: =IF(E27="P",INDEX(BDD!$A$2:$B$52,MATCH('24'!$B27,BDD!$A$2:$A$52,0),2),"") -> NORMAL | L27: =IF(F27="P",INDEX(BDD!$A$2:$B$52,MATCH('24'!$B27,BDD!$A$2:$A$52,0),2),"") -> NORMAL | M27: =IF(G27="P",INDEX(BDD!$A$2:$B$52,MATCH('24'!$B27,BDD!$A$2:$A$52,0),2),"")
B28: =BDD!A23 -> LAPLACE F | C28: p | D28: p | E28: p | F28: p | G28: p | I28: =IF(C28="P",INDEX(BDD!$A$2:$B$52,MATCH('24'!$B28,BDD!$A$2:$A$52,0),2),"") -> NORMAL | J28: =IF(D28="P",INDEX(BDD!$A$2:$B$52,MATCH('24'!$B28,BDD!$A$2:$A$52,0),2),"") -> NORMAL | K28: =IF(E28="P",INDEX(BDD!$A$2:$B$52,MATCH('24'!$B28,BDD!$A$2:$A$52,0),2),"") -> NORMAL | L28: =IF(F28="P",INDEX(BDD!$A$2:$B$52,MATCH('24'!$B28,BDD!$A$2:$A$52,0),2),"") -> NORMAL | M28: =IF(G28="P",INDEX(BDD!$A$2:$B$52,MATCH('24'!$B28,BDD!$A$2:$A$52,0),2),"") -> NORMAL
B29: =BDD!A24 -> LARA C | C29: p | D29: p | E29: p | F29: p | G29: a
B30: =BDD!A25 -> LAURENT N | C30: p | D30: p | E30: p | F30: p | G30: a | I30: =IF(C30="P",INDEX(BDD!$A$2:$B$52,MATCH('24'!$B30,BDD!$A$2:$A$52,0),2),"") -> NORMAL | J30: =IF(D30="P",INDEX(BDD!$A$2:$B$52,MATCH('24'!$B30,BDD!$A$2:$A$52,0),2),"") -> NORMAL | K30: =IF(E30="P",INDEX(BDD!$A$2:$B$52,MATCH('24'!$B30,BDD!$A$2:$A$52,0),2),"") -> NORMAL | L30: =IF(F30="P",INDEX(BDD!$A$2:$B$52,MATCH('24'!$B30,BDD!$A$2:$A$52,0),2),"") -> NORMAL | M30: =IF(G30="P",INDEX(BDD!$A$2:$B$52,MATCH('24'!$B30,BDD!$A$2:$A$52,0),2),"")
B31: =BDD!A26 -> LEBON Y | C31: p | D31: p | E31: p | F31: p | G31: p | I31: =IF(C31="P",INDEX(BDD!$A$2:$B$52,MATCH('24'!$B31,BDD!$A$2:$A$52,0),2),"") -> NORMAL | J31: =IF(D31="P",INDEX(BDD!$A$2:$B$52,MATCH('24'!$B31,BDD!$A$2:$A$52,0),2),"") -> NORMAL | K31: =IF(E31="P",INDEX(BDD!$A$2:$B$52,MATCH('24'!$B31,BDD!$A$2:$A$52,0),2),"") -> NORMAL | L31: =IF(F31="P",INDEX(BDD!$A$2:$B$52,MATCH('24'!$B31,BDD!$A$2:$A$52,0),2),"") -> NORMAL | M31: =IF(G31="P",INDEX(BDD!$A$2:$B$52,MATCH('24'!$B31,BDD!$A$2:$A$52,0),2),"") -> NORMAL
B32: =BDD!A27 -> LECAM A | C32: p | D32: p | E32: p | F32: p | G32: p | I32: =IF(C32="P",INDEX(BDD!$A$2:$B$52,MATCH('24'!$B32,BDD!$A$2:$A$52,0),2),"") -> NORMAL | J32: =IF(D32="P",INDEX(BDD!$A$2:$B$52,MATCH('24'!$B32,BDD!$A$2:$A$52,0),2),"") -> NORMAL | K32: =IF(E32="P",INDEX(BDD!$A$2:$B$52,MATCH('24'!$B32,BDD!$A$2:$A$52,0),2),"") -> NORMAL | L32: =IF(F32="P",INDEX(BDD!$A$2:$B$52,MATCH('24'!$B32,BDD!$A$2:$A$52,0),2),"") -> NORMAL | M32: =IF(G32="P",INDEX(BDD!$A$2:$B$52,MATCH('24'!$B32,BDD!$A$2:$A$52,0),2),"") -> NORMAL
B33: =BDD!A28 -> LEHON JL | C33: p | D33: p | E33: P | F33: p | G33: a | I33: =IF(C33="P",INDEX(BDD!$A$2:$B$52,MATCH('24'!$B33,BDD!$A$2:$A$52,0),2),"") -> NORMAL | J33: =IF(D33="P",INDEX(BDD!$A$2:$B$52,MATCH('24'!$B33,BDD!$A$2:$A$52,0),2),"") -> NORMAL | K33: =IF(E33="P",INDEX(BDD!$A$2:$B$52,MATCH('24'!$B33,BDD!$A$2:$A$52,0),2),"") -> NORMAL | L33: =IF(F33="P",INDEX(BDD!$A$2:$B$52,MATCH('24'!$B33,BDD!$A$2:$A$52,0),2),"") -> NORMAL | M33: =IF(G33="P",INDEX(BDD!$A$2:$B$52,MATCH('24'!$B33,BDD!$A$2:$A$52,0),2),"")
B34: =BDD!A29 -> MALERGUE MC | C34: P | D34: P | E34: p | F34: p | G34: p | I34: =IF(C34="P",INDEX(BDD!$A$2:$B$52,MATCH('24'!$B34,BDD!$A$2:$A$52,0),2),"") -> HYPOCALORIQUE | J34: =IF(D34="P",INDEX(BDD!$A$2:$B$52,MATCH('24'!$B34,BDD!$A$2:$A$52,0),2),"") -> HYPOCALORIQUE | K34: =IF(E34="P",INDEX(BDD!$A$2:$B$52,MATCH('24'!$B34,BDD!$A$2:$A$52,0),2),"") -> HYPOCALORIQUE | L34: =IF(F34="P",INDEX(BDD!$A$2:$B$52,MATCH('24'!$B34,BDD!$A$2:$A$52,0),2),"") -> HYPOCALORIQUE | M34: =IF(G34="P",INDEX(BDD!$A$2:$B$52,MATCH('24'!$B34,BDD!$A$2:$A$52,0),2),"") -> HYPOCALORIQUE
B35: =BDD!A30 -> MASSIAS JM | C35: e | D35: p | E35: p | F35: p | G35: a | I35: =IF(C35="P",INDEX(BDD!$A$2:$B$52,MATCH('24'!$B35,BDD!$A$2:$A$52,0),2),"") | J35: =IF(D35="P",INDEX(BDD!$A$2:$B$52,MATCH('24'!$B35,BDD!$A$2:$A$52,0),2),"") -> NORMAL | K35: =IF(E35="P",INDEX(BDD!$A$2:$B$52,MATCH('24'!$B35,BDD!$A$2:$A$52,0),2),"") -> NORMAL | L35: =IF(F35="P",INDEX(BDD!$A$2:$B$52,MATCH('24'!$B35,BDD!$A$2:$A$52,0),2),"") -> NORMAL | M35: =IF(G35="P",INDEX(BDD!$A$2:$B$52,MATCH('24'!$B35,BDD!$A$2:$A$52,0),2),"")
B36: =BDD!A31 -> MAURY E | C36: a | D36: a | E36: a | F36: a | G36: a | I36: =IF(C36="P",INDEX(BDD!$A$2:$B$52,MATCH('24'!$B36,BDD!$A$2:$A$52,0),2),"") | J36: =IF(D36="P",INDEX(BDD!$A$2:$B$52,MATCH('24'!$B36,BDD!$A$2:$A$52,0),2),"") | K36: =IF(E36="P",INDEX(BDD!$A$2:$B$52,MATCH('24'!$B36,BDD!$A$2:$A$52,0),2),"") | L36: =IF(F36="P",INDEX(BDD!$A$2:$B$52,MATCH('24'!$B36,BDD!$A$2:$A$52,0),2),"") | M36: =IF(G36="P",INDEX(BDD!$A$2:$B$52,MATCH('24'!$B36,BDD!$A$2:$A$52,0),2),"")
B37: =BDD!A32 -> MICHELOU S | C37: p | D37: p | E37: p | F37: p | G37: p | I37: =IF(C37="P",INDEX(BDD!$A$2:$B$52,MATCH('24'!$B37,BDD!$A$2:$A$52,0),2),"") -> NORMAL | J37: =IF(D37="P",INDEX(BDD!$A$2:$B$52,MATCH('24'!$B37,BDD!$A$2:$A$52,0),2),"") -> NORMAL | K37: =IF(E37="P",INDEX(BDD!$A$2:$B$52,MATCH('24'!$B37,BDD!$A$2:$A$52,0),2),"") -> NORMAL | L37: =IF(F37="P",INDEX(BDD!$A$2:$B$52,MATCH('24'!$B37,BDD!$A$2:$A$52,0),2),"") -> NORMAL | M37: =IF(G37="P",INDEX(BDD!$A$2:$B$52,MATCH('24'!$B37,BDD!$A$2:$A$52,0),2),"") -> NORMAL
B38: =BDD!A33 -> ORLIANGE O | C38: p | D38: p | E38: p | F38: p | G38: p | I38: =IF(C38="P",INDEX(BDD!$A$2:$B$52,MATCH('24'!$B38,BDD!$A$2:$A$52,0),2),"") -> NORMAL | J38: =IF(D38="P",INDEX(BDD!$A$2:$B$52,MATCH('24'!$B38,BDD!$A$2:$A$52,0),2),"") -> NORMAL | K38: =IF(E38="P",INDEX(BDD!$A$2:$B$52,MATCH('24'!$B38,BDD!$A$2:$A$52,0),2),"") -> NORMAL | L38: =IF(F38="P",INDEX(BDD!$A$2:$B$52,MATCH('24'!$B38,BDD!$A$2:$A$52,0),2),"") -> NORMAL | M38: =IF(G38="P",INDEX(BDD!$A$2:$B$52,MATCH('24'!$B38,BDD!$A$2:$A$52,0),2),"") -> NORMAL
B39: =BDD!A34 -> PELISSIER J | C39: p | D39: p | E39: p | F39: p | G39: a | I39: =IF(C39="P",INDEX(BDD!$A$2:$B$52,MATCH('24'!$B39,BDD!$A$2:$A$52,0),2),"") -> NORMAL | J39: =IF(D39="P",INDEX(BDD!$A$2:$B$52,MATCH('24'!$B39,BDD!$A$2:$A$52,0),2),"") -> NORMAL | K39: =IF(E39="P",INDEX(BDD!$A$2:$B$52,MATCH('24'!$B39,BDD!$A$2:$A$52,0),2),"") -> NORMAL | L39: =IF(F39="P",INDEX(BDD!$A$2:$B$52,MATCH('24'!$B39,BDD!$A$2:$A$52,0),2),"") -> NORMAL | M39: =IF(G39="P",INDEX(BDD!$A$2:$B$52,MATCH('24'!$B39,BDD!$A$2:$A$52,0),2),"")
B40: =BDD!A35 -> PHIALIP Ch | C40: p | D40: p | E40: e | F40: p | G40: p | I40: =IF(C40="P",INDEX(BDD!$A$2:$B$52,MATCH('24'!$B40,BDD!$A$2:$A$52,0),2),"") -> NORMAL | J40: =IF(D40="P",INDEX(BDD!$A$2:$B$52,MATCH('24'!$B40,BDD!$A$2:$A$52,0),2),"") -> NORMAL | K40: =IF(E40="P",INDEX(BDD!$A$2:$B$52,MATCH('24'!$B40,BDD!$A$2:$A$52,0),2),"") | L40: =IF(F40="P",INDEX(BDD!$A$2:$B$52,MATCH('24'!$B40,BDD!$A$2:$A$52,0),2),"") -> NORMAL | M40: =IF(G40="P",INDEX(BDD!$A$2:$B$52,MATCH('24'!$B40,BDD!$A$2:$A$52,0),2),"") -> NORMAL
B41: =BDD!A36 -> PIGORREAU M | C41: p | D41: p | E41: p | F41: p | G41: p | I41: =IF(C41="P",INDEX(BDD!$A$2:$B$52,MATCH('24'!$B41,BDD!$A$2:$A$52,0),2),"") -> NORMAL | J41: =IF(D41="P",INDEX(BDD!$A$2:$B$52,MATCH('24'!$B41,BDD!$A$2:$A$52,0),2),"") -> NORMAL | K41: =IF(E41="P",INDEX(BDD!$A$2:$B$52,MATCH('24'!$B41,BDD!$A$2:$A$52,0),2),"") -> NORMAL | L41: =IF(F41="P",INDEX(BDD!$A$2:$B$52,MATCH('24'!$B41,BDD!$A$2:$A$52,0),2),"") -> NORMAL | M41: =IF(G41="P",INDEX(BDD!$A$2:$B$52,MATCH('24'!$B41,BDD!$A$2:$A$52,0),2),"") -> NORMAL
... B50: =BDD!A45 -> VERGNY fr | C50: p | D50: p | E50: p | F50: a | G50: a | I50: =IF(C50="P",INDEX(BDD!$A$2:$B$52,MATCH('24'!$B50,BDD!$A$2:$A$52,0),2),"") -> NORMAL | J50: =IF(D50="P",INDEX(BDD!$A$2:$B$52,MATCH('24'!$B50,BDD!$A$2:$A$52,0),2),"") -> NORMAL | K50: =IF(E50="P",INDEX(BDD!$A$2:$B$52,MATCH('24'!$B50,BDD!$A$2:$A$52,0),2),"") -> NORMAL | L50: =IF(F50="P",INDEX(BDD!$A$2:$B$52,MATCH('24'!$B50,BDD!$A$2:$A$52,0),2),"") | M50: =IF(G50="P",INDEX(BDD!$A$2:$B$52,MATCH('24'!$B50,BDD!$A$2:$A$52,0),2),"")
I51: =IF(C51="P",INDEX(BDD!$A$2:$B$52,MATCH('24'!$B51,BDD!$A$2:$A$52,0),2),"") | J51: =IF(D51="P",INDEX(BDD!$A$2:$B$52,MATCH('24'!$B51,BDD!$A$2:$A$52,0),2),"") | K51: =IF(E51="P",INDEX(BDD!$A$2:$B$52,MATCH('24'!$B51,BDD!$A$2:$A$52,0),2),"") | L51: =IF(F51="P",INDEX(BDD!$A$2:$B$52,MATCH('24'!$B51,BDD!$A$2:$A$52,0),2),"") | M51: =IF(G51="P",INDEX(BDD!$A$2:$B$52,MATCH('24'!$B51,BDD!$A$2:$A$52,0),2),"")
B52: =BDD!A47 -> STAGIAIRE | C52: p | D52: p | E52: p | F52: p | G52: p | I52: =IF(C52="P",INDEX(BDD!$A$2:$B$52,MATCH('24'!$B52,BDD!$A$2:$A$52,0),2),"") -> NORMAL | J52: =IF(D52="P",INDEX(BDD!$A$2:$B$52,MATCH('24'!$B52,BDD!$A$2:$A$52,0),2),"") -> NORMAL | K52: =IF(E52="P",INDEX(BDD!$A$2:$B$52,MATCH('24'!$B52,BDD!$A$2:$A$52,0),2),"") -> NORMAL | L52: =IF(F52="P",INDEX(BDD!$A$2:$B$52,MATCH('24'!$B52,BDD!$A$2:$A$52,0),2),"") -> NORMAL | M52: =IF(G52="P",INDEX(BDD!$A$2:$B$52,MATCH('24'!$B52,BDD!$A$2:$A$52,0),2),"") -> NORMAL
C54: Effectifs cuisine
C55: =MID(CELL("nomfichier",$A$1),FIND("]",CELL("nomfichier",$A$1))+1,50) -> 24
A56: Total J/S | C56: =C57 -> 42534 | D56: =D57 -> 42535 | E56: =E57 -> 42536 | F56: =F57 -> 42537 | G56: =G57 -> 42538
C57: =7*C55+DATE(B2,1,3)-WEEKDAY(DATE(B2,1,3))-5 -> 42534 | D57: =C57+1 -> 42535 | E57: =D57+1 -> 42536 | F57: =E57+1 -> 42537 | G57: =F57+1 -> 42538
A58: =SUM(C58:G58) -> 129 | B58: NORMAL | C58: =IF(COUNTIF(I$6:I$52,$B58)>0,COUNTIF(I$6:I$52,$B58),"") -> 29 | D58: =IF(COUNTIF(J$6:J$52,$B58)>0,COUNTIF(J$6:J$52,$B58),"") -> 29 | E58: =IF(COUNTIF(K$6:K$52,$B58)>0,COUNTIF(K$6:K$52,$B58),"") -> 28 | F58: =IF(COUNTIF(L$6:L$52,$B58)>0,COUNTIF(L$6:L$52,$B58),"") -> 29 | G58: =IF(COUNTIF(M$6:M$52,$B58)>0,COUNTIF(M$6:M$52,$B58),"") -> 14
A59: =SUM(C59:G59) -> 5 | B59: HYPOCHOLESTEROMIANT | C59: =IF(COUNTIF(I$6:I$52,$B59)>0,COUNTIF(I$6:I$52,$B59),"") -> 1 | D59: =IF(COUNTIF(J$6:J$52,$B59)>0,COUNTIF(J$6:J$52,$B59),"") -> 1 | E59: =IF(COUNTIF(K$6:K$52,$B59)>0,COUNTIF(K$6:K$52,$B59),"") -> 1 | F59: =IF(COUNTIF(L$6:L$52,$B59)>0,COUNTIF(L$6:L$52,$B59),"") -> 1 | G59: =IF(COUNTIF(M$6:M$52,$B59)>0,COUNTIF(M$6:M$52,$B59),"") -> 1 | I59: =COUNTIF($I$6:$I$52,$B59) -> 1
