Workbook
Name GIRPI: Tableau2[GIRPI]
Name PPG: Tableau1[PPG]

Sheet facturation
C2: Facturation
C5: Clients | D5: Références | E5: Désignation | F5: Ref cmd | G5: Quantité | H5: P.U - H.T | I5: Montant en H.T
C6: PPG | D6: Détachement | E6: =IF(D6="","",VLOOKUP(D6,OFFSET(articles!$C$1:$E$1,0,0,COUNTA(articles!$D:$E)-1),2,FALSE)) -> Prestation sur site | G6: 2 | H6: =IF(D6="","",VLOOKUP(D6,articles!$C$1:$E$14,3,FALSE)) -> 441.74 | I6: =IF(H6="","",G6*H6) -> 883.48
C7: GIRPI | D7: NC16 | E7: =IF(D7="","",VLOOKUP(D7,OFFSET(articles!$C$1:$E$1,articles!$G$1:$H$1,0,0,COUNTA(articles!$D:$E,articles!$H:$I)-1),2,FALSE)) -> #VALUE! | H7: =IF(D7="","",VLOOKUP(D7,articles!$C$1:$E$14,3,FALSE)) -> #N/A | I7: =IF(H7="","",G7*H7) -> #N/A
E8: =IF(D8="","",VLOOKUP(D8,OFFSET(articles!$C$1:$E$1,0,0,COUNTA(articles!$D:$E)-1),2,FALSE)) | H8: =IF(D8="","",VLOOKUP(D8,articles!$C$1:$E$14,3,FALSE)) | I8: =IF(H8="","",G8*H8)
E9: =IF(D9="","",VLOOKUP(D9,OFFSET(articles!$C$1:$E$1,0,0,COUNTA(articles!$D:$E)-1),2,FALSE)) | H9: =IF(D9="","",VLOOKUP(D9,articles!$C$1:$E$14,3,FALSE)) | I9: =IF(H9="","",G9*H9)
E10: =IF(D10="","",VLOOKUP(D10,OFFSET(articles!$C$1:$E$1,0,0,COUNTA(articles!$D:$E)-1),2,FALSE)) | H10: =IF(D10="","",VLOOKUP(D10,articles!$C$1:$E$14,3,FALSE)) | I10: =IF(H10="","",G10*H10)
E11: =IF(D11="","",VLOOKUP(D11,OFFSET(articles!$C$1:$E$1,0,0,COUNTA(articles!$D:$E)-1),2,FALSE)) | H11: =IF(D11="","",VLOOKUP(D11,articles!$C$1:$E$14,3,FALSE)) | I11: =IF(H11="","",G11*H11)
E12: =IF(D12="","",VLOOKUP(D12,OFFSET(articles!$C$1:$E$1,0,0,COUNTA(articles!$D:$E)-1),2,FALSE)) | H12: =IF(D12="","",VLOOKUP(D12,articles!$C$1:$E$14,3,FALSE)) | I12: =IF(H12="","",G12*H12)
E13: =IF(D13="","",VLOOKUP(D13,OFFSET(articles!$C$1:$E$1,0,0,COUNTA(articles!$D:$E)-1),2,FALSE)) | H13: =IF(D13="","",VLOOKUP(D13,articles!$C$1:$E$14,3,FALSE)) | I13: =IF(H13="","",G13*H13)
E14: =IF(D14="","",VLOOKUP(D14,OFFSET(articles!$C$1:$E$1,0,0,COUNTA(articles!$D:$E)-1),2,FALSE)) | H14: =IF(D14="","",VLOOKUP(D14,articles!$C$1:$E$14,3,FALSE)) | I14: =IF(H14="","",G14*H14)
E15: =IF(D15="","",VLOOKUP(D15,OFFSET(articles!$C$1:$E$1,0,0,COUNTA(articles!$D:$E)-1),2,FALSE)) | H15: =IF(D15="","",VLOOKUP(D15,articles!$C$1:$E$14,3,FALSE)) | I15: =IF(H15="","",G15*H15)
E16: =IF(D16="","",VLOOKUP(D16,OFFSET(articles!$C$1:$E$1,0,0,COUNTA(articles!$D:$E)-1),2,FALSE)) | H16: =IF(D16="","",VLOOKUP(D16,articles!$C$1:$E$14,3,FALSE)) | I16: =IF(H16="","",G16*H16)
E17: =IF(D17="","",VLOOKUP(D17,OFFSET(articles!$C$1:$E$1,0,0,COUNTA(articles!$D:$E)-1),2,FALSE)) | H17: =IF(D17="","",VLOOKUP(D17,articles!$C$1:$E$14,3,FALSE)) | I17: =IF(H17="","",G17*H17)
E18: =IF(D18="","",VLOOKUP(D18,OFFSET(articles!$C$1:$E$1,0,0,COUNTA(articles!$D:$E)-1),2,FALSE)) | H18: =IF(D18="","",VLOOKUP(D18,articles!$C$1:$E$14,3,FALSE)) | I18: =IF(H18="","",G18*H18)
E19: =IF(D19="","",VLOOKUP(D19,OFFSET(articles!$C$1:$E$1,0,0,COUNTA(articles!$D:$E)-1),2,FALSE)) | H19: =IF(D19="","",VLOOKUP(D19,articles!$C$1:$E$14,3,FALSE)) | I19: =IF(H19="","",G19*H19)
... E30: =IF(D30="","",VLOOKUP(D30,OFFSET(articles!$C$1:$E$1,0,0,COUNTA(articles!$D:$E)-1),2,FALSE)) | H30: =IF(D30="","",VLOOKUP(D30,articles!$C$1:$E$14,3,FALSE)) | I30: =IF(H30="","",G30*H30)
E31: =IF(D31="","",VLOOKUP(D31,OFFSET(articles!$C$1:$E$1,0,0,COUNTA(articles!$D:$E)-1),2,FALSE)) | H31: =IF(D31="","",VLOOKUP(D31,articles!$C$1:$E$14,3,FALSE))
G32: Montant HT | I32: =SUM(I6:I26) -> #N/A
G33: TVA | H33: 0.2
G35: Montant TTC | I35: =I32*(1+H33) -> #N/A

Sheet articles
C1: PPG | D1: Désignation | E1: Prix unitaire HT | G1: GIRPI | H1: Désignation | I1: Prix unitaire HT
C2: Détachement | D2: Prestation sur site | E2: 441.74 | G2: NC16 | I2: 0.16597
C3: Transport | D3: Transport simple | E3: 15.66 | G3: NC16A | I3: 0.16597
C4: Transport+ | D4: Transport supplémentaire | E4: 31.32 | G4: NC16S | I4: 0.16597
C5: Vernis MPV0008 | D5: Bidon 25L argenté 1 étiquette | E5: 0.187
C6: Vernis MPV0008 | D6: Bidon 25L argenté 2 étiquettes | E6: 0.225
C7: Vernis MDT0005 | D7: Bidon 40L 2 étiquettes | E7: 0.225
C8: Vernis MDT0005 | D8: Bidon 40L 3 étiquettes | E8: 0.264
C9: Vernis MDT0011 | D9: Bidon 30L 2 ou 3 étiquettes | E9: 1.4
C10: Vernis MTT0070 | D10: Bidon 40L 1 étiquette | E10: 0.187
C11: Vernis MTT0070 | D11: Bidon 40L 2 étiquettes | E11: 0.225
C12: Vernis MTT0070 | D12: Bidon 40L 3 étiquettes | E12: 0.264
C13: Aéro TUK | D13: Cartons TUK | E13: 1.04

Sheet clients
B2: CLIENTS
B3: PPG
B4: GIRPI
B5: GONFREVILLE
B6: HARFLEUR
B7: GAINNEVILLE
B8: CCI ESTUAIRE
B9: LE HAVRE METROPOLE
B10: MONTIVILLIERS
B11: COFFEA
B12: DIEUZY
B13: METAL THERMIE
B14: EUROVIA
