Workbook

Sheet L.Découpe 1
B1: MENUISERIE Ligne de découpe 1
B3: Taux d'occupation de la zone (Opération manuelle) | J3: 100
B5: Taux de fonctionnement de la ligne (Utilisation mécanique)
J7: =(J3+J5) -> 100
B9: Durée totale brute de fonctionnement Hebdomadaire : | I9: U= | J9: ='TRS Global'!G6 -> 1950 | L9: <-- ne pas remplir - jouez avec les données du TRS Global
B11: Maintenance autonome/préventive | H11: 1950
B13: Réunions, Formations, RAE, CVS... (Absences prévues d'opérateurs)
B15: Absence prévue d'appros (emballages ou produit)
B17: Manque de charge | H17: =J9-(J9*J7)/100 -> 0 | J17: Total perte: | L17: Calcul automatique avec le % de fonctionnement en J3/J5
J19: =SUM(H11:H19) -> 1950
B21: Temps opérationel : | I21: O= | J21: =J9-J19 -> 0
B23: Nettoyages en fin de prod
B25: Changements de produit
B27: Réglages machines / essais
J29: =SUM(H23:H29) -> 0
B31: Temps de production : | I31: P= | J31: =J21-J29 -> 0
B33: Accident / soin infirmier
B35: Ruptures emballages / produit
B37: Manque de compétence lié la production
B39: Micros-arrêts (manque de stabilité de l'opérateur)
B41: Absence imprévue d'opérateur
B43: Produit / emballages non conformes
B45: Temps d'arrêt cumulé du à des arrêts majeurs (Casse..)
B47: Temps d'arrêt cumulé du à des arrêts mineurs (Panne..)
B49: Manque d'utilités (eau, air, électricité ..) | J49: Total perte:
J51: =SUM(H33:H51) -> 0
B53: Temps effectif : | I53: E= | J53: =J31-J51 -> 0
B55: Taux de disponibilité (O/U) | F55: =J21/J9 -> 0
B57: Efficience globale (E/O) | F57: =J31/J21 -> #DIV/0! | G57: TRS | J57: =F55*F57*F59 -> #DIV/0!
B59: Efficience technique (E/P) | F59: =J53/J31 -> #DIV/0!

Sheet L.Découpe 2
B1: MENUISERIE Ligne de découpe 2
B3: Taux de fonctionnement de la ligne (si 0% n'est pas pris en compte dans le TRS global) | J3: 100 | L3: Commentaires
B5: Durée totale brute de fonctionnement Hebdomadaire : | I5: U= | J5: ='TRS Global'!G6 -> 1950 | L5: <-- ne pas remplir - jouez avec les données du TRS Global
B7: Maintenance autonome/préventive
B9: Réunions, Formations, RAE, CVS... (Absences prévues d'opérateurs)
B11: Absence prévue d'appros (emballages ou produit)
B13: Manque de charge | H13: =J5-(J5*J3)/100 -> 0 | J13: Total perte: | L13: Calcul automatique avec le % de fonctionnement en J3
J15: =SUM(H7:H15) -> 0
B17: Temps opérationel : | I17: O= | J17: =J5-J15 -> 1950
B19: Nettoyages en fin de prod
B21: Changements de produit
B23: Réglages machines / essais
J25: =SUM(H19:H25) -> 0
B27: Temps de production : | I27: P= | J27: =J17-J25 -> 1950
B29: Accident / soin infirmier
B31: Ruptures emballages / produit
B33: Manque de compétence lié la production
B35: Micros-arrêts (manque de stabilité de l'opérateur)
B37: Absence imprévue d'opérateur
B39: Produit / emballages non conformes
B41: Temps d'arrêt cumulé du à des arrêts majeurs (Casse..)
B43: Temps d'arrêt cumulé du à des arrêts mineurs (Panne..)
B45: Manque d'utilités (eau, air, électricité ..) | J45: Total perte:
J47: =SUM(H29:H47) -> 0
B49: Temps effectif : | I49: E= | J49: =J27-J47 -> 1950
B51: Taux de disponibilité (O/U) | F51: =J17/J5 -> 1
B53: Efficience globale (E/O) | F53: =J27/J17 -> 1 | G53: TRS | J53: =F51*F53*F55 -> 1
B55: Efficience technique (E/P) | F55: =J49/J27 -> 1

Sheet L.Découpe 3
B1: MENUISERIE Ligne de découpe 3
B3: Taux de fonctionnement de la ligne (si 0% n'est pas pris en compte dans le TRS global) | J3: 100 | L3: Commentaires
B5: Durée totale brute de fonctionnement Hebdomadaire : | I5: U= | J5: ='TRS Global'!G6 -> 1950 | L5: <-- ne pas remplir - jouez avec les données du TRS Global
B7: Maintenance autonome/préventive
B9: Réunions, Formations, RAE, CVS... (Absences prévues d'opérateurs)
B11: Absence prévue d'appros (emballages ou produit)
B13: Manque de charge | H13: =J5-(J5*J3)/100 -> 0 | J13: Total perte: | L13: Calcul automatique avec le % de fonctionnement en J3
J15: =SUM(H7:H15) -> 0
B17: Temps opérationel : | I17: O= | J17: =J5-J15 -> 1950
B19: Nettoyages en fin de prod
B21: Changements de produit
B23: Réglages machines / essais
J25: =SUM(H19:H25) -> 0
B27: Temps de production : | I27: P= | J27: =J17-J25 -> 1950
B29: Accident / soin infirmier
B31: Ruptures emballages / produit
B33: Manque de compétence lié la production
B35: Micros-arrêts (manque de stabilité de l'opérateur)
B37: Absence imprévue d'opérateur
B39: Produit / emballages non conformes
B41: Temps d'arrêt cumulé du à des arrêts majeurs (Casse..)
B43: Temps d'arrêt cumulé du à des arrêts mineurs (Panne..)
B45: Manque d'utilités (eau, air, électricité ..) | J45: Total perte:
J47: =SUM(H29:H47) -> 0
B49: Temps effectif : | I49: E= | J49: =J27-J47 -> 1950
B51: Taux de disponibilité (O/U) | F51: =J17/J5 -> 1
B53: Efficience globale (E/O) | F53: =J27/J17 -> 1 | G53: TRS | J53: =F51*F53*F55 -> 1
B55: Efficience technique (E/P) | F55: =J49/J27 -> 1

Sheet L.Usinage
B1: MENUISERIE Ligne d'Usinage
B3: Taux d'occupation de la ligne (si 0% n'est pas pris en compte dans le TRS global) | J3: 100 | L3: Commentaires
B5: Durée totale brute de fonctionnement Hebdomadaire : | I5: U= | J5: ='TRS Global'!G6 -> 1950 | L5: <-- ne pas remplir - jouez avec les données du TRS Global
B7: Maintenance autonome/préventive
B9: Réunions, Formations, RAE, CVS... (Absences prévues d'opérateurs)
B11: Absence prévue d'appros (emballages ou produit)
B13: Manque de charge | H13: =J5-(J5*J3)/100 -> 0 | J13: Total perte:
J15: =SUM(H7:H15) -> 0
B17: Temps opérationel : | I17: O= | J17: =J5-J15 -> 1950
B19: Nettoyages en fin de prod
B21: Changements de produit
B23: Réglages machines / essais
J25: =SUM(H19:H25) -> 0
B27: Temps de production : | I27: P= | J27: =J17-J25 -> 1950
B29: Accident / soin infirmier
B31: Ruptures emballages / produit
B33: Manque de compétence lié la production
B35: Micros-arrêts (manque de stabilité de l'opérateur)
B37: Absence imprévue d'opérateur
B39: Produit / emballages non conformes
B41: Temps d'arrêt cumulé du à des arrêts majeurs (Casse..)
B43: Temps d'arrêt cumulé du à des arrêts mineurs (Panne..)
B45: Manque d'utilités (eau, air, électricité ..) | J45: Total perte:
J47: =SUM(H29:H47) -> 0
B49: Temps effectif : | I49: E= | J49: =J27-J47 -> 1950
B51: Taux de disponibilité (O/U) | F51: =J17/J5 -> 1
B53: Efficience globale (E/O) | F53: =J27/J17 -> 1 | G53: TRS | J53: =F51*F53*F55 -> 1
B55: Efficience technique (E/P) | F55: =J49/J27 -> 1

Sheet L.Assemblage 1
B1: MENUISERIE Ligne d'Assemblage 1
B3: Taux de fonctionnement de la ligne (si 0% n'est pas pris en compte dans le TRS global) | J3: 100 | L3: Commentaires
B5: Durée totale brute de fonctionnement Hebdomadaire : | I5: U= | J5: ='TRS Global'!G6 -> 1950 | L5: <-- ne pas remplir - jouez avec les données du TRS Global
B7: Maintenance autonome/préventive
B9: Réunions, Formations, RAE, CVS... (Absences prévues d'opérateurs)
B11: Absence prévue d'appros (emballages ou produit)
B13: Manque de charge | H13: =J5-(J5*J3)/100 -> 0 | J13: Total perte: | L13: Calcul automatique avec le % de fonctionnement en J3
J15: =SUM(H7:H15) -> 0
B17: Temps opérationel : | I17: O= | J17: =J5-J15 -> 1950
B19: Nettoyages en fin de prod
B21: Changements de produit
B23: Réglages machines / essais
J25: =SUM(H19:H25) -> 0
B27: Temps de production : | I27: P= | J27: =J17-J25 -> 1950
B29: Accident / soin infirmier
B31: Ruptures emballages / produit
B33: Manque de compétence lié la production
B35: Micros-arrêts (manque de stabilité de l'opérateur)
B37: Absence imprévue d'opérateur
B39: Produit / emballages non conformes
B41: Temps d'arrêt cumulé du à des arrêts majeurs (Casse..)
B43: Temps d'arrêt cumulé du à des arrêts mineurs (Panne..)
B45: Manque d'utilités (eau, air, électricité ..) | J45: Total perte:
J47: =SUM(H29:H47) -> 0
B49: Temps effectif : | I49: E= | J49: =J27-J47 -> 1950
B51: Taux de disponibilité (O/U) | F51: =J17/J5 -> 1
B53: Efficience globale (E/O) | F53: =J27/J17 -> 1 | G53: TRS | J53: =F51*F53*F55 -> 1
B55: Efficience technique (E/P) | F55: =J49/J27 -> 1

Sheet L.Assemblage 2
B1: MENUISERIE Ligne d'Assemblage 2
B3: Taux de fonctionnement de la ligne (si 0% n'est pas pris en compte dans le TRS global) | J3: 100 | L3: Commentaires
B5: Durée totale brute de fonctionnement Hebdomadaire : | I5: U= | J5: ='TRS Global'!G6 -> 1950 | L5: <-- ne pas remplir - jouez avec les données du TRS Global
B7: Maintenance autonome/préventive
B9: Réunions, Formations, RAE, CVS... (Absences prévues d'opérateurs)
B11: Absence prévue d'appros (emballages ou produit)
B13: Manque de charge | H13: =J5-(J5*J3)/100 -> 0 | J13: Total perte: | L13: Calcul automatique avec le % de fonctionnement en J3
J15: =SUM(H7:H15) -> 0
B17: Temps opérationel : | I17: O= | J17: =J5-J15 -> 1950
B19: Nettoyages en fin de prod
B21: Changements de produit
B23: Réglages machines / essais
J25: =SUM(H19:H25) -> 0
B27: Temps de production : | I27: P= | J27: =J17-J25 -> 1950
B29: Accident / soin infirmier
B31: Ruptures emballages / produit
B33: Manque de compétence lié la production
B35: Micros-arrêts (manque de stabilité de l'opérateur)
B37: Absence imprévue d'opérateur
B39: Produit / emballages non conformes
B41: Temps d'arrêt cumulé du à des arrêts majeurs (Casse..)
B43: Temps d'arrêt cumulé du à des arrêts mineurs (Panne..)
B45: Manque d'utilités (eau, air, électricité ..) | J45: Total perte:
J47: =SUM(H29:H47) -> 0
B49: Temps effectif : | I49: E= | J49: =J27-J47 -> 1950
B51: Taux de disponibilité (O/U) | F51: =J17/J5 -> 1
B53: Efficience globale (E/O) | F53: =J27/J17 -> 1 | G53: TRS | J53: =F51*F53*F55 -> 1
B55: Efficience technique (E/P) | F55: =J49/J27 -> 1

Sheet TRS Global
B2: Taux de rendement synthétique Global Menuiserie Ussel
B5: Durée brute possible de fonctionnement | C5: 2160
B6: Pauses Usagers | C6: 100 | E6: Temps global opérationel | G6: =C5-(C6+C7+C8) -> 1950 | H6: minutes
B7: Démarrage et arrêts de l'atelier | C7: 50
B8: Nettoyages hebdomadaire de l'atelier | C8: 60
B10: Temps opérationel cumulé | C10: =('L.Découpe 1'!J21+'L.Découpe 2'!J17+'L.Découpe 3'!J17+L.Usinage!J17+'L.Assemblage 1'!J17+'L.Assemblage 2'!J17)/6 -> 1625
B12: Temps de production cumulé | C12: =('L.Découpe 1'!J31+'L.Découpe 2'!J27+'L.Découpe 3'!J27+L.Usinage!J27+'L.Assemblage 1'!J27+'L.Assemblage 2'!J27)/6 -> 1625
B14: Temps effectif cumulé | C14: =('L.Découpe 1'!J53+'L.Découpe 2'!J49+'L.Découpe 3'!J49+L.Usinage!J49+'L.Assemblage 1'!J49+'L.Assemblage 2'!J49)/6 -> 1625
B16: Temps global opérationel réel | C16: =C10 -> 1625 | E16: Taux de disponibilité Global | G16: =C10/C17 -> 0.83333333
B17: Temps global opérationel | C17: =G6 -> 1950
B19: Temps de production cumulé | C19: =C12 -> 1625 | E19: Taux de productivité global | G19: =C19/C20 -> 1 | I19: TRS | J19: =G16*G19*G22 -> 0.83333333
B20: Temps global opérationel réel | C20: =C16 -> 1625
B22: Temps effectif cumulé | C22: =C14 -> 1625 | E22: Taux de conformité global | G22: =C23/C22 -> 1
B23: Temps de production cumulé | C23: =C19 -> 1625
