Workbook

Sheet Concurrent_1
F1: CONCOURS D'OBEISSANCE | V1: BREVET | AA1: H
F2: Organisé par: | L2: CLUB CANIN DE MIRECOURT
B4: Chien: | AB4: N° FAPAC: | AI4: Le: | AK4: 3 et 4 sept
B5: Race: | O5: Sexe: | R5: Né le: | W5: C. T: | AB5: Id:
B6: Club: | T6: Régionale: | AI6: Inscription:
B7: Propriétaire: | Z7: N° de licence:
B8: Conducteur: | Z8: N° de licence: | AI8: Passage:
A13: Exercices | M13: Note | P13: Coef. | S13: Total | V13: Commentaires
A14: Absence couchée, conducteur à vue | P14: 1 | S14: =M14*P14 -> 0
A15: Suite au pied en laisse | P15: 1 | S15: =M15*P15 -> 0
A16: Suite au pied sans laisse | P16: 1 | S16: =M16*P16 -> 0
A17: Rappel Simple | P17: 2 | S17: =M17*P17 -> 0
A18: Rapport d'Objet | M18: 1 | P18: 1 | S18: =M18*P18 -> 1
A19: Saut de Haie | M19: 10 | P19: 1 | S19: =M19*P19 -> 10
A20: Positios A et C 1 fois | M20: 10 | P20: 2 | S20: =M20*P20 -> 20
A21: Impression générale | P21: 1 | S21: =M21*P21 -> 0
A26: Pointage concours | J26: Qualificatif | N26: Clt général | V26: Clt homologué | AD26: Clt non homologué
A27: =SUM(S14:U21) -> 31 | E27: sur | G27: 100 | J27: =IF(A27>79,"proposé","ajourné") -> ajourné | N27: =CLASSEMENT!F3 -> 18 | Q27: sur | S27: =CLASSEMENT!C24 -> 0 | Y27: sur | AH27: sur
A29: Observation(s)
A34: Juge(s) | J34: Signature(s) | Q34: Commissaire(s) au(x) concurrent(s) | AC34: Commissaire(s) au(x) agré(s)
A35: ='JUGE ET COM'!D7 -> UNTEL | Q35: ='JUGE ET COM'!F6 -> LUI | AC35: ='JUGE ET COM'!F7 -> ELLE
AC37: Classeur_Pointage_1 Version 11-04-16

Sheet Concurrent_2)
F1: CONCOURS D'OBEISSANCE | V1: BREVET | AA1: H
F2: Organisé par: | L2: CLUB CANIN DE MIRECOURT
B4: Chien: | AB4: N° FAPAC: | AI4: Le:
B5: Race: | O5: Sexe: | R5: Né le: | W5: C. T: | AB5: Id:
B6: Club: | D6: CLUB CANIN DE MIRECOURT | T6: Régionale: | AI6: Inscription:
B7: Propriétaire: | Z7: N° de licence:
B8: Conducteur: | Z8: N° de licence: | AI8: Passage:
A13: Exercices | M13: Note | P13: Coef. | S13: Total | V13: Commentaires
A14: Absence couchée, conducteur à vue | M14: 10 | P14: 1 | S14: =M14*P14 -> 10
A15: Suite au pied en laisse | M15: 10 | P15: 1 | S15: =M15*P15 -> 10
A16: Suite au pied sans laisse | M16: 8 | P16: 1 | S16: =M16*P16 -> 8
A17: Rappel Simple | M17: 5 | P17: 2 | S17: =M17*P17 -> 10
A18: Rapport d'Objet | M18: 5 | P18: 1 | S18: =M18*P18 -> 5
A19: Saut de Haie | M19: 7 | P19: 1 | S19: =M19*P19 -> 7
A20: Positios A et C 1 fois | P20: 2 | S20: =M20*P20 -> 0
A21: Impression générale | P21: 1 | S21: =M21*P21 -> 0
A26: Pointage concours | J26: Qualificatif | N26: Clt général | V26: Clt homologué | AD26: Clt non homologué
A27: =SUM(S14:U21) -> 50 | E27: sur | G27: 100 | J27: =IF(A27>79,"proposé","ajourné") -> ajourné | N27: =CLASSEMENT!F4 -> 12 | Q27: sur | S27: =CLASSEMENT!C24 -> 0 | Y27: sur | AH27: sur
A29: Observation(s)
A34: Juge(s) | J34: Signature(s) | Q34: Commissaire(s) au(x) concurrent(s) | AC34: Commissaire(s) au(x) agré(s)
A35: ='JUGE ET COM'!D7 -> UNTEL | Q35: ='JUGE ET COM'!F6 -> LUI | AC35: ='JUGE ET COM'!F7 -> ELLE
AC37: Classeur_Pointage_1 Version 11-04-16

Sheet Concurrent_3)
F1: CONCOURS D'OBEISSANCE | V1: BREVET | AA1: NH
F2: Organisé par: | L2: CLUB CANIN DE MIRECOURT
B4: Chien: | AB4: N° FAPAC: | AI4: Le:
B5: Race: | O5: Sexe: | R5: Né le: | W5: C. T: | AB5: Id:
B6: Club: | D6: CLUB CANIN DE MIRECOURT | T6: Régionale: | AI6: Inscription:
B7: Propriétaire: | Z7: N° de licence:
B8: Conducteur: | Z8: N° de licence: | AI8: Passage:
A13: Exercices | M13: Note | P13: Coef. | S13: Total | V13: Commentaires
A14: Absence couchée, conducteur à vue | M14: 10 | P14: 1 | S14: =M14*P14 -> 10
A15: Suite au pied en laisse | M15: 10 | P15: 1 | S15: =M15*P15 -> 10
A16: Suite au pied sans laisse | M16: 10 | P16: 1 | S16: =M16*P16 -> 10
A17: Rappel Simple | M17: 10 | P17: 2 | S17: =M17*P17 -> 20
A18: Rapport d'Objet | M18: 0.5 | P18: 1 | S18: =M18*P18 -> 0.5
A19: Saut de Haie | P19: 1 | S19: =M19*P19 -> 0
A20: Positios A et C 1 fois | P20: 2 | S20: =M20*P20 -> 0
A21: Impression générale | P21: 1 | S21: =M21*P21 -> 0
A26: Pointage concours | J26: Qualificatif | N26: Clt général | V26: Clt homologué | AD26: Clt non homologué
A27: =SUM(S14:U21) -> 50.5 | E27: sur | G27: 100 | J27: =IF(A27>79,"proposé","ajourné") -> ajourné | N27: =CLASSEMENT!F5 -> 11 | Q27: sur | S27: =CLASSEMENT!C24 -> 0 | Y27: sur | AH27: sur
A29: Observation(s)
A34: Juge(s) | J34: Signature(s) | Q34: Commissaire(s) au(x) concurrent(s) | AC34: Commissaire(s) au(x) agré(s)
A35: ='JUGE ET COM'!D7 -> UNTEL | Q35: ='JUGE ET COM'!F6 -> LUI | AC35: ='JUGE ET COM'!F7 -> ELLE
AC37: Classeur_Pointage_1 Version 11-04-16

Sheet Concurrent_4)
F1: CONCOURS D'OBEISSANCE | V1: BREVET | AA1: H
F2: Organisé par: | L2: CLUB CANIN DE MIRECOURT
B4: Chien: | AB4: N° FAPAC: | AI4: Le:
B5: Race: | O5: Sexe: | R5: Né le: | W5: C. T: | AB5: Id:
B6: Club: | D6: CLUB CANIN DE MIRECOURT | T6: Régionale: | AI6: Inscription:
B7: Propriétaire: | Z7: N° de licence:
B8: Conducteur: | Z8: N° de licence: | AI8: Passage:
A13: Exercices | M13: Note | P13: Coef. | S13: Total | V13: Commentaires
A14: Absence couchée, conducteur à vue | M14: 10 | P14: 1 | S14: =M14*P14 -> 10
A15: Suite au pied en laisse | M15: 10 | P15: 1 | S15: =M15*P15 -> 10
A16: Suite au pied sans laisse | M16: 6 | P16: 1 | S16: =M16*P16 -> 6
A17: Rappel Simple | M17: 7 | P17: 2 | S17: =M17*P17 -> 14
A18: Rapport d'Objet | M18: 5 | P18: 1 | S18: =M18*P18 -> 5
A19: Saut de Haie | P19: 1 | S19: =M19*P19 -> 0
A20: Positios A et C 1 fois | P20: 2 | S20: =M20*P20 -> 0
A21: Impression générale | P21: 1 | S21: =M21*P21 -> 0
A26: Pointage concours | J26: Qualificatif | N26: Clt général | V26: Clt homologué | AD26: Clt non homologué
A27: =SUM(S14:U21) -> 45 | E27: sur | G27: 100 | J27: =IF(A27>79,"proposé","ajourné") -> ajourné | N27: =CLASSEMENT!F6 -> 14 | Q27: sur | S27: =CLASSEMENT!C24 -> 0 | Y27: sur | AH27: sur
A29: Observation(s)
A34: Juge(s) | J34: Signature(s) | Q34: Commissaire(s) au(x) concurrent(s) | AC34: Commissaire(s) au(x) agré(s)
A35: ='JUGE ET COM'!D7 -> UNTEL | Q35: ='JUGE ET COM'!F6 -> LUI | AC35: ='JUGE ET COM'!F7 -> ELLE
AC37: Classeur_Pointage_1 Version 11-04-16

Sheet Concurrent_5)
F1: CONCOURS D'OBEISSANCE | V1: BREVET | AA1: NH
F2: Organisé par: | L2: CLUB CANIN DE MIRECOURT
B4: Chien: | AB4: N° FAPAC: | AI4: Le:
B5: Race: | O5: Sexe: | R5: Né le: | W5: C. T: | AB5: Id:
B6: Club: | D6: CLUB CANIN DE MIRECOURT | T6: Régionale: | AI6: Inscription:
B7: Propriétaire: | Z7: N° de licence:
B8: Conducteur: | Z8: N° de licence: | AI8: Passage:
A13: Exercices | M13: Note | P13: Coef. | S13: Total | V13: Commentaires
A14: Absence couchée, conducteur à vue | M14: 5 | P14: 1 | S14: =M14*P14 -> 5
A15: Suite au pied en laisse | P15: 1 | S15: =M15*P15 -> 0
A16: Suite au pied sans laisse | P16: 1 | S16: =M16*P16 -> 0
A17: Rappel Simple | M17: 8 | P17: 2 | S17: =M17*P17 -> 16
A18: Rapport d'Objet | P18: 1 | S18: =M18*P18 -> 0
A19: Saut de Haie | P19: 1 | S19: =M19*P19 -> 0
A20: Positios A et C 1 fois | M20: 4 | P20: 2 | S20: =M20*P20 -> 8
A21: Impression générale | P21: 1 | S21: =M21*P21 -> 0
A26: Pointage concours | J26: Qualificatif | N26: Clt général | V26: Clt homologué | AD26: Clt non homologué
A27: =SUM(S14:U21) -> 29 | E27: sur | G27: 100 | J27: =IF(A27>79,"proposé","ajourné") -> ajourné | N27: =CLASSEMENT!F7 -> 19 | Q27: sur | S27: =CLASSEMENT!C24 -> 0 | Y27: sur | AH27: sur
A29: Observation(s)
A34: Juge(s) | J34: Signature(s) | Q34: Commissaire(s) au(x) concurrent(s) | AC34: Commissaire(s) au(x) agré(s)
A35: ='JUGE ET COM'!D7 -> UNTEL | Q35: ='JUGE ET COM'!F6 -> LUI | AC35: ='JUGE ET COM'!F7 -> ELLE
AC37: Classeur_Pointage_1 Version 11-04-16

Sheet Concurrent_6)
F1: CONCOURS D'OBEISSANCE | V1: BREVET | AA1: H
F2: Organisé par: | L2: CLUB CANIN DE MIRECOURT
B4: Chien: | AB4: N° FAPAC: | AI4: Le:
B5: Race: | O5: Sexe: | R5: Né le: | W5: C. T: | AB5: Id:
B6: Club: | D6: CLUB CANIN DE MIRECOURT | T6: Régionale: | AI6: Inscription:
B7: Propriétaire: | Z7: N° de licence:
B8: Conducteur: | Z8: N° de licence: | AI8: Passage:
A13: Exercices | M13: Note | P13: Coef. | S13: Total | V13: Commentaires
A14: Absence couchée, conducteur à vue | P14: 1 | S14: =M14*P14 -> 0
A15: Suite au pied en laisse | M15: 10 | P15: 1 | S15: =M15*P15 -> 10
A16: Suite au pied sans laisse | M16: 10 | P16: 1 | S16: =M16*P16 -> 10
A17: Rappel Simple | M17: 10 | P17: 2 | S17: =M17*P17 -> 20
A18: Rapport d'Objet | P18: 1 | S18: =M18*P18 -> 0
A19: Saut de Haie | P19: 1 | S19: =M19*P19 -> 0
A20: Positios A et C 1 fois | M20: 10 | P20: 2 | S20: =M20*P20 -> 20
A21: Impression générale | M21: 5 | P21: 1 | S21: =M21*P21 -> 5
A26: Pointage concours | J26: Qualificatif | N26: Clt général | V26: Clt homologué | AD26: Clt non homologué
A27: =SUM(S14:U21) -> 65 | E27: sur | G27: 100 | J27: =IF(A27>79,"proposé","ajourné") -> ajourné | N27: =CLASSEMENT!F8 -> 6 | Q27: sur | S27: =CLASSEMENT!C24 -> 0 | Y27: sur | AH27: sur
A29: Observation(s)
A34: Juge(s) | J34: Signature(s) | Q34: Commissaire(s) au(x) concurrent(s) | AC34: Commissaire(s) au(x) agré(s)
A35: ='JUGE ET COM'!D7 -> UNTEL | Q35: ='JUGE ET COM'!F6 -> LUI | AC35: ='JUGE ET COM'!F7 -> ELLE
AC37: Classeur_Pointage_1 Version 11-04-16

Sheet Concurrent_7)
F1: CONCOURS D'OBEISSANCE | V1: BREVET | AA1: NH
F2: Organisé par: | L2: CLUB CANIN DE MIRECOURT
B4: Chien: | AB4: N° FAPAC: | AI4: Le:
B5: Race: | O5: Sexe: | R5: Né le: | W5: C. T: | AB5: Id:
B6: Club: | D6: CLUB CANIN DE MIRECOURT | T6: Régionale: | AI6: Inscription:
B7: Propriétaire: | Z7: N° de licence:
B8: Conducteur: | Z8: N° de licence: | AI8: Passage:
A13: Exercices | M13: Note | P13: Coef. | S13: Total | V13: Commentaires
A14: Absence couchée, conducteur à vue | P14: 1 | S14: =M14*P14 -> 0
A15: Suite au pied en laisse | M15: 8 | P15: 1 | S15: =M15*P15 -> 8
A16: Suite au pied sans laisse | P16: 1 | S16: =M16*P16 -> 0
A17: Rappel Simple | M17: 9 | P17: 2 | S17: =M17*P17 -> 18
A18: Rapport d'Objet | P18: 1 | S18: =M18*P18 -> 0
A19: Saut de Haie | M19: 7.5 | P19: 1 | S19: =M19*P19 -> 7.5
A20: Positios A et C 1 fois | M20: 10 | P20: 2 | S20: =M20*P20 -> 20
A21: Impression générale | P21: 1 | S21: =M21*P21 -> 0
A26: Pointage concours | J26: Qualificatif | N26: Clt général | V26: Clt homologué | AD26: Clt non homologué
A27: =SUM(S14:U21) -> 53.5 | E27: sur | G27: 100 | J27: =IF(A27>79,"proposé","ajourné") -> ajourné | N27: =CLASSEMENT!F9 -> 8 | Q27: sur | S27: =CLASSEMENT!C24 -> 0 | Y27: sur | AH27: sur
A29: Observation(s)
A34: Juge(s) | J34: Signature(s) | Q34: Commissaire(s) au(x) concurrent(s) | AC34: Commissaire(s) au(x) agré(s)
A35: ='JUGE ET COM'!D7 -> UNTEL | Q35: ='JUGE ET COM'!F6 -> LUI | AC35: ='JUGE ET COM'!F7 -> ELLE
AC37: Classeur_Pointage_1 Version 11-04-16

Sheet Concurrent_8)
F1: CONCOURS D'OBEISSANCE | V1: BREVET | AA1: H
F2: Organisé par: | L2: CLUB CANIN DE MIRECOURT
B4: Chien: | AB4: N° FAPAC: | AI4: Le:
B5: Race: | O5: Sexe: | R5: Né le: | W5: C. T: | AB5: Id:
B6: Club: | D6: CLUB CANIN DE MIRECOURT | T6: Régionale: | AI6: Inscription:
B7: Propriétaire: | Z7: N° de licence:
B8: Conducteur: | Z8: N° de licence: | AI8: Passage:
A13: Exercices | M13: Note | P13: Coef. | S13: Total | V13: Commentaires
A14: Absence couchée, conducteur à vue | P14: 1 | S14: =M14*P14 -> 0
A15: Suite au pied en laisse | P15: 1 | S15: =M15*P15 -> 0
A16: Suite au pied sans laisse | P16: 1 | S16: =M16*P16 -> 0
A17: Rappel Simple | M17: 7 | P17: 2 | S17: =M17*P17 -> 14
A18: Rapport d'Objet | P18: 1 | S18: =M18*P18 -> 0
A19: Saut de Haie | P19: 1 | S19: =M19*P19 -> 0
A20: Positios A et C 1 fois | M20: 10 | P20: 2 | S20: =M20*P20 -> 20
A21: Impression générale | M21: 10 | P21: 1 | S21: =M21*P21 -> 10
A26: Pointage concours | J26: Qualificatif | N26: Clt général | V26: Clt homologué | AD26: Clt non homologué
A27: =SUM(S14:U21) -> 44 | E27: sur | G27: 100 | J27: =IF(A27>79,"proposé","ajourné") -> ajourné | Q27: sur | S27: =CLASSEMENT!C24 -> 0 | Y27: sur | AH27: sur
A29: Observation(s)
A34: Juge(s) | J34: Signature(s) | Q34: Commissaire(s) au(x) concurrent(s) | AC34: Commissaire(s) au(x) agré(s)
A35: ='JUGE ET COM'!D7 -> UNTEL | Q35: ='JUGE ET COM'!F6 -> LUI | AC35: ='JUGE ET COM'!F7 -> ELLE
AC37: Classeur_Pointage_1 Version 11-04-16

Sheet Concurrent_9)
F1: CONCOURS D'OBEISSANCE | V1: BREVET | AA1: H
F2: Organisé par: | L2: CLUB CANIN DE MIRECOURT
B4: Chien: | AB4: N° FAPAC: | AI4: Le:
B5: Race: | O5: Sexe: | R5: Né le: | W5: C. T: | AB5: Id:
B6: Club: | D6: CLUB CANIN DE MIRECOURT | T6: Régionale: | AI6: Inscription:
B7: Propriétaire: | Z7: N° de licence:
B8: Conducteur: | Z8: N° de licence: | AI8: Passage:
A13: Exercices | M13: Note | P13: Coef. | S13: Total | V13: Commentaires
A14: Absence couchée, conducteur à vue | M14: 9 | P14: 1 | S14: =M14*P14 -> 9
A15: Suite au pied en laisse | M15: 8 | P15: 1 | S15: =M15*P15 -> 8
A16: Suite au pied sans laisse | M16: 8 | P16: 1 | S16: =M16*P16 -> 8
A17: Rappel Simple | M17: 9 | P17: 2 | S17: =M17*P17 -> 18
A18: Rapport d'Objet | M18: 7 | P18: 1 | S18: =M18*P18 -> 7
A19: Saut de Haie | M19: 6 | P19: 1 | S19: =M19*P19 -> 6
A20: Positios A et C 1 fois | M20: 5 | P20: 2 | S20: =M20*P20 -> 10
A21: Impression générale | P21: 1 | S21: =M21*P21 -> 0
A26: Pointage concours | J26: Qualificatif | N26: Clt général | V26: Clt homologué | AD26: Clt non homologué
A27: =SUM(S14:U21) -> 66 | E27: sur | G27: 100 | J27: =IF(A27>79,"proposé","ajourné") -> ajourné | Q27: sur | S27: =CLASSEMENT!C24 -> 0 | Y27: sur | AH27: sur
A29: Observation(s)
A34: Juge(s) | J34: Signature(s) | Q34: Commissaire(s) au(x) concurrent(s) | AC34: Commissaire(s) au(x) agré(s)
A35: ='JUGE ET COM'!D7 -> UNTEL | Q35: ='JUGE ET COM'!F6 -> LUI | AC35: ='JUGE ET COM'!F7 -> ELLE
AC37: Classeur_Pointage_1 Version 11-04-16

Sheet Concurrent_10)
F1: CONCOURS D'OBEISSANCE | V1: BREVET | AA1: H
F2: Organisé par: | L2: CLUB CANIN DE MIRECOURT
B4: Chien: | AB4: N° FAPAC: | AI4: Le:
B5: Race: | O5: Sexe: | R5: Né le: | W5: C. T: | AB5: Id:
B6: Club: | D6: CLUB CANIN DE MIRECOURT | T6: Régionale: | AI6: Inscription:
B7: Propriétaire: | Z7: N° de licence:
B8: Conducteur: | Z8: N° de licence: | AI8: Passage:
A13: Exercices | M13: Note | P13: Coef. | S13: Total | V13: Commentaires
A14: Absence couchée, conducteur à vue | M14: 8.5 | P14: 1 | S14: =M14*P14 -> 8.5
A15: Suite au pied en laisse | M15: 7 | P15: 1 | S15: =M15*P15 -> 7
A16: Suite au pied sans laisse | M16: 7 | P16: 1 | S16: =M16*P16 -> 7
A17: Rappel Simple | M17: 7 | P17: 2 | S17: =M17*P17 -> 14
A18: Rapport d'Objet | M18: 5 | P18: 1 | S18: =M18*P18 -> 5
A19: Saut de Haie | M19: 6 | P19: 1 | S19: =M19*P19 -> 6
A20: Positios A et C 1 fois | M20: 9 | P20: 2 | S20: =M20*P20 -> 18
A21: Impression générale | P21: 1 | S21: =M21*P21 -> 0
A26: Pointage concours | J26: Qualificatif | N26: Clt général | V26: Clt homologué | AD26: Clt non homologué
A27: =SUM(S14:U21) -> 65.5 | E27: sur | G27: 100 | J27: =IF(A27>79,"proposé","ajourné") -> ajourné | N27: =CLASSEMENT!F10 -> 15 | Q27: sur | S27: =CLASSEMENT!C24 -> 0 | Y27: sur | AH27: sur
A29: Observation(s)
A34: Juge(s) | J34: Signature(s) | Q34: Commissaire(s) au(x) concurrent(s) | AC34: Commissaire(s) au(x) agré(s)
A35: ='JUGE ET COM'!D7 -> UNTEL | Q35: ='JUGE ET COM'!F6 -> LUI | AC35: ='JUGE ET COM'!F7 -> ELLE
AC37: Classeur_Pointage_1 Version 11-04-16

Sheet Concurrent_11)
F1: CONCOURS D'OBEISSANCE | V1: BREVET | AA1: H
F2: Organisé par: | L2: CLUB CANIN DE MIRECOURT
B4: Chien: | AB4: N° FAPAC: | AI4: Le:
B5: Race: | O5: Sexe: | R5: Né le: | W5: C. T: | AB5: Id:
B6: Club: | D6: CLUB CANIN DE MIRECOURT | T6: Régionale: | AI6: Inscription:
B7: Propriétaire: | Z7: N° de licence:
B8: Conducteur: | Z8: N° de licence: | AI8: Passage:
A13: Exercices | M13: Note | P13: Coef. | S13: Total | V13: Commentaires
A14: Absence couchée, conducteur à vue | M14: 6 | P14: 1 | S14: =M14*P14 -> 6
A15: Suite au pied en laisse | M15: 5 | P15: 1 | S15: =M15*P15 -> 5
A16: Suite au pied sans laisse | M16: 2 | P16: 1 | S16: =M16*P16 -> 2
A17: Rappel Simple | M17: 5 | P17: 2 | S17: =M17*P17 -> 10
A18: Rapport d'Objet | M18: 8 | P18: 1 | S18: =M18*P18 -> 8
A19: Saut de Haie | M19: 10 | P19: 1 | S19: =M19*P19 -> 10
A20: Positios A et C 1 fois | M20: 10 | P20: 2 | S20: =M20*P20 -> 20
A21: Impression générale | P21: 1 | S21: =M21*P21 -> 0
A26: Pointage concours | J26: Qualificatif | N26: Clt général | V26: Clt homologué | AD26: Clt non homologué
A27: =SUM(S14:U21) -> 61 | E27: sur | G27: 100 | J27: =IF(A27>79,"proposé","ajourné") -> ajourné | N27: =CLASSEMENT!F13 -> 7 | Q27: sur | S27: =CLASSEMENT!C24 -> 0 | Y27: sur | AH27: sur
A29: Observation(s)
A34: Juge(s) | J34: Signature(s) | Q34: Commissaire(s) au(x) concurrent(s) | AC34: Commissaire(s) au(x) agré(s)
A35: ='JUGE ET COM'!D7 -> UNTEL | Q35: ='JUGE ET COM'!F6 -> LUI | AC35: ='JUGE ET COM'!F7 -> ELLE
AC37: Classeur_Pointage_1 Version 11-04-16

Sheet Concurrent_12)
F1: CONCOURS D'OBEISSANCE | V1: BREVET | AA1: H
F2: Organisé par: | L2: CLUB CANIN DE MIRECOURT
B4: Chien: | AB4: N° FAPAC: | AI4: Le:
B5: Race: | O5: Sexe: | R5: Né le: | W5: C. T: | AB5: Id:
B6: Club: | D6: CLUB CANIN DE MIRECOURT | T6: Régionale: | AI6: Inscription:
B7: Propriétaire: | Z7: N° de licence:
B8: Conducteur: | Z8: N° de licence: | AI8: Passage:
A13: Exercices | M13: Note | P13: Coef. | S13: Total | V13: Commentaires
A14: Absence couchée, conducteur à vue | M14: 10 | P14: 1 | S14: =M14*P14 -> 10
A15: Suite au pied en laisse | M15: 9 | P15: 1 | S15: =M15*P15 -> 9
A16: Suite au pied sans laisse | M16: 8 | P16: 1 | S16: =M16*P16 -> 8
A17: Rappel Simple | M17: 7 | P17: 2 | S17: =M17*P17 -> 14
A18: Rapport d'Objet | M18: 6 | P18: 1 | S18: =M18*P18 -> 6
A19: Saut de Haie | M19: 5 | P19: 1 | S19: =M19*P19 -> 5
A20: Positios A et C 1 fois | M20: 5 | P20: 2 | S20: =M20*P20 -> 10
A21: Impression générale | M21: 5 | P21: 1 | S21: =M21*P21 -> 5
A26: Pointage concours | J26: Qualificatif | N26: Clt général | V26: Clt homologué | AD26: Clt non homologué
A27: =SUM(S14:U21) -> 67 | E27: sur | G27: 100 | J27: =IF(A27>79,"proposé","ajourné") -> ajourné | N27: =CLASSEMENT!F14 -> 3 | Q27: sur | S27: =CLASSEMENT!C24 -> 0 | Y27: sur | AH27: sur
A29: Observation(s)
A34: Juge(s) | J34: Signature(s) | Q34: Commissaire(s) au(x) concurrent(s) | AC34: Commissaire(s) au(x) agré(s)
A35: ='JUGE ET COM'!D7 -> UNTEL | Q35: ='JUGE ET COM'!F6 -> LUI | AC35: ='JUGE ET COM'!F7 -> ELLE
AC37: Classeur_Pointage_1 Version 11-04-16

Sheet Concurrent_13)
F1: CONCOURS D'OBEISSANCE | V1: BREVET | AA1: NH
F2: Organisé par: | L2: CLUB CANIN DE MIRECOURT
B4: Chien: | AB4: N° FAPAC: | AI4: Le:
B5: Race: | O5: Sexe: | R5: Né le: | W5: C. T: | AB5: Id:
B6: Club: | D6: CLUB CANIN DE MIRECOURT | T6: Régionale: | AI6: Inscription:
B7: Propriétaire: | Z7: N° de licence:
B8: Conducteur: | Z8: N° de licence: | AI8: Passage:
A13: Exercices | M13: Note | P13: Coef. | S13: Total | V13: Commentaires
A14: Absence couchée, conducteur à vue | M14: 8 | P14: 1 | S14: =M14*P14 -> 8
A15: Suite au pied en laisse | M15: 8 | P15: 1 | S15: =M15*P15 -> 8
A16: Suite au pied sans laisse | M16: 8 | P16: 1 | S16: =M16*P16 -> 8
A17: Rappel Simple | M17: 9 | P17: 2 | S17: =M17*P17 -> 18
A18: Rapport d'Objet | M18: 9 | P18: 1 | S18: =M18*P18 -> 9
A19: Saut de Haie | M19: 9 | P19: 1 | S19: =M19*P19 -> 9
A20: Positios A et C 1 fois | M20: 9 | P20: 2 | S20: =M20*P20 -> 18
A21: Impression générale | M21: 10 | P21: 1 | S21: =M21*P21 -> 10
A26: Pointage concours | J26: Qualificatif | N26: Clt général | V26: Clt homologué | AD26: Clt non homologué
A27: =SUM(S14:U21) -> 88 | E27: sur | G27: 100 | J27: =IF(A27>79,"proposé","ajourné") -> proposé | N27: =CLASSEMENT!F15 -> 1 | Q27: sur | S27: =CLASSEMENT!C24 -> 0 | Y27: sur | AH27: sur
A29: Observation(s)
A34: Juge(s) | J34: Signature(s) | Q34: Commissaire(s) au(x) concurrent(s) | AC34: Commissaire(s) au(x) agré(s)
A35: ='JUGE ET COM'!D7 -> UNTEL | Q35: ='JUGE ET COM'!F6 -> LUI | AC35: ='JUGE ET COM'!F7 -> ELLE
AC37: Classeur_Pointage_1 Version 11-04-16

Sheet Concurrent_14)
F1: CONCOURS D'OBEISSANCE | V1: BREVET | AA1: H
F2: Organisé par: | L2: CLUB CANIN DE MIRECOURT
B4: Chien: | AB4: N° FAPAC: | AI4: Le:
B5: Race: | O5: Sexe: | R5: Né le: | W5: C. T: | AB5: Id:
B6: Club: | D6: CLUB CANIN DE MIRECOURT | T6: Régionale: | AI6: Inscription:
B7: Propriétaire: | Z7: N° de licence:
B8: Conducteur: | Z8: N° de licence: | AI8: Passage:
A13: Exercices | M13: Note | P13: Coef. | S13: Total | V13: Commentaires
A14: Absence couchée, conducteur à vue | M14: 8 | P14: 1 | S14: =M14*P14 -> 8
A15: Suite au pied en laisse | M15: 6 | P15: 1 | S15: =M15*P15 -> 6
A16: Suite au pied sans laisse | M16: 9 | P16: 1 | S16: =M16*P16 -> 9
A17: Rappel Simple | M17: 8 | P17: 2 | S17: =M17*P17 -> 16
A18: Rapport d'Objet | M18: 7 | P18: 1 | S18: =M18*P18 -> 7
A19: Saut de Haie | M19: 5 | P19: 1 | S19: =M19*P19 -> 5
A20: Positios A et C 1 fois | P20: 2 | S20: =M20*P20 -> 0
A21: Impression générale | P21: 1 | S21: =M21*P21 -> 0
A26: Pointage concours | J26: Qualificatif | N26: Clt général | V26: Clt homologué | AD26: Clt non homologué
A27: =SUM(S14:U21) -> 51 | E27: sur | G27: 100 | J27: =IF(A27>79,"proposé","ajourné") -> ajourné | N27: =CLASSEMENT!F16 -> 10 | Q27: sur | S27: =CLASSEMENT!C24 -> 0 | Y27: sur | AH27: sur
A29: Observation(s)
A34: Juge(s) | J34: Signature(s) | Q34: Commissaire(s) au(x) concurrent(s) | AC34: Commissaire(s) au(x) agré(s)
A35: ='JUGE ET COM'!D7 -> UNTEL | Q35: ='JUGE ET COM'!F6 -> LUI | AC35: ='JUGE ET COM'!F7 -> ELLE
AC37: Classeur_Pointage_1 Version 11-04-16

Sheet Concurrent_15)
F1: CONCOURS D'OBEISSANCE | V1: BREVET | AA1: H
F2: Organisé par: | L2: CLUB CANIN DE MIRECOURT
B4: Chien: | AB4: N° FAPAC: | AI4: Le:
B5: Race: | O5: Sexe: | R5: Né le: | W5: C. T: | AB5: Id:
B6: Club: | D6: CLUB CANIN DE MIRECOURT | T6: Régionale: | AI6: Inscription:
B7: Propriétaire: | Z7: N° de licence:
B8: Conducteur: | Z8: N° de licence: | AI8: Passage:
A13: Exercices | M13: Note | P13: Coef. | S13: Total | V13: Commentaires
A14: Absence couchée, conducteur à vue | M14: 10 | P14: 1 | S14: =M14*P14 -> 10
A15: Suite au pied en laisse | M15: 9 | P15: 1 | S15: =M15*P15 -> 9
A16: Suite au pied sans laisse | M16: 8 | P16: 1 | S16: =M16*P16 -> 8
A17: Rappel Simple | M17: 6 | P17: 2 | S17: =M17*P17 -> 12
A18: Rapport d'Objet | M18: 5 | P18: 1 | S18: =M18*P18 -> 5
A19: Saut de Haie | M19: 2 | P19: 1 | S19: =M19*P19 -> 2
A20: Positios A et C 1 fois | M20: 2.5 | P20: 2 | S20: =M20*P20 -> 5
A21: Impression générale | M21: 1.5 | P21: 1 | S21: =M21*P21 -> 1.5
A26: Pointage concours | J26: Qualificatif | N26: Clt général | V26: Clt homologué | AD26: Clt non homologué
A27: =SUM(S14:U21) -> 52.5 | E27: sur | G27: 100 | J27: =IF(A27>79,"proposé","ajourné") -> ajourné | N27: =CLASSEMENT!F17 -> 9 | Q27: sur | S27: =CLASSEMENT!C24 -> 0 | Y27: sur | AH27: sur
A29: Observation(s)
A34: Juge(s) | J34: Signature(s) | Q34: Commissaire(s) au(x) concurrent(s) | AC34: Commissaire(s) au(x) agré(s)
A35: ='JUGE ET COM'!D7 -> UNTEL | Q35: ='JUGE ET COM'!F6 -> LUI | AC35: ='JUGE ET COM'!F7 -> ELLE
AC37: Classeur_Pointage_1 Version 11-04-16

Sheet Concurrent_16)
F1: CONCOURS D'OBEISSANCE | V1: BREVET | AA1: NH
F2: Organisé par: | L2: CLUB CANIN DE MIRECOURT
B4: Chien: | AB4: N° FAPAC: | AI4: Le:
B5: Race: | O5: Sexe: | R5: Né le: | W5: C. T: | AB5: Id:
B6: Club: | D6: CLUB CANIN DE MIRECOURT | T6: Régionale: | AI6: Inscription:
B7: Propriétaire: | Z7: N° de licence:
B8: Conducteur: | Z8: N° de licence: | AI8: Passage:
A13: Exercices | M13: Note | P13: Coef. | S13: Total | V13: Commentaires
A14: Absence couchée, conducteur à vue | M14: 10 | P14: 1 | S14: =M14*P14 -> 10
A15: Suite au pied en laisse | M15: 6 | P15: 1 | S15: =M15*P15 -> 6
A16: Suite au pied sans laisse | M16: 8 | P16: 1 | S16: =M16*P16 -> 8
A17: Rappel Simple | M17: 9 | P17: 2 | S17: =M17*P17 -> 18
A18: Rapport d'Objet | M18: 7 | P18: 1 | S18: =M18*P18 -> 7
A19: Saut de Haie | M19: 5 | P19: 1 | S19: =M19*P19 -> 5
A20: Positios A et C 1 fois | M20: 6 | P20: 2 | S20: =M20*P20 -> 12
A21: Impression générale | M21: 3 | P21: 1 | S21: =M21*P21 -> 3
A26: Pointage concours | J26: Qualificatif | N26: Clt général | V26: Clt homologué | AD26: Clt non homologué
A27: =SUM(S14:U21) -> 69 | E27: sur | G27: 100 | J27: =IF(A27>79,"proposé","ajourné") -> ajourné | N27: =CLASSEMENT!F18 -> 2 | Q27: sur | S27: =CLASSEMENT!C24 -> 0 | Y27: sur | AH27: sur
A29: Observation(s)
A34: Juge(s) | J34: Signature(s) | Q34: Commissaire(s) au(x) concurrent(s) | AC34: Commissaire(s) au(x) agré(s)
A35: ='JUGE ET COM'!D7 -> UNTEL | Q35: ='JUGE ET COM'!F6 -> LUI | AC35: ='JUGE ET COM'!F7 -> ELLE
AC37: Classeur_Pointage_1 Version 11-04-16

Sheet Concurrent_17)
F1: CONCOURS D'OBEISSANCE | V1: BREVET | AA1: NH
F2: Organisé par: | L2: CLUB CANIN DE MIRECOURT
B4: Chien: | AB4: N° FAPAC: | AI4: Le:
B5: Race: | O5: Sexe: | R5: Né le: | W5: C. T: | AB5: Id:
B6: Club: | D6: CLUB CANIN DE MIRECOURT | T6: Régionale: | AI6: Inscription:
B7: Propriétaire: | Z7: N° de licence:
B8: Conducteur: | Z8: N° de licence: | AI8: Passage:
A13: Exercices | M13: Note | P13: Coef. | S13: Total | V13: Commentaires
A14: Absence couchée, conducteur à vue | M14: 1 | P14: 1 | S14: =M14*P14 -> 1
A15: Suite au pied en laisse | M15: 2 | P15: 1 | S15: =M15*P15 -> 2
A16: Suite au pied sans laisse | M16: 3 | P16: 1 | S16: =M16*P16 -> 3
A17: Rappel Simple | M17: 4 | P17: 2 | S17: =M17*P17 -> 8
A18: Rapport d'Objet | M18: 0 | P18: 1 | S18: =M18*P18 -> 0
A19: Saut de Haie | M19: 9 | P19: 1 | S19: =M19*P19 -> 9
A20: Positios A et C 1 fois | M20: 9.2 | P20: 2 | S20: =M20*P20 -> 18.4
A21: Impression générale | M21: 0.5 | P21: 1 | S21: =M21*P21 -> 0.5
A26: Pointage concours | J26: Qualificatif | N26: Clt général | V26: Clt homologué | AD26: Clt non homologué
A27: =SUM(S14:U21) -> 41.9 | E27: sur | G27: 100 | J27: =IF(A27>79,"proposé","ajourné") -> ajourné | N27: =CLASSEMENT!F19 -> 16 | Q27: sur | S27: =CLASSEMENT!C24 -> 0 | Y27: sur | AH27: sur
A29: Observation(s)
A34: Juge(s) | J34: Signature(s) | Q34: Commissaire(s) au(x) concurrent(s) | AC34: Commissaire(s) au(x) agré(s)
A35: ='JUGE ET COM'!D7 -> UNTEL | Q35: ='JUGE ET COM'!F6 -> LUI | AC35: ='JUGE ET COM'!F7 -> ELLE
AC37: Classeur_Pointage_1 Version 11-04-16

Sheet Concurrent_18)
F1: CONCOURS D'OBEISSANCE | V1: BREVET | AA1: H
F2: Organisé par: | L2: CLUB CANIN DE MIRECOURT
B4: Chien: | AB4: N° FAPAC: | AI4: Le:
B5: Race: | O5: Sexe: | R5: Né le: | W5: C. T: | AB5: Id:
B6: Club: | D6: CLUB CANIN DE MIRECOURT | T6: Régionale: | AI6: Inscription:
B7: Propriétaire: | Z7: N° de licence:
B8: Conducteur: | Z8: N° de licence: | AI8: Passage:
A13: Exercices | M13: Note | P13: Coef. | S13: Total | V13: Commentaires
A14: Absence couchée, conducteur à vue | M14: 8.5 | P14: 1 | S14: =M14*P14 -> 8.5
A15: Suite au pied en laisse | M15: 7.5 | P15: 1 | S15: =M15*P15 -> 7.5
A16: Suite au pied sans laisse | M16: 2.5 | P16: 1 | S16: =M16*P16 -> 2.5
A17: Rappel Simple | M17: 9 | P17: 2 | S17: =M17*P17 -> 18
A18: Rapport d'Objet | M18: 10 | P18: 1 | S18: =M18*P18 -> 10
A19: Saut de Haie | P19: 1 | S19: =M19*P19 -> 0
A20: Positios A et C 1 fois | P20: 2 | S20: =M20*P20 -> 0
A21: Impression générale | P21: 1 | S21: =M21*P21 -> 0
A26: Pointage concours | J26: Qualificatif | N26: Clt général | V26: Clt homologué | AD26: Clt non homologué
A27: =SUM(S14:U21) -> 46.5 | E27: sur | G27: 100 | J27: =IF(A27>79,"proposé","ajourné") -> ajourné | N27: =CLASSEMENT!F20 -> 13 | Q27: sur | S27: =CLASSEMENT!C24 -> 0 | Y27: sur | AH27: sur
A29: Observation(s)
A34: Juge(s) | J34: Signature(s) | Q34: Commissaire(s) au(x) concurrent(s) | AC34: Commissaire(s) au(x) agré(s)
A35: ='JUGE ET COM'!D7 -> UNTEL | Q35: ='JUGE ET COM'!F6 -> LUI | AC35: ='JUGE ET COM'!F7 -> ELLE
AC37: Classeur_Pointage_1 Version 11-04-16

Sheet Concurrent_19)
F1: CONCOURS D'OBEISSANCE | V1: BREVET | AA1: H
F2: Organisé par: | L2: CLUB CANIN DE MIRECOURT
B4: Chien: | AB4: N° FAPAC: | AI4: Le:
B5: Race: | O5: Sexe: | R5: Né le: | W5: C. T: | AB5: Id:
B6: Club: | D6: CLUB CANIN DE MIRECOURT | T6: Régionale: | AI6: Inscription:
B7: Propriétaire: | Z7: N° de licence:
B8: Conducteur: | Z8: N° de licence: | AI8: Passage:
A13: Exercices | M13: Note | P13: Coef. | S13: Total | V13: Commentaires
A14: Absence couchée, conducteur à vue | M14: 5.5 | P14: 1 | S14: =M14*P14 -> 5.5
A15: Suite au pied en laisse | M15: 6 | P15: 1 | S15: =M15*P15 -> 6
A16: Suite au pied sans laisse | M16: 5 | P16: 1 | S16: =M16*P16 -> 5
A17: Rappel Simple | M17: 8 | P17: 2 | S17: =M17*P17 -> 16
A18: Rapport d'Objet | M18: 9 | P18: 1 | S18: =M18*P18 -> 9
A19: Saut de Haie | P19: 1 | S19: =M19*P19 -> 0
A20: Positios A et C 1 fois | P20: 2 | S20: =M20*P20 -> 0
A21: Impression générale | P21: 1 | S21: =M21*P21 -> 0
A26: Pointage concours | J26: Qualificatif | N26: Clt général | V26: Clt homologué | AD26: Clt non homologué
A27: =SUM(S14:U21) -> 41.5 | E27: sur | G27: 100 | J27: =IF(A27>79,"proposé","ajourné") -> ajourné | N27: =CLASSEMENT!F21 -> 17 | Q27: sur | S27: =CLASSEMENT!C24 -> 0 | Y27: sur | AH27: sur
A29: Observation(s)
A34: Juge(s) | J34: Signature(s) | Q34: Commissaire(s) au(x) concurrent(s) | AC34: Commissaire(s) au(x) agré(s)
A35: ='JUGE ET COM'!D7 -> UNTEL | Q35: ='JUGE ET COM'!F6 -> LUI | AC35: ='JUGE ET COM'!F7 -> ELLE
AC37: Classeur_Pointage_1 Version 11-04-16

Sheet Concurrent_20)
F1: CONCOURS D'OBEISSANCE | V1: BREVET | AA1: H
F2: Organisé par: | L2: CLUB CANIN DE MIRECOURT
B4: Chien: | AB4: N° FAPAC: | AI4: Le:
B5: Race: | O5: Sexe: | R5: Né le: | W5: C. T: | AB5: Id:
B6: Club: | D6: CLUB CANIN DE MIRECOURT | T6: Régionale: | AI6: Inscription:
B7: Propriétaire: | Z7: N° de licence:
B8: Conducteur: | Z8: N° de licence: | AI8: Passage:
A13: Exercices | M13: Note | P13: Coef. | S13: Total | V13: Commentaires
A14: Absence couchée, conducteur à vue | P14: 1 | S14: =M14*P14 -> 0
A15: Suite au pied en laisse | P15: 1 | S15: =M15*P15 -> 0
A16: Suite au pied sans laisse | P16: 1 | S16: =M16*P16 -> 0
A17: Rappel Simple | P17: 2 | S17: =M17*P17 -> 0
A18: Rapport d'Objet | P18: 1 | S18: =M18*P18 -> 0
A19: Saut de Haie | P19: 1 | S19: =M19*P19 -> 0
A20: Positios A et C 1 fois | M20: 10 | P20: 2 | S20: =M20*P20 -> 20
A21: Impression générale | M21: 5.5 | P21: 1 | S21: =M21*P21 -> 5.5
A26: Pointage concours | J26: Qualificatif | N26: Clt général | V26: Clt homologué | AD26: Clt non homologué
A27: =SUM(S14:U21) -> 25.5 | E27: sur | G27: 100 | J27: =IF(A27>79,"proposé","ajourné") -> ajourné | N27: =CLASSEMENT!F22 -> 20 | Q27: sur | S27: =CLASSEMENT!C24 -> 0 | Y27: sur | AH27: sur
A29: Observation(s)
A34: Juge(s) | J34: Signature(s) | Q34: Commissaire(s) au(x) concurrent(s) | AC34: Commissaire(s) au(x) agré(s)
A35: ='JUGE ET COM'!D7 -> UNTEL | Q35: ='JUGE ET COM'!F6 -> LUI | AC35: ='JUGE ET COM'!F7 -> ELLE
AC37: Classeur_Pointage_1 Version 11-04-16

Sheet CLASSEMENT
C2: NOM | D2: CHIEN | E2: POINTS | F2: CLASSEMENT GENERAL | G2: CLASSEMENT H | H2: CLASSEMENT NH
A3: =Concurrent_1!AA$1 -> H | B3: 1 | C3: =Concurrent_1!G8 -> 0 | D3: =[1]Concurrent_1!E4 -> 0 | E3: =Concurrent_1!A27 -> 31 | F3: =RANK(E3,$E$3:$E$22) -> 18 | G3: =IF($A3="H",SUMPRODUCT(($A$3:$A$22=$A3)*($E$3:$E$22<$E3))+1,"") -> 2 | H3: =IF($A3="NH",SUMPRODUCT(($A$3:$A$22=$A3)*($E$3:$E$22<$E3))+1,"")
A4: ='Concurrent_2)'!AA$1 -> H | B4: 2 | C4: ='Concurrent_2)'!G8 -> 0 | D4: ='[1]Concurrent_2)'!E4 -> 0 | E4: ='Concurrent_2)'!A27 -> 50 | F4: =RANK(E4,$E$3:$E$22) -> 12 | G4: =IF($A4="H",SUMPRODUCT(($A$3:$A$22=$A4)*($E$3:$E$22<$E4))+1,"") -> 7 | H4: =IF($A4="NH",SUMPRODUCT(($A$3:$A$22=$A4)*($E$3:$E$22<$E4))+1,"")
A5: ='Concurrent_3)'!AA$1 -> NH | B5: 3 | C5: ='Concurrent_3)'!G8 -> 0 | D5: ='[1]Concurrent_3)'!E4 -> 0 | E5: ='Concurrent_3)'!A27 -> 50.5 | F5: =RANK(E5,$E$3:$E$22) -> 11 | G5: =IF($A5="H",SUMPRODUCT(($A$3:$A$22=$A5)*($E$3:$E$22<$E5))+1,"") | H5: =IF($A5="NH",SUMPRODUCT(($A$3:$A$22=$A5)*($E$3:$E$22<$E5))+1,"") -> 3
A6: ='Concurrent_4)'!AA$1 -> H | B6: 4 | C6: ='Concurrent_4)'!G8 -> 0 | D6: ='[1]Concurrent_4)'!E4 -> 0 | E6: ='Concurrent_4)'!A27 -> 45 | F6: =RANK(E6,$E$3:$E$22) -> 14 | G6: =IF($A6="H",SUMPRODUCT(($A$3:$A$22=$A6)*($E$3:$E$22<$E6))+1,"") -> 5 | H6: =IF($A6="NH",SUMPRODUCT(($A$3:$A$22=$A6)*($E$3:$E$22<$E6))+1,"")
A7: ='Concurrent_5)'!AA$1 -> NH | B7: 5 | C7: ='Concurrent_5)'!G8 -> 0 | D7: ='[1]Concurrent_5)'!E4 -> 0 | E7: ='Concurrent_5)'!A27 -> 29 | F7: =RANK(E7,$E$3:$E$22) -> 19 | G7: =IF($A7="H",SUMPRODUCT(($A$3:$A$22=$A7)*($E$3:$E$22<$E7))+1,"") | H7: =IF($A7="NH",SUMPRODUCT(($A$3:$A$22=$A7)*($E$3:$E$22<$E7))+1,"") -> 1
A8: ='Concurrent_6)'!AA$1 -> H | B8: 6 | C8: ='Concurrent_6)'!G8 -> 0 | D8: ='[1]Concurrent_6)'!E4 -> 0 | E8: ='Concurrent_6)'!A27 -> 65 | F8: =RANK(E8,$E$3:$E$22) -> 6 | G8: =IF($A8="H",SUMPRODUCT(($A$3:$A$22=$A8)*($E$3:$E$22<$E8))+1,"") -> 11 | H8: =IF($A8="NH",SUMPRODUCT(($A$3:$A$22=$A8)*($E$3:$E$22<$E8))+1,"")
A9: ='Concurrent_7)'!AA$1 -> NH | B9: 7 | C9: ='Concurrent_7)'!G8 -> 0 | D9: ='[1]Concurrent_7)'!E4 -> 0 | E9: ='Concurrent_7)'!A27 -> 53.5 | F9: =RANK(E9,$E$3:$E$22) -> 8 | G9: =IF($A9="H",SUMPRODUCT(($A$3:$A$22=$A9)*($E$3:$E$22<$E9))+1,"") | H9: =IF($A9="NH",SUMPRODUCT(($A$3:$A$22=$A9)*($E$3:$E$22<$E9))+1,"") -> 4
A10: ='Concurrent_8)'!AA$1 -> H | B10: 8 | C10: ='Concurrent_8)'!G8 -> 0 | D10: ='[1]Concurrent_8)'!E4 -> 0 | E10: ='Concurrent_8)'!A27 -> 44 | F10: =RANK(E10,$E$3:$E$22) -> 15 | G10: =IF($A10="H",SUMPRODUCT(($A$3:$A$22=$A10)*($E$3:$E$22<$E10))+1,"") -> 4 | H10: =IF($A10="NH",SUMPRODUCT(($A$3:$A$22=$A10)*($E$3:$E$22<$E10))+1,"")
A11: ='Concurrent_9)'!AA$1 -> H | B11: 9 | C11: ='Concurrent_9)'!G8 -> 0 | D11: ='[1]Concurrent_9)'!E4 -> 0 | E11: ='Concurrent_9)'!A27 -> 66 | F11: =RANK(E11,$E$3:$E$22) -> 4 | G11: =IF($A11="H",SUMPRODUCT(($A$3:$A$22=$A11)*($E$3:$E$22<$E11))+1,"") -> 13 | H11: =IF($A11="NH",SUMPRODUCT(($A$3:$A$22=$A11)*($E$3:$E$22<$E11))+1,"")
A12: ='Concurrent_10)'!AA$1 -> H | B12: 10 | C12: ='Concurrent_10)'!G8 -> 0 | D12: ='[1]Concurrent_10)'!E4 -> 0 | E12: ='Concurrent_10)'!A27 -> 65.5 | F12: =RANK(E12,$E$3:$E$22) -> 5 | G12: =IF($A12="H",SUMPRODUCT(($A$3:$A$22=$A12)*($E$3:$E$22<$E12))+1,"") -> 12 | H12: =IF($A12="NH",SUMPRODUCT(($A$3:$A$22=$A12)*($E$3:$E$22<$E12))+1,"")
A13: ='Concurrent_11)'!AA$1 -> H | B13: 11 | C13: ='Concurrent_11)'!G8 -> 0 | D13: ='[1]Concurrent_11)'!E4 -> 0 | E13: ='Concurrent_11)'!A27 -> 61 | F13: =RANK(E13,$E$3:$E$22) -> 7 | G13: =IF($A13="H",SUMPRODUCT(($A$3:$A$22=$A13)*($E$3:$E$22<$E13))+1,"") -> 10 | H13: =IF($A13="NH",SUMPRODUCT(($A$3:$A$22=$A13)*($E$3:$E$22<$E13))+1,"")
A14: ='Concurrent_12)'!AA$1 -> H | B14: 12 | C14: ='Concurrent_12)'!G8 -> 0 | D14: ='[1]Concurrent_12)'!E4 -> 0 | E14: ='Concurrent_12)'!A27 -> 67 | F14: =RANK(E14,$E$3:$E$22) -> 3 | G14: =IF($A14="H",SUMPRODUCT(($A$3:$A$22=$A14)*($E$3:$E$22<$E14))+1,"") -> 14 | H14: =IF($A14="NH",SUMPRODUCT(($A$3:$A$22=$A14)*($E$3:$E$22<$E14))+1,"")
A15: ='Concurrent_13)'!AA$1 -> NH | B15: 13 | C15: ='Concurrent_13)'!G8 -> 0 | D15: ='[1]Concurrent_13)'!E4 -> 0 | E15: ='Concurrent_13)'!A27 -> 88 | F15: =RANK(E15,$E$3:$E$22) -> 1 | G15: =IF($A15="H",SUMPRODUCT(($A$3:$A$22=$A15)*($E$3:$E$22<$E15))+1,"") | H15: =IF($A15="NH",SUMPRODUCT(($A$3:$A$22=$A15)*($E$3:$E$22<$E15))+1,"") -> 6
A16: ='Concurrent_14)'!AA$1 -> H | B16: 14 | C16: ='Concurrent_14)'!G8 -> 0 | D16: ='[1]Concurrent_14)'!E4 -> 0 | E16: ='Concurrent_14)'!A27 -> 51 | F16: =RANK(E16,$E$3:$E$22) -> 10 | G16: =IF($A16="H",SUMPRODUCT(($A$3:$A$22=$A16)*($E$3:$E$22<$E16))+1,"") -> 8 | H16: =IF($A16="NH",SUMPRODUCT(($A$3:$A$22=$A16)*($E$3:$E$22<$E16))+1,"")
A17: ='Concurrent_15)'!AA$1 -> H | B17: 15 | C17: ='Concurrent_15)'!G8 -> 0 | D17: ='[1]Concurrent_15)'!E4 -> 0 | E17: ='Concurrent_15)'!A27 -> 52.5 | F17: =RANK(E17,$E$3:$E$22) -> 9 | G17: =IF($A17="H",SUMPRODUCT(($A$3:$A$22=$A17)*($E$3:$E$22<$E17))+1,"") -> 9 | H17: =IF($A17="NH",SUMPRODUCT(($A$3:$A$22=$A17)*($E$3:$E$22<$E17))+1,"")
A18: ='Concurrent_16)'!AA$1 -> NH | B18: 16 | C18: ='Concurrent_16)'!G8 -> 0 | D18: ='[1]Concurrent_16)'!E4 -> 0 | E18: ='Concurrent_16)'!A27 -> 69 | F18: =RANK(E18,$E$3:$E$22) -> 2 | G18: =IF($A18="H",SUMPRODUCT(($A$3:$A$22=$A18)*($E$3:$E$22<$E18))+1,"") | H18: =IF($A18="NH",SUMPRODUCT(($A$3:$A$22=$A18)*($E$3:$E$22<$E18))+1,"") -> 5
A19: ='Concurrent_17)'!AA$1 -> NH | B19: 17 | C19: ='Concurrent_17)'!G8 -> 0 | D19: ='[1]Concurrent_17)'!E4 -> 0 | E19: ='Concurrent_17)'!A27 -> 41.9 | F19: =RANK(E19,$E$3:$E$22) -> 16 | G19: =IF($A19="H",SUMPRODUCT(($A$3:$A$22=$A19)*($E$3:$E$22<$E19))+1,"") | H19: =IF($A19="NH",SUMPRODUCT(($A$3:$A$22=$A19)*($E$3:$E$22<$E19))+1,"") -> 2
A20: ='Concurrent_18)'!AA$1 -> H | B20: 18 | C20: ='Concurrent_18)'!G8 -> 0 | D20: ='[1]Concurrent_18)'!E4 -> 0 | E20: ='Concurrent_18)'!A27 -> 46.5 | F20: =RANK(E20,$E$3:$E$22) -> 13 | G20: =IF($A20="H",SUMPRODUCT(($A$3:$A$22=$A20)*($E$3:$E$22<$E20))+1,"") -> 6 | H20: =IF($A20="NH",SUMPRODUCT(($A$3:$A$22=$A20)*($E$3:$E$22<$E20))+1,"")
A21: ='Concurrent_19)'!AA$1 -> H | B21: 19 | C21: ='Concurrent_19)'!G8 -> 0 | D21: ='[1]Concurrent_19)'!E4 -> 0 | E21: ='Concurrent_19)'!A27 -> 41.5 | F21: =RANK(E21,$E$3:$E$22) -> 17 | G21: =IF($A21="H",SUMPRODUCT(($A$3:$A$22=$A21)*($E$3:$E$22<$E21))+1,"") -> 3 | H21: =IF($A21="NH",SUMPRODUCT(($A$3:$A$22=$A21)*($E$3:$E$22<$E21))+1,"")
A22: ='Concurrent_20)'!AA$1 -> H | B22: 20 | C22: ='Concurrent_20)'!G8 -> 0 | D22: ='[1]Concurrent_20)'!E4 -> 0 | E22: ='Concurrent_20)'!A27 -> 25.5 | F22: =RANK(E22,$E$3:$E$22) -> 20 | G22: =IF($A22="H",SUMPRODUCT(($A$3:$A$22=$A22)*($E$3:$E$22<$E22))+1,"") -> 1 | H22: =IF($A22="NH",SUMPRODUCT(($A$3:$A$22=$A22)*($E$3:$E$22<$E22))+1,"")
A24: NOMBRE | B24: REEL | C24: =COUNTA(C3:C22)-COUNTIF(C3:C22,0) -> 0

Sheet JUGE ET COM
D5: JUGE | F5: COM
F6: LUI
D7: UNTEL | F7: ELLE
