Workbook

Sheet Données
B3: Produit | C3: Total | D3: Agence1 | E3: Agence2 | F3: Agence3 | G3: Agence4 | H3: Agence5
B4: Eau en Litres | C4: 3159000 | D4: 395000 | E4: 654000 | F4: 954000 | G4: 493000 | H4: 663000
B5: Electricite en Kw/h | C5: 3088000 | D5: 263000 | E5: 685000 | F5: 796000 | G5: 695000 | H5: 649000
B6: Papier en Kg | C6: 3036000 | D6: 390000 | E6: 689000 | F6: 666000 | G6: 644000 | H6: 647000
B7: Encre en nbr cartouches | C7: 3019000 | D7: 388000 | E7: 560000 | F7: 971000 | G7: 497000 | H7: 603000
B8: Carburant en Litres | C8: 2948000 | D8: 329000 | E8: 614000 | F8: 905000 | G8: 494000 | H8: 606000
B9: Fourniture | C9: 2938000 | D9: 276000 | E9: 600000 | F9: 895000 | G9: 667000 | H9: 500000
B10: Papier pour recyclage | C10: 2936000 | D10: 379000 | E10: 659000 | F10: 860000 | G10: 485000 | H10: 553000
B11: Produit48 | C11: 2909000 | D11: 190000 | E11: 597000 | F11: 879000 | G11: 581000 | H11: 662000
B12: Produit69 | C12: 2898000 | D12: 395000 | E12: 656000 | F12: 949000 | G12: 394000 | H12: 504000
B13: Produit21 | C13: 2846000 | D13: 260000 | E13: 578000 | F13: 932000 | G13: 605000 | H13: 471000
B14: Produit52 | C14: 2838000 | D14: 214000 | E14: 553000 | F14: 794000 | G14: 605000 | H14: 672000
B15: Produit38 | C15: 2836000 | D15: 208000 | E15: 612000 | F15: 748000 | G15: 602000 | H15: 666000
B18: Annee | C18: Indicateur | E18: 1 | F18: 1
B19: 2011 | C19: Papier
B20: 2012 | C20: Encre
B21: 2013 | C21: Eau
B22: 2014 | C22: Electricite
B23: 2015 | C23: Carburant
B24: 2016 | C24: Fourniture
C25: Papier pour recyclage

Sheet Sources
A2: Annee | B2: Encre | C2: Papier | D2: Electricite | E2: Eau | F2: Carburant | G2: Fourniture | H2: Papier pour recyclage
A3: Janvier 2011
A4: Fevrier 2011
A5: Mars 2011
A6: Avril 2011
A7: Mai 2011
A8: Juin 2011
A9: Juillet 2011
A10: Aout 2011
A11: Septembre 2011
A12: Octobre 2011
A13: Novembre 2011
A14: Decembre 2011
... A74: Decembre 2016

Sheet Tableau de Bord
A2: 100 | D2: Total | F2: Agence 1 | H2: Agence 2 | J2: Agence 3 | L2: Agence 4 | M2: Agence 5
C3: =Données!B4 -> Eau en Litres | D3: =Données!C4 -> 3159000 | E3: =D3 -> 3159000 | F3: =Données!D4 -> 395000 | G3: =F3 -> 395000 | H3: =Données!E4 -> 654000 | I3: =H3 -> 654000 | J3: =Données!D4 -> 395000 | K3: =J3 -> 395000 | L3: =Données!E4 -> 654000 | M3: =L3 -> 654000 | N3: =Données!F4 -> 954000 | O3: =N3 -> 954000
C4: =Données!B5 -> Electricite en Kw/h | D4: =Données!C5 -> 3088000 | E4: =D4 -> 3088000 | F4: =Données!D5 -> 263000 | G4: =F4 -> 263000 | H4: =Données!E5 -> 685000 | I4: =H4 -> 685000 | J4: =Données!D5 -> 263000 | K4: =J4 -> 263000 | L4: =Données!E5 -> 685000 | M4: =L4 -> 685000 | N4: =Données!F5 -> 796000 | O4: =N4 -> 796000
C5: =Données!B6 -> Papier en Kg | D5: =Données!C6 -> 3036000 | E5: =D5 -> 3036000 | F5: =Données!D6 -> 390000 | G5: =F5 -> 390000 | H5: =Données!E6 -> 689000 | I5: =H5 -> 689000 | J5: =Données!D6 -> 390000 | K5: =J5 -> 390000 | L5: =Données!E6 -> 689000 | M5: =L5 -> 689000 | N5: =Données!F6 -> 666000 | O5: =N5 -> 666000
C6: =Données!B7 -> Encre en nbr cartouches | D6: =Données!C7 -> 3019000 | E6: =D6 -> 3019000 | F6: =Données!D7 -> 388000 | G6: =F6 -> 388000 | H6: =Données!E7 -> 560000 | I6: =H6 -> 560000 | J6: =Données!D7 -> 388000 | K6: =J6 -> 388000 | L6: =Données!E7 -> 560000 | M6: =L6 -> 560000 | N6: =Données!F7 -> 971000 | O6: =N6 -> 971000
C7: =Données!B8 -> Carburant en Litres | D7: =Données!C8 -> 2948000 | E7: =D7 -> 2948000 | F7: =Données!D8 -> 329000 | G7: =F7 -> 329000 | H7: =Données!E8 -> 614000 | I7: =H7 -> 614000 | J7: =Données!D8 -> 329000 | K7: =J7 -> 329000 | L7: =Données!E8 -> 614000 | M7: =L7 -> 614000 | N7: =Données!F8 -> 905000 | O7: =N7 -> 905000
C8: =Données!B9 -> Fourniture | D8: =Données!C9 -> 2938000 | E8: =D8 -> 2938000 | F8: =Données!D9 -> 276000 | G8: =F8 -> 276000 | H8: =Données!E9 -> 600000 | I8: =H8 -> 600000 | J8: =Données!D9 -> 276000 | K8: =J8 -> 276000 | L8: =Données!E9 -> 600000 | M8: =L8 -> 600000 | N8: =Données!F9 -> 895000 | O8: =N8 -> 895000
C9: =Données!B10 -> Papier pour recyclage | D9: =Données!C10 -> 2936000 | E9: =D9 -> 2936000 | F9: =Données!D10 -> 379000 | G9: =F9 -> 379000 | H9: =Données!E10 -> 659000 | I9: =H9 -> 659000 | J9: =Données!D10 -> 379000 | K9: =J9 -> 379000 | L9: =Données!E10 -> 659000 | M9: =L9 -> 659000 | N9: =Données!F10 -> 860000 | O9: =N9 -> 860000
C10: =Données!B11 -> Produit48 | D10: =Données!C11 -> 2909000 | E10: =D10 -> 2909000 | F10: =Données!D11 -> 190000 | G10: =F10 -> 190000 | H10: =Données!E11 -> 597000 | I10: =H10 -> 597000 | J10: =Données!D11 -> 190000 | K10: =J10 -> 190000 | L10: =Données!E11 -> 597000 | M10: =L10 -> 597000 | N10: =Données!F11 -> 879000 | O10: =N10 -> 879000
C11: =Données!B12 -> Produit69 | D11: =Données!C12 -> 2898000 | E11: =D11 -> 2898000 | F11: =Données!D12 -> 395000 | G11: =F11 -> 395000 | H11: =Données!E12 -> 656000 | I11: =H11 -> 656000 | J11: =Données!D12 -> 395000 | K11: =J11 -> 395000 | L11: =Données!E12 -> 656000 | M11: =L11 -> 656000 | N11: =Données!F12 -> 949000 | O11: =N11 -> 949000
C12: =Données!B13 -> Produit21 | D12: =Données!C13 -> 2846000 | E12: =D12 -> 2846000 | F12: =Données!D13 -> 260000 | G12: =F12 -> 260000 | H12: =Données!E13 -> 578000 | I12: =H12 -> 578000 | J12: =Données!D13 -> 260000 | K12: =J12 -> 260000 | L12: =Données!E13 -> 578000 | M12: =L12 -> 578000 | N12: =Données!F13 -> 932000 | O12: =N12 -> 932000
