Workbook

Sheet JANV
A1: Date | B1: machine | C1: NBR d'heures de panne | D1: détail
B2: soutireuse | C2: 50
B3: souffleuse | C3: 500
E28: COMPTEUR SOUFFLEUSES ( PRIS LE DERNIER JOUR DU MOIS) = | F28: 500
D29: ( base de temps : compteur souffleuse ) | E29: MTBF JANVIER = | F29: =SUM(DATA!E26) -> 0
E30: MTTR JANVIER = | F30: =SUM(DATA!H25) -> 3.38
E31: DISPONIBILITE =

Sheet FEV
A1: Date | B1: machine | C1: NBR d'heures de panne | D1: détail
B2: souffleuse | C2: 700
B3: soutireuse | C3: 20
E28: COMPTEUR SOUFFLEUSES ( PRIS LE DERNIER JOUR DU MOIS) = | F28: 600
D29: ( base de temps : compteur souffleuse ) | E29: MTBF FEVRIER = | F29: =SUM(DATA!F26) -> 0
E30: MTTR FEVRIER = | F30: =SUM(DATA!H25) -> 3.38
E31: DISPONIBILITE =

Sheet MARS
A1: Date | B1: machine | C1: NBR d'heures de panne | D1: détail
B2: etiqueteuses | C2: 700
B3: soutireuse | C3: 700
E28: COMPTEUR SOUFFLEUSES ( PRIS LE DERNIER JOUR DU MOIS) = | F28: 700
D29: ( base de temps : compteur souffleuse ) | E29: MTBF MARS = | F29: =SUM(DATA!G26) -> 153
E30: MTTR MARS = | F30: =SUM(DATA!H25) -> 3.38
E31: DISPONIBILITE =

Sheet AVRIL
A1: Date | B1: machine | C1: NBR d'heures de panne | D1: détail
A2: 43560 | B2: fardeleuse | C2: 3 | D2: Problèmme avec monté film
A3: 43564 | B3: soutireuse | C3: 8 | D3: Essaie 75CL
A4: 43571 | B4: bema | C4: 3 | D4: problèmme de coupe TOP
A5: 43573 | B5: pal | C5: 2 | D5: bloquage palette
A6: 43573 | B6: fardeleuse | C6: 1.5 | D6: 2 casses bobine
A7: 43548 | B7: bema | C7: 3 | D7: problèmme de coupe TOP
A8: 43584 | B8: bema | C8: 5 | D8: problèmme de coupe TOP
A9: 43585 | B9: bema | C9: 0.3 | D9: problèmme de coupe TOP
A10: 43585 | B10: etiqueteuses | C10: 5 | D10: divers arret krones
B11: chekmat | C11: 3 | D11: checkmat
E28: COMPTEUR SOUFFLEUSES ( PRIS LE DERNIER JOUR DU MOIS) = | F28: 763
D29: ( base de temps : compteur souffleuse ) | E29: MTBF AVRIL = | F29: =SUM(DATA!H26) -> 45.7 | G29: c'est moyenne de temps entre 2 pannes
E30: MTTR AVRIL = | F30: =SUM(DATA!H25) -> 3.38 | G30: c'est le temps moyen de dépannage d'une machine
E31: DISPONIBILITE = | F31: =SUM(DATA!H29) -> 93.113284 | G31: pour cent de chance que la ligne soit disponible a un intant T

Sheet MAI
A1: Date | B1: machine | C1: NBR d'heures de panne | D1: détail
A2: 43598 | B2: dateur | C2: 2 | D2: réglage machine ( affinage réglage )
A3: 43598 | B3: segepart | C3: 2 | D3: défaut perte étiquette sabot
A4: 43601 | B4: fardeleuse | C4: 3 | D4: réglage de machine
A5: 43607 | B5: bema | C5: 1 | D5: problèmme de coupe TOP
A6: 43607 | B6: fardeleuse | C6: 1 | D6: tapis sortie four
A7: 43612 | B7: bema | C7: 2 | D7: problèmme de coupe TOP
A8: 43612 | B8: etiqueteuses | C8: 3 | D8: intervention krones
A9: 43616 | B9: bema | C9: 3 | D9: problèmme de coupe TOP
E28: COMPTEUR SOUFFLEUSES ( PRIS LE DERNIER JOUR DU MOIS) = | F28: 1270
D29: ( base de temps : compteur souffleuse ) | E29: MTBF MAI = | F29: =SUM(DATA!I26) -> 63.375 | G29: c'est moyenne de temps entre 2 pannes
E30: MTTR MAI = | F30: =SUM(DATA!I25) -> 2.125 | G30: c'est le temps moyen de dépannage d'une machine
E31: DISPONIBILITE = | F31: =SUM(DATA!I29) -> 96.755725 | G31: pour cent de chance que la ligne soit disponible a un intant T

Sheet JUIN
A1: Date | B1: machine | C1: NBR d'heures de panne | D1: détail
A2: 43622 | B2: etiqueteuses | C2: 2 | D2: pompe a vide HS
A3: 43627 | B3: fardeleuse | C3: 8 | D3: divers réglage machine
A4: 43630 | B4: fardeleuse | C4: 3 | D4: interv cermex
A5: 43633 | B5: chekmat | C5: 5 | D5: defaut chekmat carte HS
A6: 43635 | B6: soutireuse | C6: 4 | D6: robinet a changer
A7: 43637 | B7: bema | C7: 1 | D7: problèmme de coupe TOP
A8: 43640 | B8: pal | C8: 1 | D8: vrac dans machine ( mauvais programme)
A9: 43640 | B9: bema | C9: 0.5 | D9: problèmme de coupe TOP
A10: 43643 | B10: bema | C10: 0.5 | D10: problèmme de coupe TOP
E28: COMPTEUR SOUFFLEUSES ( PRIS LE DERNIER JOUR DU MOIS) = | F28: 1682
D29: ( base de temps : compteur souffleuse ) | E29: MTBF JUIN = | F29: =SUM(DATA!J26) -> 45.777778 | G29: c'est moyenne de temps entre 2 pannes
E30: MTTR JUIN = | F30: =SUM(DATA!J25) -> 2.7777778 | G30: c'est le temps moyen de dépannage d'une machine
E31: DISPONIBILITE = | F31: =SUM(DATA!J29) -> 94.279176 | G31: pour cent de chance que la ligne soit disponible a un intant T

Sheet JUILLET
A1: Date | B1: machine | C1: NBR d'heures de panne | D1: détail
A2: 43649 | B2: convoyeur | C2: 1 | D2: réglage vitesse convoyeur
A3: 43649 | B3: souffleuse | C3: 3 | D3: réglage plateau 75cl
A4: 43654 | B4: pal | C4: 2 | D4: coupure courant
A5: 43658 | B5: fardeleuse | C5: 0.5 | D5: casse film
A6: 43661 | B6: surfilmeuse | C6: 0.5 | D6: réglage entrée 0,5
A7: 43663 | B7: bema | C7: 0.5 | D7: problèmme de coupe TOP
A8: 43665 | B8: bema | C8: 0.5 | D8: problèmme de coupe TOP
A9: 43669 | B9: fardeleuse | C9: 1 | D9: casse film
A10: 43671 | B10: bema | C10: 0.5 | D10: problèmme de coupe TOP
A11: 43671 | B11: segepart | C11: 2 | D11: perte étiquette sabot
E28: COMPTEUR SOUFFLEUSES ( PRIS LE DERNIER JOUR DU MOIS) = | F28: 2200
D29: ( base de temps : compteur souffleuse ) | E29: MTBF JUILLET = | F29: =SUM(DATA!K26) -> 51.8 | G29: c'est moyenne de temps entre 2 pannes
E30: MTTR JUILLET = | F30: =SUM(DATA!K25) -> 1.15 | G30: c'est le temps moyen de dépannage d'une machine
E31: DISPONIBILITE = | F31: =SUM(DATA!K29) -> 97.82814 | G31: pour cent de chance que la ligne soit disponible a un intant T

Sheet AOUT
A1: Date | B1: machine | C1: NBR d'heures de panne | D1: détail
A2: 43678 | B2: chekmat | C2: 2 | D2: divers réglage
A3: 43678 | B3: pal | C3: 6 | D3: casse barre de poussé
A4: 43690 | B4: souffleuse | C4: 4 | D4: défaut canne etirage n°9
A5: 43693 | B5: souffleuse | C5: 3 | D5: intervention krones
A6: 43698 | B6: pal | C6: 1 | D6: coupure courant
A7: 43700 | B7: etiqueteuses | C7: 1 | D7: divers réglage température colle
A8: 43700 | B8: bema | C8: 2 | D8: problèmme de coupe TOP
A9: 43705 | B9: convoyeur | C9: 3 | D9: casse conv poigneteuse
E28: COMPTEUR SOUFFLEUSES ( PRIS LE DERNIER JOUR DU MOIS) = | F28: 2568
D29: ( base de temps : compteur souffleuse ) | E29: MTBF AOUT = | F29: =SUM(DATA!L26) -> 46 | G29: c'est moyenne de temps entre 2 pannes
E30: MTTR AOUT = | F30: =SUM(DATA!L25) -> 2.75 | G30: c'est le temps moyen de dépannage d'une machine
E31: DISPONIBILITE = | F31: =SUM(DATA!L29) -> 94.358974 | G31: pour cent de chance que la ligne soit disponible a un intant T

Sheet SEPT
A1: Date | B1: machine | C1: NBR d'heures de panne | D1: détail
A2: 43712 | B2: etiqueteuses | C2: 2 | D2: changement moteur colle
A3: 43714 | B3: soutireuse | C3: 5 | D3: defaut disjonction moteur etoile sortie
A4: 43725 | B4: pal | C4: 1 | D4: coupure courant
A5: 43731 | B5: bema | C5: 1 | D5: palette tomber sur cellule
E28: COMPTEUR SOUFFLEUSES ( PRIS LE DERNIER JOUR DU MOIS) = | F28: 2908
D29: ( base de temps : compteur souffleuse ) | E29: MTBF SEPT = | F29: =SUM(DATA!M26) -> 85 | G29: c'est moyenne de temps entre 2 pannes
E30: MTTR SEPT = | F30: =SUM(DATA!M25) -> 2.25 | G30: c'est le temps moyen de dépannage d'une machine
E31: DISPONIBILITE = | F31: =SUM(DATA!M29) -> 97.421203 | G31: pour cent de chance que la ligne soit disponible a un intant T

Sheet OCT
A1: Date | B1: machine | C1: NBR d'heures de panne | D1: détail
A2: 43597 | C2: 2
A3: 43598 | C3: 8
A4: 43603 | C4: 3
A5: 43604 | C5: 5
C6: 4
C7: 4
E28: COMPTEUR SOUFFLEUSES ( PRIS LE DERNIER JOUR DU MOIS) = | F28: 3300
D29: ( base de temps : compteur souffleuse ) | E29: MTBF OCT = | F29: =SUM(DATA!N26) -> #DIV/0! | G29: c'est moyenne de temps entre 2 pannes
E30: MTTR OCT = | F30: =SUM(DATA!N25) -> #DIV/0! | G30: c'est le temps moyen de dépannage d'une machine
E31: DISPONIBILITE = | F31: =SUM(DATA!N29) -> #DIV/0! | G31: pour cent de chance que la ligne soit disponible a un intant T

Sheet NOV
A1: Date | B1: machine | C1: NBR d'heures de panne | D1: détail
E28: COMPTEUR SOUFFLEUSES ( PRIS LE DERNIER JOUR DU MOIS) = | F28: 1700
D29: ( base de temps : compteur souffleuse ) | E29: MTBF NOV = | F29: =SUM(DATA!O26) -> #DIV/0! | G29: c'est moyenne de temps entre 2 pannes
E30: MTTR NOV = | F30: =SUM(DATA!O25) -> #DIV/0! | G30: c'est le temps moyen de dépannage d'une machine
E31: DISPONIBILITE = | F31: =SUM(DATA!O29) -> #DIV/0! | G31: pour cent de chance que la ligne soit disponible a un intant T

Sheet DEC
A1: Date | B1: machine | C1: NBR d'heures de panne | D1: détail
E28: COMPTEUR SOUFFLEUSES ( PRIS LE DERNIER JOUR DU MOIS) = | F28: 1800
D29: ( base de temps : compteur souffleuse ) | E29: MTBF DEC = | F29: =SUM(DATA!P26) -> #DIV/0! | G29: c'est moyenne de temps entre 2 pannes
E30: MTTR DEC = | F30: =SUM(DATA!P25) -> #DIV/0! | G30: c'est le temps moyen de dépannage d'une machine
E31: DISPONIBILITE = | F31: =SUM(DATA!P29) -> #DIV/0! | G31: pour cent de chance que la ligne soit disponible a un intant T

Sheet Synthese

Sheet MTTR
A3: MTBF | B3: MTBF désigne le temps moyen entre défaillances consécutives
A5: MTTR | B5: temps moyen pour réparer
B9: MTTR = Temps d'arrêt Total / nombre d'arrêts
A13: disponibilité = MTBF / (MTTR + MTBF )

Sheet DATA
A1: machine | E1: janv | F1: fev | G1: MARS | H1: avril | I1: mai | J1: juin | K1: juillet | L1: aout | M1: septembre | N1: octobre | O1: novembre | P1: décembre | Q1: TOTAL
A3: basculeur | E3: =SUMIFS(JANV!C:C,JANV!B:B,A3) -> 0 | F3: =SUMIFS(FEV!C:C,FEV!B:B,A3) -> 0 | G3: =SUMIFS(MARS!C:C,MARS!B:B,A3) -> 0 | H3: =SUMIFS(AVRIL!C:C,AVRIL!B:B,A3) -> 0 | I3: =SUMIFS(MAI!C:C,MAI!B:B,A3) -> 0 | J3: =SUMIFS(JUIN!C:C,JUIN!B:B,A3) -> 0 | K3: =SUMIFS(JUILLET!C:C,JUILLET!B:B,A3) -> 0 | L3: =SUMIFS(AOUT!C:C,AOUT!B:B,A3) -> 0 | M3: =SUMIFS(SEPT!C:C,SEPT!B:B,A3) -> 0 | N3: =SUMIFS(OCT!C:C,OCT!B:B,A3) -> 0 | O3: =SUMIFS(NOV!C:C,NOV!B:B,A3) -> 0 | P3: =SUMIFS(DEC!C:C,DEC!B:B,A3) -> 0 | Q3: =SUM(E3:P3) -> 0
A4: souffleuse | E4: =SUMIFS(JANV!C:C,JANV!B:B,A4) -> 500 | F4: =SUMIFS(FEV!C:C,FEV!B:B,A4) -> 700 | G4: =SUMIFS(MARS!C:C,MARS!B:B,A4) -> 0 | H4: =SUMIFS(AVRIL!C:C,AVRIL!B:B,A4) -> 0 | I4: =SUMIFS(MAI!C:C,MAI!B:B,A4) -> 0 | J4: =SUMIFS(JUIN!C:C,JUIN!B:B,A4) -> 0 | K4: =SUMIFS(JUILLET!C:C,JUILLET!B:B,A4) -> 3 | L4: =SUMIFS(AOUT!C:C,AOUT!B:B,A4) -> 7 | M4: =SUMIFS(SEPT!C:C,SEPT!B:B,A4) -> 0 | N4: =SUMIFS(OCT!C:C,OCT!B:B,A4) -> 0 | O4: =SUMIFS(NOV!C:C,NOV!B:B,A4) -> 0 | P4: =SUMIFS(DEC!C:C,DEC!B:B,A4) -> 0 | Q4: =SUM(E4:P4) -> 1210
A5: soutireuse | E5: =SUMIFS(JANV!C:C,JANV!B:B,A5) -> 50 | F5: =SUMIFS(FEV!C:C,FEV!B:B,A5) -> 20 | G5: =SUMIFS(MARS!C:C,MARS!B:B,A5) -> 700 | H5: =SUMIFS(AVRIL!C:C,AVRIL!B:B,A5) -> 8 | I5: =SUMIFS(MAI!C:C,MAI!B:B,A5) -> 0 | J5: =SUMIFS(JUIN!C:C,JUIN!B:B,A5) -> 4 | K5: =SUMIFS(JUILLET!C:C,JUILLET!B:B,A5) -> 0 | L5: =SUMIFS(AOUT!C:C,AOUT!B:B,A5) -> 0 | M5: =SUMIFS(SEPT!C:C,SEPT!B:B,A5) -> 5 | N5: =SUMIFS(OCT!C:C,OCT!B:B,A5) -> 0 | O5: =SUMIFS(NOV!C:C,NOV!B:B,A5) -> 0 | P5: =SUMIFS(DEC!C:C,DEC!B:B,A5) -> 0 | Q5: =SUM(E5:P5) -> 787
A6: etiqueteuses | E6: =SUMIFS(JANV!C:C,JANV!B:B,A6) -> 0 | F6: =SUMIFS(FEV!C:C,FEV!B:B,A6) -> 0 | G6: =SUMIFS(MARS!C:C,MARS!B:B,A6) -> 700 | H6: =SUMIFS(AVRIL!C:C,AVRIL!B:B,A6) -> 5 | I6: =SUMIFS(MAI!C:C,MAI!B:B,A6) -> 3 | J6: =SUMIFS(JUIN!C:C,JUIN!B:B,A6) -> 2 | K6: =SUMIFS(JUILLET!C:C,JUILLET!B:B,A6) -> 0 | L6: =SUMIFS(AOUT!C:C,AOUT!B:B,A6) -> 1 | M6: =SUMIFS(SEPT!C:C,SEPT!B:B,A6) -> 2 | N6: =SUMIFS(OCT!C:C,OCT!B:B,A6) -> 0 | O6: =SUMIFS(NOV!C:C,NOV!B:B,A6) -> 0 | P6: =SUMIFS(DEC!C:C,DEC!B:B,A6) -> 0 | Q6: =SUM(E6:P6) -> 713
A7: fardeleuse | E7: =SUMIFS(JANV!C:C,JANV!B:B,A7) -> 0 | F7: =SUMIFS(FEV!C:C,FEV!B:B,A7) -> 0 | G7: =SUMIFS(MARS!C:C,MARS!B:B,A7) -> 0 | H7: =SUMIFS(AVRIL!C:C,AVRIL!B:B,A7) -> 4.5 | I7: =SUMIFS(MAI!C:C,MAI!B:B,A7) -> 4 | J7: =SUMIFS(JUIN!C:C,JUIN!B:B,A7) -> 11 | K7: =SUMIFS(JUILLET!C:C,JUILLET!B:B,A7) -> 1.5 | L7: =SUMIFS(AOUT!C:C,AOUT!B:B,A7) -> 0 | M7: =SUMIFS(SEPT!C:C,SEPT!B:B,A7) -> 0 | N7: =SUMIFS(OCT!C:C,OCT!B:B,A7) -> 0 | O7: =SUMIFS(NOV!C:C,NOV!B:B,A7) -> 0 | P7: =SUMIFS(DEC!C:C,DEC!B:B,A7) -> 0 | Q7: =SUM(E7:P7) -> 21
A8: surfilmeuse | E8: =SUMIFS(JANV!C:C,JANV!B:B,A8) -> 0 | F8: =SUMIFS(FEV!C:C,FEV!B:B,A8) -> 0 | G8: =SUMIFS(MARS!C:C,MARS!B:B,A8) -> 0 | H8: =SUMIFS(AVRIL!C:C,AVRIL!B:B,A8) -> 0 | I8: =SUMIFS(MAI!C:C,MAI!B:B,A8) -> 0 | J8: =SUMIFS(JUIN!C:C,JUIN!B:B,A8) -> 0 | K8: =SUMIFS(JUILLET!C:C,JUILLET!B:B,A8) -> 0.5 | L8: =SUMIFS(AOUT!C:C,AOUT!B:B,A8) -> 0 | M8: =SUMIFS(SEPT!C:C,SEPT!B:B,A8) -> 0 | N8: =SUMIFS(OCT!C:C,OCT!B:B,A8) -> 0 | O8: =SUMIFS(NOV!C:C,NOV!B:B,A8) -> 0 | P8: =SUMIFS(DEC!C:C,DEC!B:B,A8) -> 0 | Q8: =SUM(E8:P8) -> 0.5
A9: pal | E9: =SUMIFS(JANV!C:C,JANV!B:B,A9) -> 0 | F9: =SUMIFS(FEV!C:C,FEV!B:B,A9) -> 0 | G9: =SUMIFS(MARS!C:C,MARS!B:B,A9) -> 0 | H9: =SUMIFS(AVRIL!C:C,AVRIL!B:B,A9) -> 2 | I9: =SUMIFS(MAI!C:C,MAI!B:B,A9) -> 0 | J9: =SUMIFS(JUIN!C:C,JUIN!B:B,A9) -> 1 | K9: =SUMIFS(JUILLET!C:C,JUILLET!B:B,A9) -> 2 | L9: =SUMIFS(AOUT!C:C,AOUT!B:B,A9) -> 7 | M9: =SUMIFS(SEPT!C:C,SEPT!B:B,A9) -> 1 | N9: =SUMIFS(OCT!C:C,OCT!B:B,A9) -> 0 | O9: =SUMIFS(NOV!C:C,NOV!B:B,A9) -> 0 | P9: =SUMIFS(DEC!C:C,DEC!B:B,A9) -> 0 | Q9: =SUM(E9:P9) -> 13
A10: bema | E10: =SUMIFS(JANV!C:C,JANV!B:B,A10) -> 0 | F10: =SUMIFS(FEV!C:C,FEV!B:B,A10) -> 0 | G10: =SUMIFS(MARS!C:C,MARS!B:B,A10) -> 0 | H10: =SUMIFS(AVRIL!C:C,AVRIL!B:B,A10) -> 11.3 | I10: =SUMIFS(MAI!C:C,MAI!B:B,A10) -> 6 | J10: =SUMIFS(JUIN!C:C,JUIN!B:B,A10) -> 2 | K10: =SUMIFS(JUILLET!C:C,JUILLET!B:B,A10) -> 1.5 | L10: =SUMIFS(AOUT!C:C,AOUT!B:B,A10) -> 2 | M10: =SUMIFS(SEPT!C:C,SEPT!B:B,A10) -> 1 | N10: =SUMIFS(OCT!C:C,OCT!B:B,A10) -> 0 | O10: =SUMIFS(NOV!C:C,NOV!B:B,A10) -> 0 | P10: =SUMIFS(DEC!C:C,DEC!B:B,A10) -> 0 | Q10: =SUM(E10:P10) -> 23.8
A11: segepart | E11: =SUMIFS(JANV!C:C,JANV!B:B,A11) -> 0 | F11: =SUMIFS(FEV!C:C,FEV!B:B,A11) -> 0 | G11: =SUMIFS(MARS!C:C,MARS!B:B,A11) -> 0 | H11: =SUMIFS(AVRIL!C:C,AVRIL!B:B,A11) -> 0 | I11: =SUMIFS(MAI!C:C,MAI!B:B,A11) -> 2 | J11: =SUMIFS(JUIN!C:C,JUIN!B:B,A11) -> 0 | K11: =SUMIFS(JUILLET!C:C,JUILLET!B:B,A11) -> 2 | L11: =SUMIFS(AOUT!C:C,AOUT!B:B,A11) -> 0 | M11: =SUMIFS(SEPT!C:C,SEPT!B:B,A11) -> 0 | N11: =SUMIFS(OCT!C:C,OCT!B:B,A11) -> 0 | O11: =SUMIFS(NOV!C:C,NOV!B:B,A11) -> 0 | P11: =SUMIFS(DEC!C:C,DEC!B:B,A11) -> 0 | Q11: =SUM(E11:P11) -> 4
A12: chekmat | E12: =SUMIFS(JANV!C:C,JANV!B:B,A12) -> 0 | F12: =SUMIFS(FEV!C:C,FEV!B:B,A12) -> 0 | G12: =SUMIFS(MARS!C:C,MARS!B:B,A12) -> 0 | H12: =SUMIFS(AVRIL!C:C,AVRIL!B:B,A12) -> 3 | I12: =SUMIFS(MAI!C:C,MAI!B:B,A12) -> 0 | J12: =SUMIFS(JUIN!C:C,JUIN!B:B,A12) -> 5 | K12: =SUMIFS(JUILLET!C:C,JUILLET!B:B,A12) -> 0 | L12: =SUMIFS(AOUT!C:C,AOUT!B:B,A12) -> 2 | M12: =SUMIFS(SEPT!C:C,SEPT!B:B,A12) -> 0 | N12: =SUMIFS(OCT!C:C,OCT!B:B,A12) -> 0 | O12: =SUMIFS(NOV!C:C,NOV!B:B,A12) -> 0 | P12: =SUMIFS(DEC!C:C,DEC!B:B,A12) -> 0 | Q12: =SUM(E12:P12) -> 10
A13: dateur | E13: =SUMIFS(JANV!C:C,JANV!B:B,A13) -> 0 | F13: =SUMIFS(FEV!C:C,FEV!B:B,A13) -> 0 | G13: =SUMIFS(MARS!C:C,MARS!B:B,A13) -> 0 | H13: =SUMIFS(AVRIL!C:C,AVRIL!B:B,A13) -> 0 | I13: =SUMIFS(MAI!C:C,MAI!B:B,A13) -> 2 | J13: =SUMIFS(JUIN!C:C,JUIN!B:B,A13) -> 0 | K13: =SUMIFS(JUILLET!C:C,JUILLET!B:B,A13) -> 0 | L13: =SUMIFS(AOUT!C:C,AOUT!B:B,A13) -> 0 | M13: =SUMIFS(SEPT!C:C,SEPT!B:B,A13) -> 0 | N13: =SUMIFS(OCT!C:C,OCT!B:B,A13) -> 0 | O13: =SUMIFS(NOV!C:C,NOV!B:B,A13) -> 0 | P13: =SUMIFS(DEC!C:C,DEC!B:B,A13) -> 0 | Q13: =SUM(E13:P13) -> 2
A14: convoyeur | E14: =SUMIFS(JANV!C:C,JANV!B:B,A14) -> 0 | F14: =SUMIFS(FEV!C:C,FEV!B:B,A14) -> 0 | G14: =SUMIFS(MARS!C:C,MARS!B:B,A14) -> 0 | H14: =SUMIFS(AVRIL!C:C,AVRIL!B:B,A14) -> 0 | I14: =SUMIFS(MAI!C:C,MAI!B:B,A14) -> 0 | J14: =SUMIFS(JUIN!C:C,JUIN!B:B,A14) -> 0 | K14: =SUMIFS(JUILLET!C:C,JUILLET!B:B,A14) -> 1 | L14: =SUMIFS(AOUT!C:C,AOUT!B:B,A14) -> 3 | M14: =SUMIFS(SEPT!C:C,SEPT!B:B,A14) -> 0 | N14: =SUMIFS(OCT!C:C,OCT!B:B,A14) -> 0 | O14: =SUMIFS(NOV!C:C,NOV!B:B,A14) -> 0 | P14: =SUMIFS(DEC!C:C,DEC!B:B,A14) -> 0 | Q14: =SUM(E14:P14) -> 4
A15: poigneteuse | E15: =SUMIFS(JANV!C:C,JANV!B:B,A15) -> 0 | F15: =SUMIFS(FEV!C:C,FEV!B:B,A15) -> 0 | G15: =SUMIFS(MARS!C:C,MARS!B:B,A15) -> 0 | H15: =SUMIFS(AVRIL!C:C,AVRIL!B:B,A15) -> 0 | I15: =SUMIFS(MAI!C:C,MAI!B:B,A15) -> 0 | J15: =SUMIFS(JUIN!C:C,JUIN!B:B,A15) -> 0 | K15: =SUMIFS(JUILLET!C:C,JUILLET!B:B,A15) -> 0 | L15: =SUMIFS(AOUT!C:C,AOUT!B:B,A15) -> 0 | M15: =SUMIFS(SEPT!C:C,SEPT!B:B,A15) -> 0 | N15: =SUMIFS(OCT!C:C,OCT!B:B,A15) -> 0 | O15: =SUMIFS(NOV!C:C,NOV!B:B,A15) -> 0 | P15: =SUMIFS(DEC!C:C,DEC!B:B,A15) -> 0 | Q15: =SUM(E15:P15) -> 0
E16: =SUMIFS(JANV!C:C,JANV!B:B,A16) -> 0 | F16: =SUMIFS(FEV!C:C,FEV!B:B,A16) -> 0 | G16: =SUMIFS(MARS!C:C,MARS!B:B,A16) -> 0 | H16: =SUMIFS(AVRIL!C:C,AVRIL!B:B,A16) -> 0 | I16: =SUMIFS(MAI!C:C,MAI!B:B,A16) -> 0 | J16: =SUMIFS(JUIN!C:C,JUIN!B:B,A16) -> 0 | K16: =SUMIFS(JUILLET!C:C,JUILLET!B:B,A16) -> 0 | L16: =SUMIFS(AOUT!C:C,AOUT!B:B,A16) -> 0 | M16: =SUMIFS(SEPT!C:C,SEPT!B:B,A16) -> 0 | N16: =SUMIFS(OCT!C:C,OCT!B:B,A16) -> 0 | O16: =SUMIFS(NOV!C:C,NOV!B:B,A16) -> 0 | P16: =SUMIFS(DEC!C:C,DEC!B:B,A16) -> 0 | Q16: =SUM(E16:P16) -> 0
E17: =SUMIFS(JANV!C:C,JANV!B:B,A17) -> 0 | F17: =SUMIFS(FEV!C:C,FEV!B:B,A17) -> 0 | G17: =SUMIFS(MARS!C:C,MARS!B:B,A17) -> 0 | H17: =SUMIFS(AVRIL!C:C,AVRIL!B:B,A17) -> 0 | I17: =SUMIFS(MAI!C:C,MAI!B:B,A17) -> 0 | J17: =SUMIFS(JUIN!C:C,JUIN!B:B,A17) -> 0 | K17: =SUMIFS(JUILLET!C:C,JUILLET!B:B,A17) -> 0 | L17: =SUMIFS(AOUT!C:C,AOUT!B:B,A17) -> 0 | M17: =SUMIFS(SEPT!C:C,SEPT!B:B,A17) -> 0 | N17: =SUMIFS(OCT!C:C,OCT!B:B,A17) -> 0 | O17: =SUMIFS(NOV!C:C,NOV!B:B,A17) -> 0 | P17: =SUMIFS(DEC!C:C,DEC!B:B,A17) -> 0 | Q17: =SUM(E17:P17) -> 0
E18: =SUMIFS(JANV!C:C,JANV!B:B,A18) -> 0 | F18: =SUMIFS(FEV!C:C,FEV!B:B,A18) -> 0 | G18: =SUMIFS(MARS!C:C,MARS!B:B,A18) -> 0 | H18: =SUMIFS(AVRIL!C:C,AVRIL!B:B,A18) -> 0 | I18: =SUMIFS(MAI!C:C,MAI!B:B,A18) -> 0 | J18: =SUMIFS(JUIN!C:C,JUIN!B:B,A18) -> 0 | K18: =SUMIFS(JUILLET!C:C,JUILLET!B:B,A18) -> 0 | L18: =SUMIFS(AOUT!C:C,AOUT!B:B,A18) -> 0 | M18: =SUMIFS(SEPT!C:C,SEPT!B:B,A18) -> 0 | N18: =SUMIFS(OCT!C:C,OCT!B:B,A18) -> 0 | O18: =SUMIFS(NOV!C:C,NOV!B:B,A18) -> 0 | P18: =SUMIFS(DEC!C:C,DEC!B:B,A18) -> 0 | Q18: =SUM(E18:P18) -> 0
E19: =SUMIFS(JANV!C:C,JANV!B:B,A19) -> 0 | F19: =SUMIFS(FEV!C:C,FEV!B:B,A19) -> 0 | G19: =SUMIFS(MARS!C:C,MARS!B:B,A19) -> 0 | H19: =SUMIFS(AVRIL!C:C,AVRIL!B:B,A19) -> 0 | I19: =SUMIFS(MAI!C:C,MAI!B:B,A19) -> 0 | J19: =SUMIFS(JUIN!C:C,JUIN!B:B,A19) -> 0 | K19: =SUMIFS(JUILLET!C:C,JUILLET!B:B,A19) -> 0 | L19: =SUMIFS(AOUT!C:C,AOUT!B:B,A19) -> 0 | M19: =SUMIFS(SEPT!C:C,SEPT!B:B,A19) -> 0 | N19: =SUMIFS(OCT!C:C,OCT!B:B,A19) -> 0 | O19: =SUMIFS(NOV!C:C,NOV!B:B,A19) -> 0 | P19: =SUMIFS(DEC!C:C,DEC!B:B,A19) -> 0 | Q19: =SUM(E19:P19) -> 0
E20: =SUMIFS(JANV!C:C,JANV!B:B,A20) -> 0 | F20: =SUMIFS(FEV!C:C,FEV!B:B,A20) -> 0 | G20: =SUMIFS(MARS!C:C,MARS!B:B,A20) -> 0 | H20: =SUMIFS(AVRIL!C:C,AVRIL!B:B,A20) -> 0 | I20: =SUMIFS(MAI!C:C,MAI!B:B,A20) -> 0 | J20: =SUMIFS(JUIN!C:C,JUIN!B:B,A20) -> 0 | K20: =SUMIFS(JUILLET!C:C,JUILLET!B:B,A20) -> 0 | L20: =SUMIFS(AOUT!C:C,AOUT!B:B,A20) -> 0 | M20: =SUMIFS(SEPT!C:C,SEPT!B:B,A20) -> 0 | N20: =SUMIFS(OCT!C:C,OCT!B:B,A20) -> 0 | O20: =SUMIFS(NOV!C:C,NOV!B:B,A20) -> 0 | P20: =SUMIFS(DEC!C:C,DEC!B:B,A20) -> 0 | Q20: =SUM(E20:P20) -> 0
E21: =SUMIFS(JANV!C:C,JANV!B:B,A21) -> 0 | F21: =SUMIFS(FEV!C:C,FEV!B:B,A21) -> 0 | G21: =SUMIFS(MARS!C:C,MARS!B:B,A21) -> 0 | H21: =SUMIFS(AVRIL!C:C,AVRIL!B:B,A21) -> 0 | I21: =SUMIFS(MAI!C:C,MAI!B:B,A21) -> 0 | J21: =SUMIFS(JUIN!C:C,JUIN!B:B,A21) -> 0 | K21: =SUMIFS(JUILLET!C:C,JUILLET!B:B,A21) -> 0 | L21: =SUMIFS(AOUT!C:C,AOUT!B:B,A21) -> 0 | M21: =SUMIFS(SEPT!C:C,SEPT!B:B,A21) -> 0 | N21: =SUMIFS(OCT!C:C,OCT!B:B,A21) -> 0 | O21: =SUMIFS(NOV!C:C,NOV!B:B,A21) -> 0 | P21: =SUMIFS(DEC!C:C,DEC!B:B,A21) -> 0 | Q21: =SUM(E21:P21) -> 0
E22: =SUMIFS(JANV!C:C,JANV!B:B,A22) -> 0 | F22: =SUMIFS(FEV!C:C,FEV!B:B,A22) -> 0 | G22: =SUMIFS(MARS!C:C,MARS!B:B,A22) -> 0 | H22: =SUMIFS(AVRIL!C:C,AVRIL!B:B,A22) -> 0 | I22: =SUMIFS(MAI!C:C,MAI!B:B,A22) -> 0 | J22: =SUMIFS(JUIN!C:C,JUIN!B:B,A22) -> 0 | K22: =SUMIFS(JUILLET!C:C,JUILLET!B:B,A22) -> 0 | L22: =SUMIFS(AOUT!C:C,AOUT!B:B,A22) -> 0 | M22: =SUMIFS(SEPT!C:C,SEPT!B:B,A22) -> 0 | N22: =SUMIFS(OCT!C:C,OCT!B:B,A22) -> 0 | O22: =SUMIFS(NOV!C:C,NOV!B:B,A22) -> 0 | P22: =SUMIFS(DEC!C:C,DEC!B:B,A22) -> 0 | Q22: =SUM(E22:P22) -> 0
E23: =SUMIFS(JANV!C:C,JANV!B:B,A23) -> 0 | F23: =SUMIFS(FEV!C:C,FEV!B:B,A23) -> 0 | G23: =SUMIFS(MARS!C:C,MARS!B:B,A23) -> 0 | H23: =SUMIFS(AVRIL!C:C,AVRIL!B:B,A23) -> 0 | I23: =SUMIFS(MAI!C:C,MAI!B:B,A23) -> 0 | J23: =SUMIFS(JUIN!C:C,JUIN!B:B,A23) -> 0 | K23: =SUMIFS(JUILLET!C:C,JUILLET!B:B,A23) -> 0 | L23: =SUMIFS(AOUT!C:C,AOUT!B:B,A23) -> 0 | M23: =SUMIFS(SEPT!C:C,SEPT!B:B,A23) -> 0 | N23: =SUMIFS(OCT!C:C,OCT!B:B,A23) -> 0 | O23: =SUMIFS(NOV!C:C,NOV!B:B,A23) -> 0 | P23: =SUMIFS(DEC!C:C,DEC!B:B,A23) -> 0 | Q23: =SUM(E23:P23) -> 0
D25: MTTR | E25: =SUM(E3:E23)/COUNTA(JANV!B2:B21) -> 275 | F25: =SUM(F3:F23)/COUNTA(FEV!B2:B21) -> 360 | G25: =SUM(G3:G23)/COUNTA(MARS!B2:B21) -> 700 | H25: =SUM(H3:H23)/COUNTA(AVRIL!B2:B21) -> 3.38 | I25: =SUM(I3:I23)/COUNTA(MAI!B2:B21) -> 2.125 | J25: =SUM(J3:J23)/COUNTA(JUIN!B2:B21) -> 2.7777778 | K25: =SUM(K3:K23)/COUNTA(JUILLET!B2:B21) -> 1.15 | L25: =SUM(L3:L23)/COUNTA(AOUT!B2:B21) -> 2.75 | M25: =SUM(M3:M23)/COUNTA(SEPT!B2:B21) -> 2.25 | N25: =SUM(N3:N23)/COUNTA(OCT!B2:B21) -> #DIV/0! | O25: =SUM(O3:O23)/COUNTA(NOV!B2:B21) -> #DIV/0! | P25: =SUM(P3:P23)/COUNTA(DEC!B2:B21) -> #DIV/0!
D26: MTBF | E26: =SUM(E28)/COUNTA(JANV!B2:B21) -> 0 | F26: =SUM(F28)/COUNTA(FEV!B2:B21) -> 0 | G26: =SUM(G28)/COUNTA(MARS!B2:B21) -> 153 | H26: =SUM(H28)/COUNTA(AVRIL!B2:B21) -> 45.7 | I26: =SUM(I28)/COUNTA(MAI!B2:B21) -> 63.375 | J26: =SUM(J28)/COUNTA(JUIN!B2:B21) -> 45.777778 | K26: =SUM(K28)/COUNTA(JUILLET!B2:B21) -> 51.8 | L26: =SUM(L28)/COUNTA(AOUT!B2:B21) -> 46 | M26: =SUM(M28)/COUNTA(SEPT!B2:B21) -> 85 | N26: =SUM(N28)/COUNTA(OCT!B2:B21) -> #DIV/0! | O26: =SUM(O28)/COUNTA(NOV!B2:B21) -> #DIV/0! | P26: =SUM(P28)/COUNTA(DEC!B2:B21) -> #DIV/0!
C27: compteur | D27: souffleuse | E27: 0 | F27: 0 | G27: 306 | H27: =SUM(AVRIL!F28) -> 763 | I27: =SUM(MAI!F28) -> 1270 | J27: =SUM(JUIN!F28) -> 1682 | K27: =SUM(JUILLET!F28) -> 2200 | L27: =SUM(AOUT!F28) -> 2568 | M27: =SUM(SEPT!F28) -> 2908 | N27: =SUM(OCT!F28) -> 3300 | O27: =SUM(NOV!F28) -> 1700 | P27: =SUM(DEC!F28) -> 1800
D28: total mois | E28: =SUM(E27) -> 0 | F28: =SUM(F27-E27) -> 0 | G28: =SUM(G27-F27) -> 306 | H28: =SUM(H27-G27) -> 457 | I28: =SUM(I27-H27) -> 507 | J28: =SUM(J27-I27) -> 412 | K28: =SUM(K27-J27) -> 518 | L28: =SUM(L27-K27) -> 368 | M28: =SUM(M27-L27) -> 340 | ... P28: =SUM(P27-O27) -> 100
D29: Disponibilité | E29: =SUM((E26/(E25+E26))*100) -> 0 | F29: =SUM((F26/(F25+F26))*100) -> 0 | G29: =SUM((G26/(G25+G26))*100) -> 17.936694 | H29: =SUM((H26/(H25+H26))*100) -> 93.113284 | I29: =SUM((I26/(I25+I26))*100) -> 96.755725 | J29: =SUM((J26/(J25+J26))*100) -> 94.279176 | K29: =SUM((K26/(K25+K26))*100) -> 97.82814 | L29: =SUM((L26/(L25+L26))*100) -> 94.358974 | ... P29: =SUM((P26/(P25+P26))*100) -> #DIV/0!
