Workbook
Name annee: #REF!
Name annee: #REF!
Name annee: #REF!
Name annee: #REF!
Name annee: #REF!
Name annee: #REF!
Name annee: #REF!
Name annee: #REF!
Name annee: #REF!
Name annee: #REF!
Name annee: #REF!
Name annee: #REF!
Name annee: #REF!
Name dates: #REF!
Name dates: #REF!
Name dates: #REF!
Name dates: #REF!
Name dates: #REF!
Name dates: #REF!
Name dates: #REF!
Name dates: #REF!
Name dates: #REF!
Name dates: #REF!
Name dates: #REF!
Name dates: #REF!
Name dates: #REF!
Name mois: #REF!
Name mois: #REF!
Name mois: #REF!
Name mois: #REF!
Name mois: #REF!
Name mois: #REF!
Name mois: #REF!
Name mois: #REF!
Name mois: #REF!
Name mois: #REF!
Name mois: #REF!
Name mois: #REF!
Name mois: #REF!
Name pays: #REF!
Name pays: #REF!
Name pays: #REF!
Name pays: #REF!
Name pays: #REF!
Name pays: #REF!
Name pays: #REF!
Name pays: #REF!
Name pays: #REF!
Name pays: #REF!
Name pays: #REF!
Name pays: #REF!
Name pays: #REF!
Name pays: #REF!
Name zones_vacances: #REF!
Name zones_vacances: #REF!
Name zones_vacances: #REF!
Name zones_vacances: #REF!
Name zones_vacances: #REF!
Name zones_vacances: #REF!
Name zones_vacances: #REF!

Sheet DATA
B2: le calendrier commence au mois n° | F2: Horraire de travail possible : | H2: code horaire : | I2: je pose mon enfant a : | J2: je le récupère a : | L2: DATA CALCUL
C3: 1
C4: de l'année : | F4: 8h | G4: 16h | H4: J1 | I4: 0.29513889 | J4: 0.6875 | L4: heures sup a partir de | M4: 1.875 | N4: heures
C5: 2022 | F5: 8h | G5: 15h30 | H5: J2 | I5: 0.29513889 | J5: 0.66666667 | L5: majoration heures sup en % | M5: 20 | N5: %
F6: 8h | G6: 15h | H6: J3 | I6: 0.29513889 | J6: 0.64583333
B7: les feuilles sont protégé par un mot de passe, si vous voulez ôter la protection des feuilles, le mot de passe est "1234" | F7: 8h | G7: 15h30 | H7: J4 | I7: 0.29513889 | J7: 0.66666667 | L7: salaire horraire brut de base | M7: 3.6 | N7: €
F8: 13h | G8: 21h | H8: S1 | I8: 0.50347222 | J8: 0.89583333 | L8: cout entretient journalier | M8: 3 | N8: €
F9: 13h | G9: 20h | H9: S2 | I9: 0.5 | J9: 0.85416667
F10: 12h | G10: 19h | H10: S3 | I10: 0.46180556 | J10: 0.8125 | L10: prix petit dejeuné | M10: 2 | N10: €
F11: 13h | G11: 20h30 | H11: S4 | I11: 0.50347222 | J11: 0.875 | L11: prix déjeuné | M11: 2 | N11: €
F12: 5h | G12: 13h | H12: M1 | I12: 0.17013889 | J12: 0.5625 | L12: prix gouté | M12: 1 | N12: €
F13: 6h | G13: 14h | H13: M2 | I13: 0.21527778 | J13: 0.60416667 | L13: prix diné | M13: 2 | N13: €
F14: 6h | G14: 13h | H14: M3 | I14: 0.21527778 | J14: 0.5625
F15: 5h | G15: 12h | H15: M4 | I15: 0.17013889 | J15: 0.52083333 | L15: taux % passage brut en net | M15: 0.78 | N15: %
F16: 6h | G16: 13h30 | H16: M5 | I16: 0.21527778 | J16: 0.58333333
F17: 21h | G17: 5h | H17: N1 | I17: 0.83680556 | J17: 0.22916667
F18: 19h | G18: 2h | H18: N2 | I18: 0.75347222 | J18: 0.10416667

Sheet janv
F2: code seb | G2: code alice | H2: H supp | I2: dépose | J2: récupere | K2: total jour | L2: total semaine | M2: note
B3: =IFERROR(CHOOSE(DAY(D3),UPPER(TEXT(D3,"mmmm")),YEAR(D3)),"") | C3: =IF(D3="","",UPPER(LEFT(TEXT(D3,"jjj"),1))) -> D | D3: =DATE(DATA!$C$5,1,-5) -> 44556 | E3: =IF(D3="","",IF(WEEKDAY(D3,1)=5,INT((D3-DATE(YEAR(D3),1,1))/7+1),"")) | F3: s2 | G3: j2 | H3: 0.10416667 | I3: =IFERROR(IF(F3="","",IF(VLOOKUP(F3,DATA!$H$3:$J$26,2,FALSE)<VLOOKUP(G3,DATA!$H$3:$J$26,2,FALSE),VLOOKUP(G3,DATA!$H$3:$J$26,2,FALSE),VLOOKUP(F3,DATA!$H$3:$J$26,2,FALSE))),0) -> 0.5 | J3: =IFERROR(IF(G3="","",IF(VLOOKUP(G3,DATA!$H$3:$J$26,3,FALSE)>VLOOKUP(F3,DATA!$H$3:$J$26,3,FALSE),VLOOKUP(F3,DATA!$H$3:$J$26,3,FALSE),VLOOKUP(G3,DATA!$H$3:$J$26,3,FALSE))+H3),0) -> 0.77083333 | K3: =IFERROR((MIN(ABS(VLOOKUP(F3,DATA!$H$3:$J$26,3,FALSE)-VLOOKUP(G3,DATA!$H$3:$J$26,2,FALSE)),ABS(VLOOKUP(G3,DATA!$H$3:$J$26,3,FALSE)-VLOOKUP(F3,DATA!$H$3:$J$26,2,FALSE))))+H3,0) -> 0.27083333 | L3: =IF(COUNTIF(C3,"D"),SUM(K3:K3),0) -> 0.27083333 | M3: 2h30 en plus car rdv docteur le soir soit 18h30
B4: =IFERROR(CHOOSE(DAY(D4),UPPER(TEXT(D4,"mmmm")),YEAR(D4)),"") | C4: =IF(D4="","",UPPER(LEFT(TEXT(D4,"jjj"),1))) -> L | D4: =D3+1 -> 44557 | E4: =IF(D4="","",IF(WEEKDAY(D4,1)=5,INT((D4-DATE(YEAR(D4),1,1))/7+1),"")) | F4: j1 | G4: j1 | I4: =IFERROR(IF(F4="","",IF(VLOOKUP(F4,DATA!$H$3:$J$26,2,FALSE)<VLOOKUP(G4,DATA!$H$3:$J$26,2,FALSE),VLOOKUP(G4,DATA!$H$3:$J$26,2,FALSE),VLOOKUP(F4,DATA!$H$3:$J$26,2,FALSE))),0) -> 0.29513889 | J4: =IFERROR(IF(G4="","",IF(VLOOKUP(G4,DATA!$H$3:$J$26,3,FALSE)>VLOOKUP(F4,DATA!$H$3:$J$26,3,FALSE),VLOOKUP(F4,DATA!$H$3:$J$26,3,FALSE),VLOOKUP(G4,DATA!$H$3:$J$26,3,FALSE))+H4),0) -> 0.6875 | K4: =IFERROR((MIN(ABS(VLOOKUP(F4,DATA!$H$3:$J$26,3,FALSE)-VLOOKUP(G4,DATA!$H$3:$J$26,2,FALSE)),ABS(VLOOKUP(G4,DATA!$H$3:$J$26,3,FALSE)-VLOOKUP(F4,DATA!$H$3:$J$26,2,FALSE))))+H4,0) -> 0.39236111 | L4: =IF(COUNTIF(C4,"D"),SUM(K3:K4),0) -> 0
B5: =IFERROR(CHOOSE(DAY(D5),UPPER(TEXT(D5,"mmmm")),YEAR(D5)),"") | C5: =IF(D5="","",UPPER(LEFT(TEXT(D5,"jjj"),1))) -> M | D5: =D4+1 -> 44558 | E5: =IF(D5="","",IF(WEEKDAY(D5,1)=5,INT((D5-DATE(YEAR(D5),1,1))/7+1),"")) | F5: s1 | G5: j1 | I5: =IFERROR(IF(F5="","",IF(VLOOKUP(F5,DATA!$H$3:$J$26,2,FALSE)<VLOOKUP(G5,DATA!$H$3:$J$26,2,FALSE),VLOOKUP(G5,DATA!$H$3:$J$26,2,FALSE),VLOOKUP(F5,DATA!$H$3:$J$26,2,FALSE))),0) -> 0.50347222 | J5: =IFERROR(IF(G5="","",IF(VLOOKUP(G5,DATA!$H$3:$J$26,3,FALSE)>VLOOKUP(F5,DATA!$H$3:$J$26,3,FALSE),VLOOKUP(F5,DATA!$H$3:$J$26,3,FALSE),VLOOKUP(G5,DATA!$H$3:$J$26,3,FALSE))+H5),0) -> 0.6875 | K5: =IFERROR((MIN(ABS(VLOOKUP(F5,DATA!$H$3:$J$26,3,FALSE)-VLOOKUP(G5,DATA!$H$3:$J$26,2,FALSE)),ABS(VLOOKUP(G5,DATA!$H$3:$J$26,3,FALSE)-VLOOKUP(F5,DATA!$H$3:$J$26,2,FALSE))))+H5,0) -> 0.18402778 | L5: =IF(COUNTIF(C5,"D"),SUM(K3:K5),0) -> 0
B6: =IFERROR(CHOOSE(DAY(D6),UPPER(TEXT(D6,"mmmm")),YEAR(D6)),"") | C6: =IF(D6="","",UPPER(LEFT(TEXT(D6,"jjj"),1))) -> M | D6: =D5+1 -> 44559 | E6: =IF(D6="","",IF(WEEKDAY(D6,1)=5,INT((D6-DATE(YEAR(D6),1,1))/7+1),"")) | F6: s1 | G6: j3 | I6: =IFERROR(IF(F6="","",IF(VLOOKUP(F6,DATA!$H$3:$J$26,2,FALSE)<VLOOKUP(G6,DATA!$H$3:$J$26,2,FALSE),VLOOKUP(G6,DATA!$H$3:$J$26,2,FALSE),VLOOKUP(F6,DATA!$H$3:$J$26,2,FALSE))),0) -> 0.50347222 | J6: =IFERROR(IF(G6="","",IF(VLOOKUP(G6,DATA!$H$3:$J$26,3,FALSE)>VLOOKUP(F6,DATA!$H$3:$J$26,3,FALSE),VLOOKUP(F6,DATA!$H$3:$J$26,3,FALSE),VLOOKUP(G6,DATA!$H$3:$J$26,3,FALSE))+H6),0) -> 0.64583333 | K6: =IFERROR((MIN(ABS(VLOOKUP(F6,DATA!$H$3:$J$26,3,FALSE)-VLOOKUP(G6,DATA!$H$3:$J$26,2,FALSE)),ABS(VLOOKUP(G6,DATA!$H$3:$J$26,3,FALSE)-VLOOKUP(F6,DATA!$H$3:$J$26,2,FALSE))))+H6,0) -> 0.14236111 | L6: =IF(COUNTIF(C6,"D"),SUM(K3:K6),0) -> 0
B7: =IFERROR(CHOOSE(DAY(D7),UPPER(TEXT(D7,"mmmm")),YEAR(D7)),"") | C7: =IF(D7="","",UPPER(LEFT(TEXT(D7,"jjj"),1))) -> J | D7: =D6+1 -> 44560 | E7: =IF(D7="","",IF(WEEKDAY(D7,1)=5,INT((D7-DATE(YEAR(D7),1,1))/7+1),"")) -> 52 | F7: j3 | G7: s1 | I7: =IFERROR(IF(F7="","",IF(VLOOKUP(F7,DATA!$H$3:$J$26,2,FALSE)<VLOOKUP(G7,DATA!$H$3:$J$26,2,FALSE),VLOOKUP(G7,DATA!$H$3:$J$26,2,FALSE),VLOOKUP(F7,DATA!$H$3:$J$26,2,FALSE))),0) -> 0.50347222 | J7: =IFERROR(IF(G7="","",IF(VLOOKUP(G7,DATA!$H$3:$J$26,3,FALSE)>VLOOKUP(F7,DATA!$H$3:$J$26,3,FALSE),VLOOKUP(F7,DATA!$H$3:$J$26,3,FALSE),VLOOKUP(G7,DATA!$H$3:$J$26,3,FALSE))+H7),0) -> 0.64583333 | K7: =IFERROR((MIN(ABS(VLOOKUP(F7,DATA!$H$3:$J$26,3,FALSE)-VLOOKUP(G7,DATA!$H$3:$J$26,2,FALSE)),ABS(VLOOKUP(G7,DATA!$H$3:$J$26,3,FALSE)-VLOOKUP(F7,DATA!$H$3:$J$26,2,FALSE))))+H7,0) -> 0.14236111 | L7: =IF(COUNTIF(C7,"D"),SUM(K3:K7),0) -> 0
B8: =IFERROR(CHOOSE(DAY(D8),UPPER(TEXT(D8,"mmmm")),YEAR(D8)),"") | C8: =IF(D8="","",UPPER(LEFT(TEXT(D8,"jjj"),1))) -> V | D8: =D7+1 -> 44561 | E8: =IF(D8="","",IF(WEEKDAY(D8,1)=5,INT((D8-DATE(YEAR(D8),1,1))/7+1),"")) | I8: =IFERROR(IF(F8="","",IF(VLOOKUP(F8,DATA!$H$3:$J$26,2,FALSE)<VLOOKUP(G8,DATA!$H$3:$J$26,2,FALSE),VLOOKUP(G8,DATA!$H$3:$J$26,2,FALSE),VLOOKUP(F8,DATA!$H$3:$J$26,2,FALSE))),0) | J8: =IFERROR(IF(G8="","",IF(VLOOKUP(G8,DATA!$H$3:$J$26,3,FALSE)>VLOOKUP(F8,DATA!$H$3:$J$26,3,FALSE),VLOOKUP(F8,DATA!$H$3:$J$26,3,FALSE),VLOOKUP(G8,DATA!$H$3:$J$26,3,FALSE))+H8),0) | K8: =IFERROR((MIN(ABS(VLOOKUP(F8,DATA!$H$3:$J$26,3,FALSE)-VLOOKUP(G8,DATA!$H$3:$J$26,2,FALSE)),ABS(VLOOKUP(G8,DATA!$H$3:$J$26,3,FALSE)-VLOOKUP(F8,DATA!$H$3:$J$26,2,FALSE))))+H8,0) -> 0 | L8: =IF(COUNTIF(C8,"D"),SUM(K3:K8),0) -> 0
B9: =IFERROR(CHOOSE(DAY(D9),UPPER(TEXT(D9,"mmmm")),YEAR(D9)),"") -> JANVIER | C9: =IF(D9="","",UPPER(LEFT(TEXT(D9,"jjj"),1))) -> S | D9: =D8+1 -> 44562 | E9: =IF(D9="","",IF(WEEKDAY(D9,1)=5,INT((D9-DATE(YEAR(D9),1,1))/7+1),"")) | I9: =IFERROR(IF(F9="","",IF(VLOOKUP(F9,DATA!$H$3:$J$26,2,FALSE)<VLOOKUP(G9,DATA!$H$3:$J$26,2,FALSE),VLOOKUP(G9,DATA!$H$3:$J$26,2,FALSE),VLOOKUP(F9,DATA!$H$3:$J$26,2,FALSE))),0) | J9: =IFERROR(IF(G9="","",IF(VLOOKUP(G9,DATA!$H$3:$J$26,3,FALSE)>VLOOKUP(F9,DATA!$H$3:$J$26,3,FALSE),VLOOKUP(F9,DATA!$H$3:$J$26,3,FALSE),VLOOKUP(G9,DATA!$H$3:$J$26,3,FALSE))+H9),0) | K9: =IFERROR((MIN(ABS(VLOOKUP(F9,DATA!$H$3:$J$26,3,FALSE)-VLOOKUP(G9,DATA!$H$3:$J$26,2,FALSE)),ABS(VLOOKUP(G9,DATA!$H$3:$J$26,3,FALSE)-VLOOKUP(F9,DATA!$H$3:$J$26,2,FALSE))))+H9,0) -> 0 | L9: =IF(COUNTIF(C9,"D"),SUM(K3:K9),0) -> 0
B10: =IFERROR(CHOOSE(DAY(D10),UPPER(TEXT(D10,"mmmm")),YEAR(D10)),"") -> 2022 | C10: =IF(D10="","",UPPER(LEFT(TEXT(D10,"jjj"),1))) -> D | D10: =D9+1 -> 44563 | E10: =IF(D10="","",IF(WEEKDAY(D10,1)=5,INT((D10-DATE(YEAR(D10),1,1))/7+1),"")) | I10: =IFERROR(IF(F10="","",IF(VLOOKUP(F10,DATA!$H$3:$J$26,2,FALSE)<VLOOKUP(G10,DATA!$H$3:$J$26,2,FALSE),VLOOKUP(G10,DATA!$H$3:$J$26,2,FALSE),VLOOKUP(F10,DATA!$H$3:$J$26,2,FALSE))),0) | J10: =IFERROR(IF(G10="","",IF(VLOOKUP(G10,DATA!$H$3:$J$26,3,FALSE)>VLOOKUP(F10,DATA!$H$3:$J$26,3,FALSE),VLOOKUP(F10,DATA!$H$3:$J$26,3,FALSE),VLOOKUP(G10,DATA!$H$3:$J$26,3,FALSE))+H10),0) | K10: =IFERROR((MIN(ABS(VLOOKUP(F10,DATA!$H$3:$J$26,3,FALSE)-VLOOKUP(G10,DATA!$H$3:$J$26,2,FALSE)),ABS(VLOOKUP(G10,DATA!$H$3:$J$26,3,FALSE)-VLOOKUP(F10,DATA!$H$3:$J$26,2,FALSE))))+H10,0) -> 0 | L10: =IF(COUNTIF(C10,"D"),SUM(K4:K10),0) -> 0.86111111
B11: =IFERROR(CHOOSE(DAY(D11),UPPER(TEXT(D11,"mmmm")),YEAR(D11)),"") | C11: =IF(D11="","",UPPER(LEFT(TEXT(D11,"jjj"),1))) -> L | D11: =D10+1 -> 44564 | E11: =IF(D11="","",IF(WEEKDAY(D11,1)=5,INT((D11-DATE(YEAR(D11),1,1))/7+1),"")) | I11: =IFERROR(IF(F11="","",IF(VLOOKUP(F11,DATA!$H$3:$J$26,2,FALSE)<VLOOKUP(G11,DATA!$H$3:$J$26,2,FALSE),VLOOKUP(G11,DATA!$H$3:$J$26,2,FALSE),VLOOKUP(F11,DATA!$H$3:$J$26,2,FALSE))),0) | J11: =IFERROR(IF(G11="","",IF(VLOOKUP(G11,DATA!$H$3:$J$26,3,FALSE)>VLOOKUP(F11,DATA!$H$3:$J$26,3,FALSE),VLOOKUP(F11,DATA!$H$3:$J$26,3,FALSE),VLOOKUP(G11,DATA!$H$3:$J$26,3,FALSE))+H11),0) | K11: =IFERROR((MIN(ABS(VLOOKUP(F11,DATA!$H$3:$J$26,3,FALSE)-VLOOKUP(G11,DATA!$H$3:$J$26,2,FALSE)),ABS(VLOOKUP(G11,DATA!$H$3:$J$26,3,FALSE)-VLOOKUP(F11,DATA!$H$3:$J$26,2,FALSE))))+H11,0) -> 0 | L11: =IF(COUNTIF(C11,"D"),SUM(K5:K11),0) -> 0
B12: =IFERROR(CHOOSE(DAY(D12),UPPER(TEXT(D12,"mmmm")),YEAR(D12)),"") | C12: =IF(D12="","",UPPER(LEFT(TEXT(D12,"jjj"),1))) -> M | D12: =D11+1 -> 44565 | E12: =IF(D12="","",IF(WEEKDAY(D12,1)=5,INT((D12-DATE(YEAR(D12),1,1))/7+1),"")) | I12: =IFERROR(IF(F12="","",IF(VLOOKUP(F12,DATA!$H$3:$J$26,2,FALSE)<VLOOKUP(G12,DATA!$H$3:$J$26,2,FALSE),VLOOKUP(G12,DATA!$H$3:$J$26,2,FALSE),VLOOKUP(F12,DATA!$H$3:$J$26,2,FALSE))),0) | J12: =IFERROR(IF(G12="","",IF(VLOOKUP(G12,DATA!$H$3:$J$26,3,FALSE)>VLOOKUP(F12,DATA!$H$3:$J$26,3,FALSE),VLOOKUP(F12,DATA!$H$3:$J$26,3,FALSE),VLOOKUP(G12,DATA!$H$3:$J$26,3,FALSE))+H12),0) | K12: =IFERROR((MIN(ABS(VLOOKUP(F12,DATA!$H$3:$J$26,3,FALSE)-VLOOKUP(G12,DATA!$H$3:$J$26,2,FALSE)),ABS(VLOOKUP(G12,DATA!$H$3:$J$26,3,FALSE)-VLOOKUP(F12,DATA!$H$3:$J$26,2,FALSE))))+H12,0) -> 0 | L12: =IF(COUNTIF(C12,"D"),SUM(K6:K12),0) -> 0
B13: =IFERROR(CHOOSE(DAY(D13),UPPER(TEXT(D13,"mmmm")),YEAR(D13)),"") | C13: =IF(D13="","",UPPER(LEFT(TEXT(D13,"jjj"),1))) -> M | D13: =D12+1 -> 44566 | E13: =IF(D13="","",IF(WEEKDAY(D13,1)=5,INT((D13-DATE(YEAR(D13),1,1))/7+1),"")) | F13: j1 | G13: s1 | I13: =IFERROR(IF(F13="","",IF(VLOOKUP(F13,DATA!$H$3:$J$26,2,FALSE)<VLOOKUP(G13,DATA!$H$3:$J$26,2,FALSE),VLOOKUP(G13,DATA!$H$3:$J$26,2,FALSE),VLOOKUP(F13,DATA!$H$3:$J$26,2,FALSE))),0) -> 0.50347222 | J13: =IFERROR(IF(G13="","",IF(VLOOKUP(G13,DATA!$H$3:$J$26,3,FALSE)>VLOOKUP(F13,DATA!$H$3:$J$26,3,FALSE),VLOOKUP(F13,DATA!$H$3:$J$26,3,FALSE),VLOOKUP(G13,DATA!$H$3:$J$26,3,FALSE))+H13),0) -> 0.6875 | K13: =IFERROR((MIN(ABS(VLOOKUP(F13,DATA!$H$3:$J$26,3,FALSE)-VLOOKUP(G13,DATA!$H$3:$J$26,2,FALSE)),ABS(VLOOKUP(G13,DATA!$H$3:$J$26,3,FALSE)-VLOOKUP(F13,DATA!$H$3:$J$26,2,FALSE))))+H13,0) -> 0.18402778 | L13: =IF(COUNTIF(C13,"D"),SUM(K7:K13),0) -> 0
B14: =IFERROR(CHOOSE(DAY(D14),UPPER(TEXT(D14,"mmmm")),YEAR(D14)),"") | C14: =IF(D14="","",UPPER(LEFT(TEXT(D14,"jjj"),1))) -> J | D14: =D13+1 -> 44567 | E14: =IF(D14="","",IF(WEEKDAY(D14,1)=5,INT((D14-DATE(YEAR(D14),1,1))/7+1),"")) -> 1 | I14: =IFERROR(IF(F14="","",IF(VLOOKUP(F14,DATA!$H$3:$J$26,2,FALSE)<VLOOKUP(G14,DATA!$H$3:$J$26,2,FALSE),VLOOKUP(G14,DATA!$H$3:$J$26,2,FALSE),VLOOKUP(F14,DATA!$H$3:$J$26,2,FALSE))),0) | J14: =IFERROR(IF(G14="","",IF(VLOOKUP(G14,DATA!$H$3:$J$26,3,FALSE)>VLOOKUP(F14,DATA!$H$3:$J$26,3,FALSE),VLOOKUP(F14,DATA!$H$3:$J$26,3,FALSE),VLOOKUP(G14,DATA!$H$3:$J$26,3,FALSE))+H14),0) | K14: =IFERROR((MIN(ABS(VLOOKUP(F14,DATA!$H$3:$J$26,3,FALSE)-VLOOKUP(G14,DATA!$H$3:$J$26,2,FALSE)),ABS(VLOOKUP(G14,DATA!$H$3:$J$26,3,FALSE)-VLOOKUP(F14,DATA!$H$3:$J$26,2,FALSE))))+H14,0) -> 0 | L14: =IF(COUNTIF(C14,"D"),SUM(K8:K14),0) -> 0
B15: =IFERROR(CHOOSE(DAY(D15),UPPER(TEXT(D15,"mmmm")),YEAR(D15)),"") | C15: =IF(D15="","",UPPER(LEFT(TEXT(D15,"jjj"),1))) -> V | D15: =D14+1 -> 44568 | E15: =IF(D15="","",IF(WEEKDAY(D15,1)=5,INT((D15-DATE(YEAR(D15),1,1))/7+1),"")) | I15: =IFERROR(IF(F15="","",IF(VLOOKUP(F15,DATA!$H$3:$J$26,2,FALSE)<VLOOKUP(G15,DATA!$H$3:$J$26,2,FALSE),VLOOKUP(G15,DATA!$H$3:$J$26,2,FALSE),VLOOKUP(F15,DATA!$H$3:$J$26,2,FALSE))),0) | J15: =IFERROR(IF(G15="","",IF(VLOOKUP(G15,DATA!$H$3:$J$26,3,FALSE)>VLOOKUP(F15,DATA!$H$3:$J$26,3,FALSE),VLOOKUP(F15,DATA!$H$3:$J$26,3,FALSE),VLOOKUP(G15,DATA!$H$3:$J$26,3,FALSE))+H15),0) | K15: =IFERROR((MIN(ABS(VLOOKUP(F15,DATA!$H$3:$J$26,3,FALSE)-VLOOKUP(G15,DATA!$H$3:$J$26,2,FALSE)),ABS(VLOOKUP(G15,DATA!$H$3:$J$26,3,FALSE)-VLOOKUP(F15,DATA!$H$3:$J$26,2,FALSE))))+H15,0) -> 0 | L15: =IF(COUNTIF(C15,"D"),SUM(K9:K15),0) -> 0
B16: =IFERROR(CHOOSE(DAY(D16),UPPER(TEXT(D16,"mmmm")),YEAR(D16)),"") | C16: =IF(D16="","",UPPER(LEFT(TEXT(D16,"jjj"),1))) -> S | D16: =D15+1 -> 44569 | E16: =IF(D16="","",IF(WEEKDAY(D16,1)=5,INT((D16-DATE(YEAR(D16),1,1))/7+1),"")) | I16: =IFERROR(IF(F16="","",IF(VLOOKUP(F16,DATA!$H$3:$J$26,2,FALSE)<VLOOKUP(G16,DATA!$H$3:$J$26,2,FALSE),VLOOKUP(G16,DATA!$H$3:$J$26,2,FALSE),VLOOKUP(F16,DATA!$H$3:$J$26,2,FALSE))),0) | J16: =IFERROR(IF(G16="","",IF(VLOOKUP(G16,DATA!$H$3:$J$26,3,FALSE)>VLOOKUP(F16,DATA!$H$3:$J$26,3,FALSE),VLOOKUP(F16,DATA!$H$3:$J$26,3,FALSE),VLOOKUP(G16,DATA!$H$3:$J$26,3,FALSE))+H16),0) | K16: =IFERROR((MIN(ABS(VLOOKUP(F16,DATA!$H$3:$J$26,3,FALSE)-VLOOKUP(G16,DATA!$H$3:$J$26,2,FALSE)),ABS(VLOOKUP(G16,DATA!$H$3:$J$26,3,FALSE)-VLOOKUP(F16,DATA!$H$3:$J$26,2,FALSE))))+H16,0) -> 0 | L16: =IF(COUNTIF(C16,"D"),SUM(K10:K16),0) -> 0
B17: =IFERROR(CHOOSE(DAY(D17),UPPER(TEXT(D17,"mmmm")),YEAR(D17)),"") | C17: =IF(D17="","",UPPER(LEFT(TEXT(D17,"jjj"),1))) -> D | D17: =D16+1 -> 44570 | E17: =IF(D17="","",IF(WEEKDAY(D17,1)=5,INT((D17-DATE(YEAR(D17),1,1))/7+1),"")) | F17: j1 | I17: =IFERROR(IF(F17="","",IF(VLOOKUP(F17,DATA!$H$3:$J$26,2,FALSE)<VLOOKUP(G17,DATA!$H$3:$J$26,2,FALSE),VLOOKUP(G17,DATA!$H$3:$J$26,2,FALSE),VLOOKUP(F17,DATA!$H$3:$J$26,2,FALSE))),0) -> 0 | J17: =IFERROR(IF(G17="","",IF(VLOOKUP(G17,DATA!$H$3:$J$26,3,FALSE)>VLOOKUP(F17,DATA!$H$3:$J$26,3,FALSE),VLOOKUP(F17,DATA!$H$3:$J$26,3,FALSE),VLOOKUP(G17,DATA!$H$3:$J$26,3,FALSE))+H17),0) | K17: =IFERROR((MIN(ABS(VLOOKUP(F17,DATA!$H$3:$J$26,3,FALSE)-VLOOKUP(G17,DATA!$H$3:$J$26,2,FALSE)),ABS(VLOOKUP(G17,DATA!$H$3:$J$26,3,FALSE)-VLOOKUP(F17,DATA!$H$3:$J$26,2,FALSE))))+H17,0) -> 0 | L17: =IF(COUNTIF(C17,"D"),SUM(K11:K17),0) -> 0.18402778
B18: =IFERROR(CHOOSE(DAY(D18),UPPER(TEXT(D18,"mmmm")),YEAR(D18)),"") | C18: =IF(D18="","",UPPER(LEFT(TEXT(D18,"jjj"),1))) -> L | D18: =D17+1 -> 44571 | E18: =IF(D18="","",IF(WEEKDAY(D18,1)=5,INT((D18-DATE(YEAR(D18),1,1))/7+1),"")) | I18: =IFERROR(IF(F18="","",IF(VLOOKUP(F18,DATA!$H$3:$J$26,2,FALSE)<VLOOKUP(G18,DATA!$H$3:$J$26,2,FALSE),VLOOKUP(G18,DATA!$H$3:$J$26,2,FALSE),VLOOKUP(F18,DATA!$H$3:$J$26,2,FALSE))),0) | J18: =IFERROR(IF(G18="","",IF(VLOOKUP(G18,DATA!$H$3:$J$26,3,FALSE)>VLOOKUP(F18,DATA!$H$3:$J$26,3,FALSE),VLOOKUP(F18,DATA!$H$3:$J$26,3,FALSE),VLOOKUP(G18,DATA!$H$3:$J$26,3,FALSE))+H18),0) | K18: =IFERROR((MIN(ABS(VLOOKUP(F18,DATA!$H$3:$J$26,3,FALSE)-VLOOKUP(G18,DATA!$H$3:$J$26,2,FALSE)),ABS(VLOOKUP(G18,DATA!$H$3:$J$26,3,FALSE)-VLOOKUP(F18,DATA!$H$3:$J$26,2,FALSE))))+H18,0) -> 0 | L18: =IF(COUNTIF(C18,"D"),SUM(K12:K18),0) -> 0
B19: =IFERROR(CHOOSE(DAY(D19),UPPER(TEXT(D19,"mmmm")),YEAR(D19)),"") | C19: =IF(D19="","",UPPER(LEFT(TEXT(D19,"jjj"),1))) -> M | D19: =D18+1 -> 44572 | E19: =IF(D19="","",IF(WEEKDAY(D19,1)=5,INT((D19-DATE(YEAR(D19),1,1))/7+1),"")) | I19: =IFERROR(IF(F19="","",IF(VLOOKUP(F19,DATA!$H$3:$J$26,2,FALSE)<VLOOKUP(G19,DATA!$H$3:$J$26,2,FALSE),VLOOKUP(G19,DATA!$H$3:$J$26,2,FALSE),VLOOKUP(F19,DATA!$H$3:$J$26,2,FALSE))),0) | J19: =IFERROR(IF(G19="","",IF(VLOOKUP(G19,DATA!$H$3:$J$26,3,FALSE)>VLOOKUP(F19,DATA!$H$3:$J$26,3,FALSE),VLOOKUP(F19,DATA!$H$3:$J$26,3,FALSE),VLOOKUP(G19,DATA!$H$3:$J$26,3,FALSE))+H19),0) | K19: =IFERROR((MIN(ABS(VLOOKUP(F19,DATA!$H$3:$J$26,3,FALSE)-VLOOKUP(G19,DATA!$H$3:$J$26,2,FALSE)),ABS(VLOOKUP(G19,DATA!$H$3:$J$26,3,FALSE)-VLOOKUP(F19,DATA!$H$3:$J$26,2,FALSE))))+H19,0) -> 0 | L19: =IF(COUNTIF(C19,"D"),SUM(K13:K19),0) -> 0
B20: =IFERROR(CHOOSE(DAY(D20),UPPER(TEXT(D20,"mmmm")),YEAR(D20)),"") | C20: =IF(D20="","",UPPER(LEFT(TEXT(D20,"jjj"),1))) -> M | D20: =D19+1 -> 44573 | E20: =IF(D20="","",IF(WEEKDAY(D20,1)=5,INT((D20-DATE(YEAR(D20),1,1))/7+1),"")) | I20: =IFERROR(IF(F20="","",IF(VLOOKUP(F20,DATA!$H$3:$J$26,2,FALSE)<VLOOKUP(G20,DATA!$H$3:$J$26,2,FALSE),VLOOKUP(G20,DATA!$H$3:$J$26,2,FALSE),VLOOKUP(F20,DATA!$H$3:$J$26,2,FALSE))),0) | J20: =IFERROR(IF(G20="","",IF(VLOOKUP(G20,DATA!$H$3:$J$26,3,FALSE)>VLOOKUP(F20,DATA!$H$3:$J$26,3,FALSE),VLOOKUP(F20,DATA!$H$3:$J$26,3,FALSE),VLOOKUP(G20,DATA!$H$3:$J$26,3,FALSE))+H20),0) | K20: =IFERROR((MIN(ABS(VLOOKUP(F20,DATA!$H$3:$J$26,3,FALSE)-VLOOKUP(G20,DATA!$H$3:$J$26,2,FALSE)),ABS(VLOOKUP(G20,DATA!$H$3:$J$26,3,FALSE)-VLOOKUP(F20,DATA!$H$3:$J$26,2,FALSE))))+H20,0) -> 0 | L20: =IF(COUNTIF(C20,"D"),SUM(K14:K20),0) -> 0
B21: =IFERROR(CHOOSE(DAY(D21),UPPER(TEXT(D21,"mmmm")),YEAR(D21)),"") | C21: =IF(D21="","",UPPER(LEFT(TEXT(D21,"jjj"),1))) -> J | D21: =D20+1 -> 44574 | E21: =IF(D21="","",IF(WEEKDAY(D21,1)=5,INT((D21-DATE(YEAR(D21),1,1))/7+1),"")) -> 2 | I21: =IFERROR(IF(F21="","",IF(VLOOKUP(F21,DATA!$H$3:$J$26,2,FALSE)<VLOOKUP(G21,DATA!$H$3:$J$26,2,FALSE),VLOOKUP(G21,DATA!$H$3:$J$26,2,FALSE),VLOOKUP(F21,DATA!$H$3:$J$26,2,FALSE))),0) | J21: =IFERROR(IF(G21="","",IF(VLOOKUP(G21,DATA!$H$3:$J$26,3,FALSE)>VLOOKUP(F21,DATA!$H$3:$J$26,3,FALSE),VLOOKUP(F21,DATA!$H$3:$J$26,3,FALSE),VLOOKUP(G21,DATA!$H$3:$J$26,3,FALSE))+H21),0) | K21: =IFERROR((MIN(ABS(VLOOKUP(F21,DATA!$H$3:$J$26,3,FALSE)-VLOOKUP(G21,DATA!$H$3:$J$26,2,FALSE)),ABS(VLOOKUP(G21,DATA!$H$3:$J$26,3,FALSE)-VLOOKUP(F21,DATA!$H$3:$J$26,2,FALSE))))+H21,0) -> 0 | L21: =IF(COUNTIF(C21,"D"),SUM(K15:K21),0) -> 0
B22: =IFERROR(CHOOSE(DAY(D22),UPPER(TEXT(D22,"mmmm")),YEAR(D22)),"") | C22: =IF(D22="","",UPPER(LEFT(TEXT(D22,"jjj"),1))) -> V | D22: =D21+1 -> 44575 | E22: =IF(D22="","",IF(WEEKDAY(D22,1)=5,INT((D22-DATE(YEAR(D22),1,1))/7+1),"")) | I22: =IFERROR(IF(F22="","",IF(VLOOKUP(F22,DATA!$H$3:$J$26,2,FALSE)<VLOOKUP(G22,DATA!$H$3:$J$26,2,FALSE),VLOOKUP(G22,DATA!$H$3:$J$26,2,FALSE),VLOOKUP(F22,DATA!$H$3:$J$26,2,FALSE))),0) | J22: =IFERROR(IF(G22="","",IF(VLOOKUP(G22,DATA!$H$3:$J$26,3,FALSE)>VLOOKUP(F22,DATA!$H$3:$J$26,3,FALSE),VLOOKUP(F22,DATA!$H$3:$J$26,3,FALSE),VLOOKUP(G22,DATA!$H$3:$J$26,3,FALSE))+H22),0) | K22: =IFERROR((MIN(ABS(VLOOKUP(F22,DATA!$H$3:$J$26,3,FALSE)-VLOOKUP(G22,DATA!$H$3:$J$26,2,FALSE)),ABS(VLOOKUP(G22,DATA!$H$3:$J$26,3,FALSE)-VLOOKUP(F22,DATA!$H$3:$J$26,2,FALSE))))+H22,0) -> 0 | L22: =IF(COUNTIF(C22,"D"),SUM(K16:K22),0) -> 0
B23: =IFERROR(CHOOSE(DAY(D23),UPPER(TEXT(D23,"mmmm")),YEAR(D23)),"") | C23: =IF(D23="","",UPPER(LEFT(TEXT(D23,"jjj"),1))) -> S | D23: =D22+1 -> 44576 | E23: =IF(D23="","",IF(WEEKDAY(D23,1)=5,INT((D23-DATE(YEAR(D23),1,1))/7+1),"")) | I23: =IFERROR(IF(F23="","",IF(VLOOKUP(F23,DATA!$H$3:$J$26,2,FALSE)<VLOOKUP(G23,DATA!$H$3:$J$26,2,FALSE),VLOOKUP(G23,DATA!$H$3:$J$26,2,FALSE),VLOOKUP(F23,DATA!$H$3:$J$26,2,FALSE))),0) | J23: =IFERROR(IF(G23="","",IF(VLOOKUP(G23,DATA!$H$3:$J$26,3,FALSE)>VLOOKUP(F23,DATA!$H$3:$J$26,3,FALSE),VLOOKUP(F23,DATA!$H$3:$J$26,3,FALSE),VLOOKUP(G23,DATA!$H$3:$J$26,3,FALSE))+H23),0) | K23: =IFERROR((MIN(ABS(VLOOKUP(F23,DATA!$H$3:$J$26,3,FALSE)-VLOOKUP(G23,DATA!$H$3:$J$26,2,FALSE)),ABS(VLOOKUP(G23,DATA!$H$3:$J$26,3,FALSE)-VLOOKUP(F23,DATA!$H$3:$J$26,2,FALSE))))+H23,0) -> 0 | L23: =IF(COUNTIF(C23,"D"),SUM(K17:K23),0) -> 0
B24: =IFERROR(CHOOSE(DAY(D24),UPPER(TEXT(D24,"mmmm")),YEAR(D24)),"") | C24: =IF(D24="","",UPPER(LEFT(TEXT(D24,"jjj"),1))) -> D | D24: =D23+1 -> 44577 | E24: =IF(D24="","",IF(WEEKDAY(D24,1)=5,INT((D24-DATE(YEAR(D24),1,1))/7+1),"")) | I24: =IFERROR(IF(F24="","",IF(VLOOKUP(F24,DATA!$H$3:$J$26,2,FALSE)<VLOOKUP(G24,DATA!$H$3:$J$26,2,FALSE),VLOOKUP(G24,DATA!$H$3:$J$26,2,FALSE),VLOOKUP(F24,DATA!$H$3:$J$26,2,FALSE))),0) | J24: =IFERROR(IF(G24="","",IF(VLOOKUP(G24,DATA!$H$3:$J$26,3,FALSE)>VLOOKUP(F24,DATA!$H$3:$J$26,3,FALSE),VLOOKUP(F24,DATA!$H$3:$J$26,3,FALSE),VLOOKUP(G24,DATA!$H$3:$J$26,3,FALSE))+H24),0) | K24: =IFERROR((MIN(ABS(VLOOKUP(F24,DATA!$H$3:$J$26,3,FALSE)-VLOOKUP(G24,DATA!$H$3:$J$26,2,FALSE)),ABS(VLOOKUP(G24,DATA!$H$3:$J$26,3,FALSE)-VLOOKUP(F24,DATA!$H$3:$J$26,2,FALSE))))+H24,0) -> 0 | L24: =IF(COUNTIF(C24,"D"),SUM(K18:K24),0) -> 0
B25: =IFERROR(CHOOSE(DAY(D25),UPPER(TEXT(D25,"mmmm")),YEAR(D25)),"") | C25: =IF(D25="","",UPPER(LEFT(TEXT(D25,"jjj"),1))) -> L | D25: =D24+1 -> 44578 | E25: =IF(D25="","",IF(WEEKDAY(D25,1)=5,INT((D25-DATE(YEAR(D25),1,1))/7+1),"")) | I25: =IFERROR(IF(F25="","",IF(VLOOKUP(F25,DATA!$H$3:$J$26,2,FALSE)<VLOOKUP(G25,DATA!$H$3:$J$26,2,FALSE),VLOOKUP(G25,DATA!$H$3:$J$26,2,FALSE),VLOOKUP(F25,DATA!$H$3:$J$26,2,FALSE))),0) | J25: =IFERROR(IF(G25="","",IF(VLOOKUP(G25,DATA!$H$3:$J$26,3,FALSE)>VLOOKUP(F25,DATA!$H$3:$J$26,3,FALSE),VLOOKUP(F25,DATA!$H$3:$J$26,3,FALSE),VLOOKUP(G25,DATA!$H$3:$J$26,3,FALSE))+H25),0) | K25: =IFERROR((MIN(ABS(VLOOKUP(F25,DATA!$H$3:$J$26,3,FALSE)-VLOOKUP(G25,DATA!$H$3:$J$26,2,FALSE)),ABS(VLOOKUP(G25,DATA!$H$3:$J$26,3,FALSE)-VLOOKUP(F25,DATA!$H$3:$J$26,2,FALSE))))+H25,0) -> 0 | L25: =IF(COUNTIF(C25,"D"),SUM(K19:K25),0) -> 0
B26: =IFERROR(CHOOSE(DAY(D26),UPPER(TEXT(D26,"mmmm")),YEAR(D26)),"") | C26: =IF(D26="","",UPPER(LEFT(TEXT(D26,"jjj"),1))) -> M | D26: =D25+1 -> 44579 | E26: =IF(D26="","",IF(WEEKDAY(D26,1)=5,INT((D26-DATE(YEAR(D26),1,1))/7+1),"")) | I26: =IFERROR(IF(F26="","",IF(VLOOKUP(F26,DATA!$H$3:$J$26,2,FALSE)<VLOOKUP(G26,DATA!$H$3:$J$26,2,FALSE),VLOOKUP(G26,DATA!$H$3:$J$26,2,FALSE),VLOOKUP(F26,DATA!$H$3:$J$26,2,FALSE))),0) | J26: =IFERROR(IF(G26="","",IF(VLOOKUP(G26,DATA!$H$3:$J$26,3,FALSE)>VLOOKUP(F26,DATA!$H$3:$J$26,3,FALSE),VLOOKUP(F26,DATA!$H$3:$J$26,3,FALSE),VLOOKUP(G26,DATA!$H$3:$J$26,3,FALSE))+H26),0) | K26: =IFERROR((MIN(ABS(VLOOKUP(F26,DATA!$H$3:$J$26,3,FALSE)-VLOOKUP(G26,DATA!$H$3:$J$26,2,FALSE)),ABS(VLOOKUP(G26,DATA!$H$3:$J$26,3,FALSE)-VLOOKUP(F26,DATA!$H$3:$J$26,2,FALSE))))+H26,0) -> 0 | L26: =IF(COUNTIF(C26,"D"),SUM(K20:K26),0) -> 0
B27: =IFERROR(CHOOSE(DAY(D27),UPPER(TEXT(D27,"mmmm")),YEAR(D27)),"") | C27: =IF(D27="","",UPPER(LEFT(TEXT(D27,"jjj"),1))) -> M | D27: =D26+1 -> 44580 | E27: =IF(D27="","",IF(WEEKDAY(D27,1)=5,INT((D27-DATE(YEAR(D27),1,1))/7+1),"")) | I27: =IFERROR(IF(F27="","",IF(VLOOKUP(F27,DATA!$H$3:$J$26,2,FALSE)<VLOOKUP(G27,DATA!$H$3:$J$26,2,FALSE),VLOOKUP(G27,DATA!$H$3:$J$26,2,FALSE),VLOOKUP(F27,DATA!$H$3:$J$26,2,FALSE))),0) | J27: =IFERROR(IF(G27="","",IF(VLOOKUP(G27,DATA!$H$3:$J$26,3,FALSE)>VLOOKUP(F27,DATA!$H$3:$J$26,3,FALSE),VLOOKUP(F27,DATA!$H$3:$J$26,3,FALSE),VLOOKUP(G27,DATA!$H$3:$J$26,3,FALSE))+H27),0) | K27: =IFERROR((MIN(ABS(VLOOKUP(F27,DATA!$H$3:$J$26,3,FALSE)-VLOOKUP(G27,DATA!$H$3:$J$26,2,FALSE)),ABS(VLOOKUP(G27,DATA!$H$3:$J$26,3,FALSE)-VLOOKUP(F27,DATA!$H$3:$J$26,2,FALSE))))+H27,0) -> 0 | L27: =IF(COUNTIF(C27,"D"),SUM(K21:K27),0) -> 0
B28: =IFERROR(CHOOSE(DAY(D28),UPPER(TEXT(D28,"mmmm")),YEAR(D28)),"") | C28: =IF(D28="","",UPPER(LEFT(TEXT(D28,"jjj"),1))) -> J | D28: =D27+1 -> 44581 | E28: =IF(D28="","",IF(WEEKDAY(D28,1)=5,INT((D28-DATE(YEAR(D28),1,1))/7+1),"")) -> 3 | I28: =IFERROR(IF(F28="","",IF(VLOOKUP(F28,DATA!$H$3:$J$26,2,FALSE)<VLOOKUP(G28,DATA!$H$3:$J$26,2,FALSE),VLOOKUP(G28,DATA!$H$3:$J$26,2,FALSE),VLOOKUP(F28,DATA!$H$3:$J$26,2,FALSE))),0) | J28: =IFERROR(IF(G28="","",IF(VLOOKUP(G28,DATA!$H$3:$J$26,3,FALSE)>VLOOKUP(F28,DATA!$H$3:$J$26,3,FALSE),VLOOKUP(F28,DATA!$H$3:$J$26,3,FALSE),VLOOKUP(G28,DATA!$H$3:$J$26,3,FALSE))+H28),0) | K28: =IFERROR((MIN(ABS(VLOOKUP(F28,DATA!$H$3:$J$26,3,FALSE)-VLOOKUP(G28,DATA!$H$3:$J$26,2,FALSE)),ABS(VLOOKUP(G28,DATA!$H$3:$J$26,3,FALSE)-VLOOKUP(F28,DATA!$H$3:$J$26,2,FALSE))))+H28,0) -> 0 | L28: =IF(COUNTIF(C28,"D"),SUM(K22:K28),0) -> 0
B29: =IFERROR(CHOOSE(DAY(D29),UPPER(TEXT(D29,"mmmm")),YEAR(D29)),"") | C29: =IF(D29="","",UPPER(LEFT(TEXT(D29,"jjj"),1))) -> V | D29: =D28+1 -> 44582 | E29: =IF(D29="","",IF(WEEKDAY(D29,1)=5,INT((D29-DATE(YEAR(D29),1,1))/7+1),"")) | I29: =IFERROR(IF(F29="","",IF(VLOOKUP(F29,DATA!$H$3:$J$26,2,FALSE)<VLOOKUP(G29,DATA!$H$3:$J$26,2,FALSE),VLOOKUP(G29,DATA!$H$3:$J$26,2,FALSE),VLOOKUP(F29,DATA!$H$3:$J$26,2,FALSE))),0) | J29: =IFERROR(IF(G29="","",IF(VLOOKUP(G29,DATA!$H$3:$J$26,3,FALSE)>VLOOKUP(F29,DATA!$H$3:$J$26,3,FALSE),VLOOKUP(F29,DATA!$H$3:$J$26,3,FALSE),VLOOKUP(G29,DATA!$H$3:$J$26,3,FALSE))+H29),0) | K29: =IFERROR((MIN(ABS(VLOOKUP(F29,DATA!$H$3:$J$26,3,FALSE)-VLOOKUP(G29,DATA!$H$3:$J$26,2,FALSE)),ABS(VLOOKUP(G29,DATA!$H$3:$J$26,3,FALSE)-VLOOKUP(F29,DATA!$H$3:$J$26,2,FALSE))))+H29,0) -> 0 | L29: =IF(COUNTIF(C29,"D"),SUM(K23:K29),0) -> 0
... B31: =IFERROR(CHOOSE(DAY(D31),UPPER(TEXT(D31,"mmmm")),YEAR(D31)),"") | C31: =IF(D31="","",UPPER(LEFT(TEXT(D31,"jjj"),1))) -> D | D31: =D30+1 -> 44584 | E31: =IF(D31="","",IF(WEEKDAY(D31,1)=5,INT((D31-DATE(YEAR(D31),1,1))/7+1),"")) | I31: =IFERROR(IF(F31="","",IF(VLOOKUP(F31,DATA!$H$3:$J$26,2,FALSE)<VLOOKUP(G31,DATA!$H$3:$J$26,2,FALSE),VLOOKUP(G31,DATA!$H$3:$J$26,2,FALSE),VLOOKUP(F31,DATA!$H$3:$J$26,2,FALSE))),0) | J31: =IFERROR(IF(G31="","",IF(VLOOKUP(G31,DATA!$H$3:$J$26,3,FALSE)>VLOOKUP(F31,DATA!$H$3:$J$26,3,FALSE),VLOOKUP(F31,DATA!$H$3:$J$26,3,FALSE),VLOOKUP(G31,DATA!$H$3:$J$26,3,FALSE))+H31),0) | K31: =IFERROR((MIN(ABS(VLOOKUP(F31,DATA!$H$3:$J$26,3,FALSE)-VLOOKUP(G31,DATA!$H$3:$J$26,2,FALSE)),ABS(VLOOKUP(G31,DATA!$H$3:$J$26,3,FALSE)-VLOOKUP(F31,DATA!$H$3:$J$26,2,FALSE))))+H31,0) -> 0 | L31: =IF(COUNTIF(C31,"D"),SUM(K25:K31),0) -> 0
B32: =IFERROR(CHOOSE(DAY(D32),UPPER(TEXT(D32,"mmmm")),YEAR(D32)),"") | C32: =IF(D32="","",UPPER(LEFT(TEXT(D32,"jjj"),1))) -> L | D32: =D31+1 -> 44585 | E32: =IF(D32="","",IF(WEEKDAY(D32,1)=5,INT((D32-DATE(YEAR(D32),1,1))/7+1),"")) | F32: j1 | G32: s1 | I32: =IFERROR(IF(F32="","",IF(VLOOKUP(F32,DATA!$H$3:$J$26,2,FALSE)<VLOOKUP(G32,DATA!$H$3:$J$26,2,FALSE),VLOOKUP(G32,DATA!$H$3:$J$26,2,FALSE),VLOOKUP(F32,DATA!$H$3:$J$26,2,FALSE))),0) -> 0.50347222 | J32: =IFERROR(IF(G32="","",IF(VLOOKUP(G32,DATA!$H$3:$J$26,3,FALSE)>VLOOKUP(F32,DATA!$H$3:$J$26,3,FALSE),VLOOKUP(F32,DATA!$H$3:$J$26,3,FALSE),VLOOKUP(G32,DATA!$H$3:$J$26,3,FALSE))+H32),0) -> 0.6875 | K32: =IFERROR((MIN(ABS(VLOOKUP(F32,DATA!$H$3:$J$26,3,FALSE)-VLOOKUP(G32,DATA!$H$3:$J$26,2,FALSE)),ABS(VLOOKUP(G32,DATA!$H$3:$J$26,3,FALSE)-VLOOKUP(F32,DATA!$H$3:$J$26,2,FALSE))))+H32,0) -> 0.18402778 | L32: =IF(COUNTIF(C32,"D"),SUM(K26:K32),0) -> 0
B33: =IFERROR(CHOOSE(DAY(D33),UPPER(TEXT(D33,"mmmm")),YEAR(D33)),"") | C33: =IF(D33="","",UPPER(LEFT(TEXT(D33,"jjj"),1))) -> M | D33: =D32+1 -> 44586 | E33: =IF(D33="","",IF(WEEKDAY(D33,1)=5,INT((D33-DATE(YEAR(D33),1,1))/7+1),"")) | I33: =IFERROR(IF(F33="","",IF(VLOOKUP(F33,DATA!$H$3:$J$26,2,FALSE)<VLOOKUP(G33,DATA!$H$3:$J$26,2,FALSE),VLOOKUP(G33,DATA!$H$3:$J$26,2,FALSE),VLOOKUP(F33,DATA!$H$3:$J$26,2,FALSE))),0) | J33: =IFERROR(IF(G33="","",IF(VLOOKUP(G33,DATA!$H$3:$J$26,3,FALSE)>VLOOKUP(F33,DATA!$H$3:$J$26,3,FALSE),VLOOKUP(F33,DATA!$H$3:$J$26,3,FALSE),VLOOKUP(G33,DATA!$H$3:$J$26,3,FALSE))+H33),0) | K33: =IFERROR((MIN(ABS(VLOOKUP(F33,DATA!$H$3:$J$26,3,FALSE)-VLOOKUP(G33,DATA!$H$3:$J$26,2,FALSE)),ABS(VLOOKUP(G33,DATA!$H$3:$J$26,3,FALSE)-VLOOKUP(F33,DATA!$H$3:$J$26,2,FALSE))))+H33,0) -> 0 | L33: =IF(COUNTIF(C33,"D"),SUM(K27:K33),0) -> 0
J35: TOTAL MENSUEL | K35: =SUM(K3:K33) -> 1.5
J36: JOURS DE GARDE | K36: =COUNTIF(K3:K33,">"&0) -> 7

Sheet fev
F2: code seb | G2: code alice | H2: H supp | I2: dépose | J2: récupere | K2: total jour | L2: total semaine | M2: note
B3: =IFERROR(CHOOSE(DAY(D3),UPPER(TEXT(D3,"mmmm")),YEAR(D3)),"") | C3: =IF(D3="","",UPPER(LEFT(TEXT(D3,"jjj"),1))) -> M | D3: =DATE(DATA!$C$5,2,-5) -> 44587 | E3: =IF(D3="","",IF(WEEKDAY(D3,1)=5,INT((D3-DATE(YEAR(D3),1,1))/7+1),"")) | I3: =IFERROR(IF(F3="","",IF(VLOOKUP(F3,DATA!$H$3:$J$26,2,FALSE)<VLOOKUP(G3,DATA!$H$3:$J$26,2,FALSE),VLOOKUP(G3,DATA!$H$3:$J$26,2,FALSE),VLOOKUP(F3,DATA!$H$3:$J$26,2,FALSE))),0) | J3: =IFERROR(IF(G3="","",IF(VLOOKUP(G3,DATA!$H$3:$J$26,3,FALSE)>VLOOKUP(F3,DATA!$H$3:$J$26,3,FALSE),VLOOKUP(F3,DATA!$H$3:$J$26,3,FALSE),VLOOKUP(G3,DATA!$H$3:$J$26,3,FALSE))+H3),0) | K3: =IFERROR((MIN(ABS(VLOOKUP(F3,DATA!$H$3:$J$26,3,FALSE)-VLOOKUP(G3,DATA!$H$3:$J$26,2,FALSE)),ABS(VLOOKUP(G3,DATA!$H$3:$J$26,3,FALSE)-VLOOKUP(F3,DATA!$H$3:$J$26,2,FALSE))))+H3,0) -> 0 | L3: =IF(COUNTIF(C3,"D"),SUM(K3:K3,janv!K28:K33),0) -> 0 | M3: 2h30 en plus car rdv docteur le soir soit 18h30
B4: =IFERROR(CHOOSE(DAY(D4),UPPER(TEXT(D4,"mmmm")),YEAR(D4)),"") | C4: =IF(D4="","",UPPER(LEFT(TEXT(D4,"jjj"),1))) -> J | D4: =D3+1 -> 44588 | E4: =IF(D4="","",IF(WEEKDAY(D4,1)=5,INT((D4-DATE(YEAR(D4),1,1))/7+1),"")) -> 4 | I4: =IFERROR(IF(F4="","",IF(VLOOKUP(F4,DATA!$H$3:$J$26,2,FALSE)<VLOOKUP(G4,DATA!$H$3:$J$26,2,FALSE),VLOOKUP(G4,DATA!$H$3:$J$26,2,FALSE),VLOOKUP(F4,DATA!$H$3:$J$26,2,FALSE))),0) | J4: =IFERROR(IF(G4="","",IF(VLOOKUP(G4,DATA!$H$3:$J$26,3,FALSE)>VLOOKUP(F4,DATA!$H$3:$J$26,3,FALSE),VLOOKUP(F4,DATA!$H$3:$J$26,3,FALSE),VLOOKUP(G4,DATA!$H$3:$J$26,3,FALSE))+H4),0) | K4: =IFERROR((MIN(ABS(VLOOKUP(F4,DATA!$H$3:$J$26,3,FALSE)-VLOOKUP(G4,DATA!$H$3:$J$26,2,FALSE)),ABS(VLOOKUP(G4,DATA!$H$3:$J$26,3,FALSE)-VLOOKUP(F4,DATA!$H$3:$J$26,2,FALSE))))+H4,0) -> 0 | L4: =IF(COUNTIF(C4,"D"),SUM(K3:K4,janv!K29:K33),0) -> 0
B5: =IFERROR(CHOOSE(DAY(D5),UPPER(TEXT(D5,"mmmm")),YEAR(D5)),"") | C5: =IF(D5="","",UPPER(LEFT(TEXT(D5,"jjj"),1))) -> V | D5: =D4+1 -> 44589 | E5: =IF(D5="","",IF(WEEKDAY(D5,1)=5,INT((D5-DATE(YEAR(D5),1,1))/7+1),"")) | I5: =IFERROR(IF(F5="","",IF(VLOOKUP(F5,DATA!$H$3:$J$26,2,FALSE)<VLOOKUP(G5,DATA!$H$3:$J$26,2,FALSE),VLOOKUP(G5,DATA!$H$3:$J$26,2,FALSE),VLOOKUP(F5,DATA!$H$3:$J$26,2,FALSE))),0) | J5: =IFERROR(IF(G5="","",IF(VLOOKUP(G5,DATA!$H$3:$J$26,3,FALSE)>VLOOKUP(F5,DATA!$H$3:$J$26,3,FALSE),VLOOKUP(F5,DATA!$H$3:$J$26,3,FALSE),VLOOKUP(G5,DATA!$H$3:$J$26,3,FALSE))+H5),0) | K5: =IFERROR((MIN(ABS(VLOOKUP(F5,DATA!$H$3:$J$26,3,FALSE)-VLOOKUP(G5,DATA!$H$3:$J$26,2,FALSE)),ABS(VLOOKUP(G5,DATA!$H$3:$J$26,3,FALSE)-VLOOKUP(F5,DATA!$H$3:$J$26,2,FALSE))))+H5,0) -> 0 | L5: =IF(COUNTIF(C5,"D"),SUM(K3:K5,janv!K30:K33),0) -> 0
B6: =IFERROR(CHOOSE(DAY(D6),UPPER(TEXT(D6,"mmmm")),YEAR(D6)),"") | C6: =IF(D6="","",UPPER(LEFT(TEXT(D6,"jjj"),1))) -> S | D6: =D5+1 -> 44590 | E6: =IF(D6="","",IF(WEEKDAY(D6,1)=5,INT((D6-DATE(YEAR(D6),1,1))/7+1),"")) | F6: s1 | G6: j3 | I6: =IFERROR(IF(F6="","",IF(VLOOKUP(F6,DATA!$H$3:$J$26,2,FALSE)<VLOOKUP(G6,DATA!$H$3:$J$26,2,FALSE),VLOOKUP(G6,DATA!$H$3:$J$26,2,FALSE),VLOOKUP(F6,DATA!$H$3:$J$26,2,FALSE))),0) -> 0.50347222 | J6: =IFERROR(IF(G6="","",IF(VLOOKUP(G6,DATA!$H$3:$J$26,3,FALSE)>VLOOKUP(F6,DATA!$H$3:$J$26,3,FALSE),VLOOKUP(F6,DATA!$H$3:$J$26,3,FALSE),VLOOKUP(G6,DATA!$H$3:$J$26,3,FALSE))+H6),0) -> 0.64583333 | K6: =IFERROR((MIN(ABS(VLOOKUP(F6,DATA!$H$3:$J$26,3,FALSE)-VLOOKUP(G6,DATA!$H$3:$J$26,2,FALSE)),ABS(VLOOKUP(G6,DATA!$H$3:$J$26,3,FALSE)-VLOOKUP(F6,DATA!$H$3:$J$26,2,FALSE))))+H6,0) -> 0.14236111 | L6: =IF(COUNTIF(C6,"D"),SUM(K3:K6,janv!K31:K33),0) -> 0 | O6: afficher le nombre de cellule non vide de total jour dans la celle K36
B7: =IFERROR(CHOOSE(DAY(D7),UPPER(TEXT(D7,"mmmm")),YEAR(D7)),"") | C7: =IF(D7="","",UPPER(LEFT(TEXT(D7,"jjj"),1))) -> D | D7: =D6+1 -> 44591 | E7: =IF(D7="","",IF(WEEKDAY(D7,1)=5,INT((D7-DATE(YEAR(D7),1,1))/7+1),"")) | F7: j3 | G7: s1 | I7: =IFERROR(IF(F7="","",IF(VLOOKUP(F7,DATA!$H$3:$J$26,2,FALSE)<VLOOKUP(G7,DATA!$H$3:$J$26,2,FALSE),VLOOKUP(G7,DATA!$H$3:$J$26,2,FALSE),VLOOKUP(F7,DATA!$H$3:$J$26,2,FALSE))),0) -> 0.50347222 | J7: =IFERROR(IF(G7="","",IF(VLOOKUP(G7,DATA!$H$3:$J$26,3,FALSE)>VLOOKUP(F7,DATA!$H$3:$J$26,3,FALSE),VLOOKUP(F7,DATA!$H$3:$J$26,3,FALSE),VLOOKUP(G7,DATA!$H$3:$J$26,3,FALSE))+H7),0) -> 0.64583333 | K7: =IFERROR((MIN(ABS(VLOOKUP(F7,DATA!$H$3:$J$26,3,FALSE)-VLOOKUP(G7,DATA!$H$3:$J$26,2,FALSE)),ABS(VLOOKUP(G7,DATA!$H$3:$J$26,3,FALSE)-VLOOKUP(F7,DATA!$H$3:$J$26,2,FALSE))))+H7,0) -> 0.14236111 | L7: =IF(COUNTIF(C7,"D"),SUM(K3:K7,janv!K32:K33),0) -> 0.46875 | O7: supprimé #N/A
B8: =IFERROR(CHOOSE(DAY(D8),UPPER(TEXT(D8,"mmmm")),YEAR(D8)),"") | C8: =IF(D8="","",UPPER(LEFT(TEXT(D8,"jjj"),1))) -> L | D8: =D7+1 -> 44592 | E8: =IF(D8="","",IF(WEEKDAY(D8,1)=5,INT((D8-DATE(YEAR(D8),1,1))/7+1),"")) | F8: j1 | I8: =IFERROR(IF(F8="","",IF(VLOOKUP(F8,DATA!$H$3:$J$26,2,FALSE)<VLOOKUP(G8,DATA!$H$3:$J$26,2,FALSE),VLOOKUP(G8,DATA!$H$3:$J$26,2,FALSE),VLOOKUP(F8,DATA!$H$3:$J$26,2,FALSE))),0) -> 0 | J8: =IFERROR(IF(G8="","",IF(VLOOKUP(G8,DATA!$H$3:$J$26,3,FALSE)>VLOOKUP(F8,DATA!$H$3:$J$26,3,FALSE),VLOOKUP(F8,DATA!$H$3:$J$26,3,FALSE),VLOOKUP(G8,DATA!$H$3:$J$26,3,FALSE))+H8),0) | K8: =IFERROR((MIN(ABS(VLOOKUP(F8,DATA!$H$3:$J$26,3,FALSE)-VLOOKUP(G8,DATA!$H$3:$J$26,2,FALSE)),ABS(VLOOKUP(G8,DATA!$H$3:$J$26,3,FALSE)-VLOOKUP(F8,DATA!$H$3:$J$26,2,FALSE))))+H8,0) -> 0 | L8: =IF(COUNTIF(C8,"D"),SUM(K3:K8,janv!K33:K33),0) -> 0 | O8: MFC etrange sur la colorie samedi dimanche
B9: =IFERROR(CHOOSE(DAY(D9),UPPER(TEXT(D9,"mmmm")),YEAR(D9)),"") -> FÉVRIER | C9: =IF(D9="","",UPPER(LEFT(TEXT(D9,"jjj"),1))) -> M | D9: =D8+1 -> 44593 | E9: =IF(D9="","",IF(WEEKDAY(D9,1)=5,INT((D9-DATE(YEAR(D9),1,1))/7+1),"")) | I9: =IFERROR(IF(F9="","",IF(VLOOKUP(F9,DATA!$H$3:$J$26,2,FALSE)<VLOOKUP(G9,DATA!$H$3:$J$26,2,FALSE),VLOOKUP(G9,DATA!$H$3:$J$26,2,FALSE),VLOOKUP(F9,DATA!$H$3:$J$26,2,FALSE))),0) | J9: =IFERROR(IF(G9="","",IF(VLOOKUP(G9,DATA!$H$3:$J$26,3,FALSE)>VLOOKUP(F9,DATA!$H$3:$J$26,3,FALSE),VLOOKUP(F9,DATA!$H$3:$J$26,3,FALSE),VLOOKUP(G9,DATA!$H$3:$J$26,3,FALSE))+H9),0) | K9: =IFERROR((MIN(ABS(VLOOKUP(F9,DATA!$H$3:$J$26,3,FALSE)-VLOOKUP(G9,DATA!$H$3:$J$26,2,FALSE)),ABS(VLOOKUP(G9,DATA!$H$3:$J$26,3,FALSE)-VLOOKUP(F9,DATA!$H$3:$J$26,2,FALSE))))+H9,0) -> 0 | L9: =IF(COUNTIF(C9,"D"),SUM(K3:K9),0) -> 0 | O9: supprimé la feuille "total"
B10: =IFERROR(CHOOSE(DAY(D10),UPPER(TEXT(D10,"mmmm")),YEAR(D10)),"") -> 2022 | C10: =IF(D10="","",UPPER(LEFT(TEXT(D10,"jjj"),1))) -> M | D10: =D9+1 -> 44594 | E10: =IF(D10="","",IF(WEEKDAY(D10,1)=5,INT((D10-DATE(YEAR(D10),1,1))/7+1),"")) | I10: =IFERROR(IF(F10="","",IF(VLOOKUP(F10,DATA!$H$3:$J$26,2,FALSE)<VLOOKUP(G10,DATA!$H$3:$J$26,2,FALSE),VLOOKUP(G10,DATA!$H$3:$J$26,2,FALSE),VLOOKUP(F10,DATA!$H$3:$J$26,2,FALSE))),0) | J10: =IFERROR(IF(G10="","",IF(VLOOKUP(G10,DATA!$H$3:$J$26,3,FALSE)>VLOOKUP(F10,DATA!$H$3:$J$26,3,FALSE),VLOOKUP(F10,DATA!$H$3:$J$26,3,FALSE),VLOOKUP(G10,DATA!$H$3:$J$26,3,FALSE))+H10),0) | K10: =IFERROR((MIN(ABS(VLOOKUP(F10,DATA!$H$3:$J$26,3,FALSE)-VLOOKUP(G10,DATA!$H$3:$J$26,2,FALSE)),ABS(VLOOKUP(G10,DATA!$H$3:$J$26,3,FALSE)-VLOOKUP(F10,DATA!$H$3:$J$26,2,FALSE))))+H10,0) -> 0 | L10: =IF(COUNTIF(C10,"D"),SUM(K4:K10),0) -> 0 | O10: mettre en services les total semaine du debut de mois par apport au mois d'avant | U10: (bug sur 29 fev )
B11: =IFERROR(CHOOSE(DAY(D11),UPPER(TEXT(D11,"mmmm")),YEAR(D11)),"") | C11: =IF(D11="","",UPPER(LEFT(TEXT(D11,"jjj"),1))) -> J | D11: =D10+1 -> 44595 | E11: =IF(D11="","",IF(WEEKDAY(D11,1)=5,INT((D11-DATE(YEAR(D11),1,1))/7+1),"")) -> 5 | I11: =IFERROR(IF(F11="","",IF(VLOOKUP(F11,DATA!$H$3:$J$26,2,FALSE)<VLOOKUP(G11,DATA!$H$3:$J$26,2,FALSE),VLOOKUP(G11,DATA!$H$3:$J$26,2,FALSE),VLOOKUP(F11,DATA!$H$3:$J$26,2,FALSE))),0) | J11: =IFERROR(IF(G11="","",IF(VLOOKUP(G11,DATA!$H$3:$J$26,3,FALSE)>VLOOKUP(F11,DATA!$H$3:$J$26,3,FALSE),VLOOKUP(F11,DATA!$H$3:$J$26,3,FALSE),VLOOKUP(G11,DATA!$H$3:$J$26,3,FALSE))+H11),0) | K11: =IFERROR((MIN(ABS(VLOOKUP(F11,DATA!$H$3:$J$26,3,FALSE)-VLOOKUP(G11,DATA!$H$3:$J$26,2,FALSE)),ABS(VLOOKUP(G11,DATA!$H$3:$J$26,3,FALSE)-VLOOKUP(F11,DATA!$H$3:$J$26,2,FALSE))))+H11,0) -> 0 | L11: =IF(COUNTIF(C11,"D"),SUM(K5:K11),0) -> 0 | O11: MFC sur le dimanche ajouter une ligne séparation semaine
B12: =IFERROR(CHOOSE(DAY(D12),UPPER(TEXT(D12,"mmmm")),YEAR(D12)),"") | C12: =IF(D12="","",UPPER(LEFT(TEXT(D12,"jjj"),1))) -> V | D12: =D11+1 -> 44596 | E12: =IF(D12="","",IF(WEEKDAY(D12,1)=5,INT((D12-DATE(YEAR(D12),1,1))/7+1),"")) | I12: =IFERROR(IF(F12="","",IF(VLOOKUP(F12,DATA!$H$3:$J$26,2,FALSE)<VLOOKUP(G12,DATA!$H$3:$J$26,2,FALSE),VLOOKUP(G12,DATA!$H$3:$J$26,2,FALSE),VLOOKUP(F12,DATA!$H$3:$J$26,2,FALSE))),0) | J12: =IFERROR(IF(G12="","",IF(VLOOKUP(G12,DATA!$H$3:$J$26,3,FALSE)>VLOOKUP(F12,DATA!$H$3:$J$26,3,FALSE),VLOOKUP(F12,DATA!$H$3:$J$26,3,FALSE),VLOOKUP(G12,DATA!$H$3:$J$26,3,FALSE))+H12),0) | K12: =IFERROR((MIN(ABS(VLOOKUP(F12,DATA!$H$3:$J$26,3,FALSE)-VLOOKUP(G12,DATA!$H$3:$J$26,2,FALSE)),ABS(VLOOKUP(G12,DATA!$H$3:$J$26,3,FALSE)-VLOOKUP(F12,DATA!$H$3:$J$26,2,FALSE))))+H12,0) -> 0 | L12: =IF(COUNTIF(C12,"D"),SUM(K6:K12),0) -> 0 | O12: pouvoir avoir le total semaine en cour sur le 25 du mois, quelquesoit le jours en cour, sans chevauché la semaine d'avant
B13: =IFERROR(CHOOSE(DAY(D13),UPPER(TEXT(D13,"mmmm")),YEAR(D13)),"") | C13: =IF(D13="","",UPPER(LEFT(TEXT(D13,"jjj"),1))) -> S | D13: =D12+1 -> 44597 | E13: =IF(D13="","",IF(WEEKDAY(D13,1)=5,INT((D13-DATE(YEAR(D13),1,1))/7+1),"")) | F13: j1 | G13: s1 | I13: =IFERROR(IF(F13="","",IF(VLOOKUP(F13,DATA!$H$3:$J$26,2,FALSE)<VLOOKUP(G13,DATA!$H$3:$J$26,2,FALSE),VLOOKUP(G13,DATA!$H$3:$J$26,2,FALSE),VLOOKUP(F13,DATA!$H$3:$J$26,2,FALSE))),0) -> 0.50347222 | J13: =IFERROR(IF(G13="","",IF(VLOOKUP(G13,DATA!$H$3:$J$26,3,FALSE)>VLOOKUP(F13,DATA!$H$3:$J$26,3,FALSE),VLOOKUP(F13,DATA!$H$3:$J$26,3,FALSE),VLOOKUP(G13,DATA!$H$3:$J$26,3,FALSE))+H13),0) -> 0.6875 | K13: =IFERROR((MIN(ABS(VLOOKUP(F13,DATA!$H$3:$J$26,3,FALSE)-VLOOKUP(G13,DATA!$H$3:$J$26,2,FALSE)),ABS(VLOOKUP(G13,DATA!$H$3:$J$26,3,FALSE)-VLOOKUP(F13,DATA!$H$3:$J$26,2,FALSE))))+H13,0) -> 0.18402778 | L13: =IF(COUNTIF(C13,"D"),SUM(K7:K13),0) -> 0 | O13: pouvoir avoir uniquement une valeur dans collone H et que ça marche ( horraire non prévue dans la data )
B14: =IFERROR(CHOOSE(DAY(D14),UPPER(TEXT(D14,"mmmm")),YEAR(D14)),"") | C14: =IF(D14="","",UPPER(LEFT(TEXT(D14,"jjj"),1))) -> D | D14: =D13+1 -> 44598 | E14: =IF(D14="","",IF(WEEKDAY(D14,1)=5,INT((D14-DATE(YEAR(D14),1,1))/7+1),"")) | I14: =IFERROR(IF(F14="","",IF(VLOOKUP(F14,DATA!$H$3:$J$26,2,FALSE)<VLOOKUP(G14,DATA!$H$3:$J$26,2,FALSE),VLOOKUP(G14,DATA!$H$3:$J$26,2,FALSE),VLOOKUP(F14,DATA!$H$3:$J$26,2,FALSE))),0) | J14: =IFERROR(IF(G14="","",IF(VLOOKUP(G14,DATA!$H$3:$J$26,3,FALSE)>VLOOKUP(F14,DATA!$H$3:$J$26,3,FALSE),VLOOKUP(F14,DATA!$H$3:$J$26,3,FALSE),VLOOKUP(G14,DATA!$H$3:$J$26,3,FALSE))+H14),0) | K14: =IFERROR((MIN(ABS(VLOOKUP(F14,DATA!$H$3:$J$26,3,FALSE)-VLOOKUP(G14,DATA!$H$3:$J$26,2,FALSE)),ABS(VLOOKUP(G14,DATA!$H$3:$J$26,3,FALSE)-VLOOKUP(F14,DATA!$H$3:$J$26,2,FALSE))))+H14,0) -> 0 | L14: =IF(COUNTIF(C14,"D"),SUM(K8:K14),0) -> 0.18402778
B15: =IFERROR(CHOOSE(DAY(D15),UPPER(TEXT(D15,"mmmm")),YEAR(D15)),"") | C15: =IF(D15="","",UPPER(LEFT(TEXT(D15,"jjj"),1))) -> L | D15: =D14+1 -> 44599 | E15: =IF(D15="","",IF(WEEKDAY(D15,1)=5,INT((D15-DATE(YEAR(D15),1,1))/7+1),"")) | I15: =IFERROR(IF(F15="","",IF(VLOOKUP(F15,DATA!$H$3:$J$26,2,FALSE)<VLOOKUP(G15,DATA!$H$3:$J$26,2,FALSE),VLOOKUP(G15,DATA!$H$3:$J$26,2,FALSE),VLOOKUP(F15,DATA!$H$3:$J$26,2,FALSE))),0) | J15: =IFERROR(IF(G15="","",IF(VLOOKUP(G15,DATA!$H$3:$J$26,3,FALSE)>VLOOKUP(F15,DATA!$H$3:$J$26,3,FALSE),VLOOKUP(F15,DATA!$H$3:$J$26,3,FALSE),VLOOKUP(G15,DATA!$H$3:$J$26,3,FALSE))+H15),0) | K15: =IFERROR((MIN(ABS(VLOOKUP(F15,DATA!$H$3:$J$26,3,FALSE)-VLOOKUP(G15,DATA!$H$3:$J$26,2,FALSE)),ABS(VLOOKUP(G15,DATA!$H$3:$J$26,3,FALSE)-VLOOKUP(F15,DATA!$H$3:$J$26,2,FALSE))))+H15,0) -> 0 | L15: =IF(COUNTIF(C15,"D"),SUM(K9:K15),0) -> 0
B16: =IFERROR(CHOOSE(DAY(D16),UPPER(TEXT(D16,"mmmm")),YEAR(D16)),"") | C16: =IF(D16="","",UPPER(LEFT(TEXT(D16,"jjj"),1))) -> M | D16: =D15+1 -> 44600 | E16: =IF(D16="","",IF(WEEKDAY(D16,1)=5,INT((D16-DATE(YEAR(D16),1,1))/7+1),"")) | I16: =IFERROR(IF(F16="","",IF(VLOOKUP(F16,DATA!$H$3:$J$26,2,FALSE)<VLOOKUP(G16,DATA!$H$3:$J$26,2,FALSE),VLOOKUP(G16,DATA!$H$3:$J$26,2,FALSE),VLOOKUP(F16,DATA!$H$3:$J$26,2,FALSE))),0) | J16: =IFERROR(IF(G16="","",IF(VLOOKUP(G16,DATA!$H$3:$J$26,3,FALSE)>VLOOKUP(F16,DATA!$H$3:$J$26,3,FALSE),VLOOKUP(F16,DATA!$H$3:$J$26,3,FALSE),VLOOKUP(G16,DATA!$H$3:$J$26,3,FALSE))+H16),0) | K16: =IFERROR((MIN(ABS(VLOOKUP(F16,DATA!$H$3:$J$26,3,FALSE)-VLOOKUP(G16,DATA!$H$3:$J$26,2,FALSE)),ABS(VLOOKUP(G16,DATA!$H$3:$J$26,3,FALSE)-VLOOKUP(F16,DATA!$H$3:$J$26,2,FALSE))))+H16,0) -> 0 | L16: =IF(COUNTIF(C16,"D"),SUM(K10:K16),0) -> 0
B17: =IFERROR(CHOOSE(DAY(D17),UPPER(TEXT(D17,"mmmm")),YEAR(D17)),"") | C17: =IF(D17="","",UPPER(LEFT(TEXT(D17,"jjj"),1))) -> M | D17: =D16+1 -> 44601 | E17: =IF(D17="","",IF(WEEKDAY(D17,1)=5,INT((D17-DATE(YEAR(D17),1,1))/7+1),"")) | H17: 0.20833333 | I17: =IFERROR(IF(F17="","",IF(VLOOKUP(F17,DATA!$H$3:$J$26,2,FALSE)<VLOOKUP(G17,DATA!$H$3:$J$26,2,FALSE),VLOOKUP(G17,DATA!$H$3:$J$26,2,FALSE),VLOOKUP(F17,DATA!$H$3:$J$26,2,FALSE))),0) | J17: =IFERROR(IF(G17="","",IF(VLOOKUP(G17,DATA!$H$3:$J$26,3,FALSE)>VLOOKUP(F17,DATA!$H$3:$J$26,3,FALSE),VLOOKUP(F17,DATA!$H$3:$J$26,3,FALSE),VLOOKUP(G17,DATA!$H$3:$J$26,3,FALSE))+H17),0) | K17: =IFERROR((MIN(ABS(VLOOKUP(F17,DATA!$H$3:$J$26,3,FALSE)-VLOOKUP(G17,DATA!$H$3:$J$26,2,FALSE)),ABS(VLOOKUP(G17,DATA!$H$3:$J$26,3,FALSE)-VLOOKUP(F17,DATA!$H$3:$J$26,2,FALSE))))+H17,0) -> 0 | L17: =IF(COUNTIF(C17,"D"),SUM(K11:K17),0) -> 0
B18: =IFERROR(CHOOSE(DAY(D18),UPPER(TEXT(D18,"mmmm")),YEAR(D18)),"") | C18: =IF(D18="","",UPPER(LEFT(TEXT(D18,"jjj"),1))) -> J | D18: =D17+1 -> 44602 | E18: =IF(D18="","",IF(WEEKDAY(D18,1)=5,INT((D18-DATE(YEAR(D18),1,1))/7+1),"")) -> 6 | I18: =IFERROR(IF(F18="","",IF(VLOOKUP(F18,DATA!$H$3:$J$26,2,FALSE)<VLOOKUP(G18,DATA!$H$3:$J$26,2,FALSE),VLOOKUP(G18,DATA!$H$3:$J$26,2,FALSE),VLOOKUP(F18,DATA!$H$3:$J$26,2,FALSE))),0) | J18: =IFERROR(IF(G18="","",IF(VLOOKUP(G18,DATA!$H$3:$J$26,3,FALSE)>VLOOKUP(F18,DATA!$H$3:$J$26,3,FALSE),VLOOKUP(F18,DATA!$H$3:$J$26,3,FALSE),VLOOKUP(G18,DATA!$H$3:$J$26,3,FALSE))+H18),0) | K18: =IFERROR((MIN(ABS(VLOOKUP(F18,DATA!$H$3:$J$26,3,FALSE)-VLOOKUP(G18,DATA!$H$3:$J$26,2,FALSE)),ABS(VLOOKUP(G18,DATA!$H$3:$J$26,3,FALSE)-VLOOKUP(F18,DATA!$H$3:$J$26,2,FALSE))))+H18,0) -> 0 | L18: =IF(COUNTIF(C18,"D"),SUM(K12:K18),0) -> 0
B19: =IFERROR(CHOOSE(DAY(D19),UPPER(TEXT(D19,"mmmm")),YEAR(D19)),"") | C19: =IF(D19="","",UPPER(LEFT(TEXT(D19,"jjj"),1))) -> V | D19: =D18+1 -> 44603 | E19: =IF(D19="","",IF(WEEKDAY(D19,1)=5,INT((D19-DATE(YEAR(D19),1,1))/7+1),"")) | I19: =IFERROR(IF(F19="","",IF(VLOOKUP(F19,DATA!$H$3:$J$26,2,FALSE)<VLOOKUP(G19,DATA!$H$3:$J$26,2,FALSE),VLOOKUP(G19,DATA!$H$3:$J$26,2,FALSE),VLOOKUP(F19,DATA!$H$3:$J$26,2,FALSE))),0) | J19: =IFERROR(IF(G19="","",IF(VLOOKUP(G19,DATA!$H$3:$J$26,3,FALSE)>VLOOKUP(F19,DATA!$H$3:$J$26,3,FALSE),VLOOKUP(F19,DATA!$H$3:$J$26,3,FALSE),VLOOKUP(G19,DATA!$H$3:$J$26,3,FALSE))+H19),0) | K19: =IFERROR((MIN(ABS(VLOOKUP(F19,DATA!$H$3:$J$26,3,FALSE)-VLOOKUP(G19,DATA!$H$3:$J$26,2,FALSE)),ABS(VLOOKUP(G19,DATA!$H$3:$J$26,3,FALSE)-VLOOKUP(F19,DATA!$H$3:$J$26,2,FALSE))))+H19,0) -> 0 | L19: =IF(COUNTIF(C19,"D"),SUM(K13:K19),0) -> 0
B20: =IFERROR(CHOOSE(DAY(D20),UPPER(TEXT(D20,"mmmm")),YEAR(D20)),"") | C20: =IF(D20="","",UPPER(LEFT(TEXT(D20,"jjj"),1))) -> S | D20: =D19+1 -> 44604 | E20: =IF(D20="","",IF(WEEKDAY(D20,1)=5,INT((D20-DATE(YEAR(D20),1,1))/7+1),"")) | I20: =IFERROR(IF(F20="","",IF(VLOOKUP(F20,DATA!$H$3:$J$26,2,FALSE)<VLOOKUP(G20,DATA!$H$3:$J$26,2,FALSE),VLOOKUP(G20,DATA!$H$3:$J$26,2,FALSE),VLOOKUP(F20,DATA!$H$3:$J$26,2,FALSE))),0) | J20: =IFERROR(IF(G20="","",IF(VLOOKUP(G20,DATA!$H$3:$J$26,3,FALSE)>VLOOKUP(F20,DATA!$H$3:$J$26,3,FALSE),VLOOKUP(F20,DATA!$H$3:$J$26,3,FALSE),VLOOKUP(G20,DATA!$H$3:$J$26,3,FALSE))+H20),0) | K20: =IFERROR((MIN(ABS(VLOOKUP(F20,DATA!$H$3:$J$26,3,FALSE)-VLOOKUP(G20,DATA!$H$3:$J$26,2,FALSE)),ABS(VLOOKUP(G20,DATA!$H$3:$J$26,3,FALSE)-VLOOKUP(F20,DATA!$H$3:$J$26,2,FALSE))))+H20,0) -> 0 | L20: =IF(COUNTIF(C20,"D"),SUM(K14:K20),0) -> 0
B21: =IFERROR(CHOOSE(DAY(D21),UPPER(TEXT(D21,"mmmm")),YEAR(D21)),"") | C21: =IF(D21="","",UPPER(LEFT(TEXT(D21,"jjj"),1))) -> D | D21: =D20+1 -> 44605 | E21: =IF(D21="","",IF(WEEKDAY(D21,1)=5,INT((D21-DATE(YEAR(D21),1,1))/7+1),"")) | I21: =IFERROR(IF(F21="","",IF(VLOOKUP(F21,DATA!$H$3:$J$26,2,FALSE)<VLOOKUP(G21,DATA!$H$3:$J$26,2,FALSE),VLOOKUP(G21,DATA!$H$3:$J$26,2,FALSE),VLOOKUP(F21,DATA!$H$3:$J$26,2,FALSE))),0) | J21: =IFERROR(IF(G21="","",IF(VLOOKUP(G21,DATA!$H$3:$J$26,3,FALSE)>VLOOKUP(F21,DATA!$H$3:$J$26,3,FALSE),VLOOKUP(F21,DATA!$H$3:$J$26,3,FALSE),VLOOKUP(G21,DATA!$H$3:$J$26,3,FALSE))+H21),0) | K21: =IFERROR((MIN(ABS(VLOOKUP(F21,DATA!$H$3:$J$26,3,FALSE)-VLOOKUP(G21,DATA!$H$3:$J$26,2,FALSE)),ABS(VLOOKUP(G21,DATA!$H$3:$J$26,3,FALSE)-VLOOKUP(F21,DATA!$H$3:$J$26,2,FALSE))))+H21,0) -> 0 | L21: =IF(COUNTIF(C21,"D"),SUM(K15:K21),0) -> 0
B22: =IFERROR(CHOOSE(DAY(D22),UPPER(TEXT(D22,"mmmm")),YEAR(D22)),"") | C22: =IF(D22="","",UPPER(LEFT(TEXT(D22,"jjj"),1))) -> L | D22: =D21+1 -> 44606 | E22: =IF(D22="","",IF(WEEKDAY(D22,1)=5,INT((D22-DATE(YEAR(D22),1,1))/7+1),"")) | F22: j1 | G22: s1 | I22: =IFERROR(IF(F22="","",IF(VLOOKUP(F22,DATA!$H$3:$J$26,2,FALSE)<VLOOKUP(G22,DATA!$H$3:$J$26,2,FALSE),VLOOKUP(G22,DATA!$H$3:$J$26,2,FALSE),VLOOKUP(F22,DATA!$H$3:$J$26,2,FALSE))),0) -> 0.50347222 | J22: =IFERROR(IF(G22="","",IF(VLOOKUP(G22,DATA!$H$3:$J$26,3,FALSE)>VLOOKUP(F22,DATA!$H$3:$J$26,3,FALSE),VLOOKUP(F22,DATA!$H$3:$J$26,3,FALSE),VLOOKUP(G22,DATA!$H$3:$J$26,3,FALSE))+H22),0) -> 0.6875 | K22: =IFERROR((MIN(ABS(VLOOKUP(F22,DATA!$H$3:$J$26,3,FALSE)-VLOOKUP(G22,DATA!$H$3:$J$26,2,FALSE)),ABS(VLOOKUP(G22,DATA!$H$3:$J$26,3,FALSE)-VLOOKUP(F22,DATA!$H$3:$J$26,2,FALSE))))+H22,0) -> 0.18402778 | L22: =IF(COUNTIF(C22,"D"),SUM(K16:K22),0) -> 0
B23: =IFERROR(CHOOSE(DAY(D23),UPPER(TEXT(D23,"mmmm")),YEAR(D23)),"") | C23: =IF(D23="","",UPPER(LEFT(TEXT(D23,"jjj"),1))) -> M | D23: =D22+1 -> 44607 | E23: =IF(D23="","",IF(WEEKDAY(D23,1)=5,INT((D23-DATE(YEAR(D23),1,1))/7+1),"")) | I23: =IFERROR(IF(F23="","",IF(VLOOKUP(F23,DATA!$H$3:$J$26,2,FALSE)<VLOOKUP(G23,DATA!$H$3:$J$26,2,FALSE),VLOOKUP(G23,DATA!$H$3:$J$26,2,FALSE),VLOOKUP(F23,DATA!$H$3:$J$26,2,FALSE))),0) | J23: =IFERROR(IF(G23="","",IF(VLOOKUP(G23,DATA!$H$3:$J$26,3,FALSE)>VLOOKUP(F23,DATA!$H$3:$J$26,3,FALSE),VLOOKUP(F23,DATA!$H$3:$J$26,3,FALSE),VLOOKUP(G23,DATA!$H$3:$J$26,3,FALSE))+H23),0) | K23: =IFERROR((MIN(ABS(VLOOKUP(F23,DATA!$H$3:$J$26,3,FALSE)-VLOOKUP(G23,DATA!$H$3:$J$26,2,FALSE)),ABS(VLOOKUP(G23,DATA!$H$3:$J$26,3,FALSE)-VLOOKUP(F23,DATA!$H$3:$J$26,2,FALSE))))+H23,0) -> 0 | L23: =IF(COUNTIF(C23,"D"),SUM(K17:K23),0) -> 0
B24: =IFERROR(CHOOSE(DAY(D24),UPPER(TEXT(D24,"mmmm")),YEAR(D24)),"") | C24: =IF(D24="","",UPPER(LEFT(TEXT(D24,"jjj"),1))) -> M | D24: =D23+1 -> 44608 | E24: =IF(D24="","",IF(WEEKDAY(D24,1)=5,INT((D24-DATE(YEAR(D24),1,1))/7+1),"")) | I24: =IFERROR(IF(F24="","",IF(VLOOKUP(F24,DATA!$H$3:$J$26,2,FALSE)<VLOOKUP(G24,DATA!$H$3:$J$26,2,FALSE),VLOOKUP(G24,DATA!$H$3:$J$26,2,FALSE),VLOOKUP(F24,DATA!$H$3:$J$26,2,FALSE))),0) | J24: =IFERROR(IF(G24="","",IF(VLOOKUP(G24,DATA!$H$3:$J$26,3,FALSE)>VLOOKUP(F24,DATA!$H$3:$J$26,3,FALSE),VLOOKUP(F24,DATA!$H$3:$J$26,3,FALSE),VLOOKUP(G24,DATA!$H$3:$J$26,3,FALSE))+H24),0) | K24: =IFERROR((MIN(ABS(VLOOKUP(F24,DATA!$H$3:$J$26,3,FALSE)-VLOOKUP(G24,DATA!$H$3:$J$26,2,FALSE)),ABS(VLOOKUP(G24,DATA!$H$3:$J$26,3,FALSE)-VLOOKUP(F24,DATA!$H$3:$J$26,2,FALSE))))+H24,0) -> 0 | L24: =IF(COUNTIF(C24,"D"),SUM(K18:K24),0) -> 0
B25: =IFERROR(CHOOSE(DAY(D25),UPPER(TEXT(D25,"mmmm")),YEAR(D25)),"") | C25: =IF(D25="","",UPPER(LEFT(TEXT(D25,"jjj"),1))) -> J | D25: =D24+1 -> 44609 | E25: =IF(D25="","",IF(WEEKDAY(D25,1)=5,INT((D25-DATE(YEAR(D25),1,1))/7+1),"")) -> 7 | I25: =IFERROR(IF(F25="","",IF(VLOOKUP(F25,DATA!$H$3:$J$26,2,FALSE)<VLOOKUP(G25,DATA!$H$3:$J$26,2,FALSE),VLOOKUP(G25,DATA!$H$3:$J$26,2,FALSE),VLOOKUP(F25,DATA!$H$3:$J$26,2,FALSE))),0) | J25: =IFERROR(IF(G25="","",IF(VLOOKUP(G25,DATA!$H$3:$J$26,3,FALSE)>VLOOKUP(F25,DATA!$H$3:$J$26,3,FALSE),VLOOKUP(F25,DATA!$H$3:$J$26,3,FALSE),VLOOKUP(G25,DATA!$H$3:$J$26,3,FALSE))+H25),0) | K25: =IFERROR((MIN(ABS(VLOOKUP(F25,DATA!$H$3:$J$26,3,FALSE)-VLOOKUP(G25,DATA!$H$3:$J$26,2,FALSE)),ABS(VLOOKUP(G25,DATA!$H$3:$J$26,3,FALSE)-VLOOKUP(F25,DATA!$H$3:$J$26,2,FALSE))))+H25,0) -> 0 | L25: =IF(COUNTIF(C25,"D"),SUM(K19:K25),0) -> 0
B26: =IFERROR(CHOOSE(DAY(D26),UPPER(TEXT(D26,"mmmm")),YEAR(D26)),"") | C26: =IF(D26="","",UPPER(LEFT(TEXT(D26,"jjj"),1))) -> V | D26: =D25+1 -> 44610 | E26: =IF(D26="","",IF(WEEKDAY(D26,1)=5,INT((D26-DATE(YEAR(D26),1,1))/7+1),"")) | I26: =IFERROR(IF(F26="","",IF(VLOOKUP(F26,DATA!$H$3:$J$26,2,FALSE)<VLOOKUP(G26,DATA!$H$3:$J$26,2,FALSE),VLOOKUP(G26,DATA!$H$3:$J$26,2,FALSE),VLOOKUP(F26,DATA!$H$3:$J$26,2,FALSE))),0) | J26: =IFERROR(IF(G26="","",IF(VLOOKUP(G26,DATA!$H$3:$J$26,3,FALSE)>VLOOKUP(F26,DATA!$H$3:$J$26,3,FALSE),VLOOKUP(F26,DATA!$H$3:$J$26,3,FALSE),VLOOKUP(G26,DATA!$H$3:$J$26,3,FALSE))+H26),0) | K26: =IFERROR((MIN(ABS(VLOOKUP(F26,DATA!$H$3:$J$26,3,FALSE)-VLOOKUP(G26,DATA!$H$3:$J$26,2,FALSE)),ABS(VLOOKUP(G26,DATA!$H$3:$J$26,3,FALSE)-VLOOKUP(F26,DATA!$H$3:$J$26,2,FALSE))))+H26,0) -> 0 | L26: =IF(COUNTIF(C26,"D"),SUM(K20:K26),0) -> 0
B27: =IFERROR(CHOOSE(DAY(D27),UPPER(TEXT(D27,"mmmm")),YEAR(D27)),"") | C27: =IF(D27="","",UPPER(LEFT(TEXT(D27,"jjj"),1))) -> S | D27: =D26+1 -> 44611 | E27: =IF(D27="","",IF(WEEKDAY(D27,1)=5,INT((D27-DATE(YEAR(D27),1,1))/7+1),"")) | I27: =IFERROR(IF(F27="","",IF(VLOOKUP(F27,DATA!$H$3:$J$26,2,FALSE)<VLOOKUP(G27,DATA!$H$3:$J$26,2,FALSE),VLOOKUP(G27,DATA!$H$3:$J$26,2,FALSE),VLOOKUP(F27,DATA!$H$3:$J$26,2,FALSE))),0) | J27: =IFERROR(IF(G27="","",IF(VLOOKUP(G27,DATA!$H$3:$J$26,3,FALSE)>VLOOKUP(F27,DATA!$H$3:$J$26,3,FALSE),VLOOKUP(F27,DATA!$H$3:$J$26,3,FALSE),VLOOKUP(G27,DATA!$H$3:$J$26,3,FALSE))+H27),0) | K27: =IFERROR((MIN(ABS(VLOOKUP(F27,DATA!$H$3:$J$26,3,FALSE)-VLOOKUP(G27,DATA!$H$3:$J$26,2,FALSE)),ABS(VLOOKUP(G27,DATA!$H$3:$J$26,3,FALSE)-VLOOKUP(F27,DATA!$H$3:$J$26,2,FALSE))))+H27,0) -> 0 | L27: =IF(COUNTIF(C27,"D"),SUM(K21:K27),0) -> 0
B28: =IFERROR(CHOOSE(DAY(D28),UPPER(TEXT(D28,"mmmm")),YEAR(D28)),"") | C28: =IF(D28="","",UPPER(LEFT(TEXT(D28,"jjj"),1))) -> D | D28: =D27+1 -> 44612 | E28: =IF(D28="","",IF(WEEKDAY(D28,1)=5,INT((D28-DATE(YEAR(D28),1,1))/7+1),"")) | I28: =IFERROR(IF(F28="","",IF(VLOOKUP(F28,DATA!$H$3:$J$26,2,FALSE)<VLOOKUP(G28,DATA!$H$3:$J$26,2,FALSE),VLOOKUP(G28,DATA!$H$3:$J$26,2,FALSE),VLOOKUP(F28,DATA!$H$3:$J$26,2,FALSE))),0) | J28: =IFERROR(IF(G28="","",IF(VLOOKUP(G28,DATA!$H$3:$J$26,3,FALSE)>VLOOKUP(F28,DATA!$H$3:$J$26,3,FALSE),VLOOKUP(F28,DATA!$H$3:$J$26,3,FALSE),VLOOKUP(G28,DATA!$H$3:$J$26,3,FALSE))+H28),0) | K28: =IFERROR((MIN(ABS(VLOOKUP(F28,DATA!$H$3:$J$26,3,FALSE)-VLOOKUP(G28,DATA!$H$3:$J$26,2,FALSE)),ABS(VLOOKUP(G28,DATA!$H$3:$J$26,3,FALSE)-VLOOKUP(F28,DATA!$H$3:$J$26,2,FALSE))))+H28,0) -> 0 | L28: =IF(COUNTIF(C28,"D"),SUM(K22:K28),0) -> 0.18402778
B29: =IFERROR(CHOOSE(DAY(D29),UPPER(TEXT(D29,"mmmm")),YEAR(D29)),"") | C29: =IF(D29="","",UPPER(LEFT(TEXT(D29,"jjj"),1))) -> L | D29: =D28+1 -> 44613 | E29: =IF(D29="","",IF(WEEKDAY(D29,1)=5,INT((D29-DATE(YEAR(D29),1,1))/7+1),"")) | I29: =IFERROR(IF(F29="","",IF(VLOOKUP(F29,DATA!$H$3:$J$26,2,FALSE)<VLOOKUP(G29,DATA!$H$3:$J$26,2,FALSE),VLOOKUP(G29,DATA!$H$3:$J$26,2,FALSE),VLOOKUP(F29,DATA!$H$3:$J$26,2,FALSE))),0) | J29: =IFERROR(IF(G29="","",IF(VLOOKUP(G29,DATA!$H$3:$J$26,3,FALSE)>VLOOKUP(F29,DATA!$H$3:$J$26,3,FALSE),VLOOKUP(F29,DATA!$H$3:$J$26,3,FALSE),VLOOKUP(G29,DATA!$H$3:$J$26,3,FALSE))+H29),0) | K29: =IFERROR((MIN(ABS(VLOOKUP(F29,DATA!$H$3:$J$26,3,FALSE)-VLOOKUP(G29,DATA!$H$3:$J$26,2,FALSE)),ABS(VLOOKUP(G29,DATA!$H$3:$J$26,3,FALSE)-VLOOKUP(F29,DATA!$H$3:$J$26,2,FALSE))))+H29,0) -> 0 | L29: =IF(COUNTIF(C29,"D"),SUM(K23:K29),0) -> 0
B30: =IFERROR(CHOOSE(DAY(D30),UPPER(TEXT(D30,"mmmm")),YEAR(D30)),"") | C30: =IF(D30="","",UPPER(LEFT(TEXT(D30,"jjj"),1))) -> M | D30: =D29+1 -> 44614 | E30: =IF(D30="","",IF(WEEKDAY(D30,1)=5,INT((D30-DATE(YEAR(D30),1,1))/7+1),"")) | F30: j1 | G30: s1 | I30: =IFERROR(IF(F30="","",IF(VLOOKUP(F30,DATA!$H$3:$J$26,2,FALSE)<VLOOKUP(G30,DATA!$H$3:$J$26,2,FALSE),VLOOKUP(G30,DATA!$H$3:$J$26,2,FALSE),VLOOKUP(F30,DATA!$H$3:$J$26,2,FALSE))),0) -> 0.50347222 | J30: =IFERROR(IF(G30="","",IF(VLOOKUP(G30,DATA!$H$3:$J$26,3,FALSE)>VLOOKUP(F30,DATA!$H$3:$J$26,3,FALSE),VLOOKUP(F30,DATA!$H$3:$J$26,3,FALSE),VLOOKUP(G30,DATA!$H$3:$J$26,3,FALSE))+H30),0) -> 0.6875 | K30: =IFERROR((MIN(ABS(VLOOKUP(F30,DATA!$H$3:$J$26,3,FALSE)-VLOOKUP(G30,DATA!$H$3:$J$26,2,FALSE)),ABS(VLOOKUP(G30,DATA!$H$3:$J$26,3,FALSE)-VLOOKUP(F30,DATA!$H$3:$J$26,2,FALSE))))+H30,0) -> 0.18402778 | L30: =IF(COUNTIF(C30,"D"),SUM(K24:K30),0) -> 0
B31: =IFERROR(CHOOSE(DAY(D31),UPPER(TEXT(D31,"mmmm")),YEAR(D31)),"") | C31: =IF(D31="","",UPPER(LEFT(TEXT(D31,"jjj"),1))) -> M | D31: =D30+1 -> 44615 | E31: =IF(D31="","",IF(WEEKDAY(D31,1)=5,INT((D31-DATE(YEAR(D31),1,1))/7+1),"")) | F31: j1 | G31: j1 | I31: =IFERROR(IF(F31="","",IF(VLOOKUP(F31,DATA!$H$3:$J$26,2,FALSE)<VLOOKUP(G31,DATA!$H$3:$J$26,2,FALSE),VLOOKUP(G31,DATA!$H$3:$J$26,2,FALSE),VLOOKUP(F31,DATA!$H$3:$J$26,2,FALSE))),0) -> 0.29513889 | J31: =IFERROR(IF(G31="","",IF(VLOOKUP(G31,DATA!$H$3:$J$26,3,FALSE)>VLOOKUP(F31,DATA!$H$3:$J$26,3,FALSE),VLOOKUP(F31,DATA!$H$3:$J$26,3,FALSE),VLOOKUP(G31,DATA!$H$3:$J$26,3,FALSE))+H31),0) -> 0.6875 | K31: =IFERROR((MIN(ABS(VLOOKUP(F31,DATA!$H$3:$J$26,3,FALSE)-VLOOKUP(G31,DATA!$H$3:$J$26,2,FALSE)),ABS(VLOOKUP(G31,DATA!$H$3:$J$26,3,FALSE)-VLOOKUP(F31,DATA!$H$3:$J$26,2,FALSE))))+H31,0) -> 0.39236111 | L31: =IF(COUNTIF(C31,"D"),SUM(K25:K31),0) -> 0
B32: =IFERROR(CHOOSE(DAY(D32),UPPER(TEXT(D32,"mmmm")),YEAR(D32)),"") | C32: =IF(D32="","",UPPER(LEFT(TEXT(D32,"jjj"),1))) -> J | D32: =D31+1 -> 44616 | E32: =IF(D32="","",IF(WEEKDAY(D32,1)=5,INT((D32-DATE(YEAR(D32),1,1))/7+1),"")) -> 8 | I32: =IFERROR(IF(F32="","",IF(VLOOKUP(F32,DATA!$H$3:$J$26,2,FALSE)<VLOOKUP(G32,DATA!$H$3:$J$26,2,FALSE),VLOOKUP(G32,DATA!$H$3:$J$26,2,FALSE),VLOOKUP(F32,DATA!$H$3:$J$26,2,FALSE))),0) | J32: =IFERROR(IF(G32="","",IF(VLOOKUP(G32,DATA!$H$3:$J$26,3,FALSE)>VLOOKUP(F32,DATA!$H$3:$J$26,3,FALSE),VLOOKUP(F32,DATA!$H$3:$J$26,3,FALSE),VLOOKUP(G32,DATA!$H$3:$J$26,3,FALSE))+H32),0) | K32: =IFERROR((MIN(ABS(VLOOKUP(F32,DATA!$H$3:$J$26,3,FALSE)-VLOOKUP(G32,DATA!$H$3:$J$26,2,FALSE)),ABS(VLOOKUP(G32,DATA!$H$3:$J$26,3,FALSE)-VLOOKUP(F32,DATA!$H$3:$J$26,2,FALSE))))+H32,0) -> 0 | L32: =IF(COUNTIF(C32,"D"),SUM(K26:K32),0) -> 0
B33: =IFERROR(CHOOSE(DAY(D33),UPPER(TEXT(D33,"mmmm")),YEAR(D33)),"") | C33: =IF(D33="","",UPPER(LEFT(TEXT(D33,"jjj"),1))) -> V | D33: =D32+1 -> 44617 | E33: =IF(D33="","",IF(WEEKDAY(D33,1)=5,INT((D33-DATE(YEAR(D33),1,1))/7+1),"")) | I33: =IFERROR(IF(F33="","",IF(VLOOKUP(F33,DATA!$H$3:$J$26,2,FALSE)<VLOOKUP(G33,DATA!$H$3:$J$26,2,FALSE),VLOOKUP(G33,DATA!$H$3:$J$26,2,FALSE),VLOOKUP(F33,DATA!$H$3:$J$26,2,FALSE))),0) | J33: =IFERROR(IF(G33="","",IF(VLOOKUP(G33,DATA!$H$3:$J$26,3,FALSE)>VLOOKUP(F33,DATA!$H$3:$J$26,3,FALSE),VLOOKUP(F33,DATA!$H$3:$J$26,3,FALSE),VLOOKUP(G33,DATA!$H$3:$J$26,3,FALSE))+H33),0) | K33: =IFERROR((MIN(ABS(VLOOKUP(F33,DATA!$H$3:$J$26,3,FALSE)-VLOOKUP(G33,DATA!$H$3:$J$26,2,FALSE)),ABS(VLOOKUP(G33,DATA!$H$3:$J$26,3,FALSE)-VLOOKUP(F33,DATA!$H$3:$J$26,2,FALSE))))+H33,0) -> 0 | L33: =IF(COUNTIF(C33,"D"),SUM(K27:K33),0) -> 0
J35: TOTAL MENSUEL | K35: =SUM(K3:K33) -> 1.2291667
J36: JOURS DE GARDE | K36: =COUNTIF(K3:K33,">"&0) -> 6

Sheet mars
F2: code seb | G2: code alice | H2: H supp | I2: dépose | J2: récupere | K2: total jour | L2: total semaine | M2: note
B3: =IFERROR(CHOOSE(DAY(D3),UPPER(TEXT(D3,"mmmm")),YEAR(D3)),"") | C3: =IF(D3="","",UPPER(LEFT(TEXT(D3,"jjj"),1))) -> S | D3: =DATE(DATA!$C$5,2,26) -> 44618 | E3: =IF(D3="","",IF(WEEKDAY(D3,1)=5,INT((D3-DATE(YEAR(D3),1,1))/7+1),"")) | F3: s2 | G3: j2 | H3: 0.10416667 | I3: =IFERROR(IF(F3="","",IF(VLOOKUP(F3,DATA!$H$3:$J$26,2,FALSE)<VLOOKUP(G3,DATA!$H$3:$J$26,2,FALSE),VLOOKUP(G3,DATA!$H$3:$J$26,2,FALSE),VLOOKUP(F3,DATA!$H$3:$J$26,2,FALSE))),0) -> 0.5 | J3: =IFERROR(IF(G3="","",IF(VLOOKUP(G3,DATA!$H$3:$J$26,3,FALSE)>VLOOKUP(F3,DATA!$H$3:$J$26,3,FALSE),VLOOKUP(F3,DATA!$H$3:$J$26,3,FALSE),VLOOKUP(G3,DATA!$H$3:$J$26,3,FALSE))+H3),0) -> 0.77083333 | K3: =IFERROR((MIN(ABS(VLOOKUP(F3,DATA!$H$3:$J$26,3,FALSE)-VLOOKUP(G3,DATA!$H$3:$J$26,2,FALSE)),ABS(VLOOKUP(G3,DATA!$H$3:$J$26,3,FALSE)-VLOOKUP(F3,DATA!$H$3:$J$26,2,FALSE))))+H3,0) -> 0.27083333 | L3: =IF(COUNTIF(C3,"D"),SUM(K3:K3,fev!K28:K33),0) -> 0 | M3: 2h30 en plus car rdv docteur le soir soit 18h30
B4: =IFERROR(CHOOSE(DAY(D4),UPPER(TEXT(D4,"mmmm")),YEAR(D4)),"") | C4: =IF(D4="","",UPPER(LEFT(TEXT(D4,"jjj"),1))) -> D | D4: =D3+1 -> 44619 | E4: =IF(D4="","",IF(WEEKDAY(D4,1)=5,INT((D4-DATE(YEAR(D4),1,1))/7+1),"")) | F4: j1 | G4: j1 | I4: =IFERROR(IF(F4="","",IF(VLOOKUP(F4,DATA!$H$3:$J$26,2,FALSE)<VLOOKUP(G4,DATA!$H$3:$J$26,2,FALSE),VLOOKUP(G4,DATA!$H$3:$J$26,2,FALSE),VLOOKUP(F4,DATA!$H$3:$J$26,2,FALSE))),0) -> 0.29513889 | J4: =IFERROR(IF(G4="","",IF(VLOOKUP(G4,DATA!$H$3:$J$26,3,FALSE)>VLOOKUP(F4,DATA!$H$3:$J$26,3,FALSE),VLOOKUP(F4,DATA!$H$3:$J$26,3,FALSE),VLOOKUP(G4,DATA!$H$3:$J$26,3,FALSE))+H4),0) -> 0.6875 | K4: =IFERROR((MIN(ABS(VLOOKUP(F4,DATA!$H$3:$J$26,3,FALSE)-VLOOKUP(G4,DATA!$H$3:$J$26,2,FALSE)),ABS(VLOOKUP(G4,DATA!$H$3:$J$26,3,FALSE)-VLOOKUP(F4,DATA!$H$3:$J$26,2,FALSE))))+H4,0) -> 0.39236111 | L4: =IF(COUNTIF(C4,"D"),SUM(K3:K4,fev!K29:K33),0) -> 1.2395833
B5: =IFERROR(CHOOSE(DAY(D5),UPPER(TEXT(D5,"mmmm")),YEAR(D5)),"") | C5: =IF(D5="","",UPPER(LEFT(TEXT(D5,"jjj"),1))) -> L | D5: =D4+1 -> 44620 | E5: =IF(D5="","",IF(WEEKDAY(D5,1)=5,INT((D5-DATE(YEAR(D5),1,1))/7+1),"")) | F5: s1 | G5: j1 | I5: =IFERROR(IF(F5="","",IF(VLOOKUP(F5,DATA!$H$3:$J$26,2,FALSE)<VLOOKUP(G5,DATA!$H$3:$J$26,2,FALSE),VLOOKUP(G5,DATA!$H$3:$J$26,2,FALSE),VLOOKUP(F5,DATA!$H$3:$J$26,2,FALSE))),0) -> 0.50347222 | J5: =IFERROR(IF(G5="","",IF(VLOOKUP(G5,DATA!$H$3:$J$26,3,FALSE)>VLOOKUP(F5,DATA!$H$3:$J$26,3,FALSE),VLOOKUP(F5,DATA!$H$3:$J$26,3,FALSE),VLOOKUP(G5,DATA!$H$3:$J$26,3,FALSE))+H5),0) -> 0.6875 | K5: =IFERROR((MIN(ABS(VLOOKUP(F5,DATA!$H$3:$J$26,3,FALSE)-VLOOKUP(G5,DATA!$H$3:$J$26,2,FALSE)),ABS(VLOOKUP(G5,DATA!$H$3:$J$26,3,FALSE)-VLOOKUP(F5,DATA!$H$3:$J$26,2,FALSE))))+H5,0) -> 0.18402778 | L5: =IF(COUNTIF(C5,"D"),SUM(K3:K5,fev!K30:K33),0) -> 0
B6: =IFERROR(CHOOSE(DAY(D6),UPPER(TEXT(D6,"mmmm")),YEAR(D6)),"") -> MARS | C6: =IF(D6="","",UPPER(LEFT(TEXT(D6,"jjj"),1))) -> M | D6: =D5+1 -> 44621 | E6: =IF(D6="","",IF(WEEKDAY(D6,1)=5,INT((D6-DATE(YEAR(D6),1,1))/7+1),"")) | F6: s1 | G6: j3 | I6: =IFERROR(IF(F6="","",IF(VLOOKUP(F6,DATA!$H$3:$J$26,2,FALSE)<VLOOKUP(G6,DATA!$H$3:$J$26,2,FALSE),VLOOKUP(G6,DATA!$H$3:$J$26,2,FALSE),VLOOKUP(F6,DATA!$H$3:$J$26,2,FALSE))),0) -> 0.50347222 | J6: =IFERROR(IF(G6="","",IF(VLOOKUP(G6,DATA!$H$3:$J$26,3,FALSE)>VLOOKUP(F6,DATA!$H$3:$J$26,3,FALSE),VLOOKUP(F6,DATA!$H$3:$J$26,3,FALSE),VLOOKUP(G6,DATA!$H$3:$J$26,3,FALSE))+H6),0) -> 0.64583333 | K6: =IFERROR((MIN(ABS(VLOOKUP(F6,DATA!$H$3:$J$26,3,FALSE)-VLOOKUP(G6,DATA!$H$3:$J$26,2,FALSE)),ABS(VLOOKUP(G6,DATA!$H$3:$J$26,3,FALSE)-VLOOKUP(F6,DATA!$H$3:$J$26,2,FALSE))))+H6,0) -> 0.14236111 | L6: =IF(COUNTIF(C6,"D"),SUM(K3:K6,fev!K31:K33),0) -> 0
