Workbook
Name pays: #REF!
Name zones_vacances: #REF!

Sheet evt
A1: ne pas modifier ni supprimer cette feuille
A2: {=IF(#REF!="","",#REF!)} -> #REF! | B2: {=IF(#REF!="","",#REF!)} -> #REF! | C2: =IF(A2="","",B2&IFERROR(" "&VLOOKUP(A2,A3:C$1001,3,0),"")) -> #REF!
A3: #REF! | B3: #REF! | C3: =IF(A3="","",B3&IFERROR(" "&VLOOKUP(A3,A4:C$1001,3,0),"")) -> #REF!
A4: #REF! | B4: #REF! | C4: =IF(A4="","",B4&IFERROR(" "&VLOOKUP(A4,A5:C$1001,3,0),"")) -> #REF!
A5: #REF! | B5: #REF! | C5: =IF(A5="","",B5&IFERROR(" "&VLOOKUP(A5,A6:C$1001,3,0),"")) -> #REF!
A6: #REF! | B6: #REF! | C6: =IF(A6="","",B6&IFERROR(" "&VLOOKUP(A6,A7:C$1001,3,0),"")) -> #REF!
A7: #REF! | B7: #REF! | C7: =IF(A7="","",B7&IFERROR(" "&VLOOKUP(A7,A8:C$1001,3,0),"")) -> #REF!
A8: #REF! | B8: #REF! | C8: =IF(A8="","",B8&IFERROR(" "&VLOOKUP(A8,A9:C$1001,3,0),"")) -> #REF!
A9: #REF! | B9: #REF! | C9: =IF(A9="","",B9&IFERROR(" "&VLOOKUP(A9,A10:C$1001,3,0),"")) -> #REF!
A10: #REF! | B10: #REF! | C10: =IF(A10="","",B10&IFERROR(" "&VLOOKUP(A10,A11:C$1001,3,0),"")) -> #REF!
A11: #REF! | B11: #REF! | C11: =IF(A11="","",B11&IFERROR(" "&VLOOKUP(A11,A12:C$1001,3,0),"")) -> #REF!
A12: #REF! | B12: #REF! | C12: =IF(A12="","",B12&IFERROR(" "&VLOOKUP(A12,A13:C$1001,3,0),"")) -> #REF!
A13: #REF! | B13: #REF! | C13: =IF(A13="","",B13&IFERROR(" "&VLOOKUP(A13,A14:C$1001,3,0),"")) -> #REF!
A14: #REF! | B14: #REF! | C14: =IF(A14="","",B14&IFERROR(" "&VLOOKUP(A14,A15:C$1001,3,0),"")) -> #REF!
... A1000: #REF! | B1000: #REF! | C1000: =IF(A1000="","",B1000&IFERROR(" "&VLOOKUP(A1000,A1001:C$1001,3,0),"")) -> #REF!
A1001: #REF! | B1001: #REF! | C1001: =IF(A1001="","",B1001) -> #REF!

Sheet Planning
B2: =IF(B4="","",IFERROR(VLOOKUP(B4,#REF!,2,0)," ")) | C2: =IF(C4="","",IFERROR(VLOOKUP(C4,#REF!,2,0)," ")) | D2: =IF(D4="","",IFERROR(VLOOKUP(D4,#REF!,2,0)," ")) | E2: =IF(E4="","",IFERROR(VLOOKUP(E4,#REF!,2,0)," ")) | F2: =IF(F4="","",IFERROR(VLOOKUP(F4,#REF!,2,0)," ")) | G2: =IF(G4="","",IFERROR(VLOOKUP(G4,#REF!,2,0)," ")) | H2: =IF(H4="","",IFERROR(VLOOKUP(H4,#REF!,2,0)," ")) | I2: =IF(I4="","",IFERROR(VLOOKUP(I4,#REF!,2,0)," ")) | ... AF2: =IF(AF4="","",IFERROR(VLOOKUP(AF4,#REF!,2,0)," ")) | AJ2: =IF(B11="","",IFERROR(VLOOKUP(B11,#REF!,2,0)," ")) | AK2: =IF(C11="","",IFERROR(VLOOKUP(C11,#REF!,2,0)," ")) | AL2: =IF(D11="","",IFERROR(VLOOKUP(D11,#REF!,2,0)," ")) | AM2: =IF(E11="","",IFERROR(VLOOKUP(E11,#REF!,2,0)," ")) | AN2: =IF(F11="","",IFERROR(VLOOKUP(F11,#REF!,2,0)," ")) | AO2: =IF(G11="","",IFERROR(VLOOKUP(G11,#REF!,2,0)," ")) | AP2: =IF(H11="","",IFERROR(VLOOKUP(H11,#REF!,2,0)," ")) | AQ2: =IF(I11="","",IFERROR(VLOOKUP(I11,#REF!,2,0)," ")) | ... BN2: =IF(AF11="","",IFERROR(VLOOKUP(AF11,#REF!,2,0)," ")) | BR2: =IF(B18="","",IFERROR(VLOOKUP(B18,#REF!,2,0)," ")) | BS2: =IF(C18="","",IFERROR(VLOOKUP(C18,#REF!,2,0)," ")) | BT2: =IF(D18="","",IFERROR(VLOOKUP(D18,#REF!,2,0)," ")) | BU2: =IF(E18="","",IFERROR(VLOOKUP(E18,#REF!,2,0)," ")) | BV2: =IF(F18="","",IFERROR(VLOOKUP(F18,#REF!,2,0)," ")) | BW2: =IF(G18="","",IFERROR(VLOOKUP(G18,#REF!,2,0)," ")) | BX2: =IF(H18="","",IFERROR(VLOOKUP(H18,#REF!,2,0)," ")) | BY2: =IF(I18="","",IFERROR(VLOOKUP(I18,#REF!,2,0)," ")) | ... CV2: =IF(AF18="","",IFERROR(VLOOKUP(AF18,#REF!,2,0)," ")) | CZ2: =IF(B25="","",IFERROR(VLOOKUP(B25,#REF!,2,0)," ")) | DA2: =IF(C25="","",IFERROR(VLOOKUP(C25,#REF!,2,0)," ")) | DB2: =IF(D25="","",IFERROR(VLOOKUP(D25,#REF!,2,0)," ")) | DC2: =IF(E25="","",IFERROR(VLOOKUP(E25,#REF!,2,0)," ")) | DD2: =IF(F25="","",IFERROR(VLOOKUP(F25,#REF!,2,0)," ")) | DE2: =IF(G25="","",IFERROR(VLOOKUP(G25,#REF!,2,0)," ")) | DF2: =IF(H25="","",IFERROR(VLOOKUP(H25,#REF!,2,0)," ")) | DG2: =IF(I25="","",IFERROR(VLOOKUP(I25,#REF!,2,0)," ")) | ... ED2: =IF(AF25="","",IFERROR(VLOOKUP(AF25,#REF!,2,0)," ")) | EH2: =IF(B32="","",IFERROR(VLOOKUP(B32,#REF!,2,0)," ")) | EI2: =IF(C32="","",IFERROR(VLOOKUP(C32,#REF!,2,0)," ")) | EJ2: =IF(D32="","",IFERROR(VLOOKUP(D32,#REF!,2,0)," ")) | EK2: =IF(E32="","",IFERROR(VLOOKUP(E32,#REF!,2,0)," ")) | EL2: =IF(F32="","",IFERROR(VLOOKUP(F32,#REF!,2,0)," ")) | EM2: =IF(G32="","",IFERROR(VLOOKUP(G32,#REF!,2,0)," ")) | EN2: =IF(H32="","",IFERROR(VLOOKUP(H32,#REF!,2,0)," ")) | EO2: =IF(I32="","",IFERROR(VLOOKUP(I32,#REF!,2,0)," ")) | ... FL2: =IF(AF32="","",IFERROR(VLOOKUP(AF32,#REF!,2,0)," ")) | FP2: =IF(B39="","",IFERROR(VLOOKUP(B39,#REF!,2,0)," ")) | FQ2: =IF(C39="","",IFERROR(VLOOKUP(C39,#REF!,2,0)," ")) | FR2: =IF(D39="","",IFERROR(VLOOKUP(D39,#REF!,2,0)," ")) | FS2: =IF(E39="","",IFERROR(VLOOKUP(E39,#REF!,2,0)," ")) | FT2: =IF(F39="","",IFERROR(VLOOKUP(F39,#REF!,2,0)," ")) | FU2: =IF(G39="","",IFERROR(VLOOKUP(G39,#REF!,2,0)," ")) | FV2: =IF(H39="","",IFERROR(VLOOKUP(H39,#REF!,2,0)," ")) | FW2: =IF(I39="","",IFERROR(VLOOKUP(I39,#REF!,2,0)," ")) | ... GT2: =IF(AF39="","",IFERROR(VLOOKUP(AF39,#REF!,2,0)," ")) | GX2: =IF(B46="","",IFERROR(VLOOKUP(B46,#REF!,2,0)," ")) | GY2: =IF(C46="","",IFERROR(VLOOKUP(C46,#REF!,2,0)," ")) | GZ2: =IF(D46="","",IFERROR(VLOOKUP(D46,#REF!,2,0)," ")) | HA2: =IF(E46="","",IFERROR(VLOOKUP(E46,#REF!,2,0)," ")) | HB2: =IF(F46="","",IFERROR(VLOOKUP(F46,#REF!,2,0)," ")) | HC2: =IF(G46="","",IFERROR(VLOOKUP(G46,#REF!,2,0)," ")) | HD2: =IF(H46="","",IFERROR(VLOOKUP(H46,#REF!,2,0)," ")) | HE2: =IF(I46="","",IFERROR(VLOOKUP(I46,#REF!,2,0)," ")) | ... IB2: =IF(AF46="","",IFERROR(VLOOKUP(AF46,#REF!,2,0)," ")) | IF2: =IF(B53="","",IFERROR(VLOOKUP(B53,#REF!,2,0)," ")) | IG2: =IF(C53="","",IFERROR(VLOOKUP(C53,#REF!,2,0)," ")) | IH2: =IF(D53="","",IFERROR(VLOOKUP(D53,#REF!,2,0)," ")) | II2: =IF(E53="","",IFERROR(VLOOKUP(E53,#REF!,2,0)," ")) | IJ2: =IF(F53="","",IFERROR(VLOOKUP(F53,#REF!,2,0)," ")) | IK2: =IF(G53="","",IFERROR(VLOOKUP(G53,#REF!,2,0)," ")) | IL2: =IF(H53="","",IFERROR(VLOOKUP(H53,#REF!,2,0)," ")) | IM2: =IF(I53="","",IFERROR(VLOOKUP(I53,#REF!,2,0)," ")) | ... JJ2: =IF(AF53="","",IFERROR(VLOOKUP(AF53,#REF!,2,0)," ")) | JN2: =IF(B60="","",IFERROR(VLOOKUP(B60,#REF!,2,0)," ")) | JO2: =IF(C60="","",IFERROR(VLOOKUP(C60,#REF!,2,0)," ")) | JP2: =IF(D60="","",IFERROR(VLOOKUP(D60,#REF!,2,0)," ")) | JQ2: =IF(E60="","",IFERROR(VLOOKUP(E60,#REF!,2,0)," ")) | JR2: =IF(F60="","",IFERROR(VLOOKUP(F60,#REF!,2,0)," ")) | JS2: =IF(G60="","",IFERROR(VLOOKUP(G60,#REF!,2,0)," ")) | JT2: =IF(H60="","",IFERROR(VLOOKUP(H60,#REF!,2,0)," ")) | JU2: =IF(I60="","",IFERROR(VLOOKUP(I60,#REF!,2,0)," ")) | ... KR2: =IF(AF60="","",IFERROR(VLOOKUP(AF60,#REF!,2,0)," ")) | KV2: =IF(B67="","",IFERROR(VLOOKUP(B67,#REF!,2,0)," ")) | KW2: =IF(C67="","",IFERROR(VLOOKUP(C67,#REF!,2,0)," ")) | KX2: =IF(D67="","",IFERROR(VLOOKUP(D67,#REF!,2,0)," ")) | KY2: =IF(E67="","",IFERROR(VLOOKUP(E67,#REF!,2,0)," ")) | KZ2: =IF(F67="","",IFERROR(VLOOKUP(F67,#REF!,2,0)," ")) | LA2: =IF(G67="","",IFERROR(VLOOKUP(G67,#REF!,2,0)," ")) | LB2: =IF(H67="","",IFERROR(VLOOKUP(H67,#REF!,2,0)," ")) | LC2: =IF(I67="","",IFERROR(VLOOKUP(I67,#REF!,2,0)," ")) | ... LZ2: =IF(AF67="","",IFERROR(VLOOKUP(AF67,#REF!,2,0)," ")) | MD2: =IF(B74="","",IFERROR(VLOOKUP(B74,#REF!,2,0)," ")) | ME2: =IF(C74="","",IFERROR(VLOOKUP(C74,#REF!,2,0)," ")) | MF2: =IF(D74="","",IFERROR(VLOOKUP(D74,#REF!,2,0)," ")) | MG2: =IF(E74="","",IFERROR(VLOOKUP(E74,#REF!,2,0)," ")) | MH2: =IF(F74="","",IFERROR(VLOOKUP(F74,#REF!,2,0)," ")) | MI2: =IF(G74="","",IFERROR(VLOOKUP(G74,#REF!,2,0)," ")) | MJ2: =IF(H74="","",IFERROR(VLOOKUP(H74,#REF!,2,0)," ")) | MK2: =IF(I74="","",IFERROR(VLOOKUP(I74,#REF!,2,0)," ")) | ... NH2: =IF(AF74="","",IFERROR(VLOOKUP(AF74,#REF!,2,0)," ")) | NL2: =IF(B81="","",IFERROR(VLOOKUP(B81,#REF!,2,0)," ")) | NM2: =IF(C81="","",IFERROR(VLOOKUP(C81,#REF!,2,0)," ")) | NN2: =IF(D81="","",IFERROR(VLOOKUP(D81,#REF!,2,0)," ")) | NO2: =IF(E81="","",IFERROR(VLOOKUP(E81,#REF!,2,0)," ")) | NP2: =IF(F81="","",IFERROR(VLOOKUP(F81,#REF!,2,0)," ")) | NQ2: =IF(G81="","",IFERROR(VLOOKUP(G81,#REF!,2,0)," ")) | NR2: =IF(H81="","",IFERROR(VLOOKUP(H81,#REF!,2,0)," ")) | NS2: =IF(I81="","",IFERROR(VLOOKUP(I81,#REF!,2,0)," ")) | ... OP2: =IF(AF81="","",IFERROR(VLOOKUP(AF81,#REF!,2,0)," "))
A3: =B4 -> 44197 | B3: =IF(B4="","",UPPER(LEFT(TEXT(B4,"jjjj"),1))) -> V | C3: =IF(C4="","",UPPER(LEFT(TEXT(C4,"jjjj"),1))) -> S | D3: =IF(D4="","",UPPER(LEFT(TEXT(D4,"jjjj"),1))) -> D | E3: =IF(E4="","",UPPER(LEFT(TEXT(E4,"jjjj"),1))) -> L | F3: =IF(F4="","",UPPER(LEFT(TEXT(F4,"jjjj"),1))) -> M | G3: =IF(G4="","",UPPER(LEFT(TEXT(G4,"jjjj"),1))) -> M | H3: =IF(H4="","",UPPER(LEFT(TEXT(H4,"jjjj"),1))) -> J | I3: =IF(I4="","",UPPER(LEFT(TEXT(I4,"jjjj"),1))) -> V | ... AF3: =IF(AF4="","",UPPER(LEFT(TEXT(AF4,"jjjj"),1))) -> D
B4: =DATE(DATA!$C$5,DATA!$C$3,1) -> 44197 | C4: =IF(B4="","",IF(MONTH(B4)=MONTH(B4+1),B4+1,"")) -> 44198 | D4: =IF(C4="","",IF(MONTH(C4)=MONTH(C4+1),C4+1,"")) -> 44199 | E4: =IF(D4="","",IF(MONTH(D4)=MONTH(D4+1),D4+1,"")) -> 44200 | F4: =IF(E4="","",IF(MONTH(E4)=MONTH(E4+1),E4+1,"")) -> 44201 | G4: =IF(F4="","",IF(MONTH(F4)=MONTH(F4+1),F4+1,"")) -> 44202 | H4: =IF(G4="","",IF(MONTH(G4)=MONTH(G4+1),G4+1,"")) -> 44203 | I4: =IF(H4="","",IF(MONTH(H4)=MONTH(H4+1),H4+1,"")) -> 44204 | J4: =IF(I4="","",IF(MONTH(I4)=MONTH(I4+1),I4+1,"")) -> 44205 | ... AF4: =IF(AE4="","",IF(MONTH(AE4)=MONTH(AE4+1),AE4+1,"")) -> 44227
A5: Alice | B5: j1
A6: Seb | B6: m1 | AG6: TOTAL
A7: TOTAL | B7: =IFERROR((MIN(ABS(VLOOKUP(B5,DATA!$H$3:$J$26,3,FALSE)-VLOOKUP(B6,DATA!$H$3:$J$26,2,FALSE)),ABS(VLOOKUP(B6,DATA!$H$3:$J$26,3,FALSE)-VLOOKUP(B5,DATA!$H$3:$J$26,2,FALSE)))),0) -> 0.26736111 | C7: =IFERROR((MIN(ABS(VLOOKUP(C5,DATA!$H$3:$J$26,3,FALSE)-VLOOKUP(C6,DATA!$H$3:$J$26,2,FALSE)),ABS(VLOOKUP(C6,DATA!$H$3:$J$26,3,FALSE)-VLOOKUP(C5,DATA!$H$3:$J$26,2,FALSE)))),0) -> 0 | D7: =IFERROR((MIN(ABS(VLOOKUP(D5,DATA!$H$3:$J$26,3,FALSE)-VLOOKUP(D6,DATA!$H$3:$J$26,2,FALSE)),ABS(VLOOKUP(D6,DATA!$H$3:$J$26,3,FALSE)-VLOOKUP(D5,DATA!$H$3:$J$26,2,FALSE)))),0) -> 0 | E7: =IFERROR((MIN(ABS(VLOOKUP(E5,DATA!$H$3:$J$26,3,FALSE)-VLOOKUP(E6,DATA!$H$3:$J$26,2,FALSE)),ABS(VLOOKUP(E6,DATA!$H$3:$J$26,3,FALSE)-VLOOKUP(E5,DATA!$H$3:$J$26,2,FALSE)))),0) -> 0 | F7: =IFERROR((MIN(ABS(VLOOKUP(F5,DATA!$H$3:$J$26,3,FALSE)-VLOOKUP(F6,DATA!$H$3:$J$26,2,FALSE)),ABS(VLOOKUP(F6,DATA!$H$3:$J$26,3,FALSE)-VLOOKUP(F5,DATA!$H$3:$J$26,2,FALSE)))),0) -> 0 | G7: =IFERROR((MIN(ABS(VLOOKUP(G5,DATA!$H$3:$J$26,3,FALSE)-VLOOKUP(G6,DATA!$H$3:$J$26,2,FALSE)),ABS(VLOOKUP(G6,DATA!$H$3:$J$26,3,FALSE)-VLOOKUP(G5,DATA!$H$3:$J$26,2,FALSE)))),0) -> 0 | H7: =IFERROR((MIN(ABS(VLOOKUP(H5,DATA!$H$3:$J$26,3,FALSE)-VLOOKUP(H6,DATA!$H$3:$J$26,2,FALSE)),ABS(VLOOKUP(H6,DATA!$H$3:$J$26,3,FALSE)-VLOOKUP(H5,DATA!$H$3:$J$26,2,FALSE)))),0) -> 0 | I7: =IFERROR((MIN(ABS(VLOOKUP(I5,DATA!$H$3:$J$26,3,FALSE)-VLOOKUP(I6,DATA!$H$3:$J$26,2,FALSE)),ABS(VLOOKUP(I6,DATA!$H$3:$J$26,3,FALSE)-VLOOKUP(I5,DATA!$H$3:$J$26,2,FALSE)))),0) -> 0 | ... AF7: =IFERROR((MIN(ABS(VLOOKUP(AF5,DATA!$H$3:$J$26,3,FALSE)-VLOOKUP(AF6,DATA!$H$3:$J$26,2,FALSE)),ABS(VLOOKUP(AF6,DATA!$H$3:$J$26,3,FALSE)-VLOOKUP(AF5,DATA!$H$3:$J$26,2,FALSE)))),0) -> 0 | AG7: =SUM(B7:AF7) -> 0.26736111
A10: =B11 -> 44228 | B10: =IF(B11="","",UPPER(LEFT(TEXT(B11,"jjjj"),1))) -> L | C10: =IF(C11="","",UPPER(LEFT(TEXT(C11,"jjjj"),1))) -> M | D10: =IF(D11="","",UPPER(LEFT(TEXT(D11,"jjjj"),1))) -> M | E10: =IF(E11="","",UPPER(LEFT(TEXT(E11,"jjjj"),1))) -> J | F10: =IF(F11="","",UPPER(LEFT(TEXT(F11,"jjjj"),1))) -> V | G10: =IF(G11="","",UPPER(LEFT(TEXT(G11,"jjjj"),1))) -> S | H10: =IF(H11="","",UPPER(LEFT(TEXT(H11,"jjjj"),1))) -> D | I10: =IF(I11="","",UPPER(LEFT(TEXT(I11,"jjjj"),1))) -> L | ... AF10: =IF(AF11="","",UPPER(LEFT(TEXT(AF11,"jjjj"),1)))
B11: =DATE(YEAR(B4),MONTH(B4)+1, 1) -> 44228 | C11: =IF(B11="","",IF(MONTH(B11)=MONTH(B11+1),B11+1,"")) -> 44229 | D11: =IF(C11="","",IF(MONTH(C11)=MONTH(C11+1),C11+1,"")) -> 44230 | E11: =IF(D11="","",IF(MONTH(D11)=MONTH(D11+1),D11+1,"")) -> 44231 | F11: =IF(E11="","",IF(MONTH(E11)=MONTH(E11+1),E11+1,"")) -> 44232 | G11: =IF(F11="","",IF(MONTH(F11)=MONTH(F11+1),F11+1,"")) -> 44233 | H11: =IF(G11="","",IF(MONTH(G11)=MONTH(G11+1),G11+1,"")) -> 44234 | I11: =IF(H11="","",IF(MONTH(H11)=MONTH(H11+1),H11+1,"")) -> 44235 | J11: =IF(I11="","",IF(MONTH(I11)=MONTH(I11+1),I11+1,"")) -> 44236 | ... AF11: =IF(AE11="","",IF(MONTH(AE11)=MONTH(AE11+1),AE11+1,""))
A12: Alice
A13: Seb | AG13: TOTAL
A14: TOTAL | B14: =IFERROR((MIN(ABS(VLOOKUP(B12,DATA!$H$3:$J$26,3,FALSE)-VLOOKUP(B13,DATA!$H$3:$J$26,2,FALSE)),ABS(VLOOKUP(B13,DATA!$H$3:$J$26,3,FALSE)-VLOOKUP(B12,DATA!$H$3:$J$26,2,FALSE)))),0) -> 0 | C14: =IFERROR((MIN(ABS(VLOOKUP(C12,DATA!$H$3:$J$26,3,FALSE)-VLOOKUP(C13,DATA!$H$3:$J$26,2,FALSE)),ABS(VLOOKUP(C13,DATA!$H$3:$J$26,3,FALSE)-VLOOKUP(C12,DATA!$H$3:$J$26,2,FALSE)))),0) -> 0 | D14: =IFERROR((MIN(ABS(VLOOKUP(D12,DATA!$H$3:$J$26,3,FALSE)-VLOOKUP(D13,DATA!$H$3:$J$26,2,FALSE)),ABS(VLOOKUP(D13,DATA!$H$3:$J$26,3,FALSE)-VLOOKUP(D12,DATA!$H$3:$J$26,2,FALSE)))),0) -> 0 | E14: =IFERROR((MIN(ABS(VLOOKUP(E12,DATA!$H$3:$J$26,3,FALSE)-VLOOKUP(E13,DATA!$H$3:$J$26,2,FALSE)),ABS(VLOOKUP(E13,DATA!$H$3:$J$26,3,FALSE)-VLOOKUP(E12,DATA!$H$3:$J$26,2,FALSE)))),0) -> 0 | F14: =IFERROR((MIN(ABS(VLOOKUP(F12,DATA!$H$3:$J$26,3,FALSE)-VLOOKUP(F13,DATA!$H$3:$J$26,2,FALSE)),ABS(VLOOKUP(F13,DATA!$H$3:$J$26,3,FALSE)-VLOOKUP(F12,DATA!$H$3:$J$26,2,FALSE)))),0) -> 0 | G14: =IFERROR((MIN(ABS(VLOOKUP(G12,DATA!$H$3:$J$26,3,FALSE)-VLOOKUP(G13,DATA!$H$3:$J$26,2,FALSE)),ABS(VLOOKUP(G13,DATA!$H$3:$J$26,3,FALSE)-VLOOKUP(G12,DATA!$H$3:$J$26,2,FALSE)))),0) -> 0 | H14: =IFERROR((MIN(ABS(VLOOKUP(H12,DATA!$H$3:$J$26,3,FALSE)-VLOOKUP(H13,DATA!$H$3:$J$26,2,FALSE)),ABS(VLOOKUP(H13,DATA!$H$3:$J$26,3,FALSE)-VLOOKUP(H12,DATA!$H$3:$J$26,2,FALSE)))),0) -> 0 | I14: =IFERROR((MIN(ABS(VLOOKUP(I12,DATA!$H$3:$J$26,3,FALSE)-VLOOKUP(I13,DATA!$H$3:$J$26,2,FALSE)),ABS(VLOOKUP(I13,DATA!$H$3:$J$26,3,FALSE)-VLOOKUP(I12,DATA!$H$3:$J$26,2,FALSE)))),0) -> 0 | ... AF14: =IFERROR((MIN(ABS(VLOOKUP(AF12,DATA!$H$3:$J$26,3,FALSE)-VLOOKUP(AF13,DATA!$H$3:$J$26,2,FALSE)),ABS(VLOOKUP(AF13,DATA!$H$3:$J$26,3,FALSE)-VLOOKUP(AF12,DATA!$H$3:$J$26,2,FALSE)))),0) -> 0 | AG14: =SUM(B14:AF14) -> 0
A17: =B18 -> 44256 | B17: =IF(B18="","",UPPER(LEFT(TEXT(B18,"jjjj"),1))) -> L | C17: =IF(C18="","",UPPER(LEFT(TEXT(C18,"jjjj"),1))) -> M | D17: =IF(D18="","",UPPER(LEFT(TEXT(D18,"jjjj"),1))) -> M | E17: =IF(E18="","",UPPER(LEFT(TEXT(E18,"jjjj"),1))) -> J | F17: =IF(F18="","",UPPER(LEFT(TEXT(F18,"jjjj"),1))) -> V | G17: =IF(G18="","",UPPER(LEFT(TEXT(G18,"jjjj"),1))) -> S | H17: =IF(H18="","",UPPER(LEFT(TEXT(H18,"jjjj"),1))) -> D | I17: =IF(I18="","",UPPER(LEFT(TEXT(I18,"jjjj"),1))) -> L | ... AF17: =IF(AF18="","",UPPER(LEFT(TEXT(AF18,"jjjj"),1))) -> M
B18: =DATE(YEAR(B11),MONTH(B11)+1, 1) -> 44256 | C18: =IF(B18="","",IF(MONTH(B18)=MONTH(B18+1),B18+1,"")) -> 44257 | D18: =IF(C18="","",IF(MONTH(C18)=MONTH(C18+1),C18+1,"")) -> 44258 | E18: =IF(D18="","",IF(MONTH(D18)=MONTH(D18+1),D18+1,"")) -> 44259 | F18: =IF(E18="","",IF(MONTH(E18)=MONTH(E18+1),E18+1,"")) -> 44260 | G18: =IF(F18="","",IF(MONTH(F18)=MONTH(F18+1),F18+1,"")) -> 44261 | H18: =IF(G18="","",IF(MONTH(G18)=MONTH(G18+1),G18+1,"")) -> 44262 | I18: =IF(H18="","",IF(MONTH(H18)=MONTH(H18+1),H18+1,"")) -> 44263 | J18: =IF(I18="","",IF(MONTH(I18)=MONTH(I18+1),I18+1,"")) -> 44264 | ... AF18: =IF(AE18="","",IF(MONTH(AE18)=MONTH(AE18+1),AE18+1,"")) -> 44286
A19: Alice
A20: Seb | AG20: TOTAL
A21: TOTAL | B21: =IFERROR((MIN(ABS(VLOOKUP(B19,DATA!$H$3:$J$26,3,FALSE)-VLOOKUP(B20,DATA!$H$3:$J$26,2,FALSE)),ABS(VLOOKUP(B20,DATA!$H$3:$J$26,3,FALSE)-VLOOKUP(B19,DATA!$H$3:$J$26,2,FALSE)))),0) -> 0 | C21: =IFERROR((MIN(ABS(VLOOKUP(C19,DATA!$H$3:$J$26,3,FALSE)-VLOOKUP(C20,DATA!$H$3:$J$26,2,FALSE)),ABS(VLOOKUP(C20,DATA!$H$3:$J$26,3,FALSE)-VLOOKUP(C19,DATA!$H$3:$J$26,2,FALSE)))),0) -> 0 | D21: =IFERROR((MIN(ABS(VLOOKUP(D19,DATA!$H$3:$J$26,3,FALSE)-VLOOKUP(D20,DATA!$H$3:$J$26,2,FALSE)),ABS(VLOOKUP(D20,DATA!$H$3:$J$26,3,FALSE)-VLOOKUP(D19,DATA!$H$3:$J$26,2,FALSE)))),0) -> 0 | E21: =IFERROR((MIN(ABS(VLOOKUP(E19,DATA!$H$3:$J$26,3,FALSE)-VLOOKUP(E20,DATA!$H$3:$J$26,2,FALSE)),ABS(VLOOKUP(E20,DATA!$H$3:$J$26,3,FALSE)-VLOOKUP(E19,DATA!$H$3:$J$26,2,FALSE)))),0) -> 0 | F21: =IFERROR((MIN(ABS(VLOOKUP(F19,DATA!$H$3:$J$26,3,FALSE)-VLOOKUP(F20,DATA!$H$3:$J$26,2,FALSE)),ABS(VLOOKUP(F20,DATA!$H$3:$J$26,3,FALSE)-VLOOKUP(F19,DATA!$H$3:$J$26,2,FALSE)))),0) -> 0 | G21: =IFERROR((MIN(ABS(VLOOKUP(G19,DATA!$H$3:$J$26,3,FALSE)-VLOOKUP(G20,DATA!$H$3:$J$26,2,FALSE)),ABS(VLOOKUP(G20,DATA!$H$3:$J$26,3,FALSE)-VLOOKUP(G19,DATA!$H$3:$J$26,2,FALSE)))),0) -> 0 | H21: =IFERROR((MIN(ABS(VLOOKUP(H19,DATA!$H$3:$J$26,3,FALSE)-VLOOKUP(H20,DATA!$H$3:$J$26,2,FALSE)),ABS(VLOOKUP(H20,DATA!$H$3:$J$26,3,FALSE)-VLOOKUP(H19,DATA!$H$3:$J$26,2,FALSE)))),0) -> 0 | I21: =IFERROR((MIN(ABS(VLOOKUP(I19,DATA!$H$3:$J$26,3,FALSE)-VLOOKUP(I20,DATA!$H$3:$J$26,2,FALSE)),ABS(VLOOKUP(I20,DATA!$H$3:$J$26,3,FALSE)-VLOOKUP(I19,DATA!$H$3:$J$26,2,FALSE)))),0) -> 0 | ... AF21: =IFERROR((MIN(ABS(VLOOKUP(AF19,DATA!$H$3:$J$26,3,FALSE)-VLOOKUP(AF20,DATA!$H$3:$J$26,2,FALSE)),ABS(VLOOKUP(AF20,DATA!$H$3:$J$26,3,FALSE)-VLOOKUP(AF19,DATA!$H$3:$J$26,2,FALSE)))),0) -> 0 | AG21: =SUM(B21:AF21) -> 0
A24: =B25 -> 44287 | B24: =IF(B25="","",UPPER(LEFT(TEXT(B25,"jjjj"),1))) -> J | C24: =IF(C25="","",UPPER(LEFT(TEXT(C25,"jjjj"),1))) -> V | D24: =IF(D25="","",UPPER(LEFT(TEXT(D25,"jjjj"),1))) -> S | E24: =IF(E25="","",UPPER(LEFT(TEXT(E25,"jjjj"),1))) -> D | F24: =IF(F25="","",UPPER(LEFT(TEXT(F25,"jjjj"),1))) -> L | G24: =IF(G25="","",UPPER(LEFT(TEXT(G25,"jjjj"),1))) -> M | H24: =IF(H25="","",UPPER(LEFT(TEXT(H25,"jjjj"),1))) -> M | I24: =IF(I25="","",UPPER(LEFT(TEXT(I25,"jjjj"),1))) -> J | ... AF24: =IF(AF25="","",UPPER(LEFT(TEXT(AF25,"jjjj"),1)))
B25: =DATE(YEAR(B18),MONTH(B18)+1, 1) -> 44287 | C25: =IF(B25="","",IF(MONTH(B25)=MONTH(B25+1),B25+1,"")) -> 44288 | D25: =IF(C25="","",IF(MONTH(C25)=MONTH(C25+1),C25+1,"")) -> 44289 | E25: =IF(D25="","",IF(MONTH(D25)=MONTH(D25+1),D25+1,"")) -> 44290 | F25: =IF(E25="","",IF(MONTH(E25)=MONTH(E25+1),E25+1,"")) -> 44291 | G25: =IF(F25="","",IF(MONTH(F25)=MONTH(F25+1),F25+1,"")) -> 44292 | H25: =IF(G25="","",IF(MONTH(G25)=MONTH(G25+1),G25+1,"")) -> 44293 | I25: =IF(H25="","",IF(MONTH(H25)=MONTH(H25+1),H25+1,"")) -> 44294 | J25: =IF(I25="","",IF(MONTH(I25)=MONTH(I25+1),I25+1,"")) -> 44295 | ... AF25: =IF(AE25="","",IF(MONTH(AE25)=MONTH(AE25+1),AE25+1,""))
A26: Alice
A27: Seb | AG27: TOTAL
A28: TOTAL | B28: =IFERROR((MIN(ABS(VLOOKUP(B26,DATA!$H$3:$J$26,3,FALSE)-VLOOKUP(B27,DATA!$H$3:$J$26,2,FALSE)),ABS(VLOOKUP(B27,DATA!$H$3:$J$26,3,FALSE)-VLOOKUP(B26,DATA!$H$3:$J$26,2,FALSE)))),0) -> 0 | C28: =IFERROR((MIN(ABS(VLOOKUP(C26,DATA!$H$3:$J$26,3,FALSE)-VLOOKUP(C27,DATA!$H$3:$J$26,2,FALSE)),ABS(VLOOKUP(C27,DATA!$H$3:$J$26,3,FALSE)-VLOOKUP(C26,DATA!$H$3:$J$26,2,FALSE)))),0) -> 0 | D28: =IFERROR((MIN(ABS(VLOOKUP(D26,DATA!$H$3:$J$26,3,FALSE)-VLOOKUP(D27,DATA!$H$3:$J$26,2,FALSE)),ABS(VLOOKUP(D27,DATA!$H$3:$J$26,3,FALSE)-VLOOKUP(D26,DATA!$H$3:$J$26,2,FALSE)))),0) -> 0 | E28: =IFERROR((MIN(ABS(VLOOKUP(E26,DATA!$H$3:$J$26,3,FALSE)-VLOOKUP(E27,DATA!$H$3:$J$26,2,FALSE)),ABS(VLOOKUP(E27,DATA!$H$3:$J$26,3,FALSE)-VLOOKUP(E26,DATA!$H$3:$J$26,2,FALSE)))),0) -> 0 | F28: =IFERROR((MIN(ABS(VLOOKUP(F26,DATA!$H$3:$J$26,3,FALSE)-VLOOKUP(F27,DATA!$H$3:$J$26,2,FALSE)),ABS(VLOOKUP(F27,DATA!$H$3:$J$26,3,FALSE)-VLOOKUP(F26,DATA!$H$3:$J$26,2,FALSE)))),0) -> 0 | G28: =IFERROR((MIN(ABS(VLOOKUP(G26,DATA!$H$3:$J$26,3,FALSE)-VLOOKUP(G27,DATA!$H$3:$J$26,2,FALSE)),ABS(VLOOKUP(G27,DATA!$H$3:$J$26,3,FALSE)-VLOOKUP(G26,DATA!$H$3:$J$26,2,FALSE)))),0) -> 0 | H28: =IFERROR((MIN(ABS(VLOOKUP(H26,DATA!$H$3:$J$26,3,FALSE)-VLOOKUP(H27,DATA!$H$3:$J$26,2,FALSE)),ABS(VLOOKUP(H27,DATA!$H$3:$J$26,3,FALSE)-VLOOKUP(H26,DATA!$H$3:$J$26,2,FALSE)))),0) -> 0 | I28: =IFERROR((MIN(ABS(VLOOKUP(I26,DATA!$H$3:$J$26,3,FALSE)-VLOOKUP(I27,DATA!$H$3:$J$26,2,FALSE)),ABS(VLOOKUP(I27,DATA!$H$3:$J$26,3,FALSE)-VLOOKUP(I26,DATA!$H$3:$J$26,2,FALSE)))),0) -> 0 | ... AF28: =IFERROR((MIN(ABS(VLOOKUP(AF26,DATA!$H$3:$J$26,3,FALSE)-VLOOKUP(AF27,DATA!$H$3:$J$26,2,FALSE)),ABS(VLOOKUP(AF27,DATA!$H$3:$J$26,3,FALSE)-VLOOKUP(AF26,DATA!$H$3:$J$26,2,FALSE)))),0) -> 0 | AG28: =SUM(B28:AF28) -> 0
A31: =B32 -> 44317 | B31: =IF(B32="","",UPPER(LEFT(TEXT(B32,"jjjj"),1))) -> S | C31: =IF(C32="","",UPPER(LEFT(TEXT(C32,"jjjj"),1))) -> D | D31: =IF(D32="","",UPPER(LEFT(TEXT(D32,"jjjj"),1))) -> L | E31: =IF(E32="","",UPPER(LEFT(TEXT(E32,"jjjj"),1))) -> M | F31: =IF(F32="","",UPPER(LEFT(TEXT(F32,"jjjj"),1))) -> M | G31: =IF(G32="","",UPPER(LEFT(TEXT(G32,"jjjj"),1))) -> J | H31: =IF(H32="","",UPPER(LEFT(TEXT(H32,"jjjj"),1))) -> V | I31: =IF(I32="","",UPPER(LEFT(TEXT(I32,"jjjj"),1))) -> S | ... AF31: =IF(AF32="","",UPPER(LEFT(TEXT(AF32,"jjjj"),1))) -> L
B32: =DATE(YEAR(B25),MONTH(B25)+1, 1) -> 44317 | C32: =IF(B32="","",IF(MONTH(B32)=MONTH(B32+1),B32+1,"")) -> 44318 | D32: =IF(C32="","",IF(MONTH(C32)=MONTH(C32+1),C32+1,"")) -> 44319 | E32: =IF(D32="","",IF(MONTH(D32)=MONTH(D32+1),D32+1,"")) -> 44320 | F32: =IF(E32="","",IF(MONTH(E32)=MONTH(E32+1),E32+1,"")) -> 44321 | G32: =IF(F32="","",IF(MONTH(F32)=MONTH(F32+1),F32+1,"")) -> 44322 | H32: =IF(G32="","",IF(MONTH(G32)=MONTH(G32+1),G32+1,"")) -> 44323 | I32: =IF(H32="","",IF(MONTH(H32)=MONTH(H32+1),H32+1,"")) -> 44324 | J32: =IF(I32="","",IF(MONTH(I32)=MONTH(I32+1),I32+1,"")) -> 44325 | ... AF32: =IF(AE32="","",IF(MONTH(AE32)=MONTH(AE32+1),AE32+1,"")) -> 44347
A33: Alice
A34: Seb | AG34: TOTAL
A35: TOTAL | B35: =IFERROR((MIN(ABS(VLOOKUP(B33,DATA!$H$3:$J$26,3,FALSE)-VLOOKUP(B34,DATA!$H$3:$J$26,2,FALSE)),ABS(VLOOKUP(B34,DATA!$H$3:$J$26,3,FALSE)-VLOOKUP(B33,DATA!$H$3:$J$26,2,FALSE)))),0) -> 0 | C35: =IFERROR((MIN(ABS(VLOOKUP(C33,DATA!$H$3:$J$26,3,FALSE)-VLOOKUP(C34,DATA!$H$3:$J$26,2,FALSE)),ABS(VLOOKUP(C34,DATA!$H$3:$J$26,3,FALSE)-VLOOKUP(C33,DATA!$H$3:$J$26,2,FALSE)))),0) -> 0 | D35: =IFERROR((MIN(ABS(VLOOKUP(D33,DATA!$H$3:$J$26,3,FALSE)-VLOOKUP(D34,DATA!$H$3:$J$26,2,FALSE)),ABS(VLOOKUP(D34,DATA!$H$3:$J$26,3,FALSE)-VLOOKUP(D33,DATA!$H$3:$J$26,2,FALSE)))),0) -> 0 | E35: =IFERROR((MIN(ABS(VLOOKUP(E33,DATA!$H$3:$J$26,3,FALSE)-VLOOKUP(E34,DATA!$H$3:$J$26,2,FALSE)),ABS(VLOOKUP(E34,DATA!$H$3:$J$26,3,FALSE)-VLOOKUP(E33,DATA!$H$3:$J$26,2,FALSE)))),0) -> 0 | F35: =IFERROR((MIN(ABS(VLOOKUP(F33,DATA!$H$3:$J$26,3,FALSE)-VLOOKUP(F34,DATA!$H$3:$J$26,2,FALSE)),ABS(VLOOKUP(F34,DATA!$H$3:$J$26,3,FALSE)-VLOOKUP(F33,DATA!$H$3:$J$26,2,FALSE)))),0) -> 0 | G35: =IFERROR((MIN(ABS(VLOOKUP(G33,DATA!$H$3:$J$26,3,FALSE)-VLOOKUP(G34,DATA!$H$3:$J$26,2,FALSE)),ABS(VLOOKUP(G34,DATA!$H$3:$J$26,3,FALSE)-VLOOKUP(G33,DATA!$H$3:$J$26,2,FALSE)))),0) -> 0 | H35: =IFERROR((MIN(ABS(VLOOKUP(H33,DATA!$H$3:$J$26,3,FALSE)-VLOOKUP(H34,DATA!$H$3:$J$26,2,FALSE)),ABS(VLOOKUP(H34,DATA!$H$3:$J$26,3,FALSE)-VLOOKUP(H33,DATA!$H$3:$J$26,2,FALSE)))),0) -> 0 | I35: =IFERROR((MIN(ABS(VLOOKUP(I33,DATA!$H$3:$J$26,3,FALSE)-VLOOKUP(I34,DATA!$H$3:$J$26,2,FALSE)),ABS(VLOOKUP(I34,DATA!$H$3:$J$26,3,FALSE)-VLOOKUP(I33,DATA!$H$3:$J$26,2,FALSE)))),0) -> 0 | ... AF35: =IFERROR((MIN(ABS(VLOOKUP(AF33,DATA!$H$3:$J$26,3,FALSE)-VLOOKUP(AF34,DATA!$H$3:$J$26,2,FALSE)),ABS(VLOOKUP(AF34,DATA!$H$3:$J$26,3,FALSE)-VLOOKUP(AF33,DATA!$H$3:$J$26,2,FALSE)))),0) -> 0 | AG35: =SUM(B35:AF35) -> 0
A38: =B39 -> 44348 | B38: =IF(B39="","",UPPER(LEFT(TEXT(B39,"jjjj"),1))) -> M | C38: =IF(C39="","",UPPER(LEFT(TEXT(C39,"jjjj"),1))) -> M | D38: =IF(D39="","",UPPER(LEFT(TEXT(D39,"jjjj"),1))) -> J | E38: =IF(E39="","",UPPER(LEFT(TEXT(E39,"jjjj"),1))) -> V | F38: =IF(F39="","",UPPER(LEFT(TEXT(F39,"jjjj"),1))) -> S | G38: =IF(G39="","",UPPER(LEFT(TEXT(G39,"jjjj"),1))) -> D | H38: =IF(H39="","",UPPER(LEFT(TEXT(H39,"jjjj"),1))) -> L | I38: =IF(I39="","",UPPER(LEFT(TEXT(I39,"jjjj"),1))) -> M | ... AF38: =IF(AF39="","",UPPER(LEFT(TEXT(AF39,"jjjj"),1)))
B39: =DATE(YEAR(B32),MONTH(B32)+1, 1) -> 44348 | C39: =IF(B39="","",IF(MONTH(B39)=MONTH(B39+1),B39+1,"")) -> 44349 | D39: =IF(C39="","",IF(MONTH(C39)=MONTH(C39+1),C39+1,"")) -> 44350 | E39: =IF(D39="","",IF(MONTH(D39)=MONTH(D39+1),D39+1,"")) -> 44351 | F39: =IF(E39="","",IF(MONTH(E39)=MONTH(E39+1),E39+1,"")) -> 44352 | G39: =IF(F39="","",IF(MONTH(F39)=MONTH(F39+1),F39+1,"")) -> 44353 | H39: =IF(G39="","",IF(MONTH(G39)=MONTH(G39+1),G39+1,"")) -> 44354 | I39: =IF(H39="","",IF(MONTH(H39)=MONTH(H39+1),H39+1,"")) -> 44355 | J39: =IF(I39="","",IF(MONTH(I39)=MONTH(I39+1),I39+1,"")) -> 44356 | ... AF39: =IF(AE39="","",IF(MONTH(AE39)=MONTH(AE39+1),AE39+1,""))
A40: Alice
A41: Seb | AG41: TOTAL
A42: TOTAL | B42: =IFERROR((MIN(ABS(VLOOKUP(B40,DATA!$H$3:$J$26,3,FALSE)-VLOOKUP(B41,DATA!$H$3:$J$26,2,FALSE)),ABS(VLOOKUP(B41,DATA!$H$3:$J$26,3,FALSE)-VLOOKUP(B40,DATA!$H$3:$J$26,2,FALSE)))),0) -> 0 | C42: =IFERROR((MIN(ABS(VLOOKUP(C40,DATA!$H$3:$J$26,3,FALSE)-VLOOKUP(C41,DATA!$H$3:$J$26,2,FALSE)),ABS(VLOOKUP(C41,DATA!$H$3:$J$26,3,FALSE)-VLOOKUP(C40,DATA!$H$3:$J$26,2,FALSE)))),0) -> 0 | D42: =IFERROR((MIN(ABS(VLOOKUP(D40,DATA!$H$3:$J$26,3,FALSE)-VLOOKUP(D41,DATA!$H$3:$J$26,2,FALSE)),ABS(VLOOKUP(D41,DATA!$H$3:$J$26,3,FALSE)-VLOOKUP(D40,DATA!$H$3:$J$26,2,FALSE)))),0) -> 0 | E42: =IFERROR((MIN(ABS(VLOOKUP(E40,DATA!$H$3:$J$26,3,FALSE)-VLOOKUP(E41,DATA!$H$3:$J$26,2,FALSE)),ABS(VLOOKUP(E41,DATA!$H$3:$J$26,3,FALSE)-VLOOKUP(E40,DATA!$H$3:$J$26,2,FALSE)))),0) -> 0 | F42: =IFERROR((MIN(ABS(VLOOKUP(F40,DATA!$H$3:$J$26,3,FALSE)-VLOOKUP(F41,DATA!$H$3:$J$26,2,FALSE)),ABS(VLOOKUP(F41,DATA!$H$3:$J$26,3,FALSE)-VLOOKUP(F40,DATA!$H$3:$J$26,2,FALSE)))),0) -> 0 | G42: =IFERROR((MIN(ABS(VLOOKUP(G40,DATA!$H$3:$J$26,3,FALSE)-VLOOKUP(G41,DATA!$H$3:$J$26,2,FALSE)),ABS(VLOOKUP(G41,DATA!$H$3:$J$26,3,FALSE)-VLOOKUP(G40,DATA!$H$3:$J$26,2,FALSE)))),0) -> 0 | H42: =IFERROR((MIN(ABS(VLOOKUP(H40,DATA!$H$3:$J$26,3,FALSE)-VLOOKUP(H41,DATA!$H$3:$J$26,2,FALSE)),ABS(VLOOKUP(H41,DATA!$H$3:$J$26,3,FALSE)-VLOOKUP(H40,DATA!$H$3:$J$26,2,FALSE)))),0) -> 0 | I42: =IFERROR((MIN(ABS(VLOOKUP(I40,DATA!$H$3:$J$26,3,FALSE)-VLOOKUP(I41,DATA!$H$3:$J$26,2,FALSE)),ABS(VLOOKUP(I41,DATA!$H$3:$J$26,3,FALSE)-VLOOKUP(I40,DATA!$H$3:$J$26,2,FALSE)))),0) -> 0 | ... AF42: =IFERROR((MIN(ABS(VLOOKUP(AF40,DATA!$H$3:$J$26,3,FALSE)-VLOOKUP(AF41,DATA!$H$3:$J$26,2,FALSE)),ABS(VLOOKUP(AF41,DATA!$H$3:$J$26,3,FALSE)-VLOOKUP(AF40,DATA!$H$3:$J$26,2,FALSE)))),0) -> 0 | AG42: =SUM(B42:AF42) -> 0
A45: =B46 -> 44378 | B45: =IF(B46="","",UPPER(LEFT(TEXT(B46,"jjjj"),1))) -> J | C45: =IF(C46="","",UPPER(LEFT(TEXT(C46,"jjjj"),1))) -> V | D45: =IF(D46="","",UPPER(LEFT(TEXT(D46,"jjjj"),1))) -> S | E45: =IF(E46="","",UPPER(LEFT(TEXT(E46,"jjjj"),1))) -> D | F45: =IF(F46="","",UPPER(LEFT(TEXT(F46,"jjjj"),1))) -> L | G45: =IF(G46="","",UPPER(LEFT(TEXT(G46,"jjjj"),1))) -> M | H45: =IF(H46="","",UPPER(LEFT(TEXT(H46,"jjjj"),1))) -> M | I45: =IF(I46="","",UPPER(LEFT(TEXT(I46,"jjjj"),1))) -> J | ... AF45: =IF(AF46="","",UPPER(LEFT(TEXT(AF46,"jjjj"),1))) -> S
B46: =DATE(YEAR(B39),MONTH(B39)+1, 1) -> 44378 | C46: =IF(B46="","",IF(MONTH(B46)=MONTH(B46+1),B46+1,"")) -> 44379 | D46: =IF(C46="","",IF(MONTH(C46)=MONTH(C46+1),C46+1,"")) -> 44380 | E46: =IF(D46="","",IF(MONTH(D46)=MONTH(D46+1),D46+1,"")) -> 44381 | F46: =IF(E46="","",IF(MONTH(E46)=MONTH(E46+1),E46+1,"")) -> 44382 | G46: =IF(F46="","",IF(MONTH(F46)=MONTH(F46+1),F46+1,"")) -> 44383 | H46: =IF(G46="","",IF(MONTH(G46)=MONTH(G46+1),G46+1,"")) -> 44384 | I46: =IF(H46="","",IF(MONTH(H46)=MONTH(H46+1),H46+1,"")) -> 44385 | J46: =IF(I46="","",IF(MONTH(I46)=MONTH(I46+1),I46+1,"")) -> 44386 | ... AF46: =IF(AE46="","",IF(MONTH(AE46)=MONTH(AE46+1),AE46+1,"")) -> 44408
A47: Alice
A48: Seb | AG48: TOTAL
A49: TOTAL | B49: =IFERROR((MIN(ABS(VLOOKUP(B47,DATA!$H$3:$J$26,3,FALSE)-VLOOKUP(B48,DATA!$H$3:$J$26,2,FALSE)),ABS(VLOOKUP(B48,DATA!$H$3:$J$26,3,FALSE)-VLOOKUP(B47,DATA!$H$3:$J$26,2,FALSE)))),0) -> 0 | C49: =IFERROR((MIN(ABS(VLOOKUP(C47,DATA!$H$3:$J$26,3,FALSE)-VLOOKUP(C48,DATA!$H$3:$J$26,2,FALSE)),ABS(VLOOKUP(C48,DATA!$H$3:$J$26,3,FALSE)-VLOOKUP(C47,DATA!$H$3:$J$26,2,FALSE)))),0) -> 0 | D49: =IFERROR((MIN(ABS(VLOOKUP(D47,DATA!$H$3:$J$26,3,FALSE)-VLOOKUP(D48,DATA!$H$3:$J$26,2,FALSE)),ABS(VLOOKUP(D48,DATA!$H$3:$J$26,3,FALSE)-VLOOKUP(D47,DATA!$H$3:$J$26,2,FALSE)))),0) -> 0 | E49: =IFERROR((MIN(ABS(VLOOKUP(E47,DATA!$H$3:$J$26,3,FALSE)-VLOOKUP(E48,DATA!$H$3:$J$26,2,FALSE)),ABS(VLOOKUP(E48,DATA!$H$3:$J$26,3,FALSE)-VLOOKUP(E47,DATA!$H$3:$J$26,2,FALSE)))),0) -> 0 | F49: =IFERROR((MIN(ABS(VLOOKUP(F47,DATA!$H$3:$J$26,3,FALSE)-VLOOKUP(F48,DATA!$H$3:$J$26,2,FALSE)),ABS(VLOOKUP(F48,DATA!$H$3:$J$26,3,FALSE)-VLOOKUP(F47,DATA!$H$3:$J$26,2,FALSE)))),0) -> 0 | G49: =IFERROR((MIN(ABS(VLOOKUP(G47,DATA!$H$3:$J$26,3,FALSE)-VLOOKUP(G48,DATA!$H$3:$J$26,2,FALSE)),ABS(VLOOKUP(G48,DATA!$H$3:$J$26,3,FALSE)-VLOOKUP(G47,DATA!$H$3:$J$26,2,FALSE)))),0) -> 0 | H49: =IFERROR((MIN(ABS(VLOOKUP(H47,DATA!$H$3:$J$26,3,FALSE)-VLOOKUP(H48,DATA!$H$3:$J$26,2,FALSE)),ABS(VLOOKUP(H48,DATA!$H$3:$J$26,3,FALSE)-VLOOKUP(H47,DATA!$H$3:$J$26,2,FALSE)))),0) -> 0 | I49: =IFERROR((MIN(ABS(VLOOKUP(I47,DATA!$H$3:$J$26,3,FALSE)-VLOOKUP(I48,DATA!$H$3:$J$26,2,FALSE)),ABS(VLOOKUP(I48,DATA!$H$3:$J$26,3,FALSE)-VLOOKUP(I47,DATA!$H$3:$J$26,2,FALSE)))),0) -> 0 | ... AF49: =IFERROR((MIN(ABS(VLOOKUP(AF47,DATA!$H$3:$J$26,3,FALSE)-VLOOKUP(AF48,DATA!$H$3:$J$26,2,FALSE)),ABS(VLOOKUP(AF48,DATA!$H$3:$J$26,3,FALSE)-VLOOKUP(AF47,DATA!$H$3:$J$26,2,FALSE)))),0) -> 0 | AG49: =SUM(B49:AF49) -> 0
A52: =B53 -> 44409 | B52: =IF(B53="","",UPPER(LEFT(TEXT(B53,"jjjj"),1))) -> D | C52: =IF(C53="","",UPPER(LEFT(TEXT(C53,"jjjj"),1))) -> L | D52: =IF(D53="","",UPPER(LEFT(TEXT(D53,"jjjj"),1))) -> M | E52: =IF(E53="","",UPPER(LEFT(TEXT(E53,"jjjj"),1))) -> M | F52: =IF(F53="","",UPPER(LEFT(TEXT(F53,"jjjj"),1))) -> J | G52: =IF(G53="","",UPPER(LEFT(TEXT(G53,"jjjj"),1))) -> V | H52: =IF(H53="","",UPPER(LEFT(TEXT(H53,"jjjj"),1))) -> S | I52: =IF(I53="","",UPPER(LEFT(TEXT(I53,"jjjj"),1))) -> D | ... AF52: =IF(AF53="","",UPPER(LEFT(TEXT(AF53,"jjjj"),1))) -> M
B53: =DATE(YEAR(B46),MONTH(B46)+1, 1) -> 44409 | C53: =IF(B53="","",IF(MONTH(B53)=MONTH(B53+1),B53+1,"")) -> 44410 | D53: =IF(C53="","",IF(MONTH(C53)=MONTH(C53+1),C53+1,"")) -> 44411 | E53: =IF(D53="","",IF(MONTH(D53)=MONTH(D53+1),D53+1,"")) -> 44412 | F53: =IF(E53="","",IF(MONTH(E53)=MONTH(E53+1),E53+1,"")) -> 44413 | G53: =IF(F53="","",IF(MONTH(F53)=MONTH(F53+1),F53+1,"")) -> 44414 | H53: =IF(G53="","",IF(MONTH(G53)=MONTH(G53+1),G53+1,"")) -> 44415 | I53: =IF(H53="","",IF(MONTH(H53)=MONTH(H53+1),H53+1,"")) -> 44416 | J53: =IF(I53="","",IF(MONTH(I53)=MONTH(I53+1),I53+1,"")) -> 44417 | ... AF53: =IF(AE53="","",IF(MONTH(AE53)=MONTH(AE53+1),AE53+1,"")) -> 44439
A54: Alice
A55: Seb | AG55: TOTAL
...

Sheet DATA
B2: le calendrier commence au mois n° | F2: Horraire de travail possible : | H2: code horaire : | I2: je pose mon enfant a : | J2: je le récupère a :
C3: 1
C4: de l'année : | F4: 8h | G4: 16h | H4: J1 | I4: 0.29513889 | J4: 0.6875
C5: 2021 | F5: 8h | G5: 15h30 | H5: J2 | I5: 0.29513889 | J5: 0.70833333
F6: 8h | G6: 15h | H6: J3 | I6: 0.29513889 | J6: 0.64583333
F7: 8h | G7: 15h30 | H7: J4 | I7: 0.29513889 | J7: 0.66666667
F8: 13h | G8: 21h | H8: S1 | I8: 0.50347222 | J8: 0.89583333
F9: 13h | G9: 20h | H9: S2 | I9: 0.50347222 | J9: 0.85416667
F10: 12h | G10: 19h | H10: S3 | I10: 0.46180556 | J10: 0.8125
F11: 13h | G11: 20h30 | H11: S4 | I11: 0.50347222 | J11: 0.875
F12: 5h | G12: 13h | H12: M1 | I12: 0.17013889 | J12: 0.5625
F13: 6h | G13: 14h | H13: M2 | I13: 0.21527778 | J13: 0.60416667
F14: 6h | G14: 13h | H14: M3 | I14: 0.21527778 | J14: 0.5625
F15: 5h | G15: 12h | H15: M4 | I15: 0.17013889 | J15: 0.52083333
F16: 6h | G16: 13h30 | H16: M5 | I16: 0.21527778 | J16: 0.58333333
F17: 21h | G17: 5h | H17: N1 | I17: 0.83680556 | J17: 0.22916667
F18: 19h | G18: 2h | H18: N2 | I18: 0.75347222 | J18: 0.10416667
