Workbook
Name pays: #REF!
Name zones_vacances: #REF!

Sheet evt
A1: ne pas modifier ni supprimer cette feuille
A2: {=IF(#REF!="","",#REF!)} -> #REF! | B2: {=IF(#REF!="","",#REF!)} -> #REF! | C2: =IF(A2="","",B2&IFERROR(" "&VLOOKUP(A2,A3:C$1001,3,0),"")) -> #REF!
A3: #REF! | B3: #REF! | C3: =IF(A3="","",B3&IFERROR(" "&VLOOKUP(A3,A4:C$1001,3,0),"")) -> #REF!
A4: #REF! | B4: #REF! | C4: =IF(A4="","",B4&IFERROR(" "&VLOOKUP(A4,A5:C$1001,3,0),"")) -> #REF!
A5: #REF! | B5: #REF! | C5: =IF(A5="","",B5&IFERROR(" "&VLOOKUP(A5,A6:C$1001,3,0),"")) -> #REF!
A6: #REF! | B6: #REF! | C6: =IF(A6="","",B6&IFERROR(" "&VLOOKUP(A6,A7:C$1001,3,0),"")) -> #REF!
A7: #REF! | B7: #REF! | C7: =IF(A7="","",B7&IFERROR(" "&VLOOKUP(A7,A8:C$1001,3,0),"")) -> #REF!
A8: #REF! | B8: #REF! | C8: =IF(A8="","",B8&IFERROR(" "&VLOOKUP(A8,A9:C$1001,3,0),"")) -> #REF!
A9: #REF! | B9: #REF! | C9: =IF(A9="","",B9&IFERROR(" "&VLOOKUP(A9,A10:C$1001,3,0),"")) -> #REF!
A10: #REF! | B10: #REF! | C10: =IF(A10="","",B10&IFERROR(" "&VLOOKUP(A10,A11:C$1001,3,0),"")) -> #REF!
A11: #REF! | B11: #REF! | C11: =IF(A11="","",B11&IFERROR(" "&VLOOKUP(A11,A12:C$1001,3,0),"")) -> #REF!
A12: #REF! | B12: #REF! | C12: =IF(A12="","",B12&IFERROR(" "&VLOOKUP(A12,A13:C$1001,3,0),"")) -> #REF!
A13: #REF! | B13: #REF! | C13: =IF(A13="","",B13&IFERROR(" "&VLOOKUP(A13,A14:C$1001,3,0),"")) -> #REF!
A14: #REF! | B14: #REF! | C14: =IF(A14="","",B14&IFERROR(" "&VLOOKUP(A14,A15:C$1001,3,0),"")) -> #REF!
... A1000: #REF! | B1000: #REF! | C1000: =IF(A1000="","",B1000&IFERROR(" "&VLOOKUP(A1000,A1001:C$1001,3,0),"")) -> #REF!
A1001: #REF! | B1001: #REF! | C1001: =IF(A1001="","",B1001) -> #REF!

Sheet Planning
B2: =IF(B4="","",IFERROR(VLOOKUP(B4,#REF!,2,0)," ")) | C2: =IF(C4="","",IFERROR(VLOOKUP(C4,#REF!,2,0)," ")) | D2: =IF(D4="","",IFERROR(VLOOKUP(D4,#REF!,2,0)," ")) | E2: =IF(E4="","",IFERROR(VLOOKUP(E4,#REF!,2,0)," ")) | F2: =IF(F4="","",IFERROR(VLOOKUP(F4,#REF!,2,0)," ")) | G2: =IF(G4="","",IFERROR(VLOOKUP(G4,#REF!,2,0)," ")) | H2: =IF(H4="","",IFERROR(VLOOKUP(H4,#REF!,2,0)," ")) | I2: =IF(I4="","",IFERROR(VLOOKUP(I4,#REF!,2,0)," ")) | ... AF2: =IF(AF4="","",IFERROR(VLOOKUP(AF4,#REF!,2,0)," ")) | AJ2: =IF(B11="","",IFERROR(VLOOKUP(B11,#REF!,2,0)," ")) | AK2: =IF(C11="","",IFERROR(VLOOKUP(C11,#REF!,2,0)," ")) | AL2: =IF(D11="","",IFERROR(VLOOKUP(D11,#REF!,2,0)," ")) | AM2: =IF(E11="","",IFERROR(VLOOKUP(E11,#REF!,2,0)," ")) | AN2: =IF(F11="","",IFERROR(VLOOKUP(F11,#REF!,2,0)," ")) | AO2: =IF(G11="","",IFERROR(VLOOKUP(G11,#REF!,2,0)," ")) | AP2: =IF(H11="","",IFERROR(VLOOKUP(H11,#REF!,2,0)," ")) | AQ2: =IF(I11="","",IFERROR(VLOOKUP(I11,#REF!,2,0)," ")) | ... BN2: =IF(AF11="","",IFERROR(VLOOKUP(AF11,#REF!,2,0)," ")) | BR2: =IF(B18="","",IFERROR(VLOOKUP(B18,#REF!,2,0)," ")) | BS2: =IF(C18="","",IFERROR(VLOOKUP(C18,#REF!,2,0)," ")) | BT2: =IF(D18="","",IFERROR(VLOOKUP(D18,#REF!,2,0)," ")) | BU2: =IF(E18="","",IFERROR(VLOOKUP(E18,#REF!,2,0)," ")) | BV2: =IF(F18="","",IFERROR(VLOOKUP(F18,#REF!,2,0)," ")) | BW2: =IF(G18="","",IFERROR(VLOOKUP(G18,#REF!,2,0)," ")) | BX2: =IF(H18="","",IFERROR(VLOOKUP(H18,#REF!,2,0)," ")) | BY2: =IF(I18="","",IFERROR(VLOOKUP(I18,#REF!,2,0)," ")) | ... CV2: =IF(AF18="","",IFERROR(VLOOKUP(AF18,#REF!,2,0)," ")) | CZ2: =IF(B25="","",IFERROR(VLOOKUP(B25,#REF!,2,0)," ")) | DA2: =IF(C25="","",IFERROR(VLOOKUP(C25,#REF!,2,0)," ")) | DB2: =IF(D25="","",IFERROR(VLOOKUP(D25,#REF!,2,0)," ")) | DC2: =IF(E25="","",IFERROR(VLOOKUP(E25,#REF!,2,0)," ")) | DD2: =IF(F25="","",IFERROR(VLOOKUP(F25,#REF!,2,0)," ")) | DE2: =IF(G25="","",IFERROR(VLOOKUP(G25,#REF!,2,0)," ")) | DF2: =IF(H25="","",IFERROR(VLOOKUP(H25,#REF!,2,0)," ")) | DG2: =IF(I25="","",IFERROR(VLOOKUP(I25,#REF!,2,0)," ")) | ... ED2: =IF(AF25="","",IFERROR(VLOOKUP(AF25,#REF!,2,0)," ")) | EH2: =IF(B32="","",IFERROR(VLOOKUP(B32,#REF!,2,0)," ")) | EI2: =IF(C32="","",IFERROR(VLOOKUP(C32,#REF!,2,0)," ")) | EJ2: =IF(D32="","",IFERROR(VLOOKUP(D32,#REF!,2,0)," ")) | EK2: =IF(E32="","",IFERROR(VLOOKUP(E32,#REF!,2,0)," ")) | EL2: =IF(F32="","",IFERROR(VLOOKUP(F32,#REF!,2,0)," ")) | EM2: =IF(G32="","",IFERROR(VLOOKUP(G32,#REF!,2,0)," ")) | EN2: =IF(H32="","",IFERROR(VLOOKUP(H32,#REF!,2,0)," ")) | EO2: =IF(I32="","",IFERROR(VLOOKUP(I32,#REF!,2,0)," ")) | ... FL2: =IF(AF32="","",IFERROR(VLOOKUP(AF32,#REF!,2,0)," ")) | FP2: =IF(B39="","",IFERROR(VLOOKUP(B39,#REF!,2,0)," ")) | FQ2: =IF(C39="","",IFERROR(VLOOKUP(C39,#REF!,2,0)," ")) | FR2: =IF(D39="","",IFERROR(VLOOKUP(D39,#REF!,2,0)," ")) | FS2: =IF(E39="","",IFERROR(VLOOKUP(E39,#REF!,2,0)," ")) | FT2: =IF(F39="","",IFERROR(VLOOKUP(F39,#REF!,2,0)," ")) | FU2: =IF(G39="","",IFERROR(VLOOKUP(G39,#REF!,2,0)," ")) | FV2: =IF(H39="","",IFERROR(VLOOKUP(H39,#REF!,2,0)," ")) | FW2: =IF(I39="","",IFERROR(VLOOKUP(I39,#REF!,2,0)," ")) | ... GT2: =IF(AF39="","",IFERROR(VLOOKUP(AF39,#REF!,2,0)," ")) | GX2: =IF(B46="","",IFERROR(VLOOKUP(B46,#REF!,2,0)," ")) | GY2: =IF(C46="","",IFERROR(VLOOKUP(C46,#REF!,2,0)," ")) | GZ2: =IF(D46="","",IFERROR(VLOOKUP(D46,#REF!,2,0)," ")) | HA2: =IF(E46="","",IFERROR(VLOOKUP(E46,#REF!,2,0)," ")) | HB2: =IF(F46="","",IFERROR(VLOOKUP(F46,#REF!,2,0)," ")) | HC2: =IF(G46="","",IFERROR(VLOOKUP(G46,#REF!,2,0)," ")) | HD2: =IF(H46="","",IFERROR(VLOOKUP(H46,#REF!,2,0)," ")) | HE2: =IF(I46="","",IFERROR(VLOOKUP(I46,#REF!,2,0)," ")) | ... IB2: =IF(AF46="","",IFERROR(VLOOKUP(AF46,#REF!,2,0)," ")) | IF2: =IF(B53="","",IFERROR(VLOOKUP(B53,#REF!,2,0)," ")) | IG2: =IF(C53="","",IFERROR(VLOOKUP(C53,#REF!,2,0)," ")) | IH2: =IF(D53="","",IFERROR(VLOOKUP(D53,#REF!,2,0)," ")) | II2: =IF(E53="","",IFERROR(VLOOKUP(E53,#REF!,2,0)," ")) | IJ2: =IF(F53="","",IFERROR(VLOOKUP(F53,#REF!,2,0)," ")) | IK2: =IF(G53="","",IFERROR(VLOOKUP(G53,#REF!,2,0)," ")) | IL2: =IF(H53="","",IFERROR(VLOOKUP(H53,#REF!,2,0)," ")) | IM2: =IF(I53="","",IFERROR(VLOOKUP(I53,#REF!,2,0)," ")) | ... JJ2: =IF(AF53="","",IFERROR(VLOOKUP(AF53,#REF!,2,0)," ")) | JN2: =IF(B60="","",IFERROR(VLOOKUP(B60,#REF!,2,0)," ")) | JO2: =IF(C60="","",IFERROR(VLOOKUP(C60,#REF!,2,0)," ")) | JP2: =IF(D60="","",IFERROR(VLOOKUP(D60,#REF!,2,0)," ")) | JQ2: =IF(E60="","",IFERROR(VLOOKUP(E60,#REF!,2,0)," ")) | JR2: =IF(F60="","",IFERROR(VLOOKUP(F60,#REF!,2,0)," ")) | JS2: =IF(G60="","",IFERROR(VLOOKUP(G60,#REF!,2,0)," ")) | JT2: =IF(H60="","",IFERROR(VLOOKUP(H60,#REF!,2,0)," ")) | JU2: =IF(I60="","",IFERROR(VLOOKUP(I60,#REF!,2,0)," ")) | ... KR2: =IF(AF60="","",IFERROR(VLOOKUP(AF60,#REF!,2,0)," ")) | KV2: =IF(B67="","",IFERROR(VLOOKUP(B67,#REF!,2,0)," ")) | KW2: =IF(C67="","",IFERROR(VLOOKUP(C67,#REF!,2,0)," ")) | KX2: =IF(D67="","",IFERROR(VLOOKUP(D67,#REF!,2,0)," ")) | KY2: =IF(E67="","",IFERROR(VLOOKUP(E67,#REF!,2,0)," ")) | KZ2: =IF(F67="","",IFERROR(VLOOKUP(F67,#REF!,2,0)," ")) | LA2: =IF(G67="","",IFERROR(VLOOKUP(G67,#REF!,2,0)," ")) | LB2: =IF(H67="","",IFERROR(VLOOKUP(H67,#REF!,2,0)," ")) | LC2: =IF(I67="","",IFERROR(VLOOKUP(I67,#REF!,2,0)," ")) | ... LZ2: =IF(AF67="","",IFERROR(VLOOKUP(AF67,#REF!,2,0)," ")) | MD2: =IF(B74="","",IFERROR(VLOOKUP(B74,#REF!,2,0)," ")) | ME2: =IF(C74="","",IFERROR(VLOOKUP(C74,#REF!,2,0)," ")) | MF2: =IF(D74="","",IFERROR(VLOOKUP(D74,#REF!,2,0)," ")) | MG2: =IF(E74="","",IFERROR(VLOOKUP(E74,#REF!,2,0)," ")) | MH2: =IF(F74="","",IFERROR(VLOOKUP(F74,#REF!,2,0)," ")) | MI2: =IF(G74="","",IFERROR(VLOOKUP(G74,#REF!,2,0)," ")) | MJ2: =IF(H74="","",IFERROR(VLOOKUP(H74,#REF!,2,0)," ")) | MK2: =IF(I74="","",IFERROR(VLOOKUP(I74,#REF!,2,0)," ")) | ... NH2: =IF(AF74="","",IFERROR(VLOOKUP(AF74,#REF!,2,0)," ")) | NL2: =IF(B81="","",IFERROR(VLOOKUP(B81,#REF!,2,0)," ")) | NM2: =IF(C81="","",IFERROR(VLOOKUP(C81,#REF!,2,0)," ")) | NN2: =IF(D81="","",IFERROR(VLOOKUP(D81,#REF!,2,0)," ")) | NO2: =IF(E81="","",IFERROR(VLOOKUP(E81,#REF!,2,0)," ")) | NP2: =IF(F81="","",IFERROR(VLOOKUP(F81,#REF!,2,0)," ")) | NQ2: =IF(G81="","",IFERROR(VLOOKUP(G81,#REF!,2,0)," ")) | NR2: =IF(H81="","",IFERROR(VLOOKUP(H81,#REF!,2,0)," ")) | NS2: =IF(I81="","",IFERROR(VLOOKUP(I81,#REF!,2,0)," ")) | ... OP2: =IF(AF81="","",IFERROR(VLOOKUP(AF81,#REF!,2,0)," "))
A3: =B4 -> 44197 | B3: =IF(B4="","",UPPER(LEFT(TEXT(B4,"jjjj"),1))) -> V | C3: =IF(C4="","",UPPER(LEFT(TEXT(C4,"jjjj"),1))) -> S | D3: =IF(D4="","",UPPER(LEFT(TEXT(D4,"jjjj"),1))) -> D | E3: =IF(E4="","",UPPER(LEFT(TEXT(E4,"jjjj"),1))) -> L | F3: =IF(F4="","",UPPER(LEFT(TEXT(F4,"jjjj"),1))) -> M | G3: =IF(G4="","",UPPER(LEFT(TEXT(G4,"jjjj"),1))) -> M | H3: =IF(H4="","",UPPER(LEFT(TEXT(H4,"jjjj"),1))) -> J | I3: =IF(I4="","",UPPER(LEFT(TEXT(I4,"jjjj"),1))) -> V | ... AF3: =IF(AF4="","",UPPER(LEFT(TEXT(AF4,"jjjj"),1))) -> D
B4: =DATE(DATA!$C$5,DATA!$C$3,1) -> 44197 | C4: =IF(B4="","",IF(MONTH(B4)=MONTH(B4+1),B4+1,"")) -> 44198 | D4: =IF(C4="","",IF(MONTH(C4)=MONTH(C4+1),C4+1,"")) -> 44199 | E4: =IF(D4="","",IF(MONTH(D4)=MONTH(D4+1),D4+1,"")) -> 44200 | F4: =IF(E4="","",IF(MONTH(E4)=MONTH(E4+1),E4+1,"")) -> 44201 | G4: =IF(F4="","",IF(MONTH(F4)=MONTH(F4+1),F4+1,"")) -> 44202 | H4: =IF(G4="","",IF(MONTH(G4)=MONTH(G4+1),G4+1,"")) -> 44203 | I4: =IF(H4="","",IF(MONTH(H4)=MONTH(H4+1),H4+1,"")) -> 44204 | J4: =IF(I4="","",IF(MONTH(I4)=MONTH(I4+1),I4+1,"")) -> 44205 | ... AF4: =IF(AE4="","",IF(MONTH(AE4)=MONTH(AE4+1),AE4+1,"")) -> 44227
A5: Alice | B5: j1
A6: Seb | B6: m1 | AG6: TOTAL
A7: TOTAL | B7: =IFERROR((MIN(ABS(VLOOKUP(B5,DATA!$H$3:$J$26,3,FALSE)-VLOOKUP(B6,DATA!$H$3:$J$26,2,FALSE)),ABS(VLOOKUP(B6,DATA!$H$3:$J$26,3,FALSE)-VLOOKUP(B5,DATA!$H$3:$J$26,2,FALSE)))),0) -> 0.26736111 | C7: =IFERROR((MIN(ABS(VLOOKUP(C5,DATA!$H$3:$J$26,3,FALSE)-VLOOKUP(C6,DATA!$H$3:$J$26,2,FALSE)),ABS(VLOOKUP(C6,DATA!$H$3:$J$26,3,FALSE)-VLOOKUP(C5,DATA!$H$3:$J$26,2,FALSE)))),0) -> 0 | D7: =IFERROR((MIN(ABS(VLOOKUP(D5,DATA!$H$3:$J$26,3,FALSE)-VLOOKUP(D6,DATA!$H$3:$J$26,2,FALSE)),ABS(VLOOKUP(D6,DATA!$H$3:$J$26,3,FALSE)-VLOOKUP(D5,DATA!$H$3:$J$26,2,FALSE)))),0) -> 0 | E7: =IFERROR((MIN(ABS(VLOOKUP(E5,DATA!$H$3:$J$26,3,FALSE)-VLOOKUP(E6,DATA!$H$3:$J$26,2,FALSE)),ABS(VLOOKUP(E6,DATA!$H$3:$J$26,3,FALSE)-VLOOKUP(E5,DATA!$H$3:$J$26,2,FALSE)))),0) -> 0 | F7: =IFERROR((MIN(ABS(VLOOKUP(F5,DATA!$H$3:$J$26,3,FALSE)-VLOOKUP(F6,DATA!$H$3:$J$26,2,FALSE)),ABS(VLOOKUP(F6,DATA!$H$3:$J$26,3,FALSE)-VLOOKUP(F5,DATA!$H$3:$J$26,2,FALSE)))),0) -> 0 | G7: =IFERROR((MIN(ABS(VLOOKUP(G5,DATA!$H$3:$J$26,3,FALSE)-VLOOKUP(G6,DATA!$H$3:$J$26,2,FALSE)),ABS(VLOOKUP(G6,DATA!$H$3:$J$26,3,FALSE)-VLOOKUP(G5,DATA!$H$3:$J$26,2,FALSE)))),0) -> 0 | H7: =IFERROR((MIN(ABS(VLOOKUP(H5,DATA!$H$3:$J$26,3,FALSE)-VLOOKUP(H6,DATA!$H$3:$J$26,2,FALSE)),ABS(VLOOKUP(H6,DATA!$H$3:$J$26,3,FALSE)-VLOOKUP(H5,DATA!$H$3:$J$26,2,FALSE)))),0) -> 0 | I7: =IFERROR((MIN(ABS(VLOOKUP(I5,DATA!$H$3:$J$26,3,FALSE)-VLOOKUP(I6,DATA!$H$3:$J$26,2,FALSE)),ABS(VLOOKUP(I6,DATA!$H$3:$J$26,3,FALSE)-VLOOKUP(I5,DATA!$H$3:$J$26,2,FALSE)))),0) -> 0 | ... AF7: =IFERROR((MIN(ABS(VLOOKUP(AF5,DATA!$H$3:$J$26,3,FALSE)-VLOOKUP(AF6,DATA!$H$3:$J$26,2,FALSE)),ABS(VLOOKUP(AF6,DATA!$H$3:$J$26,3,FALSE)-VLOOKUP(AF5,DATA!$H$3:$J$26,2,FALSE)))),0) -> 0 | AG7: =SUM(B7:AF7) -> 0.26736111
A10: =B11 -> 44228 | B10: =IF(B11="","",UPPER(LEFT(TEXT(B11,"jjjj"),1))) -> L | C10: =IF(C11="","",UPPER(LEFT(TEXT(C11,"jjjj"),1))) -> M | D10: =IF(D11="","",UPPER(LEFT(TEXT(D11,"jjjj"),1))) -> M | E10: =IF(E11="","",UPPER(LEFT(TEXT(E11,"jjjj"),1))) -> J | F10: =IF(F11="","",UPPER(LEFT(TEXT(F11,"jjjj"),1))) -> V | G10: =IF(G11="","",UPPER(LEFT(TEXT(G11,"jjjj"),1))) -> S | H10: =IF(H11="","",UPPER(LEFT(TEXT(H11,"jjjj"),1))) -> D | I10: =IF(I11="","",UPPER(LEFT(TEXT(I11,"jjjj"),1))) -> L | ... AF10: =IF(AF11="","",UPPER(LEFT(TEXT(AF11,"jjjj"),1)))
B11: =DATE(YEAR(B4),MONTH(B4)+1, 1) -> 44228 | C11: =IF(B11="","",IF(MONTH(B11)=MONTH(B11+1),B11+1,"")) -> 44229 | D11: =IF(C11="","",IF(MONTH(C11)=MONTH(C11+1),C11+1,"")) -> 44230 | E11: =IF(D11="","",IF(MONTH(D11)=MONTH(D11+1),D11+1,"")) -> 44231 | F11: =IF(E11="","",IF(MONTH(E11)=MONTH(E11+1),E11+1,"")) -> 44232 | G11: =IF(F11="","",IF(MONTH(F11)=MONTH(F11+1),F11+1,"")) -> 44233 | H11: =IF(G11="","",IF(MONTH(G11)=MONTH(G11+1),G11+1,"")) -> 44234 | I11: =IF(H11="","",IF(MONTH(H11)=MONTH(H11+1),H11+1,"")) -> 44235 | J11: =IF(I11="","",IF(MONTH(I11)=MONTH(I11+1),I11+1,"")) -> 44236 | ... AF11: =IF(AE11="","",IF(MONTH(AE11)=MONTH(AE11+1),AE11+1,""))
A12: Alice
A13: Seb | AG13: TOTAL
A14: TOTAL | B14: =IFERROR((MIN(ABS(VLOOKUP(B12,DATA!$H$3:$J$26,3,FALSE)-VLOOKUP(B13,DATA!$H$3:$J$26,2,FALSE)),ABS(VLOOKUP(B13,DATA!$H$3:$J$26,3,FALSE)-VLOOKUP(B12,DATA!$H$3:$J$26,2,FALSE)))),0) -> 0 | C14: =IFERROR((MIN(ABS(VLOOKUP(C12,DATA!$H$3:$J$26,3,FALSE)-VLOOKUP(C13,DATA!$H$3:$J$26,2,FALSE)),ABS(VLOOKUP(C13,DATA!$H$3:$J$26,3,FALSE)-VLOOKUP(C12,DATA!$H$3:$J$26,2,FALSE)))),0) -> 0 | D14: =IFERROR((MIN(ABS(VLOOKUP(D12,DATA!$H$3:$J$26,3,FALSE)-VLOOKUP(D13,DATA!$H$3:$J$26,2,FALSE)),ABS(VLOOKUP(D13,DATA!$H$3:$J$26,3,FALSE)-VLOOKUP(D12,DATA!$H$3:$J$26,2,FALSE)))),0) -> 0 | E14: =IFERROR((MIN(ABS(VLOOKUP(E12,DATA!$H$3:$J$26,3,FALSE)-VLOOKUP(E13,DATA!$H$3:$J$26,2,FALSE)),ABS(VLOOKUP(E13,DATA!$H$3:$J$26,3,FALSE)-VLOOKUP(E12,DATA!$H$3:$J$26,2,FALSE)))),0) -> 0 | F14: =IFERROR((MIN(ABS(VLOOKUP(F12,DATA!$H$3:$J$26,3,FALSE)-VLOOKUP(F13,DATA!$H$3:$J$26,2,FALSE)),ABS(VLOOKUP(F13,DATA!$H$3:$J$26,3,FALSE)-VLOOKUP(F12,DATA!$H$3:$J$26,2,FALSE)))),0) -> 0 | G14: =IFERROR((MIN(ABS(VLOOKUP(G12,DATA!$H$3:$J$26,3,FALSE)-VLOOKUP(G13,DATA!$H$3:$J$26,2,FALSE)),ABS(VLOOKUP(G13,DATA!$H$3:$J$26,3,FALSE)-VLOOKUP(G12,DATA!$H$3:$J$26,2,FALSE)))),0) -> 0 | H14: =IFERROR((MIN(ABS(VLOOKUP(H12,DATA!$H$3:$J$26,3,FALSE)-VLOOKUP(H13,DATA!$H$3:$J$26,2,FALSE)),ABS(VLOOKUP(H13,DATA!$H$3:$J$26,3,FALSE)-VLOOKUP(H12,DATA!$H$3:$J$26,2,FALSE)))),0) -> 0 | I14: =IFERROR((MIN(ABS(VLOOKUP(I12,DATA!$H$3:$J$26,3,FALSE)-VLOOKUP(I13,DATA!$H$3:$J$26,2,FALSE)),ABS(VLOOKUP(I13,DATA!$H$3:$J$26,3,FALSE)-VLOOKUP(I12,DATA!$H$3:$J$26,2,FALSE)))),0) -> 0 | ... AF14: =IFERROR((MIN(ABS(VLOOKUP(AF12,DATA!$H$3:$J$26,3,FALSE)-VLOOKUP(AF13,DATA!$H$3:$J$26,2,FALSE)),ABS(VLOOKUP(AF13,DATA!$H$3:$J$26,3,FALSE)-VLOOKUP(AF12,DATA!$H$3:$J$26,2,FALSE)))),0) -> 0 | AG14: =SUM(B14:AF14) -> 0
A17: =B18 -> 44256 | B17: =IF(B18="","",UPPER(LEFT(TEXT(B18,"jjjj"),1))) -> L | C17: =IF(C18="","",UPPER(LEFT(TEXT(C18,"jjjj"),1))) -> M | D17: =IF(D18="","",UPPER(LEFT(TEXT(D18,"jjjj"),1))) -> M | E17: =IF(E18="","",UPPER(LEFT(TEXT(E18,"jjjj"),1))) -> J | F17: =IF(F18="","",UPPER(LEFT(TEXT(F18,"jjjj"),1))) -> V | G17: =IF(G18="","",UPPER(LEFT(TEXT(G18,"jjjj"),1))) -> S | H17: =IF(H18="","",UPPER(LEFT(TEXT(H18,"jjjj"),1))) -> D | I17: =IF(I18="","",UPPER(LEFT(TEXT(I18,"jjjj"),1))) -> L | ... AF17: =IF(AF18="","",UPPER(LEFT(TEXT(AF18,"jjjj"),1))) -> M
B18: =DATE(YEAR(B11),MONTH(B11)+1, 1) -> 44256 | C18: =IF(B18="","",IF(MONTH(B18)=MONTH(B18+1),B18+1,"")) -> 44257 | D18: =IF(C18="","",IF(MONTH(C18)=MONTH(C18+1),C18+1,"")) -> 44258 | E18: =IF(D18="","",IF(MONTH(D18)=MONTH(D18+1),D18+1,"")) -> 44259 | F18: =IF(E18="","",IF(MONTH(E18)=MONTH(E18+1),E18+1,"")) -> 44260 | G18: =IF(F18="","",IF(MONTH(F18)=MONTH(F18+1),F18+1,"")) -> 44261 | H18: =IF(G18="","",IF(MONTH(G18)=MONTH(G18+1),G18+1,"")) -> 44262 | I18: =IF(H18="","",IF(MONTH(H18)=MONTH(H18+1),H18+1,"")) -> 44263 | J18: =IF(I18="","",IF(MONTH(I18)=MONTH(I18+1),I18+1,"")) -> 44264 | ... AF18: =IF(AE18="","",IF(MONTH(AE18)=MONTH(AE18+1),AE18+1,"")) -> 44286
A19: Alice
A20: Seb | AG20: TOTAL
A21: TOTAL | B21: =IFERROR((MIN(ABS(VLOOKUP(B19,DATA!$H$3:$J$26,3,FALSE)-VLOOKUP(B20,DATA!$H$3:$J$26,2,FALSE)),ABS(VLOOKUP(B20,DATA!$H$3:$J$26,3,FALSE)-VLOOKUP(B19,DATA!$H$3:$J$26,2,FALSE)))),0) -> 0 | C21: =IFERROR((MIN(ABS(VLOOKUP(C19,DATA!$H$3:$J$26,3,FALSE)-VLOOKUP(C20,DATA!$H$3:$J$26,2,FALSE)),ABS(VLOOKUP(C20,DATA!$H$3:$J$26,3,FALSE)-VLOOKUP(C19,DATA!$H$3:$J$26,2,FALSE)))),0) -> 0 | D21: =IFERROR((MIN(ABS(VLOOKUP(D19,DATA!$H$3:$J$26,3,FALSE)-VLOOKUP(D20,DATA!$H$3:$J$26,2,FALSE)),ABS(VLOOKUP(D20,DATA!$H$3:$J$26,3,FALSE)-VLOOKUP(D19,DATA!$H$3:$J$26,2,FALSE)))),0) -> 0 | E21: =IFERROR((MIN(ABS(VLOOKUP(E19,DATA!$H$3:$J$26,3,FALSE)-VLOOKUP(E20,DATA!$H$3:$J$26,2,FALSE)),ABS(VLOOKUP(E20,DATA!$H$3:$J$26,3,FALSE)-VLOOKUP(E19,DATA!$H$3:$J$26,2,FALSE)))),0) -> 0 | F21: =IFERROR((MIN(ABS(VLOOKUP(F19,DATA!$H$3:$J$26,3,FALSE)-VLOOKUP(F20,DATA!$H$3:$J$26,2,FALSE)),ABS(VLOOKUP(F20,DATA!$H$3:$J$26,3,FALSE)-VLOOKUP(F19,DATA!$H$3:$J$26,2,FALSE)))),0) -> 0 | G21: =IFERROR((MIN(ABS(VLOOKUP(G19,DATA!$H$3:$J$26,3,FALSE)-VLOOKUP(G20,DATA!$H$3:$J$26,2,FALSE)),ABS(VLOOKUP(G20,DATA!$H$3:$J$26,3,FALSE)-VLOOKUP(G19,DATA!$H$3:$J$26,2,FALSE)))),0) -> 0 | H21: =IFERROR((MIN(ABS(VLOOKUP(H19,DATA!$H$3:$J$26,3,FALSE)-VLOOKUP(H20,DATA!$H$3:$J$26,2,FALSE)),ABS(VLOOKUP(H20,DATA!$H$3:$J$26,3,FALSE)-VLOOKUP(H19,DATA!$H$3:$J$26,2,FALSE)))),0) -> 0 | I21: =IFERROR((MIN(ABS(VLOOKUP(I19,DATA!$H$3:$J$26,3,FALSE)-VLOOKUP(I20,DATA!$H$3:$J$26,2,FALSE)),ABS(VLOOKUP(I20,DATA!$H$3:$J$26,3,FALSE)-VLOOKUP(I19,DATA!$H$3:$J$26,2,FALSE)))),0) -> 0 | ... AF21: =IFERROR((MIN(ABS(VLOOKUP(AF19,DATA!$H$3:$J$26,3,FALSE)-VLOOKUP(AF20,DATA!$H$3:$J$26,2,FALSE)),ABS(VLOOKUP(AF20,DATA!$H$3:$J$26,3,FALSE)-VLOOKUP(AF19,DATA!$H$3:$J$26,2,FALSE)))),0) -> 0 | AG21: =SUM(B21:AF21) -> 0
A24: =B25 -> 44287 | B24: =IF(B25="","",UPPER(LEFT(TEXT(B25,"jjjj"),1))) -> J | C24: =IF(C25="","",UPPER(LEFT(TEXT(C25,"jjjj"),1))) -> V | D24: =IF(D25="","",UPPER(LEFT(TEXT(D25,"jjjj"),1))) -> S | E24: =IF(E25="","",UPPER(LEFT(TEXT(E25,"jjjj"),1))) -> D | F24: =IF(F25="","",UPPER(LEFT(TEXT(F25,"jjjj"),1))) -> L | G24: =IF(G25="","",UPPER(LEFT(TEXT(G25,"jjjj"),1))) -> M | H24: =IF(H25="","",UPPER(LEFT(TEXT(H25,"jjjj"),1))) -> M | I24: =IF(I25="","",UPPER(LEFT(TEXT(I25,"jjjj"),1))) -> J | ... AF24: =IF(AF25="","",UPPER(LEFT(TEXT(AF25,"jjjj"),1)))
B25: =DATE(YEAR(B18),MONTH(B18)+1, 1) -> 44287 | C25: =IF(B25="","",IF(MONTH(B25)=MONTH(B25+1),B25+1,"")) -> 44288 | D25: =IF(C25="","",IF(MONTH(C25)=MONTH(C25+1),C25+1,"")) -> 44289 | E25: =IF(D25="","",IF(MONTH(D25)=MONTH(D25+1),D25+1,"")) -> 44290 | F25: =IF(E25="","",IF(MONTH(E25)=MONTH(E25+1),E25+1,"")) -> 44291 | G25: =IF(F25="","",IF(MONTH(F25)=MONTH(F25+1),F25+1,"")) -> 44292 | H25: =IF(G25="","",IF(MONTH(G25)=MONTH(G25+1),G25+1,"")) -> 44293 | I25: =IF(H25="","",IF(MONTH(H25)=MONTH(H25+1),H25+1,"")) -> 44294 | J25: =IF(I25="","",IF(MONTH(I25)=MONTH(I25+1),I25+1,"")) -> 44295 | ... AF25: =IF(AE25="","",IF(MONTH(AE25)=MONTH(AE25+1),AE25+1,""))
A26: Alice
A27: Seb | AG27: TOTAL
A28: TOTAL | B28: =IFERROR((MIN(ABS(VLOOKUP(B26,DATA!$H$3:$J$26,3,FALSE)-VLOOKUP(B27,DATA!$H$3:$J$26,2,FALSE)),ABS(VLOOKUP(B27,DATA!$H$3:$J$26,3,FALSE)-VLOOKUP(B26,DATA!$H$3:$J$26,2,FALSE)))),0) -> 0 | C28: =IFERROR((MIN(ABS(VLOOKUP(C26,DATA!$H$3:$J$26,3,FALSE)-VLOOKUP(C27,DATA!$H$3:$J$26,2,FALSE)),ABS(VLOOKUP(C27,DATA!$H$3:$J$26,3,FALSE)-VLOOKUP(C26,DATA!$H$3:$J$26,2,FALSE)))),0) -> 0 | D28: =IFERROR((MIN(ABS(VLOOKUP(D26,DATA!$H$3:$J$26,3,FALSE)-VLOOKUP(D27,DATA!$H$3:$J$26,2,FALSE)),ABS(VLOOKUP(D27,DATA!$H$3:$J$26,3,FALSE)-VLOOKUP(D26,DATA!$H$3:$J$26,2,FALSE)))),0) -> 0 | E28: =IFERROR((MIN(ABS(VLOOKUP(E26,DATA!$H$3:$J$26,3,FALSE)-VLOOKUP(E27,DATA!$H$3:$J$26,2,FALSE)),ABS(VLOOKUP(E27,DATA!$H$3:$J$26,3,FALSE)-VLOOKUP(E26,DATA!$H$3:$J$26,2,FALSE)))),0) -> 0 | F28: =IFERROR((MIN(ABS(VLOOKUP(F26,DATA!$H$3:$J$26,3,FALSE)-VLOOKUP(F27,DATA!$H$3:$J$26,2,FALSE)),ABS(VLOOKUP(F27,DATA!$H$3:$J$26,3,FALSE)-VLOOKUP(F26,DATA!$H$3:$J$26,2,FALSE)))),0) -> 0 | G28: =IFERROR((MIN(ABS(VLOOKUP(G26,DATA!$H$3:$J$26,3,FALSE)-VLOOKUP(G27,DATA!$H$3:$J$26,2,FALSE)),ABS(VLOOKUP(G27,DATA!$H$3:$J$26,3,FALSE)-VLOOKUP(G26,DATA!$H$3:$J$26,2,FALSE)))),0) -> 0 | H28: =IFERROR((MIN(ABS(VLOOKUP(H26,DATA!$H$3:$J$26,3,FALSE)-VLOOKUP(H27,DATA!$H$3:$J$26,2,FALSE)),ABS(VLOOKUP(H27,DATA!$H$3:$J$26,3,FALSE)-VLOOKUP(H26,DATA!$H$3:$J$26,2,FALSE)))),0) -> 0 | I28: =IFERROR((MIN(ABS(VLOOKUP(I26,DATA!$H$3:$J$26,3,FALSE)-VLOOKUP(I27,DATA!$H$3:$J$26,2,FALSE)),ABS(VLOOKUP(I27,DATA!$H$3:$J$26,3,FALSE)-VLOOKUP(I26,DATA!$H$3:$J$26,2,FALSE)))),0) -> 0 | ... AF28: =IFERROR((MIN(ABS(VLOOKUP(AF26,DATA!$H$3:$J$26,3,FALSE)-VLOOKUP(AF27,DATA!$H$3:$J$26,2,FALSE)),ABS(VLOOKUP(AF27,DATA!$H$3:$J$26,3,FALSE)-VLOOKUP(AF26,DATA!$H$3:$J$26,2,FALSE)))),0) -> 0 | AG28: =SUM(B28:AF28) -> 0
A31: =B32 -> 44317 | B31: =IF(B32="","",UPPER(LEFT(TEXT(B32,"jjjj"),1))) -> S | C31: =IF(C32="","",UPPER(LEFT(TEXT(C32,"jjjj"),1))) -> D | D31: =IF(D32="","",UPPER(LEFT(TEXT(D32,"jjjj"),1))) -> L | E31: =IF(E32="","",UPPER(LEFT(TEXT(E32,"jjjj"),1))) -> M | F31: =IF(F32="","",UPPER(LEFT(TEXT(F32,"jjjj"),1))) -> M | G31: =IF(G32="","",UPPER(LEFT(TEXT(G32,"jjjj"),1))) -> J | H31: =IF(H32="","",UPPER(LEFT(TEXT(H32,"jjjj"),1))) -> V | I31: =IF(I32="","",UPPER(LEFT(TEXT(I32,"jjjj"),1))) -> S | ... AF31: =IF(AF32="","",UPPER(LEFT(TEXT(AF32,"jjjj"),1))) -> L
B32: =DATE(YEAR(B25),MONTH(B25)+1, 1) -> 44317 | C32: =IF(B32="","",IF(MONTH(B32)=MONTH(B32+1),B32+1,"")) -> 44318 | D32: =IF(C32="","",IF(MONTH(C32)=MONTH(C32+1),C32+1,"")) -> 44319 | E32: =IF(D32="","",IF(MONTH(D32)=MONTH(D32+1),D32+1,"")) -> 44320 | F32: =IF(E32="","",IF(MONTH(E32)=MONTH(E32+1),E32+1,"")) -> 44321 | G32: =IF(F32="","",IF(MONTH(F32)=MONTH(F32+1),F32+1,"")) -> 44322 | H32: =IF(G32="","",IF(MONTH(G32)=MONTH(G32+1),G32+1,"")) -> 44323 | I32: =IF(H32="","",IF(MONTH(H32)=MONTH(H32+1),H32+1,"")) -> 44324 | J32: =IF(I32="","",IF(MONTH(I32)=MONTH(I32+1),I32+1,"")) -> 44325 | ... AF32: =IF(AE32="","",IF(MONTH(AE32)=MONTH(AE32+1),AE32+1,"")) -> 44347
A33: Alice
A34: Seb | AG34: TOTAL
A35: TOTAL | B35: =IFERROR((MIN(ABS(VLOOKUP(B33,DATA!$H$3:$J$26,3,FALSE)-VLOOKUP(B34,DATA!$H$3:$J$26,2,FALSE)),ABS(VLOOKUP(B34,DATA!$H$3:$J$26,3,FALSE)-VLOOKUP(B33,DATA!$H$3:$J$26,2,FALSE)))),0) -> 0 | C35: =IFERROR((MIN(ABS(VLOOKUP(C33,DATA!$H$3:$J$26,3,FALSE)-VLOOKUP(C34,DATA!$H$3:$J$26,2,FALSE)),ABS(VLOOKUP(C34,DATA!$H$3:$J$26,3,FALSE)-VLOOKUP(C33,DATA!$H$3:$J$26,2,FALSE)))),0) -> 0 | D35: =IFERROR((MIN(ABS(VLOOKUP(D33,DATA!$H$3:$J$26,3,FALSE)-VLOOKUP(D34,DATA!$H$3:$J$26,2,FALSE)),ABS(VLOOKUP(D34,DATA!$H$3:$J$26,3,FALSE)-VLOOKUP(D33,DATA!$H$3:$J$26,2,FALSE)))),0) -> 0 | E35: =IFERROR((MIN(ABS(VLOOKUP(E33,DATA!$H$3:$J$26,3,FALSE)-VLOOKUP(E34,DATA!$H$3:$J$26,2,FALSE)),ABS(VLOOKUP(E34,DATA!$H$3:$J$26,3,FALSE)-VLOOKUP(E33,DATA!$H$3:$J$26,2,FALSE)))),0) -> 0 | F35: =IFERROR((MIN(ABS(VLOOKUP(F33,DATA!$H$3:$J$26,3,FALSE)-VLOOKUP(F34,DATA!$H$3:$J$26,2,FALSE)),ABS(VLOOKUP(F34,DATA!$H$3:$J$26,3,FALSE)-VLOOKUP(F33,DATA!$H$3:$J$26,2,FALSE)))),0) -> 0 | G35: =IFERROR((MIN(ABS(VLOOKUP(G33,DATA!$H$3:$J$26,3,FALSE)-VLOOKUP(G34,DATA!$H$3:$J$26,2,FALSE)),ABS(VLOOKUP(G34,DATA!$H$3:$J$26,3,FALSE)-VLOOKUP(G33,DATA!$H$3:$J$26,2,FALSE)))),0) -> 0 | H35: =IFERROR((MIN(ABS(VLOOKUP(H33,DATA!$H$3:$J$26,3,FALSE)-VLOOKUP(H34,DATA!$H$3:$J$26,2,FALSE)),ABS(VLOOKUP(H34,DATA!$H$3:$J$26,3,FALSE)-VLOOKUP(H33,DATA!$H$3:$J$26,2,FALSE)))),0) -> 0 | I35: =IFERROR((MIN(ABS(VLOOKUP(I33,DATA!$H$3:$J$26,3,FALSE)-VLOOKUP(I34,DATA!$H$3:$J$26,2,FALSE)),ABS(VLOOKUP(I34,DATA!$H$3:$J$26,3,FALSE)-VLOOKUP(I33,DATA!$H$3:$J$26,2,FALSE)))),0) -> 0 | ... AF35: =IFERROR((MIN(ABS(VLOOKUP(AF33,DATA!$H$3:$J$26,3,FALSE)-VLOOKUP(AF34,DATA!$H$3:$J$26,2,FALSE)),ABS(VLOOKUP(AF34,DATA!$H$3:$J$26,3,FALSE)-VLOOKUP(AF33,DATA!$H$3:$J$26,2,FALSE)))),0) -> 0 | AG35: =SUM(B35:AF35) -> 0
A38: =B39 -> 44348 | B38: =IF(B39="","",UPPER(LEFT(TEXT(B39,"jjjj"),1))) -> M | C38: =IF(C39="","",UPPER(LEFT(TEXT(C39,"jjjj"),1))) -> M | D38: =IF(D39="","",UPPER(LEFT(TEXT(D39,"jjjj"),1))) -> J | E38: =IF(E39="","",UPPER(LEFT(TEXT(E39,"jjjj"),1))) -> V | F38: =IF(F39="","",UPPER(LEFT(TEXT(F39,"jjjj"),1))) -> S | G38: =IF(G39="","",UPPER(LEFT(TEXT(G39,"jjjj"),1))) -> D | H38: =IF(H39="","",UPPER(LEFT(TEXT(H39,"jjjj"),1))) -> L | I38: =IF(I39="","",UPPER(LEFT(TEXT(I39,"jjjj"),1))) -> M | ... AF38: =IF(AF39="","",UPPER(LEFT(TEXT(AF39,"jjjj"),1)))
B39: =DATE(YEAR(B32),MONTH(B32)+1, 1) -> 44348 | C39: =IF(B39="","",IF(MONTH(B39)=MONTH(B39+1),B39+1,"")) -> 44349 | D39: =IF(C39="","",IF(MONTH(C39)=MONTH(C39+1),C39+1,"")) -> 44350 | E39: =IF(D39="","",IF(MONTH(D39)=MONTH(D39+1),D39+1,"")) -> 44351 | F39: =IF(E39="","",IF(MONTH(E39)=MONTH(E39+1),E39+1,"")) -> 44352 | G39: =IF(F39="","",IF(MONTH(F39)=MONTH(F39+1),F39+1,"")) -> 44353 | H39: =IF(G39="","",IF(MONTH(G39)=MONTH(G39+1),G39+1,"")) -> 44354 | I39: =IF(H39="","",IF(MONTH(H39)=MONTH(H39+1),H39+1,"")) -> 44355 | J39: =IF(I39="","",IF(MONTH(I39)=MONTH(I39+1),I39+1,"")) -> 44356 | ... AF39: =IF(AE39="","",IF(MONTH(AE39)=MONTH(AE39+1),AE39+1,""))
A40: Alice
A41: Seb | AG41: TOTAL
A42: TOTAL | B42: =IFERROR((MIN(ABS(VLOOKUP(B40,DATA!$H$3:$J$26,3,FALSE)-VLOOKUP(B41,DATA!$H$3:$J$26,2,FALSE)),ABS(VLOOKUP(B41,DATA!$H$3:$J$26,3,FALSE)-VLOOKUP(B40,DATA!$H$3:$J$26,2,FALSE)))),0) -> 0 | C42: =IFERROR((MIN(ABS(VLOOKUP(C40,DATA!$H$3:$J$26,3,FALSE)-VLOOKUP(C41,DATA!$H$3:$J$26,2,FALSE)),ABS(VLOOKUP(C41,DATA!$H$3:$J$26,3,FALSE)-VLOOKUP(C40,DATA!$H$3:$J$26,2,FALSE)))),0) -> 0 | D42: =IFERROR((MIN(ABS(VLOOKUP(D40,DATA!$H$3:$J$26,3,FALSE)-VLOOKUP(D41,DATA!$H$3:$J$26,2,FALSE)),ABS(VLOOKUP(D41,DATA!$H$3:$J$26,3,FALSE)-VLOOKUP(D40,DATA!$H$3:$J$26,2,FALSE)))),0) -> 0 | E42: =IFERROR((MIN(ABS(VLOOKUP(E40,DATA!$H$3:$J$26,3,FALSE)-VLOOKUP(E41,DATA!$H$3:$J$26,2,FALSE)),ABS(VLOOKUP(E41,DATA!$H$3:$J$26,3,FALSE)-VLOOKUP(E40,DATA!$H$3:$J$26,2,FALSE)))),0) -> 0 | F42: =IFERROR((MIN(ABS(VLOOKUP(F40,DATA!$H$3:$J$26,3,FALSE)-VLOOKUP(F41,DATA!$H$3:$J$26,2,FALSE)),ABS(VLOOKUP(F41,DATA!$H$3:$J$26,3,FALSE)-VLOOKUP(F40,DATA!$H$3:$J$26,2,FALSE)))),0) -> 0 | G42: =IFERROR((MIN(ABS(VLOOKUP(G40,DATA!$H$3:$J$26,3,FALSE)-VLOOKUP(G41,DATA!$H$3:$J$26,2,FALSE)),ABS(VLOOKUP(G41,DATA!$H$3:$J$26,3,FALSE)-VLOOKUP(G40,DATA!$H$3:$J$26,2,FALSE)))),0) -> 0 | H42: =IFERROR((MIN(ABS(VLOOKUP(H40,DATA!$H$3:$J$26,3,FALSE)-VLOOKUP(H41,DATA!$H$3:$J$26,2,FALSE)),ABS(VLOOKUP(H41,DATA!$H$3:$J$26,3,FALSE)-VLOOKUP(H40,DATA!$H$3:$J$26,2,FALSE)))),0) -> 0 | I42: =IFERROR((MIN(ABS(VLOOKUP(I40,DATA!$H$3:$J$26,3,FALSE)-VLOOKUP(I41,DATA!$H$3:$J$26,2,FALSE)),ABS(VLOOKUP(I41,DATA!$H$3:$J$26,3,FALSE)-VLOOKUP(I40,DATA!$H$3:$J$26,2,FALSE)))),0) -> 0 | ... AF42: =IFERROR((MIN(ABS(VLOOKUP(AF40,DATA!$H$3:$J$26,3,FALSE)-VLOOKUP(AF41,DATA!$H$3:$J$26,2,FALSE)),ABS(VLOOKUP(AF41,DATA!$H$3:$J$26,3,FALSE)-VLOOKUP(AF40,DATA!$H$3:$J$26,2,FALSE)))),0) -> 0 | AG42: =SUM(B42:AF42) -> 0
A45: =B46 -> 44378 | B45: =IF(B46="","",UPPER(LEFT(TEXT(B46,"jjjj"),1))) -> J | C45: =IF(C46="","",UPPER(LEFT(TEXT(C46,"jjjj"),1))) -> V | D45: =IF(D46="","",UPPER(LEFT(TEXT(D46,"jjjj"),1))) -> S | E45: =IF(E46="","",UPPER(LEFT(TEXT(E46,"jjjj"),1))) -> D | F45: =IF(F46="","",UPPER(LEFT(TEXT(F46,"jjjj"),1))) -> L | G45: =IF(G46="","",UPPER(LEFT(TEXT(G46,"jjjj"),1))) -> M | H45: =IF(H46="","",UPPER(LEFT(TEXT(H46,"jjjj"),1))) -> M | I45: =IF(I46="","",UPPER(LEFT(TEXT(I46,"jjjj"),1))) -> J | ... AF45: =IF(AF46="","",UPPER(LEFT(TEXT(AF46,"jjjj"),1))) -> S
B46: =DATE(YEAR(B39),MONTH(B39)+1, 1) -> 44378 | C46: =IF(B46="","",IF(MONTH(B46)=MONTH(B46+1),B46+1,"")) -> 44379 | D46: =IF(C46="","",IF(MONTH(C46)=MONTH(C46+1),C46+1,"")) -> 44380 | E46: =IF(D46="","",IF(MONTH(D46)=MONTH(D46+1),D46+1,"")) -> 44381 | F46: =IF(E46="","",IF(MONTH(E46)=MONTH(E46+1),E46+1,"")) -> 44382 | G46: =IF(F46="","",IF(MONTH(F46)=MONTH(F46+1),F46+1,"")) -> 44383 | H46: =IF(G46="","",IF(MONTH(G46)=MONTH(G46+1),G46+1,"")) -> 44384 | I46: =IF(H46="","",IF(MONTH(H46)=MONTH(H46+1),H46+1,"")) -> 44385 | J46: =IF(I46="","",IF(MONTH(I46)=MONTH(I46+1),I46+1,"")) -> 44386 | ... AF46: =IF(AE46="","",IF(MONTH(AE46)=MONTH(AE46+1),AE46+1,"")) -> 44408
A47: Alice
A48: Seb | AG48: TOTAL
A49: TOTAL | B49: =IFERROR((MIN(ABS(VLOOKUP(B47,DATA!$H$3:$J$26,3,FALSE)-VLOOKUP(B48,DATA!$H$3:$J$26,2,FALSE)),ABS(VLOOKUP(B48,DATA!$H$3:$J$26,3,FALSE)-VLOOKUP(B47,DATA!$H$3:$J$26,2,FALSE)))),0) -> 0 | C49: =IFERROR((MIN(ABS(VLOOKUP(C47,DATA!$H$3:$J$26,3,FALSE)-VLOOKUP(C48,DATA!$H$3:$J$26,2,FALSE)),ABS(VLOOKUP(C48,DATA!$H$3:$J$26,3,FALSE)-VLOOKUP(C47,DATA!$H$3:$J$26,2,FALSE)))),0) -> 0 | D49: =IFERROR((MIN(ABS(VLOOKUP(D47,DATA!$H$3:$J$26,3,FALSE)-VLOOKUP(D48,DATA!$H$3:$J$26,2,FALSE)),ABS(VLOOKUP(D48,DATA!$H$3:$J$26,3,FALSE)-VLOOKUP(D47,DATA!$H$3:$J$26,2,FALSE)))),0) -> 0 | E49: =IFERROR((MIN(ABS(VLOOKUP(E47,DATA!$H$3:$J$26,3,FALSE)-VLOOKUP(E48,DATA!$H$3:$J$26,2,FALSE)),ABS(VLOOKUP(E48,DATA!$H$3:$J$26,3,FALSE)-VLOOKUP(E47,DATA!$H$3:$J$26,2,FALSE)))),0) -> 0 | F49: =IFERROR((MIN(ABS(VLOOKUP(F47,DATA!$H$3:$J$26,3,FALSE)-VLOOKUP(F48,DATA!$H$3:$J$26,2,FALSE)),ABS(VLOOKUP(F48,DATA!$H$3:$J$26,3,FALSE)-VLOOKUP(F47,DATA!$H$3:$J$26,2,FALSE)))),0) -> 0 | G49: =IFERROR((MIN(ABS(VLOOKUP(G47,DATA!$H$3:$J$26,3,FALSE)-VLOOKUP(G48,DATA!$H$3:$J$26,2,FALSE)),ABS(VLOOKUP(G48,DATA!$H$3:$J$26,3,FALSE)-VLOOKUP(G47,DATA!$H$3:$J$26,2,FALSE)))),0) -> 0 | H49: =IFERROR((MIN(ABS(VLOOKUP(H47,DATA!$H$3:$J$26,3,FALSE)-VLOOKUP(H48,DATA!$H$3:$J$26,2,FALSE)),ABS(VLOOKUP(H48,DATA!$H$3:$J$26,3,FALSE)-VLOOKUP(H47,DATA!$H$3:$J$26,2,FALSE)))),0) -> 0 | I49: =IFERROR((MIN(ABS(VLOOKUP(I47,DATA!$H$3:$J$26,3,FALSE)-VLOOKUP(I48,DATA!$H$3:$J$26,2,FALSE)),ABS(VLOOKUP(I48,DATA!$H$3:$J$26,3,FALSE)-VLOOKUP(I47,DATA!$H$3:$J$26,2,FALSE)))),0) -> 0 | ... AF49: =IFERROR((MIN(ABS(VLOOKUP(AF47,DATA!$H$3:$J$26,3,FALSE)-VLOOKUP(AF48,DATA!$H$3:$J$26,2,FALSE)),ABS(VLOOKUP(AF48,DATA!$H$3:$J$26,3,FALSE)-VLOOKUP(AF47,DATA!$H$3:$J$26,2,FALSE)))),0) -> 0 | AG49: =SUM(B49:AF49) -> 0
A52: =B53 -> 44409 | B52: =IF(B53="","",UPPER(LEFT(TEXT(B53,"jjjj"),1))) -> D | C52: =IF(C53="","",UPPER(LEFT(TEXT(C53,"jjjj"),1))) -> L | D52: =IF(D53="","",UPPER(LEFT(TEXT(D53,"jjjj"),1))) -> M | E52: =IF(E53="","",UPPER(LEFT(TEXT(E53,"jjjj"),1))) -> M | F52: =IF(F53="","",UPPER(LEFT(TEXT(F53,"jjjj"),1))) -> J | G52: =IF(G53="","",UPPER(LEFT(TEXT(G53,"jjjj"),1))) -> V | H52: =IF(H53="","",UPPER(LEFT(TEXT(H53,"jjjj"),1))) -> S | I52: =IF(I53="","",UPPER(LEFT(TEXT(I53,"jjjj"),1))) -> D | ... AF52: =IF(AF53="","",UPPER(LEFT(TEXT(AF53,"jjjj"),1))) -> M
B53: =DATE(YEAR(B46),MONTH(B46)+1, 1) -> 44409 | C53: =IF(B53="","",IF(MONTH(B53)=MONTH(B53+1),B53+1,"")) -> 44410 | D53: =IF(C53="","",IF(MONTH(C53)=MONTH(C53+1),C53+1,"")) -> 44411 | E53: =IF(D53="","",IF(MONTH(D53)=MONTH(D53+1),D53+1,"")) -> 44412 | F53: =IF(E53="","",IF(MONTH(E53)=MONTH(E53+1),E53+1,"")) -> 44413 | G53: =IF(F53="","",IF(MONTH(F53)=MONTH(F53+1),F53+1,"")) -> 44414 | H53: =IF(G53="","",IF(MONTH(G53)=MONTH(G53+1),G53+1,"")) -> 44415 | I53: =IF(H53="","",IF(MONTH(H53)=MONTH(H53+1),H53+1,"")) -> 44416 | J53: =IF(I53="","",IF(MONTH(I53)=MONTH(I53+1),I53+1,"")) -> 44417 | ... AF53: =IF(AE53="","",IF(MONTH(AE53)=MONTH(AE53+1),AE53+1,"")) -> 44439
A54: Alice
A55: Seb | AG55: TOTAL
A56: TOTAL | B56: =IFERROR((MIN(ABS(VLOOKUP(B54,DATA!$H$3:$J$26,3,FALSE)-VLOOKUP(B55,DATA!$H$3:$J$26,2,FALSE)),ABS(VLOOKUP(B55,DATA!$H$3:$J$26,3,FALSE)-VLOOKUP(B54,DATA!$H$3:$J$26,2,FALSE)))),0) -> 0 | C56: =IFERROR((MIN(ABS(VLOOKUP(C54,DATA!$H$3:$J$26,3,FALSE)-VLOOKUP(C55,DATA!$H$3:$J$26,2,FALSE)),ABS(VLOOKUP(C55,DATA!$H$3:$J$26,3,FALSE)-VLOOKUP(C54,DATA!$H$3:$J$26,2,FALSE)))),0) -> 0 | D56: =IFERROR((MIN(ABS(VLOOKUP(D54,DATA!$H$3:$J$26,3,FALSE)-VLOOKUP(D55,DATA!$H$3:$J$26,2,FALSE)),ABS(VLOOKUP(D55,DATA!$H$3:$J$26,3,FALSE)-VLOOKUP(D54,DATA!$H$3:$J$26,2,FALSE)))),0) -> 0 | E56: =IFERROR((MIN(ABS(VLOOKUP(E54,DATA!$H$3:$J$26,3,FALSE)-VLOOKUP(E55,DATA!$H$3:$J$26,2,FALSE)),ABS(VLOOKUP(E55,DATA!$H$3:$J$26,3,FALSE)-VLOOKUP(E54,DATA!$H$3:$J$26,2,FALSE)))),0) -> 0 | F56: =IFERROR((MIN(ABS(VLOOKUP(F54,DATA!$H$3:$J$26,3,FALSE)-VLOOKUP(F55,DATA!$H$3:$J$26,2,FALSE)),ABS(VLOOKUP(F55,DATA!$H$3:$J$26,3,FALSE)-VLOOKUP(F54,DATA!$H$3:$J$26,2,FALSE)))),0) -> 0 | G56: =IFERROR((MIN(ABS(VLOOKUP(G54,DATA!$H$3:$J$26,3,FALSE)-VLOOKUP(G55,DATA!$H$3:$J$26,2,FALSE)),ABS(VLOOKUP(G55,DATA!$H$3:$J$26,3,FALSE)-VLOOKUP(G54,DATA!$H$3:$J$26,2,FALSE)))),0) -> 0 | H56: =IFERROR((MIN(ABS(VLOOKUP(H54,DATA!$H$3:$J$26,3,FALSE)-VLOOKUP(H55,DATA!$H$3:$J$26,2,FALSE)),ABS(VLOOKUP(H55,DATA!$H$3:$J$26,3,FALSE)-VLOOKUP(H54,DATA!$H$3:$J$26,2,FALSE)))),0) -> 0 | I56: =IFERROR((MIN(ABS(VLOOKUP(I54,DATA!$H$3:$J$26,3,FALSE)-VLOOKUP(I55,DATA!$H$3:$J$26,2,FALSE)),ABS(VLOOKUP(I55,DATA!$H$3:$J$26,3,FALSE)-VLOOKUP(I54,DATA!$H$3:$J$26,2,FALSE)))),0) -> 0 | ... AF56: =IFERROR((MIN(ABS(VLOOKUP(AF54,DATA!$H$3:$J$26,3,FALSE)-VLOOKUP(AF55,DATA!$H$3:$J$26,2,FALSE)),ABS(VLOOKUP(AF55,DATA!$H$3:$J$26,3,FALSE)-VLOOKUP(AF54,DATA!$H$3:$J$26,2,FALSE)))),0) -> 0 | AG56: =SUM(B56:AF56) -> 0
A59: =B60 -> 44440 | B59: =IF(B60="","",UPPER(LEFT(TEXT(B60,"jjjj"),1))) -> M | C59: =IF(C60="","",UPPER(LEFT(TEXT(C60,"jjjj"),1))) -> J | D59: =IF(D60="","",UPPER(LEFT(TEXT(D60,"jjjj"),1))) -> V | E59: =IF(E60="","",UPPER(LEFT(TEXT(E60,"jjjj"),1))) -> S | F59: =IF(F60="","",UPPER(LEFT(TEXT(F60,"jjjj"),1))) -> D | G59: =IF(G60="","",UPPER(LEFT(TEXT(G60,"jjjj"),1))) -> L | H59: =IF(H60="","",UPPER(LEFT(TEXT(H60,"jjjj"),1))) -> M | I59: =IF(I60="","",UPPER(LEFT(TEXT(I60,"jjjj"),1))) -> M | ... AF59: =IF(AF60="","",UPPER(LEFT(TEXT(AF60,"jjjj"),1)))
B60: =DATE(YEAR(B53),MONTH(B53)+1, 1) -> 44440 | C60: =IF(B60="","",IF(MONTH(B60)=MONTH(B60+1),B60+1,"")) -> 44441 | D60: =IF(C60="","",IF(MONTH(C60)=MONTH(C60+1),C60+1,"")) -> 44442 | E60: =IF(D60="","",IF(MONTH(D60)=MONTH(D60+1),D60+1,"")) -> 44443 | F60: =IF(E60="","",IF(MONTH(E60)=MONTH(E60+1),E60+1,"")) -> 44444 | G60: =IF(F60="","",IF(MONTH(F60)=MONTH(F60+1),F60+1,"")) -> 44445 | H60: =IF(G60="","",IF(MONTH(G60)=MONTH(G60+1),G60+1,"")) -> 44446 | I60: =IF(H60="","",IF(MONTH(H60)=MONTH(H60+1),H60+1,"")) -> 44447 | J60: =IF(I60="","",IF(MONTH(I60)=MONTH(I60+1),I60+1,"")) -> 44448 | ... AF60: =IF(AE60="","",IF(MONTH(AE60)=MONTH(AE60+1),AE60+1,""))
A61: Alice
A62: Seb | AG62: TOTAL
A63: TOTAL | B63: =IFERROR((MIN(ABS(VLOOKUP(B61,DATA!$H$3:$J$26,3,FALSE)-VLOOKUP(B62,DATA!$H$3:$J$26,2,FALSE)),ABS(VLOOKUP(B62,DATA!$H$3:$J$26,3,FALSE)-VLOOKUP(B61,DATA!$H$3:$J$26,2,FALSE)))),0) -> 0 | C63: =IFERROR((MIN(ABS(VLOOKUP(C61,DATA!$H$3:$J$26,3,FALSE)-VLOOKUP(C62,DATA!$H$3:$J$26,2,FALSE)),ABS(VLOOKUP(C62,DATA!$H$3:$J$26,3,FALSE)-VLOOKUP(C61,DATA!$H$3:$J$26,2,FALSE)))),0) -> 0 | D63: =IFERROR((MIN(ABS(VLOOKUP(D61,DATA!$H$3:$J$26,3,FALSE)-VLOOKUP(D62,DATA!$H$3:$J$26,2,FALSE)),ABS(VLOOKUP(D62,DATA!$H$3:$J$26,3,FALSE)-VLOOKUP(D61,DATA!$H$3:$J$26,2,FALSE)))),0) -> 0 | E63: =IFERROR((MIN(ABS(VLOOKUP(E61,DATA!$H$3:$J$26,3,FALSE)-VLOOKUP(E62,DATA!$H$3:$J$26,2,FALSE)),ABS(VLOOKUP(E62,DATA!$H$3:$J$26,3,FALSE)-VLOOKUP(E61,DATA!$H$3:$J$26,2,FALSE)))),0) -> 0 | F63: =IFERROR((MIN(ABS(VLOOKUP(F61,DATA!$H$3:$J$26,3,FALSE)-VLOOKUP(F62,DATA!$H$3:$J$26,2,FALSE)),ABS(VLOOKUP(F62,DATA!$H$3:$J$26,3,FALSE)-VLOOKUP(F61,DATA!$H$3:$J$26,2,FALSE)))),0) -> 0 | G63: =IFERROR((MIN(ABS(VLOOKUP(G61,DATA!$H$3:$J$26,3,FALSE)-VLOOKUP(G62,DATA!$H$3:$J$26,2,FALSE)),ABS(VLOOKUP(G62,DATA!$H$3:$J$26,3,FALSE)-VLOOKUP(G61,DATA!$H$3:$J$26,2,FALSE)))),0) -> 0 | H63: =IFERROR((MIN(ABS(VLOOKUP(H61,DATA!$H$3:$J$26,3,FALSE)-VLOOKUP(H62,DATA!$H$3:$J$26,2,FALSE)),ABS(VLOOKUP(H62,DATA!$H$3:$J$26,3,FALSE)-VLOOKUP(H61,DATA!$H$3:$J$26,2,FALSE)))),0) -> 0 | I63: =IFERROR((MIN(ABS(VLOOKUP(I61,DATA!$H$3:$J$26,3,FALSE)-VLOOKUP(I62,DATA!$H$3:$J$26,2,FALSE)),ABS(VLOOKUP(I62,DATA!$H$3:$J$26,3,FALSE)-VLOOKUP(I61,DATA!$H$3:$J$26,2,FALSE)))),0) -> 0 | ... AF63: =IFERROR((MIN(ABS(VLOOKUP(AF61,DATA!$H$3:$J$26,3,FALSE)-VLOOKUP(AF62,DATA!$H$3:$J$26,2,FALSE)),ABS(VLOOKUP(AF62,DATA!$H$3:$J$26,3,FALSE)-VLOOKUP(AF61,DATA!$H$3:$J$26,2,FALSE)))),0) -> 0 | AG63: =SUM(B63:AF63) -> 0
A66: =B67 -> 44470 | B66: =IF(B67="","",UPPER(LEFT(TEXT(B67,"jjjj"),1))) -> V | C66: =IF(C67="","",UPPER(LEFT(TEXT(C67,"jjjj"),1))) -> S | D66: =IF(D67="","",UPPER(LEFT(TEXT(D67,"jjjj"),1))) -> D | E66: =IF(E67="","",UPPER(LEFT(TEXT(E67,"jjjj"),1))) -> L | F66: =IF(F67="","",UPPER(LEFT(TEXT(F67,"jjjj"),1))) -> M | G66: =IF(G67="","",UPPER(LEFT(TEXT(G67,"jjjj"),1))) -> M | H66: =IF(H67="","",UPPER(LEFT(TEXT(H67,"jjjj"),1))) -> J | I66: =IF(I67="","",UPPER(LEFT(TEXT(I67,"jjjj"),1))) -> V | ... AF66: =IF(AF67="","",UPPER(LEFT(TEXT(AF67,"jjjj"),1))) -> D
B67: =DATE(YEAR(B60),MONTH(B60)+1, 1) -> 44470 | C67: =IF(B67="","",IF(MONTH(B67)=MONTH(B67+1),B67+1,"")) -> 44471 | D67: =IF(C67="","",IF(MONTH(C67)=MONTH(C67+1),C67+1,"")) -> 44472 | E67: =IF(D67="","",IF(MONTH(D67)=MONTH(D67+1),D67+1,"")) -> 44473 | F67: =IF(E67="","",IF(MONTH(E67)=MONTH(E67+1),E67+1,"")) -> 44474 | G67: =IF(F67="","",IF(MONTH(F67)=MONTH(F67+1),F67+1,"")) -> 44475 | H67: =IF(G67="","",IF(MONTH(G67)=MONTH(G67+1),G67+1,"")) -> 44476 | I67: =IF(H67="","",IF(MONTH(H67)=MONTH(H67+1),H67+1,"")) -> 44477 | J67: =IF(I67="","",IF(MONTH(I67)=MONTH(I67+1),I67+1,"")) -> 44478 | ... AF67: =IF(AE67="","",IF(MONTH(AE67)=MONTH(AE67+1),AE67+1,"")) -> 44500
A68: Alice
A69: Seb | AG69: TOTAL
A70: TOTAL | B70: =IFERROR((MIN(ABS(VLOOKUP(B68,DATA!$H$3:$J$26,3,FALSE)-VLOOKUP(B69,DATA!$H$3:$J$26,2,FALSE)),ABS(VLOOKUP(B69,DATA!$H$3:$J$26,3,FALSE)-VLOOKUP(B68,DATA!$H$3:$J$26,2,FALSE)))),0) -> 0 | C70: =IFERROR((MIN(ABS(VLOOKUP(C68,DATA!$H$3:$J$26,3,FALSE)-VLOOKUP(C69,DATA!$H$3:$J$26,2,FALSE)),ABS(VLOOKUP(C69,DATA!$H$3:$J$26,3,FALSE)-VLOOKUP(C68,DATA!$H$3:$J$26,2,FALSE)))),0) -> 0 | D70: =IFERROR((MIN(ABS(VLOOKUP(D68,DATA!$H$3:$J$26,3,FALSE)-VLOOKUP(D69,DATA!$H$3:$J$26,2,FALSE)),ABS(VLOOKUP(D69,DATA!$H$3:$J$26,3,FALSE)-VLOOKUP(D68,DATA!$H$3:$J$26,2,FALSE)))),0) -> 0 | E70: =IFERROR((MIN(ABS(VLOOKUP(E68,DATA!$H$3:$J$26,3,FALSE)-VLOOKUP(E69,DATA!$H$3:$J$26,2,FALSE)),ABS(VLOOKUP(E69,DATA!$H$3:$J$26,3,FALSE)-VLOOKUP(E68,DATA!$H$3:$J$26,2,FALSE)))),0) -> 0 | F70: =IFERROR((MIN(ABS(VLOOKUP(F68,DATA!$H$3:$J$26,3,FALSE)-VLOOKUP(F69,DATA!$H$3:$J$26,2,FALSE)),ABS(VLOOKUP(F69,DATA!$H$3:$J$26,3,FALSE)-VLOOKUP(F68,DATA!$H$3:$J$26,2,FALSE)))),0) -> 0 | G70: =IFERROR((MIN(ABS(VLOOKUP(G68,DATA!$H$3:$J$26,3,FALSE)-VLOOKUP(G69,DATA!$H$3:$J$26,2,FALSE)),ABS(VLOOKUP(G69,DATA!$H$3:$J$26,3,FALSE)-VLOOKUP(G68,DATA!$H$3:$J$26,2,FALSE)))),0) -> 0 | H70: =IFERROR((MIN(ABS(VLOOKUP(H68,DATA!$H$3:$J$26,3,FALSE)-VLOOKUP(H69,DATA!$H$3:$J$26,2,FALSE)),ABS(VLOOKUP(H69,DATA!$H$3:$J$26,3,FALSE)-VLOOKUP(H68,DATA!$H$3:$J$26,2,FALSE)))),0) -> 0 | I70: =IFERROR((MIN(ABS(VLOOKUP(I68,DATA!$H$3:$J$26,3,FALSE)-VLOOKUP(I69,DATA!$H$3:$J$26,2,FALSE)),ABS(VLOOKUP(I69,DATA!$H$3:$J$26,3,FALSE)-VLOOKUP(I68,DATA!$H$3:$J$26,2,FALSE)))),0) -> 0 | ... AF70: =IFERROR((MIN(ABS(VLOOKUP(AF68,DATA!$H$3:$J$26,3,FALSE)-VLOOKUP(AF69,DATA!$H$3:$J$26,2,FALSE)),ABS(VLOOKUP(AF69,DATA!$H$3:$J$26,3,FALSE)-VLOOKUP(AF68,DATA!$H$3:$J$26,2,FALSE)))),0) -> 0 | AG70: =SUM(B70:AF70) -> 0
A73: =B74 -> 44501 | B73: =IF(B74="","",UPPER(LEFT(TEXT(B74,"jjjj"),1))) -> L | C73: =IF(C74="","",UPPER(LEFT(TEXT(C74,"jjjj"),1))) -> M | D73: =IF(D74="","",UPPER(LEFT(TEXT(D74,"jjjj"),1))) -> M | E73: =IF(E74="","",UPPER(LEFT(TEXT(E74,"jjjj"),1))) -> J | F73: =IF(F74="","",UPPER(LEFT(TEXT(F74,"jjjj"),1))) -> V | G73: =IF(G74="","",UPPER(LEFT(TEXT(G74,"jjjj"),1))) -> S | H73: =IF(H74="","",UPPER(LEFT(TEXT(H74,"jjjj"),1))) -> D | I73: =IF(I74="","",UPPER(LEFT(TEXT(I74,"jjjj"),1))) -> L | ... AF73: =IF(AF74="","",UPPER(LEFT(TEXT(AF74,"jjjj"),1)))
B74: =DATE(YEAR(B67),MONTH(B67)+1, 1) -> 44501 | C74: =IF(B74="","",IF(MONTH(B74)=MONTH(B74+1),B74+1,"")) -> 44502 | D74: =IF(C74="","",IF(MONTH(C74)=MONTH(C74+1),C74+1,"")) -> 44503 | E74: =IF(D74="","",IF(MONTH(D74)=MONTH(D74+1),D74+1,"")) -> 44504 | F74: =IF(E74="","",IF(MONTH(E74)=MONTH(E74+1),E74+1,"")) -> 44505 | G74: =IF(F74="","",IF(MONTH(F74)=MONTH(F74+1),F74+1,"")) -> 44506 | H74: =IF(G74="","",IF(MONTH(G74)=MONTH(G74+1),G74+1,"")) -> 44507 | I74: =IF(H74="","",IF(MONTH(H74)=MONTH(H74+1),H74+1,"")) -> 44508 | J74: =IF(I74="","",IF(MONTH(I74)=MONTH(I74+1),I74+1,"")) -> 44509 | ... AF74: =IF(AE74="","",IF(MONTH(AE74)=MONTH(AE74+1),AE74+1,""))
A75: Alice
A76: Seb | AG76: TOTAL
A77: TOTAL | B77: =IFERROR((MIN(ABS(VLOOKUP(B75,DATA!$H$3:$J$26,3,FALSE)-VLOOKUP(B76,DATA!$H$3:$J$26,2,FALSE)),ABS(VLOOKUP(B76,DATA!$H$3:$J$26,3,FALSE)-VLOOKUP(B75,DATA!$H$3:$J$26,2,FALSE)))),0) -> 0 | C77: =IFERROR((MIN(ABS(VLOOKUP(C75,DATA!$H$3:$J$26,3,FALSE)-VLOOKUP(C76,DATA!$H$3:$J$26,2,FALSE)),ABS(VLOOKUP(C76,DATA!$H$3:$J$26,3,FALSE)-VLOOKUP(C75,DATA!$H$3:$J$26,2,FALSE)))),0) -> 0 | D77: =IFERROR((MIN(ABS(VLOOKUP(D75,DATA!$H$3:$J$26,3,FALSE)-VLOOKUP(D76,DATA!$H$3:$J$26,2,FALSE)),ABS(VLOOKUP(D76,DATA!$H$3:$J$26,3,FALSE)-VLOOKUP(D75,DATA!$H$3:$J$26,2,FALSE)))),0) -> 0 | E77: =IFERROR((MIN(ABS(VLOOKUP(E75,DATA!$H$3:$J$26,3,FALSE)-VLOOKUP(E76,DATA!$H$3:$J$26,2,FALSE)),ABS(VLOOKUP(E76,DATA!$H$3:$J$26,3,FALSE)-VLOOKUP(E75,DATA!$H$3:$J$26,2,FALSE)))),0) -> 0 | F77: =IFERROR((MIN(ABS(VLOOKUP(F75,DATA!$H$3:$J$26,3,FALSE)-VLOOKUP(F76,DATA!$H$3:$J$26,2,FALSE)),ABS(VLOOKUP(F76,DATA!$H$3:$J$26,3,FALSE)-VLOOKUP(F75,DATA!$H$3:$J$26,2,FALSE)))),0) -> 0 | G77: =IFERROR((MIN(ABS(VLOOKUP(G75,DATA!$H$3:$J$26,3,FALSE)-VLOOKUP(G76,DATA!$H$3:$J$26,2,FALSE)),ABS(VLOOKUP(G76,DATA!$H$3:$J$26,3,FALSE)-VLOOKUP(G75,DATA!$H$3:$J$26,2,FALSE)))),0) -> 0 | H77: =IFERROR((MIN(ABS(VLOOKUP(H75,DATA!$H$3:$J$26,3,FALSE)-VLOOKUP(H76,DATA!$H$3:$J$26,2,FALSE)),ABS(VLOOKUP(H76,DATA!$H$3:$J$26,3,FALSE)-VLOOKUP(H75,DATA!$H$3:$J$26,2,FALSE)))),0) -> 0 | I77: =IFERROR((MIN(ABS(VLOOKUP(I75,DATA!$H$3:$J$26,3,FALSE)-VLOOKUP(I76,DATA!$H$3:$J$26,2,FALSE)),ABS(VLOOKUP(I76,DATA!$H$3:$J$26,3,FALSE)-VLOOKUP(I75,DATA!$H$3:$J$26,2,FALSE)))),0) -> 0 | ... AF77: =IFERROR((MIN(ABS(VLOOKUP(AF75,DATA!$H$3:$J$26,3,FALSE)-VLOOKUP(AF76,DATA!$H$3:$J$26,2,FALSE)),ABS(VLOOKUP(AF76,DATA!$H$3:$J$26,3,FALSE)-VLOOKUP(AF75,DATA!$H$3:$J$26,2,FALSE)))),0) -> 0 | AG77: =SUM(B77:AF77) -> 0
A80: =B81 -> 44531 | B80: =IF(B81="","",UPPER(LEFT(TEXT(B81,"jjjj"),1))) -> M | C80: =IF(C81="","",UPPER(LEFT(TEXT(C81,"jjjj"),1))) -> J | D80: =IF(D81="","",UPPER(LEFT(TEXT(D81,"jjjj"),1))) -> V | E80: =IF(E81="","",UPPER(LEFT(TEXT(E81,"jjjj"),1))) -> S | F80: =IF(F81="","",UPPER(LEFT(TEXT(F81,"jjjj"),1))) -> D | G80: =IF(G81="","",UPPER(LEFT(TEXT(G81,"jjjj"),1))) -> L | H80: =IF(H81="","",UPPER(LEFT(TEXT(H81,"jjjj"),1))) -> M | I80: =IF(I81="","",UPPER(LEFT(TEXT(I81,"jjjj"),1))) -> M | ... AF80: =IF(AF81="","",UPPER(LEFT(TEXT(AF81,"jjjj"),1))) -> V
B81: =DATE(YEAR(B74),MONTH(B74)+1, 1) -> 44531 | C81: =IF(B81="","",IF(MONTH(B81)=MONTH(B81+1),B81+1,"")) -> 44532 | D81: =IF(C81="","",IF(MONTH(C81)=MONTH(C81+1),C81+1,"")) -> 44533 | E81: =IF(D81="","",IF(MONTH(D81)=MONTH(D81+1),D81+1,"")) -> 44534 | F81: =IF(E81="","",IF(MONTH(E81)=MONTH(E81+1),E81+1,"")) -> 44535 | G81: =IF(F81="","",IF(MONTH(F81)=MONTH(F81+1),F81+1,"")) -> 44536 | H81: =IF(G81="","",IF(MONTH(G81)=MONTH(G81+1),G81+1,"")) -> 44537 | I81: =IF(H81="","",IF(MONTH(H81)=MONTH(H81+1),H81+1,"")) -> 44538 | J81: =IF(I81="","",IF(MONTH(I81)=MONTH(I81+1),I81+1,"")) -> 44539 | ... AF81: =IF(AE81="","",IF(MONTH(AE81)=MONTH(AE81+1),AE81+1,"")) -> 44561
A82: Alice
A83: Seb | AG83: TOTAL
A84: TOTAL | B84: =IFERROR((MIN(ABS(VLOOKUP(B82,DATA!$H$3:$J$26,3,FALSE)-VLOOKUP(B83,DATA!$H$3:$J$26,2,FALSE)),ABS(VLOOKUP(B83,DATA!$H$3:$J$26,3,FALSE)-VLOOKUP(B82,DATA!$H$3:$J$26,2,FALSE)))),0) -> 0 | C84: =IFERROR((MIN(ABS(VLOOKUP(C82,DATA!$H$3:$J$26,3,FALSE)-VLOOKUP(C83,DATA!$H$3:$J$26,2,FALSE)),ABS(VLOOKUP(C83,DATA!$H$3:$J$26,3,FALSE)-VLOOKUP(C82,DATA!$H$3:$J$26,2,FALSE)))),0) -> 0 | D84: =IFERROR((MIN(ABS(VLOOKUP(D82,DATA!$H$3:$J$26,3,FALSE)-VLOOKUP(D83,DATA!$H$3:$J$26,2,FALSE)),ABS(VLOOKUP(D83,DATA!$H$3:$J$26,3,FALSE)-VLOOKUP(D82,DATA!$H$3:$J$26,2,FALSE)))),0) -> 0 | E84: =IFERROR((MIN(ABS(VLOOKUP(E82,DATA!$H$3:$J$26,3,FALSE)-VLOOKUP(E83,DATA!$H$3:$J$26,2,FALSE)),ABS(VLOOKUP(E83,DATA!$H$3:$J$26,3,FALSE)-VLOOKUP(E82,DATA!$H$3:$J$26,2,FALSE)))),0) -> 0 | F84: =IFERROR((MIN(ABS(VLOOKUP(F82,DATA!$H$3:$J$26,3,FALSE)-VLOOKUP(F83,DATA!$H$3:$J$26,2,FALSE)),ABS(VLOOKUP(F83,DATA!$H$3:$J$26,3,FALSE)-VLOOKUP(F82,DATA!$H$3:$J$26,2,FALSE)))),0) -> 0 | G84: =IFERROR((MIN(ABS(VLOOKUP(G82,DATA!$H$3:$J$26,3,FALSE)-VLOOKUP(G83,DATA!$H$3:$J$26,2,FALSE)),ABS(VLOOKUP(G83,DATA!$H$3:$J$26,3,FALSE)-VLOOKUP(G82,DATA!$H$3:$J$26,2,FALSE)))),0) -> 0 | H84: =IFERROR((MIN(ABS(VLOOKUP(H82,DATA!$H$3:$J$26,3,FALSE)-VLOOKUP(H83,DATA!$H$3:$J$26,2,FALSE)),ABS(VLOOKUP(H83,DATA!$H$3:$J$26,3,FALSE)-VLOOKUP(H82,DATA!$H$3:$J$26,2,FALSE)))),0) -> 0 | I84: =IFERROR((MIN(ABS(VLOOKUP(I82,DATA!$H$3:$J$26,3,FALSE)-VLOOKUP(I83,DATA!$H$3:$J$26,2,FALSE)),ABS(VLOOKUP(I83,DATA!$H$3:$J$26,3,FALSE)-VLOOKUP(I82,DATA!$H$3:$J$26,2,FALSE)))),0) -> 0 | ... AF84: =IFERROR((MIN(ABS(VLOOKUP(AF82,DATA!$H$3:$J$26,3,FALSE)-VLOOKUP(AF83,DATA!$H$3:$J$26,2,FALSE)),ABS(VLOOKUP(AF83,DATA!$H$3:$J$26,3,FALSE)-VLOOKUP(AF82,DATA!$H$3:$J$26,2,FALSE)))),0) -> 0 | AG84: =SUM(B84:AF84) -> 0
A87: =B88 -> 44562 | B87: =IF(B88="","",UPPER(LEFT(TEXT(B88,"jjjj"),1))) -> S | C87: =IF(C88="","",UPPER(LEFT(TEXT(C88,"jjjj"),1))) -> D | D87: =IF(D88="","",UPPER(LEFT(TEXT(D88,"jjjj"),1))) -> L | E87: =IF(E88="","",UPPER(LEFT(TEXT(E88,"jjjj"),1))) -> M | F87: =IF(F88="","",UPPER(LEFT(TEXT(F88,"jjjj"),1))) -> M | G87: =IF(G88="","",UPPER(LEFT(TEXT(G88,"jjjj"),1))) -> J | H87: =IF(H88="","",UPPER(LEFT(TEXT(H88,"jjjj"),1))) -> V | I87: =IF(I88="","",UPPER(LEFT(TEXT(I88,"jjjj"),1))) -> S | ... AF87: =IF(AF88="","",UPPER(LEFT(TEXT(AF88,"jjjj"),1))) -> L
B88: =DATE(YEAR(B81),MONTH(B81)+1, 1) -> 44562 | C88: =IF(B88="","",IF(MONTH(B88)=MONTH(B88+1),B88+1,"")) -> 44563 | D88: =IF(C88="","",IF(MONTH(C88)=MONTH(C88+1),C88+1,"")) -> 44564 | E88: =IF(D88="","",IF(MONTH(D88)=MONTH(D88+1),D88+1,"")) -> 44565 | F88: =IF(E88="","",IF(MONTH(E88)=MONTH(E88+1),E88+1,"")) -> 44566 | G88: =IF(F88="","",IF(MONTH(F88)=MONTH(F88+1),F88+1,"")) -> 44567 | H88: =IF(G88="","",IF(MONTH(G88)=MONTH(G88+1),G88+1,"")) -> 44568 | I88: =IF(H88="","",IF(MONTH(H88)=MONTH(H88+1),H88+1,"")) -> 44569 | J88: =IF(I88="","",IF(MONTH(I88)=MONTH(I88+1),I88+1,"")) -> 44570 | ... AF88: =IF(AE88="","",IF(MONTH(AE88)=MONTH(AE88+1),AE88+1,"")) -> 44592
A89: Alice
A90: Seb | AG90: TOTAL
A91: TOTAL | B91: =IFERROR((MIN(ABS(VLOOKUP(B89,DATA!$H$3:$J$26,3,FALSE)-VLOOKUP(B90,DATA!$H$3:$J$26,2,FALSE)),ABS(VLOOKUP(B90,DATA!$H$3:$J$26,3,FALSE)-VLOOKUP(B89,DATA!$H$3:$J$26,2,FALSE)))),0) -> 0 | C91: =IFERROR((MIN(ABS(VLOOKUP(C89,DATA!$H$3:$J$26,3,FALSE)-VLOOKUP(C90,DATA!$H$3:$J$26,2,FALSE)),ABS(VLOOKUP(C90,DATA!$H$3:$J$26,3,FALSE)-VLOOKUP(C89,DATA!$H$3:$J$26,2,FALSE)))),0) -> 0 | D91: =IFERROR((MIN(ABS(VLOOKUP(D89,DATA!$H$3:$J$26,3,FALSE)-VLOOKUP(D90,DATA!$H$3:$J$26,2,FALSE)),ABS(VLOOKUP(D90,DATA!$H$3:$J$26,3,FALSE)-VLOOKUP(D89,DATA!$H$3:$J$26,2,FALSE)))),0) -> 0 | E91: =IFERROR((MIN(ABS(VLOOKUP(E89,DATA!$H$3:$J$26,3,FALSE)-VLOOKUP(E90,DATA!$H$3:$J$26,2,FALSE)),ABS(VLOOKUP(E90,DATA!$H$3:$J$26,3,FALSE)-VLOOKUP(E89,DATA!$H$3:$J$26,2,FALSE)))),0) -> 0 | F91: =IFERROR((MIN(ABS(VLOOKUP(F89,DATA!$H$3:$J$26,3,FALSE)-VLOOKUP(F90,DATA!$H$3:$J$26,2,FALSE)),ABS(VLOOKUP(F90,DATA!$H$3:$J$26,3,FALSE)-VLOOKUP(F89,DATA!$H$3:$J$26,2,FALSE)))),0) -> 0 | G91: =IFERROR((MIN(ABS(VLOOKUP(G89,DATA!$H$3:$J$26,3,FALSE)-VLOOKUP(G90,DATA!$H$3:$J$26,2,FALSE)),ABS(VLOOKUP(G90,DATA!$H$3:$J$26,3,FALSE)-VLOOKUP(G89,DATA!$H$3:$J$26,2,FALSE)))),0) -> 0 | H91: =IFERROR((MIN(ABS(VLOOKUP(H89,DATA!$H$3:$J$26,3,FALSE)-VLOOKUP(H90,DATA!$H$3:$J$26,2,FALSE)),ABS(VLOOKUP(H90,DATA!$H$3:$J$26,3,FALSE)-VLOOKUP(H89,DATA!$H$3:$J$26,2,FALSE)))),0) -> 0 | I91: =IFERROR((MIN(ABS(VLOOKUP(I89,DATA!$H$3:$J$26,3,FALSE)-VLOOKUP(I90,DATA!$H$3:$J$26,2,FALSE)),ABS(VLOOKUP(I90,DATA!$H$3:$J$26,3,FALSE)-VLOOKUP(I89,DATA!$H$3:$J$26,2,FALSE)))),0) -> 0 | ... AF91: =IFERROR((MIN(ABS(VLOOKUP(AF89,DATA!$H$3:$J$26,3,FALSE)-VLOOKUP(AF90,DATA!$H$3:$J$26,2,FALSE)),ABS(VLOOKUP(AF90,DATA!$H$3:$J$26,3,FALSE)-VLOOKUP(AF89,DATA!$H$3:$J$26,2,FALSE)))),0) -> 0 | AG91: =SUM(B91:AF91) -> 0

Sheet DATA
B2: le calendrier commence au mois n° | F2: Horraire de travail possible : | H2: code horaire : | I2: je pose mon enfant a : | J2: je le récupère a :
C3: 1
C4: de l'année : | F4: 8h | G4: 16h | H4: J1 | I4: 0.29513889 | J4: 0.6875
C5: 2021 | F5: 8h | G5: 15h30 | H5: J2 | I5: 0.29513889 | J5: 0.70833333
F6: 8h | G6: 15h | H6: J3 | I6: 0.29513889 | J6: 0.64583333
F7: 8h | G7: 15h30 | H7: J4 | I7: 0.29513889 | J7: 0.66666667
F8: 13h | G8: 21h | H8: S1 | I8: 0.50347222 | J8: 0.89583333
F9: 13h | G9: 20h | H9: S2 | I9: 0.50347222 | J9: 0.85416667
F10: 12h | G10: 19h | H10: S3 | I10: 0.46180556 | J10: 0.8125
F11: 13h | G11: 20h30 | H11: S4 | I11: 0.50347222 | J11: 0.875
F12: 5h | G12: 13h | H12: M1 | I12: 0.17013889 | J12: 0.5625
F13: 6h | G13: 14h | H13: M2 | I13: 0.21527778 | J13: 0.60416667
F14: 6h | G14: 13h | H14: M3 | I14: 0.21527778 | J14: 0.5625
F15: 5h | G15: 12h | H15: M4 | I15: 0.17013889 | J15: 0.52083333
F16: 6h | G16: 13h30 | H16: M5 | I16: 0.21527778 | J16: 0.58333333
F17: 21h | G17: 5h | H17: N1 | I17: 0.83680556 | J17: 0.22916667
F18: 19h | G18: 2h | H18: N2 | I18: 0.75347222 | J18: 0.10416667
