Workbook

Sheet Feuil1
A1: Commande | B1: Quantité | C1: Code barre | E1: résultats souhaité
A2: vin blanc | B2: 4 | C2: =VLOOKUP(A2,Feuil2!A$1:B$4,2,FALSE) -> 48065684 | E2: =C$2 -> 48065684
A3: rouge | B3: 3 | C3: =VLOOKUP(Feuil1!A3,Feuil2!A1:B4,2,FALSE) -> 28165464 | E3: =C$2 -> 48065684
A4: champagne | B4: 7 | C4: =VLOOKUP(A4,Feuil2!A$1:B$4,2,FALSE) -> 26879415 | E4: =C$2 -> 48065684
C5: =VLOOKUP(A5,Feuil2!A$1:B$4,2,FALSE) -> #N/A | E5: =C$2 -> 48065684
C6: =VLOOKUP(A6,Feuil2!A$1:B$4,2,FALSE) -> #N/A | E6: =C$3 -> 28165464
C7: =VLOOKUP(A7,Feuil2!A$1:B$4,2,FALSE) -> #N/A | E7: =C$3 -> 28165464
C8: =VLOOKUP(A8,Feuil2!A$1:B$4,2,FALSE) -> #N/A | E8: =C$3 -> 28165464
C9: =VLOOKUP(A9,Feuil2!A$1:B$4,2,FALSE) -> #N/A | E9: =C$4 -> 26879415
C10: =VLOOKUP(A10,Feuil2!A$1:B$4,2,FALSE) -> #N/A | E10: =C$4 -> 26879415
C11: =VLOOKUP(A11,Feuil2!A$1:B$4,2,FALSE) -> #N/A | E11: =C$4 -> 26879415
C12: =VLOOKUP(A12,Feuil2!A$1:B$4,2,FALSE) -> #N/A | E12: =C$4 -> 26879415
C13: =VLOOKUP(A13,Feuil2!A$1:B$4,2,FALSE) -> #N/A | E13: =C$4 -> 26879415
C14: =VLOOKUP(A14,Feuil2!A$1:B$4,2,FALSE) -> #N/A | E14: =C$4 -> 26879415
C15: =VLOOKUP(A15,Feuil2!A$1:B$4,2,FALSE) -> #N/A | E15: =C$4 -> 26879415
C16: =VLOOKUP(A16,Feuil2!A$1:B$4,2,FALSE) -> #N/A

Sheet Feuil2
A1: vin blanc | B1: 48065684
A2: rouge | B2: 28165464
A3: rosé | B3: 56840687
A4: champagne | B4: 26879415
