Workbook

Sheet Instructions
A1: Courbes de croissances
A2: Ces courbes de croissances sont dérivées :
B3: - des courbes OMS pour les enfants de 0 à 3 ans
B4: - des courbes flamandes/françaises/CDC pour les enfants de 2 à 18 ans
B5: - des courbes IOTF pour le BMI
A7: Toutes les données utilisées pour la réalisation de ces courbes sont libres d'accès.
A8: Ce fichier s'inspire de données réalisées par ****
A10: Conseils d'utilisation
A11: Cliquez sur l'onglet pour sélectionner la page voulue.
A12: Les cellules en jaunes sont les cellules où introduire les données.
A14: Patient | C14: Informations concernant le patient (date de naissance, sexe, âge gestationnel, taille des parents, …)
A15: Données | C15: Feuille où il faut encoder les données anthropométriques de l'enfant
A16: Courbes 0-3 ans | C16: Courbes de croissances de 0 à 3 ans, selon les courbes OMS et pour le sexe de l'enfant
A17: Courbes 2-20 ans | C17: Courbes de croissances de 2 à 20 ans, selon les courbes ***
A18: Résumé des valeurs | C18: Tableau de toutes les valeurs encodées.
A20: Impression des courbes
A21: Allez à la page désirée. Cliquez sur "imprimer" et sélectionnez la page désirée.
A23: Références
A24: 1. Anthropomorphic tables and LMS representation from CDC. See www.cdc.gov/growthcharts.
A25: 2. Blood pressure percentiles and index from
A26: National High Blood Pressure Education Program Working Group on High Blood Pressure in Children and Adolescents. The Fourth Report on the Diagnosis, Evaluation,
A27: and Treatment of High Blood Pressure in Children. Pediatrics. 2004; 114: 555-576.

Sheet Options
A1: Chart Options
A2: If you plan to use these charts for multiple patients, save the empty workbook after completing this information once, and
A3: you can then fill in the patient-specific information with a separate spreadsheet per patient.
A5: Enter data in Metric (cm, kg) instead of English (lb, kg) | B5: TRUE
A7: Height/Length, Weight, and OFC Charts
A8: Show 3rd/97th Percentile | B8: TRUE
A9: Show 15th/85th Percentile | B9: TRUE
A10: Show 25th/75th Percentile | B10: TRUE
A12: BMI Charts
A13: Show 3rd Percentile | B13: =B8 -> TRUE
A14: Show 5th Percentile | B14: =B9 -> TRUE
A15: Show 25th/75th Percentile | B15: =B10 -> TRUE
A16: We will show the Overweight (85th percentile), Obese (95th percentile or 30.0), and Very Obese (99th percentile or 40.0) curves automatically.
A18: Percentile Calculation
A19: Percentile Calculation Library is Loaded: | B19: =NOT(ISERROR(_xll.CmFromIn(20))) -> FALSE
A21: To load the calculation library (Anthrop.XLL), assuming that it has been unzipped with this spreadsheet into a directory:
A22: 1. Choose Tools/Add-Ins...
A23: 2. Click the Browse... button
A24: 3. Find the Anthrop.XLL library, and click OK to open it.
A25: 4. The Add-In dialog should now have an add-in called "Anthropomorphic" with a check mark by it. Click OK.
A26: 5. Save this spreadsheet and close Excel. Upon reopening the spreadsheet, the library should be loaded.

Sheet Patient
A1: Informations concernant le patient
A3: Ces données sont obligatoires pour une utilisation correcte des courbes de croissance.
B5: Nom :
B6: Prénom :
B8: Date de naissance : | D8: (JJ/MM/AA) | E8: Obligatoire
B9: Sexe : | C9: M | D9: ="(M or F)" -> (M or F) | E9: Obligatoire
B10: Age gestationnel : | D10: semaines | E10: Obligatoire
D11: jours | E11: Optionnel
B12: Date de naissance corrigée : | C12: =C8+((40*7)-(C10*7)-C11) -> 280 | E12: Calculée
C14: =IF(D14<>"",IF(D14,"Masculin","Féminin"),"") -> Masculin | D14: =IF(C9<>"",MID(C9,1,1)="m","") -> TRUE
B15: Taille de la mère : | D15: =IF(Options!$B$5,"cm","in") -> cm | E15: Optionnel
B16: Taille du père : | D16: =IF(Options!$B$5,"cm","in") -> cm | E16: Optionnel
B18: Taille adulte calculée : | C18: =IF(AND(Options!$B$5<>"",C15<>"",C16<>"",D14<>""),(C15+C16+IF(D14,IF(Options!$B$5,13,13/2.54),IF(Options!$B$5,-13,-13/2.54)))/2,"") | D18: =IF(Options!$B$5,"cm","in") -> cm

Sheet Données
A1: Données du patient
A2: Pour chaque visite, il faut au minimum la date de la mesure
A3: Note : l'ordre d'encodage n'a pas d'importance sur la réalisation des courbes.
I4: Sexe : | J4: =IF(Patient!$C$14<>"",Patient!$C$14,"") -> Masculin | M4: Date de naissance : | N4: =IF(Patient!$C$8<>"",Patient!$C$8,"")
M5: Terme prévu : | N5: =Patient!C12 -> 280
A7: Date : | E7: Age: | F7: =IF(H7<>"",(IF(K7>=1,IF(K7>=2,CONCATENATE(TRUNC(K7)," ans ",TRUNC(J7-(12*INT(K7)))," mois"),CONCATENATE(TRUNC(K7)," an ",TRUNC(J7-(12*INT(K7)))," mois")),IF(J7>=2,CONCATENATE(TRUNC(J7)," mois"),IF(I7>=2,CONCATENATE(TRUNC(I7)," semaines"),IF(H7>=2,CONCATENATE(TRUNC(H7)," jours"),IF(H7>=1,CONCATENATE(TRUNC(H7)," jour"),"< 1 day")))))),"") | H7: =IF(AND(B7<>"",$N$4<>""),B7-$N$4,"") | I7: =IF(H7<>"",H7/7,"") | J7: =IF(H7<>"",12*H7/365.25,"") | K7: =IF(H7<>"",IF(H7<365*4,H7/365,H7/365.25),"")
E8: Age corrigé: | F8: =IF(H8<>"",(IF(K8>=1,IF(K8>=2,CONCATENATE(TRUNC(K8)," ans ",TRUNC(J8-(12*INT(K8)))," mois"),CONCATENATE(TRUNC(K8)," an ",TRUNC(J8-(12*INT(K8)))," mois")),IF(J8>=2,CONCATENATE(INT(J8)," mois"),IF(I8>=2,CONCATENATE(TRUNC(I8)," semaines"),IF(H8>=2,CONCATENATE(TRUNC(H8)," jours"),IF(H8>=1,CONCATENATE(TRUNC(H8)," jour"),"< 1 day")))))),"Non applicable") -> #VALUE! | H8: =IF(AND(Patient!$C$10<37,(B7-$N$4)<730),B7-$N$5,"") -> #VALUE! | I8: =IF(H8<>"",H8/7,"") -> #VALUE! | J8: =IF(H8<>"",12*H8/365.25,"") -> #VALUE! | K8: =IF(H8<>"",IF(H8<365*4,H8/365,H8/365.25),"") -> #VALUE!
A9: Mesures :
A10: Taille : | C10: =IF(Options!$B$5,"cm","in") -> cm | D10: =IF(AND(Options!$B$19,$J$4<>"",J7<>"",K7<>"",B10<>""),IF(K7>=3,_xll.HtPercentile($J$4="Male",J7,IF(Options!$B$5,B10,B10*2.54)),_xll.LenPercentile($J$4="Male",J7,IF(Options!$B$5,B10,B10*2.54)))/100,"") | E10: Poids | G10: =IF(Options!$B$5,"kg","lbs") -> kg | H10: =IF(AND(Options!$B$19,$J$4<>"",J7<>"",F10<>""),_xll.WtPercentile($J$4="Male",J7,IF(Options!$B$5,F10,F10/2.2))/100,"") | I10: PC | K10: =IF(Options!$B$5,"cm","in") -> cm | L10: =IF(AND(Options!$B$19,$J$4<>"",J7<>"",K7<>"",K7<=3,J10<>""),_xll.OFCPercentile($J$4="Male",J7,IF(Options!$B$5,J10,J10*2.54))/100,"") | M10: BMI | N10: ='Résumé des valeurs'!$I$5 | O10: kg/m2 | P10: =IF(AND(Options!$B$19,$J$4<>"",J7<>"",N10<>""),_xll.BmiPercentile($J$4="Male",J7,N10)/100,"")
A13: Date : | E13: Age: | F13: =IF(H13<>"",(IF(K13>=1,IF(K13>=2,CONCATENATE(TRUNC(K13)," ans ",TRUNC(J13-(12*INT(K13)))," mois"),CONCATENATE(TRUNC(K13)," an ",TRUNC(J13-(12*INT(K13)))," mois")),IF(J13>=2,CONCATENATE(TRUNC(J13)," mois"),IF(I13>=2,CONCATENATE(TRUNC(I13)," semaines"),IF(H13>=2,CONCATENATE(TRUNC(H13)," jours"),IF(H13>=1,CONCATENATE(TRUNC(H13)," jour"),"< 1 day")))))),"") | H13: =IF(AND(B13<>"",$N$4<>""),B13-$N$4,"") | I13: =IF(H13<>"",H13/7,"") | J13: =IF(H13<>"",12*H13/365.25,"") | K13: =IF(H13<>"",IF(H13<365*4,H13/365,H13/365.25),"")
E14: Age corrigé: | F14: =IF(H14<>"",(IF(K14>=1,IF(K14>=2,CONCATENATE(TRUNC(K14)," ans ",TRUNC(J14-(12*INT(K14)))," mois"),CONCATENATE(TRUNC(K14)," an ",TRUNC(J14-(12*INT(K14)))," mois")),IF(J14>=2,CONCATENATE(INT(J14)," mois"),IF(I14>=2,CONCATENATE(TRUNC(I14)," semaines"),IF(H14>=2,CONCATENATE(TRUNC(H14)," jours"),IF(H14>=1,CONCATENATE(TRUNC(H14)," jour"),"< 1 day")))))),"Non applicable") -> #VALUE! | H14: =IF(AND(Patient!$C$10<37,(B13-$N$4)<730),B13-$N$5,"") -> #VALUE! | I14: =IF(H14<>"",H14/7,"") -> #VALUE! | J14: =IF(H14<>"",12*H14/365.25,"") -> #VALUE! | K14: =IF(H14<>"",IF(H14<365*4,H14/365,H14/365.25),"") -> #VALUE!
A15: Mesures :
A16: Taille : | C16: =IF(Options!$B$5,"cm","in") -> cm | D16: =IF(AND(Options!$B$19,$J$4<>"",J13<>"",K13<>"",B16<>""),IF(K13>=3,_xll.HtPercentile($J$4="Male",J13,IF(Options!$B$5,B16,B16*2.54)),_xll.LenPercentile($J$4="Male",J13,IF(Options!$B$5,B16,B16*2.54)))/100,"") | E16: Poids | G16: =IF(Options!$B$5,"kg","lbs") -> kg | H16: =IF(AND(Options!$B$19,$J$4<>"",J13<>"",F16<>""),_xll.WtPercentile($J$4="Male",J13,IF(Options!$B$5,F16,F16/2.2))/100,"") | I16: PC | K16: =IF(Options!$B$5,"cm","in") -> cm | L16: =IF(AND(Options!$B$19,$J$4<>"",J13<>"",K13<>"",K13<=3,J16<>""),_xll.OFCPercentile($J$4="Male",J13,IF(Options!$B$5,J16,J16*2.54))/100,"") | M16: BMI | N16: ='Résumé des valeurs'!$I$5 | O16: kg/m2 | P16: =IF(AND(Options!$B$19,$J$4<>"",J13<>"",N16<>""),_xll.BmiPercentile($J$4="Male",J13,N16)/100,"")
A19: Date : | E19: Age: | F19: =IF(H19<>"",(IF(K19>=1,IF(K19>=2,CONCATENATE(TRUNC(K19)," ans ",TRUNC(J19-(12*INT(K19)))," mois"),CONCATENATE(TRUNC(K19)," an ",TRUNC(J19-(12*INT(K19)))," mois")),IF(J19>=2,CONCATENATE(TRUNC(J19)," mois"),IF(I19>=2,CONCATENATE(TRUNC(I19)," semaines"),IF(H19>=2,CONCATENATE(TRUNC(H19)," jours"),IF(H19>=1,CONCATENATE(TRUNC(H19)," jour"),"< 1 day")))))),"") | H19: =IF(AND(B19<>"",$N$4<>""),B19-$N$4,"") | I19: =IF(H19<>"",H19/7,"") | J19: =IF(H19<>"",12*H19/365.25,"") | K19: =IF(H19<>"",IF(H19<365*4,H19/365,H19/365.25),"")
E20: Age corrigé: | F20: =IF(H20<>"",(IF(K20>=1,IF(K20>=2,CONCATENATE(TRUNC(K20)," ans ",TRUNC(J20-(12*INT(K20)))," mois"),CONCATENATE(TRUNC(K20)," an ",TRUNC(J20-(12*INT(K20)))," mois")),IF(J20>=2,CONCATENATE(INT(J20)," mois"),IF(I20>=2,CONCATENATE(TRUNC(I20)," semaines"),IF(H20>=2,CONCATENATE(TRUNC(H20)," jours"),IF(H20>=1,CONCATENATE(TRUNC(H20)," jour"),"< 1 day")))))),"Non applicable") -> #VALUE! | H20: =IF(AND(Patient!$C$10<37,(B19-$N$4)<730),B19-$N$5,"") -> #VALUE! | I20: =IF(H20<>"",H20/7,"") -> #VALUE! | J20: =IF(H20<>"",12*H20/365.25,"") -> #VALUE! | K20: =IF(H20<>"",IF(H20<365*4,H20/365,H20/365.25),"") -> #VALUE!
A21: Mesures :
A22: Taille : | C22: =IF(Options!$B$5,"cm","in") -> cm | D22: =IF(AND(Options!$B$19,$J$4<>"",J19<>"",K19<>"",B22<>""),IF(K19>=3,_xll.HtPercentile($J$4="Male",J19,IF(Options!$B$5,B22,B22*2.54)),_xll.LenPercentile($J$4="Male",J19,IF(Options!$B$5,B22,B22*2.54)))/100,"") | E22: Poids | G22: =IF(Options!$B$5,"kg","lbs") -> kg | H22: =IF(AND(Options!$B$19,$J$4<>"",J19<>"",F22<>""),_xll.WtPercentile($J$4="Male",J19,IF(Options!$B$5,F22,F22/2.2))/100,"") | I22: PC | K22: =IF(Options!$B$5,"cm","in") -> cm | L22: =IF(AND(Options!$B$19,$J$4<>"",J19<>"",K19<>"",K19<=3,J22<>""),_xll.OFCPercentile($J$4="Male",J19,IF(Options!$B$5,J22,J22*2.54))/100,"") | M22: BMI | N22: ='Résumé des valeurs'!$I$5 | O22: kg/m2 | P22: =IF(AND(Options!$B$19,$J$4<>"",J19<>"",N22<>""),_xll.BmiPercentile($J$4="Male",J19,N22)/100,"")
A25: Date : | E25: Age: | F25: =IF(H25<>"",(IF(K25>=1,IF(K25>=2,CONCATENATE(TRUNC(K25)," ans ",TRUNC(J25-(12*INT(K25)))," mois"),CONCATENATE(TRUNC(K25)," an ",TRUNC(J25-(12*INT(K25)))," mois")),IF(J25>=2,CONCATENATE(TRUNC(J25)," mois"),IF(I25>=2,CONCATENATE(TRUNC(I25)," semaines"),IF(H25>=2,CONCATENATE(TRUNC(H25)," jours"),IF(H25>=1,CONCATENATE(TRUNC(H25)," jour"),"< 1 day")))))),"") | H25: =IF(AND(B25<>"",$N$4<>""),B25-$N$4,"") | I25: =IF(H25<>"",H25/7,"") | J25: =IF(H25<>"",12*H25/365.25,"") | K25: =IF(H25<>"",IF(H25<365*4,H25/365,H25/365.25),"")
E26: Age corrigé: | F26: =IF(H26<>"",(IF(K26>=1,IF(K26>=2,CONCATENATE(TRUNC(K26)," ans ",TRUNC(J26-(12*INT(K26)))," mois"),CONCATENATE(TRUNC(K26)," an ",TRUNC(J26-(12*INT(K26)))," mois")),IF(J26>=2,CONCATENATE(INT(J26)," mois"),IF(I26>=2,CONCATENATE(TRUNC(I26)," semaines"),IF(H26>=2,CONCATENATE(TRUNC(H26)," jours"),IF(H26>=1,CONCATENATE(TRUNC(H26)," jour"),"< 1 day")))))),"Non applicable") -> #VALUE! | H26: =IF(AND(Patient!$C$10<37,(B25-$N$4)<730),B25-$N$5,"") -> #VALUE! | I26: =IF(H26<>"",H26/7,"") -> #VALUE! | J26: =IF(H26<>"",12*H26/365.25,"") -> #VALUE! | K26: =IF(H26<>"",IF(H26<365*4,H26/365,H26/365.25),"") -> #VALUE!
A27: Mesures :
A28: Taille : | C28: =IF(Options!$B$5,"cm","in") -> cm | D28: =IF(AND(Options!$B$19,$J$4<>"",J25<>"",K25<>"",B28<>""),IF(K25>=3,_xll.HtPercentile($J$4="Male",J25,IF(Options!$B$5,B28,B28*2.54)),_xll.LenPercentile($J$4="Male",J25,IF(Options!$B$5,B28,B28*2.54)))/100,"") | E28: Poids | G28: =IF(Options!$B$5,"kg","lbs") -> kg | H28: =IF(AND(Options!$B$19,$J$4<>"",J25<>"",F28<>""),_xll.WtPercentile($J$4="Male",J25,IF(Options!$B$5,F28,F28/2.2))/100,"") | I28: PC | K28: =IF(Options!$B$5,"cm","in") -> cm | L28: =IF(AND(Options!$B$19,$J$4<>"",J25<>"",K25<>"",K25<=3,J28<>""),_xll.OFCPercentile($J$4="Male",J25,IF(Options!$B$5,J28,J28*2.54))/100,"") | M28: BMI | N28: ='Résumé des valeurs'!$I$5 | O28: kg/m2 | P28: =IF(AND(Options!$B$19,$J$4<>"",J25<>"",N28<>""),_xll.BmiPercentile($J$4="Male",J25,N28)/100,"")
A31: Date : | E31: Age: | F31: =IF(H31<>"",(IF(K31>=1,IF(K31>=2,CONCATENATE(TRUNC(K31)," ans ",TRUNC(J31-(12*INT(K31)))," mois"),CONCATENATE(TRUNC(K31)," an ",TRUNC(J31-(12*INT(K31)))," mois")),IF(J31>=2,CONCATENATE(TRUNC(J31)," mois"),IF(I31>=2,CONCATENATE(TRUNC(I31)," semaines"),IF(H31>=2,CONCATENATE(TRUNC(H31)," jours"),IF(H31>=1,CONCATENATE(TRUNC(H31)," jour"),"< 1 day")))))),"") | H31: =IF(AND(B31<>"",$N$4<>""),B31-$N$4,"") | I31: =IF(H31<>"",H31/7,"") | J31: =IF(H31<>"",12*H31/365.25,"") | K31: =IF(H31<>"",IF(H31<365*4,H31/365,H31/365.25),"")
E32: Age corrigé: | F32: =IF(H32<>"",(IF(K32>=1,IF(K32>=2,CONCATENATE(TRUNC(K32)," ans ",TRUNC(J32-(12*INT(K32)))," mois"),CONCATENATE(TRUNC(K32)," an ",TRUNC(J32-(12*INT(K32)))," mois")),IF(J32>=2,CONCATENATE(INT(J32)," mois"),IF(I32>=2,CONCATENATE(TRUNC(I32)," semaines"),IF(H32>=2,CONCATENATE(TRUNC(H32)," jours"),IF(H32>=1,CONCATENATE(TRUNC(H32)," jour"),"< 1 day")))))),"Non applicable") -> #VALUE! | H32: =IF(AND(Patient!$C$10<37,(B31-$N$4)<730),B31-$N$5,"") -> #VALUE! | I32: =IF(H32<>"",H32/7,"") -> #VALUE! | J32: =IF(H32<>"",12*H32/365.25,"") -> #VALUE! | K32: =IF(H32<>"",IF(H32<365*4,H32/365,H32/365.25),"") -> #VALUE!
A33: Mesures :
A34: Taille : | C34: =IF(Options!$B$5,"cm","in") -> cm | D34: =IF(AND(Options!$B$19,$J$4<>"",J31<>"",K31<>"",B34<>""),IF(K31>=3,_xll.HtPercentile($J$4="Male",J31,IF(Options!$B$5,B34,B34*2.54)),_xll.LenPercentile($J$4="Male",J31,IF(Options!$B$5,B34,B34*2.54)))/100,"") | E34: Poids | G34: =IF(Options!$B$5,"kg","lbs") -> kg | H34: =IF(AND(Options!$B$19,$J$4<>"",J31<>"",F34<>""),_xll.WtPercentile($J$4="Male",J31,IF(Options!$B$5,F34,F34/2.2))/100,"") | I34: PC | K34: =IF(Options!$B$5,"cm","in") -> cm | L34: =IF(AND(Options!$B$19,$J$4<>"",J31<>"",K31<>"",K31<=3,J34<>""),_xll.OFCPercentile($J$4="Male",J31,IF(Options!$B$5,J34,J34*2.54))/100,"") | M34: BMI | N34: ='Résumé des valeurs'!$I$5 | O34: kg/m2 | P34: =IF(AND(Options!$B$19,$J$4<>"",J31<>"",N34<>""),_xll.BmiPercentile($J$4="Male",J31,N34)/100,"")
A37: Date : | E37: Age: | F37: =IF(H37<>"",(IF(K37>=1,IF(K37>=2,CONCATENATE(TRUNC(K37)," ans ",TRUNC(J37-(12*INT(K37)))," mois"),CONCATENATE(TRUNC(K37)," an ",TRUNC(J37-(12*INT(K37)))," mois")),IF(J37>=2,CONCATENATE(TRUNC(J37)," mois"),IF(I37>=2,CONCATENATE(TRUNC(I37)," semaines"),IF(H37>=2,CONCATENATE(TRUNC(H37)," jours"),IF(H37>=1,CONCATENATE(TRUNC(H37)," jour"),"< 1 day")))))),"") | H37: =IF(AND(B37<>"",$N$4<>""),B37-$N$4,"") | I37: =IF(H37<>"",H37/7,"") | J37: =IF(H37<>"",12*H37/365.25,"") | K37: =IF(H37<>"",IF(H37<365*4,H37/365,H37/365.25),"")
E38: Age corrigé: | F38: =IF(H38<>"",(IF(K38>=1,IF(K38>=2,CONCATENATE(TRUNC(K38)," ans ",TRUNC(J38-(12*INT(K38)))," mois"),CONCATENATE(TRUNC(K38)," an ",TRUNC(J38-(12*INT(K38)))," mois")),IF(J38>=2,CONCATENATE(INT(J38)," mois"),IF(I38>=2,CONCATENATE(TRUNC(I38)," semaines"),IF(H38>=2,CONCATENATE(TRUNC(H38)," jours"),IF(H38>=1,CONCATENATE(TRUNC(H38)," jour"),"< 1 day")))))),"Non applicable") -> #VALUE! | H38: =IF(AND(Patient!$C$10<37,(B37-$N$4)<730),B37-$N$5,"") -> #VALUE! | I38: =IF(H38<>"",H38/7,"") -> #VALUE! | J38: =IF(H38<>"",12*H38/365.25,"") -> #VALUE! | K38: =IF(H38<>"",IF(H38<365*4,H38/365,H38/365.25),"") -> #VALUE!
A39: Mesures :
A40: Taille : | C40: =IF(Options!$B$5,"cm","in") -> cm | D40: =IF(AND(Options!$B$19,$J$4<>"",J37<>"",K37<>"",B40<>""),IF(K37>=3,_xll.HtPercentile($J$4="Male",J37,IF(Options!$B$5,B40,B40*2.54)),_xll.LenPercentile($J$4="Male",J37,IF(Options!$B$5,B40,B40*2.54)))/100,"") | E40: Poids | G40: =IF(Options!$B$5,"kg","lbs") -> kg | H40: =IF(AND(Options!$B$19,$J$4<>"",J37<>"",F40<>""),_xll.WtPercentile($J$4="Male",J37,IF(Options!$B$5,F40,F40/2.2))/100,"") | I40: PC | K40: =IF(Options!$B$5,"cm","in") -> cm | L40: =IF(AND(Options!$B$19,$J$4<>"",J37<>"",K37<>"",K37<=3,J40<>""),_xll.OFCPercentile($J$4="Male",J37,IF(Options!$B$5,J40,J40*2.54))/100,"") | M40: BMI | N40: ='Résumé des valeurs'!$I$5 | O40: kg/m2 | P40: =IF(AND(Options!$B$19,$J$4<>"",J37<>"",N40<>""),_xll.BmiPercentile($J$4="Male",J37,N40)/100,"")
A43: Date : | E43: Age: | F43: =IF(H43<>"",(IF(K43>=1,IF(K43>=2,CONCATENATE(TRUNC(K43)," ans ",TRUNC(J43-(12*INT(K43)))," mois"),CONCATENATE(TRUNC(K43)," an ",TRUNC(J43-(12*INT(K43)))," mois")),IF(J43>=2,CONCATENATE(TRUNC(J43)," mois"),IF(I43>=2,CONCATENATE(TRUNC(I43)," semaines"),IF(H43>=2,CONCATENATE(TRUNC(H43)," jours"),IF(H43>=1,CONCATENATE(TRUNC(H43)," jour"),"< 1 day")))))),"") | H43: =IF(AND(B43<>"",$N$4<>""),B43-$N$4,"") | I43: =IF(H43<>"",H43/7,"") | J43: =IF(H43<>"",12*H43/365.25,"") | K43: =IF(H43<>"",IF(H43<365*4,H43/365,H43/365.25),"")
E44: Age corrigé: | F44: =IF(H44<>"",(IF(K44>=1,IF(K44>=2,CONCATENATE(TRUNC(K44)," ans ",TRUNC(J44-(12*INT(K44)))," mois"),CONCATENATE(TRUNC(K44)," an ",TRUNC(J44-(12*INT(K44)))," mois")),IF(J44>=2,CONCATENATE(INT(J44)," mois"),IF(I44>=2,CONCATENATE(TRUNC(I44)," semaines"),IF(H44>=2,CONCATENATE(TRUNC(H44)," jours"),IF(H44>=1,CONCATENATE(TRUNC(H44)," jour"),"< 1 day")))))),"Non applicable") -> #VALUE! | H44: =IF(AND(Patient!$C$10<37,(B43-$N$4)<730),B43-$N$5,"") -> #VALUE! | I44: =IF(H44<>"",H44/7,"") -> #VALUE! | J44: =IF(H44<>"",12*H44/365.25,"") -> #VALUE! | K44: =IF(H44<>"",IF(H44<365*4,H44/365,H44/365.25),"") -> #VALUE!
A45: Mesures :
A46: Taille : | C46: =IF(Options!$B$5,"cm","in") -> cm | D46: =IF(AND(Options!$B$19,$J$4<>"",J43<>"",K43<>"",B46<>""),IF(K43>=3,_xll.HtPercentile($J$4="Male",J43,IF(Options!$B$5,B46,B46*2.54)),_xll.LenPercentile($J$4="Male",J43,IF(Options!$B$5,B46,B46*2.54)))/100,"") | E46: Poids | G46: =IF(Options!$B$5,"kg","lbs") -> kg | H46: =IF(AND(Options!$B$19,$J$4<>"",J43<>"",F46<>""),_xll.WtPercentile($J$4="Male",J43,IF(Options!$B$5,F46,F46/2.2))/100,"") | I46: PC | K46: =IF(Options!$B$5,"cm","in") -> cm | L46: =IF(AND(Options!$B$19,$J$4<>"",J43<>"",K43<>"",K43<=3,J46<>""),_xll.OFCPercentile($J$4="Male",J43,IF(Options!$B$5,J46,J46*2.54))/100,"") | M46: BMI | N46: ='Résumé des valeurs'!$I$5 | O46: kg/m2 | P46: =IF(AND(Options!$B$19,$J$4<>"",J43<>"",N46<>""),_xll.BmiPercentile($J$4="Male",J43,N46)/100,"")
A49: Date : | E49: Age: | F49: =IF(H49<>"",(IF(K49>=1,IF(K49>=2,CONCATENATE(TRUNC(K49)," ans ",TRUNC(J49-(12*INT(K49)))," mois"),CONCATENATE(TRUNC(K49)," an ",TRUNC(J49-(12*INT(K49)))," mois")),IF(J49>=2,CONCATENATE(TRUNC(J49)," mois"),IF(I49>=2,CONCATENATE(TRUNC(I49)," semaines"),IF(H49>=2,CONCATENATE(TRUNC(H49)," jours"),IF(H49>=1,CONCATENATE(TRUNC(H49)," jour"),"< 1 day")))))),"") | H49: =IF(AND(B49<>"",$N$4<>""),B49-$N$4,"") | I49: =IF(H49<>"",H49/7,"") | J49: =IF(H49<>"",12*H49/365.25,"") | K49: =IF(H49<>"",IF(H49<365*4,H49/365,H49/365.25),"")
E50: Age corrigé: | F50: =IF(H50<>"",(IF(K50>=1,IF(K50>=2,CONCATENATE(TRUNC(K50)," ans ",TRUNC(J50-(12*INT(K50)))," mois"),CONCATENATE(TRUNC(K50)," an ",TRUNC(J50-(12*INT(K50)))," mois")),IF(J50>=2,CONCATENATE(INT(J50)," mois"),IF(I50>=2,CONCATENATE(TRUNC(I50)," semaines"),IF(H50>=2,CONCATENATE(TRUNC(H50)," jours"),IF(H50>=1,CONCATENATE(TRUNC(H50)," jour"),"< 1 day")))))),"Non applicable") -> #VALUE! | H50: =IF(AND(Patient!$C$10<37,(B49-$N$4)<730),B49-$N$5,"") -> #VALUE! | I50: =IF(H50<>"",H50/7,"") -> #VALUE! | J50: =IF(H50<>"",12*H50/365.25,"") -> #VALUE! | K50: =IF(H50<>"",IF(H50<365*4,H50/365,H50/365.25),"") -> #VALUE!
A51: Mesures :
A52: Taille : | C52: =IF(Options!$B$5,"cm","in") -> cm | D52: =IF(AND(Options!$B$19,$J$4<>"",J49<>"",K49<>"",B52<>""),IF(K49>=3,_xll.HtPercentile($J$4="Male",J49,IF(Options!$B$5,B52,B52*2.54)),_xll.LenPercentile($J$4="Male",J49,IF(Options!$B$5,B52,B52*2.54)))/100,"") | E52: Poids | G52: =IF(Options!$B$5,"kg","lbs") -> kg | H52: =IF(AND(Options!$B$19,$J$4<>"",J49<>"",F52<>""),_xll.WtPercentile($J$4="Male",J49,IF(Options!$B$5,F52,F52/2.2))/100,"") | I52: PC | K52: =IF(Options!$B$5,"cm","in") -> cm | L52: =IF(AND(Options!$B$19,$J$4<>"",J49<>"",K49<>"",K49<=3,J52<>""),_xll.OFCPercentile($J$4="Male",J49,IF(Options!$B$5,J52,J52*2.54))/100,"") | M52: BMI | N52: ='Résumé des valeurs'!$I$5 | O52: kg/m2 | P52: =IF(AND(Options!$B$19,$J$4<>"",J49<>"",N52<>""),_xll.BmiPercentile($J$4="Male",J49,N52)/100,"")
A55: Date : | E55: Age: | F55: =IF(H55<>"",(IF(K55>=1,IF(K55>=2,CONCATENATE(TRUNC(K55)," ans ",TRUNC(J55-(12*INT(K55)))," mois"),CONCATENATE(TRUNC(K55)," an ",TRUNC(J55-(12*INT(K55)))," mois")),IF(J55>=2,CONCATENATE(TRUNC(J55)," mois"),IF(I55>=2,CONCATENATE(TRUNC(I55)," semaines"),IF(H55>=2,CONCATENATE(TRUNC(H55)," jours"),IF(H55>=1,CONCATENATE(TRUNC(H55)," jour"),"< 1 day")))))),"") | H55: =IF(AND(B55<>"",$N$4<>""),B55-$N$4,"") | I55: =IF(H55<>"",H55/7,"") | J55: =IF(H55<>"",12*H55/365.25,"") | K55: =IF(H55<>"",IF(H55<365*4,H55/365,H55/365.25),"")
E56: Age corrigé: | F56: =IF(H56<>"",(IF(K56>=1,IF(K56>=2,CONCATENATE(TRUNC(K56)," ans ",TRUNC(J56-(12*INT(K56)))," mois"),CONCATENATE(TRUNC(K56)," an ",TRUNC(J56-(12*INT(K56)))," mois")),IF(J56>=2,CONCATENATE(INT(J56)," mois"),IF(I56>=2,CONCATENATE(TRUNC(I56)," semaines"),IF(H56>=2,CONCATENATE(TRUNC(H56)," jours"),IF(H56>=1,CONCATENATE(TRUNC(H56)," jour"),"< 1 day")))))),"Non applicable") -> #VALUE! | H56: =IF(AND(Patient!$C$10<37,(B55-$N$4)<730),B55-$N$5,"") -> #VALUE! | I56: =IF(H56<>"",H56/7,"") -> #VALUE! | J56: =IF(H56<>"",12*H56/365.25,"") -> #VALUE! | K56: =IF(H56<>"",IF(H56<365*4,H56/365,H56/365.25),"") -> #VALUE!
A57: Mesures :
...

Sheet Courbes 0-3 ans
A60: =IF(OR(Options!#REF!<>"",Options!#REF!<>""),CONCATENATE("Courbe de Croissance de ",Patient!$C$6," ",Patient!$C$5),"""") -> #REF! | I60: Imprimée le | J60: =TODAY() -> 42550
A92: =IF(OR(Options!#REF!<>"",Options!#REF!<>""),CONCATENATE("Courbe de Croissance de ",Patient!$C$6," ",Patient!$C$5),"""") -> #REF! | I92: Imprimée le | J92: =TODAY() -> 42550

Sheet Résumé des valeurs
A1: Patient Growth Summary
A2: Gender: | B2: =IF(Patient!$C$14<>"",Patient!$C$14,"") -> Masculin | E2: Birth Date: | F2: =IF(Patient!$C$8<>"",Patient!$C$8,"")
A4: Visit Date | B4: Age (yrs) | C4: Age (mos) | D4: Age corrigé (mos | E4: Height/ Length | F4: Weight | G4: Head Circ. | I4: BMI | K4: Age | L4: Taille cible
A5: =IF(Données!$B$7<>"",Données!$B$7,"") | B5: =IF(AND(A5<>"",F$2<>""),(A5-F$2)/365.25,"") | C5: =IF(AND(A5<>"",F$2<>""),12*(A5-F$2)/365.25,0) -> 0 | D5: =IF(AND(Patient!$C$10<37,'Résumé des valeurs'!B5<2),((A5-$F$2)-(7*(40-Patient!$C$10)))*12/365.25,C5) -> 0 | E5: =IF(Données!$B$10<>"",Données!$B$10,"") | F5: =IF(Données!$F$10<>"",IF(Options!$B$5,Données!$F$10,Données!$F$10/2.2),"") | G5: =IF(Données!$J$10<>"",IF(Options!$B$5,Données!$J$10,Données!$J$10*2.54),"") | I5: =IF(AND(E5<>"",F5<>"",B5<>"",B5>=2),F5/((E5/100)*(E5/100)),"") | K5: 20 | L5: =L6-6.5 -> #VALUE!
A6: =IF(Données!$B$13<>"",Données!$B$13,"") | B6: =IF(AND(A6<>"",F$2<>""),(A6-F$2)/365.25,0) -> 0 | C6: =IF(AND(A6<>"",F$2<>""),12*(A6-F$2)/365.25,0) -> 0 | D6: =IF(AND(Patient!$C$10<37,'Résumé des valeurs'!B6<2),((A6-$F$2)-(7*(40-Patient!$C$10)))*12/365.25,C6) -> #VALUE! | E6: =IF(Données!$B$16<>"",IF(Options!$B$5,Données!$B$16,Données!$B$16*2.54),"") | F6: =IF(Données!$F$16<>"",IF(Options!$B$5,Données!$F$16,Données!$F$16/2.2),"") | G6: =IF(Données!$J$16<>"",IF(Options!$B$5,Données!$J$16,Données!$J$16*2.54),"") | I6: =IF(AND(E6<>"",F6<>"",B6>=2),F6/((E6/100)*(E6/100)),"") | K6: 20 | L6: =Patient!$C$18
A7: =IF(Données!$B$19<>"",Données!$B$19,"") | B7: =IF(AND(A7<>"",F$2<>""),(A7-F$2)/365.25,0) -> 0 | C7: =IF(AND(A7<>"",F$2<>""),12*(A7-F$2)/365.25,0) -> 0 | D7: =IF(AND(Patient!$C$10<37,'Résumé des valeurs'!B7<2),((A7-$F$2)-(7*(40-Patient!$C$10)))*12/365.25,C7) -> #VALUE! | E7: =IF(Données!$B$22<>"",IF(Options!$B$5,Données!$B$22,Données!$B$22*2.54),"") | F7: =IF(Données!$F$22<>"",IF(Options!$B$5,Données!$F$22,Données!$F$22/2.2),"") | G7: =IF(Données!$J$22<>"",IF(Options!$B$5,Données!$J$22,Données!$J$22*2.54),"") | I7: =IF(AND(E7<>"",F7<>"",B7>=2),F7/((E7/100)*(E7/100)),"") | K7: 20 | L7: =L6+6.5 -> #VALUE!
A8: =IF(Données!$B$25<>"",Données!$B$25,"") | B8: =IF(AND(A8<>"",F$2<>""),(A8-F$2)/365.25,0) -> 0 | C8: =IF(AND(A8<>"",F$2<>""),12*(A8-F$2)/365.25,0) -> 0 | D8: =IF(AND(Patient!$C$10<37,'Résumé des valeurs'!B8<2),((A8-$F$2)-(7*(40-Patient!$C$10)))*12/365.25,C8) -> #VALUE! | E8: =IF(Données!$B$28<>"",IF(Options!$B$5,Données!$B$28,Données!$B$28*2.54),"") | F8: =IF(Données!$F$28<>"",IF(Options!$B$5,Données!$F$28,Données!$F$28/2.2),"") | G8: =IF(Données!$J$28<>"",IF(Options!$B$5,Données!$J$28,Données!$J$28*2.54),"") | I8: =IF(AND(E8<>"",F8<>"",B8>=2),F8/((E8/100)*(E8/100)),"")
A9: =IF(Données!$B$31<>"",Données!$B$31,"") | B9: =IF(AND(A9<>"",F$2<>""),(A9-F$2)/365.25,0) -> 0 | C9: =IF(AND(A9<>"",F$2<>""),12*(A9-F$2)/365.25,0) -> 0 | D9: =IF(AND(Patient!$C$10<37,'Résumé des valeurs'!B9<2),((A9-$F$2)-(7*(40-Patient!$C$10)))*12/365.25,C9) -> #VALUE! | E9: =IF(Données!$B$34<>"",IF(Options!$B$5,Données!$B$34,Données!$B$34*2.54),"") | F9: =IF(Données!$F$34<>"",IF(Options!$B$5,Données!$F$34,Données!$F$34/2.2),"") | G9: =IF(Données!$J$34<>"",IF(Options!$B$5,Données!$J$34,Données!$J$34*2.54),"") | I9: =IF(AND(E9<>"",F9<>"",B9>=2),F9/((E9/100)*(E9/100)),"") | K9: =F9
A10: =IF(Données!$B$37<>"",Données!$B$37,"") | B10: =IF(AND(A10<>"",F$2<>""),(A10-F$2)/365.25,0) -> 0 | C10: =IF(AND(A10<>"",F$2<>""),12*(A10-F$2)/365.25,0) -> 0 | D10: =IF(AND(Patient!$C$10<37,'Résumé des valeurs'!B10<2),((A10-$F$2)-(7*(40-Patient!$C$10)))*12/365.25,C10) -> #VALUE! | E10: =IF(Données!$B$40<>"",IF(Options!$B$5,Données!$B$40,Données!$B$40*2.54),"") | F10: =IF(Données!$F$40<>"",IF(Options!$B$5,Données!$F$40,Données!$F$40/2.2),"") | G10: =IF(Données!$J$40<>"",IF(Options!$B$5,Données!$J$40,Données!$J$40*2.54),"") | I10: =IF(AND(E10<>"",F10<>"",B10>=2),F10/((E10/100)*(E10/100)),"") | K10: =F10
A11: =IF(Données!$B$43<>"",Données!$B$43,"") | B11: =IF(AND(A11<>"",F$2<>""),(A11-F$2)/365.25,0) -> 0 | C11: =IF(AND(A11<>"",F$2<>""),12*(A11-F$2)/365.25,0) -> 0 | D11: =IF(AND(Patient!$C$10<37,'Résumé des valeurs'!B11<2),((A11-$F$2)-(7*(40-Patient!$C$10)))*12/365.25,C11) -> #VALUE! | E11: =IF(Données!$B$46<>"",IF(Options!$B$5,Données!$B$46,Données!$B$46*2.54),"") | F11: =IF(Données!$F$46<>"",IF(Options!$B$5,Données!$F$46,Données!$F$46/2.2),"") | G11: =IF(Données!$J$46<>"",IF(Options!$B$5,Données!$J$46,Données!$J$46*2.54),"") | I11: =IF(AND(E11<>"",F11<>"",B11>=2),F11/((E11/100)*(E11/100)),"") | K11: =F11
A12: =IF(Données!$B$49<>"",Données!$B$49,"") | B12: =IF(AND(A12<>"",F$2<>""),(A12-F$2)/365.25,0) -> 0 | C12: =IF(AND(A12<>"",F$2<>""),12*(A12-F$2)/365.25,0) -> 0 | D12: =IF(AND(Patient!$C$10<37,'Résumé des valeurs'!B12<2),((A12-$F$2)-(7*(40-Patient!$C$10)))*12/365.25,C12) -> #VALUE! | E12: =IF(Données!$B$52<>"",IF(Options!$B$5,Données!$B$52,Données!$B$52*2.54),"") | F12: =IF(Données!$F$52<>"",IF(Options!$B$5,Données!$F$52,Données!$F$52/2.2),"") | G12: =IF(Données!$J$52<>"",IF(Options!$B$5,Données!$J$52,Données!$J$52*2.54),"") | I12: =IF(AND(E12<>"",F12<>"",B12>=2),F12/((E12/100)*(E12/100)),"") | K12: =F12
A13: =IF(Données!$B$55<>"",Données!$B$55,"") | B13: =IF(AND(A13<>"",F$2<>""),(A13-F$2)/365.25,0) -> 0 | C13: =IF(AND(A13<>"",F$2<>""),12*(A13-F$2)/365.25,0) -> 0 | D13: =IF(AND(Patient!$C$10<37,'Résumé des valeurs'!B13<2),((A13-$F$2)-(7*(40-Patient!$C$10)))*12/365.25,C13) -> #VALUE! | E13: =IF(Données!$B$58<>"",IF(Options!$B$5,Données!$B$58,Données!$B$58*2.54),"") | F13: =IF(Données!$F$58<>"",IF(Options!$B$5,Données!$F$58,Données!$F$58/2.2),"") | G13: =IF(Données!$J$58<>"",IF(Options!$B$5,Données!$J$58,Données!$J$58*2.54),"") | I13: =IF(AND(E13<>"",F13<>"",B13>=2),F13/((E13/100)*(E13/100)),"") | K13: =F13
A14: =IF(Données!$B$61<>"",Données!$B$61,"") | B14: =IF(AND(A14<>"",F$2<>""),(A14-F$2)/365.25,0) -> 0 | C14: =IF(AND(A14<>"",F$2<>""),12*(A14-F$2)/365.25,0) -> 0 | D14: =IF(AND(Patient!$C$10<37,'Résumé des valeurs'!B14<2),((A14-$F$2)-(7*(40-Patient!$C$10)))*12/365.25,C14) -> #VALUE! | E14: =IF(Données!$B$64<>"",IF(Options!$B$5,Données!$B$64,Données!$B$64*2.54),"") | F14: =IF(Données!$F$64<>"",IF(Options!$B$5,Données!$F$64,Données!$F$64/2.2),"") | G14: =IF(Données!$J$64<>"",IF(Options!$B$5,Données!$J$64,Données!$J$64*2.54),"") | I14: =IF(AND(E14<>"",F14<>"",B14>=2),F14/((E14/100)*(E14/100)),"") | K14: =F14
A15: =IF(Données!$B$67<>"",Données!$B$67,"") | B15: =IF(AND(A15<>"",F$2<>""),(A15-F$2)/365.25,0) -> 0 | C15: =IF(AND(A15<>"",F$2<>""),12*(A15-F$2)/365.25,0) -> 0 | D15: =IF(AND(Patient!$C$10<37,'Résumé des valeurs'!B15<2),((A15-$F$2)-(7*(40-Patient!$C$10)))*12/365.25,C15) -> #VALUE! | E15: =IF(Données!$B$70<>"",IF(Options!$B$5,Données!$B$70,Données!$B$70*2.54),"") | F15: =IF(Données!$F$70<>"",IF(Options!$B$5,Données!$F$70,Données!$F$70/2.2),"") | G15: =IF(Données!$J$70<>"",IF(Options!$B$5,Données!$J$70,Données!$J$70*2.54),"") | I15: =IF(AND(E15<>"",F15<>"",B15>=2),F15/((E15/100)*(E15/100)),"") | K15: =F15
A16: =IF(Données!$B$73<>"",Données!$B$73,"") | B16: =IF(AND(A16<>"",F$2<>""),(A16-F$2)/365.25,0) -> 0 | C16: =IF(AND(A16<>"",F$2<>""),12*(A16-F$2)/365.25,0) -> 0 | D16: =IF(AND(Patient!$C$10<37,'Résumé des valeurs'!B16<2),((A16-$F$2)-(7*(40-Patient!$C$10)))*12/365.25,C16) -> #VALUE! | E16: =IF(Données!$B$76<>"",IF(Options!$B$5,Données!$B$76,Données!$B$76*2.54),"") | F16: =IF(Données!$F$76<>"",IF(Options!$B$5,Données!$F$76,Données!$F$76/2.2),"") | G16: =IF(Données!$J$76<>"",IF(Options!$B$5,Données!$J$76,Données!$J$76*2.54),"") | I16: =IF(AND(E16<>"",F16<>"",B16>=2),F16/((E16/100)*(E16/100)),"") | K16: =F16
A17: =IF(Données!$B$79<>"",Données!$B$79,"") | B17: =IF(AND(A17<>"",F$2<>""),(A17-F$2)/365.25,0) -> 0 | C17: =IF(AND(A17<>"",F$2<>""),12*(A17-F$2)/365.25,0) -> 0 | D17: =IF(AND(Patient!$C$10<37,'Résumé des valeurs'!B17<2),((A17-$F$2)-(7*(40-Patient!$C$10)))*12/365.25,C17) -> #VALUE! | E17: =IF(Données!$B$82<>"",IF(Options!$B$5,Données!$B$82,Données!$B$82*2.54),"") | F17: =IF(Données!$F$82<>"",IF(Options!$B$5,Données!$F$82,Données!$F$82/2.2),"") | G17: =IF(Données!$J$82<>"",IF(Options!$B$5,Données!$J$82,Données!$J$82*2.54),"") | I17: =IF(AND(E17<>"",F17<>"",B17>=2),F17/((E17/100)*(E17/100)),"") | K17: =F17
A18: =IF(Données!$B$85<>"",Données!$B$85,"") | B18: =IF(AND(A18<>"",F$2<>""),(A18-F$2)/365.25,0) -> 0 | C18: =IF(AND(A18<>"",F$2<>""),12*(A18-F$2)/365.25,0) -> 0 | D18: =IF(AND(Patient!$C$10<37,'Résumé des valeurs'!B18<2),((A18-$F$2)-(7*(40-Patient!$C$10)))*12/365.25,C18) -> #VALUE! | E18: =IF(Données!$B$88<>"",IF(Options!$B$5,Données!$B$88,Données!$B$88*2.54),"") | F18: =IF(Données!$F$88<>"",IF(Options!$B$5,Données!$F$88,Données!$F$88/2.2),"") | G18: =IF(Données!$J$88<>"",IF(Options!$B$5,Données!$J$88,Données!$J$88*2.54),"") | I18: =IF(AND(E18<>"",F18<>"",B18>=2),F18/((E18/100)*(E18/100)),"") | K18: =F18
A19: =IF(Données!$B$91<>"",Données!$B$91,"") | B19: =IF(AND(A19<>"",F$2<>""),(A19-F$2)/365.25,0) -> 0 | C19: =IF(AND(A19<>"",F$2<>""),12*(A19-F$2)/365.25,0) -> 0 | D19: =IF(AND(Patient!$C$10<37,'Résumé des valeurs'!B19<2),((A19-$F$2)-(7*(40-Patient!$C$10)))*12/365.25,C19) -> #VALUE! | E19: =IF(Données!$B$94<>"",IF(Options!$B$5,Données!$B$94,Données!$B$94*2.54),"") | F19: =IF(Données!$F$94<>"",IF(Options!$B$5,Données!$F$94,Données!$F$94/2.2),"") | G19: =IF(Données!$J$94<>"",IF(Options!$B$5,Données!$J$94,Données!$J$94*2.54),"") | I19: =IF(AND(E19<>"",F19<>"",B19>=2),F19/((E19/100)*(E19/100)),"") | K19: =F19
A20: =IF(Données!$B$97<>"",Données!$B$97,"") | B20: =IF(AND(A20<>"",F$2<>""),(A20-F$2)/365.25,0) -> 0 | C20: =IF(AND(A20<>"",F$2<>""),12*(A20-F$2)/365.25,0) -> 0 | D20: =IF(AND(Patient!$C$10<37,'Résumé des valeurs'!B20<2),((A20-$F$2)-(7*(40-Patient!$C$10)))*12/365.25,C20) -> #VALUE! | E20: =IF(Données!$B$100<>"",IF(Options!$B$5,Données!$B$100,Données!$B$100*2.54),"") | F20: =IF(Données!$F$100<>"",IF(Options!$B$5,Données!$F$100,Données!$F$100/2.2),"") | G20: =IF(Données!$J$100<>"",IF(Options!$B$5,Données!$J$100,Données!$J$100*2.54),"") | I20: =IF(AND(E20<>"",F20<>"",B20>=2),F20/((E20/100)*(E20/100)),"") | K20: =F20
A21: =IF(Données!$B$103<>"",Données!$B$103,"") | B21: =IF(AND(A21<>"",F$2<>""),(A21-F$2)/365.25,0) -> 0 | C21: =IF(AND(A21<>"",F$2<>""),12*(A21-F$2)/365.25,0) -> 0 | D21: =IF(AND(Patient!$C$10<37,'Résumé des valeurs'!B21<2),((A21-$F$2)-(7*(40-Patient!$C$10)))*12/365.25,C21) -> #VALUE! | E21: =IF(Données!$B$106<>"",IF(Options!$B$5,Données!$B$106,Données!$B$106*2.54),"") | F21: =IF(Données!$F$106<>"",IF(Options!$B$5,Données!$F$106,Données!$F$106/2.2),"") | G21: =IF(Données!$J$106<>"",IF(Options!$B$5,Données!$J$106,Données!$J$106*2.54),"") | I21: =IF(AND(E21<>"",F21<>"",B21>=2),F21/((E21/100)*(E21/100)),"") | K21: =F21
A22: =IF(Données!$B$109<>"",Données!$B$109,"") | B22: =IF(AND(A22<>"",F$2<>""),(A22-F$2)/365.25,0) -> 0 | C22: =IF(AND(A22<>"",F$2<>""),12*(A22-F$2)/365.25,0) -> 0 | D22: =IF(AND(Patient!$C$10<37,'Résumé des valeurs'!B22<2),((A22-$F$2)-(7*(40-Patient!$C$10)))*12/365.25,C22) -> #VALUE! | E22: =IF(Données!$B$112<>"",IF(Options!$B$5,Données!$B$112,Données!$B$112*2.54),"") | F22: =IF(Données!$F$112<>"",IF(Options!$B$5,Données!$F$112,Données!$F$112/2.2),"") | G22: =IF(Données!$J$112<>"",IF(Options!$B$5,Données!$J$112,Données!$J$112*2.54),"") | I22: =IF(AND(E22<>"",F22<>"",B22>=2),F22/((E22/100)*(E22/100)),"") | K22: =F22
A23: =IF(Données!$B$115<>"",Données!$B$115,"") | B23: =IF(AND(A23<>"",F$2<>""),(A23-F$2)/365.25,0) -> 0 | C23: =IF(AND(A23<>"",F$2<>""),12*(A23-F$2)/365.25,0) -> 0 | D23: =IF(AND(Patient!$C$10<37,'Résumé des valeurs'!B23<2),((A23-$F$2)-(7*(40-Patient!$C$10)))*12/365.25,C23) -> #VALUE! | E23: =IF(Données!$B$118<>"",IF(Options!$B$5,Données!$B$118,Données!$B$118*2.54),"") | F23: =IF(Données!$F$118<>"",IF(Options!$B$5,Données!$F$118,Données!$F$118/2.2),"") | G23: =IF(Données!$J$118<>"",IF(Options!$B$5,Données!$J$118,Données!$J$118*2.54),"") | I23: =IF(AND(E23<>"",F23<>"",B23>=2),F23/((E23/100)*(E23/100)),"") | K23: =F23
A24: =IF(Données!$B$121<>"",Données!$B$121,"") | B24: =IF(AND(A24<>"",F$2<>""),(A24-F$2)/365.25,0) -> 0 | C24: =IF(AND(A24<>"",F$2<>""),12*(A24-F$2)/365.25,0) -> 0 | D24: =IF(AND(Patient!$C$10<37,'Résumé des valeurs'!B24<2),((A24-$F$2)-(7*(40-Patient!$C$10)))*12/365.25,C24) -> #VALUE! | E24: =IF(Données!$B$124<>"",IF(Options!$B$5,Données!$B$124,Données!$B$124*2.54),"") | F24: =IF(Données!$F$124<>"",IF(Options!$B$5,Données!$F$124,Données!$F$124/2.2),"") | G24: =IF(Données!$J$124<>"",IF(Options!$B$5,Données!$J$124,Données!$J$124*2.54),"") | I24: =IF(AND(E24<>"",F24<>"",B24>=2),F24/((E24/100)*(E24/100)),"") | K24: =F24
A25: =IF(Données!$B$127<>"",Données!$B$127,"") | B25: =IF(AND(A25<>"",F$2<>""),(A25-F$2)/365.25,0) -> 0 | C25: =IF(AND(A25<>"",F$2<>""),12*(A25-F$2)/365.25,0) -> 0 | D25: =IF(AND(Patient!$C$10<37,'Résumé des valeurs'!B25<2),((A25-$F$2)-(7*(40-Patient!$C$10)))*12/365.25,C25) -> #VALUE! | E25: =IF(Données!$B$130<>"",IF(Options!$B$5,Données!$B$130,Données!$B$130*2.54),"") | F25: =IF(Données!$F$130<>"",IF(Options!$B$5,Données!$F$130,Données!$F$130/2.2),"") | G25: =IF(Données!$J$130<>"",IF(Options!$B$5,Données!$J$130,Données!$J$130*2.54),"") | I25: =IF(AND(E25<>"",F25<>"",B25>=2),F25/((E25/100)*(E25/100)),"") | K25: =F25
A26: =IF(Données!$B$133<>"",Données!$B$133,"") | B26: =IF(AND(A26<>"",F$2<>""),(A26-F$2)/365.25,0) -> 0 | C26: =IF(AND(A26<>"",F$2<>""),12*(A26-F$2)/365.25,0) -> 0 | D26: =IF(AND(Patient!$C$10<37,'Résumé des valeurs'!B26<2),((A26-$F$2)-(7*(40-Patient!$C$10)))*12/365.25,C26) -> #VALUE! | E26: =IF(Données!$B$136<>"",IF(Options!$B$5,Données!$B$136,Données!$B$136*2.54),"") | F26: =IF(Données!$F$136<>"",IF(Options!$B$5,Données!$F$136,Données!$F$136/2.2),"") | G26: =IF(Données!$J$136<>"",IF(Options!$B$5,Données!$J$136,Données!$J$136*2.54),"") | I26: =IF(AND(E26<>"",F26<>"",B26>=2),F26/((E26/100)*(E26/100)),"") | K26: =F26
A27: =IF(Données!$B$139<>"",Données!$B$139,"") | B27: =IF(AND(A27<>"",F$2<>""),(A27-F$2)/365.25,0) -> 0 | C27: =IF(AND(A27<>"",F$2<>""),12*(A27-F$2)/365.25,0) -> 0 | D27: =IF(AND(Patient!$C$10<37,'Résumé des valeurs'!B27<2),((A27-$F$2)-(7*(40-Patient!$C$10)))*12/365.25,C27) -> #VALUE! | E27: =IF(Données!$B$142<>"",IF(Options!$B$5,Données!$B$142,Données!$B$142*2.54),"") | F27: =IF(Données!$F$142<>"",IF(Options!$B$5,Données!$F$142,Données!$F$142/2.2),"") | G27: =IF(Données!$J$142<>"",IF(Options!$B$5,Données!$J$142,Données!$J$142*2.54),"") | I27: =IF(AND(E27<>"",F27<>"",B27>=2),F27/((E27/100)*(E27/100)),"") | K27: =F27
A28: =IF(Données!$B$145<>"",Données!$B$145,"") | B28: =IF(AND(A28<>"",F$2<>""),(A28-F$2)/365.25,0) -> 0 | C28: =IF(AND(A28<>"",F$2<>""),12*(A28-F$2)/365.25,0) -> 0 | D28: =IF(AND(Patient!$C$10<37,'Résumé des valeurs'!B28<2),((A28-$F$2)-(7*(40-Patient!$C$10)))*12/365.25,C28) -> #VALUE! | E28: =IF(Données!$B$148<>"",IF(Options!$B$5,Données!$B$148,Données!$B$148*2.54),"") | F28: =IF(Données!$F$148<>"",IF(Options!$B$5,Données!$F$148,Données!$F$148/2.2),"") | G28: =IF(Données!$J$148<>"",IF(Options!$B$5,Données!$J$148,Données!$J$148*2.54),"") | I28: =IF(AND(E28<>"",F28<>"",B28>=2),F28/((E28/100)*(E28/100)),"") | K28: =F28
A29: =IF(Données!$B$151<>"",Données!$B$151,"") | B29: =IF(AND(A29<>"",F$2<>""),(A29-F$2)/365.25,0) -> 0 | C29: =IF(AND(A29<>"",F$2<>""),12*(A29-F$2)/365.25,0) -> 0 | D29: =IF(AND(Patient!$C$10<37,'Résumé des valeurs'!B29<2),((A29-$F$2)-(7*(40-Patient!$C$10)))*12/365.25,C29) -> #VALUE! | E29: =IF(Données!$B$154<>"",IF(Options!$B$5,Données!$B$154,Données!$B$154*2.54),"") | F29: =IF(Données!$F$154<>"",IF(Options!$B$5,Données!$F$154,Données!$F$154/2.2),"") | G29: =IF(Données!$J$154<>"",IF(Options!$B$5,Données!$J$154,Données!$J$154*2.54),"") | I29: =IF(AND(E29<>"",F29<>"",B29>=2),F29/((E29/100)*(E29/100)),"") | K29: =F29
A30: =IF(Données!$B$157<>"",Données!$B$157,"") | B30: =IF(AND(A30<>"",F$2<>""),(A30-F$2)/365.25,0) -> 0 | C30: =IF(AND(A30<>"",F$2<>""),12*(A30-F$2)/365.25,0) -> 0 | D30: =IF(AND(Patient!$C$10<37,'Résumé des valeurs'!B30<2),((A30-$F$2)-(7*(40-Patient!$C$10)))*12/365.25,C30) -> #VALUE! | E30: =IF(Données!$B$160<>"",IF(Options!$B$5,Données!$B$160,Données!$B$160*2.54),"") | F30: =IF(Données!$F$160<>"",IF(Options!$B$5,Données!$F$160,Données!$F$160/2.2),"") | G30: =IF(Données!$J$160<>"",IF(Options!$B$5,Données!$J$160,Données!$J$160*2.54),"") | I30: =IF(AND(E30<>"",F30<>"",B30>=2),F30/((E30/100)*(E30/100)),"") | K30: =F30
A31: =IF(Données!$B$163<>"",Données!$B$163,"") | B31: =IF(AND(A31<>"",F$2<>""),(A31-F$2)/365.25,0) -> 0 | C31: =IF(AND(A31<>"",F$2<>""),12*(A31-F$2)/365.25,0) -> 0 | D31: =IF(AND(Patient!$C$10<37,'Résumé des valeurs'!B31<2),((A31-$F$2)-(7*(40-Patient!$C$10)))*12/365.25,C31) -> #VALUE! | E31: =IF(Données!$B$166<>"",IF(Options!$B$5,Données!$B$166,Données!$B$166*2.54),"") | F31: =IF(Données!$F$166<>"",IF(Options!$B$5,Données!$F$166,Données!$F$166/2.2),"") | G31: =IF(Données!$J$166<>"",IF(Options!$B$5,Données!$J$166,Données!$J$166*2.54),"") | I31: =IF(AND(E31<>"",F31<>"",B31>=2),F31/((E31/100)*(E31/100)),"") | K31: =F31
A32: =IF(Données!$B$169<>"",Données!$B$169,"") | B32: =IF(AND(A32<>"",F$2<>""),(A32-F$2)/365.25,0) -> 0 | C32: =IF(AND(A32<>"",F$2<>""),12*(A32-F$2)/365.25,0) -> 0 | D32: =IF(AND(Patient!$C$10<37,'Résumé des valeurs'!B32<2),((A32-$F$2)-(7*(40-Patient!$C$10)))*12/365.25,C32) -> #VALUE! | E32: =IF(Données!$B$172<>"",IF(Options!$B$5,Données!$B$172,Données!$B$172*2.54),"") | F32: =IF(Données!$F$172<>"",IF(Options!$B$5,Données!$F$172,Données!$F$172/2.2),"") | G32: =IF(Données!$J$172<>"",IF(Options!$B$5,Données!$J$172,Données!$J$172*2.54),"") | I32: =IF(AND(E32<>"",F32<>"",B32>=2),F32/((E32/100)*(E32/100)),"") | K32: =F32
A33: =IF(Données!$B$175<>"",Données!$B$175,"") | B33: =IF(AND(A33<>"",F$2<>""),(A33-F$2)/365.25,0) -> 0 | C33: =IF(AND(A33<>"",F$2<>""),12*(A33-F$2)/365.25,0) -> 0 | D33: =IF(AND(Patient!$C$10<37,'Résumé des valeurs'!B33<2),((A33-$F$2)-(7*(40-Patient!$C$10)))*12/365.25,C33) -> #VALUE! | E33: =IF(Données!$B$178<>"",IF(Options!$B$5,Données!$B$178,Données!$B$178*2.54),"") | F33: =IF(Données!$F$178<>"",IF(Options!$B$5,Données!$F$178,Données!$F$178/2.2),"") | G33: =IF(Données!$J$178<>"",IF(Options!$B$5,Données!$J$178,Données!$J$178*2.54),"") | I33: =IF(AND(E33<>"",F33<>"",B33>=2),F33/((E33/100)*(E33/100)),"") | K33: =F33
A34: =IF(Données!$B$181<>"",Données!$B$181,"") | B34: =IF(AND(A34<>"",F$2<>""),(A34-F$2)/365.25,0) -> 0 | C34: =IF(AND(A34<>"",F$2<>""),12*(A34-F$2)/365.25,0) -> 0 | D34: =IF(AND(Patient!$C$10<37,'Résumé des valeurs'!B34<2),((A34-$F$2)-(7*(40-Patient!$C$10)))*12/365.25,C34) -> #VALUE! | E34: =IF(Données!$B$184<>"",IF(Options!$B$5,Données!$B$184,Données!$B$184*2.54),"") | F34: =IF(Données!$F$184<>"",IF(Options!$B$5,Données!$F$184,Données!$F$184/2.2),"") | G34: =IF(Données!$J$184<>"",IF(Options!$B$5,Données!$J$184,Données!$J$184*2.54),"") | I34: =IF(AND(E34<>"",F34<>"",B34>=2),F34/((E34/100)*(E34/100)),"") | K34: =F34
A35: =IF(Données!$B$187<>"",Données!$B$187,"") | B35: =IF(AND(A35<>"",F$2<>""),(A35-F$2)/365.25,0) -> 0 | C35: =IF(AND(A35<>"",F$2<>""),12*(A35-F$2)/365.25,0) -> 0 | D35: =IF(AND(Patient!$C$10<37,'Résumé des valeurs'!B35<2),((A35-$F$2)-(7*(40-Patient!$C$10)))*12/365.25,C35) -> #VALUE! | E35: =IF(Données!$B$190<>"",IF(Options!$B$5,Données!$B$190,Données!$B$190*2.54),"") | F35: =IF(Données!$F$190<>"",IF(Options!$B$5,Données!$F$190,Données!$F$190/2.2),"") | G35: =IF(Données!$J$190<>"",IF(Options!$B$5,Données!$J$190,Données!$J$190*2.54),"") | I35: =IF(AND(E35<>"",F35<>"",B35>=2),F35/((E35/100)*(E35/100)),"") | K35: =F35
A36: =IF(Données!$B$193<>"",Données!$B$193,"") | B36: =IF(AND(A36<>"",F$2<>""),(A36-F$2)/365.25,0) -> 0 | C36: =IF(AND(A36<>"",F$2<>""),12*(A36-F$2)/365.25,0) -> 0 | D36: =IF(AND(Patient!$C$10<37,'Résumé des valeurs'!B36<2),((A36-$F$2)-(7*(40-Patient!$C$10)))*12/365.25,C36) -> #VALUE! | E36: =IF(Données!$B$196<>"",IF(Options!$B$5,Données!$B$196,Données!$B$196*2.54),"") | F36: =IF(Données!$F$196<>"",IF(Options!$B$5,Données!$F$196,Données!$F$196/2.2),"") | G36: =IF(Données!$J$196<>"",IF(Options!$B$5,Données!$J$196,Données!$J$196*2.54),"") | I36: =IF(AND(E36<>"",F36<>"",B36>=2),F36/((E36/100)*(E36/100)),"") | K36: =F36
A37: =IF(Données!$B$199<>"",Données!$B$199,"") | B37: =IF(AND(A37<>"",F$2<>""),(A37-F$2)/365.25,0) -> 0 | C37: =IF(AND(A37<>"",F$2<>""),12*(A37-F$2)/365.25,0) -> 0 | D37: =IF(AND(Patient!$C$10<37,'Résumé des valeurs'!B37<2),((A37-$F$2)-(7*(40-Patient!$C$10)))*12/365.25,C37) -> #VALUE! | E37: =IF(Données!$B$202<>"",IF(Options!$B$5,Données!$B$202,Données!$B$202*2.54),"") | F37: =IF(Données!$F$202<>"",IF(Options!$B$5,Données!$F$202,Données!$F$202/2.2),"") | G37: =IF(Données!$J$202<>"",IF(Options!$B$5,Données!$J$202,Données!$J$202*2.54),"") | I37: =IF(AND(E37<>"",F37<>"",B37>=2),F37/((E37/100)*(E37/100)),"") | K37: =F37
A38: =IF(Données!$B$205<>"",Données!$B$205,"") | B38: =IF(AND(A38<>"",F$2<>""),(A38-F$2)/365.25,0) -> 0 | C38: =IF(AND(A38<>"",F$2<>""),12*(A38-F$2)/365.25,0) -> 0 | D38: =IF(AND(Patient!$C$10<37,'Résumé des valeurs'!B38<2),((A38-$F$2)-(7*(40-Patient!$C$10)))*12/365.25,C38) -> #VALUE! | E38: =IF(Données!$B$208<>"",IF(Options!$B$5,Données!$B$208,Données!$B$208*2.54),"") | F38: =IF(Données!$F$208<>"",IF(Options!$B$5,Données!$F$208,Données!$F$208/2.2),"") | G38: =IF(Données!$J$208<>"",IF(Options!$B$5,Données!$J$208,Données!$J$208*2.54),"") | I38: =IF(AND(E38<>"",F38<>"",B38>=2),F38/((E38/100)*(E38/100)),"") | K38: =F38
A39: =IF(Données!$B$211<>"",Données!$B$211,"") | B39: =IF(AND(A39<>"",F$2<>""),(A39-F$2)/365.25,0) -> 0 | C39: =IF(AND(A39<>"",F$2<>""),12*(A39-F$2)/365.25,0) -> 0 | D39: =IF(AND(Patient!$C$10<37,'Résumé des valeurs'!B39<2),((A39-$F$2)-(7*(40-Patient!$C$10)))*12/365.25,C39) -> #VALUE! | E39: =IF(Données!$B$214<>"",IF(Options!$B$5,Données!$B$214,Données!$B$214*2.54),"") | F39: =IF(Données!$F$214<>"",IF(Options!$B$5,Données!$F$214,Données!$F$214/2.2),"") | G39: =IF(Données!$J$214<>"",IF(Options!$B$5,Données!$J$214,Données!$J$214*2.54),"") | I39: =IF(AND(E39<>"",F39<>"",B39>=2),F39/((E39/100)*(E39/100)),"") | K39: =F39
A40: =IF(Données!$B$217<>"",Données!$B$217,"") | B40: =IF(AND(A40<>"",F$2<>""),(A40-F$2)/365.25,0) -> 0 | C40: =IF(AND(A40<>"",F$2<>""),12*(A40-F$2)/365.25,0) -> 0 | D40: =IF(AND(Patient!$C$10<37,'Résumé des valeurs'!B40<2),((A40-$F$2)-(7*(40-Patient!$C$10)))*12/365.25,C40) -> #VALUE! | E40: =IF(Données!$B$220<>"",IF(Options!$B$5,Données!$B$220,Données!$B$220*2.54),"") | F40: =IF(Données!$F$220<>"",IF(Options!$B$5,Données!$F$220,Données!$F$220/2.2),"") | G40: =IF(Données!$J$220<>"",IF(Options!$B$5,Données!$J$220,Données!$J$220*2.54),"") | I40: =IF(AND(E40<>"",F40<>"",B40>=2),F40/((E40/100)*(E40/100)),"") | K40: =F40
A41: =IF(Données!$B$223<>"",Données!$B$223,"") | B41: =IF(AND(A41<>"",F$2<>""),(A41-F$2)/365.25,0) -> 0 | C41: =IF(AND(A41<>"",F$2<>""),12*(A41-F$2)/365.25,0) -> 0 | D41: =IF(AND(Patient!$C$10<37,'Résumé des valeurs'!B41<2),((A41-$F$2)-(7*(40-Patient!$C$10)))*12/365.25,C41) -> #VALUE! | E41: =IF(Données!$B$226<>"",IF(Options!$B$5,Données!$B$226,Données!$B$226*2.54),"") | F41: =IF(Données!$F$226<>"",IF(Options!$B$5,Données!$F$226,Données!$F$226/2.2),"") | G41: =IF(Données!$J$226<>"",IF(Options!$B$5,Données!$J$226,Données!$J$226*2.54),"") | I41: =IF(AND(E41<>"",F41<>"",B41>=2),F41/((E41/100)*(E41/100)),"") | K41: =F41
...

Sheet 0-3 Data
A1: IsMale: | B1: =IF(Patient!$D$14<>"",Patient!$D$14,"") -> TRUE | C1: ht | K1: wt | S1: OFC
C2: =Options!$B$8 -> TRUE | D2: TRUE | E2: =Options!$B$10 -> TRUE | F2: TRUE | G2: =Options!$B$10 -> TRUE | H2: TRUE | I2: =Options!$B$8 -> TRUE | K2: =Options!$B$8 -> TRUE | L2: TRUE | M2: =Options!$B$10 -> TRUE | N2: TRUE | O2: =Options!$B$10 -> TRUE | P2: TRUE | Q2: =Options!$B$8 -> TRUE | S2: =Options!$B$8 -> TRUE | T2: TRUE | U2: =Options!$B$10 -> TRUE | V2: TRUE | W2: =Options!$B$10 -> TRUE | X2: TRUE | Y2: =Options!$B$8 -> TRUE
A3: Agemos | C3: P3 | D3: P15 | E3: P25 | F3: P50 | G3: P75 | H3: P85 | I3: P97 | K3: P3 | L3: P15 | M3: P25 | N3: P50 | O3: P75 | P3: P85 | Q3: P97 | S3: P3 | T3: P10 | U3: P25 | V3: P50 | W3: P75 | X3: P90 | Y3: P97 | AA3: L-M-len | AB3: M-M-len | AC3: S-M-len | AD3: L-F-len | AE3: M-F-len | AF3: S-F-len | AG3: L-M-wt | AH3: M-M-wt | AI3: S-M-wt | AJ3: L-F-wt | AK3: M-F-wt | AL3: S-F-wt | AM3: L-M-OFC | AN3: M-M-OFC | AO3: S-M-OFC | AP3: L-F-OFC | AQ3: M-F-OFC | AR3: S-F-OFC | AS3: M-len | AT3: P3 | AU3: P15 | AV3: P25 | AW3: P50 | AX3: P75 | AY3: P85 | AZ3: P97 | BA3: F-len | BB3: P3 | BC3: P15 | BD3: P25 | BE3: P50 | BF3: P75 | BG3: P85 | BH3: P97 | BI3: M-wt | BJ3: P3 | BK3: P15 | BL3: P25 | BM3: P50 | BN3: P75 | BO3: P85 | BP3: P97 | BQ3: F-wt | BR3: P3 | BS3: P15 | BT3: P25 | BU3: P50 | BV3: P75 | BW3: P85 | BX3: P97 | BY3: M-OFC | BZ3: P3 | CA3: P15 | CB3: P25 | CC3: P50 | CD3: P75 | CE3: P85 | CF3: P97 | CG3: F-OFC | CH3: P3 | CI3: P5 | CJ3: P15 | CK3: P25 | CL3: P50 | CM3: P75 | CN3: P85 | CO3: P95 | CP3: P97
A4: 0 | C4: =IF(C2,IF(B1,AT4,BB4),"") -> 46.3 | D4: =IF(D2,IF(B1,AU4,BC4),"") -> 47.9 | E4: =IF(E2,IF(B1,AV4,BD4),"") -> 48.6 | F4: =IF(F2,IF(B1,AW4,BE4),"") -> 49.9 | G4: =IF(G2,IF(B1,AX4,BF4),"") -> 51.2 | H4: =IF(H2,IF(B1,AY4,BG4),"") -> 51.8 | I4: =IF(I2,IF(B1,AZ4,BH4),"") -> 53.4 | K4: =IF(K2,IF(B1,BJ4,BR4),"") -> 2.5 | L4: =IF(L2,IF(B1,BK4,BS4),"") -> 2.9 | M4: =IF(M2,IF(B1,BL4,BT4),"") -> 3 | N4: =IF(N2,IF(B1,BM4,BU4),"") -> 3.3 | O4: =IF(O2,IF(B1,BN4,BV4),"") -> 3.7 | P4: =IF(P2,IF(B1,BO4,BW4),"") -> 3.9 | Q4: =IF(Q2,IF(B1,BP4,BX4),"") -> 4.3 | S4: =IF(S2,IF(B1,BZ4,CH4),"") -> 32.1 | T4: =IF(T2,IF(B1,CA4,CJ4),"") -> 33.1 | U4: =IF(U2,IF(B1,CB4,CK4),"") -> 33.6 | V4: =IF(V2,IF(B1,CC4,CL4),"") -> 34.5 | W4: =IF(W2,IF(B1,CD4,CM4),"") -> 35.3 | X4: =IF(X2,IF(B1,CE4,CN4),"") -> 35.8 | Y4: =IF(Y2,IF(B1,CF4,CP4),"") -> 36.9 | AA4: 1.2670042 | AB4: 49.988884 | AC4: 0.053112191 | AD4: -1.2959609 | AE4: 49.286396 | AF4: 0.05008556 | AG4: 1.8151511 | AH4: 3.5302032 | AI4: 0.15238527 | AJ4: 1.5091875 | AK4: 3.3991865 | AL4: 0.14210672 | AM4: 4.427825 | AN4: 35.813668 | AO4: 0.052172542 | AP4: -1.2987497 | AQ4: 34.711562 | AR4: 0.046905108 | AT4: 46.3 | AU4: 47.9 | AV4: 48.6 | AW4: 49.9 | AX4: 51.2 | AY4: 51.8 | AZ4: 53.4 | BB4: 45.6 | BC4: 47.2 | BD4: 47.9 | BE4: 49.1 | BF4: 50.4 | BG4: 51.1 | BH4: 52.7 | BJ4: 2.5 | BK4: 2.9 | BL4: 3 | BM4: 3.3 | BN4: 3.7 | BO4: 3.9 | BP4: 4.3 | BR4: 2.4 | BS4: 2.8 | BT4: 2.9 | BU4: 3.2 | BV4: 3.6 | BW4: 3.7 | BX4: 4.2 | BZ4: 32.1 | CA4: 33.1 | CB4: 33.6 | CC4: 34.5 | CD4: 35.3 | CE4: 35.8 | CF4: 36.9 | CH4: 31.7 | CI4: 31.9 | CJ4: 32.7 | CK4: 33.1 | CL4: 33.9 | CM4: 34.7 | CN4: 35.1 | CO4: 35.8 | CP4: 36.1
A5: 1 | C5: =IF(C2,IF(B1,AT5,BB5),"") -> 51.1 | D5: =IF(D2,IF(B1,AU5,BC5),"") -> 52.7 | E5: =IF(E2,IF(B1,AV5,BD5),"") -> 53.4 | F5: =IF(F2,IF(B1,AW5,BE5),"") -> 54.7 | G5: =IF(G2,IF(B1,AX5,BF5),"") -> 56 | H5: =IF(H2,IF(B1,AY5,BG5),"") -> 56.7 | I5: =IF(I2,IF(B1,AZ5,BH5),"") -> 58.4 | K5: =IF(K2,IF(B1,BJ5,BR5),"") -> 3.4 | L5: =IF(L2,IF(B1,BK5,BS5),"") -> 3.9 | M5: =IF(M2,IF(B1,BL5,BT5),"") -> 4.1 | N5: =IF(N2,IF(B1,BM5,BU5),"") -> 4.5 | O5: =IF(O2,IF(B1,BN5,BV5),"") -> 4.9 | P5: =IF(P2,IF(B1,BO5,BW5),"") -> 5.1 | Q5: =IF(Q2,IF(B1,BP5,BX5),"") -> 5.7 | S5: =IF(S2,IF(B1,BZ5,CH5),"") -> 35.1 | T5: =IF(T2,IF(B1,CA5,CJ5),"") -> 36.1 | U5: =IF(U2,IF(B1,CB5,CK5),"") -> 36.5 | V5: =IF(V2,IF(B1,CC5,CL5),"") -> 37.3 | W5: =IF(W2,IF(B1,CD5,CM5),"") -> 38.1 | X5: =IF(X2,IF(B1,CE5,CN5),"") -> 38.5 | Y5: =IF(Y2,IF(B1,CF5,CP5),"") -> 39.5 | AA5: 0.5112377 | AB5: 52.695975 | AC5: 0.048692684 | AD5: -0.80924988 | AE5: 51.683581 | AF5: 0.046818545 | AG5: 1.5475231 | AH5: 4.0031064 | AI5: 0.14602502 | AJ5: 1.3579443 | AK5: 3.7975285 | AL5: 0.13807592 | AM5: 4.3109275 | AN5: 37.193611 | AO5: 0.047259148 | AP5: -1.4402715 | AQ5: 36.034539 | AR5: 0.042999604 | AT5: 51.1 | AU5: 52.7 | AV5: 53.4 | AW5: 54.7 | AX5: 56 | AY5: 56.7 | AZ5: 58.4 | BB5: 50 | BC5: 51.7 | BD5: 52.4 | BE5: 53.7 | BF5: 55 | BG5: 55.7 | BH5: 57.4 | BJ5: 3.4 | BK5: 3.9 | BL5: 4.1 | BM5: 4.5 | BN5: 4.9 | BO5: 5.1 | BP5: 5.7 | BR5: 3.2 | BS5: 3.6 | BT5: 3.8 | BU5: 4.2 | BV5: 4.6 | BW5: 4.8 | BX5: 5.4 | BZ5: 35.1 | CA5: 36.1 | CB5: 36.5 | CC5: 37.3 | CD5: 38.1 | CE5: 38.5 | CF5: 39.5 | CH5: 34.3 | CI5: 34.6 | CJ5: 35.3 | CK5: 35.8 | CL5: 36.5 | CM5: 37.3 | CN5: 37.8 | CO5: 38.5 | CP5: 38.8
A6: 2 | C6: =IF(C2,IF(B1,AT6,BB6),"") -> 54.7 | D6: =IF(D2,IF(B1,AU6,BC6),"") -> 56.4 | E6: =IF(E2,IF(B1,AV6,BD6),"") -> 57.1 | F6: =IF(F2,IF(B1,AW6,BE6),"") -> 58.4 | G6: =IF(G2,IF(B1,AX6,BF6),"") -> 59.8 | H6: =IF(H2,IF(B1,AY6,BG6),"") -> 60.5 | I6: =IF(I2,IF(B1,AZ6,BH6),"") -> 62.2 | K6: =IF(K2,IF(B1,BJ6,BR6),"") -> 4.4 | L6: =IF(L2,IF(B1,BK6,BS6),"") -> 4.9 | M6: =IF(M2,IF(B1,BL6,BT6),"") -> 5.1 | N6: =IF(N2,IF(B1,BM6,BU6),"") -> 5.6 | O6: =IF(O2,IF(B1,BN6,BV6),"") -> 6 | P6: =IF(P2,IF(B1,BO6,BW6),"") -> 6.3 | Q6: =IF(Q2,IF(B1,BP6,BX6),"") -> 7 | S6: =IF(S2,IF(B1,BZ6,CH6),"") -> 36.9 | T6: =IF(T2,IF(B1,CA6,CJ6),"") -> 37.9 | U6: =IF(U2,IF(B1,CB6,CK6),"") -> 38.3 | V6: =IF(V2,IF(B1,CC6,CL6),"") -> 39.1 | W6: =IF(W2,IF(B1,CD6,CM6),"") -> 39.9 | X6: =IF(X2,IF(B1,CE6,CN6),"") -> 40.3 | Y6: =IF(Y2,IF(B1,CF6,CP6),"") -> 41.3 | AA6: -0.45224446 | AB6: 56.628429 | AC6: 0.04411683 | AD6: -0.050782985 | AE6: 55.286128 | AF6: 0.0434439 | AG6: 1.0687955 | AH6: 4.8795251 | AI6: 0.13647877 | AJ6: 1.1055377 | AK6: 4.5447765 | AL6: 0.13173389 | AM6: 3.8695768 | AN6: 39.207429 | AO6: 0.040947903 | AP6: -1.5810163 | AQ6: 37.97672 | AR6: 0.038067862 | AT6: 54.7 | AU6: 56.4 | AV6: 57.1 | AW6: 58.4 | AX6: 59.8 | AY6: 60.5 | AZ6: 62.2 | BB6: 53.2 | BC6: 55 | BD6: 55.7 | BE6: 57.1 | BF6: 58.4 | BG6: 59.2 | BH6: 60.9 | BJ6: 4.4 | BK6: 4.9 | BL6: 5.1 | BM6: 5.6 | BN6: 6 | BO6: 6.3 | BP6: 7 | BR6: 4 | BS6: 4.5 | BT6: 4.7 | BU6: 5.1 | BV6: 5.6 | BW6: 5.9 | BX6: 6.5 | BZ6: 36.9 | CA6: 37.9 | CB6: 38.3 | CC6: 39.1 | CD6: 39.9 | CE6: 40.3 | CF6: 41.3 | CH6: 36 | CI6: 36.3 | CJ6: 37 | CK6: 37.4 | CL6: 38.3 | CM6: 39.1 | CN6: 39.5 | CO6: 40.2 | CP6: 40.5
A7: 3 | C7: =IF(C2,IF(B1,AT7,BB7),"") -> 57.6 | D7: =IF(D2,IF(B1,AU7,BC7),"") -> 59.3 | E7: =IF(E2,IF(B1,AV7,BD7),"") -> 60.1 | F7: =IF(F2,IF(B1,AW7,BE7),"") -> 61.4 | G7: =IF(G2,IF(B1,AX7,BF7),"") -> 62.8 | H7: =IF(H2,IF(B1,AY7,BG7),"") -> 63.5 | I7: =IF(I2,IF(B1,AZ7,BH7),"") -> 65.3 | K7: =IF(K2,IF(B1,BJ7,BR7),"") -> 5.1 | L7: =IF(L2,IF(B1,BK7,BS7),"") -> 5.6 | M7: =IF(M2,IF(B1,BL7,BT7),"") -> 5.9 | N7: =IF(N2,IF(B1,BM7,BU7),"") -> 6.4 | O7: =IF(O2,IF(B1,BN7,BV7),"") -> 6.9 | P7: =IF(P2,IF(B1,BO7,BW7),"") -> 7.2 | Q7: =IF(Q2,IF(B1,BP7,BX7),"") -> 7.9 | S7: =IF(S2,IF(B1,BZ7,CH7),"") -> 38.3 | T7: =IF(T2,IF(B1,CA7,CJ7),"") -> 39.3 | U7: =IF(U2,IF(B1,CB7,CK7),"") -> 39.7 | V7: =IF(V2,IF(B1,CC7,CL7),"") -> 40.5 | W7: =IF(W2,IF(B1,CD7,CM7),"") -> 41.3 | X7: =IF(X2,IF(B1,CE7,CN7),"") -> 41.7 | Y7: =IF(Y2,IF(B1,CF7,CP7),"") -> 42.7 | AA7: -0.9905946 | AB7: 59.608953 | AC7: 0.041795583 | AD7: 0.47685141 | AE7: 58.093819 | AF7: 0.041716103 | AG7: 0.6959735 | AH7: 5.6728888 | AI7: 0.12967751 | AJ7: 0.90259665 | AK7: 5.2305842 | AL7: 0.1268927 | AM7: 3.305593 | AN7: 40.652332 | AO7: 0.037027722 | AP7: -1.5931364 | AQ7: 39.380126 | AR7: 0.035079612 | AT7: 57.6 | AU7: 59.3 | AV7: 60.1 | AW7: 61.4 | AX7: 62.8 | AY7: 63.5 | AZ7: 65.3 | BB7: 55.8 | BC7: 57.6 | BD7: 58.4 | BE7: 59.8 | BF7: 61.2 | BG7: 62 | BH7: 63.8 | BJ7: 5.1 | BK7: 5.6 | BL7: 5.9 | BM7: 6.4 | BN7: 6.9 | BO7: 7.2 | BP7: 7.9 | BR7: 4.6 | BS7: 5.1 | BT7: 5.4 | BU7: 5.8 | BV7: 6.4 | BW7: 6.7 | BX7: 7.4 | BZ7: 38.3 | CA7: 39.3 | CB7: 39.7 | CC7: 40.5 | CD7: 41.3 | CE7: 41.7 | CF7: 42.7 | CH7: 37.2 | CI7: 37.5 | CJ7: 38.2 | CK7: 38.7 | CL7: 39.5 | CM7: 40.4 | CN7: 40.8 | CO7: 41.6 | CP7: 41.9
A8: 4 | C8: =IF(C2,IF(B1,AT8,BB8),"") -> 60 | D8: =IF(D2,IF(B1,AU8,BC8),"") -> 61.7 | E8: =IF(E2,IF(B1,AV8,BD8),"") -> 62.5 | F8: =IF(F2,IF(B1,AW8,BE8),"") -> 63.9 | G8: =IF(G2,IF(B1,AX8,BF8),"") -> 65.3 | H8: =IF(H2,IF(B1,AY8,BG8),"") -> 66 | I8: =IF(I2,IF(B1,AZ8,BH8),"") -> 67.8 | K8: =IF(K2,IF(B1,BJ8,BR8),"") -> 5.6 | L8: =IF(L2,IF(B1,BK8,BS8),"") -> 6.2 | M8: =IF(M2,IF(B1,BL8,BT8),"") -> 6.5 | N8: =IF(N2,IF(B1,BM8,BU8),"") -> 7 | O8: =IF(O2,IF(B1,BN8,BV8),"") -> 7.6 | P8: =IF(P2,IF(B1,BO8,BW8),"") -> 7.9 | Q8: =IF(Q2,IF(B1,BP8,BX8),"") -> 8.6 | S8: =IF(S2,IF(B1,BZ8,CH8),"") -> 39.4 | T8: =IF(T2,IF(B1,CA8,CJ8),"") -> 40.4 | U8: =IF(U2,IF(B1,CB8,CK8),"") -> 40.8 | V8: =IF(V2,IF(B1,CC8,CL8),"") -> 41.6 | W8: =IF(W2,IF(B1,CD8,CM8),"") -> 42.4 | X8: =IF(X2,IF(B1,CE8,CN8),"") -> 42.9 | Y8: =IF(Y2,IF(B1,CF8,CP8),"") -> 43.9 | AA8: -1.2858377 | AB8: 62.077 | AC8: 0.040454126 | AD8: 0.84329961 | AE8: 60.459808 | AF8: 0.040705173 | AG8: 0.41981509 | AH8: 6.391392 | AI8: 0.12471709 | AJ8: 0.73412141 | AK8: 5.8599608 | AL8: 0.12302518 | AM8: 2.7205903 | AN8: 41.76517 | AO8: 0.034364245 | AP8: -1.5214924 | AQ8: 40.467737 | AR8: 0.033096443 | AT8: 60 | AU8: 61.7 | AV8: 62.5 | AW8: 63.9 | AX8: 65.3 | AY8: 66 | AZ8: 67.8 | BB8: 58 | BC8: 59.8 | BD8: 60.6 | BE8: 62.1 | BF8: 63.5 | BG8: 64.3 | BH8: 66.2 | BJ8: 5.6 | BK8: 6.2 | BL8: 6.5 | BM8: 7 | BN8: 7.6 | BO8: 7.9 | BP8: 8.6 | BR8: 5.1 | BS8: 5.6 | BT8: 5.9 | BU8: 6.4 | BV8: 7 | BW8: 7.3 | BX8: 8.1 | BZ8: 39.4 | CA8: 40.4 | CB8: 40.8 | CC8: 41.6 | CD8: 42.4 | CE8: 42.9 | CF8: 43.9 | CH8: 38.2 | CI8: 38.5 | CJ8: 39.3 | CK8: 39.7 | CL8: 40.6 | CM8: 41.4 | CN8: 41.9 | CO8: 42.7 | CP8: 43
A9: 5 | C9: =IF(C2,IF(B1,AT9,BB9),"") -> 61.9 | D9: =IF(D2,IF(B1,AU9,BC9),"") -> 63.7 | E9: =IF(E2,IF(B1,AV9,BD9),"") -> 64.5 | F9: =IF(F2,IF(B1,AW9,BE9),"") -> 65.9 | G9: =IF(G2,IF(B1,AX9,BF9),"") -> 67.3 | H9: =IF(H2,IF(B1,AY9,BG9),"") -> 68.1 | I9: =IF(I2,IF(B1,AZ9,BH9),"") -> 69.9 | K9: =IF(K2,IF(B1,BJ9,BR9),"") -> 6.1 | L9: =IF(L2,IF(B1,BK9,BS9),"") -> 6.7 | M9: =IF(M2,IF(B1,BL9,BT9),"") -> 7 | N9: =IF(N2,IF(B1,BM9,BU9),"") -> 7.5 | O9: =IF(O2,IF(B1,BN9,BV9),"") -> 8.1 | P9: =IF(P2,IF(B1,BO9,BW9),"") -> 8.4 | Q9: =IF(Q2,IF(B1,BP9,BX9),"") -> 9.2 | S9: =IF(S2,IF(B1,BZ9,CH9),"") -> 40.3 | T9: =IF(T2,IF(B1,CA9,CJ9),"") -> 41.3 | U9: =IF(U2,IF(B1,CB9,CK9),"") -> 41.7 | V9: =IF(V2,IF(B1,CC9,CL9),"") -> 42.6 | W9: =IF(W2,IF(B1,CD9,CM9),"") -> 43.4 | X9: =IF(X2,IF(B1,CE9,CN9),"") -> 43.8 | Y9: =IF(Y2,IF(B1,CF9,CP9),"") -> 44.8 | AA9: -1.4303124 | AB9: 64.216864 | AC9: 0.039633879 | AD9: 1.0975623 | AE9: 62.536697 | AF9: 0.040079765 | AG9: 0.2198668 | AH9: 7.0418364 | AI9: 0.12104012 | AJ9: 0.59023527 | AK9: 6.4375878 | AL9: 0.11984091 | AM9: 2.1680482 | AN9: 42.661161 | AO9: 0.032462175 | AP9: -1.3945659 | AQ9: 41.34841 | AR9: 0.03170963 | AT9: 61.9 | AU9: 63.7 | AV9: 64.5 | AW9: 65.9 | AX9: 67.3 | AY9: 68.1 | AZ9: 69.9 | BB9: 59.9 | BC9: 61.7 | BD9: 62.5 | BE9: 64 | BF9: 65.5 | BG9: 66.3 | BH9: 68.2 | BJ9: 6.1 | BK9: 6.7 | BL9: 7 | BM9: 7.5 | BN9: 8.1 | BO9: 8.4 | BP9: 9.2 | BR9: 5.5 | BS9: 6.1 | BT9: 6.4 | BU9: 6.9 | BV9: 7.5 | BW9: 7.8 | BX9: 8.7 | BZ9: 40.3 | CA9: 41.3 | CB9: 41.7 | CC9: 42.6 | CD9: 43.4 | CE9: 43.8 | CF9: 44.8 | CH9: 39 | CI9: 39.3 | CJ9: 40.1 | CK9: 40.6 | CL9: 41.5 | CM9: 42.3 | CN9: 42.8 | CO9: 43.6 | CP9: 43.9
A10: 6 | C10: =IF(C2,IF(B1,AT10,BB10),"") -> 63.6 | D10: =IF(D2,IF(B1,AU10,BC10),"") -> 65.4 | E10: =IF(E2,IF(B1,AV10,BD10),"") -> 66.2 | F10: =IF(F2,IF(B1,AW10,BE10),"") -> 67.6 | G10: =IF(G2,IF(B1,AX10,BF10),"") -> 69.1 | H10: =IF(H2,IF(B1,AY10,BG10),"") -> 69.8 | I10: =IF(I2,IF(B1,AZ10,BH10),"") -> 71.6 | K10: =IF(K2,IF(B1,BJ10,BR10),"") -> 6.4 | L10: =IF(L2,IF(B1,BK10,BS10),"") -> 7.1 | M10: =IF(M2,IF(B1,BL10,BT10),"") -> 7.4 | N10: =IF(N2,IF(B1,BM10,BU10),"") -> 7.9 | O10: =IF(O2,IF(B1,BN10,BV10),"") -> 8.5 | P10: =IF(P2,IF(B1,BO10,BW10),"") -> 8.9 | Q10: =IF(Q2,IF(B1,BP10,BX10),"") -> 9.7 | S10: =IF(S2,IF(B1,BZ10,CH10),"") -> 41 | T10: =IF(T2,IF(B1,CA10,CJ10),"") -> 42.1 | U10: =IF(U2,IF(B1,CB10,CK10),"") -> 42.5 | V10: =IF(V2,IF(B1,CC10,CL10),"") -> 43.3 | W10: =IF(W2,IF(B1,CD10,CM10),"") -> 44.2 | X10: =IF(X2,IF(B1,CE10,CN10),"") -> 44.6 | Y10: =IF(Y2,IF(B1,CF10,CP10),"") -> 45.6 | AA10: -1.4765755 | AB10: 66.125315 | AC10: 0.039123813 | AD10: 1.2725096 | AE10: 64.406328 | AF10: 0.039686845 | AG10: 0.077505598 | AH10: 7.6304252 | AI10: 0.1182712 | AJ10: 0.46439157 | AK10: 6.9678505 | AL10: 0.11716687 | AM10: 1.6754657 | AN10: 43.404887 | AO10: 0.031064702 | AP10: -1.2317134 | AQ10: 42.083351 | AR10: 0.030709039 | AT10: 63.6 | AU10: 65.4 | AV10: 66.2 | AW10: 67.6 | AX10: 69.1 | AY10: 69.8 | AZ10: 71.6 | BB10: 61.5 | BC10: 63.4 | BD10: 64.2 | BE10: 65.7 | BF10: 67.3 | BG10: 68.1 | BH10: 70 | BJ10: 6.4 | BK10: 7.1 | BL10: 7.4 | BM10: 7.9 | BN10: 8.5 | BO10: 8.9 | BP10: 9.7 | BR10: 5.8 | BS10: 6.4 | BT10: 6.7 | BU10: 7.3 | BV10: 7.9 | BW10: 8.3 | BX10: 9.2 | BZ10: 41 | CA10: 42.1 | CB10: 42.5 | CC10: 43.3 | CD10: 44.2 | CE10: 44.6 | CF10: 45.6 | CH10: 39.7 | CI10: 40.1 | CJ10: 40.8 | CK10: 41.3 | CL10: 42.2 | CM10: 43.1 | CN10: 43.5 | CO10: 44.3 | CP10: 44.6
