Workbook

Sheet Instructions
A1: Courbes de croissances
A2: Ces courbes de croissances sont dérivées :
B3: - des courbes OMS pour les enfants de 0 à 3 ans
B4: - des courbes flamandes/françaises/CDC pour les enfants de 2 à 18 ans
B5: - des courbes IOTF pour le BMI
A7: Toutes les données utilisées pour la réalisation de ces courbes sont libres d'accès.
A8: Ce fichier s'inspire de données réalisées par ****
A10: Conseils d'utilisation
A11: Cliquez sur l'onglet pour sélectionner la page voulue.
A12: Les cellules en jaunes sont les cellules où introduire les données.
A14: Patient | C14: Informations concernant le patient (date de naissance, sexe, âge gestationnel, taille des parents, …)
A15: Données | C15: Feuille où il faut encoder les données anthropométriques de l'enfant
A16: Courbes 0-3 ans | C16: Courbes de croissances de 0 à 3 ans, selon les courbes OMS et pour le sexe de l'enfant
A17: Courbes 2-20 ans | C17: Courbes de croissances de 2 à 20 ans, selon les courbes ***
A18: Résumé des valeurs | C18: Tableau de toutes les valeurs encodées.
A20: Impression des courbes
A21: Allez à la page désirée. Cliquez sur "imprimer" et sélectionnez la page désirée.
A23: Références
A24: 1. Anthropomorphic tables and LMS representation from CDC. See www.cdc.gov/growthcharts.
A25: 2. Blood pressure percentiles and index from
A26: National High Blood Pressure Education Program Working Group on High Blood Pressure in Children and Adolescents. The Fourth Report on the Diagnosis, Evaluation,
A27: and Treatment of High Blood Pressure in Children. Pediatrics. 2004; 114: 555-576.

Sheet Options
A1: Chart Options
A2: If you plan to use these charts for multiple patients, save the empty workbook after completing this information once, and
A3: you can then fill in the patient-specific information with a separate spreadsheet per patient.
A5: Enter data in Metric (cm, kg) instead of English (lb, kg) | B5: TRUE
A7: Height/Length, Weight, and OFC Charts
A8: Show 3rd/97th Percentile | B8: TRUE
A9: Show 15th/85th Percentile | B9: TRUE
A10: Show 25th/75th Percentile | B10: TRUE
A12: BMI Charts
A13: Show 3rd Percentile | B13: =B8 -> TRUE
A14: Show 5th Percentile | B14: =B9 -> TRUE
A15: Show 25th/75th Percentile | B15: =B10 -> TRUE
A16: We will show the Overweight (85th percentile), Obese (95th percentile or 30.0), and Very Obese (99th percentile or 40.0) curves automatically.
A18: Percentile Calculation
A19: Percentile Calculation Library is Loaded: | B19: =NOT(ISERROR(_xll.CmFromIn(20))) -> FALSE
A21: To load the calculation library (Anthrop.XLL), assuming that it has been unzipped with this spreadsheet into a directory:
A22: 1. Choose Tools/Add-Ins...
A23: 2. Click the Browse... button
A24: 3. Find the Anthrop.XLL library, and click OK to open it.
A25: 4. The Add-In dialog should now have an add-in called "Anthropomorphic" with a check mark by it. Click OK.
A26: 5. Save this spreadsheet and close Excel. Upon reopening the spreadsheet, the library should be loaded.

Sheet Patient
A1: Informations concernant le patient
A3: Ces données sont obligatoires pour une utilisation correcte des courbes de croissance.
B5: Nom :
B6: Prénom :
B8: Date de naissance : | D8: (JJ/MM/AA) | E8: Obligatoire
B9: Sexe : | C9: M | D9: ="(M or F)" -> (M or F) | E9: Obligatoire
B10: Age gestationnel : | D10: semaines | E10: Obligatoire
D11: jours | E11: Optionnel
B12: Date de naissance corrigée : | C12: =C8+((40*7)-(C10*7)-C11) -> 280 | E12: Calculée
C14: =IF(D14<>"",IF(D14,"Masculin","Féminin"),"") -> Masculin | D14: =IF(C9<>"",MID(C9,1,1)="m","") -> TRUE
B15: Taille de la mère : | D15: =IF(Options!$B$5,"cm","in") -> cm | E15: Optionnel
B16: Taille du père : | D16: =IF(Options!$B$5,"cm","in") -> cm | E16: Optionnel
B18: Taille adulte calculée : | C18: =IF(AND(Options!$B$5<>"",C15<>"",C16<>"",D14<>""),(C15+C16+IF(D14,IF(Options!$B$5,13,13/2.54),IF(Options!$B$5,-13,-13/2.54)))/2,"") | D18: =IF(Options!$B$5,"cm","in") -> cm

Sheet Données
A1: Données du patient
A2: Pour chaque visite, il faut au minimum la date de la mesure
A3: Note : l'ordre d'encodage n'a pas d'importance sur la réalisation des courbes.
I4: Sexe : | J4: =IF(Patient!$C$14<>"",Patient!$C$14,"") -> Masculin | M4: Date de naissance : | N4: =IF(Patient!$C$8<>"",Patient!$C$8,"")
M5: Terme prévu : | N5: =Patient!C12 -> 280
A7: Date : | E7: Age: | F7: =IF(H7<>"",(IF(K7>=1,IF(K7>=2,CONCATENATE(TRUNC(K7)," ans ",TRUNC(J7-(12*INT(K7)))," mois"),CONCATENATE(TRUNC(K7)," an ",TRUNC(J7-(12*INT(K7)))," mois")),IF(J7>=2,CONCATENATE(TRUNC(J7)," mois"),IF(I7>=2,CONCATENATE(TRUNC(I7)," semaines"),IF(H7>=2,CONCATENATE(TRUNC(H7)," jours"),IF(H7>=1,CONCATENATE(TRUNC(H7)," jour"),"< 1 day")))))),"") | H7: =IF(AND(B7<>"",$N$4<>""),B7-$N$4,"") | I7: =IF(H7<>"",H7/7,"") | J7: =IF(H7<>"",12*H7/365.25,"") | K7: =IF(H7<>"",IF(H7<365*4,H7/365,H7/365.25),"")
E8: Age corrigé: | F8: =IF(H8<>"",(IF(K8>=1,IF(K8>=2,CONCATENATE(TRUNC(K8)," ans ",TRUNC(J8-(12*INT(K8)))," mois"),CONCATENATE(TRUNC(K8)," an ",TRUNC(J8-(12*INT(K8)))," mois")),IF(J8>=2,CONCATENATE(INT(J8)," mois"),IF(I8>=2,CONCATENATE(TRUNC(I8)," semaines"),IF(H8>=2,CONCATENATE(TRUNC(H8)," jours"),IF(H8>=1,CONCATENATE(TRUNC(H8)," jour"),"< 1 day")))))),"Non applicable") -> #VALUE! | H8: =IF(AND(Patient!$C$10<37,(B7-$N$4)<730),B7-$N$5,"") -> #VALUE! | I8: =IF(H8<>"",H8/7,"") -> #VALUE! | J8: =IF(H8<>"",12*H8/365.25,"") -> #VALUE! | K8: =IF(H8<>"",IF(H8<365*4,H8/365,H8/365.25),"") -> #VALUE!
A9: Mesures :
A10: Taille : | C10: =IF(Options!$B$5,"cm","in") -> cm | D10: =IF(AND(Options!$B$19,$J$4<>"",J7<>"",K7<>"",B10<>""),IF(K7>=3,_xll.HtPercentile($J$4="Male",J7,IF(Options!$B$5,B10,B10*2.54)),_xll.LenPercentile($J$4="Male",J7,IF(Options!$B$5,B10,B10*2.54)))/100,"") | E10: Poids | G10: =IF(Options!$B$5,"kg","lbs") -> kg | H10: =IF(AND(Options!$B$19,$J$4<>"",J7<>"",F10<>""),_xll.WtPercentile($J$4="Male",J7,IF(Options!$B$5,F10,F10/2.2))/100,"") | I10: PC | K10: =IF(Options!$B$5,"cm","in") -> cm | L10: =IF(AND(Options!$B$19,$J$4<>"",J7<>"",K7<>"",K7<=3,J10<>""),_xll.OFCPercentile($J$4="Male",J7,IF(Options!$B$5,J10,J10*2.54))/100,"") | M10: BMI | N10: ='Résumé des valeurs'!$I$5 | O10: kg/m2 | P10: =IF(AND(Options!$B$19,$J$4<>"",J7<>"",N10<>""),_xll.BmiPercentile($J$4="Male",J7,N10)/100,"")
A13: Date : | E13: Age: | F13: =IF(H13<>"",(IF(K13>=1,IF(K13>=2,CONCATENATE(TRUNC(K13)," ans ",TRUNC(J13-(12*INT(K13)))," mois"),CONCATENATE(TRUNC(K13)," an ",TRUNC(J13-(12*INT(K13)))," mois")),IF(J13>=2,CONCATENATE(TRUNC(J13)," mois"),IF(I13>=2,CONCATENATE(TRUNC(I13)," semaines"),IF(H13>=2,CONCATENATE(TRUNC(H13)," jours"),IF(H13>=1,CONCATENATE(TRUNC(H13)," jour"),"< 1 day")))))),"") | H13: =IF(AND(B13<>"",$N$4<>""),B13-$N$4,"") | I13: =IF(H13<>"",H13/7,"") | J13: =IF(H13<>"",12*H13/365.25,"") | K13: =IF(H13<>"",IF(H13<365*4,H13/365,H13/365.25),"")
E14: Age corrigé: | F14: =IF(H14<>"",(IF(K14>=1,IF(K14>=2,CONCATENATE(TRUNC(K14)," ans ",TRUNC(J14-(12*INT(K14)))," mois"),CONCATENATE(TRUNC(K14)," an ",TRUNC(J14-(12*INT(K14)))," mois")),IF(J14>=2,CONCATENATE(INT(J14)," mois"),IF(I14>=2,CONCATENATE(TRUNC(I14)," semaines"),IF(H14>=2,CONCATENATE(TRUNC(H14)," jours"),IF(H14>=1,CONCATENATE(TRUNC(H14)," jour"),"< 1 day")))))),"Non applicable") -> #VALUE! | H14: =IF(AND(Patient!$C$10<37,(B13-$N$4)<730),B13-$N$5,"") -> #VALUE! | I14: =IF(H14<>"",H14/7,"") -> #VALUE! | J14: =IF(H14<>"",12*H14/365.25,"") -> #VALUE! | K14: =IF(H14<>"",IF(H14<365*4,H14/365,H14/365.25),"") -> #VALUE!
A15: Mesures :
A16: Taille : | C16: =IF(Options!$B$5,"cm","in") -> cm | D16: =IF(AND(Options!$B$19,$J$4<>"",J13<>"",K13<>"",B16<>""),IF(K13>=3,_xll.HtPercentile($J$4="Male",J13,IF(Options!$B$5,B16,B16*2.54)),_xll.LenPercentile($J$4="Male",J13,IF(Options!$B$5,B16,B16*2.54)))/100,"") | E16: Poids | G16: =IF(Options!$B$5,"kg","lbs") -> kg | H16: =IF(AND(Options!$B$19,$J$4<>"",J13<>"",F16<>""),_xll.WtPercentile($J$4="Male",J13,IF(Options!$B$5,F16,F16/2.2))/100,"") | I16: PC | K16: =IF(Options!$B$5,"cm","in") -> cm | L16: =IF(AND(Options!$B$19,$J$4<>"",J13<>"",K13<>"",K13<=3,J16<>""),_xll.OFCPercentile($J$4="Male",J13,IF(Options!$B$5,J16,J16*2.54))/100,"") | M16: BMI | N16: ='Résumé des valeurs'!$I$5 | O16: kg/m2 | P16: =IF(AND(Options!$B$19,$J$4<>"",J13<>"",N16<>""),_xll.BmiPercentile($J$4="Male",J13,N16)/100,"")
A19: Date : | E19: Age: | F19: =IF(H19<>"",(IF(K19>=1,IF(K19>=2,CONCATENATE(TRUNC(K19)," ans ",TRUNC(J19-(12*INT(K19)))," mois"),CONCATENATE(TRUNC(K19)," an ",TRUNC(J19-(12*INT(K19)))," mois")),IF(J19>=2,CONCATENATE(TRUNC(J19)," mois"),IF(I19>=2,CONCATENATE(TRUNC(I19)," semaines"),IF(H19>=2,CONCATENATE(TRUNC(H19)," jours"),IF(H19>=1,CONCATENATE(TRUNC(H19)," jour"),"< 1 day")))))),"") | H19: =IF(AND(B19<>"",$N$4<>""),B19-$N$4,"") | I19: =IF(H19<>"",H19/7,"") | J19: =IF(H19<>"",12*H19/365.25,"") | K19: =IF(H19<>"",IF(H19<365*4,H19/365,H19/365.25),"")
E20: Age corrigé: | F20: =IF(H20<>"",(IF(K20>=1,IF(K20>=2,CONCATENATE(TRUNC(K20)," ans ",TRUNC(J20-(12*INT(K20)))," mois"),CONCATENATE(TRUNC(K20)," an ",TRUNC(J20-(12*INT(K20)))," mois")),IF(J20>=2,CONCATENATE(INT(J20)," mois"),IF(I20>=2,CONCATENATE(TRUNC(I20)," semaines"),IF(H20>=2,CONCATENATE(TRUNC(H20)," jours"),IF(H20>=1,CONCATENATE(TRUNC(H20)," jour"),"< 1 day")))))),"Non applicable") -> #VALUE! | H20: =IF(AND(Patient!$C$10<37,(B19-$N$4)<730),B19-$N$5,"") -> #VALUE! | I20: =IF(H20<>"",H20/7,"") -> #VALUE! | J20: =IF(H20<>"",12*H20/365.25,"") -> #VALUE! | K20: =IF(H20<>"",IF(H20<365*4,H20/365,H20/365.25),"") -> #VALUE!
A21: Mesures :
A22: Taille : | C22: =IF(Options!$B$5,"cm","in") -> cm | D22: =IF(AND(Options!$B$19,$J$4<>"",J19<>"",K19<>"",B22<>""),IF(K19>=3,_xll.HtPercentile($J$4="Male",J19,IF(Options!$B$5,B22,B22*2.54)),_xll.LenPercentile($J$4="Male",J19,IF(Options!$B$5,B22,B22*2.54)))/100,"") | E22: Poids | G22: =IF(Options!$B$5,"kg","lbs") -> kg | H22: =IF(AND(Options!$B$19,$J$4<>"",J19<>"",F22<>""),_xll.WtPercentile($J$4="Male",J19,IF(Options!$B$5,F22,F22/2.2))/100,"") | I22: PC | K22: =IF(Options!$B$5,"cm","in") -> cm | L22: =IF(AND(Options!$B$19,$J$4<>"",J19<>"",K19<>"",K19<=3,J22<>""),_xll.OFCPercentile($J$4="Male",J19,IF(Options!$B$5,J22,J22*2.54))/100,"") | M22: BMI | N22: ='Résumé des valeurs'!$I$5 | O22: kg/m2 | P22: =IF(AND(Options!$B$19,$J$4<>"",J19<>"",N22<>""),_xll.BmiPercentile($J$4="Male",J19,N22)/100,"")
A25: Date : | E25: Age: | F25: =IF(H25<>"",(IF(K25>=1,IF(K25>=2,CONCATENATE(TRUNC(K25)," ans ",TRUNC(J25-(12*INT(K25)))," mois"),CONCATENATE(TRUNC(K25)," an ",TRUNC(J25-(12*INT(K25)))," mois")),IF(J25>=2,CONCATENATE(TRUNC(J25)," mois"),IF(I25>=2,CONCATENATE(TRUNC(I25)," semaines"),IF(H25>=2,CONCATENATE(TRUNC(H25)," jours"),IF(H25>=1,CONCATENATE(TRUNC(H25)," jour"),"< 1 day")))))),"") | H25: =IF(AND(B25<>"",$N$4<>""),B25-$N$4,"") | I25: =IF(H25<>"",H25/7,"") | J25: =IF(H25<>"",12*H25/365.25,"") | K25: =IF(H25<>"",IF(H25<365*4,H25/365,H25/365.25),"")
E26: Age corrigé: | F26: =IF(H26<>"",(IF(K26>=1,IF(K26>=2,CONCATENATE(TRUNC(K26)," ans ",TRUNC(J26-(12*INT(K26)))," mois"),CONCATENATE(TRUNC(K26)," an ",TRUNC(J26-(12*INT(K26)))," mois")),IF(J26>=2,CONCATENATE(INT(J26)," mois"),IF(I26>=2,CONCATENATE(TRUNC(I26)," semaines"),IF(H26>=2,CONCATENATE(TRUNC(H26)," jours"),IF(H26>=1,CONCATENATE(TRUNC(H26)," jour"),"< 1 day")))))),"Non applicable") -> #VALUE! | H26: =IF(AND(Patient!$C$10<37,(B25-$N$4)<730),B25-$N$5,"") -> #VALUE! | I26: =IF(H26<>"",H26/7,"") -> #VALUE! | J26: =IF(H26<>"",12*H26/365.25,"") -> #VALUE! | K26: =IF(H26<>"",IF(H26<365*4,H26/365,H26/365.25),"") -> #VALUE!
A27: Mesures :
A28: Taille : | C28: =IF(Options!$B$5,"cm","in") -> cm | D28: =IF(AND(Options!$B$19,$J$4<>"",J25<>"",K25<>"",B28<>""),IF(K25>=3,_xll.HtPercentile($J$4="Male",J25,IF(Options!$B$5,B28,B28*2.54)),_xll.LenPercentile($J$4="Male",J25,IF(Options!$B$5,B28,B28*2.54)))/100,"") | E28: Poids | G28: =IF(Options!$B$5,"kg","lbs") -> kg | H28: =IF(AND(Options!$B$19,$J$4<>"",J25<>"",F28<>""),_xll.WtPercentile($J$4="Male",J25,IF(Options!$B$5,F28,F28/2.2))/100,"") | I28: PC | K28: =IF(Options!$B$5,"cm","in") -> cm | L28: =IF(AND(Options!$B$19,$J$4<>"",J25<>"",K25<>"",K25<=3,J28<>""),_xll.OFCPercentile($J$4="Male",J25,IF(Options!$B$5,J28,J28*2.54))/100,"") | M28: BMI | N28: ='Résumé des valeurs'!$I$5 | O28: kg/m2 | P28: =IF(AND(Options!$B$19,$J$4<>"",J25<>"",N28<>""),_xll.BmiPercentile($J$4="Male",J25,N28)/100,"")
A31: Date : | E31: Age: | F31: =IF(H31<>"",(IF(K31>=1,IF(K31>=2,CONCATENATE(TRUNC(K31)," ans ",TRUNC(J31-(12*INT(K31)))," mois"),CONCATENATE(TRUNC(K31)," an ",TRUNC(J31-(12*INT(K31)))," mois")),IF(J31>=2,CONCATENATE(TRUNC(J31)," mois"),IF(I31>=2,CONCATENATE(TRUNC(I31)," semaines"),IF(H31>=2,CONCATENATE(TRUNC(H31)," jours"),IF(H31>=1,CONCATENATE(TRUNC(H31)," jour"),"< 1 day")))))),"") | H31: =IF(AND(B31<>"",$N$4<>""),B31-$N$4,"") | I31: =IF(H31<>"",H31/7,"") | J31: =IF(H31<>"",12*H31/365.25,"") | K31: =IF(H31<>"",IF(H31<365*4,H31/365,H31/365.25),"")
E32: Age corrigé: | F32: =IF(H32<>"",(IF(K32>=1,IF(K32>=2,CONCATENATE(TRUNC(K32)," ans ",TRUNC(J32-(12*INT(K32)))," mois"),CONCATENATE(TRUNC(K32)," an ",TRUNC(J32-(12*INT(K32)))," mois")),IF(J32>=2,CONCATENATE(INT(J32)," mois"),IF(I32>=2,CONCATENATE(TRUNC(I32)," semaines"),IF(H32>=2,CONCATENATE(TRUNC(H32)," jours"),IF(H32>=1,CONCATENATE(TRUNC(H32)," jour"),"< 1 day")))))),"Non applicable") -> #VALUE! | H32: =IF(AND(Patient!$C$10<37,(B31-$N$4)<730),B31-$N$5,"") -> #VALUE! | I32: =IF(H32<>"",H32/7,"") -> #VALUE! | J32: =IF(H32<>"",12*H32/365.25,"") -> #VALUE! | K32: =IF(H32<>"",IF(H32<365*4,H32/365,H32/365.25),"") -> #VALUE!
A33: Mesures :
A34: Taille : | C34: =IF(Options!$B$5,"cm","in") -> cm | D34: =IF(AND(Options!$B$19,$J$4<>"",J31<>"",K31<>"",B34<>""),IF(K31>=3,_xll.HtPercentile($J$4="Male",J31,IF(Options!$B$5,B34,B34*2.54)),_xll.LenPercentile($J$4="Male",J31,IF(Options!$B$5,B34,B34*2.54)))/100,"") | E34: Poids | G34: =IF(Options!$B$5,"kg","lbs") -> kg | H34: =IF(AND(Options!$B$19,$J$4<>"",J31<>"",F34<>""),_xll.WtPercentile($J$4="Male",J31,IF(Options!$B$5,F34,F34/2.2))/100,"") | I34: PC | K34: =IF(Options!$B$5,"cm","in") -> cm | L34: =IF(AND(Options!$B$19,$J$4<>"",J31<>"",K31<>"",K31<=3,J34<>""),_xll.OFCPercentile($J$4="Male",J31,IF(Options!$B$5,J34,J34*2.54))/100,"") | M34: BMI | N34: ='Résumé des valeurs'!$I$5 | O34: kg/m2 | P34: =IF(AND(Options!$B$19,$J$4<>"",J31<>"",N34<>""),_xll.BmiPercentile($J$4="Male",J31,N34)/100,"")
A37: Date : | E37: Age: | F37: =IF(H37<>"",(IF(K37>=1,IF(K37>=2,CONCATENATE(TRUNC(K37)," ans ",TRUNC(J37-(12*INT(K37)))," mois"),CONCATENATE(TRUNC(K37)," an ",TRUNC(J37-(12*INT(K37)))," mois")),IF(J37>=2,CONCATENATE(TRUNC(J37)," mois"),IF(I37>=2,CONCATENATE(TRUNC(I37)," semaines"),IF(H37>=2,CONCATENATE(TRUNC(H37)," jours"),IF(H37>=1,CONCATENATE(TRUNC(H37)," jour"),"< 1 day")))))),"") | H37: =IF(AND(B37<>"",$N$4<>""),B37-$N$4,"") | I37: =IF(H37<>"",H37/7,"") | J37: =IF(H37<>"",12*H37/365.25,"") | K37: =IF(H37<>"",IF(H37<365*4,H37/365,H37/365.25),"")
E38: Age corrigé: | F38: =IF(H38<>"",(IF(K38>=1,IF(K38>=2,CONCATENATE(TRUNC(K38)," ans ",TRUNC(J38-(12*INT(K38)))," mois"),CONCATENATE(TRUNC(K38)," an ",TRUNC(J38-(12*INT(K38)))," mois")),IF(J38>=2,CONCATENATE(INT(J38)," mois"),IF(I38>=2,CONCATENATE(TRUNC(I38)," semaines"),IF(H38>=2,CONCATENATE(TRUNC(H38)," jours"),IF(H38>=1,CONCATENATE(TRUNC(H38)," jour"),"< 1 day")))))),"Non applicable") -> #VALUE! | H38: =IF(AND(Patient!$C$10<37,(B37-$N$4)<730),B37-$N$5,"") -> #VALUE! | I38: =IF(H38<>"",H38/7,"") -> #VALUE! | J38: =IF(H38<>"",12*H38/365.25,"") -> #VALUE! | K38: =IF(H38<>"",IF(H38<365*4,H38/365,H38/365.25),"") -> #VALUE!
A39: Mesures :
A40: Taille : | C40: =IF(Options!$B$5,"cm","in") -> cm | D40: =IF(AND(Options!$B$19,$J$4<>"",J37<>"",K37<>"",B40<>""),IF(K37>=3,_xll.HtPercentile($J$4="Male",J37,IF(Options!$B$5,B40,B40*2.54)),_xll.LenPercentile($J$4="Male",J37,IF(Options!$B$5,B40,B40*2.54)))/100,"") | E40: Poids | G40: =IF(Options!$B$5,"kg","lbs") -> kg | H40: =IF(AND(Options!$B$19,$J$4<>"",J37<>"",F40<>""),_xll.WtPercentile($J$4="Male",J37,IF(Options!$B$5,F40,F40/2.2))/100,"") | I40: PC | K40: =IF(Options!$B$5,"cm","in") -> cm | L40: =IF(AND(Options!$B$19,$J$4<>"",J37<>"",K37<>"",K37<=3,J40<>""),_xll.OFCPercentile($J$4="Male",J37,IF(Options!$B$5,J40,J40*2.54))/100,"") | M40: BMI | N40: ='Résumé des valeurs'!$I$5 | O40: kg/m2 | P40: =IF(AND(Options!$B$19,$J$4<>"",J37<>"",N40<>""),_xll.BmiPercentile($J$4="Male",J37,N40)/100,"")
A43: Date : | E43: Age: | F43: =IF(H43<>"",(IF(K43>=1,IF(K43>=2,CONCATENATE(TRUNC(K43)," ans ",TRUNC(J43-(12*INT(K43)))," mois"),CONCATENATE(TRUNC(K43)," an ",TRUNC(J43-(12*INT(K43)))," mois")),IF(J43>=2,CONCATENATE(TRUNC(J43)," mois"),IF(I43>=2,CONCATENATE(TRUNC(I43)," semaines"),IF(H43>=2,CONCATENATE(TRUNC(H43)," jours"),IF(H43>=1,CONCATENATE(TRUNC(H43)," jour"),"< 1 day")))))),"") | H43: =IF(AND(B43<>"",$N$4<>""),B43-$N$4,"") | I43: =IF(H43<>"",H43/7,"") | J43: =IF(H43<>"",12*H43/365.25,"") | K43: =IF(H43<>"",IF(H43<365*4,H43/365,H43/365.25),"")
E44: Age corrigé: | F44: =IF(H44<>"",(IF(K44>=1,IF(K44>=2,CONCATENATE(TRUNC(K44)," ans ",TRUNC(J44-(12*INT(K44)))," mois"),CONCATENATE(TRUNC(K44)," an ",TRUNC(J44-(12*INT(K44)))," mois")),IF(J44>=2,CONCATENATE(INT(J44)," mois"),IF(I44>=2,CONCATENATE(TRUNC(I44)," semaines"),IF(H44>=2,CONCATENATE(TRUNC(H44)," jours"),IF(H44>=1,CONCATENATE(TRUNC(H44)," jour"),"< 1 day")))))),"Non applicable") -> #VALUE! | H44: =IF(AND(Patient!$C$10<37,(B43-$N$4)<730),B43-$N$5,"") -> #VALUE! | I44: =IF(H44<>"",H44/7,"") -> #VALUE! | J44: =IF(H44<>"",12*H44/365.25,"") -> #VALUE! | K44: =IF(H44<>"",IF(H44<365*4,H44/365,H44/365.25),"") -> #VALUE!
A45: Mesures :
A46: Taille : | C46: =IF(Options!$B$5,"cm","in") -> cm | D46: =IF(AND(Options!$B$19,$J$4<>"",J43<>"",K43<>"",B46<>""),IF(K43>=3,_xll.HtPercentile($J$4="Male",J43,IF(Options!$B$5,B46,B46*2.54)),_xll.LenPercentile($J$4="Male",J43,IF(Options!$B$5,B46,B46*2.54)))/100,"") | E46: Poids | G46: =IF(Options!$B$5,"kg","lbs") -> kg | H46: =IF(AND(Options!$B$19,$J$4<>"",J43<>"",F46<>""),_xll.WtPercentile($J$4="Male",J43,IF(Options!$B$5,F46,F46/2.2))/100,"") | I46: PC | K46: =IF(Options!$B$5,"cm","in") -> cm | L46: =IF(AND(Options!$B$19,$J$4<>"",J43<>"",K43<>"",K43<=3,J46<>""),_xll.OFCPercentile($J$4="Male",J43,IF(Options!$B$5,J46,J46*2.54))/100,"") | M46: BMI | N46: ='Résumé des valeurs'!$I$5 | O46: kg/m2 | P46: =IF(AND(Options!$B$19,$J$4<>"",J43<>"",N46<>""),_xll.BmiPercentile($J$4="Male",J43,N46)/100,"")
A49: Date : | E49: Age: | F49: =IF(H49<>"",(IF(K49>=1,IF(K49>=2,CONCATENATE(TRUNC(K49)," ans ",TRUNC(J49-(12*INT(K49)))," mois"),CONCATENATE(TRUNC(K49)," an ",TRUNC(J49-(12*INT(K49)))," mois")),IF(J49>=2,CONCATENATE(TRUNC(J49)," mois"),IF(I49>=2,CONCATENATE(TRUNC(I49)," semaines"),IF(H49>=2,CONCATENATE(TRUNC(H49)," jours"),IF(H49>=1,CONCATENATE(TRUNC(H49)," jour"),"< 1 day")))))),"") | H49: =IF(AND(B49<>"",$N$4<>""),B49-$N$4,"") | I49: =IF(H49<>"",H49/7,"") | J49: =IF(H49<>"",12*H49/365.25,"") | K49: =IF(H49<>"",IF(H49<365*4,H49/365,H49/365.25),"")
E50: Age corrigé: | F50: =IF(H50<>"",(IF(K50>=1,IF(K50>=2,CONCATENATE(TRUNC(K50)," ans ",TRUNC(J50-(12*INT(K50)))," mois"),CONCATENATE(TRUNC(K50)," an ",TRUNC(J50-(12*INT(K50)))," mois")),IF(J50>=2,CONCATENATE(INT(J50)," mois"),IF(I50>=2,CONCATENATE(TRUNC(I50)," semaines"),IF(H50>=2,CONCATENATE(TRUNC(H50)," jours"),IF(H50>=1,CONCATENATE(TRUNC(H50)," jour"),"< 1 day")))))),"Non applicable") -> #VALUE! | H50: =IF(AND(Patient!$C$10<37,(B49-$N$4)<730),B49-$N$5,"") -> #VALUE! | I50: =IF(H50<>"",H50/7,"") -> #VALUE! | J50: =IF(H50<>"",12*H50/365.25,"") -> #VALUE! | K50: =IF(H50<>"",IF(H50<365*4,H50/365,H50/365.25),"") -> #VALUE!
A51: Mesures :
A52: Taille : | C52: =IF(Options!$B$5,"cm","in") -> cm | D52: =IF(AND(Options!$B$19,$J$4<>"",J49<>"",K49<>"",B52<>""),IF(K49>=3,_xll.HtPercentile($J$4="Male",J49,IF(Options!$B$5,B52,B52*2.54)),_xll.LenPercentile($J$4="Male",J49,IF(Options!$B$5,B52,B52*2.54)))/100,"") | E52: Poids | G52: =IF(Options!$B$5,"kg","lbs") -> kg | H52: =IF(AND(Options!$B$19,$J$4<>"",J49<>"",F52<>""),_xll.WtPercentile($J$4="Male",J49,IF(Options!$B$5,F52,F52/2.2))/100,"") | I52: PC | K52: =IF(Options!$B$5,"cm","in") -> cm | L52: =IF(AND(Options!$B$19,$J$4<>"",J49<>"",K49<>"",K49<=3,J52<>""),_xll.OFCPercentile($J$4="Male",J49,IF(Options!$B$5,J52,J52*2.54))/100,"") | M52: BMI | N52: ='Résumé des valeurs'!$I$5 | O52: kg/m2 | P52: =IF(AND(Options!$B$19,$J$4<>"",J49<>"",N52<>""),_xll.BmiPercentile($J$4="Male",J49,N52)/100,"")
A55: Date : | E55: Age: | F55: =IF(H55<>"",(IF(K55>=1,IF(K55>=2,CONCATENATE(TRUNC(K55)," ans ",TRUNC(J55-(12*INT(K55)))," mois"),CONCATENATE(TRUNC(K55)," an ",TRUNC(J55-(12*INT(K55)))," mois")),IF(J55>=2,CONCATENATE(TRUNC(J55)," mois"),IF(I55>=2,CONCATENATE(TRUNC(I55)," semaines"),IF(H55>=2,CONCATENATE(TRUNC(H55)," jours"),IF(H55>=1,CONCATENATE(TRUNC(H55)," jour"),"< 1 day")))))),"") | H55: =IF(AND(B55<>"",$N$4<>""),B55-$N$4,"") | I55: =IF(H55<>"",H55/7,"") | J55: =IF(H55<>"",12*H55/365.25,"") | K55: =IF(H55<>"",IF(H55<365*4,H55/365,H55/365.25),"")
E56: Age corrigé: | F56: =IF(H56<>"",(IF(K56>=1,IF(K56>=2,CONCATENATE(TRUNC(K56)," ans ",TRUNC(J56-(12*INT(K56)))," mois"),CONCATENATE(TRUNC(K56)," an ",TRUNC(J56-(12*INT(K56)))," mois")),IF(J56>=2,CONCATENATE(INT(J56)," mois"),IF(I56>=2,CONCATENATE(TRUNC(I56)," semaines"),IF(H56>=2,CONCATENATE(TRUNC(H56)," jours"),IF(H56>=1,CONCATENATE(TRUNC(H56)," jour"),"< 1 day")))))),"Non applicable") -> #VALUE! | H56: =IF(AND(Patient!$C$10<37,(B55-$N$4)<730),B55-$N$5,"") -> #VALUE! | I56: =IF(H56<>"",H56/7,"") -> #VALUE! | J56: =IF(H56<>"",12*H56/365.25,"") -> #VALUE! | K56: =IF(H56<>"",IF(H56<365*4,H56/365,H56/365.25),"") -> #VALUE!
A57: Mesures :
A58: Taille : | C58: =IF(Options!$B$5,"cm","in") -> cm | D58: =IF(AND(Options!$B$19,$J$4<>"",J55<>"",K55<>"",B58<>""),IF(K55>=3,_xll.HtPercentile($J$4="Male",J55,IF(Options!$B$5,B58,B58*2.54)),_xll.LenPercentile($J$4="Male",J55,IF(Options!$B$5,B58,B58*2.54)))/100,"") | E58: Poids | G58: =IF(Options!$B$5,"kg","lbs") -> kg | H58: =IF(AND(Options!$B$19,$J$4<>"",J55<>"",F58<>""),_xll.WtPercentile($J$4="Male",J55,IF(Options!$B$5,F58,F58/2.2))/100,"") | I58: PC | K58: =IF(Options!$B$5,"cm","in") -> cm | L58: =IF(AND(Options!$B$19,$J$4<>"",J55<>"",K55<>"",K55<=3,J58<>""),_xll.OFCPercentile($J$4="Male",J55,IF(Options!$B$5,J58,J58*2.54))/100,"") | M58: BMI | N58: ='Résumé des valeurs'!$I$5 | O58: kg/m2 | P58: =IF(AND(Options!$B$19,$J$4<>"",J55<>"",N58<>""),_xll.BmiPercentile($J$4="Male",J55,N58)/100,"")
A61: Date : | E61: Age: | F61: =IF(H61<>"",(IF(K61>=1,IF(K61>=2,CONCATENATE(TRUNC(K61)," ans ",TRUNC(J61-(12*INT(K61)))," mois"),CONCATENATE(TRUNC(K61)," an ",TRUNC(J61-(12*INT(K61)))," mois")),IF(J61>=2,CONCATENATE(TRUNC(J61)," mois"),IF(I61>=2,CONCATENATE(TRUNC(I61)," semaines"),IF(H61>=2,CONCATENATE(TRUNC(H61)," jours"),IF(H61>=1,CONCATENATE(TRUNC(H61)," jour"),"< 1 day")))))),"") | H61: =IF(AND(B61<>"",$N$4<>""),B61-$N$4,"") | I61: =IF(H61<>"",H61/7,"") | J61: =IF(H61<>"",12*H61/365.25,"") | K61: =IF(H61<>"",IF(H61<365*4,H61/365,H61/365.25),"")
E62: Age corrigé: | F62: =IF(H62<>"",(IF(K62>=1,IF(K62>=2,CONCATENATE(TRUNC(K62)," ans ",TRUNC(J62-(12*INT(K62)))," mois"),CONCATENATE(TRUNC(K62)," an ",TRUNC(J62-(12*INT(K62)))," mois")),IF(J62>=2,CONCATENATE(INT(J62)," mois"),IF(I62>=2,CONCATENATE(TRUNC(I62)," semaines"),IF(H62>=2,CONCATENATE(TRUNC(H62)," jours"),IF(H62>=1,CONCATENATE(TRUNC(H62)," jour"),"< 1 day")))))),"Non applicable") -> #VALUE! | H62: =IF(AND(Patient!$C$10<37,(B61-$N$4)<730),B61-$N$5,"") -> #VALUE! | I62: =IF(H62<>"",H62/7,"") -> #VALUE! | J62: =IF(H62<>"",12*H62/365.25,"") -> #VALUE! | K62: =IF(H62<>"",IF(H62<365*4,H62/365,H62/365.25),"") -> #VALUE!
A63: Mesures :
A64: Taille : | C64: =IF(Options!$B$5,"cm","in") -> cm | D64: =IF(AND(Options!$B$19,$J$4<>"",J61<>"",K61<>"",B64<>""),IF(K61>=3,_xll.HtPercentile($J$4="Male",J61,IF(Options!$B$5,B64,B64*2.54)),_xll.LenPercentile($J$4="Male",J61,IF(Options!$B$5,B64,B64*2.54)))/100,"") | E64: Poids | G64: =IF(Options!$B$5,"kg","lbs") -> kg | H64: =IF(AND(Options!$B$19,$J$4<>"",J61<>"",F64<>""),_xll.WtPercentile($J$4="Male",J61,IF(Options!$B$5,F64,F64/2.2))/100,"") | I64: PC | K64: =IF(Options!$B$5,"cm","in") -> cm | L64: =IF(AND(Options!$B$19,$J$4<>"",J61<>"",K61<>"",K61<=3,J64<>""),_xll.OFCPercentile($J$4="Male",J61,IF(Options!$B$5,J64,J64*2.54))/100,"") | M64: BMI | N64: ='Résumé des valeurs'!$I$5 | O64: kg/m2 | P64: =IF(AND(Options!$B$19,$J$4<>"",J61<>"",N64<>""),_xll.BmiPercentile($J$4="Male",J61,N64)/100,"")
A67: Date : | E67: Age: | F67: =IF(H67<>"",(IF(K67>=1,IF(K67>=2,CONCATENATE(TRUNC(K67)," ans ",TRUNC(J67-(12*INT(K67)))," mois"),CONCATENATE(TRUNC(K67)," an ",TRUNC(J67-(12*INT(K67)))," mois")),IF(J67>=2,CONCATENATE(TRUNC(J67)," mois"),IF(I67>=2,CONCATENATE(TRUNC(I67)," semaines"),IF(H67>=2,CONCATENATE(TRUNC(H67)," jours"),IF(H67>=1,CONCATENATE(TRUNC(H67)," jour"),"< 1 day")))))),"") | H67: =IF(AND(B67<>"",$N$4<>""),B67-$N$4,"") | I67: =IF(H67<>"",H67/7,"") | J67: =IF(H67<>"",12*H67/365.25,"") | K67: =IF(H67<>"",IF(H67<365*4,H67/365,H67/365.25),"")
E68: Age corrigé: | F68: =IF(H68<>"",(IF(K68>=1,IF(K68>=2,CONCATENATE(TRUNC(K68)," ans ",TRUNC(J68-(12*INT(K68)))," mois"),CONCATENATE(TRUNC(K68)," an ",TRUNC(J68-(12*INT(K68)))," mois")),IF(J68>=2,CONCATENATE(INT(J68)," mois"),IF(I68>=2,CONCATENATE(TRUNC(I68)," semaines"),IF(H68>=2,CONCATENATE(TRUNC(H68)," jours"),IF(H68>=1,CONCATENATE(TRUNC(H68)," jour"),"< 1 day")))))),"Non applicable") -> #VALUE! | H68: =IF(AND(Patient!$C$10<37,(B67-$N$4)<730),B67-$N$5,"") -> #VALUE! | I68: =IF(H68<>"",H68/7,"") -> #VALUE! | J68: =IF(H68<>"",12*H68/365.25,"") -> #VALUE! | K68: =IF(H68<>"",IF(H68<365*4,H68/365,H68/365.25),"") -> #VALUE!
A69: Mesures :
A70: Taille : | C70: =IF(Options!$B$5,"cm","in") -> cm | D70: =IF(AND(Options!$B$19,$J$4<>"",J67<>"",K67<>"",B70<>""),IF(K67>=3,_xll.HtPercentile($J$4="Male",J67,IF(Options!$B$5,B70,B70*2.54)),_xll.LenPercentile($J$4="Male",J67,IF(Options!$B$5,B70,B70*2.54)))/100,"") | E70: Poids | G70: =IF(Options!$B$5,"kg","lbs") -> kg | H70: =IF(AND(Options!$B$19,$J$4<>"",J67<>"",F70<>""),_xll.WtPercentile($J$4="Male",J67,IF(Options!$B$5,F70,F70/2.2))/100,"") | I70: PC | K70: =IF(Options!$B$5,"cm","in") -> cm | L70: =IF(AND(Options!$B$19,$J$4<>"",J67<>"",K67<>"",K67<=3,J70<>""),_xll.OFCPercentile($J$4="Male",J67,IF(Options!$B$5,J70,J70*2.54))/100,"") | M70: BMI | N70: ='Résumé des valeurs'!$I$5 | O70: kg/m2 | P70: =IF(AND(Options!$B$19,$J$4<>"",J67<>"",N70<>""),_xll.BmiPercentile($J$4="Male",J67,N70)/100,"")
A73: Date : | E73: Age: | F73: =IF(H73<>"",(IF(K73>=1,IF(K73>=2,CONCATENATE(TRUNC(K73)," ans ",TRUNC(J73-(12*INT(K73)))," mois"),CONCATENATE(TRUNC(K73)," an ",TRUNC(J73-(12*INT(K73)))," mois")),IF(J73>=2,CONCATENATE(TRUNC(J73)," mois"),IF(I73>=2,CONCATENATE(TRUNC(I73)," semaines"),IF(H73>=2,CONCATENATE(TRUNC(H73)," jours"),IF(H73>=1,CONCATENATE(TRUNC(H73)," jour"),"< 1 day")))))),"") | H73: =IF(AND(B73<>"",$N$4<>""),B73-$N$4,"") | I73: =IF(H73<>"",H73/7,"") | J73: =IF(H73<>"",12*H73/365.25,"") | K73: =IF(H73<>"",IF(H73<365*4,H73/365,H73/365.25),"")
E74: Age corrigé: | F74: =IF(H74<>"",(IF(K74>=1,IF(K74>=2,CONCATENATE(TRUNC(K74)," ans ",TRUNC(J74-(12*INT(K74)))," mois"),CONCATENATE(TRUNC(K74)," an ",TRUNC(J74-(12*INT(K74)))," mois")),IF(J74>=2,CONCATENATE(INT(J74)," mois"),IF(I74>=2,CONCATENATE(TRUNC(I74)," semaines"),IF(H74>=2,CONCATENATE(TRUNC(H74)," jours"),IF(H74>=1,CONCATENATE(TRUNC(H74)," jour"),"< 1 day")))))),"Non applicable") -> #VALUE! | H74: =IF(AND(Patient!$C$10<37,(B73-$N$4)<730),B73-$N$5,"") -> #VALUE! | I74: =IF(H74<>"",H74/7,"") -> #VALUE! | J74: =IF(H74<>"",12*H74/365.25,"") -> #VALUE! | K74: =IF(H74<>"",IF(H74<365*4,H74/365,H74/365.25),"") -> #VALUE!
A75: Mesures :
A76: Taille : | C76: =IF(Options!$B$5,"cm","in") -> cm | D76: =IF(AND(Options!$B$19,$J$4<>"",J73<>"",K73<>"",B76<>""),IF(K73>=3,_xll.HtPercentile($J$4="Male",J73,IF(Options!$B$5,B76,B76*2.54)),_xll.LenPercentile($J$4="Male",J73,IF(Options!$B$5,B76,B76*2.54)))/100,"") | E76: Poids | G76: =IF(Options!$B$5,"kg","lbs") -> kg | H76: =IF(AND(Options!$B$19,$J$4<>"",J73<>"",F76<>""),_xll.WtPercentile($J$4="Male",J73,IF(Options!$B$5,F76,F76/2.2))/100,"") | I76: PC | K76: =IF(Options!$B$5,"cm","in") -> cm | L76: =IF(AND(Options!$B$19,$J$4<>"",J73<>"",K73<>"",K73<=3,J76<>""),_xll.OFCPercentile($J$4="Male",J73,IF(Options!$B$5,J76,J76*2.54))/100,"") | M76: BMI | N76: ='Résumé des valeurs'!$I$5 | O76: kg/m2 | P76: =IF(AND(Options!$B$19,$J$4<>"",J73<>"",N76<>""),_xll.BmiPercentile($J$4="Male",J73,N76)/100,"")
A79: Date : | E79: Age: | F79: =IF(H79<>"",(IF(K79>=1,IF(K79>=2,CONCATENATE(TRUNC(K79)," ans ",TRUNC(J79-(12*INT(K79)))," mois"),CONCATENATE(TRUNC(K79)," an ",TRUNC(J79-(12*INT(K79)))," mois")),IF(J79>=2,CONCATENATE(TRUNC(J79)," mois"),IF(I79>=2,CONCATENATE(TRUNC(I79)," semaines"),IF(H79>=2,CONCATENATE(TRUNC(H79)," jours"),IF(H79>=1,CONCATENATE(TRUNC(H79)," jour"),"< 1 day")))))),"") | H79: =IF(AND(B79<>"",$N$4<>""),B79-$N$4,"") | I79: =IF(H79<>"",H79/7,"") | J79: =IF(H79<>"",12*H79/365.25,"") | K79: =IF(H79<>"",IF(H79<365*4,H79/365,H79/365.25),"")
E80: Age corrigé: | F80: =IF(H80<>"",(IF(K80>=1,IF(K80>=2,CONCATENATE(TRUNC(K80)," ans ",TRUNC(J80-(12*INT(K80)))," mois"),CONCATENATE(TRUNC(K80)," an ",TRUNC(J80-(12*INT(K80)))," mois")),IF(J80>=2,CONCATENATE(INT(J80)," mois"),IF(I80>=2,CONCATENATE(TRUNC(I80)," semaines"),IF(H80>=2,CONCATENATE(TRUNC(H80)," jours"),IF(H80>=1,CONCATENATE(TRUNC(H80)," jour"),"< 1 day")))))),"Non applicable") -> #VALUE! | H80: =IF(AND(Patient!$C$10<37,(B79-$N$4)<730),B79-$N$5,"") -> #VALUE! | I80: =IF(H80<>"",H80/7,"") -> #VALUE! | J80: =IF(H80<>"",12*H80/365.25,"") -> #VALUE! | K80: =IF(H80<>"",IF(H80<365*4,H80/365,H80/365.25),"") -> #VALUE!
A81: Mesures :
A82: Taille : | C82: =IF(Options!$B$5,"cm","in") -> cm | D82: =IF(AND(Options!$B$19,$J$4<>"",J79<>"",K79<>"",B82<>""),IF(K79>=3,_xll.HtPercentile($J$4="Male",J79,IF(Options!$B$5,B82,B82*2.54)),_xll.LenPercentile($J$4="Male",J79,IF(Options!$B$5,B82,B82*2.54)))/100,"") | E82: Poids | G82: =IF(Options!$B$5,"kg","lbs") -> kg | H82: =IF(AND(Options!$B$19,$J$4<>"",J79<>"",F82<>""),_xll.WtPercentile($J$4="Male",J79,IF(Options!$B$5,F82,F82/2.2))/100,"") | I82: PC | K82: =IF(Options!$B$5,"cm","in") -> cm | L82: =IF(AND(Options!$B$19,$J$4<>"",J79<>"",K79<>"",K79<=3,J82<>""),_xll.OFCPercentile($J$4="Male",J79,IF(Options!$B$5,J82,J82*2.54))/100,"") | M82: BMI | N82: ='Résumé des valeurs'!$I$5 | O82: kg/m2 | P82: =IF(AND(Options!$B$19,$J$4<>"",J79<>"",N82<>""),_xll.BmiPercentile($J$4="Male",J79,N82)/100,"")
A85: Date : | E85: Age: | F85: =IF(H85<>"",(IF(K85>=1,IF(K85>=2,CONCATENATE(TRUNC(K85)," ans ",TRUNC(J85-(12*INT(K85)))," mois"),CONCATENATE(TRUNC(K85)," an ",TRUNC(J85-(12*INT(K85)))," mois")),IF(J85>=2,CONCATENATE(TRUNC(J85)," mois"),IF(I85>=2,CONCATENATE(TRUNC(I85)," semaines"),IF(H85>=2,CONCATENATE(TRUNC(H85)," jours"),IF(H85>=1,CONCATENATE(TRUNC(H85)," jour"),"< 1 day")))))),"") | H85: =IF(AND(B85<>"",$N$4<>""),B85-$N$4,"") | I85: =IF(H85<>"",H85/7,"") | J85: =IF(H85<>"",12*H85/365.25,"") | K85: =IF(H85<>"",IF(H85<365*4,H85/365,H85/365.25),"")
E86: Age corrigé: | F86: =IF(H86<>"",(IF(K86>=1,IF(K86>=2,CONCATENATE(TRUNC(K86)," ans ",TRUNC(J86-(12*INT(K86)))," mois"),CONCATENATE(TRUNC(K86)," an ",TRUNC(J86-(12*INT(K86)))," mois")),IF(J86>=2,CONCATENATE(INT(J86)," mois"),IF(I86>=2,CONCATENATE(TRUNC(I86)," semaines"),IF(H86>=2,CONCATENATE(TRUNC(H86)," jours"),IF(H86>=1,CONCATENATE(TRUNC(H86)," jour"),"< 1 day")))))),"Non applicable") -> #VALUE! | H86: =IF(AND(Patient!$C$10<37,(B85-$N$4)<730),B85-$N$5,"") -> #VALUE! | I86: =IF(H86<>"",H86/7,"") -> #VALUE! | J86: =IF(H86<>"",12*H86/365.25,"") -> #VALUE! | K86: =IF(H86<>"",IF(H86<365*4,H86/365,H86/365.25),"") -> #VALUE!
A87: Mesures :
A88: Taille : | C88: =IF(Options!$B$5,"cm","in") -> cm | D88: =IF(AND(Options!$B$19,$J$4<>"",J85<>"",K85<>"",B88<>""),IF(K85>=3,_xll.HtPercentile($J$4="Male",J85,IF(Options!$B$5,B88,B88*2.54)),_xll.LenPercentile($J$4="Male",J85,IF(Options!$B$5,B88,B88*2.54)))/100,"") | E88: Poids | G88: =IF(Options!$B$5,"kg","lbs") -> kg | H88: =IF(AND(Options!$B$19,$J$4<>"",J85<>"",F88<>""),_xll.WtPercentile($J$4="Male",J85,IF(Options!$B$5,F88,F88/2.2))/100,"") | I88: PC | K88: =IF(Options!$B$5,"cm","in") -> cm | L88: =IF(AND(Options!$B$19,$J$4<>"",J85<>"",K85<>"",K85<=3,J88<>""),_xll.OFCPercentile($J$4="Male",J85,IF(Options!$B$5,J88,J88*2.54))/100,"") | M88: BMI | N88: ='Résumé des valeurs'!$I$5 | O88: kg/m2 | P88: =IF(AND(Options!$B$19,$J$4<>"",J85<>"",N88<>""),_xll.BmiPercentile($J$4="Male",J85,N88)/100,"")
A91: Date : | E91: Age: | F91: =IF(H91<>"",(IF(K91>=1,IF(K91>=2,CONCATENATE(TRUNC(K91)," ans ",TRUNC(J91-(12*INT(K91)))," mois"),CONCATENATE(TRUNC(K91)," an ",TRUNC(J91-(12*INT(K91)))," mois")),IF(J91>=2,CONCATENATE(TRUNC(J91)," mois"),IF(I91>=2,CONCATENATE(TRUNC(I91)," semaines"),IF(H91>=2,CONCATENATE(TRUNC(H91)," jours"),IF(H91>=1,CONCATENATE(TRUNC(H91)," jour"),"< 1 day")))))),"") | H91: =IF(AND(B91<>"",$N$4<>""),B91-$N$4,"") | I91: =IF(H91<>"",H91/7,"") | J91: =IF(H91<>"",12*H91/365.25,"") | K91: =IF(H91<>"",IF(H91<365*4,H91/365,H91/365.25),"")
E92: Age corrigé: | F92: =IF(H92<>"",(IF(K92>=1,IF(K92>=2,CONCATENATE(TRUNC(K92)," ans ",TRUNC(J92-(12*INT(K92)))," mois"),CONCATENATE(TRUNC(K92)," an ",TRUNC(J92-(12*INT(K92)))," mois")),IF(J92>=2,CONCATENATE(INT(J92)," mois"),IF(I92>=2,CONCATENATE(TRUNC(I92)," semaines"),IF(H92>=2,CONCATENATE(TRUNC(H92)," jours"),IF(H92>=1,CONCATENATE(TRUNC(H92)," jour"),"< 1 day")))))),"Non applicable") -> #VALUE! | H92: =IF(AND(Patient!$C$10<37,(B91-$N$4)<730),B91-$N$5,"") -> #VALUE! | I92: =IF(H92<>"",H92/7,"") -> #VALUE! | J92: =IF(H92<>"",12*H92/365.25,"") -> #VALUE! | K92: =IF(H92<>"",IF(H92<365*4,H92/365,H92/365.25),"") -> #VALUE!
A93: Mesures :
A94: Taille : | C94: =IF(Options!$B$5,"cm","in") -> cm | D94: =IF(AND(Options!$B$19,$J$4<>"",J91<>"",K91<>"",B94<>""),IF(K91>=3,_xll.HtPercentile($J$4="Male",J91,IF(Options!$B$5,B94,B94*2.54)),_xll.LenPercentile($J$4="Male",J91,IF(Options!$B$5,B94,B94*2.54)))/100,"") | E94: Poids | G94: =IF(Options!$B$5,"kg","lbs") -> kg | H94: =IF(AND(Options!$B$19,$J$4<>"",J91<>"",F94<>""),_xll.WtPercentile($J$4="Male",J91,IF(Options!$B$5,F94,F94/2.2))/100,"") | I94: PC | K94: =IF(Options!$B$5,"cm","in") -> cm | L94: =IF(AND(Options!$B$19,$J$4<>"",J91<>"",K91<>"",K91<=3,J94<>""),_xll.OFCPercentile($J$4="Male",J91,IF(Options!$B$5,J94,J94*2.54))/100,"") | M94: BMI | N94: ='Résumé des valeurs'!$I$5 | O94: kg/m2 | P94: =IF(AND(Options!$B$19,$J$4<>"",J91<>"",N94<>""),_xll.BmiPercentile($J$4="Male",J91,N94)/100,"")
A97: Date : | E97: Age: | F97: =IF(H97<>"",(IF(K97>=1,IF(K97>=2,CONCATENATE(TRUNC(K97)," ans ",TRUNC(J97-(12*INT(K97)))," mois"),CONCATENATE(TRUNC(K97)," an ",TRUNC(J97-(12*INT(K97)))," mois")),IF(J97>=2,CONCATENATE(TRUNC(J97)," mois"),IF(I97>=2,CONCATENATE(TRUNC(I97)," semaines"),IF(H97>=2,CONCATENATE(TRUNC(H97)," jours"),IF(H97>=1,CONCATENATE(TRUNC(H97)," jour"),"< 1 day")))))),"") | H97: =IF(AND(B97<>"",$N$4<>""),B97-$N$4,"") | I97: =IF(H97<>"",H97/7,"") | J97: =IF(H97<>"",12*H97/365.25,"") | K97: =IF(H97<>"",IF(H97<365*4,H97/365,H97/365.25),"")
E98: Age corrigé: | F98: =IF(H98<>"",(IF(K98>=1,IF(K98>=2,CONCATENATE(TRUNC(K98)," ans ",TRUNC(J98-(12*INT(K98)))," mois"),CONCATENATE(TRUNC(K98)," an ",TRUNC(J98-(12*INT(K98)))," mois")),IF(J98>=2,CONCATENATE(INT(J98)," mois"),IF(I98>=2,CONCATENATE(TRUNC(I98)," semaines"),IF(H98>=2,CONCATENATE(TRUNC(H98)," jours"),IF(H98>=1,CONCATENATE(TRUNC(H98)," jour"),"< 1 day")))))),"Non applicable") -> #VALUE! | H98: =IF(AND(Patient!$C$10<37,(B97-$N$4)<730),B97-$N$5,"") -> #VALUE! | I98: =IF(H98<>"",H98/7,"") -> #VALUE! | J98: =IF(H98<>"",12*H98/365.25,"") -> #VALUE! | K98: =IF(H98<>"",IF(H98<365*4,H98/365,H98/365.25),"") -> #VALUE!
A99: Mesures :
A100: Taille : | C100: =IF(Options!$B$5,"cm","in") -> cm | D100: =IF(AND(Options!$B$19,$J$4<>"",J97<>"",K97<>"",B100<>""),IF(K97>=3,_xll.HtPercentile($J$4="Male",J97,IF(Options!$B$5,B100,B100*2.54)),_xll.LenPercentile($J$4="Male",J97,IF(Options!$B$5,B100,B100*2.54)))/100,"") | E100: Poids | G100: =IF(Options!$B$5,"kg","lbs") -> kg | H100: =IF(AND(Options!$B$19,$J$4<>"",J97<>"",F100<>""),_xll.WtPercentile($J$4="Male",J97,IF(Options!$B$5,F100,F100/2.2))/100,"") | I100: PC | K100: =IF(Options!$B$5,"cm","in") -> cm | L100: =IF(AND(Options!$B$19,$J$4<>"",J97<>"",K97<>"",K97<=3,J100<>""),_xll.OFCPercentile($J$4="Male",J97,IF(Options!$B$5,J100,J100*2.54))/100,"") | M100: BMI | N100: ='Résumé des valeurs'!$I$5 | O100: kg/m2 | P100: =IF(AND(Options!$B$19,$J$4<>"",J97<>"",N100<>""),_xll.BmiPercentile($J$4="Male",J97,N100)/100,"")
A103: Date : | E103: Age: | F103: =IF(H103<>"",(IF(K103>=1,IF(K103>=2,CONCATENATE(TRUNC(K103)," ans ",TRUNC(J103-(12*INT(K103)))," mois"),CONCATENATE(TRUNC(K103)," an ",TRUNC(J103-(12*INT(K103)))," mois")),IF(J103>=2,CONCATENATE(TRUNC(J103)," mois"),IF(I103>=2,CONCATENATE(TRUNC(I103)," semaines"),IF(H103>=2,CONCATENATE(TRUNC(H103)," jours"),IF(H103>=1,CONCATENATE(TRUNC(H103)," jour"),"< 1 day")))))),"") | H103: =IF(AND(B103<>"",$N$4<>""),B103-$N$4,"") | I103: =IF(H103<>"",H103/7,"") | J103: =IF(H103<>"",12*H103/365.25,"") | K103: =IF(H103<>"",IF(H103<365*4,H103/365,H103/365.25),"")
E104: Age corrigé: | F104: =IF(H104<>"",(IF(K104>=1,IF(K104>=2,CONCATENATE(TRUNC(K104)," ans ",TRUNC(J104-(12*INT(K104)))," mois"),CONCATENATE(TRUNC(K104)," an ",TRUNC(J104-(12*INT(K104)))," mois")),IF(J104>=2,CONCATENATE(INT(J104)," mois"),IF(I104>=2,CONCATENATE(TRUNC(I104)," semaines"),IF(H104>=2,CONCATENATE(TRUNC(H104)," jours"),IF(H104>=1,CONCATENATE(TRUNC(H104)," jour"),"< 1 day")))))),"Non applicable") -> #VALUE! | H104: =IF(AND(Patient!$C$10<37,(B103-$N$4)<730),B103-$N$5,"") -> #VALUE! | I104: =IF(H104<>"",H104/7,"") -> #VALUE! | J104: =IF(H104<>"",12*H104/365.25,"") -> #VALUE! | K104: =IF(H104<>"",IF(H104<365*4,H104/365,H104/365.25),"") -> #VALUE!
A105: Mesures :
A106: Taille : | C106: =IF(Options!$B$5,"cm","in") -> cm | D106: =IF(AND(Options!$B$19,$J$4<>"",J103<>"",K103<>"",B106<>""),IF(K103>=3,_xll.HtPercentile($J$4="Male",J103,IF(Options!$B$5,B106,B106*2.54)),_xll.LenPercentile($J$4="Male",J103,IF(Options!$B$5,B106,B106*2.54)))/100,"") | E106: Poids | G106: =IF(Options!$B$5,"kg","lbs") -> kg | H106: =IF(AND(Options!$B$19,$J$4<>"",J103<>"",F106<>""),_xll.WtPercentile($J$4="Male",J103,IF(Options!$B$5,F106,F106/2.2))/100,"") | I106: PC | K106: =IF(Options!$B$5,"cm","in") -> cm | L106: =IF(AND(Options!$B$19,$J$4<>"",J103<>"",K103<>"",K103<=3,J106<>""),_xll.OFCPercentile($J$4="Male",J103,IF(Options!$B$5,J106,J106*2.54))/100,"") | M106: BMI | N106: ='Résumé des valeurs'!$I$5 | O106: kg/m2 | P106: =IF(AND(Options!$B$19,$J$4<>"",J103<>"",N106<>""),_xll.BmiPercentile($J$4="Male",J103,N106)/100,"")
A109: Date : | E109: Age: | F109: =IF(H109<>"",(IF(K109>=1,IF(K109>=2,CONCATENATE(TRUNC(K109)," ans ",TRUNC(J109-(12*INT(K109)))," mois"),CONCATENATE(TRUNC(K109)," an ",TRUNC(J109-(12*INT(K109)))," mois")),IF(J109>=2,CONCATENATE(TRUNC(J109)," mois"),IF(I109>=2,CONCATENATE(TRUNC(I109)," semaines"),IF(H109>=2,CONCATENATE(TRUNC(H109)," jours"),IF(H109>=1,CONCATENATE(TRUNC(H109)," jour"),"< 1 day")))))),"") | H109: =IF(AND(B109<>"",$N$4<>""),B109-$N$4,"") | I109: =IF(H109<>"",H109/7,"") | J109: =IF(H109<>"",12*H109/365.25,"") | K109: =IF(H109<>"",IF(H109<365*4,H109/365,H109/365.25),"")
E110: Age corrigé: | F110: =IF(H110<>"",(IF(K110>=1,IF(K110>=2,CONCATENATE(TRUNC(K110)," ans ",TRUNC(J110-(12*INT(K110)))," mois"),CONCATENATE(TRUNC(K110)," an ",TRUNC(J110-(12*INT(K110)))," mois")),IF(J110>=2,CONCATENATE(INT(J110)," mois"),IF(I110>=2,CONCATENATE(TRUNC(I110)," semaines"),IF(H110>=2,CONCATENATE(TRUNC(H110)," jours"),IF(H110>=1,CONCATENATE(TRUNC(H110)," jour"),"< 1 day")))))),"Non applicable") -> #VALUE! | H110: =IF(AND(Patient!$C$10<37,(B109-$N$4)<730),B109-$N$5,"") -> #VALUE! | I110: =IF(H110<>"",H110/7,"") -> #VALUE! | J110: =IF(H110<>"",12*H110/365.25,"") -> #VALUE! | K110: =IF(H110<>"",IF(H110<365*4,H110/365,H110/365.25),"") -> #VALUE!
A111: Mesures :
A112: Taille : | C112: =IF(Options!$B$5,"cm","in") -> cm | D112: =IF(AND(Options!$B$19,$J$4<>"",J109<>"",K109<>"",B112<>""),IF(K109>=3,_xll.HtPercentile($J$4="Male",J109,IF(Options!$B$5,B112,B112*2.54)),_xll.LenPercentile($J$4="Male",J109,IF(Options!$B$5,B112,B112*2.54)))/100,"") | E112: Poids | G112: =IF(Options!$B$5,"kg","lbs") -> kg | H112: =IF(AND(Options!$B$19,$J$4<>"",J109<>"",F112<>""),_xll.WtPercentile($J$4="Male",J109,IF(Options!$B$5,F112,F112/2.2))/100,"") | I112: PC | K112: =IF(Options!$B$5,"cm","in") -> cm | L112: =IF(AND(Options!$B$19,$J$4<>"",J109<>"",K109<>"",K109<=3,J112<>""),_xll.OFCPercentile($J$4="Male",J109,IF(Options!$B$5,J112,J112*2.54))/100,"") | M112: BMI | N112: ='Résumé des valeurs'!$I$5 | O112: kg/m2 | P112: =IF(AND(Options!$B$19,$J$4<>"",J109<>"",N112<>""),_xll.BmiPercentile($J$4="Male",J109,N112)/100,"")
A115: Date : | E115: Age: | F115: =IF(H115<>"",(IF(K115>=1,IF(K115>=2,CONCATENATE(TRUNC(K115)," ans ",TRUNC(J115-(12*INT(K115)))," mois"),CONCATENATE(TRUNC(K115)," an ",TRUNC(J115-(12*INT(K115)))," mois")),IF(J115>=2,CONCATENATE(TRUNC(J115)," mois"),IF(I115>=2,CONCATENATE(TRUNC(I115)," semaines"),IF(H115>=2,CONCATENATE(TRUNC(H115)," jours"),IF(H115>=1,CONCATENATE(TRUNC(H115)," jour"),"< 1 day")))))),"") | H115: =IF(AND(B115<>"",$N$4<>""),B115-$N$4,"") | I115: =IF(H115<>"",H115/7,"") | J115: =IF(H115<>"",12*H115/365.25,"") | K115: =IF(H115<>"",IF(H115<365*4,H115/365,H115/365.25),"")
E116: Age corrigé: | F116: =IF(H116<>"",(IF(K116>=1,IF(K116>=2,CONCATENATE(TRUNC(K116)," ans ",TRUNC(J116-(12*INT(K116)))," mois"),CONCATENATE(TRUNC(K116)," an ",TRUNC(J116-(12*INT(K116)))," mois")),IF(J116>=2,CONCATENATE(INT(J116)," mois"),IF(I116>=2,CONCATENATE(TRUNC(I116)," semaines"),IF(H116>=2,CONCATENATE(TRUNC(H116)," jours"),IF(H116>=1,CONCATENATE(TRUNC(H116)," jour"),"< 1 day")))))),"Non applicable") -> #VALUE! | H116: =IF(AND(Patient!$C$10<37,(B115-$N$4)<730),B115-$N$5,"") -> #VALUE! | I116: =IF(H116<>"",H116/7,"") -> #VALUE! | J116: =IF(H116<>"",12*H116/365.25,"") -> #VALUE! | K116: =IF(H116<>"",IF(H116<365*4,H116/365,H116/365.25),"") -> #VALUE!
A117: Mesures :
A118: Taille : | C118: =IF(Options!$B$5,"cm","in") -> cm | D118: =IF(AND(Options!$B$19,$J$4<>"",J115<>"",K115<>"",B118<>""),IF(K115>=3,_xll.HtPercentile($J$4="Male",J115,IF(Options!$B$5,B118,B118*2.54)),_xll.LenPercentile($J$4="Male",J115,IF(Options!$B$5,B118,B118*2.54)))/100,"") | E118: Poids | G118: =IF(Options!$B$5,"kg","lbs") -> kg | H118: =IF(AND(Options!$B$19,$J$4<>"",J115<>"",F118<>""),_xll.WtPercentile($J$4="Male",J115,IF(Options!$B$5,F118,F118/2.2))/100,"") | I118: PC | K118: =IF(Options!$B$5,"cm","in") -> cm | L118: =IF(AND(Options!$B$19,$J$4<>"",J115<>"",K115<>"",K115<=3,J118<>""),_xll.OFCPercentile($J$4="Male",J115,IF(Options!$B$5,J118,J118*2.54))/100,"") | M118: BMI | N118: ='Résumé des valeurs'!$I$5 | O118: kg/m2 | P118: =IF(AND(Options!$B$19,$J$4<>"",J115<>"",N118<>""),_xll.BmiPercentile($J$4="Male",J115,N118)/100,"")
A121: Date : | E121: Age: | F121: =IF(H121<>"",(IF(K121>=1,IF(K121>=2,CONCATENATE(TRUNC(K121)," ans ",TRUNC(J121-(12*INT(K121)))," mois"),CONCATENATE(TRUNC(K121)," an ",TRUNC(J121-(12*INT(K121)))," mois")),IF(J121>=2,CONCATENATE(TRUNC(J121)," mois"),IF(I121>=2,CONCATENATE(TRUNC(I121)," semaines"),IF(H121>=2,CONCATENATE(TRUNC(H121)," jours"),IF(H121>=1,CONCATENATE(TRUNC(H121)," jour"),"< 1 day")))))),"") | H121: =IF(AND(B121<>"",$N$4<>""),B121-$N$4,"") | I121: =IF(H121<>"",H121/7,"") | J121: =IF(H121<>"",12*H121/365.25,"") | K121: =IF(H121<>"",IF(H121<365*4,H121/365,H121/365.25),"")
E122: Age corrigé: | F122: =IF(H122<>"",(IF(K122>=1,IF(K122>=2,CONCATENATE(TRUNC(K122)," ans ",TRUNC(J122-(12*INT(K122)))," mois"),CONCATENATE(TRUNC(K122)," an ",TRUNC(J122-(12*INT(K122)))," mois")),IF(J122>=2,CONCATENATE(INT(J122)," mois"),IF(I122>=2,CONCATENATE(TRUNC(I122)," semaines"),IF(H122>=2,CONCATENATE(TRUNC(H122)," jours"),IF(H122>=1,CONCATENATE(TRUNC(H122)," jour"),"< 1 day")))))),"Non applicable") -> #VALUE! | H122: =IF(AND(Patient!$C$10<37,(B121-$N$4)<730),B121-$N$5,"") -> #VALUE! | I122: =IF(H122<>"",H122/7,"") -> #VALUE! | J122: =IF(H122<>"",12*H122/365.25,"") -> #VALUE! | K122: =IF(H122<>"",IF(H122<365*4,H122/365,H122/365.25),"") -> #VALUE!
A123: Mesures :
A124: Taille : | C124: =IF(Options!$B$5,"cm","in") -> cm | D124: =IF(AND(Options!$B$19,$J$4<>"",J121<>"",K121<>"",B124<>""),IF(K121>=3,_xll.HtPercentile($J$4="Male",J121,IF(Options!$B$5,B124,B124*2.54)),_xll.LenPercentile($J$4="Male",J121,IF(Options!$B$5,B124,B124*2.54)))/100,"") | E124: Poids | G124: =IF(Options!$B$5,"kg","lbs") -> kg | H124: =IF(AND(Options!$B$19,$J$4<>"",J121<>"",F124<>""),_xll.WtPercentile($J$4="Male",J121,IF(Options!$B$5,F124,F124/2.2))/100,"") | I124: PC | K124: =IF(Options!$B$5,"cm","in") -> cm | L124: =IF(AND(Options!$B$19,$J$4<>"",J121<>"",K121<>"",K121<=3,J124<>""),_xll.OFCPercentile($J$4="Male",J121,IF(Options!$B$5,J124,J124*2.54))/100,"") | M124: BMI | N124: ='Résumé des valeurs'!$I$5 | O124: kg/m2 | P124: =IF(AND(Options!$B$19,$J$4<>"",J121<>"",N124<>""),_xll.BmiPercentile($J$4="Male",J121,N124)/100,"")
A127: Date : | E127: Age: | F127: =IF(H127<>"",(IF(K127>=1,IF(K127>=2,CONCATENATE(TRUNC(K127)," ans ",TRUNC(J127-(12*INT(K127)))," mois"),CONCATENATE(TRUNC(K127)," an ",TRUNC(J127-(12*INT(K127)))," mois")),IF(J127>=2,CONCATENATE(TRUNC(J127)," mois"),IF(I127>=2,CONCATENATE(TRUNC(I127)," semaines"),IF(H127>=2,CONCATENATE(TRUNC(H127)," jours"),IF(H127>=1,CONCATENATE(TRUNC(H127)," jour"),"< 1 day")))))),"") | H127: =IF(AND(B127<>"",$N$4<>""),B127-$N$4,"") | I127: =IF(H127<>"",H127/7,"") | J127: =IF(H127<>"",12*H127/365.25,"") | K127: =IF(H127<>"",IF(H127<365*4,H127/365,H127/365.25),"")
E128: Age corrigé: | F128: =IF(H128<>"",(IF(K128>=1,IF(K128>=2,CONCATENATE(TRUNC(K128)," ans ",TRUNC(J128-(12*INT(K128)))," mois"),CONCATENATE(TRUNC(K128)," an ",TRUNC(J128-(12*INT(K128)))," mois")),IF(J128>=2,CONCATENATE(INT(J128)," mois"),IF(I128>=2,CONCATENATE(TRUNC(I128)," semaines"),IF(H128>=2,CONCATENATE(TRUNC(H128)," jours"),IF(H128>=1,CONCATENATE(TRUNC(H128)," jour"),"< 1 day")))))),"Non applicable") -> #VALUE! | H128: =IF(AND(Patient!$C$10<37,(B127-$N$4)<730),B127-$N$5,"") -> #VALUE! | I128: =IF(H128<>"",H128/7,"") -> #VALUE! | J128: =IF(H128<>"",12*H128/365.25,"") -> #VALUE! | K128: =IF(H128<>"",IF(H128<365*4,H128/365,H128/365.25),"") -> #VALUE!
A129: Mesures :
A130: Taille : | C130: =IF(Options!$B$5,"cm","in") -> cm | D130: =IF(AND(Options!$B$19,$J$4<>"",J127<>"",K127<>"",B130<>""),IF(K127>=3,_xll.HtPercentile($J$4="Male",J127,IF(Options!$B$5,B130,B130*2.54)),_xll.LenPercentile($J$4="Male",J127,IF(Options!$B$5,B130,B130*2.54)))/100,"") | E130: Poids | G130: =IF(Options!$B$5,"kg","lbs") -> kg | H130: =IF(AND(Options!$B$19,$J$4<>"",J127<>"",F130<>""),_xll.WtPercentile($J$4="Male",J127,IF(Options!$B$5,F130,F130/2.2))/100,"") | I130: PC | K130: =IF(Options!$B$5,"cm","in") -> cm | L130: =IF(AND(Options!$B$19,$J$4<>"",J127<>"",K127<>"",K127<=3,J130<>""),_xll.OFCPercentile($J$4="Male",J127,IF(Options!$B$5,J130,J130*2.54))/100,"") | M130: BMI | N130: ='Résumé des valeurs'!$I$5 | O130: kg/m2 | P130: =IF(AND(Options!$B$19,$J$4<>"",J127<>"",N130<>""),_xll.BmiPercentile($J$4="Male",J127,N130)/100,"")
A133: Date : | E133: Age: | F133: =IF(H133<>"",(IF(K133>=1,IF(K133>=2,CONCATENATE(TRUNC(K133)," ans ",TRUNC(J133-(12*INT(K133)))," mois"),CONCATENATE(TRUNC(K133)," an ",TRUNC(J133-(12*INT(K133)))," mois")),IF(J133>=2,CONCATENATE(TRUNC(J133)," mois"),IF(I133>=2,CONCATENATE(TRUNC(I133)," semaines"),IF(H133>=2,CONCATENATE(TRUNC(H133)," jours"),IF(H133>=1,CONCATENATE(TRUNC(H133)," jour"),"< 1 day")))))),"") | H133: =IF(AND(B133<>"",$N$4<>""),B133-$N$4,"") | I133: =IF(H133<>"",H133/7,"") | J133: =IF(H133<>"",12*H133/365.25,"") | K133: =IF(H133<>"",IF(H133<365*4,H133/365,H133/365.25),"")
E134: Age corrigé: | F134: =IF(H134<>"",(IF(K134>=1,IF(K134>=2,CONCATENATE(TRUNC(K134)," ans ",TRUNC(J134-(12*INT(K134)))," mois"),CONCATENATE(TRUNC(K134)," an ",TRUNC(J134-(12*INT(K134)))," mois")),IF(J134>=2,CONCATENATE(INT(J134)," mois"),IF(I134>=2,CONCATENATE(TRUNC(I134)," semaines"),IF(H134>=2,CONCATENATE(TRUNC(H134)," jours"),IF(H134>=1,CONCATENATE(TRUNC(H134)," jour"),"< 1 day")))))),"Non applicable") -> #VALUE! | H134: =IF(AND(Patient!$C$10<37,(B133-$N$4)<730),B133-$N$5,"") -> #VALUE! | I134: =IF(H134<>"",H134/7,"") -> #VALUE! | J134: =IF(H134<>"",12*H134/365.25,"") -> #VALUE! | K134: =IF(H134<>"",IF(H134<365*4,H134/365,H134/365.25),"") -> #VALUE!
A135: Mesures :
A136: Taille : | C136: =IF(Options!$B$5,"cm","in") -> cm | D136: =IF(AND(Options!$B$19,$J$4<>"",J133<>"",K133<>"",B136<>""),IF(K133>=3,_xll.HtPercentile($J$4="Male",J133,IF(Options!$B$5,B136,B136*2.54)),_xll.LenPercentile($J$4="Male",J133,IF(Options!$B$5,B136,B136*2.54)))/100,"") | E136: Poids | G136: =IF(Options!$B$5,"kg","lbs") -> kg | H136: =IF(AND(Options!$B$19,$J$4<>"",J133<>"",F136<>""),_xll.WtPercentile($J$4="Male",J133,IF(Options!$B$5,F136,F136/2.2))/100,"") | I136: PC | K136: =IF(Options!$B$5,"cm","in") -> cm | L136: =IF(AND(Options!$B$19,$J$4<>"",J133<>"",K133<>"",K133<=3,J136<>""),_xll.OFCPercentile($J$4="Male",J133,IF(Options!$B$5,J136,J136*2.54))/100,"") | M136: BMI | N136: ='Résumé des valeurs'!$I$5 | O136: kg/m2 | P136: =IF(AND(Options!$B$19,$J$4<>"",J133<>"",N136<>""),_xll.BmiPercentile($J$4="Male",J133,N136)/100,"")
A139: Date : | E139: Age: | F139: =IF(H139<>"",(IF(K139>=1,IF(K139>=2,CONCATENATE(TRUNC(K139)," ans ",TRUNC(J139-(12*INT(K139)))," mois"),CONCATENATE(TRUNC(K139)," an ",TRUNC(J139-(12*INT(K139)))," mois")),IF(J139>=2,CONCATENATE(TRUNC(J139)," mois"),IF(I139>=2,CONCATENATE(TRUNC(I139)," semaines"),IF(H139>=2,CONCATENATE(TRUNC(H139)," jours"),IF(H139>=1,CONCATENATE(TRUNC(H139)," jour"),"< 1 day")))))),"") | H139: =IF(AND(B139<>"",$N$4<>""),B139-$N$4,"") | I139: =IF(H139<>"",H139/7,"") | J139: =IF(H139<>"",12*H139/365.25,"") | K139: =IF(H139<>"",IF(H139<365*4,H139/365,H139/365.25),"")
E140: Age corrigé: | F140: =IF(H140<>"",(IF(K140>=1,IF(K140>=2,CONCATENATE(TRUNC(K140)," ans ",TRUNC(J140-(12*INT(K140)))," mois"),CONCATENATE(TRUNC(K140)," an ",TRUNC(J140-(12*INT(K140)))," mois")),IF(J140>=2,CONCATENATE(INT(J140)," mois"),IF(I140>=2,CONCATENATE(TRUNC(I140)," semaines"),IF(H140>=2,CONCATENATE(TRUNC(H140)," jours"),IF(H140>=1,CONCATENATE(TRUNC(H140)," jour"),"< 1 day")))))),"Non applicable") -> #VALUE! | H140: =IF(AND(Patient!$C$10<37,(B139-$N$4)<730),B139-$N$5,"") -> #VALUE! | I140: =IF(H140<>"",H140/7,"") -> #VALUE! | J140: =IF(H140<>"",12*H140/365.25,"") -> #VALUE! | K140: =IF(H140<>"",IF(H140<365*4,H140/365,H140/365.25),"") -> #VALUE!
A141: Mesures :
A142: Taille : | C142: =IF(Options!$B$5,"cm","in") -> cm | D142: =IF(AND(Options!$B$19,$J$4<>"",J139<>"",K139<>"",B142<>""),IF(K139>=3,_xll.HtPercentile($J$4="Male",J139,IF(Options!$B$5,B142,B142*2.54)),_xll.LenPercentile($J$4="Male",J139,IF(Options!$B$5,B142,B142*2.54)))/100,"") | E142: Poids | G142: =IF(Options!$B$5,"kg","lbs") -> kg | H142: =IF(AND(Options!$B$19,$J$4<>"",J139<>"",F142<>""),_xll.WtPercentile($J$4="Male",J139,IF(Options!$B$5,F142,F142/2.2))/100,"") | I142: PC | K142: =IF(Options!$B$5,"cm","in") -> cm | L142: =IF(AND(Options!$B$19,$J$4<>"",J139<>"",K139<>"",K139<=3,J142<>""),_xll.OFCPercentile($J$4="Male",J139,IF(Options!$B$5,J142,J142*2.54))/100,"") | M142: BMI | N142: ='Résumé des valeurs'!$I$5 | O142: kg/m2 | P142: =IF(AND(Options!$B$19,$J$4<>"",J139<>"",N142<>""),_xll.BmiPercentile($J$4="Male",J139,N142)/100,"")
A145: Date : | E145: Age: | F145: =IF(H145<>"",(IF(K145>=1,IF(K145>=2,CONCATENATE(TRUNC(K145)," ans ",TRUNC(J145-(12*INT(K145)))," mois"),CONCATENATE(TRUNC(K145)," an ",TRUNC(J145-(12*INT(K145)))," mois")),IF(J145>=2,CONCATENATE(TRUNC(J145)," mois"),IF(I145>=2,CONCATENATE(TRUNC(I145)," semaines"),IF(H145>=2,CONCATENATE(TRUNC(H145)," jours"),IF(H145>=1,CONCATENATE(TRUNC(H145)," jour"),"< 1 day")))))),"") | H145: =IF(AND(B145<>"",$N$4<>""),B145-$N$4,"") | I145: =IF(H145<>"",H145/7,"") | J145: =IF(H145<>"",12*H145/365.25,"") | K145: =IF(H145<>"",IF(H145<365*4,H145/365,H145/365.25),"")
E146: Age corrigé: | F146: =IF(H146<>"",(IF(K146>=1,IF(K146>=2,CONCATENATE(TRUNC(K146)," ans ",TRUNC(J146-(12*INT(K146)))," mois"),CONCATENATE(TRUNC(K146)," an ",TRUNC(J146-(12*INT(K146)))," mois")),IF(J146>=2,CONCATENATE(INT(J146)," mois"),IF(I146>=2,CONCATENATE(TRUNC(I146)," semaines"),IF(H146>=2,CONCATENATE(TRUNC(H146)," jours"),IF(H146>=1,CONCATENATE(TRUNC(H146)," jour"),"< 1 day")))))),"Non applicable") -> #VALUE! | H146: =IF(AND(Patient!$C$10<37,(B145-$N$4)<730),B145-$N$5,"") -> #VALUE! | I146: =IF(H146<>"",H146/7,"") -> #VALUE! | J146: =IF(H146<>"",12*H146/365.25,"") -> #VALUE! | K146: =IF(H146<>"",IF(H146<365*4,H146/365,H146/365.25),"") -> #VALUE!
A147: Mesures :
...

Sheet Courbes 0-3 ans
A60: =IF(OR(Options!#REF!<>"",Options!#REF!<>""),CONCATENATE("Courbe de Croissance de ",Patient!$C$6," ",Patient!$C$5),"""") -> #REF! | I60: Imprimée le | J60: =TODAY() -> 42550
A92: =IF(OR(Options!#REF!<>"",Options!#REF!<>""),CONCATENATE("Courbe de Croissance de ",Patient!$C$6," ",Patient!$C$5),"""") -> #REF! | I92: Imprimée le | J92: =TODAY() -> 42550

Sheet Résumé des valeurs
A1: Patient Growth Summary
A2: Gender: | B2: =IF(Patient!$C$14<>"",Patient!$C$14,"") -> Masculin | E2: Birth Date: | F2: =IF(Patient!$C$8<>"",Patient!$C$8,"")
A4: Visit Date | B4: Age (yrs) | C4: Age (mos) | D4: Age corrigé (mos | E4: Height/ Length | F4: Weight | G4: Head Circ. | I4: BMI | K4: Age | L4: Taille cible
A5: =IF(Données!$B$7<>"",Données!$B$7,"") | B5: =IF(AND(A5<>"",F$2<>""),(A5-F$2)/365.25,"") | C5: =IF(AND(A5<>"",F$2<>""),12*(A5-F$2)/365.25,0) -> 0 | D5: =IF(AND(Patient!$C$10<37,'Résumé des valeurs'!B5<2),((A5-$F$2)-(7*(40-Patient!$C$10)))*12/365.25,C5) -> 0 | E5: =IF(Données!$B$10<>"",Données!$B$10,"") | F5: =IF(Données!$F$10<>"",IF(Options!$B$5,Données!$F$10,Données!$F$10/2.2),"") | G5: =IF(Données!$J$10<>"",IF(Options!$B$5,Données!$J$10,Données!$J$10*2.54),"") | I5: =IF(AND(E5<>"",F5<>"",B5<>"",B5>=2),F5/((E5/100)*(E5/100)),"") | K5: 20 | L5: =L6-6.5 -> #VALUE!
A6: =IF(Données!$B$13<>"",Données!$B$13,"") | B6: =IF(AND(A6<>"",F$2<>""),(A6-F$2)/365.25,0) -> 0 | C6: =IF(AND(A6<>"",F$2<>""),12*(A6-F$2)/365.25,0) -> 0 | D6: =IF(AND(Patient!$C$10<37,'Résumé des valeurs'!B6<2),((A6-$F$2)-(7*(40-Patient!$C$10)))*12/365.25,C6) -> #VALUE! | E6: =IF(Données!$B$16<>"",IF(Options!$B$5,Données!$B$16,Données!$B$16*2.54),"") | F6: =IF(Données!$F$16<>"",IF(Options!$B$5,Données!$F$16,Données!$F$16/2.2),"") | G6: =IF(Données!$J$16<>"",IF(Options!$B$5,Données!$J$16,Données!$J$16*2.54),"") | I6: =IF(AND(E6<>"",F6<>"",B6>=2),F6/((E6/100)*(E6/100)),"") | K6: 20 | L6: =Patient!$C$18
A7: =IF(Données!$B$19<>"",Données!$B$19,"") | B7: =IF(AND(A7<>"",F$2<>""),(A7-F$2)/365.25,0) -> 0 | C7: =IF(AND(A7<>"",F$2<>""),12*(A7-F$2)/365.25,0) -> 0 | D7: =IF(AND(Patient!$C$10<37,'Résumé des valeurs'!B7<2),((A7-$F$2)-(7*(40-Patient!$C$10)))*12/365.25,C7) -> #VALUE! | E7: =IF(Données!$B$22<>"",IF(Options!$B$5,Données!$B$22,Données!$B$22*2.54),"") | F7: =IF(Données!$F$22<>"",IF(Options!$B$5,Données!$F$22,Données!$F$22/2.2),"") | G7: =IF(Données!$J$22<>"",IF(Options!$B$5,Données!$J$22,Données!$J$22*2.54),"") | I7: =IF(AND(E7<>"",F7<>"",B7>=2),F7/((E7/100)*(E7/100)),"") | K7: 20 | L7: =L6+6.5 -> #VALUE!
A8: =IF(Données!$B$25<>"",Données!$B$25,"") | B8: =IF(AND(A8<>"",F$2<>""),(A8-F$2)/365.25,0) -> 0 | C8: =IF(AND(A8<>"",F$2<>""),12*(A8-F$2)/365.25,0) -> 0 | D8: =IF(AND(Patient!$C$10<37,'Résumé des valeurs'!B8<2),((A8-$F$2)-(7*(40-Patient!$C$10)))*12/365.25,C8) -> #VALUE! | E8: =IF(Données!$B$28<>"",IF(Options!$B$5,Données!$B$28,Données!$B$28*2.54),"") | F8: =IF(Données!$F$28<>"",IF(Options!$B$5,Données!$F$28,Données!$F$28/2.2),"") | G8: =IF(Données!$J$28<>"",IF(Options!$B$5,Données!$J$28,Données!$J$28*2.54),"") | I8: =IF(AND(E8<>"",F8<>"",B8>=2),F8/((E8/100)*(E8/100)),"")
A9: =IF(Données!$B$31<>"",Données!$B$31,"") | B9: =IF(AND(A9<>"",F$2<>""),(A9-F$2)/365.25,0) -> 0 | C9: =IF(AND(A9<>"",F$2<>""),12*(A9-F$2)/365.25,0) -> 0 | D9: =IF(AND(Patient!$C$10<37,'Résumé des valeurs'!B9<2),((A9-$F$2)-(7*(40-Patient!$C$10)))*12/365.25,C9) -> #VALUE! | E9: =IF(Données!$B$34<>"",IF(Options!$B$5,Données!$B$34,Données!$B$34*2.54),"") | F9: =IF(Données!$F$34<>"",IF(Options!$B$5,Données!$F$34,Données!$F$34/2.2),"") | G9: =IF(Données!$J$34<>"",IF(Options!$B$5,Données!$J$34,Données!$J$34*2.54),"") | I9: =IF(AND(E9<>"",F9<>"",B9>=2),F9/((E9/100)*(E9/100)),"") | K9: =F9
A10: =IF(Données!$B$37<>"",Données!$B$37,"") | B10: =IF(AND(A10<>"",F$2<>""),(A10-F$2)/365.25,0) -> 0 | C10: =IF(AND(A10<>"",F$2<>""),12*(A10-F$2)/365.25,0) -> 0 | D10: =IF(AND(Patient!$C$10<37,'Résumé des valeurs'!B10<2),((A10-$F$2)-(7*(40-Patient!$C$10)))*12/365.25,C10) -> #VALUE! | E10: =IF(Données!$B$40<>"",IF(Options!$B$5,Données!$B$40,Données!$B$40*2.54),"") | F10: =IF(Données!$F$40<>"",IF(Options!$B$5,Données!$F$40,Données!$F$40/2.2),"") | G10: =IF(Données!$J$40<>"",IF(Options!$B$5,Données!$J$40,Données!$J$40*2.54),"") | I10: =IF(AND(E10<>"",F10<>"",B10>=2),F10/((E10/100)*(E10/100)),"") | K10: =F10
A11: =IF(Données!$B$43<>"",Données!$B$43,"") | B11: =IF(AND(A11<>"",F$2<>""),(A11-F$2)/365.25,0) -> 0 | C11: =IF(AND(A11<>"",F$2<>""),12*(A11-F$2)/365.25,0) -> 0 | D11: =IF(AND(Patient!$C$10<37,'Résumé des valeurs'!B11<2),((A11-$F$2)-(7*(40-Patient!$C$10)))*12/365.25,C11) -> #VALUE! | E11: =IF(Données!$B$46<>"",IF(Options!$B$5,Données!$B$46,Données!$B$46*2.54),"") | F11: =IF(Données!$F$46<>"",IF(Options!$B$5,Données!$F$46,Données!$F$46/2.2),"") | G11: =IF(Données!$J$46<>"",IF(Options!$B$5,Données!$J$46,Données!$J$46*2.54),"") | I11: =IF(AND(E11<>"",F11<>"",B11>=2),F11/((E11/100)*(E11/100)),"") | K11: =F11
A12: =IF(Données!$B$49<>"",Données!$B$49,"") | B12: =IF(AND(A12<>"",F$2<>""),(A12-F$2)/365.25,0) -> 0 | C12: =IF(AND(A12<>"",F$2<>""),12*(A12-F$2)/365.25,0) -> 0 | D12: =IF(AND(Patient!$C$10<37,'Résumé des valeurs'!B12<2),((A12-$F$2)-(7*(40-Patient!$C$10)))*12/365.25,C12) -> #VALUE! | E12: =IF(Données!$B$52<>"",IF(Options!$B$5,Données!$B$52,Données!$B$52*2.54),"") | F12: =IF(Données!$F$52<>"",IF(Options!$B$5,Données!$F$52,Données!$F$52/2.2),"") | G12: =IF(Données!$J$52<>"",IF(Options!$B$5,Données!$J$52,Données!$J$52*2.54),"") | I12: =IF(AND(E12<>"",F12<>"",B12>=2),F12/((E12/100)*(E12/100)),"") | K12: =F12
A13: =IF(Données!$B$55<>"",Données!$B$55,"") | B13: =IF(AND(A13<>"",F$2<>""),(A13-F$2)/365.25,0) -> 0 | C13: =IF(AND(A13<>"",F$2<>""),12*(A13-F$2)/365.25,0) -> 0 | D13: =IF(AND(Patient!$C$10<37,'Résumé des valeurs'!B13<2),((A13-$F$2)-(7*(40-Patient!$C$10)))*12/365.25,C13) -> #VALUE! | E13: =IF(Données!$B$58<>"",IF(Options!$B$5,Données!$B$58,Données!$B$58*2.54),"") | F13: =IF(Données!$F$58<>"",IF(Options!$B$5,Données!$F$58,Données!$F$58/2.2),"") | G13: =IF(Données!$J$58<>"",IF(Options!$B$5,Données!$J$58,Données!$J$58*2.54),"") | I13: =IF(AND(E13<>"",F13<>"",B13>=2),F13/((E13/100)*(E13/100)),"") | K13: =F13
A14: =IF(Données!$B$61<>"",Données!$B$61,"") | B14: =IF(AND(A14<>"",F$2<>""),(A14-F$2)/365.25,0) -> 0 | C14: =IF(AND(A14<>"",F$2<>""),12*(A14-F$2)/365.25,0) -> 0 | D14: =IF(AND(Patient!$C$10<37,'Résumé des valeurs'!B14<2),((A14-$F$2)-(7*(40-Patient!$C$10)))*12/365.25,C14) -> #VALUE! | E14: =IF(Données!$B$64<>"",IF(Options!$B$5,Données!$B$64,Données!$B$64*2.54),"") | F14: =IF(Données!$F$64<>"",IF(Options!$B$5,Données!$F$64,Données!$F$64/2.2),"") | G14: =IF(Données!$J$64<>"",IF(Options!$B$5,Données!$J$64,Données!$J$64*2.54),"") | I14: =IF(AND(E14<>"",F14<>"",B14>=2),F14/((E14/100)*(E14/100)),"") | K14: =F14
A15: =IF(Données!$B$67<>"",Données!$B$67,"") | B15: =IF(AND(A15<>"",F$2<>""),(A15-F$2)/365.25,0) -> 0 | C15: =IF(AND(A15<>"",F$2<>""),12*(A15-F$2)/365.25,0) -> 0 | D15: =IF(AND(Patient!$C$10<37,'Résumé des valeurs'!B15<2),((A15-$F$2)-(7*(40-Patient!$C$10)))*12/365.25,C15) -> #VALUE! | E15: =IF(Données!$B$70<>"",IF(Options!$B$5,Données!$B$70,Données!$B$70*2.54),"") | F15: =IF(Données!$F$70<>"",IF(Options!$B$5,Données!$F$70,Données!$F$70/2.2),"") | G15: =IF(Données!$J$70<>"",IF(Options!$B$5,Données!$J$70,Données!$J$70*2.54),"") | I15: =IF(AND(E15<>"",F15<>"",B15>=2),F15/((E15/100)*(E15/100)),"") | K15: =F15
A16: =IF(Données!$B$73<>"",Données!$B$73,"") | B16: =IF(AND(A16<>"",F$2<>""),(A16-F$2)/365.25,0) -> 0 | C16: =IF(AND(A16<>"",F$2<>""),12*(A16-F$2)/365.25,0) -> 0 | D16: =IF(AND(Patient!$C$10<37,'Résumé des valeurs'!B16<2),((A16-$F$2)-(7*(40-Patient!$C$10)))*12/365.25,C16) -> #VALUE! | E16: =IF(Données!$B$76<>"",IF(Options!$B$5,Données!$B$76,Données!$B$76*2.54),"") | F16: =IF(Données!$F$76<>"",IF(Options!$B$5,Données!$F$76,Données!$F$76/2.2),"") | G16: =IF(Données!$J$76<>"",IF(Options!$B$5,Données!$J$76,Données!$J$76*2.54),"") | I16: =IF(AND(E16<>"",F16<>"",B16>=2),F16/((E16/100)*(E16/100)),"") | K16: =F16
A17: =IF(Données!$B$79<>"",Données!$B$79,"") | B17: =IF(AND(A17<>"",F$2<>""),(A17-F$2)/365.25,0) -> 0 | C17: =IF(AND(A17<>"",F$2<>""),12*(A17-F$2)/365.25,0) -> 0 | D17: =IF(AND(Patient!$C$10<37,'Résumé des valeurs'!B17<2),((A17-$F$2)-(7*(40-Patient!$C$10)))*12/365.25,C17) -> #VALUE! | E17: =IF(Données!$B$82<>"",IF(Options!$B$5,Données!$B$82,Données!$B$82*2.54),"") | F17: =IF(Données!$F$82<>"",IF(Options!$B$5,Données!$F$82,Données!$F$82/2.2),"") | G17: =IF(Données!$J$82<>"",IF(Options!$B$5,Données!$J$82,Données!$J$82*2.54),"") | I17: =IF(AND(E17<>"",F17<>"",B17>=2),F17/((E17/100)*(E17/100)),"") | K17: =F17
A18: =IF(Données!$B$85<>"",Données!$B$85,"") | B18: =IF(AND(A18<>"",F$2<>""),(A18-F$2)/365.25,0) -> 0 | C18: =IF(AND(A18<>"",F$2<>""),12*(A18-F$2)/365.25,0) -> 0 | D18: =IF(AND(Patient!$C$10<37,'Résumé des valeurs'!B18<2),((A18-$F$2)-(7*(40-Patient!$C$10)))*12/365.25,C18) -> #VALUE! | E18: =IF(Données!$B$88<>"",IF(Options!$B$5,Données!$B$88,Données!$B$88*2.54),"") | F18: =IF(Données!$F$88<>"",IF(Options!$B$5,Données!$F$88,Données!$F$88/2.2),"") | G18: =IF(Données!$J$88<>"",IF(Options!$B$5,Données!$J$88,Données!$J$88*2.54),"") | I18: =IF(AND(E18<>"",F18<>"",B18>=2),F18/((E18/100)*(E18/100)),"") | K18: =F18
A19: =IF(Données!$B$91<>"",Données!$B$91,"") | B19: =IF(AND(A19<>"",F$2<>""),(A19-F$2)/365.25,0) -> 0 | C19: =IF(AND(A19<>"",F$2<>""),12*(A19-F$2)/365.25,0) -> 0 | D19: =IF(AND(Patient!$C$10<37,'Résumé des valeurs'!B19<2),((A19-$F$2)-(7*(40-Patient!$C$10)))*12/365.25,C19) -> #VALUE! | E19: =IF(Données!$B$94<>"",IF(Options!$B$5,Données!$B$94,Données!$B$94*2.54),"") | F19: =IF(Données!$F$94<>"",IF(Options!$B$5,Données!$F$94,Données!$F$94/2.2),"") | G19: =IF(Données!$J$94<>"",IF(Options!$B$5,Données!$J$94,Données!$J$94*2.54),"") | I19: =IF(AND(E19<>"",F19<>"",B19>=2),F19/((E19/100)*(E19/100)),"") | K19: =F19
A20: =IF(Données!$B$97<>"",Données!$B$97,"") | B20: =IF(AND(A20<>"",F$2<>""),(A20-F$2)/365.25,0) -> 0 | C20: =IF(AND(A20<>"",F$2<>""),12*(A20-F$2)/365.25,0) -> 0 | D20: =IF(AND(Patient!$C$10<37,'Résumé des valeurs'!B20<2),((A20-$F$2)-(7*(40-Patient!$C$10)))*12/365.25,C20) -> #VALUE! | E20: =IF(Données!$B$100<>"",IF(Options!$B$5,Données!$B$100,Données!$B$100*2.54),"") | F20: =IF(Données!$F$100<>"",IF(Options!$B$5,Données!$F$100,Données!$F$100/2.2),"") | G20: =IF(Données!$J$100<>"",IF(Options!$B$5,Données!$J$100,Données!$J$100*2.54),"") | I20: =IF(AND(E20<>"",F20<>"",B20>=2),F20/((E20/100)*(E20/100)),"") | K20: =F20
A21: =IF(Données!$B$103<>"",Données!$B$103,"") | B21: =IF(AND(A21<>"",F$2<>""),(A21-F$2)/365.25,0) -> 0 | C21: =IF(AND(A21<>"",F$2<>""),12*(A21-F$2)/365.25,0) -> 0 | D21: =IF(AND(Patient!$C$10<37,'Résumé des valeurs'!B21<2),((A21-$F$2)-(7*(40-Patient!$C$10)))*12/365.25,C21) -> #VALUE! | E21: =IF(Données!$B$106<>"",IF(Options!$B$5,Données!$B$106,Données!$B$106*2.54),"") | F21: =IF(Données!$F$106<>"",IF(Options!$B$5,Données!$F$106,Données!$F$106/2.2),"") | G21: =IF(Données!$J$106<>"",IF(Options!$B$5,Données!$J$106,Données!$J$106*2.54),"") | I21: =IF(AND(E21<>"",F21<>"",B21>=2),F21/((E21/100)*(E21/100)),"") | K21: =F21
A22: =IF(Données!$B$109<>"",Données!$B$109,"") | B22: =IF(AND(A22<>"",F$2<>""),(A22-F$2)/365.25,0) -> 0 | C22: =IF(AND(A22<>"",F$2<>""),12*(A22-F$2)/365.25,0) -> 0 | D22: =IF(AND(Patient!$C$10<37,'Résumé des valeurs'!B22<2),((A22-$F$2)-(7*(40-Patient!$C$10)))*12/365.25,C22) -> #VALUE! | E22: =IF(Données!$B$112<>"",IF(Options!$B$5,Données!$B$112,Données!$B$112*2.54),"") | F22: =IF(Données!$F$112<>"",IF(Options!$B$5,Données!$F$112,Données!$F$112/2.2),"") | G22: =IF(Données!$J$112<>"",IF(Options!$B$5,Données!$J$112,Données!$J$112*2.54),"") | I22: =IF(AND(E22<>"",F22<>"",B22>=2),F22/((E22/100)*(E22/100)),"") | K22: =F22
A23: =IF(Données!$B$115<>"",Données!$B$115,"") | B23: =IF(AND(A23<>"",F$2<>""),(A23-F$2)/365.25,0) -> 0 | C23: =IF(AND(A23<>"",F$2<>""),12*(A23-F$2)/365.25,0) -> 0 | D23: =IF(AND(Patient!$C$10<37,'Résumé des valeurs'!B23<2),((A23-$F$2)-(7*(40-Patient!$C$10)))*12/365.25,C23) -> #VALUE! | E23: =IF(Données!$B$118<>"",IF(Options!$B$5,Données!$B$118,Données!$B$118*2.54),"") | F23: =IF(Données!$F$118<>"",IF(Options!$B$5,Données!$F$118,Données!$F$118/2.2),"") | G23: =IF(Données!$J$118<>"",IF(Options!$B$5,Données!$J$118,Données!$J$118*2.54),"") | I23: =IF(AND(E23<>"",F23<>"",B23>=2),F23/((E23/100)*(E23/100)),"") | K23: =F23
A24: =IF(Données!$B$121<>"",Données!$B$121,"") | B24: =IF(AND(A24<>"",F$2<>""),(A24-F$2)/365.25,0) -> 0 | C24: =IF(AND(A24<>"",F$2<>""),12*(A24-F$2)/365.25,0) -> 0 | D24: =IF(AND(Patient!$C$10<37,'Résumé des valeurs'!B24<2),((A24-$F$2)-(7*(40-Patient!$C$10)))*12/365.25,C24) -> #VALUE! | E24: =IF(Données!$B$124<>"",IF(Options!$B$5,Données!$B$124,Données!$B$124*2.54),"") | F24: =IF(Données!$F$124<>"",IF(Options!$B$5,Données!$F$124,Données!$F$124/2.2),"") | G24: =IF(Données!$J$124<>"",IF(Options!$B$5,Données!$J$124,Données!$J$124*2.54),"") | I24: =IF(AND(E24<>"",F24<>"",B24>=2),F24/((E24/100)*(E24/100)),"") | K24: =F24
A25: =IF(Données!$B$127<>"",Données!$B$127,"") | B25: =IF(AND(A25<>"",F$2<>""),(A25-F$2)/365.25,0) -> 0 | C25: =IF(AND(A25<>"",F$2<>""),12*(A25-F$2)/365.25,0) -> 0 | D25: =IF(AND(Patient!$C$10<37,'Résumé des valeurs'!B25<2),((A25-$F$2)-(7*(40-Patient!$C$10)))*12/365.25,C25) -> #VALUE! | E25: =IF(Données!$B$130<>"",IF(Options!$B$5,Données!$B$130,Données!$B$130*2.54),"") | F25: =IF(Données!$F$130<>"",IF(Options!$B$5,Données!$F$130,Données!$F$130/2.2),"") | G25: =IF(Données!$J$130<>"",IF(Options!$B$5,Données!$J$130,Données!$J$130*2.54),"") | I25: =IF(AND(E25<>"",F25<>"",B25>=2),F25/((E25/100)*(E25/100)),"") | K25: =F25
A26: =IF(Données!$B$133<>"",Données!$B$133,"") | B26: =IF(AND(A26<>"",F$2<>""),(A26-F$2)/365.25,0) -> 0 | C26: =IF(AND(A26<>"",F$2<>""),12*(A26-F$2)/365.25,0) -> 0 | D26: =IF(AND(Patient!$C$10<37,'Résumé des valeurs'!B26<2),((A26-$F$2)-(7*(40-Patient!$C$10)))*12/365.25,C26) -> #VALUE! | E26: =IF(Données!$B$136<>"",IF(Options!$B$5,Données!$B$136,Données!$B$136*2.54),"") | F26: =IF(Données!$F$136<>"",IF(Options!$B$5,Données!$F$136,Données!$F$136/2.2),"") | G26: =IF(Données!$J$136<>"",IF(Options!$B$5,Données!$J$136,Données!$J$136*2.54),"") | I26: =IF(AND(E26<>"",F26<>"",B26>=2),F26/((E26/100)*(E26/100)),"") | K26: =F26
A27: =IF(Données!$B$139<>"",Données!$B$139,"") | B27: =IF(AND(A27<>"",F$2<>""),(A27-F$2)/365.25,0) -> 0 | C27: =IF(AND(A27<>"",F$2<>""),12*(A27-F$2)/365.25,0) -> 0 | D27: =IF(AND(Patient!$C$10<37,'Résumé des valeurs'!B27<2),((A27-$F$2)-(7*(40-Patient!$C$10)))*12/365.25,C27) -> #VALUE! | E27: =IF(Données!$B$142<>"",IF(Options!$B$5,Données!$B$142,Données!$B$142*2.54),"") | F27: =IF(Données!$F$142<>"",IF(Options!$B$5,Données!$F$142,Données!$F$142/2.2),"") | G27: =IF(Données!$J$142<>"",IF(Options!$B$5,Données!$J$142,Données!$J$142*2.54),"") | I27: =IF(AND(E27<>"",F27<>"",B27>=2),F27/((E27/100)*(E27/100)),"") | K27: =F27
A28: =IF(Données!$B$145<>"",Données!$B$145,"") | B28: =IF(AND(A28<>"",F$2<>""),(A28-F$2)/365.25,0) -> 0 | C28: =IF(AND(A28<>"",F$2<>""),12*(A28-F$2)/365.25,0) -> 0 | D28: =IF(AND(Patient!$C$10<37,'Résumé des valeurs'!B28<2),((A28-$F$2)-(7*(40-Patient!$C$10)))*12/365.25,C28) -> #VALUE! | E28: =IF(Données!$B$148<>"",IF(Options!$B$5,Données!$B$148,Données!$B$148*2.54),"") | F28: =IF(Données!$F$148<>"",IF(Options!$B$5,Données!$F$148,Données!$F$148/2.2),"") | G28: =IF(Données!$J$148<>"",IF(Options!$B$5,Données!$J$148,Données!$J$148*2.54),"") | I28: =IF(AND(E28<>"",F28<>"",B28>=2),F28/((E28/100)*(E28/100)),"") | K28: =F28
A29: =IF(Données!$B$151<>"",Données!$B$151,"") | B29: =IF(AND(A29<>"",F$2<>""),(A29-F$2)/365.25,0) -> 0 | C29: =IF(AND(A29<>"",F$2<>""),12*(A29-F$2)/365.25,0) -> 0 | D29: =IF(AND(Patient!$C$10<37,'Résumé des valeurs'!B29<2),((A29-$F$2)-(7*(40-Patient!$C$10)))*12/365.25,C29) -> #VALUE! | E29: =IF(Données!$B$154<>"",IF(Options!$B$5,Données!$B$154,Données!$B$154*2.54),"") | F29: =IF(Données!$F$154<>"",IF(Options!$B$5,Données!$F$154,Données!$F$154/2.2),"") | G29: =IF(Données!$J$154<>"",IF(Options!$B$5,Données!$J$154,Données!$J$154*2.54),"") | I29: =IF(AND(E29<>"",F29<>"",B29>=2),F29/((E29/100)*(E29/100)),"") | K29: =F29
A30: =IF(Données!$B$157<>"",Données!$B$157,"") | B30: =IF(AND(A30<>"",F$2<>""),(A30-F$2)/365.25,0) -> 0 | C30: =IF(AND(A30<>"",F$2<>""),12*(A30-F$2)/365.25,0) -> 0 | D30: =IF(AND(Patient!$C$10<37,'Résumé des valeurs'!B30<2),((A30-$F$2)-(7*(40-Patient!$C$10)))*12/365.25,C30) -> #VALUE! | E30: =IF(Données!$B$160<>"",IF(Options!$B$5,Données!$B$160,Données!$B$160*2.54),"") | F30: =IF(Données!$F$160<>"",IF(Options!$B$5,Données!$F$160,Données!$F$160/2.2),"") | G30: =IF(Données!$J$160<>"",IF(Options!$B$5,Données!$J$160,Données!$J$160*2.54),"") | I30: =IF(AND(E30<>"",F30<>"",B30>=2),F30/((E30/100)*(E30/100)),"") | K30: =F30
A31: =IF(Données!$B$163<>"",Données!$B$163,"") | B31: =IF(AND(A31<>"",F$2<>""),(A31-F$2)/365.25,0) -> 0 | C31: =IF(AND(A31<>"",F$2<>""),12*(A31-F$2)/365.25,0) -> 0 | D31: =IF(AND(Patient!$C$10<37,'Résumé des valeurs'!B31<2),((A31-$F$2)-(7*(40-Patient!$C$10)))*12/365.25,C31) -> #VALUE! | E31: =IF(Données!$B$166<>"",IF(Options!$B$5,Données!$B$166,Données!$B$166*2.54),"") | F31: =IF(Données!$F$166<>"",IF(Options!$B$5,Données!$F$166,Données!$F$166/2.2),"") | G31: =IF(Données!$J$166<>"",IF(Options!$B$5,Données!$J$166,Données!$J$166*2.54),"") | I31: =IF(AND(E31<>"",F31<>"",B31>=2),F31/((E31/100)*(E31/100)),"") | K31: =F31
A32: =IF(Données!$B$169<>"",Données!$B$169,"") | B32: =IF(AND(A32<>"",F$2<>""),(A32-F$2)/365.25,0) -> 0 | C32: =IF(AND(A32<>"",F$2<>""),12*(A32-F$2)/365.25,0) -> 0 | D32: =IF(AND(Patient!$C$10<37,'Résumé des valeurs'!B32<2),((A32-$F$2)-(7*(40-Patient!$C$10)))*12/365.25,C32) -> #VALUE! | E32: =IF(Données!$B$172<>"",IF(Options!$B$5,Données!$B$172,Données!$B$172*2.54),"") | F32: =IF(Données!$F$172<>"",IF(Options!$B$5,Données!$F$172,Données!$F$172/2.2),"") | G32: =IF(Données!$J$172<>"",IF(Options!$B$5,Données!$J$172,Données!$J$172*2.54),"") | I32: =IF(AND(E32<>"",F32<>"",B32>=2),F32/((E32/100)*(E32/100)),"") | K32: =F32
A33: =IF(Données!$B$175<>"",Données!$B$175,"") | B33: =IF(AND(A33<>"",F$2<>""),(A33-F$2)/365.25,0) -> 0 | C33: =IF(AND(A33<>"",F$2<>""),12*(A33-F$2)/365.25,0) -> 0 | D33: =IF(AND(Patient!$C$10<37,'Résumé des valeurs'!B33<2),((A33-$F$2)-(7*(40-Patient!$C$10)))*12/365.25,C33) -> #VALUE! | E33: =IF(Données!$B$178<>"",IF(Options!$B$5,Données!$B$178,Données!$B$178*2.54),"") | F33: =IF(Données!$F$178<>"",IF(Options!$B$5,Données!$F$178,Données!$F$178/2.2),"") | G33: =IF(Données!$J$178<>"",IF(Options!$B$5,Données!$J$178,Données!$J$178*2.54),"") | I33: =IF(AND(E33<>"",F33<>"",B33>=2),F33/((E33/100)*(E33/100)),"") | K33: =F33
A34: =IF(Données!$B$181<>"",Données!$B$181,"") | B34: =IF(AND(A34<>"",F$2<>""),(A34-F$2)/365.25,0) -> 0 | C34: =IF(AND(A34<>"",F$2<>""),12*(A34-F$2)/365.25,0) -> 0 | D34: =IF(AND(Patient!$C$10<37,'Résumé des valeurs'!B34<2),((A34-$F$2)-(7*(40-Patient!$C$10)))*12/365.25,C34) -> #VALUE! | E34: =IF(Données!$B$184<>"",IF(Options!$B$5,Données!$B$184,Données!$B$184*2.54),"") | F34: =IF(Données!$F$184<>"",IF(Options!$B$5,Données!$F$184,Données!$F$184/2.2),"") | G34: =IF(Données!$J$184<>"",IF(Options!$B$5,Données!$J$184,Données!$J$184*2.54),"") | I34: =IF(AND(E34<>"",F34<>"",B34>=2),F34/((E34/100)*(E34/100)),"") | K34: =F34
A35: =IF(Données!$B$187<>"",Données!$B$187,"") | B35: =IF(AND(A35<>"",F$2<>""),(A35-F$2)/365.25,0) -> 0 | C35: =IF(AND(A35<>"",F$2<>""),12*(A35-F$2)/365.25,0) -> 0 | D35: =IF(AND(Patient!$C$10<37,'Résumé des valeurs'!B35<2),((A35-$F$2)-(7*(40-Patient!$C$10)))*12/365.25,C35) -> #VALUE! | E35: =IF(Données!$B$190<>"",IF(Options!$B$5,Données!$B$190,Données!$B$190*2.54),"") | F35: =IF(Données!$F$190<>"",IF(Options!$B$5,Données!$F$190,Données!$F$190/2.2),"") | G35: =IF(Données!$J$190<>"",IF(Options!$B$5,Données!$J$190,Données!$J$190*2.54),"") | I35: =IF(AND(E35<>"",F35<>"",B35>=2),F35/((E35/100)*(E35/100)),"") | K35: =F35
A36: =IF(Données!$B$193<>"",Données!$B$193,"") | B36: =IF(AND(A36<>"",F$2<>""),(A36-F$2)/365.25,0) -> 0 | C36: =IF(AND(A36<>"",F$2<>""),12*(A36-F$2)/365.25,0) -> 0 | D36: =IF(AND(Patient!$C$10<37,'Résumé des valeurs'!B36<2),((A36-$F$2)-(7*(40-Patient!$C$10)))*12/365.25,C36) -> #VALUE! | E36: =IF(Données!$B$196<>"",IF(Options!$B$5,Données!$B$196,Données!$B$196*2.54),"") | F36: =IF(Données!$F$196<>"",IF(Options!$B$5,Données!$F$196,Données!$F$196/2.2),"") | G36: =IF(Données!$J$196<>"",IF(Options!$B$5,Données!$J$196,Données!$J$196*2.54),"") | I36: =IF(AND(E36<>"",F36<>"",B36>=2),F36/((E36/100)*(E36/100)),"") | K36: =F36
A37: =IF(Données!$B$199<>"",Données!$B$199,"") | B37: =IF(AND(A37<>"",F$2<>""),(A37-F$2)/365.25,0) -> 0 | C37: =IF(AND(A37<>"",F$2<>""),12*(A37-F$2)/365.25,0) -> 0 | D37: =IF(AND(Patient!$C$10<37,'Résumé des valeurs'!B37<2),((A37-$F$2)-(7*(40-Patient!$C$10)))*12/365.25,C37) -> #VALUE! | E37: =IF(Données!$B$202<>"",IF(Options!$B$5,Données!$B$202,Données!$B$202*2.54),"") | F37: =IF(Données!$F$202<>"",IF(Options!$B$5,Données!$F$202,Données!$F$202/2.2),"") | G37: =IF(Données!$J$202<>"",IF(Options!$B$5,Données!$J$202,Données!$J$202*2.54),"") | I37: =IF(AND(E37<>"",F37<>"",B37>=2),F37/((E37/100)*(E37/100)),"") | K37: =F37
A38: =IF(Données!$B$205<>"",Données!$B$205,"") | B38: =IF(AND(A38<>"",F$2<>""),(A38-F$2)/365.25,0) -> 0 | C38: =IF(AND(A38<>"",F$2<>""),12*(A38-F$2)/365.25,0) -> 0 | D38: =IF(AND(Patient!$C$10<37,'Résumé des valeurs'!B38<2),((A38-$F$2)-(7*(40-Patient!$C$10)))*12/365.25,C38) -> #VALUE! | E38: =IF(Données!$B$208<>"",IF(Options!$B$5,Données!$B$208,Données!$B$208*2.54),"") | F38: =IF(Données!$F$208<>"",IF(Options!$B$5,Données!$F$208,Données!$F$208/2.2),"") | G38: =IF(Données!$J$208<>"",IF(Options!$B$5,Données!$J$208,Données!$J$208*2.54),"") | I38: =IF(AND(E38<>"",F38<>"",B38>=2),F38/((E38/100)*(E38/100)),"") | K38: =F38
A39: =IF(Données!$B$211<>"",Données!$B$211,"") | B39: =IF(AND(A39<>"",F$2<>""),(A39-F$2)/365.25,0) -> 0 | C39: =IF(AND(A39<>"",F$2<>""),12*(A39-F$2)/365.25,0) -> 0 | D39: =IF(AND(Patient!$C$10<37,'Résumé des valeurs'!B39<2),((A39-$F$2)-(7*(40-Patient!$C$10)))*12/365.25,C39) -> #VALUE! | E39: =IF(Données!$B$214<>"",IF(Options!$B$5,Données!$B$214,Données!$B$214*2.54),"") | F39: =IF(Données!$F$214<>"",IF(Options!$B$5,Données!$F$214,Données!$F$214/2.2),"") | G39: =IF(Données!$J$214<>"",IF(Options!$B$5,Données!$J$214,Données!$J$214*2.54),"") | I39: =IF(AND(E39<>"",F39<>"",B39>=2),F39/((E39/100)*(E39/100)),"") | K39: =F39
A40: =IF(Données!$B$217<>"",Données!$B$217,"") | B40: =IF(AND(A40<>"",F$2<>""),(A40-F$2)/365.25,0) -> 0 | C40: =IF(AND(A40<>"",F$2<>""),12*(A40-F$2)/365.25,0) -> 0 | D40: =IF(AND(Patient!$C$10<37,'Résumé des valeurs'!B40<2),((A40-$F$2)-(7*(40-Patient!$C$10)))*12/365.25,C40) -> #VALUE! | E40: =IF(Données!$B$220<>"",IF(Options!$B$5,Données!$B$220,Données!$B$220*2.54),"") | F40: =IF(Données!$F$220<>"",IF(Options!$B$5,Données!$F$220,Données!$F$220/2.2),"") | G40: =IF(Données!$J$220<>"",IF(Options!$B$5,Données!$J$220,Données!$J$220*2.54),"") | I40: =IF(AND(E40<>"",F40<>"",B40>=2),F40/((E40/100)*(E40/100)),"") | K40: =F40
A41: =IF(Données!$B$223<>"",Données!$B$223,"") | B41: =IF(AND(A41<>"",F$2<>""),(A41-F$2)/365.25,0) -> 0 | C41: =IF(AND(A41<>"",F$2<>""),12*(A41-F$2)/365.25,0) -> 0 | D41: =IF(AND(Patient!$C$10<37,'Résumé des valeurs'!B41<2),((A41-$F$2)-(7*(40-Patient!$C$10)))*12/365.25,C41) -> #VALUE! | E41: =IF(Données!$B$226<>"",IF(Options!$B$5,Données!$B$226,Données!$B$226*2.54),"") | F41: =IF(Données!$F$226<>"",IF(Options!$B$5,Données!$F$226,Données!$F$226/2.2),"") | G41: =IF(Données!$J$226<>"",IF(Options!$B$5,Données!$J$226,Données!$J$226*2.54),"") | I41: =IF(AND(E41<>"",F41<>"",B41>=2),F41/((E41/100)*(E41/100)),"") | K41: =F41
A42: =IF(Données!$B$229<>"",Données!$B$229,"") | B42: =IF(AND(A42<>"",F$2<>""),(A42-F$2)/365.25,0) -> 0 | C42: =IF(AND(A42<>"",F$2<>""),12*(A42-F$2)/365.25,0) -> 0 | D42: =IF(AND(Patient!$C$10<37,'Résumé des valeurs'!B42<2),((A42-$F$2)-(7*(40-Patient!$C$10)))*12/365.25,C42) -> #VALUE! | E42: =IF(Données!$B$232<>"",IF(Options!$B$5,Données!$B$232,Données!$B$232*2.54),"") | F42: =IF(Données!$F$232<>"",IF(Options!$B$5,Données!$F$232,Données!$F$232/2.2),"") | G42: =IF(Données!$J$232<>"",IF(Options!$B$5,Données!$J$232,Données!$J$232*2.54),"") | I42: =IF(AND(E42<>"",F42<>"",B42>=2),F42/((E42/100)*(E42/100)),"") | K42: =F42
A43: =IF(Données!$B$235<>"",Données!$B$235,"") | B43: =IF(AND(A43<>"",F$2<>""),(A43-F$2)/365.25,0) -> 0 | C43: =IF(AND(A43<>"",F$2<>""),12*(A43-F$2)/365.25,0) -> 0 | D43: =IF(AND(Patient!$C$10<37,'Résumé des valeurs'!B43<2),((A43-$F$2)-(7*(40-Patient!$C$10)))*12/365.25,C43) -> #VALUE! | E43: =IF(Données!$B$238<>"",IF(Options!$B$5,Données!$B$238,Données!$B$238*2.54),"") | F43: =IF(Données!$F$238<>"",IF(Options!$B$5,Données!$F$238,Données!$F$238/2.2),"") | G43: =IF(Données!$J$238<>"",IF(Options!$B$5,Données!$J$238,Données!$J$238*2.54),"") | I43: =IF(AND(E43<>"",F43<>"",B43>=2),F43/((E43/100)*(E43/100)),"") | K43: =F43
A44: =IF(Données!$B$241<>"",Données!$B$241,"") | B44: =IF(AND(A44<>"",F$2<>""),(A44-F$2)/365.25,0) -> 0 | C44: =IF(AND(A44<>"",F$2<>""),12*(A44-F$2)/365.25,0) -> 0 | D44: =IF(AND(Patient!$C$10<37,'Résumé des valeurs'!B44<2),((A44-$F$2)-(7*(40-Patient!$C$10)))*12/365.25,C44) -> #VALUE! | E44: =IF(Données!$B$244<>"",IF(Options!$B$5,Données!$B$244,Données!$B$244*2.54),"") | F44: =IF(Données!$F$244<>"",IF(Options!$B$5,Données!$F$244,Données!$F$244/2.2),"") | G44: =IF(Données!$J$244<>"",IF(Options!$B$5,Données!$J$244,Données!$J$244*2.54),"") | I44: =IF(AND(E44<>"",F44<>"",B44>=2),F44/((E44/100)*(E44/100)),"") | K44: =F44
A45: =IF(Données!$B$247<>"",Données!$B$247,"") | B45: =IF(AND(A45<>"",F$2<>""),(A45-F$2)/365.25,0) -> 0 | C45: =IF(AND(A45<>"",F$2<>""),12*(A45-F$2)/365.25,0) -> 0 | D45: =IF(AND(Patient!$C$10<37,'Résumé des valeurs'!B45<2),((A45-$F$2)-(7*(40-Patient!$C$10)))*12/365.25,C45) -> #VALUE! | E45: =IF(Données!$B$250<>"",IF(Options!$B$5,Données!$B$250,Données!$B$250*2.54),"") | F45: =IF(Données!$F$250<>"",IF(Options!$B$5,Données!$F$250,Données!$F$250/2.2),"") | G45: =IF(Données!$J$250<>"",IF(Options!$B$5,Données!$J$250,Données!$J$250*2.54),"") | I45: =IF(AND(E45<>"",F45<>"",B45>=2),F45/((E45/100)*(E45/100)),"") | K45: =F45
A46: =IF(Données!$B$253<>"",Données!$B$253,"") | B46: =IF(AND(A46<>"",F$2<>""),(A46-F$2)/365.25,0) -> 0 | C46: =IF(AND(A46<>"",F$2<>""),12*(A46-F$2)/365.25,0) -> 0 | D46: =IF(AND(Patient!$C$10<37,'Résumé des valeurs'!B46<2),((A46-$F$2)-(7*(40-Patient!$C$10)))*12/365.25,C46) -> #VALUE! | E46: =IF(Données!$B$256<>"",IF(Options!$B$5,Données!$B$256,Données!$B$256*2.54),"") | F46: =IF(Données!$F$256<>"",IF(Options!$B$5,Données!$F$256,Données!$F$256/2.2),"") | G46: =IF(Données!$J$256<>"",IF(Options!$B$5,Données!$J$256,Données!$J$256*2.54),"") | I46: =IF(AND(E46<>"",F46<>"",B46>=2),F46/((E46/100)*(E46/100)),"") | K46: =F46
A47: =IF(Données!$B$259<>"",Données!$B$259,"") | B47: =IF(AND(A47<>"",F$2<>""),(A47-F$2)/365.25,0) -> 0 | C47: =IF(AND(A47<>"",F$2<>""),12*(A47-F$2)/365.25,0) -> 0 | D47: =IF(AND(Patient!$C$10<37,'Résumé des valeurs'!B47<2),((A47-$F$2)-(7*(40-Patient!$C$10)))*12/365.25,C47) -> #VALUE! | E47: =IF(Données!$B$262<>"",IF(Options!$B$5,Données!$B$262,Données!$B$262*2.54),"") | F47: =IF(Données!$F$262<>"",IF(Options!$B$5,Données!$F$262,Données!$F$262/2.2),"") | G47: =IF(Données!$J$262<>"",IF(Options!$B$5,Données!$J$262,Données!$J$262*2.54),"") | I47: =IF(AND(E47<>"",F47<>"",B47>=2),F47/((E47/100)*(E47/100)),"") | K47: =F47
A48: =IF(Données!$B$265<>"",Données!$B$265,"") | B48: =IF(AND(A48<>"",F$2<>""),(A48-F$2)/365.25,0) -> 0 | C48: =IF(AND(A48<>"",F$2<>""),12*(A48-F$2)/365.25,0) -> 0 | D48: =IF(AND(Patient!$C$10<37,'Résumé des valeurs'!B48<2),((A48-$F$2)-(7*(40-Patient!$C$10)))*12/365.25,C48) -> #VALUE! | E48: =IF(Données!$B$268<>"",IF(Options!$B$5,Données!$B$268,Données!$B$268*2.54),"") | F48: =IF(Données!$F$268<>"",IF(Options!$B$5,Données!$F$268,Données!$F$268/2.2),"") | G48: =IF(Données!$J$268<>"",IF(Options!$B$5,Données!$J$268,Données!$J$268*2.54),"") | I48: =IF(AND(E48<>"",F48<>"",B48>=2),F48/((E48/100)*(E48/100)),"") | K48: =F48
A49: =IF(Données!$B$271<>"",Données!$B$271,"") | B49: =IF(AND(A49<>"",F$2<>""),(A49-F$2)/365.25,0) -> 0 | C49: =IF(AND(A49<>"",F$2<>""),12*(A49-F$2)/365.25,0) -> 0 | D49: =IF(AND(Patient!$C$10<37,'Résumé des valeurs'!B49<2),((A49-$F$2)-(7*(40-Patient!$C$10)))*12/365.25,C49) -> #VALUE! | E49: =IF(Données!$B$274<>"",IF(Options!$B$5,Données!$B$274,Données!$B$274*2.54),"") | F49: =IF(Données!$F$274<>"",IF(Options!$B$5,Données!$F$274,Données!$F$274/2.2),"") | G49: =IF(Données!$J$274<>"",IF(Options!$B$5,Données!$J$274,Données!$J$274*2.54),"") | I49: =IF(AND(E49<>"",F49<>"",B49>=2),F49/((E49/100)*(E49/100)),"") | K49: =F49
A50: =IF(Données!$B$277<>"",Données!$B$277,"") | B50: =IF(AND(A50<>"",F$2<>""),(A50-F$2)/365.25,0) -> 0 | C50: =IF(AND(A50<>"",F$2<>""),12*(A50-F$2)/365.25,0) -> 0 | D50: =IF(AND(Patient!$C$10<37,'Résumé des valeurs'!B50<2),((A50-$F$2)-(7*(40-Patient!$C$10)))*12/365.25,C50) -> #VALUE! | E50: =IF(Données!$B$280<>"",IF(Options!$B$5,Données!$B$280,Données!$B$280*2.54),"") | F50: =IF(Données!$F$280<>"",IF(Options!$B$5,Données!$F$280,Données!$F$280/2.2),"") | G50: =IF(Données!$J$280<>"",IF(Options!$B$5,Données!$J$280,Données!$J$280*2.54),"") | I50: =IF(AND(E50<>"",F50<>"",B50>=2),F50/((E50/100)*(E50/100)),"") | K50: =F50
A51: =IF(Données!$B$283<>"",Données!$B$283,"") | B51: =IF(AND(A51<>"",F$2<>""),(A51-F$2)/365.25,0) -> 0 | C51: =IF(AND(A51<>"",F$2<>""),12*(A51-F$2)/365.25,0) -> 0 | D51: =IF(AND(Patient!$C$10<37,'Résumé des valeurs'!B51<2),((A51-$F$2)-(7*(40-Patient!$C$10)))*12/365.25,C51) -> #VALUE! | E51: =IF(Données!$B$286<>"",IF(Options!$B$5,Données!$B$286,Données!$B$286*2.54),"") | F51: =IF(Données!$F$286<>"",IF(Options!$B$5,Données!$F$286,Données!$F$286/2.2),"") | G51: =IF(Données!$J$286<>"",IF(Options!$B$5,Données!$J$286,Données!$J$286*2.54),"") | I51: =IF(AND(E51<>"",F51<>"",B51>=2),F51/((E51/100)*(E51/100)),"") | K51: =F51
A52: =IF(Données!$B$289<>"",Données!$B$289,"") | B52: =IF(AND(A52<>"",F$2<>""),(A52-F$2)/365.25,0) -> 0 | C52: =IF(AND(A52<>"",F$2<>""),12*(A52-F$2)/365.25,0) -> 0 | D52: =IF(AND(Patient!$C$10<37,'Résumé des valeurs'!B52<2),((A52-$F$2)-(7*(40-Patient!$C$10)))*12/365.25,C52) -> #VALUE! | E52: =IF(Données!$B$292<>"",IF(Options!$B$5,Données!$B$292,Données!$B$292*2.54),"") | F52: =IF(Données!$F$292<>"",IF(Options!$B$5,Données!$F$292,Données!$F$292/2.2),"") | G52: =IF(Données!$J$292<>"",IF(Options!$B$5,Données!$J$292,Données!$J$292*2.54),"") | I52: =IF(AND(E52<>"",F52<>"",B52>=2),F52/((E52/100)*(E52/100)),"") | K52: =F52
A53: =IF(Données!$B$295<>"",Données!$B$295,"") | B53: =IF(AND(A53<>"",F$2<>""),(A53-F$2)/365.25,0) -> 0 | C53: =IF(AND(A53<>"",F$2<>""),12*(A53-F$2)/365.25,0) -> 0 | D53: =IF(AND(Patient!$C$10<37,'Résumé des valeurs'!B53<2),((A53-$F$2)-(7*(40-Patient!$C$10)))*12/365.25,C53) -> #VALUE! | E53: =IF(Données!$B$298<>"",IF(Options!$B$5,Données!$B$298,Données!$B$298*2.54),"") | F53: =IF(Données!$F$298<>"",IF(Options!$B$5,Données!$F$298,Données!$F$298/2.2),"") | G53: =IF(Données!$J$298<>"",IF(Options!$B$5,Données!$J$298,Données!$J$298*2.54),"") | I53: =IF(AND(E53<>"",F53<>"",B53>=2),F53/((E53/100)*(E53/100)),"") | K53: =F53
A54: =IF(Données!$B$301<>"",Données!$B$301,"") | B54: =IF(AND(A54<>"",F$2<>""),(A54-F$2)/365.25,0) -> 0 | C54: =IF(AND(A54<>"",F$2<>""),12*(A54-F$2)/365.25,0) -> 0 | D54: =IF(AND(Patient!$C$10<37,'Résumé des valeurs'!B54<2),((A54-$F$2)-(7*(40-Patient!$C$10)))*12/365.25,C54) -> #VALUE! | E54: =IF(Données!$B$304<>"",IF(Options!$B$5,Données!$B$304,Données!$B$304*2.54),"") | F54: =IF(Données!$F$304<>"",IF(Options!$B$5,Données!$F$304,Données!$F$304/2.2),"") | G54: =IF(Données!$J$304<>"",IF(Options!$B$5,Données!$J$304,Données!$J$304*2.54),"") | I54: =IF(AND(E54<>"",F54<>"",B54>=2),F54/((E54/100)*(E54/100)),"") | K54: =F54
A55: =IF(Données!$B$307<>"",Données!$B$307,"") | B55: =IF(AND(A55<>"",F$2<>""),(A55-F$2)/365.25,0) -> 0 | C55: =IF(AND(A55<>"",F$2<>""),12*(A55-F$2)/365.25,0) -> 0 | D55: =IF(AND(Patient!$C$10<37,'Résumé des valeurs'!B55<2),((A55-$F$2)-(7*(40-Patient!$C$10)))*12/365.25,C55) -> #VALUE! | E55: =IF(Données!$B$310<>"",IF(Options!$B$5,Données!$B$310,Données!$B$310*2.54),"") | F55: =IF(Données!$F$310<>"",IF(Options!$B$5,Données!$F$310,Données!$F$310/2.2),"") | G55: =IF(Données!$J$310<>"",IF(Options!$B$5,Données!$J$310,Données!$J$310*2.54),"") | I55: =IF(AND(E55<>"",F55<>"",B55>=2),F55/((E55/100)*(E55/100)),"") | K55: =F55
A56: =IF(Données!$B$313<>"",Données!$B$313,"") | B56: =IF(AND(A56<>"",F$2<>""),(A56-F$2)/365.25,0) -> 0 | C56: =IF(AND(A56<>"",F$2<>""),12*(A56-F$2)/365.25,0) -> 0 | D56: =IF(AND(Patient!$C$10<37,'Résumé des valeurs'!B56<2),((A56-$F$2)-(7*(40-Patient!$C$10)))*12/365.25,C56) -> #VALUE! | E56: =IF(Données!$B$316<>"",IF(Options!$B$5,Données!$B$316,Données!$B$316*2.54),"") | F56: =IF(Données!$F$316<>"",IF(Options!$B$5,Données!$F$316,Données!$F$316/2.2),"") | G56: =IF(Données!$J$316<>"",IF(Options!$B$5,Données!$J$316,Données!$J$316*2.54),"") | I56: =IF(AND(E56<>"",F56<>"",B56>=2),F56/((E56/100)*(E56/100)),"") | K56: =F56
A57: =IF(Données!$B$319<>"",Données!$B$319,"") | B57: =IF(AND(A57<>"",F$2<>""),(A57-F$2)/365.25,0) -> 0 | C57: =IF(AND(A57<>"",F$2<>""),12*(A57-F$2)/365.25,0) -> 0 | D57: =IF(AND(Patient!$C$10<37,'Résumé des valeurs'!B57<2),((A57-$F$2)-(7*(40-Patient!$C$10)))*12/365.25,C57) -> #VALUE! | E57: =IF(Données!$B$322<>"",IF(Options!$B$5,Données!$B$322,Données!$B$322*2.54),"") | F57: =IF(Données!$F$322<>"",IF(Options!$B$5,Données!$F$322,Données!$F$322/2.2),"") | G57: =IF(Données!$J$322<>"",IF(Options!$B$5,Données!$J$322,Données!$J$322*2.54),"") | I57: =IF(AND(E57<>"",F57<>"",B57>=2),F57/((E57/100)*(E57/100)),"") | K57: =F57
A58: =IF(Données!$B$325<>"",Données!$B$325,"") | B58: =IF(AND(A58<>"",F$2<>""),(A58-F$2)/365.25,0) -> 0 | C58: =IF(AND(A58<>"",F$2<>""),12*(A58-F$2)/365.25,0) -> 0 | D58: =IF(AND(Patient!$C$10<37,'Résumé des valeurs'!B58<2),((A58-$F$2)-(7*(40-Patient!$C$10)))*12/365.25,C58) -> #VALUE! | E58: =IF(Données!$B$328<>"",IF(Options!$B$5,Données!$B$328,Données!$B$328*2.54),"") | F58: =IF(Données!$F$328<>"",IF(Options!$B$5,Données!$F$328,Données!$F$328/2.2),"") | G58: =IF(Données!$J$328<>"",IF(Options!$B$5,Données!$J$328,Données!$J$328*2.54),"") | I58: =IF(AND(E58<>"",F58<>"",B58>=2),F58/((E58/100)*(E58/100)),"") | K58: =F58
A59: =IF(Données!$B$331<>"",Données!$B$331,"") | B59: =IF(AND(A59<>"",F$2<>""),(A59-F$2)/365.25,0) -> 0 | C59: =IF(AND(A59<>"",F$2<>""),12*(A59-F$2)/365.25,0) -> 0 | D59: =IF(AND(Patient!$C$10<37,'Résumé des valeurs'!B59<2),((A59-$F$2)-(7*(40-Patient!$C$10)))*12/365.25,C59) -> #VALUE! | E59: =IF(Données!$B$334<>"",IF(Options!$B$5,Données!$B$334,Données!$B$334*2.54),"") | F59: =IF(Données!$F$334<>"",IF(Options!$B$5,Données!$F$334,Données!$F$334/2.2),"") | G59: =IF(Données!$J$334<>"",IF(Options!$B$5,Données!$J$334,Données!$J$334*2.54),"") | I59: =IF(AND(E59<>"",F59<>"",B59>=2),F59/((E59/100)*(E59/100)),"") | K59: =F59
A60: =IF(Données!$B$337<>"",Données!$B$337,"") | B60: =IF(AND(A60<>"",F$2<>""),(A60-F$2)/365.25,0) -> 0 | C60: =IF(AND(A60<>"",F$2<>""),12*(A60-F$2)/365.25,0) -> 0 | D60: =IF(AND(Patient!$C$10<37,'Résumé des valeurs'!B60<2),((A60-$F$2)-(7*(40-Patient!$C$10)))*12/365.25,C60) -> #VALUE! | E60: =IF(Données!$B$340<>"",IF(Options!$B$5,Données!$B$340,Données!$B$340*2.54),"") | F60: =IF(Données!$F$340<>"",IF(Options!$B$5,Données!$F$340,Données!$F$340/2.2),"") | G60: =IF(Données!$J$340<>"",IF(Options!$B$5,Données!$J$340,Données!$J$340*2.54),"") | I60: =IF(AND(E60<>"",F60<>"",B60>=2),F60/((E60/100)*(E60/100)),"") | K60: =F60
A61: =IF(Données!$B$343<>"",Données!$B$343,"") | B61: =IF(AND(A61<>"",F$2<>""),(A61-F$2)/365.25,0) -> 0 | C61: =IF(AND(A61<>"",F$2<>""),12*(A61-F$2)/365.25,0) -> 0 | D61: =IF(AND(Patient!$C$10<37,'Résumé des valeurs'!B61<2),((A61-$F$2)-(7*(40-Patient!$C$10)))*12/365.25,C61) -> #VALUE! | E61: =IF(Données!$B$346<>"",IF(Options!$B$5,Données!$B$346,Données!$B$346*2.54),"") | F61: =IF(Données!$F$346<>"",IF(Options!$B$5,Données!$F$346,Données!$F$346/2.2),"") | G61: =IF(Données!$J$346<>"",IF(Options!$B$5,Données!$J$346,Données!$J$346*2.54),"") | I61: =IF(AND(E61<>"",F61<>"",B61>=2),F61/((E61/100)*(E61/100)),"") | K61: =F61
A62: =IF(Données!$B$349<>"",Données!$B$349,"") | B62: =IF(AND(A62<>"",F$2<>""),(A62-F$2)/365.25,0) -> 0 | C62: =IF(AND(A62<>"",F$2<>""),12*(A62-F$2)/365.25,0) -> 0 | D62: =IF(AND(Patient!$C$10<37,'Résumé des valeurs'!B62<2),((A62-$F$2)-(7*(40-Patient!$C$10)))*12/365.25,C62) -> #VALUE! | E62: =IF(Données!$B$352<>"",IF(Options!$B$5,Données!$B$352,Données!$B$352*2.54),"") | F62: =IF(Données!$F$352<>"",IF(Options!$B$5,Données!$F$352,Données!$F$352/2.2),"") | G62: =IF(Données!$J$352<>"",IF(Options!$B$5,Données!$J$352,Données!$J$352*2.54),"") | I62: =IF(AND(E62<>"",F62<>"",B62>=2),F62/((E62/100)*(E62/100)),"") | K62: =F62
A63: =IF(Données!$B$355<>"",Données!$B$355,"") | B63: =IF(AND(A63<>"",F$2<>""),(A63-F$2)/365.25,0) -> 0 | C63: =IF(AND(A63<>"",F$2<>""),12*(A63-F$2)/365.25,0) -> 0 | D63: =IF(AND(Patient!$C$10<37,'Résumé des valeurs'!B63<2),((A63-$F$2)-(7*(40-Patient!$C$10)))*12/365.25,C63) -> #VALUE! | E63: =IF(Données!$B$358<>"",IF(Options!$B$5,Données!$B$358,Données!$B$358*2.54),"") | F63: =IF(Données!$F$358<>"",IF(Options!$B$5,Données!$F$358,Données!$F$358/2.2),"") | G63: =IF(Données!$J$358<>"",IF(Options!$B$5,Données!$J$358,Données!$J$358*2.54),"") | I63: =IF(AND(E63<>"",F63<>"",B63>=2),F63/((E63/100)*(E63/100)),"") | K63: =F63
A64: =IF(Données!$B$361<>"",Données!$B$361,"") | B64: =IF(AND(A64<>"",F$2<>""),(A64-F$2)/365.25,0) -> 0 | C64: =IF(AND(A64<>"",F$2<>""),12*(A64-F$2)/365.25,0) -> 0 | D64: =IF(AND(Patient!$C$10<37,'Résumé des valeurs'!B64<2),((A64-$F$2)-(7*(40-Patient!$C$10)))*12/365.25,C64) -> #VALUE! | E64: =IF(Données!$B$364<>"",IF(Options!$B$5,Données!$B$364,Données!$B$364*2.54),"") | F64: =IF(Données!$F$364<>"",IF(Options!$B$5,Données!$F$364,Données!$F$364/2.2),"") | G64: =IF(Données!$J$364<>"",IF(Options!$B$5,Données!$J$364,Données!$J$364*2.54),"") | I64: =IF(AND(E64<>"",F64<>"",B64>=2),F64/((E64/100)*(E64/100)),"") | K64: =F64

Sheet 0-3 Data
A1: IsMale: | B1: =IF(Patient!$D$14<>"",Patient!$D$14,"") -> TRUE | C1: ht | K1: wt | S1: OFC
C2: =Options!$B$8 -> TRUE | D2: TRUE | E2: =Options!$B$10 -> TRUE | F2: TRUE | G2: =Options!$B$10 -> TRUE | H2: TRUE | I2: =Options!$B$8 -> TRUE | K2: =Options!$B$8 -> TRUE | L2: TRUE | M2: =Options!$B$10 -> TRUE | N2: TRUE | O2: =Options!$B$10 -> TRUE | P2: TRUE | Q2: =Options!$B$8 -> TRUE | S2: =Options!$B$8 -> TRUE | T2: TRUE | U2: =Options!$B$10 -> TRUE | V2: TRUE | W2: =Options!$B$10 -> TRUE | X2: TRUE | Y2: =Options!$B$8 -> TRUE
A3: Agemos | C3: P3 | D3: P15 | E3: P25 | F3: P50 | G3: P75 | H3: P85 | I3: P97 | K3: P3 | L3: P15 | M3: P25 | N3: P50 | O3: P75 | P3: P85 | Q3: P97 | S3: P3 | T3: P10 | U3: P25 | V3: P50 | W3: P75 | X3: P90 | Y3: P97 | AA3: L-M-len | AB3: M-M-len | AC3: S-M-len | AD3: L-F-len | AE3: M-F-len | AF3: S-F-len | AG3: L-M-wt | AH3: M-M-wt | AI3: S-M-wt | AJ3: L-F-wt | AK3: M-F-wt | AL3: S-F-wt | AM3: L-M-OFC | AN3: M-M-OFC | AO3: S-M-OFC | AP3: L-F-OFC | AQ3: M-F-OFC | AR3: S-F-OFC | AS3: M-len | AT3: P3 | AU3: P15 | AV3: P25 | AW3: P50 | AX3: P75 | AY3: P85 | AZ3: P97 | BA3: F-len | BB3: P3 | BC3: P15 | BD3: P25 | BE3: P50 | BF3: P75 | BG3: P85 | BH3: P97 | BI3: M-wt | BJ3: P3 | BK3: P15 | BL3: P25 | BM3: P50 | BN3: P75 | BO3: P85 | BP3: P97 | BQ3: F-wt | BR3: P3 | BS3: P15 | BT3: P25 | BU3: P50 | BV3: P75 | BW3: P85 | BX3: P97 | BY3: M-OFC | BZ3: P3 | CA3: P15 | CB3: P25 | CC3: P50 | CD3: P75 | CE3: P85 | CF3: P97 | CG3: F-OFC | CH3: P3 | CI3: P5 | CJ3: P15 | CK3: P25 | CL3: P50 | CM3: P75 | CN3: P85 | CO3: P95 | CP3: P97
A4: 0 | C4: =IF(C2,IF(B1,AT4,BB4),"") -> 46.3 | D4: =IF(D2,IF(B1,AU4,BC4),"") -> 47.9 | E4: =IF(E2,IF(B1,AV4,BD4),"") -> 48.6 | F4: =IF(F2,IF(B1,AW4,BE4),"") -> 49.9 | G4: =IF(G2,IF(B1,AX4,BF4),"") -> 51.2 | H4: =IF(H2,IF(B1,AY4,BG4),"") -> 51.8 | I4: =IF(I2,IF(B1,AZ4,BH4),"") -> 53.4 | K4: =IF(K2,IF(B1,BJ4,BR4),"") -> 2.5 | L4: =IF(L2,IF(B1,BK4,BS4),"") -> 2.9 | M4: =IF(M2,IF(B1,BL4,BT4),"") -> 3 | N4: =IF(N2,IF(B1,BM4,BU4),"") -> 3.3 | O4: =IF(O2,IF(B1,BN4,BV4),"") -> 3.7 | P4: =IF(P2,IF(B1,BO4,BW4),"") -> 3.9 | Q4: =IF(Q2,IF(B1,BP4,BX4),"") -> 4.3 | S4: =IF(S2,IF(B1,BZ4,CH4),"") -> 32.1 | T4: =IF(T2,IF(B1,CA4,CJ4),"") -> 33.1 | U4: =IF(U2,IF(B1,CB4,CK4),"") -> 33.6 | V4: =IF(V2,IF(B1,CC4,CL4),"") -> 34.5 | W4: =IF(W2,IF(B1,CD4,CM4),"") -> 35.3 | X4: =IF(X2,IF(B1,CE4,CN4),"") -> 35.8 | Y4: =IF(Y2,IF(B1,CF4,CP4),"") -> 36.9 | AA4: 1.2670042 | AB4: 49.988884 | AC4: 0.053112191 | AD4: -1.2959609 | AE4: 49.286396 | AF4: 0.05008556 | AG4: 1.8151511 | AH4: 3.5302032 | AI4: 0.15238527 | AJ4: 1.5091875 | AK4: 3.3991865 | AL4: 0.14210672 | AM4: 4.427825 | AN4: 35.813668 | AO4: 0.052172542 | AP4: -1.2987497 | AQ4: 34.711562 | AR4: 0.046905108 | AT4: 46.3 | AU4: 47.9 | AV4: 48.6 | AW4: 49.9 | AX4: 51.2 | AY4: 51.8 | AZ4: 53.4 | BB4: 45.6 | BC4: 47.2 | BD4: 47.9 | BE4: 49.1 | BF4: 50.4 | BG4: 51.1 | BH4: 52.7 | BJ4: 2.5 | BK4: 2.9 | BL4: 3 | BM4: 3.3 | BN4: 3.7 | BO4: 3.9 | BP4: 4.3 | BR4: 2.4 | BS4: 2.8 | BT4: 2.9 | BU4: 3.2 | BV4: 3.6 | BW4: 3.7 | BX4: 4.2 | BZ4: 32.1 | CA4: 33.1 | CB4: 33.6 | CC4: 34.5 | CD4: 35.3 | CE4: 35.8 | CF4: 36.9 | CH4: 31.7 | CI4: 31.9 | CJ4: 32.7 | CK4: 33.1 | CL4: 33.9 | CM4: 34.7 | CN4: 35.1 | CO4: 35.8 | CP4: 36.1
A5: 1 | C5: =IF(C2,IF(B1,AT5,BB5),"") -> 51.1 | D5: =IF(D2,IF(B1,AU5,BC5),"") -> 52.7 | E5: =IF(E2,IF(B1,AV5,BD5),"") -> 53.4 | F5: =IF(F2,IF(B1,AW5,BE5),"") -> 54.7 | G5: =IF(G2,IF(B1,AX5,BF5),"") -> 56 | H5: =IF(H2,IF(B1,AY5,BG5),"") -> 56.7 | I5: =IF(I2,IF(B1,AZ5,BH5),"") -> 58.4 | K5: =IF(K2,IF(B1,BJ5,BR5),"") -> 3.4 | L5: =IF(L2,IF(B1,BK5,BS5),"") -> 3.9 | M5: =IF(M2,IF(B1,BL5,BT5),"") -> 4.1 | N5: =IF(N2,IF(B1,BM5,BU5),"") -> 4.5 | O5: =IF(O2,IF(B1,BN5,BV5),"") -> 4.9 | P5: =IF(P2,IF(B1,BO5,BW5),"") -> 5.1 | Q5: =IF(Q2,IF(B1,BP5,BX5),"") -> 5.7 | S5: =IF(S2,IF(B1,BZ5,CH5),"") -> 35.1 | T5: =IF(T2,IF(B1,CA5,CJ5),"") -> 36.1 | U5: =IF(U2,IF(B1,CB5,CK5),"") -> 36.5 | V5: =IF(V2,IF(B1,CC5,CL5),"") -> 37.3 | W5: =IF(W2,IF(B1,CD5,CM5),"") -> 38.1 | X5: =IF(X2,IF(B1,CE5,CN5),"") -> 38.5 | Y5: =IF(Y2,IF(B1,CF5,CP5),"") -> 39.5 | AA5: 0.5112377 | AB5: 52.695975 | AC5: 0.048692684 | AD5: -0.80924988 | AE5: 51.683581 | AF5: 0.046818545 | AG5: 1.5475231 | AH5: 4.0031064 | AI5: 0.14602502 | AJ5: 1.3579443 | AK5: 3.7975285 | AL5: 0.13807592 | AM5: 4.3109275 | AN5: 37.193611 | AO5: 0.047259148 | AP5: -1.4402715 | AQ5: 36.034539 | AR5: 0.042999604 | AT5: 51.1 | AU5: 52.7 | AV5: 53.4 | AW5: 54.7 | AX5: 56 | AY5: 56.7 | AZ5: 58.4 | BB5: 50 | BC5: 51.7 | BD5: 52.4 | BE5: 53.7 | BF5: 55 | BG5: 55.7 | BH5: 57.4 | BJ5: 3.4 | BK5: 3.9 | BL5: 4.1 | BM5: 4.5 | BN5: 4.9 | BO5: 5.1 | BP5: 5.7 | BR5: 3.2 | BS5: 3.6 | BT5: 3.8 | BU5: 4.2 | BV5: 4.6 | BW5: 4.8 | BX5: 5.4 | BZ5: 35.1 | CA5: 36.1 | CB5: 36.5 | CC5: 37.3 | CD5: 38.1 | CE5: 38.5 | CF5: 39.5 | CH5: 34.3 | CI5: 34.6 | CJ5: 35.3 | CK5: 35.8 | CL5: 36.5 | CM5: 37.3 | CN5: 37.8 | CO5: 38.5 | CP5: 38.8
A6: 2 | C6: =IF(C2,IF(B1,AT6,BB6),"") -> 54.7 | D6: =IF(D2,IF(B1,AU6,BC6),"") -> 56.4 | E6: =IF(E2,IF(B1,AV6,BD6),"") -> 57.1 | F6: =IF(F2,IF(B1,AW6,BE6),"") -> 58.4 | G6: =IF(G2,IF(B1,AX6,BF6),"") -> 59.8 | H6: =IF(H2,IF(B1,AY6,BG6),"") -> 60.5 | I6: =IF(I2,IF(B1,AZ6,BH6),"") -> 62.2 | K6: =IF(K2,IF(B1,BJ6,BR6),"") -> 4.4 | L6: =IF(L2,IF(B1,BK6,BS6),"") -> 4.9 | M6: =IF(M2,IF(B1,BL6,BT6),"") -> 5.1 | N6: =IF(N2,IF(B1,BM6,BU6),"") -> 5.6 | O6: =IF(O2,IF(B1,BN6,BV6),"") -> 6 | P6: =IF(P2,IF(B1,BO6,BW6),"") -> 6.3 | Q6: =IF(Q2,IF(B1,BP6,BX6),"") -> 7 | S6: =IF(S2,IF(B1,BZ6,CH6),"") -> 36.9 | T6: =IF(T2,IF(B1,CA6,CJ6),"") -> 37.9 | U6: =IF(U2,IF(B1,CB6,CK6),"") -> 38.3 | V6: =IF(V2,IF(B1,CC6,CL6),"") -> 39.1 | W6: =IF(W2,IF(B1,CD6,CM6),"") -> 39.9 | X6: =IF(X2,IF(B1,CE6,CN6),"") -> 40.3 | Y6: =IF(Y2,IF(B1,CF6,CP6),"") -> 41.3 | AA6: -0.45224446 | AB6: 56.628429 | AC6: 0.04411683 | AD6: -0.050782985 | AE6: 55.286128 | AF6: 0.0434439 | AG6: 1.0687955 | AH6: 4.8795251 | AI6: 0.13647877 | AJ6: 1.1055377 | AK6: 4.5447765 | AL6: 0.13173389 | AM6: 3.8695768 | AN6: 39.207429 | AO6: 0.040947903 | AP6: -1.5810163 | AQ6: 37.97672 | AR6: 0.038067862 | AT6: 54.7 | AU6: 56.4 | AV6: 57.1 | AW6: 58.4 | AX6: 59.8 | AY6: 60.5 | AZ6: 62.2 | BB6: 53.2 | BC6: 55 | BD6: 55.7 | BE6: 57.1 | BF6: 58.4 | BG6: 59.2 | BH6: 60.9 | BJ6: 4.4 | BK6: 4.9 | BL6: 5.1 | BM6: 5.6 | BN6: 6 | BO6: 6.3 | BP6: 7 | BR6: 4 | BS6: 4.5 | BT6: 4.7 | BU6: 5.1 | BV6: 5.6 | BW6: 5.9 | BX6: 6.5 | BZ6: 36.9 | CA6: 37.9 | CB6: 38.3 | CC6: 39.1 | CD6: 39.9 | CE6: 40.3 | CF6: 41.3 | CH6: 36 | CI6: 36.3 | CJ6: 37 | CK6: 37.4 | CL6: 38.3 | CM6: 39.1 | CN6: 39.5 | CO6: 40.2 | CP6: 40.5
A7: 3 | C7: =IF(C2,IF(B1,AT7,BB7),"") -> 57.6 | D7: =IF(D2,IF(B1,AU7,BC7),"") -> 59.3 | E7: =IF(E2,IF(B1,AV7,BD7),"") -> 60.1 | F7: =IF(F2,IF(B1,AW7,BE7),"") -> 61.4 | G7: =IF(G2,IF(B1,AX7,BF7),"") -> 62.8 | H7: =IF(H2,IF(B1,AY7,BG7),"") -> 63.5 | I7: =IF(I2,IF(B1,AZ7,BH7),"") -> 65.3 | K7: =IF(K2,IF(B1,BJ7,BR7),"") -> 5.1 | L7: =IF(L2,IF(B1,BK7,BS7),"") -> 5.6 | M7: =IF(M2,IF(B1,BL7,BT7),"") -> 5.9 | N7: =IF(N2,IF(B1,BM7,BU7),"") -> 6.4 | O7: =IF(O2,IF(B1,BN7,BV7),"") -> 6.9 | P7: =IF(P2,IF(B1,BO7,BW7),"") -> 7.2 | Q7: =IF(Q2,IF(B1,BP7,BX7),"") -> 7.9 | S7: =IF(S2,IF(B1,BZ7,CH7),"") -> 38.3 | T7: =IF(T2,IF(B1,CA7,CJ7),"") -> 39.3 | U7: =IF(U2,IF(B1,CB7,CK7),"") -> 39.7 | V7: =IF(V2,IF(B1,CC7,CL7),"") -> 40.5 | W7: =IF(W2,IF(B1,CD7,CM7),"") -> 41.3 | X7: =IF(X2,IF(B1,CE7,CN7),"") -> 41.7 | Y7: =IF(Y2,IF(B1,CF7,CP7),"") -> 42.7 | AA7: -0.9905946 | AB7: 59.608953 | AC7: 0.041795583 | AD7: 0.47685141 | AE7: 58.093819 | AF7: 0.041716103 | AG7: 0.6959735 | AH7: 5.6728888 | AI7: 0.12967751 | AJ7: 0.90259665 | AK7: 5.2305842 | AL7: 0.1268927 | AM7: 3.305593 | AN7: 40.652332 | AO7: 0.037027722 | AP7: -1.5931364 | AQ7: 39.380126 | AR7: 0.035079612 | AT7: 57.6 | AU7: 59.3 | AV7: 60.1 | AW7: 61.4 | AX7: 62.8 | AY7: 63.5 | AZ7: 65.3 | BB7: 55.8 | BC7: 57.6 | BD7: 58.4 | BE7: 59.8 | BF7: 61.2 | BG7: 62 | BH7: 63.8 | BJ7: 5.1 | BK7: 5.6 | BL7: 5.9 | BM7: 6.4 | BN7: 6.9 | BO7: 7.2 | BP7: 7.9 | BR7: 4.6 | BS7: 5.1 | BT7: 5.4 | BU7: 5.8 | BV7: 6.4 | BW7: 6.7 | BX7: 7.4 | BZ7: 38.3 | CA7: 39.3 | CB7: 39.7 | CC7: 40.5 | CD7: 41.3 | CE7: 41.7 | CF7: 42.7 | CH7: 37.2 | CI7: 37.5 | CJ7: 38.2 | CK7: 38.7 | CL7: 39.5 | CM7: 40.4 | CN7: 40.8 | CO7: 41.6 | CP7: 41.9
A8: 4 | C8: =IF(C2,IF(B1,AT8,BB8),"") -> 60 | D8: =IF(D2,IF(B1,AU8,BC8),"") -> 61.7 | E8: =IF(E2,IF(B1,AV8,BD8),"") -> 62.5 | F8: =IF(F2,IF(B1,AW8,BE8),"") -> 63.9 | G8: =IF(G2,IF(B1,AX8,BF8),"") -> 65.3 | H8: =IF(H2,IF(B1,AY8,BG8),"") -> 66 | I8: =IF(I2,IF(B1,AZ8,BH8),"") -> 67.8 | K8: =IF(K2,IF(B1,BJ8,BR8),"") -> 5.6 | L8: =IF(L2,IF(B1,BK8,BS8),"") -> 6.2 | M8: =IF(M2,IF(B1,BL8,BT8),"") -> 6.5 | N8: =IF(N2,IF(B1,BM8,BU8),"") -> 7 | O8: =IF(O2,IF(B1,BN8,BV8),"") -> 7.6 | P8: =IF(P2,IF(B1,BO8,BW8),"") -> 7.9 | Q8: =IF(Q2,IF(B1,BP8,BX8),"") -> 8.6 | S8: =IF(S2,IF(B1,BZ8,CH8),"") -> 39.4 | T8: =IF(T2,IF(B1,CA8,CJ8),"") -> 40.4 | U8: =IF(U2,IF(B1,CB8,CK8),"") -> 40.8 | V8: =IF(V2,IF(B1,CC8,CL8),"") -> 41.6 | W8: =IF(W2,IF(B1,CD8,CM8),"") -> 42.4 | X8: =IF(X2,IF(B1,CE8,CN8),"") -> 42.9 | Y8: =IF(Y2,IF(B1,CF8,CP8),"") -> 43.9 | AA8: -1.2858377 | AB8: 62.077 | AC8: 0.040454126 | AD8: 0.84329961 | AE8: 60.459808 | AF8: 0.040705173 | AG8: 0.41981509 | AH8: 6.391392 | AI8: 0.12471709 | AJ8: 0.73412141 | AK8: 5.8599608 | AL8: 0.12302518 | AM8: 2.7205903 | AN8: 41.76517 | AO8: 0.034364245 | AP8: -1.5214924 | AQ8: 40.467737 | AR8: 0.033096443 | AT8: 60 | AU8: 61.7 | AV8: 62.5 | AW8: 63.9 | AX8: 65.3 | AY8: 66 | AZ8: 67.8 | BB8: 58 | BC8: 59.8 | BD8: 60.6 | BE8: 62.1 | BF8: 63.5 | BG8: 64.3 | BH8: 66.2 | BJ8: 5.6 | BK8: 6.2 | BL8: 6.5 | BM8: 7 | BN8: 7.6 | BO8: 7.9 | BP8: 8.6 | BR8: 5.1 | BS8: 5.6 | BT8: 5.9 | BU8: 6.4 | BV8: 7 | BW8: 7.3 | BX8: 8.1 | BZ8: 39.4 | CA8: 40.4 | CB8: 40.8 | CC8: 41.6 | CD8: 42.4 | CE8: 42.9 | CF8: 43.9 | CH8: 38.2 | CI8: 38.5 | CJ8: 39.3 | CK8: 39.7 | CL8: 40.6 | CM8: 41.4 | CN8: 41.9 | CO8: 42.7 | CP8: 43
A9: 5 | C9: =IF(C2,IF(B1,AT9,BB9),"") -> 61.9 | D9: =IF(D2,IF(B1,AU9,BC9),"") -> 63.7 | E9: =IF(E2,IF(B1,AV9,BD9),"") -> 64.5 | F9: =IF(F2,IF(B1,AW9,BE9),"") -> 65.9 | G9: =IF(G2,IF(B1,AX9,BF9),"") -> 67.3 | H9: =IF(H2,IF(B1,AY9,BG9),"") -> 68.1 | I9: =IF(I2,IF(B1,AZ9,BH9),"") -> 69.9 | K9: =IF(K2,IF(B1,BJ9,BR9),"") -> 6.1 | L9: =IF(L2,IF(B1,BK9,BS9),"") -> 6.7 | M9: =IF(M2,IF(B1,BL9,BT9),"") -> 7 | N9: =IF(N2,IF(B1,BM9,BU9),"") -> 7.5 | O9: =IF(O2,IF(B1,BN9,BV9),"") -> 8.1 | P9: =IF(P2,IF(B1,BO9,BW9),"") -> 8.4 | Q9: =IF(Q2,IF(B1,BP9,BX9),"") -> 9.2 | S9: =IF(S2,IF(B1,BZ9,CH9),"") -> 40.3 | T9: =IF(T2,IF(B1,CA9,CJ9),"") -> 41.3 | U9: =IF(U2,IF(B1,CB9,CK9),"") -> 41.7 | V9: =IF(V2,IF(B1,CC9,CL9),"") -> 42.6 | W9: =IF(W2,IF(B1,CD9,CM9),"") -> 43.4 | X9: =IF(X2,IF(B1,CE9,CN9),"") -> 43.8 | Y9: =IF(Y2,IF(B1,CF9,CP9),"") -> 44.8 | AA9: -1.4303124 | AB9: 64.216864 | AC9: 0.039633879 | AD9: 1.0975623 | AE9: 62.536697 | AF9: 0.040079765 | AG9: 0.2198668 | AH9: 7.0418364 | AI9: 0.12104012 | AJ9: 0.59023527 | AK9: 6.4375878 | AL9: 0.11984091 | AM9: 2.1680482 | AN9: 42.661161 | AO9: 0.032462175 | AP9: -1.3945659 | AQ9: 41.34841 | AR9: 0.03170963 | AT9: 61.9 | AU9: 63.7 | AV9: 64.5 | AW9: 65.9 | AX9: 67.3 | AY9: 68.1 | AZ9: 69.9 | BB9: 59.9 | BC9: 61.7 | BD9: 62.5 | BE9: 64 | BF9: 65.5 | BG9: 66.3 | BH9: 68.2 | BJ9: 6.1 | BK9: 6.7 | BL9: 7 | BM9: 7.5 | BN9: 8.1 | BO9: 8.4 | BP9: 9.2 | BR9: 5.5 | BS9: 6.1 | BT9: 6.4 | BU9: 6.9 | BV9: 7.5 | BW9: 7.8 | BX9: 8.7 | BZ9: 40.3 | CA9: 41.3 | CB9: 41.7 | CC9: 42.6 | CD9: 43.4 | CE9: 43.8 | CF9: 44.8 | CH9: 39 | CI9: 39.3 | CJ9: 40.1 | CK9: 40.6 | CL9: 41.5 | CM9: 42.3 | CN9: 42.8 | CO9: 43.6 | CP9: 43.9
A10: 6 | C10: =IF(C2,IF(B1,AT10,BB10),"") -> 63.6 | D10: =IF(D2,IF(B1,AU10,BC10),"") -> 65.4 | E10: =IF(E2,IF(B1,AV10,BD10),"") -> 66.2 | F10: =IF(F2,IF(B1,AW10,BE10),"") -> 67.6 | G10: =IF(G2,IF(B1,AX10,BF10),"") -> 69.1 | H10: =IF(H2,IF(B1,AY10,BG10),"") -> 69.8 | I10: =IF(I2,IF(B1,AZ10,BH10),"") -> 71.6 | K10: =IF(K2,IF(B1,BJ10,BR10),"") -> 6.4 | L10: =IF(L2,IF(B1,BK10,BS10),"") -> 7.1 | M10: =IF(M2,IF(B1,BL10,BT10),"") -> 7.4 | N10: =IF(N2,IF(B1,BM10,BU10),"") -> 7.9 | O10: =IF(O2,IF(B1,BN10,BV10),"") -> 8.5 | P10: =IF(P2,IF(B1,BO10,BW10),"") -> 8.9 | Q10: =IF(Q2,IF(B1,BP10,BX10),"") -> 9.7 | S10: =IF(S2,IF(B1,BZ10,CH10),"") -> 41 | T10: =IF(T2,IF(B1,CA10,CJ10),"") -> 42.1 | U10: =IF(U2,IF(B1,CB10,CK10),"") -> 42.5 | V10: =IF(V2,IF(B1,CC10,CL10),"") -> 43.3 | W10: =IF(W2,IF(B1,CD10,CM10),"") -> 44.2 | X10: =IF(X2,IF(B1,CE10,CN10),"") -> 44.6 | Y10: =IF(Y2,IF(B1,CF10,CP10),"") -> 45.6 | AA10: -1.4765755 | AB10: 66.125315 | AC10: 0.039123813 | AD10: 1.2725096 | AE10: 64.406328 | AF10: 0.039686845 | AG10: 0.077505598 | AH10: 7.6304252 | AI10: 0.1182712 | AJ10: 0.46439157 | AK10: 6.9678505 | AL10: 0.11716687 | AM10: 1.6754657 | AN10: 43.404887 | AO10: 0.031064702 | AP10: -1.2317134 | AQ10: 42.083351 | AR10: 0.030709039 | AT10: 63.6 | AU10: 65.4 | AV10: 66.2 | AW10: 67.6 | AX10: 69.1 | AY10: 69.8 | AZ10: 71.6 | BB10: 61.5 | BC10: 63.4 | BD10: 64.2 | BE10: 65.7 | BF10: 67.3 | BG10: 68.1 | BH10: 70 | BJ10: 6.4 | BK10: 7.1 | BL10: 7.4 | BM10: 7.9 | BN10: 8.5 | BO10: 8.9 | BP10: 9.7 | BR10: 5.8 | BS10: 6.4 | BT10: 6.7 | BU10: 7.3 | BV10: 7.9 | BW10: 8.3 | BX10: 9.2 | BZ10: 41 | CA10: 42.1 | CB10: 42.5 | CC10: 43.3 | CD10: 44.2 | CE10: 44.6 | CF10: 45.6 | CH10: 39.7 | CI10: 40.1 | CJ10: 40.8 | CK10: 41.3 | CL10: 42.2 | CM10: 43.1 | CN10: 43.5 | CO10: 44.3 | CP10: 44.6
A11: 7 | C11: =IF(C2,IF(B1,AT11,BB11),"") -> 65.1 | D11: =IF(D2,IF(B1,AU11,BC11),"") -> 66.9 | E11: =IF(E2,IF(B1,AV11,BD11),"") -> 67.7 | F11: =IF(F2,IF(B1,AW11,BE11),"") -> 69.1 | G11: =IF(G2,IF(B1,AX11,BF11),"") -> 70.6 | H11: =IF(H2,IF(B1,AY11,BG11),"") -> 71.4 | I11: =IF(I2,IF(B1,AZ11,BH11),"") -> 73.2 | K11: =IF(K2,IF(B1,BJ11,BR11),"") -> 6.7 | L11: =IF(L2,IF(B1,BK11,BS11),"") -> 7.4 | M11: =IF(M2,IF(B1,BL11,BT11),"") -> 7.7 | N11: =IF(N2,IF(B1,BM11,BU11),"") -> 8.3 | O11: =IF(O2,IF(B1,BN11,BV11),"") -> 8.9 | P11: =IF(P2,IF(B1,BO11,BW11),"") -> 9.3 | Q11: =IF(Q2,IF(B1,BP11,BX11),"") -> 10.2 | S11: =IF(S2,IF(B1,BZ11,CH11),"") -> 41.7 | T11: =IF(T2,IF(B1,CA11,CJ11),"") -> 42.7 | U11: =IF(U2,IF(B1,CB11,CK11),"") -> 43.1 | V11: =IF(V2,IF(B1,CC11,CL11),"") -> 44 | W11: =IF(W2,IF(B1,CD11,CM11),"") -> 44.8 | X11: =IF(X2,IF(B1,CE11,CN11),"") -> 45.3 | Y11: =IF(Y2,IF(B1,CF11,CP11),"") -> 46.3 | AA11: -1.4568378 | AB11: 67.86018 | AC11: 0.038811994 | AD11: 1.3904289 | AE11: 66.118416 | AF11: 0.039444555 | AG11: -0.02190761 | AH11: 8.162951 | AI11: 0.1161537 | AJ11: 0.35216407 | AK11: 7.4548541 | AL11: 0.11489384 | AM11: 1.2551603 | AN11: 44.036099 | AO11: 0.03002267 | AP11: -1.0465826 | AQ11: 42.710336 | AR11: 0.029974303 | AT11: 65.1 | AU11: 66.9 | AV11: 67.7 | AW11: 69.1 | AX11: 70.6 | AY11: 71.4 | AZ11: 73.2 | BB11: 62.9 | BC11: 64.9 | BD11: 65.7 | BE11: 67.3 | BF11: 68.8 | BG11: 69.7 | BH11: 71.6 | BJ11: 6.7 | BK11: 7.4 | BL11: 7.7 | BM11: 8.3 | BN11: 8.9 | BO11: 9.3 | BP11: 10.2 | BR11: 6.1 | BS11: 6.7 | BT11: 7 | BU11: 7.6 | BV11: 8.3 | BW11: 8.7 | BX11: 9.6 | BZ11: 41.7 | CA11: 42.7 | CB11: 43.1 | CC11: 44 | CD11: 44.8 | CE11: 45.3 | CF11: 46.3 | CH11: 40.4 | CI11: 40.7 | CJ11: 41.5 | CK11: 41.9 | CL11: 42.8 | CM11: 43.7 | CN11: 44.2 | CO11: 45 | CP11: 45.3
A12: 8 | C12: =IF(C2,IF(B1,AT12,BB12),"") -> 66.5 | D12: =IF(D2,IF(B1,AU12,BC12),"") -> 68.3 | E12: =IF(E2,IF(B1,AV12,BD12),"") -> 69.1 | F12: =IF(F2,IF(B1,AW12,BE12),"") -> 70.6 | G12: =IF(G2,IF(B1,AX12,BF12),"") -> 72.1 | H12: =IF(H2,IF(B1,AY12,BG12),"") -> 72.9 | I12: =IF(I2,IF(B1,AZ12,BH12),"") -> 74.7 | K12: =IF(K2,IF(B1,BJ12,BR12),"") -> 6.9 | L12: =IF(L2,IF(B1,BK12,BS12),"") -> 7.7 | M12: =IF(M2,IF(B1,BL12,BT12),"") -> 8 | N12: =IF(N2,IF(B1,BM12,BU12),"") -> 8.6 | O12: =IF(O2,IF(B1,BN12,BV12),"") -> 9.3 | P12: =IF(P2,IF(B1,BO12,BW12),"") -> 9.6 | Q12: =IF(Q2,IF(B1,BP12,BX12),"") -> 10.5 | S12: =IF(S2,IF(B1,BZ12,CH12),"") -> 42.2 | T12: =IF(T2,IF(B1,CA12,CJ12),"") -> 43.2 | U12: =IF(U2,IF(B1,CB12,CK12),"") -> 43.7 | V12: =IF(V2,IF(B1,CC12,CL12),"") -> 44.5 | W12: =IF(W2,IF(B1,CD12,CM12),"") -> 45.4 | X12: =IF(X2,IF(B1,CE12,CN12),"") -> 45.8 | Y12: =IF(Y2,IF(B1,CF12,CP12),"") -> 46.9 | AA12: -1.3918988 | AB12: 69.459085 | AC12: 0.038633209 | AD12: 1.4667339 | AE12: 67.705744 | AF12: 0.039304738 | AG12: -0.0894409 | AH12: 8.6448325 | AI12: 0.11451035 | AJ12: 0.25049789 | AK12: 7.9024362 | AL12: 0.11294964 | AM12: 0.91054114 | AN12: 44.580969 | AO12: 0.029242173 | AP12: -0.84893269 | AQ12: 43.254289 | AR12: 0.029430992 | AT12: 66.5 | AU12: 68.3 | AV12: 69.1 | AW12: 70.6 | AX12: 72.1 | AY12: 72.9 | AZ12: 74.7 | BB12: 64.3 | BC12: 66.3 | BD12: 67.2 | BE12: 68.7 | BF12: 70.3 | BG12: 71.2 | BH12: 73.2 | BJ12: 6.9 | BK12: 7.7 | BL12: 8 | BM12: 8.6 | BN12: 9.3 | BO12: 9.6 | BP12: 10.5 | BR12: 6.3 | BS12: 7 | BT12: 7.3 | BU12: 7.9 | BV12: 8.6 | BW12: 9 | BX12: 10 | BZ12: 42.2 | CA12: 43.2 | CB12: 43.7 | CC12: 44.5 | CD12: 45.4 | CE12: 45.8 | CF12: 46.9 | CH12: 40.9 | CI12: 41.2 | CJ12: 42 | CK12: 42.5 | CL12: 43.4 | CM12: 44.3 | CN12: 44.7 | CO12: 45.6 | CP12: 45.9
A13: 9 | C13: =IF(C2,IF(B1,AT13,BB13),"") -> 67.7 | D13: =IF(D2,IF(B1,AU13,BC13),"") -> 69.6 | E13: =IF(E2,IF(B1,AV13,BD13),"") -> 70.5 | F13: =IF(F2,IF(B1,AW13,BE13),"") -> 72 | G13: =IF(G2,IF(B1,AX13,BF13),"") -> 73.5 | H13: =IF(H2,IF(B1,AY13,BG13),"") -> 74.3 | I13: =IF(I2,IF(B1,AZ13,BH13),"") -> 76.2 | K13: =IF(K2,IF(B1,BJ13,BR13),"") -> 7.2 | L13: =IF(L2,IF(B1,BK13,BS13),"") -> 7.9 | M13: =IF(M2,IF(B1,BL13,BT13),"") -> 8.3 | N13: =IF(N2,IF(B1,BM13,BU13),"") -> 8.9 | O13: =IF(O2,IF(B1,BN13,BV13),"") -> 9.6 | P13: =IF(P2,IF(B1,BO13,BW13),"") -> 10 | Q13: =IF(Q2,IF(B1,BP13,BX13),"") -> 10.9 | S13: =IF(S2,IF(B1,BZ13,CH13),"") -> 42.6 | T13: =IF(T2,IF(B1,CA13,CJ13),"") -> 43.7 | U13: =IF(U2,IF(B1,CB13,CK13),"") -> 44.2 | V13: =IF(V2,IF(B1,CC13,CL13),"") -> 45 | W13: =IF(W2,IF(B1,CD13,CM13),"") -> 45.8 | X13: =IF(X2,IF(B1,CE13,CN13),"") -> 46.3 | Y13: =IF(Y2,IF(B1,CF13,CP13),"") -> 47.4 | AA13: -1.2957146 | AB13: 70.948039 | AC13: 0.038546833 | AD13: 1.512302 | AE13: 69.191236 | AF13: 0.03923711 | AG13: -0.1334091 | AH13: 9.0811198 | AI13: 0.11321716 | AJ13: 0.15724751 | AK13: 8.3141784 | AL13: 0.11128469 | AM13: 0.63951047 | AN13: 45.057612 | AO13: 0.028660454 | AP13: -0.64577912 | AQ13: 43.732496 | AR13: 0.029030379 | AT13: 67.7 | AU13: 69.6 | AV13: 70.5 | AW13: 72 | AX13: 73.5 | AY13: 74.3 | AZ13: 76.2 | BB13: 65.6 | BC13: 67.6 | BD13: 68.5 | BE13: 70.1 | BF13: 71.8 | BG13: 72.6 | BH13: 74.7 | BJ13: 7.2 | BK13: 7.9 | BL13: 8.3 | BM13: 8.9 | BN13: 9.6 | BO13: 10 | BP13: 10.9 | BR13: 6.6 | BS13: 7.3 | BT13: 7.6 | BU13: 8.2 | BV13: 8.9 | BW13: 9.3 | BX13: 10.4 | BZ13: 42.6 | CA13: 43.7 | CB13: 44.2 | CC13: 45 | CD13: 45.8 | CE13: 46.3 | CF13: 47.4 | CH13: 41.3 | CI13: 41.6 | CJ13: 42.4 | CK13: 42.9 | CL13: 43.8 | CM13: 44.7 | CN13: 45.2 | CO13: 46 | CP13: 46.3
A14: 10 | C14: =IF(C2,IF(B1,AT14,BB14),"") -> 69 | D14: =IF(D2,IF(B1,AU14,BC14),"") -> 70.9 | E14: =IF(E2,IF(B1,AV14,BD14),"") -> 71.7 | F14: =IF(F2,IF(B1,AW14,BE14),"") -> 73.3 | G14: =IF(G2,IF(B1,AX14,BF14),"") -> 74.8 | H14: =IF(H2,IF(B1,AY14,BG14),"") -> 75.6 | I14: =IF(I2,IF(B1,AZ14,BH14),"") -> 77.6 | K14: =IF(K2,IF(B1,BJ14,BR14),"") -> 7.5 | L14: =IF(L2,IF(B1,BK14,BS14),"") -> 8.2 | M14: =IF(M2,IF(B1,BL14,BT14),"") -> 8.5 | N14: =IF(N2,IF(B1,BM14,BU14),"") -> 9.2 | O14: =IF(O2,IF(B1,BN14,BV14),"") -> 9.9 | P14: =IF(P2,IF(B1,BO14,BW14),"") -> 10.3 | Q14: =IF(Q2,IF(B1,BP14,BX14),"") -> 11.2 | S14: =IF(S2,IF(B1,BZ14,CH14),"") -> 43 | T14: =IF(T2,IF(B1,CA14,CJ14),"") -> 44.1 | U14: =IF(U2,IF(B1,CB14,CK14),"") -> 44.6 | V14: =IF(V2,IF(B1,CC14,CL14),"") -> 45.4 | W14: =IF(W2,IF(B1,CD14,CM14),"") -> 46.3 | X14: =IF(X2,IF(B1,CE14,CN14),"") -> 46.7 | Y14: =IF(Y2,IF(B1,CF14,CP14),"") -> 47.8 | AA14: -1.177919 | AB14: 72.345861 | AC14: 0.038526262 | AD14: 1.5349508 | AE14: 70.591639 | AF14: 0.039221665 | AG14: -0.1600954 | AH14: 9.4765003 | AI14: 0.11218624 | AJ14: 0.070885725 | AK14: 8.6934184 | AL14: 0.10986371 | AM14: 0.43697886 | AN14: 45.479076 | AO14: 0.0282336 | AP14: -0.44216541 | AQ14: 44.157428 | AR14: 0.028739112 | AT14: 69 | AU14: 70.9 | AV14: 71.7 | AW14: 73.3 | AX14: 74.8 | AY14: 75.6 | AZ14: 77.6 | BB14: 66.8 | BC14: 68.9 | BD14: 69.8 | BE14: 71.5 | BF14: 73.1 | BG14: 74 | BH14: 76.1 | BJ14: 7.5 | BK14: 8.2 | BL14: 8.5 | BM14: 9.2 | BN14: 9.9 | BO14: 10.3 | BP14: 11.2 | BR14: 6.8 | BS14: 7.5 | BT14: 7.8 | BU14: 8.5 | BV14: 9.2 | BW14: 9.6 | BX14: 10.7 | BZ14: 43 | CA14: 44.1 | CB14: 44.6 | CC14: 45.4 | CD14: 46.3 | CE14: 46.7 | CF14: 47.8 | CH14: 41.7 | CI14: 42 | CJ14: 42.8 | CK14: 43.3 | CL14: 44.2 | CM14: 45.1 | CN14: 45.6 | CO14: 46.4 | CP14: 46.8
A15: 11 | C15: =IF(C2,IF(B1,AT15,BB15),"") -> 70.2 | D15: =IF(D2,IF(B1,AU15,BC15),"") -> 72.1 | E15: =IF(E2,IF(B1,AV15,BD15),"") -> 73 | F15: =IF(F2,IF(B1,AW15,BE15),"") -> 74.5 | G15: =IF(G2,IF(B1,AX15,BF15),"") -> 76.1 | H15: =IF(H2,IF(B1,AY15,BG15),"") -> 77 | I15: =IF(I2,IF(B1,AZ15,BH15),"") -> 78.9 | K15: =IF(K2,IF(B1,BJ15,BR15),"") -> 7.7 | L15: =IF(L2,IF(B1,BK15,BS15),"") -> 8.4 | M15: =IF(M2,IF(B1,BL15,BT15),"") -> 8.7 | N15: =IF(N2,IF(B1,BM15,BU15),"") -> 9.4 | O15: =IF(O2,IF(B1,BN15,BV15),"") -> 10.1 | P15: =IF(P2,IF(B1,BO15,BW15),"") -> 10.5 | Q15: =IF(Q2,IF(B1,BP15,BX15),"") -> 11.5 | S15: =IF(S2,IF(B1,BZ15,CH15),"") -> 43.4 | T15: =IF(T2,IF(B1,CA15,CJ15),"") -> 44.4 | U15: =IF(U2,IF(B1,CB15,CK15),"") -> 44.9 | V15: =IF(V2,IF(B1,CC15,CL15),"") -> 45.8 | W15: =IF(W2,IF(B1,CD15,CM15),"") -> 46.6 | X15: =IF(X2,IF(B1,CE15,CN15),"") -> 47.1 | Y15: =IF(Y2,IF(B1,CF15,CP15),"") -> 48.2 | AA15: -1.045326 | AB15: 73.666654 | AC15: 0.038553387 | AD15: 1.5403909 | AE15: 71.919617 | AF15: 0.039244672 | AG15: -0.17429685 | AH15: 9.8353077 | AI15: 0.11135454 | AJ15: -0.00968493 | AK15: 9.0432619 | AL15: 0.10866078 | AM15: 0.29627586 | AN15: 45.855057 | AO15: 0.027929764 | AP15: -0.24163206 | AQ15: 44.538368 | AR15: 0.028533537 | AT15: 70.2 | AU15: 72.1 | AV15: 73 | AW15: 74.5 | AX15: 76.1 | AY15: 77 | AZ15: 78.9 | BB15: 68 | BC15: 70.2 | BD15: 71.1 | BE15: 72.8 | BF15: 74.5 | BG15: 75.4 | BH15: 77.5 | BJ15: 7.7 | BK15: 8.4 | BL15: 8.7 | BM15: 9.4 | BN15: 10.1 | BO15: 10.5 | BP15: 11.5 | BR15: 7 | BS15: 7.7 | BT15: 8 | BU15: 8.7 | BV15: 9.5 | BW15: 9.9 | BX15: 11 | BZ15: 43.4 | CA15: 44.4 | CB15: 44.9 | CC15: 45.8 | CD15: 46.6 | CE15: 47.1 | CF15: 48.2 | CH15: 42 | CI15: 42.4 | CJ15: 43.2 | CK15: 43.7 | CL15: 44.6 | CM15: 45.5 | CN15: 46 | CO15: 46.8 | CP15: 47.1
A16: 12 | C16: =IF(C2,IF(B1,AT16,BB16),"") -> 71.3 | D16: =IF(D2,IF(B1,AU16,BC16),"") -> 73.3 | E16: =IF(E2,IF(B1,AV16,BD16),"") -> 74.1 | F16: =IF(F2,IF(B1,AW16,BE16),"") -> 75.7 | G16: =IF(G2,IF(B1,AX16,BF16),"") -> 77.4 | H16: =IF(H2,IF(B1,AY16,BG16),"") -> 78.2 | I16: =IF(I2,IF(B1,AZ16,BH16),"") -> 80.2 | K16: =IF(K2,IF(B1,BJ16,BR16),"") -> 7.8 | L16: =IF(L2,IF(B1,BK16,BS16),"") -> 8.6 | M16: =IF(M2,IF(B1,BL16,BT16),"") -> 9 | N16: =IF(N2,IF(B1,BM16,BU16),"") -> 9.6 | O16: =IF(O2,IF(B1,BN16,BV16),"") -> 10.4 | P16: =IF(P2,IF(B1,BO16,BW16),"") -> 10.8 | Q16: =IF(Q2,IF(B1,BP16,BX16),"") -> 11.8 | S16: =IF(S2,IF(B1,BZ16,CH16),"") -> 43.6 | T16: =IF(T2,IF(B1,CA16,CJ16),"") -> 44.7 | U16: =IF(U2,IF(B1,CB16,CK16),"") -> 45.2 | V16: =IF(V2,IF(B1,CC16,CL16),"") -> 46.1 | W16: =IF(W2,IF(B1,CD16,CM16),"") -> 46.9 | X16: =IF(X2,IF(B1,CE16,CN16),"") -> 47.4 | Y16: =IF(Y2,IF(B1,CF16,CP16),"") -> 48.5 | AA16: -0.90280089 | AB16: 74.921297 | AC16: 0.038615501 | AD16: 1.5328529 | AE16: 73.18501 | AF16: 0.03929642 | AG16: -0.1797189 | AH16: 10.161536 | AI16: 0.11067641 | AJ16: -0.085258 | AK16: 9.3665936 | AL16: 0.10765621 | AM16: 0.21010725 | AN16: 46.192954 | AO16: 0.027725179 | AP16: -0.046673786 | AQ16: 44.882406 | AR16: 0.028396382 | AT16: 71.3 | AU16: 73.3 | AV16: 74.1 | AW16: 75.7 | AX16: 77.4 | AY16: 78.2 | AZ16: 80.2 | BB16: 69.2 | BC16: 71.3 | BD16: 72.3 | BE16: 74 | BF16: 75.8 | BG16: 76.7 | BH16: 78.9 | BJ16: 7.8 | BK16: 8.6 | BL16: 9 | BM16: 9.6 | BN16: 10.4 | BO16: 10.8 | BP16: 11.8 | BR16: 7.1 | BS16: 7.9 | BT16: 8.2 | BU16: 8.9 | BV16: 9.7 | BW16: 10.2 | BX16: 11.3 | BZ16: 43.6 | CA16: 44.7 | CB16: 45.2 | CC16: 46.1 | CD16: 46.9 | CE16: 47.4 | CF16: 48.5 | CH16: 42.3 | CI16: 42.7 | CJ16: 43.5 | CK16: 44 | CL16: 44.9 | CM16: 45.8 | CN16: 46.3 | CO16: 47.1 | CP16: 47.5
A17: 13 | C17: =IF(C2,IF(B1,AT17,BB17),"") -> 72.4 | D17: =IF(D2,IF(B1,AU17,BC17),"") -> 74.4 | E17: =IF(E2,IF(B1,AV17,BD17),"") -> 75.3 | F17: =IF(F2,IF(B1,AW17,BE17),"") -> 76.9 | G17: =IF(G2,IF(B1,AX17,BF17),"") -> 78.6 | H17: =IF(H2,IF(B1,AY17,BG17),"") -> 79.4 | I17: =IF(I2,IF(B1,AZ17,BH17),"") -> 81.5 | K17: =IF(K2,IF(B1,BJ17,BR17),"") -> 8 | L17: =IF(L2,IF(B1,BK17,BS17),"") -> 8.8 | M17: =IF(M2,IF(B1,BL17,BT17),"") -> 9.2 | N17: =IF(N2,IF(B1,BM17,BU17),"") -> 9.9 | O17: =IF(O2,IF(B1,BN17,BV17),"") -> 10.6 | P17: =IF(P2,IF(B1,BO17,BW17),"") -> 11.1 | Q17: =IF(Q2,IF(B1,BP17,BX17),"") -> 12.1 | S17: =IF(S2,IF(B1,BZ17,CH17),"") -> 43.9 | T17: =IF(T2,IF(B1,CA17,CJ17),"") -> 45 | U17: =IF(U2,IF(B1,CB17,CK17),"") -> 45.5 | V17: =IF(V2,IF(B1,CC17,CL17),"") -> 46.3 | W17: =IF(W2,IF(B1,CD17,CM17),"") -> 47.2 | X17: =IF(X2,IF(B1,CE17,CN17),"") -> 47.7 | Y17: =IF(Y2,IF(B1,CF17,CP17),"") -> 48.8 | AA17: -0.75390811 | AB17: 76.118375 | AC17: 0.038703461 | AD17: 1.5155095 | AE17: 74.395644 | AF17: 0.039369875 | AG17: -0.179254 | AH17: 10.458854 | AI17: 0.11011864 | AJ17: -0.15640945 | AK17: 9.6660892 | AL17: 0.10683452 | AM17: 0.17114702 | AN17: 46.498534 | AO17: 0.027601686 | AP17: 0.14103109 | AQ17: 45.195077 | AR17: 0.028314722 | AT17: 72.4 | AU17: 74.4 | AV17: 75.3 | AW17: 76.9 | AX17: 78.6 | AY17: 79.4 | AZ17: 81.5 | BB17: 70.3 | BC17: 72.5 | BD17: 73.4 | BE17: 75.2 | BF17: 77 | BG17: 77.9 | BH17: 80.2 | BJ17: 8 | BK17: 8.8 | BL17: 9.2 | BM17: 9.9 | BN17: 10.6 | BO17: 11.1 | BP17: 12.1 | BR17: 7.3 | BS17: 8.1 | BT17: 8.4 | BU17: 9.2 | BV17: 10 | BW17: 10.4 | BX17: 11.6 | BZ17: 43.9 | CA17: 45 | CB17: 45.5 | CC17: 46.3 | CD17: 47.2 | CE17: 47.7 | CF17: 48.8 | CH17: 42.6 | CI17: 42.9 | CJ17: 43.8 | CK17: 44.3 | CL17: 45.2 | CM17: 46.1 | CN17: 46.6 | CO17: 47.4 | CP17: 47.7
A18: 14 | C18: =IF(C2,IF(B1,AT18,BB18),"") -> 73.4 | D18: =IF(D2,IF(B1,AU18,BC18),"") -> 75.5 | E18: =IF(E2,IF(B1,AV18,BD18),"") -> 76.4 | F18: =IF(F2,IF(B1,AW18,BE18),"") -> 78 | G18: =IF(G2,IF(B1,AX18,BF18),"") -> 79.7 | H18: =IF(H2,IF(B1,AY18,BG18),"") -> 80.6 | I18: =IF(I2,IF(B1,AZ18,BH18),"") -> 82.7 | K18: =IF(K2,IF(B1,BJ18,BR18),"") -> 8.2 | L18: =IF(L2,IF(B1,BK18,BS18),"") -> 9 | M18: =IF(M2,IF(B1,BL18,BT18),"") -> 9.4 | N18: =IF(N2,IF(B1,BM18,BU18),"") -> 10.1 | O18: =IF(O2,IF(B1,BN18,BV18),"") -> 10.9 | P18: =IF(P2,IF(B1,BO18,BW18),"") -> 11.3 | Q18: =IF(Q2,IF(B1,BP18,BX18),"") -> 12.4 | S18: =IF(S2,IF(B1,BZ18,CH18),"") -> 44.1 | T18: =IF(T2,IF(B1,CA18,CJ18),"") -> 45.2 | U18: =IF(U2,IF(B1,CB18,CK18),"") -> 45.7 | V18: =IF(V2,IF(B1,CC18,CL18),"") -> 46.6 | W18: =IF(W2,IF(B1,CD18,CM18),"") -> 47.5 | X18: =IF(X2,IF(B1,CE18,CN18),"") -> 47.9 | Y18: =IF(Y2,IF(B1,CF18,CP18),"") -> 49 | AA18: -0.60126352 | AB18: 77.264799 | AC18: 0.038810557 | AD18: 1.490765 | AE18: 75.557854 | AF18: 0.039459832 | AG18: -0.17518447 | AH18: 10.730626 | AI18: 0.10965694 | AJ18: -0.22355869 | AK18: 9.9442261 | AL18: 0.10618308 | AM18: 0.17239389 | AN18: 46.776377 | AO18: 0.027545148 | AP18: 0.32040317 | AQ18: 45.480781 | AR18: 0.028278682 | AT18: 73.4 | AU18: 75.5 | AV18: 76.4 | AW18: 78 | AX18: 79.7 | AY18: 80.6 | AZ18: 82.7 | BB18: 71.3 | BC18: 73.6 | BD18: 74.6 | BE18: 76.4 | BF18: 78.2 | BG18: 79.2 | BH18: 81.4 | BJ18: 8.2 | BK18: 9 | BL18: 9.4 | BM18: 10.1 | BN18: 10.9 | BO18: 11.3 | BP18: 12.4 | BR18: 7.5 | BS18: 8.3 | BT18: 8.6 | BU18: 9.4 | BV18: 10.2 | BW18: 10.7 | BX18: 11.9 | BZ18: 44.1 | CA18: 45.2 | CB18: 45.7 | CC18: 46.6 | CD18: 47.5 | CE18: 47.9 | CF18: 49 | CH18: 42.9 | CI18: 43.2 | CJ18: 44 | CK18: 44.5 | CL18: 45.4 | CM18: 46.3 | CN18: 46.8 | CO18: 47.7 | CP18: 48
A19: 15 | C19: =IF(C2,IF(B1,AT19,BB19),"") -> 74.4 | D19: =IF(D2,IF(B1,AU19,BC19),"") -> 76.5 | E19: =IF(E2,IF(B1,AV19,BD19),"") -> 77.4 | F19: =IF(F2,IF(B1,AW19,BE19),"") -> 79.1 | G19: =IF(G2,IF(B1,AX19,BF19),"") -> 80.9 | H19: =IF(H2,IF(B1,AY19,BG19),"") -> 81.8 | I19: =IF(I2,IF(B1,AZ19,BH19),"") -> 83.9 | K19: =IF(K2,IF(B1,BJ19,BR19),"") -> 8.4 | L19: =IF(L2,IF(B1,BK19,BS19),"") -> 9.2 | M19: =IF(M2,IF(B1,BL19,BT19),"") -> 9.6 | N19: =IF(N2,IF(B1,BM19,BU19),"") -> 10.3 | O19: =IF(O2,IF(B1,BN19,BV19),"") -> 11.1 | P19: =IF(P2,IF(B1,BO19,BW19),"") -> 11.6 | Q19: =IF(Q2,IF(B1,BP19,BX19),"") -> 12.7 | S19: =IF(S2,IF(B1,BZ19,CH19),"") -> 44.3 | T19: =IF(T2,IF(B1,CA19,CJ19),"") -> 45.5 | U19: =IF(U2,IF(B1,CB19,CK19),"") -> 45.9 | V19: =IF(V2,IF(B1,CC19,CL19),"") -> 46.8 | W19: =IF(W2,IF(B1,CD19,CM19),"") -> 47.7 | X19: =IF(X2,IF(B1,CE19,CN19),"") -> 48.2 | Y19: =IF(Y2,IF(B1,CF19,CP19),"") -> 49.3 | AA19: -0.44680504 | AB19: 78.366223 | AC19: 0.038931784 | AD19: 1.4604583 | AE19: 76.676859 | AF19: 0.039562382 | AG19: -0.16932268 | AH19: 10.979925 | AI19: 0.10927365 | AJ19: -0.28701346 | AK19: 10.203294 | AL19: 0.10569124 | AM19: 0.20737154 | AN19: 47.030176 | AO19: 0.027544382 | AP19: 0.49080713 | AQ19: 45.743075 | AR19: 0.028280585 | AT19: 74.4 | AU19: 76.5 | AV19: 77.4 | AW19: 79.1 | AX19: 80.9 | AY19: 81.8 | AZ19: 83.9 | BB19: 72.4 | BC19: 74.7 | BD19: 75.7 | BE19: 77.5 | BF19: 79.4 | BG19: 80.3 | BH19: 82.7 | BJ19: 8.4 | BK19: 9.2 | BL19: 9.6 | BM19: 10.3 | BN19: 11.1 | BO19: 11.6 | BP19: 12.7 | BR19: 7.7 | BS19: 8.5 | BT19: 8.8 | BU19: 9.6 | BV19: 10.4 | BW19: 10.9 | BX19: 12.2 | BZ19: 44.3 | CA19: 45.5 | CB19: 45.9 | CC19: 46.8 | CD19: 47.7 | CE19: 48.2 | CF19: 49.3 | CH19: 43.1 | CI19: 43.4 | CJ19: 44.2 | CK19: 44.7 | CL19: 45.7 | CM19: 46.6 | CN19: 47.1 | CO19: 47.9 | CP19: 48.2
A20: 16 | C20: =IF(C2,IF(B1,AT20,BB20),"") -> 75.4 | D20: =IF(D2,IF(B1,AU20,BC20),"") -> 77.5 | E20: =IF(E2,IF(B1,AV20,BD20),"") -> 78.5 | F20: =IF(F2,IF(B1,AW20,BE20),"") -> 80.2 | G20: =IF(G2,IF(B1,AX20,BF20),"") -> 82 | H20: =IF(H2,IF(B1,AY20,BG20),"") -> 82.9 | I20: =IF(I2,IF(B1,AZ20,BH20),"") -> 85.1 | K20: =IF(K2,IF(B1,BJ20,BR20),"") -> 8.5 | L20: =IF(L2,IF(B1,BK20,BS20),"") -> 9.4 | M20: =IF(M2,IF(B1,BL20,BT20),"") -> 9.8 | N20: =IF(N2,IF(B1,BM20,BU20),"") -> 10.5 | O20: =IF(O2,IF(B1,BN20,BV20),"") -> 11.3 | P20: =IF(P2,IF(B1,BO20,BW20),"") -> 11.8 | Q20: =IF(Q2,IF(B1,BP20,BX20),"") -> 12.9 | S20: =IF(S2,IF(B1,BZ20,CH20),"") -> 44.5 | T20: =IF(T2,IF(B1,CA20,CJ20),"") -> 45.6 | U20: =IF(U2,IF(B1,CB20,CK20),"") -> 46.1 | V20: =IF(V2,IF(B1,CC20,CL20),"") -> 47 | W20: =IF(W2,IF(B1,CD20,CM20),"") -> 47.9 | X20: =IF(X2,IF(B1,CE20,CN20),"") -> 48.4 | Y20: =IF(Y2,IF(B1,CF20,CP20),"") -> 49.5 | AA20: -0.29197477 | AB20: 79.42734 | AC20: 0.039063356 | AD20: 1.426006 | AE20: 77.75701 | AF20: 0.039674542 | AG20: -0.1631139 | AH20: 11.209555 | AI20: 0.10895596 | AJ20: -0.34699919 | AK20: 10.445406 | AL20: 0.10534963 | AM20: 0.27022613 | AN20: 47.262953 | AO20: 0.027590417 | AP20: 0.65193505 | AQ20: 45.984869 | AR20: 0.028314363 | AT20: 75.4 | AU20: 77.5 | AV20: 78.5 | AW20: 80.2 | AX20: 82 | AY20: 82.9 | AZ20: 85.1 | BB20: 73.3 | BC20: 75.7 | BD20: 76.7 | BE20: 78.6 | BF20: 80.5 | BG20: 81.5 | BH20: 83.9 | BJ20: 8.5 | BK20: 9.4 | BL20: 9.8 | BM20: 10.5 | BN20: 11.3 | BO20: 11.8 | BP20: 12.9 | BR20: 7.8 | BS20: 8.7 | BT20: 9 | BU20: 9.8 | BV20: 10.7 | BW20: 11.2 | BX20: 12.5 | BZ20: 44.5 | CA20: 45.6 | CB20: 46.1 | CC20: 47 | CD20: 47.9 | CE20: 48.4 | CF20: 49.5 | CH20: 43.3 | CI20: 43.6 | CJ20: 44.4 | CK20: 44.9 | CL20: 45.9 | CM20: 46.8 | CN20: 47.3 | CO20: 48.1 | CP20: 48.5
A21: 17 | C21: =IF(C2,IF(B1,AT21,BB21),"") -> 76.3 | D21: =IF(D2,IF(B1,AU21,BC21),"") -> 78.5 | E21: =IF(E2,IF(B1,AV21,BD21),"") -> 79.5 | F21: =IF(F2,IF(B1,AW21,BE21),"") -> 81.2 | G21: =IF(G2,IF(B1,AX21,BF21),"") -> 83 | H21: =IF(H2,IF(B1,AY21,BG21),"") -> 84 | I21: =IF(I2,IF(B1,AZ21,BH21),"") -> 86.2 | K21: =IF(K2,IF(B1,BJ21,BR21),"") -> 8.7 | L21: =IF(L2,IF(B1,BK21,BS21),"") -> 9.6 | M21: =IF(M2,IF(B1,BL21,BT21),"") -> 10 | N21: =IF(N2,IF(B1,BM21,BU21),"") -> 10.7 | O21: =IF(O2,IF(B1,BN21,BV21),"") -> 11.6 | P21: =IF(P2,IF(B1,BO21,BW21),"") -> 12 | Q21: =IF(Q2,IF(B1,BP21,BX21),"") -> 13.2 | S21: =IF(S2,IF(B1,BZ21,CH21),"") -> 44.7 | T21: =IF(T2,IF(B1,CA21,CJ21),"") -> 45.8 | U21: =IF(U2,IF(B1,CB21,CK21),"") -> 46.3 | V21: =IF(V2,IF(B1,CC21,CL21),"") -> 47.2 | W21: =IF(W2,IF(B1,CD21,CM21),"") -> 48.1 | X21: =IF(X2,IF(B1,CE21,CN21),"") -> 48.6 | Y21: =IF(Y2,IF(B1,CF21,CP21),"") -> 49.7 | AA21: -0.13784767 | AB21: 80.452095 | AC21: 0.039202382 | AD21: 1.3885071 | AE21: 78.801984 | AF21: 0.03979401 | AG21: -0.15770999 | AH21: 11.422068 | AI21: 0.10869468 | AJ21: -0.40368918 | AK21: 10.672507 | AL21: 0.10514975 | AM21: 0.35575727 | AN21: 47.47721 | AO21: 0.02767598 | AP21: 0.80371809 | AQ21: 46.208576 | AR21: 0.028375159 | AT21: 76.3 | AU21: 78.5 | AV21: 79.5 | AW21: 81.2 | AX21: 83 | AY21: 84 | AZ21: 86.2 | BB21: 74.3 | BC21: 76.7 | BD21: 77.7 | BE21: 79.7 | BF21: 81.6 | BG21: 82.6 | BH21: 85 | BJ21: 8.7 | BK21: 9.6 | BL21: 10 | BM21: 10.7 | BN21: 11.6 | BO21: 12 | BP21: 13.2 | BR21: 8 | BS21: 8.8 | BT21: 9.2 | BU21: 10 | BV21: 10.9 | BW21: 11.4 | BX21: 12.7 | BZ21: 44.7 | CA21: 45.8 | CB21: 46.3 | CC21: 47.2 | CD21: 48.1 | CE21: 48.6 | CF21: 49.7 | CH21: 43.5 | CI21: 43.8 | CJ21: 44.6 | CK21: 45.1 | CL21: 46.1 | CM21: 47 | CN21: 47.5 | CO21: 48.3 | CP21: 48.7
A22: 18 | C22: =IF(C2,IF(B1,AT22,BB22),"") -> 77.2 | D22: =IF(D2,IF(B1,AU22,BC22),"") -> 79.5 | E22: =IF(E2,IF(B1,AV22,BD22),"") -> 80.4 | F22: =IF(F2,IF(B1,AW22,BE22),"") -> 82.3 | G22: =IF(G2,IF(B1,AX22,BF22),"") -> 84.1 | H22: =IF(H2,IF(B1,AY22,BG22),"") -> 85.1 | I22: =IF(I2,IF(B1,AZ22,BH22),"") -> 87.3 | K22: =IF(K2,IF(B1,BJ22,BR22),"") -> 8.9 | L22: =IF(L2,IF(B1,BK22,BS22),"") -> 9.7 | M22: =IF(M2,IF(B1,BL22,BT22),"") -> 10.1 | N22: =IF(N2,IF(B1,BM22,BU22),"") -> 10.9 | O22: =IF(O2,IF(B1,BN22,BV22),"") -> 11.8 | P22: =IF(P2,IF(B1,BO22,BW22),"") -> 12.3 | Q22: =IF(Q2,IF(B1,BP22,BX22),"") -> 13.5 | S22: =IF(S2,IF(B1,BZ22,CH22),"") -> 44.9 | T22: =IF(T2,IF(B1,CA22,CJ22),"") -> 46 | U22: =IF(U2,IF(B1,CB22,CK22),"") -> 46.5 | V22: =IF(V2,IF(B1,CC22,CL22),"") -> 47.4 | W22: =IF(W2,IF(B1,CD22,CM22),"") -> 48.3 | X22: =IF(X2,IF(B1,CE22,CN22),"") -> 48.7 | Y22: =IF(Y2,IF(B1,CF22,CP22),"") -> 49.9 | AA22: 0.014776155 | AB22: 81.443836 | AC22: 0.039346629 | AD22: 1.3488181 | AE22: 79.814919 | AF22: 0.039918994 | AG22: -0.15402279 | AH22: 11.619777 | AI22: 0.10848332 | AJ22: -0.45721877 | AK22: 10.886386 | AL22: 0.10508367 | AM22: 0.45940763 | AN22: 47.675038 | AO22: 0.027795115 | AP22: 0.94625968 | AQ22: 46.416216 | AR22: 0.028459033 | AT22: 77.2 | AU22: 79.5 | AV22: 80.4 | AW22: 82.3 | AX22: 84.1 | AY22: 85.1 | AZ22: 87.3 | BB22: 75.2 | BC22: 77.7 | BD22: 78.7 | BE22: 80.7 | BF22: 82.7 | BG22: 83.7 | BH22: 86.2 | BJ22: 8.9 | BK22: 9.7 | BL22: 10.1 | BM22: 10.9 | BN22: 11.8 | BO22: 12.3 | BP22: 13.5 | BR22: 8.2 | BS22: 9 | BT22: 9.4 | BU22: 10.2 | BV22: 11.1 | BW22: 11.6 | BX22: 13 | BZ22: 44.9 | CA22: 46 | CB22: 46.5 | CC22: 47.4 | CD22: 48.3 | CE22: 48.7 | CF22: 49.9 | CH22: 43.6 | CI22: 44 | CJ22: 44.8 | CK22: 45.3 | CL22: 46.2 | CM22: 47.2 | CN22: 47.7 | CO22: 48.5 | CP22: 48.8
A23: 19 | C23: =IF(C2,IF(B1,AT23,BB23),"") -> 78.1 | D23: =IF(D2,IF(B1,AU23,BC23),"") -> 80.4 | E23: =IF(E2,IF(B1,AV23,BD23),"") -> 81.4 | F23: =IF(F2,IF(B1,AW23,BE23),"") -> 83.2 | G23: =IF(G2,IF(B1,AX23,BF23),"") -> 85.1 | H23: =IF(H2,IF(B1,AY23,BG23),"") -> 86.1 | I23: =IF(I2,IF(B1,AZ23,BH23),"") -> 88.4 | K23: =IF(K2,IF(B1,BJ23,BR23),"") -> 9 | L23: =IF(L2,IF(B1,BK23,BS23),"") -> 9.9 | M23: =IF(M2,IF(B1,BL23,BT23),"") -> 10.3 | N23: =IF(N2,IF(B1,BM23,BU23),"") -> 11.1 | O23: =IF(O2,IF(B1,BN23,BV23),"") -> 12 | P23: =IF(P2,IF(B1,BO23,BW23),"") -> 12.5 | Q23: =IF(Q2,IF(B1,BP23,BX23),"") -> 13.7 | S23: =IF(S2,IF(B1,BZ23,CH23),"") -> 45 | T23: =IF(T2,IF(B1,CA23,CJ23),"") -> 46.2 | U23: =IF(U2,IF(B1,CB23,CK23),"") -> 46.6 | V23: =IF(V2,IF(B1,CC23,CL23),"") -> 47.5 | W23: =IF(W2,IF(B1,CD23,CM23),"") -> 48.4 | X23: =IF(X2,IF(B1,CE23,CN23),"") -> 48.9 | Y23: =IF(Y2,IF(B1,CF23,CP23),"") -> 50 | AA23: 0.16530417 | AB23: 82.405436 | AC23: 0.039494365 | AD23: 1.3076097 | AE23: 80.798515 | AF23: 0.040048084 | AG23: -0.15276214 | AH23: 11.804779 | AI23: 0.10831742 | AJ23: -0.50770077 | AK23: 11.088682 | AL23: 0.10514375 | AM23: 0.57722761 | AN23: 47.858206 | AO23: 0.0279429 | AP23: 1.079785 | AQ23: 46.609501 | AR23: 0.028562759 | AT23: 78.1 | AU23: 80.4 | AV23: 81.4 | AW23: 83.2 | AX23: 85.1 | AY23: 86.1 | AZ23: 88.4 | BB23: 76.2 | BC23: 78.7 | BD23: 79.7 | BE23: 81.7 | BF23: 83.7 | BG23: 84.8 | BH23: 87.3 | BJ23: 9 | BK23: 9.9 | BL23: 10.3 | BM23: 11.1 | BN23: 12 | BO23: 12.5 | BP23: 13.7 | BR23: 8.3 | BS23: 9.2 | BT23: 9.6 | BU23: 10.4 | BV23: 11.4 | BW23: 11.9 | BX23: 13.3 | BZ23: 45 | CA23: 46.2 | CB23: 46.6 | CC23: 47.5 | CD23: 48.4 | CE23: 48.9 | CF23: 50 | CH23: 43.8 | CI23: 44.1 | CJ23: 45 | CK23: 45.5 | CL23: 46.4 | CM23: 47.3 | CN23: 47.8 | CO23: 48.7 | CP23: 49
A24: 20 | C24: =IF(C2,IF(B1,AT24,BB24),"") -> 78.9 | D24: =IF(D2,IF(B1,AU24,BC24),"") -> 81.3 | E24: =IF(E2,IF(B1,AV24,BD24),"") -> 82.3 | F24: =IF(F2,IF(B1,AW24,BE24),"") -> 84.2 | G24: =IF(G2,IF(B1,AX24,BF24),"") -> 86.1 | H24: =IF(H2,IF(B1,AY24,BG24),"") -> 87.1 | I24: =IF(I2,IF(B1,AZ24,BH24),"") -> 89.5 | K24: =IF(K2,IF(B1,BJ24,BR24),"") -> 9.2 | L24: =IF(L2,IF(B1,BK24,BS24),"") -> 10.1 | M24: =IF(M2,IF(B1,BL24,BT24),"") -> 10.5 | N24: =IF(N2,IF(B1,BM24,BU24),"") -> 11.3 | O24: =IF(O2,IF(B1,BN24,BV24),"") -> 12.2 | P24: =IF(P2,IF(B1,BO24,BW24),"") -> 12.7 | Q24: =IF(Q2,IF(B1,BP24,BX24),"") -> 14 | S24: =IF(S2,IF(B1,BZ24,CH24),"") -> 45.2 | T24: =IF(T2,IF(B1,CA24,CJ24),"") -> 46.3 | U24: =IF(U2,IF(B1,CB24,CK24),"") -> 46.8 | V24: =IF(V2,IF(B1,CC24,CL24),"") -> 47.7 | W24: =IF(W2,IF(B1,CD24,CM24),"") -> 48.6 | X24: =IF(X2,IF(B1,CE24,CN24),"") -> 49.1 | Y24: =IF(Y2,IF(B1,CF24,CP24),"") -> 50.2 | AA24: 0.31330181 | AB24: 83.339381 | AC24: 0.039644238 | AD24: 1.2654081 | AE24: 81.755121 | AF24: 0.040180162 | AG24: -0.15446658 | AH24: 11.978966 | AI24: 0.10819394 | AJ24: -0.55523599 | AK24: 11.280895 | AL24: 0.10532258 | AM24: 0.70582678 | AN24: 48.028219 | AO24: 0.028115241 | AP24: 1.2046027 | AQ24: 46.789887 | AR24: 0.028683666 | AT24: 78.9 | AU24: 81.3 | AV24: 82.3 | AW24: 84.2 | AX24: 86.1 | AY24: 87.1 | AZ24: 89.5 | BB24: 77 | BC24: 79.6 | BD24: 80.7 | BE24: 82.7 | BF24: 84.7 | BG24: 85.8 | BH24: 88.4 | BJ24: 9.2 | BK24: 10.1 | BL24: 10.5 | BM24: 11.3 | BN24: 12.2 | BO24: 12.7 | BP24: 14 | BR24: 8.5 | BS24: 9.4 | BT24: 9.8 | BU24: 10.6 | BV24: 11.6 | BW24: 12.1 | BX24: 13.5 | BZ24: 45.2 | CA24: 46.3 | CB24: 46.8 | CC24: 47.7 | CD24: 48.6 | CE24: 49.1 | CF24: 50.2 | CH24: 44 | CI24: 44.3 | CJ24: 45.1 | CK24: 45.6 | CL24: 46.6 | CM24: 47.5 | CN24: 48 | CO24: 48.9 | CP24: 49.2
A25: 21 | C25: =IF(C2,IF(B1,AT25,BB25),"") -> 79.7 | D25: =IF(D2,IF(B1,AU25,BC25),"") -> 82.2 | E25: =IF(E2,IF(B1,AV25,BD25),"") -> 83.2 | F25: =IF(F2,IF(B1,AW25,BE25),"") -> 85.1 | G25: =IF(G2,IF(B1,AX25,BF25),"") -> 87.1 | H25: =IF(H2,IF(B1,AY25,BG25),"") -> 88.1 | I25: =IF(I2,IF(B1,AZ25,BH25),"") -> 90.5 | K25: =IF(K2,IF(B1,BJ25,BR25),"") -> 9.3 | L25: =IF(L2,IF(B1,BK25,BS25),"") -> 10.3 | M25: =IF(M2,IF(B1,BL25,BT25),"") -> 10.7 | N25: =IF(N2,IF(B1,BM25,BU25),"") -> 11.5 | O25: =IF(O2,IF(B1,BN25,BV25),"") -> 12.5 | P25: =IF(P2,IF(B1,BO25,BW25),"") -> 13 | Q25: =IF(Q2,IF(B1,BP25,BX25),"") -> 14.3 | S25: =IF(S2,IF(B1,BZ25,CH25),"") -> 45.3 | T25: =IF(T2,IF(B1,CA25,CJ25),"") -> 46.4 | U25: =IF(U2,IF(B1,CB25,CK25),"") -> 46.9 | V25: =IF(V2,IF(B1,CC25,CL25),"") -> 47.8 | W25: =IF(W2,IF(B1,CD25,CM25),"") -> 48.7 | X25: =IF(X2,IF(B1,CE25,CN25),"") -> 49.2 | Y25: =IF(Y2,IF(B1,CF25,CP25),"") -> 50.4 | AA25: 0.45845547 | AB25: 84.247834 | AC25: 0.039795189 | AD25: 1.2226277 | AE25: 82.686788 | AF25: 0.04031434 | AG25: -0.15952202 | AH25: 12.144043 | AI25: 0.10811095 | AJ25: -0.59992113 | AK25: 11.464397 | AL25: 0.10561278 | AM25: 0.84231906 | AN25: 48.186369 | AO25: 0.028308707 | AP25: 1.3210763 | AQ25: 46.958629 | AR25: 0.028819525 | AT25: 79.7 | AU25: 82.2 | AV25: 83.2 | AW25: 85.1 | AX25: 87.1 | AY25: 88.1 | AZ25: 90.5 | BB25: 77.9 | BC25: 80.5 | BD25: 81.6 | BE25: 83.7 | BF25: 85.7 | BG25: 86.8 | BH25: 89.4 | BJ25: 9.3 | BK25: 10.3 | BL25: 10.7 | BM25: 11.5 | BN25: 12.5 | BO25: 13 | BP25: 14.3 | BR25: 8.7 | BS25: 9.6 | BT25: 10 | BU25: 10.9 | BV25: 11.8 | BW25: 12.4 | BX25: 13.8 | BZ25: 45.3 | CA25: 46.4 | CB25: 46.9 | CC25: 47.8 | CD25: 48.7 | CE25: 49.2 | CF25: 50.4 | CH25: 44.1 | CI25: 44.5 | CJ25: 45.3 | CK25: 45.8 | CL25: 46.7 | CM25: 47.7 | CN25: 48.2 | CO25: 49 | CP25: 49.4
A26: 22 | C26: =IF(C2,IF(B1,AT26,BB26),"") -> 80.5 | D26: =IF(D2,IF(B1,AU26,BC26),"") -> 83 | E26: =IF(E2,IF(B1,AV26,BD26),"") -> 84.1 | F26: =IF(F2,IF(B1,AW26,BE26),"") -> 86 | G26: =IF(G2,IF(B1,AX26,BF26),"") -> 88 | H26: =IF(H2,IF(B1,AY26,BG26),"") -> 89.1 | I26: =IF(I2,IF(B1,AZ26,BH26),"") -> 91.6 | K26: =IF(K2,IF(B1,BJ26,BR26),"") -> 9.5 | L26: =IF(L2,IF(B1,BK26,BS26),"") -> 10.5 | M26: =IF(M2,IF(B1,BL26,BT26),"") -> 10.9 | N26: =IF(N2,IF(B1,BM26,BU26),"") -> 11.8 | O26: =IF(O2,IF(B1,BN26,BV26),"") -> 12.7 | P26: =IF(P2,IF(B1,BO26,BW26),"") -> 13.2 | Q26: =IF(Q2,IF(B1,BP26,BX26),"") -> 14.5 | S26: =IF(S2,IF(B1,BZ26,CH26),"") -> 45.4 | T26: =IF(T2,IF(B1,CA26,CJ26),"") -> 46.6 | U26: =IF(U2,IF(B1,CB26,CK26),"") -> 47.1 | V26: =IF(V2,IF(B1,CC26,CL26),"") -> 48 | W26: =IF(W2,IF(B1,CD26,CM26),"") -> 48.9 | X26: =IF(X2,IF(B1,CE26,CN26),"") -> 49.4 | Y26: =IF(Y2,IF(B1,CF26,CP26),"") -> 50.5 | AA26: 0.60054463 | AB26: 85.132697 | AC26: 0.039946388 | AD26: 1.1795944 | AE26: 83.595325 | AF26: 0.040449904 | AG26: -0.16817926 | AH26: 12.301541 | AI26: 0.10806724 | AJ26: -0.64185418 | AK26: 11.640434 | AL26: 0.10600703 | AM26: 0.98426683 | AN26: 48.333773 | AO26: 0.028520407 | AP26: 1.4296026 | AQ26: 47.11681 | AR26: 0.028968459 | AT26: 80.5 | AU26: 83 | AV26: 84.1 | AW26: 86 | AX26: 88 | AY26: 89.1 | AZ26: 91.6 | BB26: 78.7 | BC26: 81.4 | BD26: 82.5 | BE26: 84.6 | BF26: 86.7 | BG26: 87.8 | BH26: 90.5 | BJ26: 9.5 | BK26: 10.5 | BL26: 10.9 | BM26: 11.8 | BN26: 12.7 | BO26: 13.2 | BP26: 14.5 | BR26: 8.8 | BS26: 9.8 | BT26: 10.2 | BU26: 11.1 | BV26: 12 | BW26: 12.6 | BX26: 14.1 | BZ26: 45.4 | CA26: 46.6 | CB26: 47.1 | CC26: 48 | CD26: 48.9 | CE26: 49.4 | CF26: 50.5 | CH26: 44.3 | CI26: 44.6 | CJ26: 45.4 | CK26: 46 | CL26: 46.9 | CM26: 47.8 | CN26: 48.3 | CO26: 49.2 | CP26: 49.5
A27: 23 | C27: =IF(C2,IF(B1,AT27,BB27),"") -> 81.3 | D27: =IF(D2,IF(B1,AU27,BC27),"") -> 83.8 | E27: =IF(E2,IF(B1,AV27,BD27),"") -> 84.9 | F27: =IF(F2,IF(B1,AW27,BE27),"") -> 86.9 | G27: =IF(G2,IF(B1,AX27,BF27),"") -> 89 | H27: =IF(H2,IF(B1,AY27,BG27),"") -> 90 | I27: =IF(I2,IF(B1,AZ27,BH27),"") -> 92.6 | K27: =IF(K2,IF(B1,BJ27,BR27),"") -> 9.7 | L27: =IF(L2,IF(B1,BK27,BS27),"") -> 10.6 | M27: =IF(M2,IF(B1,BL27,BT27),"") -> 11.1 | N27: =IF(N2,IF(B1,BM27,BU27),"") -> 12 | O27: =IF(O2,IF(B1,BN27,BV27),"") -> 12.9 | P27: =IF(P2,IF(B1,BO27,BW27),"") -> 13.4 | Q27: =IF(Q2,IF(B1,BP27,BX27),"") -> 14.8 | S27: =IF(S2,IF(B1,BZ27,CH27),"") -> 45.6 | T27: =IF(T2,IF(B1,CA27,CJ27),"") -> 46.7 | U27: =IF(U2,IF(B1,CB27,CK27),"") -> 47.2 | V27: =IF(V2,IF(B1,CC27,CL27),"") -> 48.1 | W27: =IF(W2,IF(B1,CD27,CM27),"") -> 49 | X27: =IF(X2,IF(B1,CE27,CN27),"") -> 49.5 | Y27: =IF(Y2,IF(B1,CF27,CP27),"") -> 50.7 | AA27: 0.73943895 | AB27: 85.995649 | AC27: 0.040097181 | AD27: 1.1365644 | AE27: 84.482332 | AF27: 0.040586283 | AG27: -0.1805668 | AH27: 12.45283 | AI27: 0.10806208 | AJ27: -0.6811381 | AK27: 11.810139 | AL27: 0.10649796 | AM27: 1.1296267 | AN27: 48.471404 | AO27: 0.028747896 | AP27: 1.5305957 | AQ27: 47.265377 | AR27: 0.029128879 | AT27: 81.3 | AU27: 83.8 | AV27: 84.9 | AW27: 86.9 | AX27: 89 | AY27: 90 | AZ27: 92.6 | BB27: 79.6 | BC27: 82.2 | BD27: 83.4 | BE27: 85.5 | BF27: 87.7 | BG27: 88.8 | BH27: 91.5 | BJ27: 9.7 | BK27: 10.6 | BL27: 11.1 | BM27: 12 | BN27: 12.9 | BO27: 13.4 | BP27: 14.8 | BR27: 9 | BS27: 9.9 | BT27: 10.4 | BU27: 11.3 | BV27: 12.3 | BW27: 12.8 | BX27: 14.3 | BZ27: 45.6 | CA27: 46.7 | CB27: 47.2 | CC27: 48.1 | CD27: 49 | CE27: 49.5 | CF27: 50.7 | CH27: 44.4 | CI27: 44.7 | CJ27: 45.6 | CK27: 46.1 | CL27: 47 | CM27: 48 | CN27: 48.5 | CO27: 49.3 | CP27: 49.7
A28: 24 | C28: =IF(C2,IF(B1,AT28,BB28),"") -> 82.1 | D28: =IF(D2,IF(B1,AU28,BC28),"") -> 84.6 | E28: =IF(E2,IF(B1,AV28,BD28),"") -> 85.8 | F28: =IF(F2,IF(B1,AW28,BE28),"") -> 87.8 | G28: =IF(G2,IF(B1,AX28,BF28),"") -> 89.9 | H28: =IF(H2,IF(B1,AY28,BG28),"") -> 91 | I28: =IF(I2,IF(B1,AZ28,BH28),"") -> 93.6 | K28: =IF(K2,IF(B1,BJ28,BR28),"") -> 9.8 | L28: =IF(L2,IF(B1,BK28,BS28),"") -> 10.8 | M28: =IF(M2,IF(B1,BL28,BT28),"") -> 11.3 | N28: =IF(N2,IF(B1,BM28,BU28),"") -> 12.2 | O28: =IF(O2,IF(B1,BN28,BV28),"") -> 13.1 | P28: =IF(P2,IF(B1,BO28,BW28),"") -> 13.7 | Q28: =IF(Q2,IF(B1,BP28,BX28),"") -> 15.1 | S28: =IF(S2,IF(B1,BZ28,CH28),"") -> 45.7 | T28: =IF(T2,IF(B1,CA28,CJ28),"") -> 46.8 | U28: =IF(U2,IF(B1,CB28,CK28),"") -> 47.3 | V28: =IF(V2,IF(B1,CC28,CL28),"") -> 48.3 | W28: =IF(W2,IF(B1,CD28,CM28),"") -> 49.2 | X28: =IF(X2,IF(B1,CE28,CN28),"") -> 49.7 | Y28: =IF(Y2,IF(B1,CF28,CP28),"") -> 50.8 | AA28: 0.87500045 | AB28: 86.838175 | AC28: 0.04024706 | AD28: 1.0937319 | AE28: 85.349236 | AF28: 0.040723015 | AG28: -0.19670196 | AH28: 12.599135 | AI28: 0.10809508 | AJ28: -0.71788283 | AK28: 11.974537 | AL28: 0.1070782 | AM28: 1.2766912 | AN28: 48.600112 | AO28: 0.028989089 | AP28: 1.6244753 | AQ28: 47.405156 | AR28: 0.029299426 | AT28: 82.1 | AU28: 84.6 | AV28: 85.8 | AW28: 87.8 | AX28: 89.9 | AY28: 91 | AZ28: 93.6 | BB28: 80.3 | BC28: 83.1 | BD28: 84.4 | BE28: 86.4 | BF28: 88.6 | BG28: 89.8 | BH28: 92.5 | BJ28: 9.8 | BK28: 10.8 | BL28: 11.3 | BM28: 12.2 | BN28: 13.1 | BO28: 13.7 | BP28: 15.1 | BR28: 9.2 | BS28: 10.1 | BT28: 10.6 | BU28: 11.5 | BV28: 12.5 | BW28: 13.1 | BX28: 14.6 | BZ28: 45.7 | CA28: 46.8 | CB28: 47.3 | CC28: 48.3 | CD28: 49.2 | CE28: 49.7 | CF28: 50.8 | CH28: 44.6 | CI28: 44.9 | CJ28: 45.7 | CK28: 46.2 | CL28: 47.2 | CM28: 48.1 | CN28: 48.6 | CO28: 49.5 | CP28: 49.8
A29: 25 | C29: =IF(C2,IF(B1,AT29,BB29),"") -> 82.1 | D29: =IF(D2,IF(B1,AU29,BC29),"") -> 84.7 | E29: =IF(E2,IF(B1,AV29,BD29),"") -> 85.9 | F29: =IF(F2,IF(B1,AW29,BE29),"") -> 88 | G29: =IF(G2,IF(B1,AX29,BF29),"") -> 90.1 | H29: =IF(H2,IF(B1,AY29,BG29),"") -> 91.2 | I29: =IF(I2,IF(B1,AZ29,BH29),"") -> 93.8 | K29: =IF(K2,IF(B1,BJ29,BR29),"") -> 10 | L29: =IF(L2,IF(B1,BK29,BS29),"") -> 11 | M29: =IF(M2,IF(B1,BL29,BT29),"") -> 11.4 | N29: =IF(N2,IF(B1,BM29,BU29),"") -> 12.4 | O29: =IF(O2,IF(B1,BN29,BV29),"") -> 13.3 | P29: =IF(P2,IF(B1,BO29,BW29),"") -> 13.9 | Q29: =IF(Q2,IF(B1,BP29,BX29),"") -> 15.3 | S29: =IF(S2,IF(B1,BZ29,CH29),"") -> 45.8 | T29: =IF(T2,IF(B1,CA29,CJ29),"") -> 47 | U29: =IF(U2,IF(B1,CB29,CK29),"") -> 47.5 | V29: =IF(V2,IF(B1,CC29,CL29),"") -> 48.4 | W29: =IF(W2,IF(B1,CD29,CM29),"") -> 49.3 | X29: =IF(X2,IF(B1,CE29,CN29),"") -> 49.8 | Y29: =IF(Y2,IF(B1,CF29,CP29),"") -> 50.9 | AA29: 1.0072081 | AB29: 87.661609 | AC29: 0.040395626 | AD29: 1.0512729 | AE29: 86.197317 | AF29: 0.040859727 | AG29: -0.21650121 | AH29: 12.741544 | AI29: 0.108166 | AJ29: -0.75220617 | AK29: 12.134555 | AL29: 0.10774035 | AM29: 1.4240849 | AN29: 48.720646 | AO29: 0.029242207 | AP29: 1.711658 | AQ29: 47.536876 | AR29: 0.029478937 | AT29: 82.1 | AU29: 84.7 | AV29: 85.9 | AW29: 88 | AX29: 90.1 | AY29: 91.2 | AZ29: 93.8 | BB29: 80.4 | BC29: 83.2 | BD29: 84.4 | BE29: 86.6 | BF29: 88.8 | BG29: 90 | BH29: 92.8 | BJ29: 10 | BK29: 11 | BL29: 11.4 | BM29: 12.4 | BN29: 13.3 | BO29: 13.9 | BP29: 15.3 | BR29: 9.3 | BS29: 10.3 | BT29: 10.8 | BU29: 11.7 | BV29: 12.7 | BW29: 13.3 | BX29: 14.9 | BZ29: 45.8 | CA29: 47 | CB29: 47.5 | CC29: 48.4 | CD29: 49.3 | CE29: 49.8 | CF29: 50.9 | CH29: 44.7 | CI29: 45 | CJ29: 45.9 | CK29: 46.4 | CL29: 47.3 | CM29: 48.3 | CN29: 48.8 | CO29: 49.6 | CP29: 49.9
A30: 26 | C30: =IF(C2,IF(B1,AT30,BB30),"") -> 82.8 | D30: =IF(D2,IF(B1,AU30,BC30),"") -> 85.5 | E30: =IF(E2,IF(B1,AV30,BD30),"") -> 86.7 | F30: =IF(F2,IF(B1,AW30,BE30),"") -> 88.8 | G30: =IF(G2,IF(B1,AX30,BF30),"") -> 90.9 | H30: =IF(H2,IF(B1,AY30,BG30),"") -> 92.1 | I30: =IF(I2,IF(B1,AZ30,BH30),"") -> 94.8 | K30: =IF(K2,IF(B1,BJ30,BR30),"") -> 10.1 | L30: =IF(L2,IF(B1,BK30,BS30),"") -> 11.1 | M30: =IF(M2,IF(B1,BL30,BT30),"") -> 11.6 | N30: =IF(N2,IF(B1,BM30,BU30),"") -> 12.5 | O30: =IF(O2,IF(B1,BN30,BV30),"") -> 13.6 | P30: =IF(P2,IF(B1,BO30,BW30),"") -> 14.1 | Q30: =IF(Q2,IF(B1,BP30,BX30),"") -> 15.6 | S30: =IF(S2,IF(B1,BZ30,CH30),"") -> 45.9 | T30: =IF(T2,IF(B1,CA30,CJ30),"") -> 47.1 | U30: =IF(U2,IF(B1,CB30,CK30),"") -> 47.6 | V30: =IF(V2,IF(B1,CC30,CL30),"") -> 48.5 | W30: =IF(W2,IF(B1,CD30,CM30),"") -> 49.4 | X30: =IF(X2,IF(B1,CE30,CN30),"") -> 49.9 | Y30: =IF(Y2,IF(B1,CF30,CP30),"") -> 51.1 | AA30: 0.83725135 | AB30: 88.452473 | AC30: 0.040577525 | AD30: 1.0419512 | AE30: 87.090263 | AF30: 0.041142161 | AG30: -0.23979048 | AH30: 12.881023 | AI30: 0.1082747 | AJ30: -0.78423359 | AK30: 12.291025 | AL30: 0.10847701 | AM30: 1.5706213 | AN30: 48.833666 | AO30: 0.029505723 | AP30: 1.7925516 | AQ30: 47.661184 | AR30: 0.029666406 | AT30: 82.8 | AU30: 85.5 | AV30: 86.7 | AW30: 88.8 | AX30: 90.9 | AY30: 92.1 | AZ30: 94.8 | BB30: 81.2 | BC30: 84 | BD30: 85.2 | BE30: 87.4 | BF30: 89.7 | BG30: 90.9 | BH30: 93.7 | BJ30: 10.1 | BK30: 11.1 | BL30: 11.6 | BM30: 12.5 | BN30: 13.6 | BO30: 14.1 | BP30: 15.6 | BR30: 9.5 | BS30: 10.5 | BT30: 10.9 | BU30: 11.9 | BV30: 12.9 | BW30: 13.6 | BX30: 15.2 | BZ30: 45.9 | CA30: 47.1 | CB30: 47.6 | CC30: 48.5 | CD30: 49.4 | CE30: 49.9 | CF30: 51.1 | CH30: 44.8 | CI30: 45.2 | CJ30: 46 | CK30: 46.5 | CL30: 47.5 | CM30: 48.4 | CN30: 48.9 | CO30: 49.8 | CP30: 50.1
A31: 27 | C31: =IF(C2,IF(B1,AT31,BB31),"") -> 83.5 | D31: =IF(D2,IF(B1,AU31,BC31),"") -> 86.3 | E31: =IF(E2,IF(B1,AV31,BD31),"") -> 87.4 | F31: =IF(F2,IF(B1,AW31,BE31),"") -> 89.6 | G31: =IF(G2,IF(B1,AX31,BF31),"") -> 91.8 | H31: =IF(H2,IF(B1,AY31,BG31),"") -> 93 | I31: =IF(I2,IF(B1,AZ31,BH31),"") -> 95.7 | K31: =IF(K2,IF(B1,BJ31,BR31),"") -> 10.2 | L31: =IF(L2,IF(B1,BK31,BS31),"") -> 11.3 | M31: =IF(M2,IF(B1,BL31,BT31),"") -> 11.8 | N31: =IF(N2,IF(B1,BM31,BU31),"") -> 12.7 | O31: =IF(O2,IF(B1,BN31,BV31),"") -> 13.8 | P31: =IF(P2,IF(B1,BO31,BW31),"") -> 14.4 | Q31: =IF(Q2,IF(B1,BP31,BX31),"") -> 15.9 | S31: =IF(S2,IF(B1,BZ31,CH31),"") -> 46 | T31: =IF(T2,IF(B1,CA31,CJ31),"") -> 47.2 | U31: =IF(U2,IF(B1,CB31,CK31),"") -> 47.7 | V31: =IF(V2,IF(B1,CC31,CL31),"") -> 48.6 | W31: =IF(W2,IF(B1,CD31,CM31),"") -> 49.5 | X31: =IF(X2,IF(B1,CE31,CN31),"") -> 50 | Y31: =IF(Y2,IF(B1,CF31,CP31),"") -> 51.2 | AA31: 0.68149297 | AB31: 89.223264 | AC31: 0.040723122 | AD31: 1.0125922 | AE31: 87.957142 | AF31: 0.041349399 | AG31: -0.26631585 | AH31: 13.018424 | AI31: 0.10842102 | AJ31: -0.81409743 | AK31: 12.444692 | AL31: 0.10928082 | AM31: 1.715394 | AN31: 48.939761 | AO31: 0.029778323 | AP31: 1.8675504 | AQ31: 47.778652 | AR31: 0.02986096 | AT31: 83.5 | AU31: 86.3 | AV31: 87.4 | AW31: 89.6 | AX31: 91.8 | AY31: 93 | AZ31: 95.7 | BB31: 81.9 | BC31: 84.8 | BD31: 86 | BE31: 88.3 | BF31: 90.6 | BG31: 91.8 | BH31: 94.6 | BJ31: 10.2 | BK31: 11.3 | BL31: 11.8 | BM31: 12.7 | BN31: 13.8 | BO31: 14.4 | BP31: 15.9 | BR31: 9.6 | BS31: 10.7 | BT31: 11.1 | BU31: 12.1 | BV31: 13.2 | BW31: 13.8 | BX31: 15.4 | BZ31: 46 | CA31: 47.2 | CB31: 47.7 | CC31: 48.6 | CD31: 49.5 | CE31: 50 | CF31: 51.2 | CH31: 44.9 | CI31: 45.3 | CJ31: 46.1 | CK31: 46.6 | CL31: 47.6 | CM31: 48.5 | CN31: 49 | CO31: 49.9 | CP31: 50.2
A32: 28 | C32: =IF(C2,IF(B1,AT32,BB32),"") -> 84.2 | D32: =IF(D2,IF(B1,AU32,BC32),"") -> 87 | E32: =IF(E2,IF(B1,AV32,BD32),"") -> 88.2 | F32: =IF(F2,IF(B1,AW32,BE32),"") -> 90.4 | G32: =IF(G2,IF(B1,AX32,BF32),"") -> 92.6 | H32: =IF(H2,IF(B1,AY32,BG32),"") -> 93.8 | I32: =IF(I2,IF(B1,AZ32,BH32),"") -> 96.6 | K32: =IF(K2,IF(B1,BJ32,BR32),"") -> 10.4 | L32: =IF(L2,IF(B1,BK32,BS32),"") -> 11.5 | M32: =IF(M2,IF(B1,BL32,BT32),"") -> 12 | N32: =IF(N2,IF(B1,BM32,BU32),"") -> 12.9 | O32: =IF(O2,IF(B1,BN32,BV32),"") -> 14 | P32: =IF(P2,IF(B1,BO32,BW32),"") -> 14.6 | Q32: =IF(Q2,IF(B1,BP32,BX32),"") -> 16.1 | S32: =IF(S2,IF(B1,BZ32,CH32),"") -> 46.1 | T32: =IF(T2,IF(B1,CA32,CJ32),"") -> 47.3 | U32: =IF(U2,IF(B1,CB32,CK32),"") -> 47.8 | V32: =IF(V2,IF(B1,CC32,CL32),"") -> 48.7 | W32: =IF(W2,IF(B1,CD32,CM32),"") -> 49.7 | X32: =IF(X2,IF(B1,CE32,CN32),"") -> 50.2 | Y32: =IF(Y2,IF(B1,CF32,CP32),"") -> 51.3 | AA32: 0.53877965 | AB32: 89.975492 | AC32: 0.040833194 | AD32: 0.97054191 | AE32: 88.796018 | AF32: 0.041500428 | AG32: -0.29575496 | AH32: 13.154497 | AI32: 0.10860477 | AJ32: -0.8419355 | AK32: 12.596223 | AL32: 0.11014449 | AM32: 1.857653 | AN32: 49.039454 | AO32: 0.030058871 | AP32: 1.9370326 | AQ32: 47.889792 | AR32: 0.030061839 | AT32: 84.2 | AU32: 87 | AV32: 88.2 | AW32: 90.4 | AX32: 92.6 | AY32: 93.8 | AZ32: 96.6 | BB32: 82.6 | BC32: 85.5 | BD32: 86.8 | BE32: 89.1 | BF32: 91.4 | BG32: 92.7 | BH32: 95.6 | BJ32: 10.4 | BK32: 11.5 | BL32: 12 | BM32: 12.9 | BN32: 14 | BO32: 14.6 | BP32: 16.1 | BR32: 9.8 | BS32: 10.8 | BT32: 11.3 | BU32: 12.3 | BV32: 13.4 | BW32: 14 | BX32: 15.7 | BZ32: 46.1 | CA32: 47.3 | CB32: 47.8 | CC32: 48.7 | CD32: 49.7 | CE32: 50.2 | CF32: 51.3 | CH32: 45.1 | CI32: 45.4 | CJ32: 46.3 | CK32: 46.8 | CL32: 47.7 | CM32: 48.7 | CN32: 49.2 | CO32: 50 | CP32: 50.3
A33: 29 | C33: =IF(C2,IF(B1,AT33,BB33),"") -> 84.9 | D33: =IF(D2,IF(B1,AU33,BC33),"") -> 87.7 | E33: =IF(E2,IF(B1,AV33,BD33),"") -> 88.9 | F33: =IF(F2,IF(B1,AW33,BE33),"") -> 91.2 | G33: =IF(G2,IF(B1,AX33,BF33),"") -> 93.4 | H33: =IF(H2,IF(B1,AY33,BG33),"") -> 94.7 | I33: =IF(I2,IF(B1,AZ33,BH33),"") -> 97.5 | K33: =IF(K2,IF(B1,BJ33,BR33),"") -> 10.5 | L33: =IF(L2,IF(B1,BK33,BS33),"") -> 11.6 | M33: =IF(M2,IF(B1,BL33,BT33),"") -> 12.1 | N33: =IF(N2,IF(B1,BM33,BU33),"") -> 13.1 | O33: =IF(O2,IF(B1,BN33,BV33),"") -> 14.2 | P33: =IF(P2,IF(B1,BO33,BW33),"") -> 14.8 | Q33: =IF(Q2,IF(B1,BP33,BX33),"") -> 16.4 | S33: =IF(S2,IF(B1,BZ33,CH33),"") -> 46.2 | T33: =IF(T2,IF(B1,CA33,CJ33),"") -> 47.4 | U33: =IF(U2,IF(B1,CB33,CK33),"") -> 47.9 | V33: =IF(V2,IF(B1,CC33,CL33),"") -> 48.8 | W33: =IF(W2,IF(B1,CD33,CM33),"") -> 49.8 | X33: =IF(X2,IF(B1,CE33,CN33),"") -> 50.3 | Y33: =IF(Y2,IF(B1,CF33,CP33),"") -> 51.4 | AA33: 0.40769715 | AB33: 90.710409 | AC33: 0.040909059 | AD33: 0.92112999 | AE33: 89.605512 | AF33: 0.041610508 | AG33: -0.32772936 | AH33: 13.289897 | AI33: 0.10882568 | AJ33: -0.86788939 | AK33: 12.746209 | AL33: 0.11106081 | AM33: 1.9968106 | AN33: 49.133214 | AO33: 0.030346384 | AP33: 2.0013587 | AQ33: 47.995064 | AR33: 0.030268375 | AT33: 84.9 | AU33: 87.7 | AV33: 88.9 | AW33: 91.2 | AX33: 93.4 | AY33: 94.7 | AZ33: 97.5 | BB33: 83.4 | BC33: 86.3 | BD33: 87.6 | BE33: 89.9 | BF33: 92.2 | BG33: 93.5 | BH33: 96.4 | BJ33: 10.5 | BK33: 11.6 | BL33: 12.1 | BM33: 13.1 | BN33: 14.2 | BO33: 14.8 | BP33: 16.4 | BR33: 10 | BS33: 11 | BT33: 11.5 | BU33: 12.5 | BV33: 13.6 | BW33: 14.3 | BX33: 16 | BZ33: 46.2 | CA33: 47.4 | CB33: 47.9 | CC33: 48.8 | CD33: 49.8 | CE33: 50.3 | CF33: 51.4 | CH33: 45.2 | CI33: 45.5 | CJ33: 46.4 | CK33: 46.9 | CL33: 47.8 | CM33: 48.8 | CN33: 49.3 | CO33: 50.1 | CP33: 50.5
A34: 30 | C34: =IF(C2,IF(B1,AT34,BB34),"") -> 85.5 | D34: =IF(D2,IF(B1,AU34,BC34),"") -> 88.4 | E34: =IF(E2,IF(B1,AV34,BD34),"") -> 89.6 | F34: =IF(F2,IF(B1,AW34,BE34),"") -> 91.9 | G34: =IF(G2,IF(B1,AX34,BF34),"") -> 94.2 | H34: =IF(H2,IF(B1,AY34,BG34),"") -> 95.5 | I34: =IF(I2,IF(B1,AZ34,BH34),"") -> 98.3 | K34: =IF(K2,IF(B1,BJ34,BR34),"") -> 10.7 | L34: =IF(L2,IF(B1,BK34,BS34),"") -> 11.8 | M34: =IF(M2,IF(B1,BL34,BT34),"") -> 12.3 | N34: =IF(N2,IF(B1,BM34,BU34),"") -> 13.3 | O34: =IF(O2,IF(B1,BN34,BV34),"") -> 14.4 | P34: =IF(P2,IF(B1,BO34,BW34),"") -> 15 | Q34: =IF(Q2,IF(B1,BP34,BX34),"") -> 16.6 | S34: =IF(S2,IF(B1,BZ34,CH34),"") -> 46.3 | T34: =IF(T2,IF(B1,CA34,CJ34),"") -> 47.5 | U34: =IF(U2,IF(B1,CB34,CK34),"") -> 48 | V34: =IF(V2,IF(B1,CC34,CL34),"") -> 48.9 | W34: =IF(W2,IF(B1,CD34,CM34),"") -> 49.9 | X34: =IF(X2,IF(B1,CE34,CN34),"") -> 50.4 | Y34: =IF(Y2,IF(B1,CF34,CP34),"") -> 51.6 | AA34: 0.28676245 | AB34: 91.429078 | AC34: 0.040952433 | AD34: 0.86822139 | AE34: 90.384767 | AF34: 0.041691761 | AG34: -0.36181746 | AH34: 13.425194 | AI34: 0.10908342 | AJ34: -0.89210264 | AK34: 12.895172 | AL34: 0.11202276 | AM34: 2.1324113 | AN34: 49.221464 | AO34: 0.030640006 | AP34: 2.0608703 | AQ34: 48.09488 | AR34: 0.030479985 | AT34: 85.5 | AU34: 88.4 | AV34: 89.6 | AW34: 91.9 | AX34: 94.2 | AY34: 95.5 | AZ34: 98.3 | BB34: 84 | BC34: 87 | BD34: 88.3 | BE34: 90.7 | BF34: 93.1 | BG34: 94.3 | BH34: 97.3 | BJ34: 10.7 | BK34: 11.8 | BL34: 12.3 | BM34: 13.3 | BN34: 14.4 | BO34: 15 | BP34: 16.6 | BR34: 10.1 | BS34: 11.2 | BT34: 11.7 | BU34: 12.7 | BV34: 13.8 | BW34: 14.5 | BX34: 16.2 | BZ34: 46.3 | CA34: 47.5 | CB34: 48 | CC34: 48.9 | CD34: 49.9 | CE34: 50.4 | CF34: 51.6 | CH34: 45.3 | CI34: 45.6 | CJ34: 46.5 | CK34: 47 | CL34: 47.9 | CM34: 48.9 | CN34: 49.4 | CO34: 50.2 | CP34: 50.6
A35: 31 | C35: =IF(C2,IF(B1,AT35,BB35),"") -> 86.2 | D35: =IF(D2,IF(B1,AU35,BC35),"") -> 89.1 | E35: =IF(E2,IF(B1,AV35,BD35),"") -> 90.3 | F35: =IF(F2,IF(B1,AW35,BE35),"") -> 92.7 | G35: =IF(G2,IF(B1,AX35,BF35),"") -> 95 | H35: =IF(H2,IF(B1,AY35,BG35),"") -> 96.2 | I35: =IF(I2,IF(B1,AZ35,BH35),"") -> 99.2 | K35: =IF(K2,IF(B1,BJ35,BR35),"") -> 10.8 | L35: =IF(L2,IF(B1,BK35,BS35),"") -> 11.9 | M35: =IF(M2,IF(B1,BL35,BT35),"") -> 12.4 | N35: =IF(N2,IF(B1,BM35,BU35),"") -> 13.5 | O35: =IF(O2,IF(B1,BN35,BV35),"") -> 14.6 | P35: =IF(P2,IF(B1,BO35,BW35),"") -> 15.2 | Q35: =IF(Q2,IF(B1,BP35,BX35),"") -> 16.9 | S35: =IF(S2,IF(B1,BZ35,CH35),"") -> 46.4 | T35: =IF(T2,IF(B1,CA35,CJ35),"") -> 47.6 | U35: =IF(U2,IF(B1,CB35,CK35),"") -> 48.1 | V35: =IF(V2,IF(B1,CC35,CL35),"") -> 49 | W35: =IF(W2,IF(B1,CD35,CM35),"") -> 50 | X35: =IF(X2,IF(B1,CE35,CN35),"") -> 50.5 | Y35: =IF(Y2,IF(B1,CF35,CP35),"") -> 51.7 | AA35: 0.17448948 | AB35: 92.132424 | AC35: 0.04096533 | AD35: 0.81454413 | AE35: 91.133417 | AF35: 0.04175368 | AG35: -0.39756808 | AH35: 13.560881 | AI35: 0.10937758 | AJ35: -0.91471881 | AK35: 13.043572 | AL35: 0.11302347 | AM35: 2.264111 | AN35: 49.304583 | AO35: 0.030938992 | AP35: 2.11589 | AQ35: 48.189614 | AR35: 0.03069615 | AT35: 86.2 | AU35: 89.1 | AV35: 90.3 | AW35: 92.7 | AX35: 95 | AY35: 96.2 | AZ35: 99.2 | BB35: 84.7 | BC35: 87.7 | BD35: 89 | BE35: 91.4 | BF35: 93.9 | BG35: 95.2 | BH35: 98.2 | BJ35: 10.8 | BK35: 11.9 | BL35: 12.4 | BM35: 13.5 | BN35: 14.6 | BO35: 15.2 | BP35: 16.9 | BR35: 10.3 | BS35: 11.3 | BT35: 11.9 | BU35: 12.9 | BV35: 14.1 | BW35: 14.7 | BX35: 16.5 | BZ35: 46.4 | CA35: 47.6 | CB35: 48.1 | CC35: 49 | CD35: 50 | CE35: 50.5 | CF35: 51.7 | CH35: 45.4 | CI35: 45.9 | CJ35: 46.6 | CK35: 47.1 | CL35: 48 | CM35: 49 | CN35: 49.5 | CO35: 50.4 | CP35: 50.7
A36: 32 | C36: =IF(C2,IF(B1,AT36,BB36),"") -> 86.8 | D36: =IF(D2,IF(B1,AU36,BC36),"") -> 89.7 | E36: =IF(E2,IF(B1,AV36,BD36),"") -> 91 | F36: =IF(F2,IF(B1,AW36,BE36),"") -> 93.4 | G36: =IF(G2,IF(B1,AX36,BF36),"") -> 95.7 | H36: =IF(H2,IF(B1,AY36,BG36),"") -> 97 | I36: =IF(I2,IF(B1,AZ36,BH36),"") -> 100 | K36: =IF(K2,IF(B1,BJ36,BR36),"") -> 10.9 | L36: =IF(L2,IF(B1,BK36,BS36),"") -> 12.1 | M36: =IF(M2,IF(B1,BL36,BT36),"") -> 12.6 | N36: =IF(N2,IF(B1,BM36,BU36),"") -> 13.7 | O36: =IF(O2,IF(B1,BN36,BV36),"") -> 14.8 | P36: =IF(P2,IF(B1,BO36,BW36),"") -> 15.5 | Q36: =IF(Q2,IF(B1,BP36,BX36),"") -> 17.1 | S36: =IF(S2,IF(B1,BZ36,CH36),"") -> 46.5 | T36: =IF(T2,IF(B1,CA36,CJ36),"") -> 47.7 | U36: =IF(U2,IF(B1,CB36,CK36),"") -> 48.2 | V36: =IF(V2,IF(B1,CC36,CL36),"") -> 49.1 | W36: =IF(W2,IF(B1,CD36,CM36),"") -> 50.1 | X36: =IF(X2,IF(B1,CE36,CN36),"") -> 50.6 | Y36: =IF(Y2,IF(B1,CF36,CP36),"") -> 51.8 | AA36: 0.069444521 | AB36: 92.821272 | AC36: 0.040949976 | AD36: 0.76195798 | AE36: 91.851544 | AF36: 0.041803562 | AG36: -0.43452025 | AH36: 13.697379 | AI36: 0.10970765 | AJ36: -0.93587966 | AK36: 13.191808 | AL36: 0.11405632 | AM36: 2.3916581 | AN36: 49.382917 | AO36: 0.031242693 | AP36: 2.1667211 | AQ36: 48.279601 | AR36: 0.030916413 | AT36: 86.8 | AU36: 89.7 | AV36: 91 | AW36: 93.4 | AX36: 95.7 | AY36: 97 | AZ36: 100 | BB36: 85.4 | BC36: 88.4 | BD36: 89.7 | BE36: 92.2 | BF36: 94.6 | BG36: 95.9 | BH36: 99 | BJ36: 10.9 | BK36: 12.1 | BL36: 12.6 | BM36: 13.7 | BN36: 14.8 | BO36: 15.5 | BP36: 17.1 | BR36: 10.4 | BS36: 11.5 | BT36: 12 | BU36: 13.1 | BV36: 14.3 | BW36: 15 | BX36: 16.8 | BZ36: 46.5 | CA36: 47.7 | CB36: 48.2 | CC36: 49.1 | CD36: 50.1 | CE36: 50.6 | CF36: 51.8 | CH36: 45.5 | CI36: 45.8 | CJ36: 46.7 | CK36: 47.2 | CL36: 48.1 | CM36: 49.1 | CN36: 49.6 | CO36: 50.5 | CP36: 50.8
A37: 33 | C37: =IF(C2,IF(B1,AT37,BB37),"") -> 87.4 | D37: =IF(D2,IF(B1,AU37,BC37),"") -> 90.4 | E37: =IF(E2,IF(B1,AV37,BD37),"") -> 91.7 | F37: =IF(F2,IF(B1,AW37,BE37),"") -> 94.1 | G37: =IF(G2,IF(B1,AX37,BF37),"") -> 96.5 | H37: =IF(H2,IF(B1,AY37,BG37),"") -> 97.8 | I37: =IF(I2,IF(B1,AZ37,BH37),"") -> 100.8 | K37: =IF(K2,IF(B1,BJ37,BR37),"") -> 11.1 | L37: =IF(L2,IF(B1,BK37,BS37),"") -> 12.2 | M37: =IF(M2,IF(B1,BL37,BT37),"") -> 12.8 | N37: =IF(N2,IF(B1,BM37,BU37),"") -> 13.8 | O37: =IF(O2,IF(B1,BN37,BV37),"") -> 15 | P37: =IF(P2,IF(B1,BO37,BW37),"") -> 15.7 | Q37: =IF(Q2,IF(B1,BP37,BX37),"") -> 17.3 | S37: =IF(S2,IF(B1,BZ37,CH37),"") -> 46.6 | T37: =IF(T2,IF(B1,CA37,CJ37),"") -> 47.8 | U37: =IF(U2,IF(B1,CB37,CK37),"") -> 48.3 | V37: =IF(V2,IF(B1,CC37,CL37),"") -> 49.2 | W37: =IF(W2,IF(B1,CD37,CM37),"") -> 50.2 | X37: =IF(X2,IF(B1,CE37,CN37),"") -> 50.7 | Y37: =IF(Y2,IF(B1,CF37,CP37),"") -> 51.9 | AA37: -0.029720564 | AB37: 93.496379 | AC37: 0.040908737 | AD37: 0.71166023 | AE37: 92.539635 | AF37: 0.041846882 | AG37: -0.47218875 | AH37: 13.835046 | AI37: 0.11007308 | AJ37: -0.95572344 | AK37: 13.340229 | AL37: 0.11511495 | AM37: 2.5148782 | AN37: 49.456776 | AO37: 0.031550537 | AP37: 2.2136484 | AQ37: 48.365149 | AR37: 0.031140368 | AT37: 87.4 | AU37: 90.4 | AV37: 91.7 | AW37: 94.1 | AX37: 96.5 | AY37: 97.8 | AZ37: 100.8 | BB37: 86 | BC37: 89.1 | BD37: 90.4 | BE37: 92.9 | BF37: 95.4 | BG37: 96.7 | BH37: 99.8 | BJ37: 11.1 | BK37: 12.2 | BL37: 12.8 | BM37: 13.8 | BN37: 15 | BO37: 15.7 | BP37: 17.3 | BR37: 10.5 | BS37: 11.7 | BT37: 12.2 | BU37: 13.3 | BV37: 14.5 | BW37: 15.2 | BX37: 17 | BZ37: 46.6 | CA37: 47.8 | CB37: 48.3 | CC37: 49.2 | CD37: 50.2 | CE37: 50.7 | CF37: 51.9 | CH37: 45.6 | CI37: 45.9 | CJ37: 46.8 | CK37: 47.3 | CL37: 48.2 | CM37: 49.2 | CN37: 49.7 | CO37: 50.6 | CP37: 50.9
A38: 34 | C38: =IF(C2,IF(B1,AT38,BB38),"") -> 88 | D38: =IF(D2,IF(B1,AU38,BC38),"") -> 91 | E38: =IF(E2,IF(B1,AV38,BD38),"") -> 92.3 | F38: =IF(F2,IF(B1,AW38,BE38),"") -> 94.8 | G38: =IF(G2,IF(B1,AX38,BF38),"") -> 97.2 | H38: =IF(H2,IF(B1,AY38,BG38),"") -> 98.5 | I38: =IF(I2,IF(B1,AZ38,BH38),"") -> 101.5 | K38: =IF(K2,IF(B1,BJ38,BR38),"") -> 11.2 | L38: =IF(L2,IF(B1,BK38,BS38),"") -> 12.4 | M38: =IF(M2,IF(B1,BL38,BT38),"") -> 12.9 | N38: =IF(N2,IF(B1,BM38,BU38),"") -> 14 | O38: =IF(O2,IF(B1,BN38,BV38),"") -> 15.2 | P38: =IF(P2,IF(B1,BO38,BW38),"") -> 15.9 | Q38: =IF(Q2,IF(B1,BP38,BX38),"") -> 17.6 | S38: =IF(S2,IF(B1,BZ38,CH38),"") -> 46.6 | T38: =IF(T2,IF(B1,CA38,CJ38),"") -> 47.8 | U38: =IF(U2,IF(B1,CB38,CK38),"") -> 48.3 | V38: =IF(V2,IF(B1,CC38,CL38),"") -> 49.3 | W38: =IF(W2,IF(B1,CD38,CM38),"") -> 50.3 | X38: =IF(X2,IF(B1,CE38,CN38),"") -> 50.8 | Y38: =IF(Y2,IF(B1,CF38,CP38),"") -> 52 | AA38: -0.12425179 | AB38: 94.158465 | AC38: 0.040844062 | AD38: 0.66432338 | AE38: 93.198544 | AF38: 0.041887626 | AG38: -0.51012309 | AH38: 13.974182 | AI38: 0.11047324 | AJ38: -0.97438101 | AK38: 13.489134 | AL38: 0.11619334 | AM38: 2.6336612 | AN38: 49.526445 | AO38: 0.031862026 | AP38: 2.2569432 | AQ38: 48.446537 | AR38: 0.031367651 | AT38: 88 | AU38: 91 | AV38: 92.3 | AW38: 94.8 | AX38: 97.2 | AY38: 98.5 | AZ38: 101.5 | BB38: 86.7 | BC38: 89.8 | BD38: 91.1 | BE38: 93.6 | BF38: 96.2 | BG38: 97.5 | BH38: 100.6 | BJ38: 11.2 | BK38: 12.4 | BL38: 12.9 | BM38: 14 | BN38: 15.2 | BO38: 15.9 | BP38: 17.6 | BR38: 10.7 | BS38: 11.8 | BT38: 12.4 | BU38: 13.5 | BV38: 14.7 | BW38: 15.4 | BX38: 17.3 | BZ38: 46.6 | CA38: 47.8 | CB38: 48.3 | CC38: 49.3 | CD38: 50.3 | CE38: 50.8 | CF38: 52 | CH38: 45.7 | CI38: 46 | CJ38: 46.9 | CK38: 47.4 | CL38: 48.3 | CM38: 49.3 | CN38: 49.8 | CO38: 50.7 | CP38: 51
A39: 35 | C39: =IF(C2,IF(B1,AT39,BB39),"") -> 88.5 | D39: =IF(D2,IF(B1,AU39,BC39),"") -> 91.6 | E39: =IF(E2,IF(B1,AV39,BD39),"") -> 93 | F39: =IF(F2,IF(B1,AW39,BE39),"") -> 95.4 | G39: =IF(G2,IF(B1,AX39,BF39),"") -> 97.9 | H39: =IF(H2,IF(B1,AY39,BG39),"") -> 99.2 | I39: =IF(I2,IF(B1,AZ39,BH39),"") -> 102.3 | K39: =IF(K2,IF(B1,BJ39,BR39),"") -> 11.3 | L39: =IF(L2,IF(B1,BK39,BS39),"") -> 12.5 | M39: =IF(M2,IF(B1,BL39,BT39),"") -> 13.1 | N39: =IF(N2,IF(B1,BM39,BU39),"") -> 14.2 | O39: =IF(O2,IF(B1,BN39,BV39),"") -> 15.4 | P39: =IF(P2,IF(B1,BO39,BW39),"") -> 16.1 | Q39: =IF(Q2,IF(B1,BP39,BX39),"") -> 17.8 | S39: =IF(S2,IF(B1,BZ39,CH39),"") -> 46.7 | T39: =IF(T2,IF(B1,CA39,CJ39),"") -> 47.9 | U39: =IF(U2,IF(B1,CB39,CK39),"") -> 48.4 | V39: =IF(V2,IF(B1,CC39,CL39),"") -> 49.4 | W39: =IF(W2,IF(B1,CD39,CM39),"") -> 50.3 | X39: =IF(X2,IF(B1,CE39,CN39),"") -> 50.8 | Y39: =IF(Y2,IF(B1,CF39,CP39),"") -> 52 | AA39: -0.2152884 | AB39: 94.808229 | AC39: 0.040758431 | AD39: 0.6202851 | AE39: 93.829454 | AF39: 0.041928568 | AG39: -0.54788557 | AH39: 14.115032 | AI39: 0.1109074 | AJ39: -0.99198075 | AK39: 13.638774 | AL39: 0.11728575 | AM39: 2.7479494 | AN39: 49.592184 | AO39: 0.03217672 | AP39: 2.296844 | AQ39: 48.524019 | AR39: 0.031597939 | AT39: 88.5 | AU39: 91.6 | AV39: 93 | AW39: 95.4 | AX39: 97.9 | AY39: 99.2 | AZ39: 102.3 | BB39: 87.3 | BC39: 90.5 | BD39: 91.8 | BE39: 94.4 | BF39: 96.9 | BG39: 98.3 | BH39: 101.4 | BJ39: 11.3 | BK39: 12.5 | BL39: 13.1 | BM39: 14.2 | BN39: 15.4 | BO39: 16.1 | BP39: 17.8 | BR39: 10.8 | BS39: 12 | BT39: 12.5 | BU39: 13.7 | BV39: 14.9 | BW39: 15.7 | BX39: 17.6 | BZ39: 46.7 | CA39: 47.9 | CB39: 48.4 | CC39: 49.4 | CD39: 50.3 | CE39: 50.8 | CF39: 52 | CH39: 45.8 | CI39: 46.1 | CJ39: 47 | CK39: 47.5 | CL39: 48.4 | CM39: 49.4 | CN39: 49.9 | CO39: 50.7 | CP39: 51.1
A40: 36 | C40: =IF(C2,IF(B1,AT40,BB40),"") -> 89.1 | D40: =IF(D2,IF(B1,AU40,BC40),"") -> 92.2 | E40: =IF(E2,IF(B1,AV40,BD40),"") -> 93.6 | F40: =IF(F2,IF(B1,AW40,BE40),"") -> 96.1 | G40: =IF(G2,IF(B1,AX40,BF40),"") -> 98.6 | H40: =IF(H2,IF(B1,AY40,BG40),"") -> 99.9 | I40: =IF(I2,IF(B1,AZ40,BH40),"") -> 103.1 | K40: =IF(K2,IF(B1,BJ40,BR40),"") -> 11.4 | L40: =IF(L2,IF(B1,BK40,BS40),"") -> 12.7 | M40: =IF(M2,IF(B1,BL40,BT40),"") -> 13.2 | N40: =IF(N2,IF(B1,BM40,BU40),"") -> 14.3 | O40: =IF(O2,IF(B1,BN40,BV40),"") -> 15.6 | P40: =IF(P2,IF(B1,BO40,BW40),"") -> 16.3 | Q40: =IF(Q2,IF(B1,BP40,BX40),"") -> 18 | S40: =IF(S2,IF(B1,BZ40,CH40),"") -> 46.8 | T40: =IF(T2,IF(B1,CA40,CJ40),"") -> 48 | U40: =IF(U2,IF(B1,CB40,CK40),"") -> 48.5 | V40: =IF(V2,IF(B1,CC40,CL40),"") -> 49.5 | W40: =IF(W2,IF(B1,CD40,CM40),"") -> 50.4 | X40: =IF(X2,IF(B1,CE40,CN40),"") -> 50.9 | Y40: =IF(Y2,IF(B1,CF40,CP40),"") -> 52.1 | AA40: -0.30385434 | AB40: 95.44637 | AC40: 0.040654312 | AD40: 0.57955631 | AE40: 94.433823 | AF40: 0.041971514 | AG40: -0.5850701 | AH40: 14.257796 | AI40: 0.11137479 | AJ40: -1.0086407 | AK40: 13.789365 | AL40: 0.11838685 | AM40: 2.8577284 | AN40: 49.65423 | AO40: 0.032494231 | AP40: 2.3335894 | AQ40: 48.597828 | AR40: 0.031830942 | AT40: 89.1 | AU40: 92.2 | AV40: 93.6 | AW40: 96.1 | AX40: 98.6 | AY40: 99.9 | AZ40: 103.1 | BB40: 87.9 | BC40: 91.1 | BD40: 92.5 | BE40: 95.1 | BF40: 97.6 | BG40: 99 | BH40: 102.2 | BJ40: 11.4 | BK40: 12.7 | BL40: 13.2 | BM40: 14.3 | BN40: 15.6 | BO40: 16.3 | BP40: 18 | BR40: 11 | BS40: 12.1 | BT40: 12.7 | BU40: 13.9 | BV40: 15.1 | BW40: 15.9 | BX40: 17.8 | BZ40: 46.8 | CA40: 48 | CB40: 48.5 | CC40: 49.5 | CD40: 50.4 | CE40: 50.9 | CF40: 52.1 | CH40: 45.9 | CI40: 46.2 | CJ40: 47 | CK40: 47.6 | CL40: 48.5 | CM40: 49.5 | CN40: 50 | CO40: 50.8 | CP40: 51.2
A41: 37 | C41: =IF(C2,IF(B1,AT41,BB41),"") -> 89.7 | D41: =IF(D2,IF(B1,AU41,BC41),"") -> 92.8 | E41: =IF(E2,IF(B1,AV41,BD41),"") -> 94.2 | F41: =IF(F2,IF(B1,AW41,BE41),"") -> 96.7 | G41: =IF(G2,IF(B1,AX41,BF41),"") -> 99.3 | H41: =IF(H2,IF(B1,AY41,BG41),"") -> 100.6 | I41: =IF(I2,IF(B1,AZ41,BH41),"") -> 103.8 | K41: =IF(K2,IF(B1,BJ41,BR41),"") -> 11.6 | L41: =IF(L2,IF(B1,BK41,BS41),"") -> 12.8 | M41: =IF(M2,IF(B1,BL41,BT41),"") -> 13.4 | N41: =IF(N2,IF(B1,BM41,BU41),"") -> 14.5 | O41: =IF(O2,IF(B1,BN41,BV41),"") -> 15.8 | P41: =IF(P2,IF(B1,BO41,BW41),"") -> 16.5 | Q41: =IF(Q2,IF(B1,BP41,BX41),"") -> 18.3 | S41: =IF(S2,IF(B1,BZ41,CH41),"") -> 46.9 | T41: =IF(T2,IF(B1,CA41,CJ41),"") -> 48.1 | U41: =IF(U2,IF(B1,CB41,CK41),"") -> 48.6 | V41: =IF(V2,IF(B1,CC41,CL41),"") -> 49.5 | W41: =IF(W2,IF(B1,CD41,CM41),"") -> 50.5 | X41: =IF(X2,IF(B1,CE41,CN41),"") -> 51 | Y41: =IF(Y2,IF(B1,CF41,CP41),"") -> 52.2 | AA41: -0.34738635 | AB41: 95.35998 | AC41: 0.040594216 | AD41: 0.56076863 | AE41: 94.32359 | AF41: 0.041994512 | AG41: -0.60333785 | AH41: 14.329944 | AI41: 0.11162065 | AJ41: -1.0166531 | AK41: 13.865074 | AL41: 0.11893909 | AM41: 2.9109321 | AN41: 49.683936 | AO41: 0.032653934 | AP41: 2.3508472 | AQ41: 48.633423 | AR41: 0.031948378 | AT41: 89.7 | AU41: 92.8 | AV41: 94.2 | AW41: 96.7 | AX41: 99.3 | AY41: 100.6 | AZ41: 103.8 | BB41: 88.5 | BC41: 91.7 | BD41: 93.1 | BE41: 95.7 | BF41: 98.3 | BG41: 99.7 | BH41: 103 | BJ41: 11.6 | BK41: 12.8 | BL41: 13.4 | BM41: 14.5 | BN41: 15.8 | BO41: 16.5 | BP41: 18.3 | BR41: 11.1 | BS41: 12.3 | BT41: 12.9 | BU41: 14 | BV41: 15.3 | BW41: 16.1 | BX41: 18.1 | BZ41: 46.9 | CA41: 48.1 | CB41: 48.6 | CC41: 49.5 | CD41: 50.5 | CE41: 51 | CF41: 52.2 | CH41: 45.9 | CI41: 46.3 | CJ41: 47.1 | CK41: 47.6 | CL41: 48.6 | CM41: 49.5 | CN41: 50.1 | CO41: 50.9 | CP41: 51.3
A42: 38 | C42: =IF(C2,IF(B1,AT42,BB42),"") -> 90.2 | D42: =IF(D2,IF(B1,AU42,BC42),"") -> 93.4 | E42: =IF(E2,IF(B1,AV42,BD42),"") -> 94.8 | F42: =IF(F2,IF(B1,AW42,BE42),"") -> 97.4 | G42: =IF(G2,IF(B1,AX42,BF42),"") -> 99.9 | H42: =IF(H2,IF(B1,AY42,BG42),"") -> 101.3 | I42: =IF(I2,IF(B1,AZ42,BH42),"") -> 104.5 | K42: =IF(K2,IF(B1,BJ42,BR42),"") -> 11.7 | L42: =IF(L2,IF(B1,BK42,BS42),"") -> 12.9 | M42: =IF(M2,IF(B1,BL42,BT42),"") -> 13.5 | N42: =IF(N2,IF(B1,BM42,BU42),"") -> 14.7 | O42: =IF(O2,IF(B1,BN42,BV42),"") -> 15.9 | P42: =IF(P2,IF(B1,BO42,BW42),"") -> 16.7 | Q42: =IF(Q2,IF(B1,BP42,BX42),"") -> 18.5 | S42: =IF(S2,IF(B1,BZ42,CH42),"") -> 46.9 | T42: =IF(T2,IF(B1,CA42,CJ42),"") -> 48.1 | U42: =IF(U2,IF(B1,CB42,CK42),"") -> 48.6 | V42: =IF(V2,IF(B1,CC42,CL42),"") -> 49.6 | W42: =IF(W2,IF(B1,CD42,CM42),"") -> 50.6 | X42: =IF(X2,IF(B1,CE42,CN42),"") -> 51.1 | Y42: =IF(Y2,IF(B1,CF42,CP42),"") -> 52.3 | AA42: -0.39091837 | AB42: 95.273591 | AC42: 0.04053412 | AD42: 0.54198094 | AE42: 94.213357 | AF42: 0.042017509 | AG42: -0.62131973 | AH42: 14.402627 | AI42: 0.11187451 | AJ42: -1.0244713 | AK42: 13.941083 | AL42: 0.11949167 | AM42: 2.9641358 | AN42: 49.713643 | AO42: 0.032813637 | AP42: 2.368105 | AQ42: 48.669018 | AR42: 0.032065814 | AT42: 90.2 | AU42: 93.4 | AV42: 94.8 | AW42: 97.4 | AX42: 99.9 | AY42: 101.3 | AZ42: 104.5 | BB42: 89.1 | BC42: 92.4 | BD42: 93.8 | BE42: 96.4 | BF42: 99 | BG42: 100.5 | BH42: 103.7 | BJ42: 11.7 | BK42: 12.9 | BL42: 13.5 | BM42: 14.7 | BN42: 15.9 | BO42: 16.7 | BP42: 18.5 | BR42: 11.2 | BS42: 12.5 | BT42: 13 | BU42: 14.2 | BV42: 15.6 | BW42: 16.3 | BX42: 18.4 | BZ42: 46.9 | CA42: 48.1 | CB42: 48.6 | CC42: 49.6 | CD42: 50.6 | CE42: 51.1 | CF42: 52.3 | CH42: 46 | CI42: 46.3 | CJ42: 47.2 | CK42: 47.7 | CL42: 48.7 | CM42: 49.6 | CN42: 50.1 | CO42: 51 | CP42: 51.3

Sheet Data Extract
A1: Provider
A2: keyProvider | B2: strProvName | C2: strPracticeName | D2: strLocation
A3: NEWPRO | B3: =Options!#REF! -> #REF! | C3: =Options!#REF! -> #REF! | D3: =Options!#REF! -> #REF!
A6: Patient
A7: keyPatient | B7: strName | C7: dateDOB | D7: boolIsMale
A8: NEWPT | C8: =Patient!$C$8 -> 0 | D8: =Patient!$D$14 -> TRUE
A10: Anthropomorphic
A11: keyProvider | B11: keyPatient | C11: dateVisit | D11: cmHt | E11: kgWt | F11: cmOFC | G11: rTemp | H11: iHR | I11: iRR | J11: iSBP | K11: iDBP
A12: NEWPRO | B12: NEWPT | C12: ='Résumé des valeurs'!A5 | D12: ='Résumé des valeurs'!E5 | E12: ='Résumé des valeurs'!F5 | F12: ='Résumé des valeurs'!G5 | G12: ='Résumé des valeurs'!#REF! -> #REF! | H12: ='Résumé des valeurs'!#REF! -> #REF! | I12: ='Résumé des valeurs'!#REF! -> #REF! | J12: ='Résumé des valeurs'!#REF! -> #REF! | K12: ='Résumé des valeurs'!#REF! -> #REF!
A13: NEWPRO | B13: NEWPT | C13: ='Résumé des valeurs'!A6 | D13: ='Résumé des valeurs'!E6 | E13: ='Résumé des valeurs'!F6 | F13: ='Résumé des valeurs'!G6 | G13: ='Résumé des valeurs'!#REF! -> #REF! | H13: ='Résumé des valeurs'!#REF! -> #REF! | I13: ='Résumé des valeurs'!#REF! -> #REF! | J13: ='Résumé des valeurs'!#REF! -> #REF! | K13: ='Résumé des valeurs'!#REF! -> #REF!
A14: NEWPRO | B14: NEWPT | C14: ='Résumé des valeurs'!A7 | D14: ='Résumé des valeurs'!E7 | E14: ='Résumé des valeurs'!F7 | F14: ='Résumé des valeurs'!G7 | G14: ='Résumé des valeurs'!#REF! -> #REF! | H14: ='Résumé des valeurs'!#REF! -> #REF! | I14: ='Résumé des valeurs'!#REF! -> #REF! | J14: ='Résumé des valeurs'!#REF! -> #REF! | K14: ='Résumé des valeurs'!#REF! -> #REF!
A15: NEWPRO | B15: NEWPT | C15: ='Résumé des valeurs'!A8 | D15: ='Résumé des valeurs'!E8 | E15: ='Résumé des valeurs'!F8 | F15: ='Résumé des valeurs'!G8 | G15: ='Résumé des valeurs'!#REF! -> #REF! | H15: ='Résumé des valeurs'!#REF! -> #REF! | I15: ='Résumé des valeurs'!#REF! -> #REF! | J15: ='Résumé des valeurs'!#REF! -> #REF! | K15: ='Résumé des valeurs'!#REF! -> #REF!
A16: NEWPRO | B16: NEWPT | C16: ='Résumé des valeurs'!A9 | D16: ='Résumé des valeurs'!E9 | E16: ='Résumé des valeurs'!F9 | F16: ='Résumé des valeurs'!G9 | G16: ='Résumé des valeurs'!#REF! -> #REF! | H16: ='Résumé des valeurs'!#REF! -> #REF! | I16: ='Résumé des valeurs'!#REF! -> #REF! | J16: ='Résumé des valeurs'!#REF! -> #REF! | K16: ='Résumé des valeurs'!#REF! -> #REF!
A17: NEWPRO | B17: NEWPT | C17: ='Résumé des valeurs'!A10 | D17: ='Résumé des valeurs'!E10 | E17: ='Résumé des valeurs'!F10 | F17: ='Résumé des valeurs'!G10 | G17: ='Résumé des valeurs'!#REF! -> #REF! | H17: ='Résumé des valeurs'!#REF! -> #REF! | I17: ='Résumé des valeurs'!#REF! -> #REF! | J17: ='Résumé des valeurs'!#REF! -> #REF! | K17: ='Résumé des valeurs'!#REF! -> #REF!
A18: NEWPRO | B18: NEWPT | C18: ='Résumé des valeurs'!A11 | D18: ='Résumé des valeurs'!E11 | E18: ='Résumé des valeurs'!F11 | F18: ='Résumé des valeurs'!G11 | G18: ='Résumé des valeurs'!#REF! -> #REF! | H18: ='Résumé des valeurs'!#REF! -> #REF! | I18: ='Résumé des valeurs'!#REF! -> #REF! | J18: ='Résumé des valeurs'!#REF! -> #REF! | K18: ='Résumé des valeurs'!#REF! -> #REF!
A19: NEWPRO | B19: NEWPT | C19: ='Résumé des valeurs'!A12 | D19: ='Résumé des valeurs'!E12 | E19: ='Résumé des valeurs'!F12 | F19: ='Résumé des valeurs'!G12 | G19: ='Résumé des valeurs'!#REF! -> #REF! | H19: ='Résumé des valeurs'!#REF! -> #REF! | I19: ='Résumé des valeurs'!#REF! -> #REF! | J19: ='Résumé des valeurs'!#REF! -> #REF! | K19: ='Résumé des valeurs'!#REF! -> #REF!
A20: NEWPRO | B20: NEWPT | C20: ='Résumé des valeurs'!A13 | D20: ='Résumé des valeurs'!E13 | E20: ='Résumé des valeurs'!F13 | F20: ='Résumé des valeurs'!G13 | G20: ='Résumé des valeurs'!#REF! -> #REF! | H20: ='Résumé des valeurs'!#REF! -> #REF! | I20: ='Résumé des valeurs'!#REF! -> #REF! | J20: ='Résumé des valeurs'!#REF! -> #REF! | K20: ='Résumé des valeurs'!#REF! -> #REF!
A21: NEWPRO | B21: NEWPT | C21: ='Résumé des valeurs'!A14 | D21: ='Résumé des valeurs'!E14 | E21: ='Résumé des valeurs'!F14 | F21: ='Résumé des valeurs'!G14 | G21: ='Résumé des valeurs'!#REF! -> #REF! | H21: ='Résumé des valeurs'!#REF! -> #REF! | I21: ='Résumé des valeurs'!#REF! -> #REF! | J21: ='Résumé des valeurs'!#REF! -> #REF! | K21: ='Résumé des valeurs'!#REF! -> #REF!
A22: NEWPRO | B22: NEWPT | C22: ='Résumé des valeurs'!A15 | D22: ='Résumé des valeurs'!E15 | E22: ='Résumé des valeurs'!F15 | F22: ='Résumé des valeurs'!G15 | G22: ='Résumé des valeurs'!#REF! -> #REF! | H22: ='Résumé des valeurs'!#REF! -> #REF! | I22: ='Résumé des valeurs'!#REF! -> #REF! | J22: ='Résumé des valeurs'!#REF! -> #REF! | K22: ='Résumé des valeurs'!#REF! -> #REF!
A23: NEWPRO | B23: NEWPT | C23: ='Résumé des valeurs'!A16 | D23: ='Résumé des valeurs'!E16 | E23: ='Résumé des valeurs'!F16 | F23: ='Résumé des valeurs'!G16 | G23: ='Résumé des valeurs'!#REF! -> #REF! | H23: ='Résumé des valeurs'!#REF! -> #REF! | I23: ='Résumé des valeurs'!#REF! -> #REF! | J23: ='Résumé des valeurs'!#REF! -> #REF! | K23: ='Résumé des valeurs'!#REF! -> #REF!
... A71: NEWPRO | B71: NEWPT | C71: ='Résumé des valeurs'!A64 | D71: ='Résumé des valeurs'!E64 | E71: ='Résumé des valeurs'!F64 | F71: ='Résumé des valeurs'!G64 | G71: ='Résumé des valeurs'!#REF! -> #REF! | H71: ='Résumé des valeurs'!#REF! -> #REF! | I71: ='Résumé des valeurs'!#REF! -> #REF! | J71: ='Résumé des valeurs'!#REF! -> #REF! | K71: ='Résumé des valeurs'!#REF! -> #REF!
