Workbook
Name nom: 'Base de données'!$L$2:$L$20

Sheet matrice
B2: Module 1 | C2: Module 2 | D2: Module 3 | E2: Module 4 | F2: Module 5 | G2: Module 6 | H2: Module 7 | I2: Module 8 | J2: Module 9 | K2: Module 10 | L2: Module 11 | M2: Module 12 | N2: Module 13 | O2: Module 14 | P2: Module 15 | Q2: Module 16 | R2: Module 17 | S2: Module 18 | T2: Module 19 | U2: Total
A3: Utilisateur 1 | B3: x | C3: x | D3: x | M3: x | N3: x | U3: =COUNTIF(B3:T3,"x") -> 5
A4: Utilisateur 2 | B4: x | C4: x | D4: x | I4: x | J4: x | K4: x | N4: x | S4: x | T4: x | U4: =COUNTIF(B4:T4,"x") -> 9
A5: Utilisateur 3 | B5: x | N5: x | R5: x | T5: x | U5: =COUNTIF(B5:T5,"x") -> 4
A6: Utilisateur 4 | B6: x | D6: x | G6: x | J6: x | N6: x | O6: x | Q6: x | R6: x | S6: x | U6: =COUNTIF(B6:T6,"x") -> 9
A7: Utilisateur 5 | B7: x | C7: x | E7: x | F7: x | J7: x | K7: x | L7: x | P7: x | Q7: x | S7: x | T7: x | U7: =COUNTIF(B7:T7,"x") -> 11
A8: Utilisateur 6 | C8: x | D8: x | F8: x | H8: x | I8: x | J8: x | L8: x | P8: x | U8: =COUNTIF(B8:T8,"x") -> 8
A9: Utilisateur 7 | D9: x | E9: x | F9: x | I9: x | J9: x | L9: x | O9: x | Q9: x | T9: x | U9: =COUNTIF(B9:T9,"x") -> 9
A10: Utilisateur 8 | B10: x | C10: x | D10: x | E10: x | F10: x | G10: x | H10: x | I10: x | J10: x | K10: x | L10: x | M10: x | O10: x | R10: x | S10: x | T10: x | U10: =COUNTIF(B10:T10,"x") -> 16
A11: Utilisateur 9 | B11: x | C11: x | D11: x | E11: x | H11: x | M11: x | O11: x | R11: x | S11: x | U11: =COUNTIF(B11:T11,"x") -> 9
A12: Utilisateur 10 | B12: x | D12: x | E12: x | I12: x | J12: x | K12: x | L12: x | M12: x | N12: x | Q12: x | S12: x | U12: =COUNTIF(B12:T12,"x") -> 11
A13: Utilisateur 11 | B13: x | D13: x | F13: x | K13: x | M13: x | N13: x | P13: x | Q13: x | R13: x | U13: =COUNTIF(B13:T13,"x") -> 9
A14: Utilisateur 12 | C14: x | D14: x | G14: x | K14: x | O14: x | P14: x | U14: =COUNTIF(B14:T14,"x") -> 6
B15: =COUNTIF(B3:B14,"x") -> 9 | C15: =COUNTIF(C3:C14,"x") -> 7 | D15: =COUNTIF(D3:D14,"x") -> 10 | E15: =COUNTIF(E3:E14,"x") -> 5 | F15: =COUNTIF(F3:F14,"x") -> 5 | G15: =COUNTIF(G3:G14,"x") -> 3 | H15: =COUNTIF(H3:H14,"x") -> 3 | I15: =COUNTIF(I3:I14,"x") -> 5 | ... T15: =COUNTIF(T3:T14,"x") -> 5

Sheet Base de données
A1: Ref modul | B1: Intitulé module | C1: Numero Module | D1: temps de formation (h) | E1: Nb session | F1: temps de session | G1: Nombre d'utilisateur | H1: nb max participants / session | I1: Nombre de session en fonction des participants | J1: Nombre total de formation / module | L1: Utilisateur | M1: fonction
A2: Module 1 | B2: général | C2: 1 | D2: 2 | E2: =IF(D2<5,1,D2/4) -> 1 | F2: =D2/E2 -> 2 | G2: =D105 -> 9 | H2: 5 | I2: =IF(G2<6,1,IF(G2>10,3,2)) -> 2 | J2: =I2*E2 -> 2 | L2: Utilisateur 1 | M2: directeur
A3: Module 2 | B3: industrie | C3: 2 | D3: 2 | E3: =IF(D3<5,1,D3/4) -> 1 | F3: =D3/E3 -> 2 | G3: =D106 -> 7 | H3: 5 | I3: =IF(G3<6,1,IF(G3>10,3,2)) -> 2 | J3: =I3*E3 -> 2 | L3: Utilisateur 2 | M3: daf
A4: Module 3 | B4: management | C4: 3 | D4: 2 | E4: =IF(D4<5,1,D4/4) -> 1 | F4: =D4/E4 -> 2 | G4: =D107 -> 10 | H4: 5 | I4: =IF(G4<6,1,IF(G4>10,3,2)) -> 2 | J4: =I4*E4 -> 2 | L4: Utilisateur 3 | M4: dsi
A5: Module 4 | B5: contrôle de gestion | C5: 4 | D5: 4 | E5: =IF(D5<5,1,D5/4) -> 1 | F5: =D5/E5 -> 4 | G5: =D108 -> 5 | H5: 5 | I5: =IF(G5<6,1,IF(G5>10,3,2)) -> 1 | J5: =I5*E5 -> 1 | L5: Utilisateur 4 | M5: drh
A6: Module 5 | B6: comptabilité | C6: 5 | D6: 4 | E6: =IF(D6<5,1,D6/4) -> 1 | F6: =D6/E6 -> 4 | G6: =D109 -> 5 | H6: 5 | I6: =IF(G6<6,1,IF(G6>10,3,2)) -> 1 | J6: =I6*E6 -> 1 | L6: Utilisateur 5 | M6: comptable 1
A7: Module 6 | B7: gestion de projet | C7: 6 | D7: 8 | E7: =IF(D7<5,1,D7/4) -> 2 | F7: =D7/E7 -> 4 | G7: =D110 -> 3 | H7: 5 | I7: =IF(G7<6,1,IF(G7>10,3,2)) -> 1 | J7: =I7*E7 -> 2 | L7: Utilisateur 6 | M7: comptable 2
A8: Module 7 | B8: banques | C8: 7 | D8: 2 | E8: =IF(D8<5,1,D8/4) -> 1 | F8: =D8/E8 -> 2 | G8: =D111 -> 3 | H8: 5 | I8: =IF(G8<6,1,IF(G8>10,3,2)) -> 1 | J8: =I8*E8 -> 1 | L8: Utilisateur 7 | M8: prestataire 1
A9: Module 8 | B9: agroalimentaire | C9: 8 | D9: 4 | E9: =IF(D9<5,1,D9/4) -> 1 | F9: =D9/E9 -> 4 | G9: =D112 -> 5 | H9: 5 | I9: =IF(G9<6,1,IF(G9>10,3,2)) -> 1 | J9: =I9*E9 -> 1 | L9: Utilisateur 8 | M9: prestataire 2
A10: Module 9 | B10: négociation | C10: 9 | D10: 12 | E10: =IF(D10<5,1,D10/4) -> 3 | F10: =D10/E10 -> 4 | G10: =D113 -> 7 | H10: 5 | I10: =IF(G10<6,1,IF(G10>10,3,2)) -> 2 | J10: =I10*E10 -> 6 | L10: Utilisateur 9 | M10: invest 1
A11: Module 10 | B11: vente | C11: 10 | D11: 16 | E11: =IF(D11<5,1,D11/4) -> 4 | F11: =D11/E11 -> 4 | G11: =D114 -> 6 | H11: 5 | I11: =IF(G11<6,1,IF(G11>10,3,2)) -> 2 | J11: =I11*E11 -> 8 | L11: Utilisateur 10 | M11: invest 2
A12: Module 11 | B12: achat | C12: 11 | D12: 8 | E12: =IF(D12<5,1,D12/4) -> 2 | F12: =D12/E12 -> 4 | G12: =D115 -> 5 | H12: 5 | I12: =IF(G12<6,1,IF(G12>10,3,2)) -> 1 | J12: =I12*E12 -> 2 | L12: Utilisateur 11 | M12: chef de projet
A13: Module 12 | B13: logistique | C13: 12 | D13: 8 | E13: =IF(D13<5,1,D13/4) -> 2 | F13: =D13/E13 -> 4 | G13: =D116 -> 5 | H13: 5 | I13: =IF(G13<6,1,IF(G13>10,3,2)) -> 1 | J13: =I13*E13 -> 2 | L13: Utilisateur 12 | M13: Assistant chef projet
... A20: Module 19 | B20: analyse financière | C20: 19 | D20: 16 | E20: =IF(D20<5,1,D20/4) -> 4 | F20: =D20/E20 -> 4 | G20: =D123 -> 5 | H20: 5 | I20: =IF(G20<6,1,IF(G20>10,3,2)) -> 1 | J20: =I20*E20 -> 4 | L20: Utilisateur 19 | M20: resp inventaire
A24: Ref modul | B24: Nombre total de formation / module | D24: Date | E24: H | F24: lieu
A25: Module 1 | B25: =A25*#REF! -> #VALUE! | D25: 42636 | E25: 0.375 | F25: salle a
A26: Module 2 | B26: =A26*#REF! -> #VALUE! | D26: 42637 | E26: 0.375 | F26: salle a
D27: 42639 | E27: 0.58333333 | F27: salle b
A28: Module 3 | B28: =A28*#REF! -> #VALUE! | D28: 42638 | E28: 0.375 | F28: salle b
A29: Module 4 | B29: =A29*#REF! -> #VALUE! | D29: 42691 | E29: 0.375 | F29: salle c
A30: Module 5 | B30: =A30*#REF! -> #VALUE! | D30: 42654 | E30: 0.375 | F30: salle c
D31: 42719 | E31: 0.58333333 | F31: salle a
A32: Module 6 | B32: =A32*#REF! -> #VALUE! | D32: 42626 | E32: 0.375 | F32: salle a
D33: 42702 | E33: 0.375 | F33: salle b
D34: 42743 | E34: 0.60416667 | F34: salle b
D35: 42752 | E35: 0.60416667 | F35: salle c
A36: Module 7 | B36: =A36*#REF! -> #VALUE! | D36: 42666 | E36: 0.375 | F36: salle c
D37: 42698 | E37: 0.41666667 | F37: salle a
A38: Module 8 | B38: =A38*#REF! -> #VALUE! | D38: 42643 | E38: 0.58333333 | F38: salle a
D39: 42704 | E39: 0.5625 | F39: salle b
D40: 42676 | E40: 0.5625 | F40: salle b
A41: Module 9 | B41: =A41*#REF! -> #VALUE! | D41: 42705 | E41: 0.375 | F41: salle c
D42: 42668 | E42: 0.35416667 | F42: salle c
D43: 42657 | E43: 0.35416667 | F43: salle a
D44: 42665 | E44: 0.41666667 | F44: salle a
D45: 42721 | E45: 0.58333333 | F45: salle b
D46: 42660 | E46: 0.5625 | F46: salle b
A47: Module 10 | B47: =A47*#REF! -> #VALUE! | D47: 42675 | E47: 0.375 | F47: salle c
D48: 42644 | E48: 0.41666667 | F48: salle c
D49: 42677 | E49: 0.58333333 | F49: salle a
...

Sheet Sommaire
A1: Sommaire
A4: Utilisateur 1 | B4: -----------> | C4: Fiche de formation
A5: Utilisateur 2 | B5: -----------> | C5: Fiche de formation
A6: Utilisateur 3 | B6: -----------> | C6: Fiche de formation
A7: Utilisateur 4 | B7: -----------> | C7: Fiche de formation
A8: Utilisateur 5 | B8: -----------> | C8: Fiche de formation
A9: Utilisateur 6 | B9: -----------> | C9: Fiche de formation
A10: Utilisateur 7 | B10: -----------> | C10: Fiche de formation
A11: Utilisateur 8 | B11: -----------> | C11: Fiche de formation
A12: Utilisateur 9 | B12: -----------> | C12: Fiche de formation
A13: Utilisateur 10 | B13: -----------> | C13: Fiche de formation
A14: Utilisateur 11 | B14: -----------> | C14: Fiche de formation
A15: Utilisateur 12 | B15: -----------> | C15: Fiche de formation
... A22: Utilisateur 19 | B22: -----------> | C22: Fiche de formation

Sheet Fiche individuelle
B2: Fiche Individuelle de Formation
B6: Utilisateur 2 | E6: Nb total de sessions de formation : | G6: =SUM(E11:E49) -> 17
B7: =VLOOKUP('Fiche individuelle'!B6,'Base de données'!L1:M20,2,FALSE) -> daf
B10: Sujet | N10: Numéro de la ligne | O10: =MATCH(B6,matrice!A3:A14,0) -> 2
B11: =O11 -> général | E11: =IF(B11="","",'Base de données'!E2) -> 1 | F11: =IF(B11="","",'Base de données'!F2) -> 2 | N11: =OFFSET(matrice!$A$1,$O$10+1,'Base de données'!C2) -> x | O11: =IF(N11="x",'Base de données'!B2,"") -> général
B12: =O12 -> industrie | E12: =IF(B12="","",'Base de données'!E3) -> 1 | F12: =IF(B12="","",'Base de données'!F3) -> 2 | N12: =OFFSET(matrice!$A$1,$O$10+1,'Base de données'!C3) -> x | O12: =IF(N12="x",'Base de données'!B3,"") -> industrie
B13: =O13 -> management | E13: =IF(B13="","",'Base de données'!E4) -> 1 | F13: =IF(B13="","",'Base de données'!F4) -> 2 | N13: =OFFSET(matrice!$A$1,$O$10+1,'Base de données'!C4) -> x | O13: =IF(N13="x",'Base de données'!B4,"") -> management
B14: =O14 | E14: =IF(B14="","",'Base de données'!E5) | F14: =IF(B14="","",'Base de données'!F5) | N14: =OFFSET(matrice!$A$1,$O$10+1,'Base de données'!C5) -> 0 | O14: =IF(N14="x",'Base de données'!B5,"")
B15: =O15 | E15: =IF(B15="","",'Base de données'!E6) | F15: =IF(B15="","",'Base de données'!F6) | N15: =OFFSET(matrice!$A$1,$O$10+1,'Base de données'!C6) -> 0 | O15: =IF(N15="x",'Base de données'!B6,"")
B16: =O16 | E16: =IF(B16="","",'Base de données'!E7) | F16: =IF(B16="","",'Base de données'!F7) | N16: =OFFSET(matrice!$A$1,$O$10+1,'Base de données'!C7) -> 0 | O16: =IF(N16="x",'Base de données'!B7,"")
B17: =O17 | E17: =IF(B17="","",'Base de données'!E8) | F17: =IF(B17="","",'Base de données'!F8) | N17: =OFFSET(matrice!$A$1,$O$10+1,'Base de données'!C8) -> 0 | O17: =IF(N17="x",'Base de données'!B8,"")
B18: =O18 -> agroalimentaire | E18: =IF(B18="","",'Base de données'!E9) -> 1 | F18: =IF(B18="","",'Base de données'!F9) -> 4 | N18: =OFFSET(matrice!$A$1,$O$10+1,'Base de données'!C9) -> x | O18: =IF(N18="x",'Base de données'!B9,"") -> agroalimentaire
B19: =O19 -> négociation | E19: =IF(B19="","",'Base de données'!E10) -> 3 | F19: =IF(B19="","",'Base de données'!F10) -> 4 | N19: =OFFSET(matrice!$A$1,$O$10+1,'Base de données'!C10) -> x | O19: =IF(N19="x",'Base de données'!B10,"") -> négociation
B20: =O20 -> vente | E20: =IF(B20="","",'Base de données'!E11) -> 4 | F20: =IF(B20="","",'Base de données'!F11) -> 4 | N20: =OFFSET(matrice!$A$1,$O$10+1,'Base de données'!C11) -> x | O20: =IF(N20="x",'Base de données'!B11,"") -> vente
B21: =O21 | E21: =IF(B21="","",'Base de données'!E12) | F21: =IF(B21="","",'Base de données'!F12) | N21: =OFFSET(matrice!$A$1,$O$10+1,'Base de données'!C12) -> 0 | O21: =IF(N21="x",'Base de données'!B12,"")
B22: =O22 | E22: =IF(B22="","",'Base de données'!E13) | F22: =IF(B22="","",'Base de données'!F13) | N22: =OFFSET(matrice!$A$1,$O$10+1,'Base de données'!C13) -> 0 | O22: =IF(N22="x",'Base de données'!B13,"")
... B29: =O29 -> analyse financière | E29: =IF(B29="","",'Base de données'!E20) -> 4 | F29: =IF(B29="","",'Base de données'!F20) -> 4 | N29: =OFFSET(matrice!$A$1,$O$10+1,'Base de données'!C20) -> x | O29: =IF(N29="x",'Base de données'!B20,"") -> analyse financière
