Workbook

Sheet ACCUEIL

Sheet ADHERENTS
A1: Liste des adhérents
A3: Recherche rapide | C3: Nom | D3: Prénom | E3: Date_de_naissance | F3: Adresse | G3: Code_postal | H3: Ville | I3: N°_téléphone | J3: N°_portable | K3: Adresse_mail | L3: Droit_image | M3: Responsable_légal | N3: Coordonées | O3: Adhérent_2015-2016 | P3: Adhérent_2016-2017 | Q3: Adhérent_2017-2018
C4: fritou | D4: =VLOOKUP(C4,C5:Q1200,2) -> Paul | E4: =VLOOKUP(C4,C5:Q1200,3) -> 32579
A5: Pôle | B5: Lieu_intervention | C5: Nom | D5: Prénom | E5: Date_de_naissance | F5: Adresse | G5: Code_postal | H5: Ville | I5: N°_téléphone | J5: N°_portable | K5: Adresse_mail | L5: Droit_image | M5: Responsable_légal | N5: Coordonées | O5: Adhérent_2015-2016 | P5: Adhérent_2016-2017 | Q5: Adhérent_2017-2018
A6: Handicap | B6: Lieu 1 | C6: fritou | D6: Paul | E6: 32579
A7: Actions_Sociales | B7: Lieu 1 | C7: ratus | D7: pierre | E7: 24574
A8: Handicap | B8: Lieu 2 | C8: Galonier | D8: marie | E8: 31999
A9: Handicap | B9: Lieu 1 | C9: Radis | D9: Sabrina | E9: 28026
A10: Nutrition | B10: Lieu 1 | C10: Roulet | D10: Pierre | E10: 33108
A11: Actions_Sociales | B11: Lieu 2 | C11: Bouteille | D11: Marie | E11: 32531

Sheet PARTENAIRES

Sheet HANDICAP
A1: Lieu_intervention | B1: Nom | C1: Prénom | D1: Date_de_naissance | E1: Adresse | F1: Code_postal | G1: Ville | H1: N°_téléphone | I1: N°_portable | J1: Adresse_mail | K1: Droit_image | L1: Responsable_légal | M1: Coordonées | N1: Adhérent_2015-2016 | O1: Adhérent_2016-2017 | P1: Adhérent_2017-2018
A2: =IF(ADHERENTS!A6="Handicap",ADHERENTS!B6,"") -> Lieu 1 | B2: =IF(ADHERENTS!A6="Handicap",ADHERENTS!C6,"") -> fritou
A3: =IF(ADHERENTS!A7="Handicap",ADHERENTS!B7,"") | B3: =IF(ADHERENTS!A7="Handicap",ADHERENTS!C7,"")
A4: =IF(ADHERENTS!A8="Handicap",ADHERENTS!B8,"") -> Lieu 2 | B4: =IF(ADHERENTS!A8="Handicap",ADHERENTS!C8,"") -> Galonier
A5: =IF(ADHERENTS!A9="Handicap",ADHERENTS!B9,"") -> Lieu 1 | B5: =IF(ADHERENTS!A9="Handicap",ADHERENTS!C9,"") -> Radis
A6: =IF(ADHERENTS!A10="Handicap",ADHERENTS!B10,"") | B6: =IF(ADHERENTS!A10="Handicap",ADHERENTS!C10,"")
A7: =IF(ADHERENTS!A11="Handicap",ADHERENTS!B11,"") | B7: =IF(ADHERENTS!A11="Handicap",ADHERENTS!C11,"")
A8: =IF(ADHERENTS!A12="Handicap",ADHERENTS!B12,"") | B8: =IF(ADHERENTS!A12="Handicap",ADHERENTS!C12,"")
A9: =IF(ADHERENTS!A13="Handicap",ADHERENTS!B13,"") | B9: =IF(ADHERENTS!A13="Handicap",ADHERENTS!C13,"")
A10: =IF(ADHERENTS!A14="Handicap",ADHERENTS!B14,"") | B10: =IF(ADHERENTS!A14="Handicap",ADHERENTS!C14,"")
A11: =IF(ADHERENTS!A15="Handicap",ADHERENTS!B15,"") | B11: =IF(ADHERENTS!A15="Handicap",ADHERENTS!C15,"")
B12: =IF(ADHERENTS!A16="Handicap",ADHERENTS!C16,"")
B13: =IF(ADHERENTS!A17="Handicap",ADHERENTS!C17,"")
B14: =IF(ADHERENTS!A18="Handicap",ADHERENTS!C18,"")
B15: =IF(ADHERENTS!A19="Handicap",ADHERENTS!C19,"")
B16: =IF(ADHERENTS!A20="Handicap",ADHERENTS!C20,"")
B17: =IF(ADHERENTS!A21="Handicap",ADHERENTS!C21,"")
B18: =IF(ADHERENTS!A22="Handicap",ADHERENTS!C22,"")

Sheet BIEN VIEILLIR
A1: Pôle | B1: Lieu_intervention | C1: Nom | D1: Prénom | E1: Date_de_naissance | F1: Adresse | G1: Code_postal | H1: Ville | I1: N°_téléphone | J1: N°_portable | K1: Adresse_mail | L1: Droit_image | M1: Responsable_légal | N1: Coordonées | O1: Adhérent_2015-2016 | P1: Adhérent_2016-2017 | Q1: Adhérent_2017-2018

Sheet ACTIONS SOCIALES
A1: Pôle | B1: Lieu_intervention | C1: Nom | D1: Prénom | E1: Date_de_naissance | F1: Adresse | G1: Code_postal | H1: Ville | I1: N°_téléphone | J1: N°_portable | K1: Adresse_mail | L1: Droit_image | M1: Responsable_légal | N1: Coordonées | O1: Adhérent_2015-2016 | P1: Adhérent_2016-2017 | Q1: Adhérent_2017-2018

Sheet NUTRITION
A1: Pôle | B1: Lieu_intervention | C1: Nom | D1: Prénom | E1: Date_de_naissance | F1: Adresse | G1: Code_postal | H1: Ville | I1: N°_téléphone | J1: N°_portable | K1: Adresse_mail | L1: Droit_image | M1: Responsable_légal | N1: Coordonées | O1: Adhérent_2015-2016 | P1: Adhérent_2016-2017 | Q1: Adhérent_2017-2018

Sheet OUTIL
A1: Actions_Sociales | B1: Oui | C1: Marraussan
A2: Bien_Vieillir | B2: Non | C2: Stade Moureu
A3: Handicap | C3: Mont Blanc APF
A4: Nutrition | C4: ESAT OSARIS
C5: Terre Blanche
C6: Club APA
C7: Vaclav Havel
C8: ASTP
C9: Villeneuve les Maguelone
C10: Autres
