Workbook
Name An: Données!$B$1
Name Fériés: Données!$B$11:$L$24
Name Horaires: [1]Année!$C$1:$D$8
Name Jours_fériés: Données!$B$11:$L$24

Sheet Données
C1: Horaires
C2: Lundi | D2: 0.32291667
C3: Mardi | D3: 0.32291667
C4: Mercredi | D4: 0.32291667
C5: Jeudi | D5: 0.32291667 | E5: heures à faire sur 1 an | F5: 65.625
C6: Vendredi | D6: 0.16666667 | E6: Semaine | F6: 1.4583333
C7: Samedi | D7: 0 | E7: Heure jours férié | F7: 0
C8: Dimanche | D8: 0
C10: Dimanche de Pâques : | E10: 41729 | F10: 42114
C11: fériés | D11: Année : | E11: 2018 | F11: 2019 | G11: 2020 | H11: 2021 | I11: 2022 | J11: 2023 | K11: 2024 | L11: 2025
C12: Jour de l'an | E12: =DATE(E11,1,1) -> 41639 | F12: =DATE(F11,1,1) -> 42004 | G12: =DATE(G11,1,1) -> 42369 | H12: =DATE(H11,1,1) -> 42735 | I12: =DATE(I11,1,1) -> 43100 | J12: =DATE(J11,1,1) -> 43465 | K12: =DATE(K11,1,1) -> 43830 | L12: =DATE(L11,1,1) -> 44196 | M12: 0
C13: Pâques | E13: =E10 -> 41729 | F13: =F10 -> 42114 | G13: =G10 -> 0 | H13: =H10 -> 0 | I13: =I10 -> 0 | J13: =J10 -> 0 | K13: =K10 -> 0 | L13: =L10 -> 0 | M13: 0
C14: Lundi de Pâques | E14: =E13+1 -> 41730 | F14: =F13+1 -> 42115 | G14: =G13+1 -> 1 | H14: =H13+1 -> 1 | I14: =I13+1 -> 1 | J14: =J13+1 -> 1 | K14: =K13+1 -> 1 | L14: =L13+1 -> 1 | M14: 0
C15: Fête du travail | E15: =DATE(E11,5,1) -> 41759 | F15: =DATE(F11,5,1) -> 42124 | G15: =DATE(G11,5,1) -> 42490 | H15: =DATE(H11,5,1) -> 42855 | I15: =DATE(I11,5,1) -> 43220 | J15: =DATE(J11,5,1) -> 43585 | K15: =DATE(K11,5,1) -> 43951 | L15: =DATE(L11,5,1) -> 44316 | M15: 0
C16: Armistice 1945 | E16: =DATE(E11,5,8) -> 41766 | F16: =DATE(F11,5,8) -> 42131 | G16: =DATE(G11,5,8) -> 42497 | H16: =DATE(H11,5,8) -> 42862 | I16: =DATE(I11,5,8) -> 43227 | J16: =DATE(J11,5,8) -> 43592 | K16: =DATE(K11,5,8) -> 43958 | L16: =DATE(L11,5,8) -> 44323 | M16: 0
C17: Ascension | E17: =E13+39 -> 41768 | F17: =F13+39 -> 42153 | G17: =G13+39 -> 39 | H17: =H13+39 -> 39 | I17: =I13+39 -> 39 | J17: =J13+39 -> 39 | K17: =K13+39 -> 39 | L17: =L13+39 -> 39 | M17: 0
C18: Pentecôte | E18: =E13+49 -> 41778 | F18: =F13+49 -> 42163 | G18: =G13+49 -> 49 | H18: =H13+49 -> 49 | I18: =I13+49 -> 49 | J18: =J13+49 -> 49 | K18: =K13+49 -> 49 | L18: =L13+49 -> 49 | M18: 0
C19: Lundi de Pentecote | E19: =E18+1 -> 41779 | F19: =F18+1 -> 42164 | G19: =G18+1 -> 50 | H19: =H18+1 -> 50 | I19: =I18+1 -> 50 | J19: =J18+1 -> 50 | K19: =K18+1 -> 50 | L19: =L18+1 -> 50 | M19: 0
C20: Fête nationale | E20: =DATE(E11,7,14) -> 41833 | F20: =DATE(F11,7,14) -> 42198 | G20: =DATE(G11,7,14) -> 42564 | H20: =DATE(H11,7,14) -> 42929 | I20: =DATE(I11,7,14) -> 43294 | J20: =DATE(J11,7,14) -> 43659 | K20: =DATE(K11,7,14) -> 44025 | L20: =DATE(L11,7,14) -> 44390 | M20: 0
C21: Assomption | E21: =DATE(E11,8,15) -> 41865 | F21: =DATE(F11,8,15) -> 42230 | G21: =DATE(G11,8,15) -> 42596 | H21: =DATE(H11,8,15) -> 42961 | I21: =DATE(I11,8,15) -> 43326 | J21: =DATE(J11,8,15) -> 43691 | K21: =DATE(K11,8,15) -> 44057 | L21: =DATE(L11,8,15) -> 44422 | M21: 0
C22: Toussaint | E22: =DATE(E11,11,1) -> 41943 | F22: =DATE(F11,11,1) -> 42308 | G22: =DATE(G11,11,1) -> 42674 | H22: =DATE(H11,11,1) -> 43039 | I22: =DATE(I11,11,1) -> 43404 | J22: =DATE(J11,11,1) -> 43769 | K22: =DATE(K11,11,1) -> 44135 | L22: =DATE(L11,11,1) -> 44500 | M22: 0
C23: Armistice 1918 | E23: =DATE(E11,11,11) -> 41953 | F23: =DATE(F11,11,11) -> 42318 | G23: =DATE(G11,11,11) -> 42684 | H23: =DATE(H11,11,11) -> 43049 | I23: =DATE(I11,11,11) -> 43414 | J23: =DATE(J11,11,11) -> 43779 | K23: =DATE(K11,11,11) -> 44145 | L23: =DATE(L11,11,11) -> 44510 | M23: 0
C24: NOEL | E24: =DATE(E11,12,25) -> 41997 | F24: =DATE(F11,12,25) -> 42362 | G24: =DATE(G11,12,25) -> 42728 | H24: =DATE(H11,12,25) -> 43093 | I24: =DATE(I11,12,25) -> 43458 | J24: =DATE(J11,12,25) -> 43823 | K24: =DATE(K11,12,25) -> 44189 | L24: =DATE(L11,12,25) -> 44554 | M24: 0

Sheet 2018_V1
A1: Année | B1: jours | C1: Dates : | D1: Jours travaillés | E1: Heures à faire: | F1: 22hà3h30à6h (X2,5) | G1: 6hà7h30 (X1,25) | H1: 7h30à16h45 (X1) | I1: 16h45à22h (X1,25) | J1: Heures pointées Bâtiment | K1: ASA | L1: Formations | M1: Jours Fériés | N1: Congés | O1: Heures Supp | P1: Heures Neige | Q1: Récup Heures Neige
A2: =YEAR(C2) -> 2018 | B2: =CHOOSE(WEEKDAY(C2),"Dimanche","Lundi","Mardi","Mercredi","Jeudi","Vendredi","Samedi") -> Lundi | C2: 41639 | D2: =IF(H2<=0,0,1) -> 0 | E2: =IFERROR((VLOOKUP(C2,Données!E12:M24,9,0)),VLOOKUP(B2,Horaires,2,0)) -> 0
A3: =YEAR(C3) -> 2018 | B3: =CHOOSE(WEEKDAY(C3),"Dimanche","Lundi","Mardi","Mercredi","Jeudi","Vendredi","Samedi") -> Mardi | C3: =C2+1 -> 41640 | D3: =IF(H3<=0,0,1) -> 0 | E3: =IFERROR((VLOOKUP(C3,Données!E13:M25,9,0)),VLOOKUP(B3,Horaires,2,0)) -> 0.32291667
A4: =YEAR(C4) -> 2018 | B4: =CHOOSE(WEEKDAY(C4),"Dimanche","Lundi","Mardi","Mercredi","Jeudi","Vendredi","Samedi") -> Mercredi | C4: =C3+1 -> 41641 | D4: =IF(H4<=0,0,1) -> 0 | E4: =IFERROR((VLOOKUP(C4,Données!E14:M26,9,0)),VLOOKUP(B4,Horaires,2,0)) -> 0.32291667
A5: =YEAR(C5) -> 2018 | B5: =CHOOSE(WEEKDAY(C5),"Dimanche","Lundi","Mardi","Mercredi","Jeudi","Vendredi","Samedi") -> Jeudi | C5: =C4+1 -> 41642 | D5: =IF(H5<=0,0,1) -> 0 | E5: =IFERROR((VLOOKUP(C5,Données!E15:M27,9,0)),VLOOKUP(B5,Horaires,2,0)) -> 0.32291667
A6: =YEAR(C6) -> 2018 | B6: =CHOOSE(WEEKDAY(C6),"Dimanche","Lundi","Mardi","Mercredi","Jeudi","Vendredi","Samedi") -> Vendredi | C6: =C5+1 -> 41643 | D6: =IF(H6<=0,0,1) -> 0 | E6: =IFERROR((VLOOKUP(C6,Données!E16:M28,9,0)),VLOOKUP(B6,Horaires,2,0)) -> 0.16666667
A7: =YEAR(C7) -> 2018 | B7: =CHOOSE(WEEKDAY(C7),"Dimanche","Lundi","Mardi","Mercredi","Jeudi","Vendredi","Samedi") -> Samedi | C7: =C6+1 -> 41644 | D7: =IF(H7<=0,0,1) -> 0 | E7: =IFERROR((VLOOKUP(C7,Données!E17:M29,9,0)),VLOOKUP(B7,Horaires,2,0)) -> 0
A8: =YEAR(C8) -> 2018 | B8: =CHOOSE(WEEKDAY(C8),"Dimanche","Lundi","Mardi","Mercredi","Jeudi","Vendredi","Samedi") -> Dimanche | C8: =C7+1 -> 41645 | D8: =IF(H8<=0,0,1) -> 0 | E8: =IFERROR((VLOOKUP(C8,Données!E18:M30,9,0)),VLOOKUP(B8,Horaires,2,0)) -> 0
A9: =YEAR(C9) -> 2018 | B9: =CHOOSE(WEEKDAY(C9),"Dimanche","Lundi","Mardi","Mercredi","Jeudi","Vendredi","Samedi") -> Lundi | C9: =C8+1 -> 41646 | D9: =IF(H9<=0,0,1) -> 0 | E9: =IFERROR((VLOOKUP(C9,Données!E19:M31,9,0)),VLOOKUP(B9,Horaires,2,0)) -> 0.32291667
A10: =YEAR(C10) -> 2018 | B10: =CHOOSE(WEEKDAY(C10),"Dimanche","Lundi","Mardi","Mercredi","Jeudi","Vendredi","Samedi") -> Mardi | C10: =C9+1 -> 41647 | D10: =IF(H10<=0,0,1) -> 0 | E10: =IFERROR((VLOOKUP(C10,Données!E20:M32,9,0)),VLOOKUP(B10,Horaires,2,0)) -> 0.32291667
A11: =YEAR(C11) -> 2018 | B11: =CHOOSE(WEEKDAY(C11),"Dimanche","Lundi","Mardi","Mercredi","Jeudi","Vendredi","Samedi") -> Mercredi | C11: =C10+1 -> 41648 | D11: =IF(H11<=0,0,1) -> 0 | E11: =IFERROR((VLOOKUP(C11,Données!E21:M33,9,0)),VLOOKUP(B11,Horaires,2,0)) -> 0.32291667
A12: =YEAR(C12) -> 2018 | B12: =CHOOSE(WEEKDAY(C12),"Dimanche","Lundi","Mardi","Mercredi","Jeudi","Vendredi","Samedi") -> Jeudi | C12: =C11+1 -> 41649 | D12: =IF(H12<=0,0,1) -> 0 | E12: =IFERROR((VLOOKUP(C12,Données!E22:M34,9,0)),VLOOKUP(B12,Horaires,2,0)) -> 0.32291667
A13: =YEAR(C13) -> 2018 | B13: =CHOOSE(WEEKDAY(C13),"Dimanche","Lundi","Mardi","Mercredi","Jeudi","Vendredi","Samedi") -> Vendredi | C13: =C12+1 -> 41650 | D13: =IF(H13<=0,0,1) -> 0 | E13: =IFERROR((VLOOKUP(C13,Données!E23:M35,9,0)),VLOOKUP(B13,Horaires,2,0)) -> 0.16666667
A14: =YEAR(C14) -> 2018 | B14: =CHOOSE(WEEKDAY(C14),"Dimanche","Lundi","Mardi","Mercredi","Jeudi","Vendredi","Samedi") -> Samedi | C14: =C13+1 -> 41651 | D14: =IF(H14<=0,0,1) -> 0 | E14: =IFERROR((VLOOKUP(C14,Données!E24:M36,9,0)),VLOOKUP(B14,Horaires,2,0)) -> 0
... A226: =YEAR(C226) -> 2018 | B226: =CHOOSE(WEEKDAY(C226),"Dimanche","Lundi","Mardi","Mercredi","Jeudi","Vendredi","Samedi") -> Lundi | C226: =C225+1 -> 41863 | D226: =IF(H226<=0,0,1) -> 0 | E226: =IFERROR((VLOOKUP(C226,Données!E236:M248,9,0)),VLOOKUP(B226,Horaires,2,0)) -> 0.32291667
A227: =YEAR(C227) -> 2018 | B227: =CHOOSE(WEEKDAY(C227),"Dimanche","Lundi","Mardi","Mercredi","Jeudi","Vendredi","Samedi") -> Mardi | C227: =C226+1 -> 41864 | D227: =IF(H227<=0,0,1) -> 0 | E227: =IFERROR((VLOOKUP(C227,Données!E237:M249,9,0)),VLOOKUP(B227,Horaires,2,0)) -> 0.32291667 | R227: medecin
A228: =YEAR(C228) -> 2018 | B228: =CHOOSE(WEEKDAY(C228),"Dimanche","Lundi","Mardi","Mercredi","Jeudi","Vendredi","Samedi") -> Mercredi | C228: =C227+1 -> 41865 | D228: =IF(H228<=0,0,1) -> 0 | E228: =IFERROR((VLOOKUP(C228,Données!E238:M250,9,0)),VLOOKUP(B228,Horaires,2,0)) -> 0.32291667
A229: =YEAR(C229) -> 2018 | B229: =CHOOSE(WEEKDAY(C229),"Dimanche","Lundi","Mardi","Mercredi","Jeudi","Vendredi","Samedi") -> Jeudi | C229: =C228+1 -> 41866 | D229: =IF(H229<=0,0,1) -> 0 | E229: =IFERROR((VLOOKUP(C229,Données!E239:M251,9,0)),VLOOKUP(B229,Horaires,2,0)) -> 0.32291667
A230: =YEAR(C230) -> 2018 | B230: =CHOOSE(WEEKDAY(C230),"Dimanche","Lundi","Mardi","Mercredi","Jeudi","Vendredi","Samedi") -> Vendredi | C230: =C229+1 -> 41867 | D230: =IF(H230<=0,0,1) -> 0 | E230: =IFERROR((VLOOKUP(C230,Données!E240:M252,9,0)),VLOOKUP(B230,Horaires,2,0)) -> 0.16666667
A231: =YEAR(C231) -> 2018 | B231: =CHOOSE(WEEKDAY(C231),"Dimanche","Lundi","Mardi","Mercredi","Jeudi","Vendredi","Samedi") -> Samedi | C231: =C230+1 -> 41868 | D231: =IF(H231<=0,0,1) -> 0 | E231: =IFERROR((VLOOKUP(C231,Données!E241:M253,9,0)),VLOOKUP(B231,Horaires,2,0)) -> 0
A232: =YEAR(C232) -> 2018 | B232: =CHOOSE(WEEKDAY(C232),"Dimanche","Lundi","Mardi","Mercredi","Jeudi","Vendredi","Samedi") -> Dimanche | C232: =C231+1 -> 41869 | D232: =IF(H232<=0,0,1) -> 0 | E232: =IFERROR((VLOOKUP(C232,Données!E242:M254,9,0)),VLOOKUP(B232,Horaires,2,0)) -> 0
A233: =YEAR(C233) -> 2018 | B233: =CHOOSE(WEEKDAY(C233),"Dimanche","Lundi","Mardi","Mercredi","Jeudi","Vendredi","Samedi") -> Lundi | C233: =C232+1 -> 41870 | D233: =IF(H233<=0,0,1) -> 0 | E233: =IFERROR((VLOOKUP(C233,Données!E243:M255,9,0)),VLOOKUP(B233,Horaires,2,0)) -> 0.32291667
A234: =YEAR(C234) -> 2018 | B234: =CHOOSE(WEEKDAY(C234),"Dimanche","Lundi","Mardi","Mercredi","Jeudi","Vendredi","Samedi") -> Mardi | C234: =C233+1 -> 41871 | D234: =IF(H234<=0,0,1) -> 0 | E234: =IFERROR((VLOOKUP(C234,Données!E244:M256,9,0)),VLOOKUP(B234,Horaires,2,0)) -> 0.32291667
A235: =YEAR(C235) -> 2018 | B235: =CHOOSE(WEEKDAY(C235),"Dimanche","Lundi","Mardi","Mercredi","Jeudi","Vendredi","Samedi") -> Mercredi | C235: =C234+1 -> 41872 | D235: =IF(H235<=0,0,1) -> 0 | E235: =IFERROR((VLOOKUP(C235,Données!E245:M257,9,0)),VLOOKUP(B235,Horaires,2,0)) -> 0.32291667
A236: =YEAR(C236) -> 2018 | B236: =CHOOSE(WEEKDAY(C236),"Dimanche","Lundi","Mardi","Mercredi","Jeudi","Vendredi","Samedi") -> Jeudi | C236: =C235+1 -> 41873 | D236: =IF(H236<=0,0,1) -> 0 | E236: =IFERROR((VLOOKUP(C236,Données!E246:M258,9,0)),VLOOKUP(B236,Horaires,2,0)) -> 0.32291667
A237: =YEAR(C237) -> 2018 | B237: =CHOOSE(WEEKDAY(C237),"Dimanche","Lundi","Mardi","Mercredi","Jeudi","Vendredi","Samedi") -> Vendredi | C237: =C236+1 -> 41874 | D237: =IF(H237<=0,0,1) -> 0 | E237: =IFERROR((VLOOKUP(C237,Données!E247:M259,9,0)),VLOOKUP(B237,Horaires,2,0)) -> 0.16666667
A238: =YEAR(C238) -> 2018 | B238: =CHOOSE(WEEKDAY(C238),"Dimanche","Lundi","Mardi","Mercredi","Jeudi","Vendredi","Samedi") -> Samedi | C238: =C237+1 -> 41875 | D238: =IF(H238<=0,0,1) -> 0 | E238: =IFERROR((VLOOKUP(C238,Données!E248:M260,9,0)),VLOOKUP(B238,Horaires,2,0)) -> 0
A239: =YEAR(C239) -> 2018 | B239: =CHOOSE(WEEKDAY(C239),"Dimanche","Lundi","Mardi","Mercredi","Jeudi","Vendredi","Samedi") -> Dimanche | C239: =C238+1 -> 41876 | D239: =IF(H239<=0,0,1) -> 0 | E239: =IFERROR((VLOOKUP(C239,Données!E249:M261,9,0)),VLOOKUP(B239,Horaires,2,0)) -> 0
A240: =YEAR(C240) -> 2018 | B240: =CHOOSE(WEEKDAY(C240),"Dimanche","Lundi","Mardi","Mercredi","Jeudi","Vendredi","Samedi") -> Lundi | C240: =C239+1 -> 41877 | D240: =IF(H240<=0,0,1) -> 0 | E240: =IFERROR((VLOOKUP(C240,Données!E250:M262,9,0)),VLOOKUP(B240,Horaires,2,0)) -> 0.32291667
A241: =YEAR(C241) -> 2018 | B241: =CHOOSE(WEEKDAY(C241),"Dimanche","Lundi","Mardi","Mercredi","Jeudi","Vendredi","Samedi") -> Mardi | C241: =C240+1 -> 41878 | D241: =IF(H241<=0,0,1) -> 0 | E241: =IFERROR((VLOOKUP(C241,Données!E251:M263,9,0)),VLOOKUP(B241,Horaires,2,0)) -> 0.32291667 | R241: muron
A242: =YEAR(C242) -> 2018 | B242: =CHOOSE(WEEKDAY(C242),"Dimanche","Lundi","Mardi","Mercredi","Jeudi","Vendredi","Samedi") -> Mercredi | C242: =C241+1 -> 41879 | D242: =IF(H242<=0,0,1) -> 0 | E242: =IFERROR((VLOOKUP(C242,Données!E252:M264,9,0)),VLOOKUP(B242,Horaires,2,0)) -> 0.32291667
A243: =YEAR(C243) -> 2018 | B243: =CHOOSE(WEEKDAY(C243),"Dimanche","Lundi","Mardi","Mercredi","Jeudi","Vendredi","Samedi") -> Jeudi | C243: =C242+1 -> 41880 | D243: =IF(H243<=0,0,1) -> 0 | E243: =IFERROR((VLOOKUP(C243,Données!E253:M265,9,0)),VLOOKUP(B243,Horaires,2,0)) -> 0.32291667
A244: =YEAR(C244) -> 2018 | B244: =CHOOSE(WEEKDAY(C244),"Dimanche","Lundi","Mardi","Mercredi","Jeudi","Vendredi","Samedi") -> Vendredi | C244: =C243+1 -> 41881 | D244: =IF(H244<=0,0,1) -> 0 | E244: =IFERROR((VLOOKUP(C244,Données!E254:M266,9,0)),VLOOKUP(B244,Horaires,2,0)) -> 0.16666667 | R244: medecin
A245: =YEAR(C245) -> 2018 | B245: =CHOOSE(WEEKDAY(C245),"Dimanche","Lundi","Mardi","Mercredi","Jeudi","Vendredi","Samedi") -> Samedi | C245: =C244+1 -> 41882 | D245: =IF(H245<=0,0,1) -> 0 | E245: =IFERROR((VLOOKUP(C245,Données!E255:M267,9,0)),VLOOKUP(B245,Horaires,2,0)) -> 0
A246: =YEAR(C246) -> 2018 | B246: =CHOOSE(WEEKDAY(C246),"Dimanche","Lundi","Mardi","Mercredi","Jeudi","Vendredi","Samedi") -> Dimanche | C246: =C245+1 -> 41883 | D246: =IF(H246<=0,0,1) -> 0 | E246: =IFERROR((VLOOKUP(C246,Données!E256:M268,9,0)),VLOOKUP(B246,Horaires,2,0)) -> 0
A247: =YEAR(C247) -> 2018 | B247: =CHOOSE(WEEKDAY(C247),"Dimanche","Lundi","Mardi","Mercredi","Jeudi","Vendredi","Samedi") -> Lundi | C247: =C246+1 -> 41884 | D247: =IF(H247<=0,0,1) -> 0 | E247: =IFERROR((VLOOKUP(C247,Données!E257:M269,9,0)),VLOOKUP(B247,Horaires,2,0)) -> 0.32291667
A248: =YEAR(C248) -> 2018 | B248: =CHOOSE(WEEKDAY(C248),"Dimanche","Lundi","Mardi","Mercredi","Jeudi","Vendredi","Samedi") -> Mardi | C248: =C247+1 -> 41885 | D248: =IF(H248<=0,0,1) -> 0 | E248: =IFERROR((VLOOKUP(C248,Données!E258:M270,9,0)),VLOOKUP(B248,Horaires,2,0)) -> 0.32291667
A249: =YEAR(C249) -> 2018 | B249: =CHOOSE(WEEKDAY(C249),"Dimanche","Lundi","Mardi","Mercredi","Jeudi","Vendredi","Samedi") -> Mercredi | C249: =C248+1 -> 41886 | D249: =IF(H249<=0,0,1) -> 0 | E249: =IFERROR((VLOOKUP(C249,Données!E259:M271,9,0)),VLOOKUP(B249,Horaires,2,0)) -> 0.32291667
A250: =YEAR(C250) -> 2018 | B250: =CHOOSE(WEEKDAY(C250),"Dimanche","Lundi","Mardi","Mercredi","Jeudi","Vendredi","Samedi") -> Jeudi | C250: =C249+1 -> 41887 | D250: =IF(H250<=0,0,1) -> 0 | E250: =IFERROR((VLOOKUP(C250,Données!E260:M272,9,0)),VLOOKUP(B250,Horaires,2,0)) -> 0.32291667
A251: =YEAR(C251) -> 2018 | B251: =CHOOSE(WEEKDAY(C251),"Dimanche","Lundi","Mardi","Mercredi","Jeudi","Vendredi","Samedi") -> Vendredi | C251: =C250+1 -> 41888 | D251: =IF(H251<=0,0,1) -> 0 | E251: =IFERROR((VLOOKUP(C251,Données!E261:M273,9,0)),VLOOKUP(B251,Horaires,2,0)) -> 0.16666667
...

Sheet 2019_V1
A1: Année | B1: jours | C1: Dates : | D1: Jours travaillés | E1: Heures à faire: | F1: 22hà3h30à6h (X2,5) | G1: 6hà7h30 (X1,25) | H1: 7h30à16h45 (X1) | I1: 16h45à22h (X1,25) | J1: Heures pointées Bâtiment | K1: ASA | L1: Formations | M1: Jours Fériés | N1: Congés | O1: Heures Supp | P1: Heures Neige | Q1: Récup Heures Neige
A2: =YEAR(C2) -> 2019 | B2: =CHOOSE(WEEKDAY(C2),"Dimanche","Lundi","Mardi","Mercredi","Jeudi","Vendredi","Samedi") -> Mardi | C2: 42004 | D2: =IF(H2<=0,0,1) -> 0 | E2: =IFERROR((VLOOKUP(C2,Données!F12:M24,8,0)),VLOOKUP(B2,Horaires,2,0)) -> 0
A3: =YEAR(C3) -> 2019 | B3: =CHOOSE(WEEKDAY(C3),"Dimanche","Lundi","Mardi","Mercredi","Jeudi","Vendredi","Samedi") -> Mercredi | C3: =C2+1 -> 42005 | D3: =IF(H3<=0,0,1) -> 0 | E3: =IFERROR((VLOOKUP(C3,Données!F13:M25,8,0)),VLOOKUP(B3,Horaires,2,0)) -> 0.32291667
A4: =YEAR(C4) -> 2019 | B4: =CHOOSE(WEEKDAY(C4),"Dimanche","Lundi","Mardi","Mercredi","Jeudi","Vendredi","Samedi") -> Jeudi | C4: =C3+1 -> 42006 | D4: =IF(H4<=0,0,1) -> 0 | E4: =IFERROR((VLOOKUP(C4,Données!F14:M26,8,0)),VLOOKUP(B4,Horaires,2,0)) -> 0.32291667
A5: =YEAR(C5) -> 2019 | B5: =CHOOSE(WEEKDAY(C5),"Dimanche","Lundi","Mardi","Mercredi","Jeudi","Vendredi","Samedi") -> Vendredi | C5: =C4+1 -> 42007 | D5: =IF(H5<=0,0,1) -> 0 | E5: =IFERROR((VLOOKUP(C5,Données!F15:M27,8,0)),VLOOKUP(B5,Horaires,2,0)) -> 0.16666667
A6: =YEAR(C6) -> 2019 | B6: =CHOOSE(WEEKDAY(C6),"Dimanche","Lundi","Mardi","Mercredi","Jeudi","Vendredi","Samedi") -> Samedi | C6: =C5+1 -> 42008 | D6: =IF(H6<=0,0,1) -> 0 | E6: =IFERROR((VLOOKUP(C6,Données!F16:M28,8,0)),VLOOKUP(B6,Horaires,2,0)) -> 0
A7: =YEAR(C7) -> 2019 | B7: =CHOOSE(WEEKDAY(C7),"Dimanche","Lundi","Mardi","Mercredi","Jeudi","Vendredi","Samedi") -> Dimanche | C7: =C6+1 -> 42009 | D7: =IF(H7<=0,0,1) -> 0 | E7: =IFERROR((VLOOKUP(C7,Données!F17:M29,8,0)),VLOOKUP(B7,Horaires,2,0)) -> 0
A8: =YEAR(C8) -> 2019 | B8: =CHOOSE(WEEKDAY(C8),"Dimanche","Lundi","Mardi","Mercredi","Jeudi","Vendredi","Samedi") -> Lundi | C8: =C7+1 -> 42010 | D8: =IF(H8<=0,0,1) -> 0 | E8: =IFERROR((VLOOKUP(C8,Données!F18:M30,8,0)),VLOOKUP(B8,Horaires,2,0)) -> 0.32291667
A9: =YEAR(C9) -> 2019 | B9: =CHOOSE(WEEKDAY(C9),"Dimanche","Lundi","Mardi","Mercredi","Jeudi","Vendredi","Samedi") -> Mardi | C9: =C8+1 -> 42011 | D9: =IF(H9<=0,0,1) -> 0 | E9: =IFERROR((VLOOKUP(C9,Données!F19:M31,8,0)),VLOOKUP(B9,Horaires,2,0)) -> 0.32291667
A10: =YEAR(C10) -> 2019 | B10: =CHOOSE(WEEKDAY(C10),"Dimanche","Lundi","Mardi","Mercredi","Jeudi","Vendredi","Samedi") -> Mercredi | C10: =C9+1 -> 42012 | D10: =IF(H10<=0,0,1) -> 0 | E10: =IFERROR((VLOOKUP(C10,Données!F20:M32,8,0)),VLOOKUP(B10,Horaires,2,0)) -> 0.32291667
A11: =YEAR(C11) -> 2019 | B11: =CHOOSE(WEEKDAY(C11),"Dimanche","Lundi","Mardi","Mercredi","Jeudi","Vendredi","Samedi") -> Jeudi | C11: =C10+1 -> 42013 | D11: =IF(H11<=0,0,1) -> 0 | E11: =IFERROR((VLOOKUP(C11,Données!F21:M33,8,0)),VLOOKUP(B11,Horaires,2,0)) -> 0.32291667
A12: =YEAR(C12) -> 2019 | B12: =CHOOSE(WEEKDAY(C12),"Dimanche","Lundi","Mardi","Mercredi","Jeudi","Vendredi","Samedi") -> Vendredi | C12: =C11+1 -> 42014 | D12: =IF(H12<=0,0,1) -> 0 | E12: =IFERROR((VLOOKUP(C12,Données!F22:M34,8,0)),VLOOKUP(B12,Horaires,2,0)) -> 0.16666667
A13: =YEAR(C13) -> 2019 | B13: =CHOOSE(WEEKDAY(C13),"Dimanche","Lundi","Mardi","Mercredi","Jeudi","Vendredi","Samedi") -> Samedi | C13: =C12+1 -> 42015 | D13: =IF(H13<=0,0,1) -> 0 | E13: =IFERROR((VLOOKUP(C13,Données!F23:M35,8,0)),VLOOKUP(B13,Horaires,2,0)) -> 0
A14: =YEAR(C14) -> 2019 | B14: =CHOOSE(WEEKDAY(C14),"Dimanche","Lundi","Mardi","Mercredi","Jeudi","Vendredi","Samedi") -> Dimanche | C14: =C13+1 -> 42016 | D14: =IF(H14<=0,0,1) -> 0 | E14: =IFERROR((VLOOKUP(C14,Données!F24:M36,8,0)),VLOOKUP(B14,Horaires,2,0)) -> 0
... A226: =YEAR(C226) -> 2019 | B226: =CHOOSE(WEEKDAY(C226),"Dimanche","Lundi","Mardi","Mercredi","Jeudi","Vendredi","Samedi") -> Mardi | C226: =C225+1 -> 42228 | D226: =IF(H226<=0,0,1) -> 0 | E226: =IFERROR((VLOOKUP(C226,Données!F236:M248,8,0)),VLOOKUP(B226,Horaires,2,0)) -> 0.32291667
A227: =YEAR(C227) -> 2019 | B227: =CHOOSE(WEEKDAY(C227),"Dimanche","Lundi","Mardi","Mercredi","Jeudi","Vendredi","Samedi") -> Mercredi | C227: =C226+1 -> 42229 | D227: =IF(H227<=0,0,1) -> 0 | E227: =IFERROR((VLOOKUP(C227,Données!F237:M249,8,0)),VLOOKUP(B227,Horaires,2,0)) -> 0.32291667 | R227: medecin
A228: =YEAR(C228) -> 2019 | B228: =CHOOSE(WEEKDAY(C228),"Dimanche","Lundi","Mardi","Mercredi","Jeudi","Vendredi","Samedi") -> Jeudi | C228: =C227+1 -> 42230 | D228: =IF(H228<=0,0,1) -> 0 | E228: =IFERROR((VLOOKUP(C228,Données!F238:M250,8,0)),VLOOKUP(B228,Horaires,2,0)) -> 0.32291667
A229: =YEAR(C229) -> 2019 | B229: =CHOOSE(WEEKDAY(C229),"Dimanche","Lundi","Mardi","Mercredi","Jeudi","Vendredi","Samedi") -> Vendredi | C229: =C228+1 -> 42231 | D229: =IF(H229<=0,0,1) -> 0 | E229: =IFERROR((VLOOKUP(C229,Données!F239:M251,8,0)),VLOOKUP(B229,Horaires,2,0)) -> 0.16666667
A230: =YEAR(C230) -> 2019 | B230: =CHOOSE(WEEKDAY(C230),"Dimanche","Lundi","Mardi","Mercredi","Jeudi","Vendredi","Samedi") -> Samedi | C230: =C229+1 -> 42232 | D230: =IF(H230<=0,0,1) -> 0 | E230: =IFERROR((VLOOKUP(C230,Données!F240:M252,8,0)),VLOOKUP(B230,Horaires,2,0)) -> 0
A231: =YEAR(C231) -> 2019 | B231: =CHOOSE(WEEKDAY(C231),"Dimanche","Lundi","Mardi","Mercredi","Jeudi","Vendredi","Samedi") -> Dimanche | C231: =C230+1 -> 42233 | D231: =IF(H231<=0,0,1) -> 0 | E231: =IFERROR((VLOOKUP(C231,Données!F241:M253,8,0)),VLOOKUP(B231,Horaires,2,0)) -> 0
A232: =YEAR(C232) -> 2019 | B232: =CHOOSE(WEEKDAY(C232),"Dimanche","Lundi","Mardi","Mercredi","Jeudi","Vendredi","Samedi") -> Lundi | C232: =C231+1 -> 42234 | D232: =IF(H232<=0,0,1) -> 0 | E232: =IFERROR((VLOOKUP(C232,Données!F242:M254,8,0)),VLOOKUP(B232,Horaires,2,0)) -> 0.32291667
A233: =YEAR(C233) -> 2019 | B233: =CHOOSE(WEEKDAY(C233),"Dimanche","Lundi","Mardi","Mercredi","Jeudi","Vendredi","Samedi") -> Mardi | C233: =C232+1 -> 42235 | D233: =IF(H233<=0,0,1) -> 0 | E233: =IFERROR((VLOOKUP(C233,Données!F243:M255,8,0)),VLOOKUP(B233,Horaires,2,0)) -> 0.32291667
A234: =YEAR(C234) -> 2019 | B234: =CHOOSE(WEEKDAY(C234),"Dimanche","Lundi","Mardi","Mercredi","Jeudi","Vendredi","Samedi") -> Mercredi | C234: =C233+1 -> 42236 | D234: =IF(H234<=0,0,1) -> 0 | E234: =IFERROR((VLOOKUP(C234,Données!F244:M256,8,0)),VLOOKUP(B234,Horaires,2,0)) -> 0.32291667
A235: =YEAR(C235) -> 2019 | B235: =CHOOSE(WEEKDAY(C235),"Dimanche","Lundi","Mardi","Mercredi","Jeudi","Vendredi","Samedi") -> Jeudi | C235: =C234+1 -> 42237 | D235: =IF(H235<=0,0,1) -> 0 | E235: =IFERROR((VLOOKUP(C235,Données!F245:M257,8,0)),VLOOKUP(B235,Horaires,2,0)) -> 0.32291667
A236: =YEAR(C236) -> 2019 | B236: =CHOOSE(WEEKDAY(C236),"Dimanche","Lundi","Mardi","Mercredi","Jeudi","Vendredi","Samedi") -> Vendredi | C236: =C235+1 -> 42238 | D236: =IF(H236<=0,0,1) -> 0 | E236: =IFERROR((VLOOKUP(C236,Données!F246:M258,8,0)),VLOOKUP(B236,Horaires,2,0)) -> 0.16666667
A237: =YEAR(C237) -> 2019 | B237: =CHOOSE(WEEKDAY(C237),"Dimanche","Lundi","Mardi","Mercredi","Jeudi","Vendredi","Samedi") -> Samedi | C237: =C236+1 -> 42239 | D237: =IF(H237<=0,0,1) -> 0 | E237: =IFERROR((VLOOKUP(C237,Données!F247:M259,8,0)),VLOOKUP(B237,Horaires,2,0)) -> 0
A238: =YEAR(C238) -> 2019 | B238: =CHOOSE(WEEKDAY(C238),"Dimanche","Lundi","Mardi","Mercredi","Jeudi","Vendredi","Samedi") -> Dimanche | C238: =C237+1 -> 42240 | D238: =IF(H238<=0,0,1) -> 0 | E238: =IFERROR((VLOOKUP(C238,Données!F248:M260,8,0)),VLOOKUP(B238,Horaires,2,0)) -> 0
A239: =YEAR(C239) -> 2019 | B239: =CHOOSE(WEEKDAY(C239),"Dimanche","Lundi","Mardi","Mercredi","Jeudi","Vendredi","Samedi") -> Lundi | C239: =C238+1 -> 42241 | D239: =IF(H239<=0,0,1) -> 0 | E239: =IFERROR((VLOOKUP(C239,Données!F249:M261,8,0)),VLOOKUP(B239,Horaires,2,0)) -> 0.32291667
A240: =YEAR(C240) -> 2019 | B240: =CHOOSE(WEEKDAY(C240),"Dimanche","Lundi","Mardi","Mercredi","Jeudi","Vendredi","Samedi") -> Mardi | C240: =C239+1 -> 42242 | D240: =IF(H240<=0,0,1) -> 0 | E240: =IFERROR((VLOOKUP(C240,Données!F250:M262,8,0)),VLOOKUP(B240,Horaires,2,0)) -> 0.32291667
A241: =YEAR(C241) -> 2019 | B241: =CHOOSE(WEEKDAY(C241),"Dimanche","Lundi","Mardi","Mercredi","Jeudi","Vendredi","Samedi") -> Mercredi | C241: =C240+1 -> 42243 | D241: =IF(H241<=0,0,1) -> 0 | E241: =IFERROR((VLOOKUP(C241,Données!F251:M263,8,0)),VLOOKUP(B241,Horaires,2,0)) -> 0.32291667 | R241: muron
A242: =YEAR(C242) -> 2019 | B242: =CHOOSE(WEEKDAY(C242),"Dimanche","Lundi","Mardi","Mercredi","Jeudi","Vendredi","Samedi") -> Jeudi | C242: =C241+1 -> 42244 | D242: =IF(H242<=0,0,1) -> 0 | E242: =IFERROR((VLOOKUP(C242,Données!F252:M264,8,0)),VLOOKUP(B242,Horaires,2,0)) -> 0.32291667
A243: =YEAR(C243) -> 2019 | B243: =CHOOSE(WEEKDAY(C243),"Dimanche","Lundi","Mardi","Mercredi","Jeudi","Vendredi","Samedi") -> Vendredi | C243: =C242+1 -> 42245 | D243: =IF(H243<=0,0,1) -> 0 | E243: =IFERROR((VLOOKUP(C243,Données!F253:M265,8,0)),VLOOKUP(B243,Horaires,2,0)) -> 0.16666667
A244: =YEAR(C244) -> 2019 | B244: =CHOOSE(WEEKDAY(C244),"Dimanche","Lundi","Mardi","Mercredi","Jeudi","Vendredi","Samedi") -> Samedi | C244: =C243+1 -> 42246 | D244: =IF(H244<=0,0,1) -> 0 | E244: =IFERROR((VLOOKUP(C244,Données!F254:M266,8,0)),VLOOKUP(B244,Horaires,2,0)) -> 0 | R244: medecin
A245: =YEAR(C245) -> 2019 | B245: =CHOOSE(WEEKDAY(C245),"Dimanche","Lundi","Mardi","Mercredi","Jeudi","Vendredi","Samedi") -> Dimanche | C245: =C244+1 -> 42247 | D245: =IF(H245<=0,0,1) -> 0 | E245: =IFERROR((VLOOKUP(C245,Données!F255:M267,8,0)),VLOOKUP(B245,Horaires,2,0)) -> 0
A246: =YEAR(C246) -> 2019 | B246: =CHOOSE(WEEKDAY(C246),"Dimanche","Lundi","Mardi","Mercredi","Jeudi","Vendredi","Samedi") -> Lundi | C246: =C245+1 -> 42248 | D246: =IF(H246<=0,0,1) -> 0 | E246: =IFERROR((VLOOKUP(C246,Données!F256:M268,8,0)),VLOOKUP(B246,Horaires,2,0)) -> 0.32291667
A247: =YEAR(C247) -> 2019 | B247: =CHOOSE(WEEKDAY(C247),"Dimanche","Lundi","Mardi","Mercredi","Jeudi","Vendredi","Samedi") -> Mardi | C247: =C246+1 -> 42249 | D247: =IF(H247<=0,0,1) -> 0 | E247: =IFERROR((VLOOKUP(C247,Données!F257:M269,8,0)),VLOOKUP(B247,Horaires,2,0)) -> 0.32291667
A248: =YEAR(C248) -> 2019 | B248: =CHOOSE(WEEKDAY(C248),"Dimanche","Lundi","Mardi","Mercredi","Jeudi","Vendredi","Samedi") -> Mercredi | C248: =C247+1 -> 42250 | D248: =IF(H248<=0,0,1) -> 0 | E248: =IFERROR((VLOOKUP(C248,Données!F258:M270,8,0)),VLOOKUP(B248,Horaires,2,0)) -> 0.32291667
A249: =YEAR(C249) -> 2019 | B249: =CHOOSE(WEEKDAY(C249),"Dimanche","Lundi","Mardi","Mercredi","Jeudi","Vendredi","Samedi") -> Jeudi | C249: =C248+1 -> 42251 | D249: =IF(H249<=0,0,1) -> 0 | E249: =IFERROR((VLOOKUP(C249,Données!F259:M271,8,0)),VLOOKUP(B249,Horaires,2,0)) -> 0.32291667
A250: =YEAR(C250) -> 2019 | B250: =CHOOSE(WEEKDAY(C250),"Dimanche","Lundi","Mardi","Mercredi","Jeudi","Vendredi","Samedi") -> Vendredi | C250: =C249+1 -> 42252 | D250: =IF(H250<=0,0,1) -> 0 | E250: =IFERROR((VLOOKUP(C250,Données!F260:M272,8,0)),VLOOKUP(B250,Horaires,2,0)) -> 0.16666667
A251: =YEAR(C251) -> 2019 | B251: =CHOOSE(WEEKDAY(C251),"Dimanche","Lundi","Mardi","Mercredi","Jeudi","Vendredi","Samedi") -> Samedi | C251: =C250+1 -> 42253 | D251: =IF(H251<=0,0,1) -> 0 | E251: =IFERROR((VLOOKUP(C251,Données!F261:M273,8,0)),VLOOKUP(B251,Horaires,2,0)) -> 0
...

Sheet 2018_V2
A1: Année | B1: jours | C1: Dates : | D1: Jours travaillés | E1: Heures à faire: | F1: 22hà3h30à6h (X2,5) | G1: 6hà7h30 (X1,25) | H1: 7h30à16h45 (X1) | I1: 16h45à22h (X1,25) | J1: Heures pointées Bâtiment | K1: ASA | L1: Formations | M1: Jours Fériés | N1: Congés | O1: Heures Supp | P1: Heures Neige | Q1: Récup Heures Neige
A2: =YEAR(C2) -> 2018 | B2: =CHOOSE(WEEKDAY(C2),"Dimanche","Lundi","Mardi","Mercredi","Jeudi","Vendredi","Samedi") -> Lundi | C2: 41639 | D2: =IF(H2<=0,0,1) -> 0 | E2: =IF(COUNTIF(Données!E12:E24,C2)>=1,0,VLOOKUP(B2,Horaires,2,0)) -> 0
A3: =YEAR(C3) -> 2018 | B3: =CHOOSE(WEEKDAY(C3),"Dimanche","Lundi","Mardi","Mercredi","Jeudi","Vendredi","Samedi") -> Mardi | C3: =C2+1 -> 41640 | D3: =IF(H3<=0,0,1) -> 0 | E3: =IF(COUNTIF(Données!E13:E25,C3)>=1,0,VLOOKUP(B3,Horaires,2,0)) -> 0.32291667
A4: =YEAR(C4) -> 2018 | B4: =CHOOSE(WEEKDAY(C4),"Dimanche","Lundi","Mardi","Mercredi","Jeudi","Vendredi","Samedi") -> Mercredi | C4: =C3+1 -> 41641 | D4: =IF(H4<=0,0,1) -> 0 | E4: =IF(COUNTIF(Données!E14:E26,C4)>=1,0,VLOOKUP(B4,Horaires,2,0)) -> 0.32291667
A5: =YEAR(C5) -> 2018 | B5: =CHOOSE(WEEKDAY(C5),"Dimanche","Lundi","Mardi","Mercredi","Jeudi","Vendredi","Samedi") -> Jeudi | C5: =C4+1 -> 41642 | D5: =IF(H5<=0,0,1) -> 0 | E5: =IF(COUNTIF(Données!E15:E27,C5)>=1,0,VLOOKUP(B5,Horaires,2,0)) -> 0.32291667
A6: =YEAR(C6) -> 2018 | B6: =CHOOSE(WEEKDAY(C6),"Dimanche","Lundi","Mardi","Mercredi","Jeudi","Vendredi","Samedi") -> Vendredi | C6: =C5+1 -> 41643 | D6: =IF(H6<=0,0,1) -> 0 | E6: =IF(COUNTIF(Données!E16:E28,C6)>=1,0,VLOOKUP(B6,Horaires,2,0)) -> 0.16666667
A7: =YEAR(C7) -> 2018 | B7: =CHOOSE(WEEKDAY(C7),"Dimanche","Lundi","Mardi","Mercredi","Jeudi","Vendredi","Samedi") -> Samedi | C7: =C6+1 -> 41644 | D7: =IF(H7<=0,0,1) -> 0 | E7: =IF(COUNTIF(Données!E17:E29,C7)>=1,0,VLOOKUP(B7,Horaires,2,0)) -> 0
A8: =YEAR(C8) -> 2018 | B8: =CHOOSE(WEEKDAY(C8),"Dimanche","Lundi","Mardi","Mercredi","Jeudi","Vendredi","Samedi") -> Dimanche | C8: =C7+1 -> 41645 | D8: =IF(H8<=0,0,1) -> 0 | E8: =IF(COUNTIF(Données!E18:E30,C8)>=1,0,VLOOKUP(B8,Horaires,2,0)) -> 0
A9: =YEAR(C9) -> 2018 | B9: =CHOOSE(WEEKDAY(C9),"Dimanche","Lundi","Mardi","Mercredi","Jeudi","Vendredi","Samedi") -> Lundi | C9: =C8+1 -> 41646 | D9: =IF(H9<=0,0,1) -> 0 | E9: =IF(COUNTIF(Données!E19:E31,C9)>=1,0,VLOOKUP(B9,Horaires,2,0)) -> 0.32291667
A10: =YEAR(C10) -> 2018 | B10: =CHOOSE(WEEKDAY(C10),"Dimanche","Lundi","Mardi","Mercredi","Jeudi","Vendredi","Samedi") -> Mardi | C10: =C9+1 -> 41647 | D10: =IF(H10<=0,0,1) -> 0 | E10: =IF(COUNTIF(Données!E20:E32,C10)>=1,0,VLOOKUP(B10,Horaires,2,0)) -> 0.32291667
A11: =YEAR(C11) -> 2018 | B11: =CHOOSE(WEEKDAY(C11),"Dimanche","Lundi","Mardi","Mercredi","Jeudi","Vendredi","Samedi") -> Mercredi | C11: =C10+1 -> 41648 | D11: =IF(H11<=0,0,1) -> 0 | E11: =IF(COUNTIF(Données!E21:E33,C11)>=1,0,VLOOKUP(B11,Horaires,2,0)) -> 0.32291667
A12: =YEAR(C12) -> 2018 | B12: =CHOOSE(WEEKDAY(C12),"Dimanche","Lundi","Mardi","Mercredi","Jeudi","Vendredi","Samedi") -> Jeudi | C12: =C11+1 -> 41649 | D12: =IF(H12<=0,0,1) -> 0 | E12: =IF(COUNTIF(Données!E22:E34,C12)>=1,0,VLOOKUP(B12,Horaires,2,0)) -> 0.32291667
A13: =YEAR(C13) -> 2018 | B13: =CHOOSE(WEEKDAY(C13),"Dimanche","Lundi","Mardi","Mercredi","Jeudi","Vendredi","Samedi") -> Vendredi | C13: =C12+1 -> 41650 | D13: =IF(H13<=0,0,1) -> 0 | E13: =IF(COUNTIF(Données!E23:E35,C13)>=1,0,VLOOKUP(B13,Horaires,2,0)) -> 0.16666667
A14: =YEAR(C14) -> 2018 | B14: =CHOOSE(WEEKDAY(C14),"Dimanche","Lundi","Mardi","Mercredi","Jeudi","Vendredi","Samedi") -> Samedi | C14: =C13+1 -> 41651 | D14: =IF(H14<=0,0,1) -> 0 | E14: =IF(COUNTIF(Données!E24:E36,C14)>=1,0,VLOOKUP(B14,Horaires,2,0)) -> 0
... A226: =YEAR(C226) -> 2018 | B226: =CHOOSE(WEEKDAY(C226),"Dimanche","Lundi","Mardi","Mercredi","Jeudi","Vendredi","Samedi") -> Lundi | C226: =C225+1 -> 41863 | D226: =IF(H226<=0,0,1) -> 0 | E226: =IF(COUNTIF(Données!E236:E248,C226)>=1,0,VLOOKUP(B226,Horaires,2,0)) -> 0.32291667
A227: =YEAR(C227) -> 2018 | B227: =CHOOSE(WEEKDAY(C227),"Dimanche","Lundi","Mardi","Mercredi","Jeudi","Vendredi","Samedi") -> Mardi | C227: =C226+1 -> 41864 | D227: =IF(H227<=0,0,1) -> 0 | E227: =IF(COUNTIF(Données!E237:E249,C227)>=1,0,VLOOKUP(B227,Horaires,2,0)) -> 0.32291667 | R227: medecin
A228: =YEAR(C228) -> 2018 | B228: =CHOOSE(WEEKDAY(C228),"Dimanche","Lundi","Mardi","Mercredi","Jeudi","Vendredi","Samedi") -> Mercredi | C228: =C227+1 -> 41865 | D228: =IF(H228<=0,0,1) -> 0 | E228: =IF(COUNTIF(Données!E238:E250,C228)>=1,0,VLOOKUP(B228,Horaires,2,0)) -> 0.32291667
A229: =YEAR(C229) -> 2018 | B229: =CHOOSE(WEEKDAY(C229),"Dimanche","Lundi","Mardi","Mercredi","Jeudi","Vendredi","Samedi") -> Jeudi | C229: =C228+1 -> 41866 | D229: =IF(H229<=0,0,1) -> 0 | E229: =IF(COUNTIF(Données!E239:E251,C229)>=1,0,VLOOKUP(B229,Horaires,2,0)) -> 0.32291667
A230: =YEAR(C230) -> 2018 | B230: =CHOOSE(WEEKDAY(C230),"Dimanche","Lundi","Mardi","Mercredi","Jeudi","Vendredi","Samedi") -> Vendredi | C230: =C229+1 -> 41867 | D230: =IF(H230<=0,0,1) -> 0 | E230: =IF(COUNTIF(Données!E240:E252,C230)>=1,0,VLOOKUP(B230,Horaires,2,0)) -> 0.16666667
A231: =YEAR(C231) -> 2018 | B231: =CHOOSE(WEEKDAY(C231),"Dimanche","Lundi","Mardi","Mercredi","Jeudi","Vendredi","Samedi") -> Samedi | C231: =C230+1 -> 41868 | D231: =IF(H231<=0,0,1) -> 0 | E231: =IF(COUNTIF(Données!E241:E253,C231)>=1,0,VLOOKUP(B231,Horaires,2,0)) -> 0
A232: =YEAR(C232) -> 2018 | B232: =CHOOSE(WEEKDAY(C232),"Dimanche","Lundi","Mardi","Mercredi","Jeudi","Vendredi","Samedi") -> Dimanche | C232: =C231+1 -> 41869 | D232: =IF(H232<=0,0,1) -> 0 | E232: =IF(COUNTIF(Données!E242:E254,C232)>=1,0,VLOOKUP(B232,Horaires,2,0)) -> 0
A233: =YEAR(C233) -> 2018 | B233: =CHOOSE(WEEKDAY(C233),"Dimanche","Lundi","Mardi","Mercredi","Jeudi","Vendredi","Samedi") -> Lundi | C233: =C232+1 -> 41870 | D233: =IF(H233<=0,0,1) -> 0 | E233: =IF(COUNTIF(Données!E243:E255,C233)>=1,0,VLOOKUP(B233,Horaires,2,0)) -> 0.32291667
A234: =YEAR(C234) -> 2018 | B234: =CHOOSE(WEEKDAY(C234),"Dimanche","Lundi","Mardi","Mercredi","Jeudi","Vendredi","Samedi") -> Mardi | C234: =C233+1 -> 41871 | D234: =IF(H234<=0,0,1) -> 0 | E234: =IF(COUNTIF(Données!E244:E256,C234)>=1,0,VLOOKUP(B234,Horaires,2,0)) -> 0.32291667
A235: =YEAR(C235) -> 2018 | B235: =CHOOSE(WEEKDAY(C235),"Dimanche","Lundi","Mardi","Mercredi","Jeudi","Vendredi","Samedi") -> Mercredi | C235: =C234+1 -> 41872 | D235: =IF(H235<=0,0,1) -> 0 | E235: =IF(COUNTIF(Données!E245:E257,C235)>=1,0,VLOOKUP(B235,Horaires,2,0)) -> 0.32291667
A236: =YEAR(C236) -> 2018 | B236: =CHOOSE(WEEKDAY(C236),"Dimanche","Lundi","Mardi","Mercredi","Jeudi","Vendredi","Samedi") -> Jeudi | C236: =C235+1 -> 41873 | D236: =IF(H236<=0,0,1) -> 0 | E236: =IF(COUNTIF(Données!E246:E258,C236)>=1,0,VLOOKUP(B236,Horaires,2,0)) -> 0.32291667
A237: =YEAR(C237) -> 2018 | B237: =CHOOSE(WEEKDAY(C237),"Dimanche","Lundi","Mardi","Mercredi","Jeudi","Vendredi","Samedi") -> Vendredi | C237: =C236+1 -> 41874 | D237: =IF(H237<=0,0,1) -> 0 | E237: =IF(COUNTIF(Données!E247:E259,C237)>=1,0,VLOOKUP(B237,Horaires,2,0)) -> 0.16666667
A238: =YEAR(C238) -> 2018 | B238: =CHOOSE(WEEKDAY(C238),"Dimanche","Lundi","Mardi","Mercredi","Jeudi","Vendredi","Samedi") -> Samedi | C238: =C237+1 -> 41875 | D238: =IF(H238<=0,0,1) -> 0 | E238: =IF(COUNTIF(Données!E248:E260,C238)>=1,0,VLOOKUP(B238,Horaires,2,0)) -> 0
A239: =YEAR(C239) -> 2018 | B239: =CHOOSE(WEEKDAY(C239),"Dimanche","Lundi","Mardi","Mercredi","Jeudi","Vendredi","Samedi") -> Dimanche | C239: =C238+1 -> 41876 | D239: =IF(H239<=0,0,1) -> 0 | E239: =IF(COUNTIF(Données!E249:E261,C239)>=1,0,VLOOKUP(B239,Horaires,2,0)) -> 0
A240: =YEAR(C240) -> 2018 | B240: =CHOOSE(WEEKDAY(C240),"Dimanche","Lundi","Mardi","Mercredi","Jeudi","Vendredi","Samedi") -> Lundi | C240: =C239+1 -> 41877 | D240: =IF(H240<=0,0,1) -> 0 | E240: =IF(COUNTIF(Données!E250:E262,C240)>=1,0,VLOOKUP(B240,Horaires,2,0)) -> 0.32291667
A241: =YEAR(C241) -> 2018 | B241: =CHOOSE(WEEKDAY(C241),"Dimanche","Lundi","Mardi","Mercredi","Jeudi","Vendredi","Samedi") -> Mardi | C241: =C240+1 -> 41878 | D241: =IF(H241<=0,0,1) -> 0 | E241: =IF(COUNTIF(Données!E251:E263,C241)>=1,0,VLOOKUP(B241,Horaires,2,0)) -> 0.32291667 | R241: muron
A242: =YEAR(C242) -> 2018 | B242: =CHOOSE(WEEKDAY(C242),"Dimanche","Lundi","Mardi","Mercredi","Jeudi","Vendredi","Samedi") -> Mercredi | C242: =C241+1 -> 41879 | D242: =IF(H242<=0,0,1) -> 0 | E242: =IF(COUNTIF(Données!E252:E264,C242)>=1,0,VLOOKUP(B242,Horaires,2,0)) -> 0.32291667
A243: =YEAR(C243) -> 2018 | B243: =CHOOSE(WEEKDAY(C243),"Dimanche","Lundi","Mardi","Mercredi","Jeudi","Vendredi","Samedi") -> Jeudi | C243: =C242+1 -> 41880 | D243: =IF(H243<=0,0,1) -> 0 | E243: =IF(COUNTIF(Données!E253:E265,C243)>=1,0,VLOOKUP(B243,Horaires,2,0)) -> 0.32291667
A244: =YEAR(C244) -> 2018 | B244: =CHOOSE(WEEKDAY(C244),"Dimanche","Lundi","Mardi","Mercredi","Jeudi","Vendredi","Samedi") -> Vendredi | C244: =C243+1 -> 41881 | D244: =IF(H244<=0,0,1) -> 0 | E244: =IF(COUNTIF(Données!E254:E266,C244)>=1,0,VLOOKUP(B244,Horaires,2,0)) -> 0.16666667 | R244: medecin
A245: =YEAR(C245) -> 2018 | B245: =CHOOSE(WEEKDAY(C245),"Dimanche","Lundi","Mardi","Mercredi","Jeudi","Vendredi","Samedi") -> Samedi | C245: =C244+1 -> 41882 | D245: =IF(H245<=0,0,1) -> 0 | E245: =IF(COUNTIF(Données!E255:E267,C245)>=1,0,VLOOKUP(B245,Horaires,2,0)) -> 0
A246: =YEAR(C246) -> 2018 | B246: =CHOOSE(WEEKDAY(C246),"Dimanche","Lundi","Mardi","Mercredi","Jeudi","Vendredi","Samedi") -> Dimanche | C246: =C245+1 -> 41883 | D246: =IF(H246<=0,0,1) -> 0 | E246: =IF(COUNTIF(Données!E256:E268,C246)>=1,0,VLOOKUP(B246,Horaires,2,0)) -> 0
A247: =YEAR(C247) -> 2018 | B247: =CHOOSE(WEEKDAY(C247),"Dimanche","Lundi","Mardi","Mercredi","Jeudi","Vendredi","Samedi") -> Lundi | C247: =C246+1 -> 41884 | D247: =IF(H247<=0,0,1) -> 0 | E247: =IF(COUNTIF(Données!E257:E269,C247)>=1,0,VLOOKUP(B247,Horaires,2,0)) -> 0.32291667
A248: =YEAR(C248) -> 2018 | B248: =CHOOSE(WEEKDAY(C248),"Dimanche","Lundi","Mardi","Mercredi","Jeudi","Vendredi","Samedi") -> Mardi | C248: =C247+1 -> 41885 | D248: =IF(H248<=0,0,1) -> 0 | E248: =IF(COUNTIF(Données!E258:E270,C248)>=1,0,VLOOKUP(B248,Horaires,2,0)) -> 0.32291667
A249: =YEAR(C249) -> 2018 | B249: =CHOOSE(WEEKDAY(C249),"Dimanche","Lundi","Mardi","Mercredi","Jeudi","Vendredi","Samedi") -> Mercredi | C249: =C248+1 -> 41886 | D249: =IF(H249<=0,0,1) -> 0 | E249: =IF(COUNTIF(Données!E259:E271,C249)>=1,0,VLOOKUP(B249,Horaires,2,0)) -> 0.32291667
A250: =YEAR(C250) -> 2018 | B250: =CHOOSE(WEEKDAY(C250),"Dimanche","Lundi","Mardi","Mercredi","Jeudi","Vendredi","Samedi") -> Jeudi | C250: =C249+1 -> 41887 | D250: =IF(H250<=0,0,1) -> 0 | E250: =IF(COUNTIF(Données!E260:E272,C250)>=1,0,VLOOKUP(B250,Horaires,2,0)) -> 0.32291667
A251: =YEAR(C251) -> 2018 | B251: =CHOOSE(WEEKDAY(C251),"Dimanche","Lundi","Mardi","Mercredi","Jeudi","Vendredi","Samedi") -> Vendredi | C251: =C250+1 -> 41888 | D251: =IF(H251<=0,0,1) -> 0 | E251: =IF(COUNTIF(Données!E261:E273,C251)>=1,0,VLOOKUP(B251,Horaires,2,0)) -> 0.16666667
...

Sheet 2019_V2
A1: Année | B1: jours | C1: Dates : | D1: Jours travaillés | E1: Heures à faire: | F1: 22hà3h30à6h (X2,5) | G1: 6hà7h30 (X1,25) | H1: 7h30à16h45 (X1) | I1: 16h45à22h (X1,25) | J1: Heures pointées Bâtiment | K1: ASA | L1: Formations | M1: Jours Fériés | N1: Congés | O1: Heures Supp | P1: Heures Neige | Q1: Récup Heures Neige
A2: =YEAR(C2) -> 2019 | B2: =CHOOSE(WEEKDAY(C2),"Dimanche","Lundi","Mardi","Mercredi","Jeudi","Vendredi","Samedi") -> Mardi | C2: 42004 | D2: =IF(H2<=0,0,1) -> 0 | E2: =IF(COUNTIF(Données!F12:F24,C2)>=1,0,VLOOKUP(B2,Horaires,2,0)) -> 0
A3: =YEAR(C3) -> 2019 | B3: =CHOOSE(WEEKDAY(C3),"Dimanche","Lundi","Mardi","Mercredi","Jeudi","Vendredi","Samedi") -> Mercredi | C3: =C2+1 -> 42005 | D3: =IF(H3<=0,0,1) -> 0 | E3: =IF(COUNTIF(Données!F13:F25,C3)>=1,0,VLOOKUP(B3,Horaires,2,0)) -> 0.32291667
A4: =YEAR(C4) -> 2019 | B4: =CHOOSE(WEEKDAY(C4),"Dimanche","Lundi","Mardi","Mercredi","Jeudi","Vendredi","Samedi") -> Jeudi | C4: =C3+1 -> 42006 | D4: =IF(H4<=0,0,1) -> 0 | E4: =IF(COUNTIF(Données!F14:F26,C4)>=1,0,VLOOKUP(B4,Horaires,2,0)) -> 0.32291667
A5: =YEAR(C5) -> 2019 | B5: =CHOOSE(WEEKDAY(C5),"Dimanche","Lundi","Mardi","Mercredi","Jeudi","Vendredi","Samedi") -> Vendredi | C5: =C4+1 -> 42007 | D5: =IF(H5<=0,0,1) -> 0 | E5: =IF(COUNTIF(Données!F15:F27,C5)>=1,0,VLOOKUP(B5,Horaires,2,0)) -> 0.16666667
A6: =YEAR(C6) -> 2019 | B6: =CHOOSE(WEEKDAY(C6),"Dimanche","Lundi","Mardi","Mercredi","Jeudi","Vendredi","Samedi") -> Samedi | C6: =C5+1 -> 42008 | D6: =IF(H6<=0,0,1) -> 0 | E6: =IF(COUNTIF(Données!F16:F28,C6)>=1,0,VLOOKUP(B6,Horaires,2,0)) -> 0
A7: =YEAR(C7) -> 2019 | B7: =CHOOSE(WEEKDAY(C7),"Dimanche","Lundi","Mardi","Mercredi","Jeudi","Vendredi","Samedi") -> Dimanche | C7: =C6+1 -> 42009 | D7: =IF(H7<=0,0,1) -> 0 | E7: =IF(COUNTIF(Données!F17:F29,C7)>=1,0,VLOOKUP(B7,Horaires,2,0)) -> 0
A8: =YEAR(C8) -> 2019 | B8: =CHOOSE(WEEKDAY(C8),"Dimanche","Lundi","Mardi","Mercredi","Jeudi","Vendredi","Samedi") -> Lundi | C8: =C7+1 -> 42010 | D8: =IF(H8<=0,0,1) -> 0 | E8: =IF(COUNTIF(Données!F18:F30,C8)>=1,0,VLOOKUP(B8,Horaires,2,0)) -> 0.32291667
A9: =YEAR(C9) -> 2019 | B9: =CHOOSE(WEEKDAY(C9),"Dimanche","Lundi","Mardi","Mercredi","Jeudi","Vendredi","Samedi") -> Mardi | C9: =C8+1 -> 42011 | D9: =IF(H9<=0,0,1) -> 0 | E9: =IF(COUNTIF(Données!F19:F31,C9)>=1,0,VLOOKUP(B9,Horaires,2,0)) -> 0.32291667
A10: =YEAR(C10) -> 2019 | B10: =CHOOSE(WEEKDAY(C10),"Dimanche","Lundi","Mardi","Mercredi","Jeudi","Vendredi","Samedi") -> Mercredi | C10: =C9+1 -> 42012 | D10: =IF(H10<=0,0,1) -> 0 | E10: =IF(COUNTIF(Données!F20:F32,C10)>=1,0,VLOOKUP(B10,Horaires,2,0)) -> 0.32291667
A11: =YEAR(C11) -> 2019 | B11: =CHOOSE(WEEKDAY(C11),"Dimanche","Lundi","Mardi","Mercredi","Jeudi","Vendredi","Samedi") -> Jeudi | C11: =C10+1 -> 42013 | D11: =IF(H11<=0,0,1) -> 0 | E11: =IF(COUNTIF(Données!F21:F33,C11)>=1,0,VLOOKUP(B11,Horaires,2,0)) -> 0.32291667
A12: =YEAR(C12) -> 2019 | B12: =CHOOSE(WEEKDAY(C12),"Dimanche","Lundi","Mardi","Mercredi","Jeudi","Vendredi","Samedi") -> Vendredi | C12: =C11+1 -> 42014 | D12: =IF(H12<=0,0,1) -> 0 | E12: =IF(COUNTIF(Données!F22:F34,C12)>=1,0,VLOOKUP(B12,Horaires,2,0)) -> 0.16666667
A13: =YEAR(C13) -> 2019 | B13: =CHOOSE(WEEKDAY(C13),"Dimanche","Lundi","Mardi","Mercredi","Jeudi","Vendredi","Samedi") -> Samedi | C13: =C12+1 -> 42015 | D13: =IF(H13<=0,0,1) -> 0 | E13: =IF(COUNTIF(Données!F23:F35,C13)>=1,0,VLOOKUP(B13,Horaires,2,0)) -> 0
A14: =YEAR(C14) -> 2019 | B14: =CHOOSE(WEEKDAY(C14),"Dimanche","Lundi","Mardi","Mercredi","Jeudi","Vendredi","Samedi") -> Dimanche | C14: =C13+1 -> 42016 | D14: =IF(H14<=0,0,1) -> 0 | E14: =IF(COUNTIF(Données!F24:F36,C14)>=1,0,VLOOKUP(B14,Horaires,2,0)) -> 0
... A226: =YEAR(C226) -> 2019 | B226: =CHOOSE(WEEKDAY(C226),"Dimanche","Lundi","Mardi","Mercredi","Jeudi","Vendredi","Samedi") -> Mardi | C226: =C225+1 -> 42228 | D226: =IF(H226<=0,0,1) -> 0 | E226: =IF(COUNTIF(Données!F236:F248,C226)>=1,0,VLOOKUP(B226,Horaires,2,0)) -> 0.32291667
A227: =YEAR(C227) -> 2019 | B227: =CHOOSE(WEEKDAY(C227),"Dimanche","Lundi","Mardi","Mercredi","Jeudi","Vendredi","Samedi") -> Mercredi | C227: =C226+1 -> 42229 | D227: =IF(H227<=0,0,1) -> 0 | E227: =IF(COUNTIF(Données!F237:F249,C227)>=1,0,VLOOKUP(B227,Horaires,2,0)) -> 0.32291667 | R227: medecin
A228: =YEAR(C228) -> 2019 | B228: =CHOOSE(WEEKDAY(C228),"Dimanche","Lundi","Mardi","Mercredi","Jeudi","Vendredi","Samedi") -> Jeudi | C228: =C227+1 -> 42230 | D228: =IF(H228<=0,0,1) -> 0 | E228: =IF(COUNTIF(Données!F238:F250,C228)>=1,0,VLOOKUP(B228,Horaires,2,0)) -> 0.32291667
A229: =YEAR(C229) -> 2019 | B229: =CHOOSE(WEEKDAY(C229),"Dimanche","Lundi","Mardi","Mercredi","Jeudi","Vendredi","Samedi") -> Vendredi | C229: =C228+1 -> 42231 | D229: =IF(H229<=0,0,1) -> 0 | E229: =IF(COUNTIF(Données!F239:F251,C229)>=1,0,VLOOKUP(B229,Horaires,2,0)) -> 0.16666667
A230: =YEAR(C230) -> 2019 | B230: =CHOOSE(WEEKDAY(C230),"Dimanche","Lundi","Mardi","Mercredi","Jeudi","Vendredi","Samedi") -> Samedi | C230: =C229+1 -> 42232 | D230: =IF(H230<=0,0,1) -> 0 | E230: =IF(COUNTIF(Données!F240:F252,C230)>=1,0,VLOOKUP(B230,Horaires,2,0)) -> 0
A231: =YEAR(C231) -> 2019 | B231: =CHOOSE(WEEKDAY(C231),"Dimanche","Lundi","Mardi","Mercredi","Jeudi","Vendredi","Samedi") -> Dimanche | C231: =C230+1 -> 42233 | D231: =IF(H231<=0,0,1) -> 0 | E231: =IF(COUNTIF(Données!F241:F253,C231)>=1,0,VLOOKUP(B231,Horaires,2,0)) -> 0
A232: =YEAR(C232) -> 2019 | B232: =CHOOSE(WEEKDAY(C232),"Dimanche","Lundi","Mardi","Mercredi","Jeudi","Vendredi","Samedi") -> Lundi | C232: =C231+1 -> 42234 | D232: =IF(H232<=0,0,1) -> 0 | E232: =IF(COUNTIF(Données!F242:F254,C232)>=1,0,VLOOKUP(B232,Horaires,2,0)) -> 0.32291667
A233: =YEAR(C233) -> 2019 | B233: =CHOOSE(WEEKDAY(C233),"Dimanche","Lundi","Mardi","Mercredi","Jeudi","Vendredi","Samedi") -> Mardi | C233: =C232+1 -> 42235 | D233: =IF(H233<=0,0,1) -> 0 | E233: =IF(COUNTIF(Données!F243:F255,C233)>=1,0,VLOOKUP(B233,Horaires,2,0)) -> 0.32291667
A234: =YEAR(C234) -> 2019 | B234: =CHOOSE(WEEKDAY(C234),"Dimanche","Lundi","Mardi","Mercredi","Jeudi","Vendredi","Samedi") -> Mercredi | C234: =C233+1 -> 42236 | D234: =IF(H234<=0,0,1) -> 0 | E234: =IF(COUNTIF(Données!F244:F256,C234)>=1,0,VLOOKUP(B234,Horaires,2,0)) -> 0.32291667
A235: =YEAR(C235) -> 2019 | B235: =CHOOSE(WEEKDAY(C235),"Dimanche","Lundi","Mardi","Mercredi","Jeudi","Vendredi","Samedi") -> Jeudi | C235: =C234+1 -> 42237 | D235: =IF(H235<=0,0,1) -> 0 | E235: =IF(COUNTIF(Données!F245:F257,C235)>=1,0,VLOOKUP(B235,Horaires,2,0)) -> 0.32291667
A236: =YEAR(C236) -> 2019 | B236: =CHOOSE(WEEKDAY(C236),"Dimanche","Lundi","Mardi","Mercredi","Jeudi","Vendredi","Samedi") -> Vendredi | C236: =C235+1 -> 42238 | D236: =IF(H236<=0,0,1) -> 0 | E236: =IF(COUNTIF(Données!F246:F258,C236)>=1,0,VLOOKUP(B236,Horaires,2,0)) -> 0.16666667
A237: =YEAR(C237) -> 2019 | B237: =CHOOSE(WEEKDAY(C237),"Dimanche","Lundi","Mardi","Mercredi","Jeudi","Vendredi","Samedi") -> Samedi | C237: =C236+1 -> 42239 | D237: =IF(H237<=0,0,1) -> 0 | E237: =IF(COUNTIF(Données!F247:F259,C237)>=1,0,VLOOKUP(B237,Horaires,2,0)) -> 0
A238: =YEAR(C238) -> 2019 | B238: =CHOOSE(WEEKDAY(C238),"Dimanche","Lundi","Mardi","Mercredi","Jeudi","Vendredi","Samedi") -> Dimanche | C238: =C237+1 -> 42240 | D238: =IF(H238<=0,0,1) -> 0 | E238: =IF(COUNTIF(Données!F248:F260,C238)>=1,0,VLOOKUP(B238,Horaires,2,0)) -> 0
A239: =YEAR(C239) -> 2019 | B239: =CHOOSE(WEEKDAY(C239),"Dimanche","Lundi","Mardi","Mercredi","Jeudi","Vendredi","Samedi") -> Lundi | C239: =C238+1 -> 42241 | D239: =IF(H239<=0,0,1) -> 0 | E239: =IF(COUNTIF(Données!F249:F261,C239)>=1,0,VLOOKUP(B239,Horaires,2,0)) -> 0.32291667
A240: =YEAR(C240) -> 2019 | B240: =CHOOSE(WEEKDAY(C240),"Dimanche","Lundi","Mardi","Mercredi","Jeudi","Vendredi","Samedi") -> Mardi | C240: =C239+1 -> 42242 | D240: =IF(H240<=0,0,1) -> 0 | E240: =IF(COUNTIF(Données!F250:F262,C240)>=1,0,VLOOKUP(B240,Horaires,2,0)) -> 0.32291667
A241: =YEAR(C241) -> 2019 | B241: =CHOOSE(WEEKDAY(C241),"Dimanche","Lundi","Mardi","Mercredi","Jeudi","Vendredi","Samedi") -> Mercredi | C241: =C240+1 -> 42243 | D241: =IF(H241<=0,0,1) -> 0 | E241: =IF(COUNTIF(Données!F251:F263,C241)>=1,0,VLOOKUP(B241,Horaires,2,0)) -> 0.32291667 | R241: muron
A242: =YEAR(C242) -> 2019 | B242: =CHOOSE(WEEKDAY(C242),"Dimanche","Lundi","Mardi","Mercredi","Jeudi","Vendredi","Samedi") -> Jeudi | C242: =C241+1 -> 42244 | D242: =IF(H242<=0,0,1) -> 0 | E242: =IF(COUNTIF(Données!F252:F264,C242)>=1,0,VLOOKUP(B242,Horaires,2,0)) -> 0.32291667
A243: =YEAR(C243) -> 2019 | B243: =CHOOSE(WEEKDAY(C243),"Dimanche","Lundi","Mardi","Mercredi","Jeudi","Vendredi","Samedi") -> Vendredi | C243: =C242+1 -> 42245 | D243: =IF(H243<=0,0,1) -> 0 | E243: =IF(COUNTIF(Données!F253:F265,C243)>=1,0,VLOOKUP(B243,Horaires,2,0)) -> 0.16666667
A244: =YEAR(C244) -> 2019 | B244: =CHOOSE(WEEKDAY(C244),"Dimanche","Lundi","Mardi","Mercredi","Jeudi","Vendredi","Samedi") -> Samedi | C244: =C243+1 -> 42246 | D244: =IF(H244<=0,0,1) -> 0 | E244: =IF(COUNTIF(Données!F254:F266,C244)>=1,0,VLOOKUP(B244,Horaires,2,0)) -> 0 | R244: medecin
A245: =YEAR(C245) -> 2019 | B245: =CHOOSE(WEEKDAY(C245),"Dimanche","Lundi","Mardi","Mercredi","Jeudi","Vendredi","Samedi") -> Dimanche | C245: =C244+1 -> 42247 | D245: =IF(H245<=0,0,1) -> 0 | E245: =IF(COUNTIF(Données!F255:F267,C245)>=1,0,VLOOKUP(B245,Horaires,2,0)) -> 0
A246: =YEAR(C246) -> 2019 | B246: =CHOOSE(WEEKDAY(C246),"Dimanche","Lundi","Mardi","Mercredi","Jeudi","Vendredi","Samedi") -> Lundi | C246: =C245+1 -> 42248 | D246: =IF(H246<=0,0,1) -> 0 | E246: =IF(COUNTIF(Données!F256:F268,C246)>=1,0,VLOOKUP(B246,Horaires,2,0)) -> 0.32291667
A247: =YEAR(C247) -> 2019 | B247: =CHOOSE(WEEKDAY(C247),"Dimanche","Lundi","Mardi","Mercredi","Jeudi","Vendredi","Samedi") -> Mardi | C247: =C246+1 -> 42249 | D247: =IF(H247<=0,0,1) -> 0 | E247: =IF(COUNTIF(Données!F257:F269,C247)>=1,0,VLOOKUP(B247,Horaires,2,0)) -> 0.32291667
A248: =YEAR(C248) -> 2019 | B248: =CHOOSE(WEEKDAY(C248),"Dimanche","Lundi","Mardi","Mercredi","Jeudi","Vendredi","Samedi") -> Mercredi | C248: =C247+1 -> 42250 | D248: =IF(H248<=0,0,1) -> 0 | E248: =IF(COUNTIF(Données!F258:F270,C248)>=1,0,VLOOKUP(B248,Horaires,2,0)) -> 0.32291667
A249: =YEAR(C249) -> 2019 | B249: =CHOOSE(WEEKDAY(C249),"Dimanche","Lundi","Mardi","Mercredi","Jeudi","Vendredi","Samedi") -> Jeudi | C249: =C248+1 -> 42251 | D249: =IF(H249<=0,0,1) -> 0 | E249: =IF(COUNTIF(Données!F259:F271,C249)>=1,0,VLOOKUP(B249,Horaires,2,0)) -> 0.32291667
A250: =YEAR(C250) -> 2019 | B250: =CHOOSE(WEEKDAY(C250),"Dimanche","Lundi","Mardi","Mercredi","Jeudi","Vendredi","Samedi") -> Vendredi | C250: =C249+1 -> 42252 | D250: =IF(H250<=0,0,1) -> 0 | E250: =IF(COUNTIF(Données!F260:F272,C250)>=1,0,VLOOKUP(B250,Horaires,2,0)) -> 0.16666667
A251: =YEAR(C251) -> 2019 | B251: =CHOOSE(WEEKDAY(C251),"Dimanche","Lundi","Mardi","Mercredi","Jeudi","Vendredi","Samedi") -> Samedi | C251: =C250+1 -> 42253 | D251: =IF(H251<=0,0,1) -> 0 | E251: =IF(COUNTIF(Données!F261:F273,C251)>=1,0,VLOOKUP(B251,Horaires,2,0)) -> 0
...
