Workbook
Name An: Données!$B$1
Name Fériés: Données!$B$11:$L$24
Name Horaires: [1]Année!$C$1:$D$8
Name Jours_fériés: Données!$B$11:$L$24

Sheet Données
C1: Horaires
C2: Lundi | D2: 0.32291667
C3: Mardi | D3: 0.32291667
C4: Mercredi | D4: 0.32291667
C5: Jeudi | D5: 0.32291667 | E5: heures à faire sur 1 an | F5: 65.625
C6: Vendredi | D6: 0.16666667 | E6: Semaine | F6: 1.4583333
C7: Samedi | D7: 0 | E7: Heure jours férié | F7: 0
C8: Dimanche | D8: 0
C10: Dimanche de Pâques : | E10: 41729 | F10: 42114
C11: fériés | D11: Année : | E11: 2018 | F11: 2019 | G11: 2020 | H11: 2021 | I11: 2022 | J11: 2023 | K11: 2024 | L11: 2025
C12: Jour de l'an | E12: =DATE(E11,1,1) -> 41639 | F12: =DATE(F11,1,1) -> 42004 | G12: =DATE(G11,1,1) -> 42369 | H12: =DATE(H11,1,1) -> 42735 | I12: =DATE(I11,1,1) -> 43100 | J12: =DATE(J11,1,1) -> 43465 | K12: =DATE(K11,1,1) -> 43830 | L12: =DATE(L11,1,1) -> 44196 | M12: 0
C13: Pâques | E13: =E10 -> 41729 | F13: =F10 -> 42114 | G13: =G10 -> 0 | H13: =H10 -> 0 | I13: =I10 -> 0 | J13: =J10 -> 0 | K13: =K10 -> 0 | L13: =L10 -> 0 | M13: 0
C14: Lundi de Pâques | E14: =E13+1 -> 41730 | F14: =F13+1 -> 42115 | G14: =G13+1 -> 1 | H14: =H13+1 -> 1 | I14: =I13+1 -> 1 | J14: =J13+1 -> 1 | K14: =K13+1 -> 1 | L14: =L13+1 -> 1 | M14: 0
C15: Fête du travail | E15: =DATE(E11,5,1) -> 41759 | F15: =DATE(F11,5,1) -> 42124 | G15: =DATE(G11,5,1) -> 42490 | H15: =DATE(H11,5,1) -> 42855 | I15: =DATE(I11,5,1) -> 43220 | J15: =DATE(J11,5,1) -> 43585 | K15: =DATE(K11,5,1) -> 43951 | L15: =DATE(L11,5,1) -> 44316 | M15: 0
C16: Armistice 1945 | E16: =DATE(E11,5,8) -> 41766 | F16: =DATE(F11,5,8) -> 42131 | G16: =DATE(G11,5,8) -> 42497 | H16: =DATE(H11,5,8) -> 42862 | I16: =DATE(I11,5,8) -> 43227 | J16: =DATE(J11,5,8) -> 43592 | K16: =DATE(K11,5,8) -> 43958 | L16: =DATE(L11,5,8) -> 44323 | M16: 0
C17: Ascension | E17: =E13+39 -> 41768 | F17: =F13+39 -> 42153 | G17: =G13+39 -> 39 | H17: =H13+39 -> 39 | I17: =I13+39 -> 39 | J17: =J13+39 -> 39 | K17: =K13+39 -> 39 | L17: =L13+39 -> 39 | M17: 0
C18: Pentecôte | E18: =E13+49 -> 41778 | F18: =F13+49 -> 42163 | G18: =G13+49 -> 49 | H18: =H13+49 -> 49 | I18: =I13+49 -> 49 | J18: =J13+49 -> 49 | K18: =K13+49 -> 49 | L18: =L13+49 -> 49 | M18: 0
C19: Lundi de Pentecote | E19: =E18+1 -> 41779 | F19: =F18+1 -> 42164 | G19: =G18+1 -> 50 | H19: =H18+1 -> 50 | I19: =I18+1 -> 50 | J19: =J18+1 -> 50 | K19: =K18+1 -> 50 | L19: =L18+1 -> 50 | M19: 0
C20: Fête nationale | E20: =DATE(E11,7,14) -> 41833 | F20: =DATE(F11,7,14) -> 42198 | G20: =DATE(G11,7,14) -> 42564 | H20: =DATE(H11,7,14) -> 42929 | I20: =DATE(I11,7,14) -> 43294 | J20: =DATE(J11,7,14) -> 43659 | K20: =DATE(K11,7,14) -> 44025 | L20: =DATE(L11,7,14) -> 44390 | M20: 0
C21: Assomption | E21: =DATE(E11,8,15) -> 41865 | F21: =DATE(F11,8,15) -> 42230 | G21: =DATE(G11,8,15) -> 42596 | H21: =DATE(H11,8,15) -> 42961 | I21: =DATE(I11,8,15) -> 43326 | J21: =DATE(J11,8,15) -> 43691 | K21: =DATE(K11,8,15) -> 44057 | L21: =DATE(L11,8,15) -> 44422 | M21: 0
C22: Toussaint | E22: =DATE(E11,11,1) -> 41943 | F22: =DATE(F11,11,1) -> 42308 | G22: =DATE(G11,11,1) -> 42674 | H22: =DATE(H11,11,1) -> 43039 | I22: =DATE(I11,11,1) -> 43404 | J22: =DATE(J11,11,1) -> 43769 | K22: =DATE(K11,11,1) -> 44135 | L22: =DATE(L11,11,1) -> 44500 | M22: 0
C23: Armistice 1918 | E23: =DATE(E11,11,11) -> 41953 | F23: =DATE(F11,11,11) -> 42318 | G23: =DATE(G11,11,11) -> 42684 | H23: =DATE(H11,11,11) -> 43049 | I23: =DATE(I11,11,11) -> 43414 | J23: =DATE(J11,11,11) -> 43779 | K23: =DATE(K11,11,11) -> 44145 | L23: =DATE(L11,11,11) -> 44510 | M23: 0
C24: NOEL | E24: =DATE(E11,12,25) -> 41997 | F24: =DATE(F11,12,25) -> 42362 | G24: =DATE(G11,12,25) -> 42728 | H24: =DATE(H11,12,25) -> 43093 | I24: =DATE(I11,12,25) -> 43458 | J24: =DATE(J11,12,25) -> 43823 | K24: =DATE(K11,12,25) -> 44189 | L24: =DATE(L11,12,25) -> 44554 | M24: 0

Sheet 2018_V1
A1: Année | B1: jours | C1: Dates : | D1: Jours travaillés | E1: Heures à faire: | F1: 22hà3h30à6h (X2,5) | G1: 6hà7h30 (X1,25) | H1: 7h30à16h45 (X1) | I1: 16h45à22h (X1,25) | J1: Heures pointées Bâtiment | K1: ASA | L1: Formations | M1: Jours Fériés | N1: Congés | O1: Heures Supp | P1: Heures Neige | Q1: Récup Heures Neige
A2: =YEAR(C2) -> 2018 | B2: =CHOOSE(WEEKDAY(C2),"Dimanche","Lundi","Mardi","Mercredi","Jeudi","Vendredi","Samedi") -> Lundi | C2: 41639 | D2: =IF(H2<=0,0,1) -> 0 | E2: =IFERROR((VLOOKUP(C2,Données!E12:M24,9,0)),VLOOKUP(B2,Horaires,2,0)) -> 0
A3: =YEAR(C3) -> 2018 | B3: =CHOOSE(WEEKDAY(C3),"Dimanche","Lundi","Mardi","Mercredi","Jeudi","Vendredi","Samedi") -> Mardi | C3: =C2+1 -> 41640 | D3: =IF(H3<=0,0,1) -> 0 | E3: =IFERROR((VLOOKUP(C3,Données!E13:M25,9,0)),VLOOKUP(B3,Horaires,2,0)) -> 0.32291667
A4: =YEAR(C4) -> 2018 | B4: =CHOOSE(WEEKDAY(C4),"Dimanche","Lundi","Mardi","Mercredi","Jeudi","Vendredi","Samedi") -> Mercredi | C4: =C3+1 -> 41641 | D4: =IF(H4<=0,0,1) -> 0 | E4: =IFERROR((VLOOKUP(C4,Données!E14:M26,9,0)),VLOOKUP(B4,Horaires,2,0)) -> 0.32291667
A5: =YEAR(C5) -> 2018 | B5: =CHOOSE(WEEKDAY(C5),"Dimanche","Lundi","Mardi","Mercredi","Jeudi","Vendredi","Samedi") -> Jeudi | C5: =C4+1 -> 41642 | D5: =IF(H5<=0,0,1) -> 0 | E5: =IFERROR((VLOOKUP(C5,Données!E15:M27,9,0)),VLOOKUP(B5,Horaires,2,0)) -> 0.32291667
A6: =YEAR(C6) -> 2018 | B6: =CHOOSE(WEEKDAY(C6),"Dimanche","Lundi","Mardi","Mercredi","Jeudi","Vendredi","Samedi") -> Vendredi | C6: =C5+1 -> 41643 | D6: =IF(H6<=0,0,1) -> 0 | E6: =IFERROR((VLOOKUP(C6,Données!E16:M28,9,0)),VLOOKUP(B6,Horaires,2,0)) -> 0.16666667
A7: =YEAR(C7) -> 2018 | B7: =CHOOSE(WEEKDAY(C7),"Dimanche","Lundi","Mardi","Mercredi","Jeudi","Vendredi","Samedi") -> Samedi | C7: =C6+1 -> 41644 | D7: =IF(H7<=0,0,1) -> 0 | E7: =IFERROR((VLOOKUP(C7,Données!E17:M29,9,0)),VLOOKUP(B7,Horaires,2,0)) -> 0
A8: =YEAR(C8) -> 2018 | B8: =CHOOSE(WEEKDAY(C8),"Dimanche","Lundi","Mardi","Mercredi","Jeudi","Vendredi","Samedi") -> Dimanche | C8: =C7+1 -> 41645 | D8: =IF(H8<=0,0,1) -> 0 | E8: =IFERROR((VLOOKUP(C8,Données!E18:M30,9,0)),VLOOKUP(B8,Horaires,2,0)) -> 0
A9: =YEAR(C9) -> 2018 | B9: =CHOOSE(WEEKDAY(C9),"Dimanche","Lundi","Mardi","Mercredi","Jeudi","Vendredi","Samedi") -> Lundi | C9: =C8+1 -> 41646 | D9: =IF(H9<=0,0,1) -> 0 | E9: =IFERROR((VLOOKUP(C9,Données!E19:M31,9,0)),VLOOKUP(B9,Horaires,2,0)) -> 0.32291667
A10: =YEAR(C10) -> 2018 | B10: =CHOOSE(WEEKDAY(C10),"Dimanche","Lundi","Mardi","Mercredi","Jeudi","Vendredi","Samedi") -> Mardi | C10: =C9+1 -> 41647 | D10: =IF(H10<=0,0,1) -> 0 | E10: =IFERROR((VLOOKUP(C10,Données!E20:M32,9,0)),VLOOKUP(B10,Horaires,2,0)) -> 0.32291667
A11: =YEAR(C11) -> 2018 | B11: =CHOOSE(WEEKDAY(C11),"Dimanche","Lundi","Mardi","Mercredi","Jeudi","Vendredi","Samedi") -> Mercredi | C11: =C10+1 -> 41648 | D11: =IF(H11<=0,0,1) -> 0 | E11: =IFERROR((VLOOKUP(C11,Données!E21:M33,9,0)),VLOOKUP(B11,Horaires,2,0)) -> 0.32291667
A12: =YEAR(C12) -> 2018 | B12: =CHOOSE(WEEKDAY(C12),"Dimanche","Lundi","Mardi","Mercredi","Jeudi","Vendredi","Samedi") -> Jeudi | C12: =C11+1 -> 41649 | D12: =IF(H12<=0,0,1) -> 0 | E12: =IFERROR((VLOOKUP(C12,Données!E22:M34,9,0)),VLOOKUP(B12,Horaires,2,0)) -> 0.32291667
A13: =YEAR(C13) -> 2018 | B13: =CHOOSE(WEEKDAY(C13),"Dimanche","Lundi","Mardi","Mercredi","Jeudi","Vendredi","Samedi") -> Vendredi | C13: =C12+1 -> 41650 | D13: =IF(H13<=0,0,1) -> 0 | E13: =IFERROR((VLOOKUP(C13,Données!E23:M35,9,0)),VLOOKUP(B13,Horaires,2,0)) -> 0.16666667
A14: =YEAR(C14) -> 2018 | B14: =CHOOSE(WEEKDAY(C14),"Dimanche","Lundi","Mardi","Mercredi","Jeudi","Vendredi","Samedi") -> Samedi | C14: =C13+1 -> 41651 | D14: =IF(H14<=0,0,1) -> 0 | E14: =IFERROR((VLOOKUP(C14,Données!E24:M36,9,0)),VLOOKUP(B14,Horaires,2,0)) -> 0
... A226: =YEAR(C226) -> 2018 | B226: =CHOOSE(WEEKDAY(C226),"Dimanche","Lundi","Mardi","Mercredi","Jeudi","Vendredi","Samedi") -> Lundi | C226: =C225+1 -> 41863 | D226: =IF(H226<=0,0,1) -> 0 | E226: =IFERROR((VLOOKUP(C226,Données!E236:M248,9,0)),VLOOKUP(B226,Horaires,2,0)) -> 0.32291667
A227: =YEAR(C227) -> 2018 | B227: =CHOOSE(WEEKDAY(C227),"Dimanche","Lundi","Mardi","Mercredi","Jeudi","Vendredi","Samedi") -> Mardi | C227: =C226+1 -> 41864 | D227: =IF(H227<=0,0,1) -> 0 | E227: =IFERROR((VLOOKUP(C227,Données!E237:M249,9,0)),VLOOKUP(B227,Horaires,2,0)) -> 0.32291667 | R227: medecin
A228: =YEAR(C228) -> 2018 | B228: =CHOOSE(WEEKDAY(C228),"Dimanche","Lundi","Mardi","Mercredi","Jeudi","Vendredi","Samedi") -> Mercredi | C228: =C227+1 -> 41865 | D228: =IF(H228<=0,0,1) -> 0 | E228: =IFERROR((VLOOKUP(C228,Données!E238:M250,9,0)),VLOOKUP(B228,Horaires,2,0)) -> 0.32291667
A229: =YEAR(C229) -> 2018 | B229: =CHOOSE(WEEKDAY(C229),"Dimanche","Lundi","Mardi","Mercredi","Jeudi","Vendredi","Samedi") -> Jeudi | C229: =C228+1 -> 41866 | D229: =IF(H229<=0,0,1) -> 0 | E229: =IFERROR((VLOOKUP(C229,Données!E239:M251,9,0)),VLOOKUP(B229,Horaires,2,0)) -> 0.32291667
A230: =YEAR(C230) -> 2018 | B230: =CHOOSE(WEEKDAY(C230),"Dimanche","Lundi","Mardi","Mercredi","Jeudi","Vendredi","Samedi") -> Vendredi | C230: =C229+1 -> 41867 | D230: =IF(H230<=0,0,1) -> 0 | E230: =IFERROR((VLOOKUP(C230,Données!E240:M252,9,0)),VLOOKUP(B230,Horaires,2,0)) -> 0.16666667
A231: =YEAR(C231) -> 2018 | B231: =CHOOSE(WEEKDAY(C231),"Dimanche","Lundi","Mardi","Mercredi","Jeudi","Vendredi","Samedi") -> Samedi | C231: =C230+1 -> 41868 | D231: =IF(H231<=0,0,1) -> 0 | E231: =IFERROR((VLOOKUP(C231,Données!E241:M253,9,0)),VLOOKUP(B231,Horaires,2,0)) -> 0
A232: =YEAR(C232) -> 2018 | B232: =CHOOSE(WEEKDAY(C232),"Dimanche","Lundi","Mardi","Mercredi","Jeudi","Vendredi","Samedi") -> Dimanche | C232: =C231+1 -> 41869 | D232: =IF(H232<=0,0,1) -> 0 | E232: =IFERROR((VLOOKUP(C232,Données!E242:M254,9,0)),VLOOKUP(B232,Horaires,2,0)) -> 0
A233: =YEAR(C233) -> 2018 | B233: =CHOOSE(WEEKDAY(C233),"Dimanche","Lundi","Mardi","Mercredi","Jeudi","Vendredi","Samedi") -> Lundi | C233: =C232+1 -> 41870 | D233: =IF(H233<=0,0,1) -> 0 | E233: =IFERROR((VLOOKUP(C233,Données!E243:M255,9,0)),VLOOKUP(B233,Horaires,2,0)) -> 0.32291667
A234: =YEAR(C234) -> 2018 | B234: =CHOOSE(WEEKDAY(C234),"Dimanche","Lundi","Mardi","Mercredi","Jeudi","Vendredi","Samedi") -> Mardi | C234: =C233+1 -> 41871 | D234: =IF(H234<=0,0,1) -> 0 | E234: =IFERROR((VLOOKUP(C234,Données!E244:M256,9,0)),VLOOKUP(B234,Horaires,2,0)) -> 0.32291667
A235: =YEAR(C235) -> 2018 | B235: =CHOOSE(WEEKDAY(C235),"Dimanche","Lundi","Mardi","Mercredi","Jeudi","Vendredi","Samedi") -> Mercredi | C235: =C234+1 -> 41872 | D235: =IF(H235<=0,0,1) -> 0 | E235: =IFERROR((VLOOKUP(C235,Données!E245:M257,9,0)),VLOOKUP(B235,Horaires,2,0)) -> 0.32291667
A236: =YEAR(C236) -> 2018 | B236: =CHOOSE(WEEKDAY(C236),"Dimanche","Lundi","Mardi","Mercredi","Jeudi","Vendredi","Samedi") -> Jeudi | C236: =C235+1 -> 41873 | D236: =IF(H236<=0,0,1) -> 0 | E236: =IFERROR((VLOOKUP(C236,Données!E246:M258,9,0)),VLOOKUP(B236,Horaires,2,0)) -> 0.32291667
A237: =YEAR(C237) -> 2018 | B237: =CHOOSE(WEEKDAY(C237),"Dimanche","Lundi","Mardi","Mercredi","Jeudi","Vendredi","Samedi") -> Vendredi | C237: =C236+1 -> 41874 | D237: =IF(H237<=0,0,1) -> 0 | E237: =IFERROR((VLOOKUP(C237,Données!E247:M259,9,0)),VLOOKUP(B237,Horaires,2,0)) -> 0.16666667
A238: =YEAR(C238) -> 2018 | B238: =CHOOSE(WEEKDAY(C238),"Dimanche","Lundi","Mardi","Mercredi","Jeudi","Vendredi","Samedi") -> Samedi | C238: =C237+1 -> 41875 | D238: =IF(H238<=0,0,1) -> 0 | E238: =IFERROR((VLOOKUP(C238,Données!E248:M260,9,0)),VLOOKUP(B238,Horaires,2,0)) -> 0
A239: =YEAR(C239) -> 2018 | B239: =CHOOSE(WEEKDAY(C239),"Dimanche","Lundi","Mardi","Mercredi","Jeudi","Vendredi","Samedi") -> Dimanche | C239: =C238+1 -> 41876 | D239: =IF(H239<=0,0,1) -> 0 | E239: =IFERROR((VLOOKUP(C239,Données!E249:M261,9,0)),VLOOKUP(B239,Horaires,2,0)) -> 0
A240: =YEAR(C240) -> 2018 | B240: =CHOOSE(WEEKDAY(C240),"Dimanche","Lundi","Mardi","Mercredi","Jeudi","Vendredi","Samedi") -> Lundi | C240: =C239+1 -> 41877 | D240: =IF(H240<=0,0,1) -> 0 | E240: =IFERROR((VLOOKUP(C240,Données!E250:M262,9,0)),VLOOKUP(B240,Horaires,2,0)) -> 0.32291667
A241: =YEAR(C241) -> 2018 | B241: =CHOOSE(WEEKDAY(C241),"Dimanche","Lundi","Mardi","Mercredi","Jeudi","Vendredi","Samedi") -> Mardi | C241: =C240+1 -> 41878 | D241: =IF(H241<=0,0,1) -> 0 | E241: =IFERROR((VLOOKUP(C241,Données!E251:M263,9,0)),VLOOKUP(B241,Horaires,2,0)) -> 0.32291667 | R241: muron
A242: =YEAR(C242) -> 2018 | B242: =CHOOSE(WEEKDAY(C242),"Dimanche","Lundi","Mardi","Mercredi","Jeudi","Vendredi","Samedi") -> Mercredi | C242: =C241+1 -> 41879 | D242: =IF(H242<=0,0,1) -> 0 | E242: =IFERROR((VLOOKUP(C242,Données!E252:M264,9,0)),VLOOKUP(B242,Horaires,2,0)) -> 0.32291667
A243: =YEAR(C243) -> 2018 | B243: =CHOOSE(WEEKDAY(C243),"Dimanche","Lundi","Mardi","Mercredi","Jeudi","Vendredi","Samedi") -> Jeudi | C243: =C242+1 -> 41880 | D243: =IF(H243<=0,0,1) -> 0 | E243: =IFERROR((VLOOKUP(C243,Données!E253:M265,9,0)),VLOOKUP(B243,Horaires,2,0)) -> 0.32291667
A244: =YEAR(C244) -> 2018 | B244: =CHOOSE(WEEKDAY(C244),"Dimanche","Lundi","Mardi","Mercredi","Jeudi","Vendredi","Samedi") -> Vendredi | C244: =C243+1 -> 41881 | D244: =IF(H244<=0,0,1) -> 0 | E244: =IFERROR((VLOOKUP(C244,Données!E254:M266,9,0)),VLOOKUP(B244,Horaires,2,0)) -> 0.16666667 | R244: medecin
A245: =YEAR(C245) -> 2018 | B245: =CHOOSE(WEEKDAY(C245),"Dimanche","Lundi","Mardi","Mercredi","Jeudi","Vendredi","Samedi") -> Samedi | C245: =C244+1 -> 41882 | D245: =IF(H245<=0,0,1) -> 0 | E245: =IFERROR((VLOOKUP(C245,Données!E255:M267,9,0)),VLOOKUP(B245,Horaires,2,0)) -> 0
A246: =YEAR(C246) -> 2018 | B246: =CHOOSE(WEEKDAY(C246),"Dimanche","Lundi","Mardi","Mercredi","Jeudi","Vendredi","Samedi") -> Dimanche | C246: =C245+1 -> 41883 | D246: =IF(H246<=0,0,1) -> 0 | E246: =IFERROR((VLOOKUP(C246,Données!E256:M268,9,0)),VLOOKUP(B246,Horaires,2,0)) -> 0
A247: =YEAR(C247) -> 2018 | B247: =CHOOSE(WEEKDAY(C247),"Dimanche","Lundi","Mardi","Mercredi","Jeudi","Vendredi","Samedi") -> Lundi | C247: =C246+1 -> 41884 | D247: =IF(H247<=0,0,1) -> 0 | E247: =IFERROR((VLOOKUP(C247,Données!E257:M269,9,0)),VLOOKUP(B247,Horaires,2,0)) -> 0.32291667
A248: =YEAR(C248) -> 2018 | B248: =CHOOSE(WEEKDAY(C248),"Dimanche","Lundi","Mardi","Mercredi","Jeudi","Vendredi","Samedi") -> Mardi | C248: =C247+1 -> 41885 | D248: =IF(H248<=0,0,1) -> 0 | E248: =IFERROR((VLOOKUP(C248,Données!E258:M270,9,0)),VLOOKUP(B248,Horaires,2,0)) -> 0.32291667
A249: =YEAR(C249) -> 2018 | B249: =CHOOSE(WEEKDAY(C249),"Dimanche","Lundi","Mardi","Mercredi","Jeudi","Vendredi","Samedi") -> Mercredi | C249: =C248+1 -> 41886 | D249: =IF(H249<=0,0,1) -> 0 | E249: =IFERROR((VLOOKUP(C249,Données!E259:M271,9,0)),VLOOKUP(B249,Horaires,2,0)) -> 0.32291667
A250: =YEAR(C250) -> 2018 | B250: =CHOOSE(WEEKDAY(C250),"Dimanche","Lundi","Mardi","Mercredi","Jeudi","Vendredi","Samedi") -> Jeudi | C250: =C249+1 -> 41887 | D250: =IF(H250<=0,0,1) -> 0 | E250: =IFERROR((VLOOKUP(C250,Données!E260:M272,9,0)),VLOOKUP(B250,Horaires,2,0)) -> 0.32291667
A251: =YEAR(C251) -> 2018 | B251: =CHOOSE(WEEKDAY(C251),"Dimanche","Lundi","Mardi","Mercredi","Jeudi","Vendredi","Samedi") -> Vendredi | C251: =C250+1 -> 41888 | D251: =IF(H251<=0,0,1) -> 0 | E251: =IFERROR((VLOOKUP(C251,Données!E261:M273,9,0)),VLOOKUP(B251,Horaires,2,0)) -> 0.16666667
A252: =YEAR(C252) -> 2018 | B252: =CHOOSE(WEEKDAY(C252),"Dimanche","Lundi","Mardi","Mercredi","Jeudi","Vendredi","Samedi") -> Samedi | C252: =C251+1 -> 41889 | D252: =IF(H252<=0,0,1) -> 0 | E252: =IFERROR((VLOOKUP(C252,Données!E262:M274,9,0)),VLOOKUP(B252,Horaires,2,0)) -> 0
A253: =YEAR(C253) -> 2018 | B253: =CHOOSE(WEEKDAY(C253),"Dimanche","Lundi","Mardi","Mercredi","Jeudi","Vendredi","Samedi") -> Dimanche | C253: =C252+1 -> 41890 | D253: =IF(H253<=0,0,1) -> 0 | E253: =IFERROR((VLOOKUP(C253,Données!E263:M275,9,0)),VLOOKUP(B253,Horaires,2,0)) -> 0
A254: =YEAR(C254) -> 2018 | B254: =CHOOSE(WEEKDAY(C254),"Dimanche","Lundi","Mardi","Mercredi","Jeudi","Vendredi","Samedi") -> Lundi | C254: =C253+1 -> 41891 | D254: =IF(H254<=0,0,1) -> 0 | E254: =IFERROR((VLOOKUP(C254,Données!E264:M276,9,0)),VLOOKUP(B254,Horaires,2,0)) -> 0.32291667
A255: =YEAR(C255) -> 2018 | B255: =CHOOSE(WEEKDAY(C255),"Dimanche","Lundi","Mardi","Mercredi","Jeudi","Vendredi","Samedi") -> Mardi | C255: =C254+1 -> 41892 | D255: =IF(H255<=0,0,1) -> 0 | E255: =IFERROR((VLOOKUP(C255,Données!E265:M277,9,0)),VLOOKUP(B255,Horaires,2,0)) -> 0.32291667
A256: =YEAR(C256) -> 2018 | B256: =CHOOSE(WEEKDAY(C256),"Dimanche","Lundi","Mardi","Mercredi","Jeudi","Vendredi","Samedi") -> Mercredi | C256: =C255+1 -> 41893 | D256: =IF(H256<=0,0,1) -> 0 | E256: =IFERROR((VLOOKUP(C256,Données!E266:M278,9,0)),VLOOKUP(B256,Horaires,2,0)) -> 0.32291667
... A302: =YEAR(C302) -> 2018 | B302: =CHOOSE(WEEKDAY(C302),"Dimanche","Lundi","Mardi","Mercredi","Jeudi","Vendredi","Samedi") -> Dimanche | C302: =C301+1 -> 41939 | D302: =IF(H302<=0,0,1) -> 0 | E302: =IFERROR((VLOOKUP(C302,Données!E312:M324,9,0)),VLOOKUP(B302,Horaires,2,0)) -> 0
A303: =YEAR(C303) -> 2018 | B303: =CHOOSE(WEEKDAY(C303),"Dimanche","Lundi","Mardi","Mercredi","Jeudi","Vendredi","Samedi") -> Lundi | C303: =C302+1 -> 41940 | D303: =IF(H303<=0,0,1) -> 0 | E303: =IFERROR((VLOOKUP(C303,Données!E313:M325,9,0)),VLOOKUP(B303,Horaires,2,0)) -> 0.32291667 | R303: formation caces 4 + blocage neige
A304: =YEAR(C304) -> 2018 | B304: =CHOOSE(WEEKDAY(C304),"Dimanche","Lundi","Mardi","Mercredi","Jeudi","Vendredi","Samedi") -> Mardi | C304: =C303+1 -> 41941 | D304: =IF(H304<=0,0,1) -> 0 | E304: =IFERROR((VLOOKUP(C304,Données!E314:M326,9,0)),VLOOKUP(B304,Horaires,2,0)) -> 0.32291667
A305: =YEAR(C305) -> 2018 | B305: =CHOOSE(WEEKDAY(C305),"Dimanche","Lundi","Mardi","Mercredi","Jeudi","Vendredi","Samedi") -> Mercredi | C305: =C304+1 -> 41942 | D305: =IF(H305<=0,0,1) -> 0 | E305: =IFERROR((VLOOKUP(C305,Données!E315:M327,9,0)),VLOOKUP(B305,Horaires,2,0)) -> 0.32291667
A306: =YEAR(C306) -> 2018 | B306: =CHOOSE(WEEKDAY(C306),"Dimanche","Lundi","Mardi","Mercredi","Jeudi","Vendredi","Samedi") -> Jeudi | C306: =C305+1 -> 41943 | D306: =IF(H306<=0,0,1) -> 0 | E306: =IFERROR((VLOOKUP(C306,Données!E316:M328,9,0)),VLOOKUP(B306,Horaires,2,0)) -> 0.32291667
A307: =YEAR(C307) -> 2018 | B307: =CHOOSE(WEEKDAY(C307),"Dimanche","Lundi","Mardi","Mercredi","Jeudi","Vendredi","Samedi") -> Vendredi | C307: =C306+1 -> 41944 | D307: =IF(H307<=0,0,1) -> 0 | E307: =IFERROR((VLOOKUP(C307,Données!E317:M329,9,0)),VLOOKUP(B307,Horaires,2,0)) -> 0.16666667
A308: =YEAR(C308) -> 2018 | B308: =CHOOSE(WEEKDAY(C308),"Dimanche","Lundi","Mardi","Mercredi","Jeudi","Vendredi","Samedi") -> Samedi | C308: =C307+1 -> 41945 | D308: =IF(H308<=0,0,1) -> 0 | E308: =IFERROR((VLOOKUP(C308,Données!E318:M330,9,0)),VLOOKUP(B308,Horaires,2,0)) -> 0
A309: =YEAR(C309) -> 2018 | B309: =CHOOSE(WEEKDAY(C309),"Dimanche","Lundi","Mardi","Mercredi","Jeudi","Vendredi","Samedi") -> Dimanche | C309: =C308+1 -> 41946 | D309: =IF(H309<=0,0,1) -> 0 | E309: =IFERROR((VLOOKUP(C309,Données!E319:M331,9,0)),VLOOKUP(B309,Horaires,2,0)) -> 0
A310: =YEAR(C310) -> 2018 | B310: =CHOOSE(WEEKDAY(C310),"Dimanche","Lundi","Mardi","Mercredi","Jeudi","Vendredi","Samedi") -> Lundi | C310: =C309+1 -> 41947 | D310: =IF(H310<=0,0,1) -> 0 | E310: =IFERROR((VLOOKUP(C310,Données!E320:M332,9,0)),VLOOKUP(B310,Horaires,2,0)) -> 0.32291667
A311: =YEAR(C311) -> 2018 | B311: =CHOOSE(WEEKDAY(C311),"Dimanche","Lundi","Mardi","Mercredi","Jeudi","Vendredi","Samedi") -> Mardi | C311: =C310+1 -> 41948 | D311: =IF(H311<=0,0,1) -> 0 | E311: =IFERROR((VLOOKUP(C311,Données!E321:M333,9,0)),VLOOKUP(B311,Horaires,2,0)) -> 0.32291667
A312: =YEAR(C312) -> 2018 | B312: =CHOOSE(WEEKDAY(C312),"Dimanche","Lundi","Mardi","Mercredi","Jeudi","Vendredi","Samedi") -> Mercredi | C312: =C311+1 -> 41949 | D312: =IF(H312<=0,0,1) -> 0 | E312: =IFERROR((VLOOKUP(C312,Données!E322:M334,9,0)),VLOOKUP(B312,Horaires,2,0)) -> 0.32291667
A313: =YEAR(C313) -> 2018 | B313: =CHOOSE(WEEKDAY(C313),"Dimanche","Lundi","Mardi","Mercredi","Jeudi","Vendredi","Samedi") -> Jeudi | C313: =C312+1 -> 41950 | D313: =IF(H313<=0,0,1) -> 0 | E313: =IFERROR((VLOOKUP(C313,Données!E323:M335,9,0)),VLOOKUP(B313,Horaires,2,0)) -> 0.32291667
A314: =YEAR(C314) -> 2018 | B314: =CHOOSE(WEEKDAY(C314),"Dimanche","Lundi","Mardi","Mercredi","Jeudi","Vendredi","Samedi") -> Vendredi | C314: =C313+1 -> 41951 | D314: =IF(H314<=0,0,1) -> 0 | E314: =IFERROR((VLOOKUP(C314,Données!E324:M336,9,0)),VLOOKUP(B314,Horaires,2,0)) -> 0.16666667
A315: =YEAR(C315) -> 2018 | B315: =CHOOSE(WEEKDAY(C315),"Dimanche","Lundi","Mardi","Mercredi","Jeudi","Vendredi","Samedi") -> Samedi | C315: =C314+1 -> 41952 | D315: =IF(H315<=0,0,1) -> 0 | E315: =IFERROR((VLOOKUP(C315,Données!E325:M337,9,0)),VLOOKUP(B315,Horaires,2,0)) -> 0
... A366: =YEAR(C366) -> 2018 | B366: =CHOOSE(WEEKDAY(C366),"Dimanche","Lundi","Mardi","Mercredi","Jeudi","Vendredi","Samedi") -> Lundi | C366: =C365+1 -> 42003 | D366: =IF(H366<=0,0,1) -> 0 | E366: =IFERROR((VLOOKUP(C366,Données!E376:M388,9,0)),VLOOKUP(B366,Horaires,2,0)) -> 0.32291667
A367: TOTAUX : | E367: =IFERROR((VLOOKUP(C367,Données!E377:M389,9,0)),VLOOKUP(B367,Horaires,2,0)) -> #N/A | F367: =SUM(F2:F366) -> 0 | G367: =SUM(G2:G366) -> 0 | H367: =SUM(H2:H366) -> 0 | I367: =SUM(I2:I366) -> 0 | J367: =SUM(J2:J366) -> 0 | K367: =SUM(K2:K366) -> 0 | L367: =SUM(L2:L366) -> 0 | M367: =SUM(M2:M366) -> 0 | ... Q367: =SUM(Q2:Q366) -> 0

Sheet 2019_V1
A1: Année | B1: jours | C1: Dates : | D1: Jours travaillés | E1: Heures à faire: | F1: 22hà3h30à6h (X2,5) | G1: 6hà7h30 (X1,25) | H1: 7h30à16h45 (X1) | I1: 16h45à22h (X1,25) | J1: Heures pointées Bâtiment | K1: ASA | L1: Formations | M1: Jours Fériés | N1: Congés | O1: Heures Supp | P1: Heures Neige | Q1: Récup Heures Neige
A2: =YEAR(C2) -> 2019 | B2: =CHOOSE(WEEKDAY(C2),"Dimanche","Lundi","Mardi","Mercredi","Jeudi","Vendredi","Samedi") -> Mardi | C2: 42004 | D2: =IF(H2<=0,0,1) -> 0 | E2: =IFERROR((VLOOKUP(C2,Données!F12:M24,8,0)),VLOOKUP(B2,Horaires,2,0)) -> 0
A3: =YEAR(C3) -> 2019 | B3: =CHOOSE(WEEKDAY(C3),"Dimanche","Lundi","Mardi","Mercredi","Jeudi","Vendredi","Samedi") -> Mercredi | C3: =C2+1 -> 42005 | D3: =IF(H3<=0,0,1) -> 0 | E3: =IFERROR((VLOOKUP(C3,Données!F13:M25,8,0)),VLOOKUP(B3,Horaires,2,0)) -> 0.32291667
A4: =YEAR(C4) -> 2019 | B4: =CHOOSE(WEEKDAY(C4),"Dimanche","Lundi","Mardi","Mercredi","Jeudi","Vendredi","Samedi") -> Jeudi | C4: =C3+1 -> 42006 | D4: =IF(H4<=0,0,1) -> 0 | E4: =IFERROR((VLOOKUP(C4,Données!F14:M26,8,0)),VLOOKUP(B4,Horaires,2,0)) -> 0.32291667
A5: =YEAR(C5) -> 2019 | B5: =CHOOSE(WEEKDAY(C5),"Dimanche","Lundi","Mardi","Mercredi","Jeudi","Vendredi","Samedi") -> Vendredi | C5: =C4+1 -> 42007 | D5: =IF(H5<=0,0,1) -> 0 | E5: =IFERROR((VLOOKUP(C5,Données!F15:M27,8,0)),VLOOKUP(B5,Horaires,2,0)) -> 0.16666667
A6: =YEAR(C6) -> 2019 | B6: =CHOOSE(WEEKDAY(C6),"Dimanche","Lundi","Mardi","Mercredi","Jeudi","Vendredi","Samedi") -> Samedi | C6: =C5+1 -> 42008 | D6: =IF(H6<=0,0,1) -> 0 | E6: =IFERROR((VLOOKUP(C6,Données!F16:M28,8,0)),VLOOKUP(B6,Horaires,2,0)) -> 0
A7: =YEAR(C7) -> 2019 | B7: =CHOOSE(WEEKDAY(C7),"Dimanche","Lundi","Mardi","Mercredi","Jeudi","Vendredi","Samedi") -> Dimanche | C7: =C6+1 -> 42009 | D7: =IF(H7<=0,0,1) -> 0 | E7: =IFERROR((VLOOKUP(C7,Données!F17:M29,8,0)),VLOOKUP(B7,Horaires,2,0)) -> 0
A8: =YEAR(C8) -> 2019 | B8: =CHOOSE(WEEKDAY(C8),"Dimanche","Lundi","Mardi","Mercredi","Jeudi","Vendredi","Samedi") -> Lundi | C8: =C7+1 -> 42010 | D8: =IF(H8<=0,0,1) -> 0 | E8: =IFERROR((VLOOKUP(C8,Données!F18:M30,8,0)),VLOOKUP(B8,Horaires,2,0)) -> 0.32291667
A9: =YEAR(C9) -> 2019 | B9: =CHOOSE(WEEKDAY(C9),"Dimanche","Lundi","Mardi","Mercredi","Jeudi","Vendredi","Samedi") -> Mardi | C9: =C8+1 -> 42011 | D9: =IF(H9<=0,0,1) -> 0 | E9: =IFERROR((VLOOKUP(C9,Données!F19:M31,8,0)),VLOOKUP(B9,Horaires,2,0)) -> 0.32291667
A10: =YEAR(C10) -> 2019 | B10: =CHOOSE(WEEKDAY(C10),"Dimanche","Lundi","Mardi","Mercredi","Jeudi","Vendredi","Samedi") -> Mercredi | C10: =C9+1 -> 42012 | D10: =IF(H10<=0,0,1) -> 0 | E10: =IFERROR((VLOOKUP(C10,Données!F20:M32,8,0)),VLOOKUP(B10,Horaires,2,0)) -> 0.32291667
A11: =YEAR(C11) -> 2019 | B11: =CHOOSE(WEEKDAY(C11),"Dimanche","Lundi","Mardi","Mercredi","Jeudi","Vendredi","Samedi") -> Jeudi | C11: =C10+1 -> 42013 | D11: =IF(H11<=0,0,1) -> 0 | E11: =IFERROR((VLOOKUP(C11,Données!F21:M33,8,0)),VLOOKUP(B11,Horaires,2,0)) -> 0.32291667
A12: =YEAR(C12) -> 2019 | B12: =CHOOSE(WEEKDAY(C12),"Dimanche","Lundi","Mardi","Mercredi","Jeudi","Vendredi","Samedi") -> Vendredi | C12: =C11+1 -> 42014 | D12: =IF(H12<=0,0,1) -> 0 | E12: =IFERROR((VLOOKUP(C12,Données!F22:M34,8,0)),VLOOKUP(B12,Horaires,2,0)) -> 0.16666667
A13: =YEAR(C13) -> 2019 | B13: =CHOOSE(WEEKDAY(C13),"Dimanche","Lundi","Mardi","Mercredi","Jeudi","Vendredi","Samedi") -> Samedi | C13: =C12+1 -> 42015 | D13: =IF(H13<=0,0,1) -> 0 | E13: =IFERROR((VLOOKUP(C13,Données!F23:M35,8,0)),VLOOKUP(B13,Horaires,2,0)) -> 0
A14: =YEAR(C14) -> 2019 | B14: =CHOOSE(WEEKDAY(C14),"Dimanche","Lundi","Mardi","Mercredi","Jeudi","Vendredi","Samedi") -> Dimanche | C14: =C13+1 -> 42016 | D14: =IF(H14<=0,0,1) -> 0 | E14: =IFERROR((VLOOKUP(C14,Données!F24:M36,8,0)),VLOOKUP(B14,Horaires,2,0)) -> 0
... A226: =YEAR(C226) -> 2019 | B226: =CHOOSE(WEEKDAY(C226),"Dimanche","Lundi","Mardi","Mercredi","Jeudi","Vendredi","Samedi") -> Mardi | C226: =C225+1 -> 42228 | D226: =IF(H226<=0,0,1) -> 0 | E226: =IFERROR((VLOOKUP(C226,Données!F236:M248,8,0)),VLOOKUP(B226,Horaires,2,0)) -> 0.32291667
A227: =YEAR(C227) -> 2019 | B227: =CHOOSE(WEEKDAY(C227),"Dimanche","Lundi","Mardi","Mercredi","Jeudi","Vendredi","Samedi") -> Mercredi | C227: =C226+1 -> 42229 | D227: =IF(H227<=0,0,1) -> 0 | E227: =IFERROR((VLOOKUP(C227,Données!F237:M249,8,0)),VLOOKUP(B227,Horaires,2,0)) -> 0.32291667 | R227: medecin
A228: =YEAR(C228) -> 2019 | B228: =CHOOSE(WEEKDAY(C228),"Dimanche","Lundi","Mardi","Mercredi","Jeudi","Vendredi","Samedi") -> Jeudi | C228: =C227+1 -> 42230 | D228: =IF(H228<=0,0,1) -> 0 | E228: =IFERROR((VLOOKUP(C228,Données!F238:M250,8,0)),VLOOKUP(B228,Horaires,2,0)) -> 0.32291667
A229: =YEAR(C229) -> 2019 | B229: =CHOOSE(WEEKDAY(C229),"Dimanche","Lundi","Mardi","Mercredi","Jeudi","Vendredi","Samedi") -> Vendredi | C229: =C228+1 -> 42231 | D229: =IF(H229<=0,0,1) -> 0 | E229: =IFERROR((VLOOKUP(C229,Données!F239:M251,8,0)),VLOOKUP(B229,Horaires,2,0)) -> 0.16666667
A230: =YEAR(C230) -> 2019 | B230: =CHOOSE(WEEKDAY(C230),"Dimanche","Lundi","Mardi","Mercredi","Jeudi","Vendredi","Samedi") -> Samedi | C230: =C229+1 -> 42232 | D230: =IF(H230<=0,0,1) -> 0 | E230: =IFERROR((VLOOKUP(C230,Données!F240:M252,8,0)),VLOOKUP(B230,Horaires,2,0)) -> 0
A231: =YEAR(C231) -> 2019 | B231: =CHOOSE(WEEKDAY(C231),"Dimanche","Lundi","Mardi","Mercredi","Jeudi","Vendredi","Samedi") -> Dimanche | C231: =C230+1 -> 42233 | D231: =IF(H231<=0,0,1) -> 0 | E231: =IFERROR((VLOOKUP(C231,Données!F241:M253,8,0)),VLOOKUP(B231,Horaires,2,0)) -> 0
A232: =YEAR(C232) -> 2019 | B232: =CHOOSE(WEEKDAY(C232),"Dimanche","Lundi","Mardi","Mercredi","Jeudi","Vendredi","Samedi") -> Lundi | C232: =C231+1 -> 42234 | D232: =IF(H232<=0,0,1) -> 0 | E232: =IFERROR((VLOOKUP(C232,Données!F242:M254,8,0)),VLOOKUP(B232,Horaires,2,0)) -> 0.32291667
A233: =YEAR(C233) -> 2019 | B233: =CHOOSE(WEEKDAY(C233),"Dimanche","Lundi","Mardi","Mercredi","Jeudi","Vendredi","Samedi") -> Mardi | C233: =C232+1 -> 42235 | D233: =IF(H233<=0,0,1) -> 0 | E233: =IFERROR((VLOOKUP(C233,Données!F243:M255,8,0)),VLOOKUP(B233,Horaires,2,0)) -> 0.32291667
A234: =YEAR(C234) -> 2019 | B234: =CHOOSE(WEEKDAY(C234),"Dimanche","Lundi","Mardi","Mercredi","Jeudi","Vendredi","Samedi") -> Mercredi | C234: =C233+1 -> 42236 | D234: =IF(H234<=0,0,1) -> 0 | E234: =IFERROR((VLOOKUP(C234,Données!F244:M256,8,0)),VLOOKUP(B234,Horaires,2,0)) -> 0.32291667
A235: =YEAR(C235) -> 2019 | B235: =CHOOSE(WEEKDAY(C235),"Dimanche","Lundi","Mardi","Mercredi","Jeudi","Vendredi","Samedi") -> Jeudi | C235: =C234+1 -> 42237 | D235: =IF(H235<=0,0,1) -> 0 | E235: =IFERROR((VLOOKUP(C235,Données!F245:M257,8,0)),VLOOKUP(B235,Horaires,2,0)) -> 0.32291667
A236: =YEAR(C236) -> 2019 | B236: =CHOOSE(WEEKDAY(C236),"Dimanche","Lundi","Mardi","Mercredi","Jeudi","Vendredi","Samedi") -> Vendredi | C236: =C235+1 -> 42238 | D236: =IF(H236<=0,0,1) -> 0 | E236: =IFERROR((VLOOKUP(C236,Données!F246:M258,8,0)),VLOOKUP(B236,Horaires,2,0)) -> 0.16666667
A237: =YEAR(C237) -> 2019 | B237: =CHOOSE(WEEKDAY(C237),"Dimanche","Lundi","Mardi","Mercredi","Jeudi","Vendredi","Samedi") -> Samedi | C237: =C236+1 -> 42239 | D237: =IF(H237<=0,0,1) -> 0 | E237: =IFERROR((VLOOKUP(C237,Données!F247:M259,8,0)),VLOOKUP(B237,Horaires,2,0)) -> 0
A238: =YEAR(C238) -> 2019 | B238: =CHOOSE(WEEKDAY(C238),"Dimanche","Lundi","Mardi","Mercredi","Jeudi","Vendredi","Samedi") -> Dimanche | C238: =C237+1 -> 42240 | D238: =IF(H238<=0,0,1) -> 0 | E238: =IFERROR((VLOOKUP(C238,Données!F248:M260,8,0)),VLOOKUP(B238,Horaires,2,0)) -> 0
A239: =YEAR(C239) -> 2019 | B239: =CHOOSE(WEEKDAY(C239),"Dimanche","Lundi","Mardi","Mercredi","Jeudi","Vendredi","Samedi") -> Lundi | C239: =C238+1 -> 42241 | D239: =IF(H239<=0,0,1) -> 0 | E239: =IFERROR((VLOOKUP(C239,Données!F249:M261,8,0)),VLOOKUP(B239,Horaires,2,0)) -> 0.32291667
A240: =YEAR(C240) -> 2019 | B240: =CHOOSE(WEEKDAY(C240),"Dimanche","Lundi","Mardi","Mercredi","Jeudi","Vendredi","Samedi") -> Mardi | C240: =C239+1 -> 42242 | D240: =IF(H240<=0,0,1) -> 0 | E240: =IFERROR((VLOOKUP(C240,Données!F250:M262,8,0)),VLOOKUP(B240,Horaires,2,0)) -> 0.32291667
A241: =YEAR(C241) -> 2019 | B241: =CHOOSE(WEEKDAY(C241),"Dimanche","Lundi","Mardi","Mercredi","Jeudi","Vendredi","Samedi") -> Mercredi | C241: =C240+1 -> 42243 | D241: =IF(H241<=0,0,1) -> 0 | E241: =IFERROR((VLOOKUP(C241,Données!F251:M263,8,0)),VLOOKUP(B241,Horaires,2,0)) -> 0.32291667 | R241: muron
A242: =YEAR(C242) -> 2019 | B242: =CHOOSE(WEEKDAY(C242),"Dimanche","Lundi","Mardi","Mercredi","Jeudi","Vendredi","Samedi") -> Jeudi | C242: =C241+1 -> 42244 | D242: =IF(H242<=0,0,1) -> 0 | E242: =IFERROR((VLOOKUP(C242,Données!F252:M264,8,0)),VLOOKUP(B242,Horaires,2,0)) -> 0.32291667
A243: =YEAR(C243) -> 2019 | B243: =CHOOSE(WEEKDAY(C243),"Dimanche","Lundi","Mardi","Mercredi","Jeudi","Vendredi","Samedi") -> Vendredi | C243: =C242+1 -> 42245 | D243: =IF(H243<=0,0,1) -> 0 | E243: =IFERROR((VLOOKUP(C243,Données!F253:M265,8,0)),VLOOKUP(B243,Horaires,2,0)) -> 0.16666667
A244: =YEAR(C244) -> 2019 | B244: =CHOOSE(WEEKDAY(C244),"Dimanche","Lundi","Mardi","Mercredi","Jeudi","Vendredi","Samedi") -> Samedi | C244: =C243+1 -> 42246 | D244: =IF(H244<=0,0,1) -> 0 | E244: =IFERROR((VLOOKUP(C244,Données!F254:M266,8,0)),VLOOKUP(B244,Horaires,2,0)) -> 0 | R244: medecin
A245: =YEAR(C245) -> 2019 | B245: =CHOOSE(WEEKDAY(C245),"Dimanche","Lundi","Mardi","Mercredi","Jeudi","Vendredi","Samedi") -> Dimanche | C245: =C244+1 -> 42247 | D245: =IF(H245<=0,0,1) -> 0 | E245: =IFERROR((VLOOKUP(C245,Données!F255:M267,8,0)),VLOOKUP(B245,Horaires,2,0)) -> 0
A246: =YEAR(C246) -> 2019 | B246: =CHOOSE(WEEKDAY(C246),"Dimanche","Lundi","Mardi","Mercredi","Jeudi","Vendredi","Samedi") -> Lundi | C246: =C245+1 -> 42248 | D246: =IF(H246<=0,0,1) -> 0 | E246: =IFERROR((VLOOKUP(C246,Données!F256:M268,8,0)),VLOOKUP(B246,Horaires,2,0)) -> 0.32291667
A247: =YEAR(C247) -> 2019 | B247: =CHOOSE(WEEKDAY(C247),"Dimanche","Lundi","Mardi","Mercredi","Jeudi","Vendredi","Samedi") -> Mardi | C247: =C246+1 -> 42249 | D247: =IF(H247<=0,0,1) -> 0 | E247: =IFERROR((VLOOKUP(C247,Données!F257:M269,8,0)),VLOOKUP(B247,Horaires,2,0)) -> 0.32291667
A248: =YEAR(C248) -> 2019 | B248: =CHOOSE(WEEKDAY(C248),"Dimanche","Lundi","Mardi","Mercredi","Jeudi","Vendredi","Samedi") -> Mercredi | C248: =C247+1 -> 42250 | D248: =IF(H248<=0,0,1) -> 0 | E248: =IFERROR((VLOOKUP(C248,Données!F258:M270,8,0)),VLOOKUP(B248,Horaires,2,0)) -> 0.32291667
A249: =YEAR(C249) -> 2019 | B249: =CHOOSE(WEEKDAY(C249),"Dimanche","Lundi","Mardi","Mercredi","Jeudi","Vendredi","Samedi") -> Jeudi | C249: =C248+1 -> 42251 | D249: =IF(H249<=0,0,1) -> 0 | E249: =IFERROR((VLOOKUP(C249,Données!F259:M271,8,0)),VLOOKUP(B249,Horaires,2,0)) -> 0.32291667
A250: =YEAR(C250) -> 2019 | B250: =CHOOSE(WEEKDAY(C250),"Dimanche","Lundi","Mardi","Mercredi","Jeudi","Vendredi","Samedi") -> Vendredi | C250: =C249+1 -> 42252 | D250: =IF(H250<=0,0,1) -> 0 | E250: =IFERROR((VLOOKUP(C250,Données!F260:M272,8,0)),VLOOKUP(B250,Horaires,2,0)) -> 0.16666667
A251: =YEAR(C251) -> 2019 | B251: =CHOOSE(WEEKDAY(C251),"Dimanche","Lundi","Mardi","Mercredi","Jeudi","Vendredi","Samedi") -> Samedi | C251: =C250+1 -> 42253 | D251: =IF(H251<=0,0,1) -> 0 | E251: =IFERROR((VLOOKUP(C251,Données!F261:M273,8,0)),VLOOKUP(B251,Horaires,2,0)) -> 0
A252: =YEAR(C252) -> 2019 | B252: =CHOOSE(WEEKDAY(C252),"Dimanche","Lundi","Mardi","Mercredi","Jeudi","Vendredi","Samedi") -> Dimanche | C252: =C251+1 -> 42254 | D252: =IF(H252<=0,0,1) -> 0 | E252: =IFERROR((VLOOKUP(C252,Données!F262:M274,8,0)),VLOOKUP(B252,Horaires,2,0)) -> 0
A253: =YEAR(C253) -> 2019 | B253: =CHOOSE(WEEKDAY(C253),"Dimanche","Lundi","Mardi","Mercredi","Jeudi","Vendredi","Samedi") -> Lundi | C253: =C252+1 -> 42255 | D253: =IF(H253<=0,0,1) -> 0 | E253: =IFERROR((VLOOKUP(C253,Données!F263:M275,8,0)),VLOOKUP(B253,Horaires,2,0)) -> 0.32291667
A254: =YEAR(C254) -> 2019 | B254: =CHOOSE(WEEKDAY(C254),"Dimanche","Lundi","Mardi","Mercredi","Jeudi","Vendredi","Samedi") -> Mardi | C254: =C253+1 -> 42256 | D254: =IF(H254<=0,0,1) -> 0 | E254: =IFERROR((VLOOKUP(C254,Données!F264:M276,8,0)),VLOOKUP(B254,Horaires,2,0)) -> 0.32291667
A255: =YEAR(C255) -> 2019 | B255: =CHOOSE(WEEKDAY(C255),"Dimanche","Lundi","Mardi","Mercredi","Jeudi","Vendredi","Samedi") -> Mercredi | C255: =C254+1 -> 42257 | D255: =IF(H255<=0,0,1) -> 0 | E255: =IFERROR((VLOOKUP(C255,Données!F265:M277,8,0)),VLOOKUP(B255,Horaires,2,0)) -> 0.32291667
A256: =YEAR(C256) -> 2019 | B256: =CHOOSE(WEEKDAY(C256),"Dimanche","Lundi","Mardi","Mercredi","Jeudi","Vendredi","Samedi") -> Jeudi | C256: =C255+1 -> 42258 | D256: =IF(H256<=0,0,1) -> 0 | E256: =IFERROR((VLOOKUP(C256,Données!F266:M278,8,0)),VLOOKUP(B256,Horaires,2,0)) -> 0.32291667
... A302: =YEAR(C302) -> 2019 | B302: =CHOOSE(WEEKDAY(C302),"Dimanche","Lundi","Mardi","Mercredi","Jeudi","Vendredi","Samedi") -> Lundi | C302: =C301+1 -> 42304 | D302: =IF(H302<=0,0,1) -> 0 | E302: =IFERROR((VLOOKUP(C302,Données!F312:M324,8,0)),VLOOKUP(B302,Horaires,2,0)) -> 0.32291667
A303: =YEAR(C303) -> 2019 | B303: =CHOOSE(WEEKDAY(C303),"Dimanche","Lundi","Mardi","Mercredi","Jeudi","Vendredi","Samedi") -> Mardi | C303: =C302+1 -> 42305 | D303: =IF(H303<=0,0,1) -> 0 | E303: =IFERROR((VLOOKUP(C303,Données!F313:M325,8,0)),VLOOKUP(B303,Horaires,2,0)) -> 0.32291667 | R303: formation caces 4 + blocage neige
A304: =YEAR(C304) -> 2019 | B304: =CHOOSE(WEEKDAY(C304),"Dimanche","Lundi","Mardi","Mercredi","Jeudi","Vendredi","Samedi") -> Mercredi | C304: =C303+1 -> 42306 | D304: =IF(H304<=0,0,1) -> 0 | E304: =IFERROR((VLOOKUP(C304,Données!F314:M326,8,0)),VLOOKUP(B304,Horaires,2,0)) -> 0.32291667
A305: =YEAR(C305) -> 2019 | B305: =CHOOSE(WEEKDAY(C305),"Dimanche","Lundi","Mardi","Mercredi","Jeudi","Vendredi","Samedi") -> Jeudi | C305: =C304+1 -> 42307 | D305: =IF(H305<=0,0,1) -> 0 | E305: =IFERROR((VLOOKUP(C305,Données!F315:M327,8,0)),VLOOKUP(B305,Horaires,2,0)) -> 0.32291667
A306: =YEAR(C306) -> 2019 | B306: =CHOOSE(WEEKDAY(C306),"Dimanche","Lundi","Mardi","Mercredi","Jeudi","Vendredi","Samedi") -> Vendredi | C306: =C305+1 -> 42308 | D306: =IF(H306<=0,0,1) -> 0 | E306: =IFERROR((VLOOKUP(C306,Données!F316:M328,8,0)),VLOOKUP(B306,Horaires,2,0)) -> 0.16666667
A307: =YEAR(C307) -> 2019 | B307: =CHOOSE(WEEKDAY(C307),"Dimanche","Lundi","Mardi","Mercredi","Jeudi","Vendredi","Samedi") -> Samedi | C307: =C306+1 -> 42309 | D307: =IF(H307<=0,0,1) -> 0 | E307: =IFERROR((VLOOKUP(C307,Données!F317:M329,8,0)),VLOOKUP(B307,Horaires,2,0)) -> 0
A308: =YEAR(C308) -> 2019 | B308: =CHOOSE(WEEKDAY(C308),"Dimanche","Lundi","Mardi","Mercredi","Jeudi","Vendredi","Samedi") -> Dimanche | C308: =C307+1 -> 42310 | D308: =IF(H308<=0,0,1) -> 0 | E308: =IFERROR((VLOOKUP(C308,Données!F318:M330,8,0)),VLOOKUP(B308,Horaires,2,0)) -> 0
A309: =YEAR(C309) -> 2019 | B309: =CHOOSE(WEEKDAY(C309),"Dimanche","Lundi","Mardi","Mercredi","Jeudi","Vendredi","Samedi") -> Lundi | C309: =C308+1 -> 42311 | D309: =IF(H309<=0,0,1) -> 0 | E309: =IFERROR((VLOOKUP(C309,Données!F319:M331,8,0)),VLOOKUP(B309,Horaires,2,0)) -> 0.32291667
A310: =YEAR(C310) -> 2019 | B310: =CHOOSE(WEEKDAY(C310),"Dimanche","Lundi","Mardi","Mercredi","Jeudi","Vendredi","Samedi") -> Mardi | C310: =C309+1 -> 42312 | D310: =IF(H310<=0,0,1) -> 0 | E310: =IFERROR((VLOOKUP(C310,Données!F320:M332,8,0)),VLOOKUP(B310,Horaires,2,0)) -> 0.32291667
A311: =YEAR(C311) -> 2019 | B311: =CHOOSE(WEEKDAY(C311),"Dimanche","Lundi","Mardi","Mercredi","Jeudi","Vendredi","Samedi") -> Mercredi | C311: =C310+1 -> 42313 | D311: =IF(H311<=0,0,1) -> 0 | E311: =IFERROR((VLOOKUP(C311,Données!F321:M333,8,0)),VLOOKUP(B311,Horaires,2,0)) -> 0.32291667
A312: =YEAR(C312) -> 2019 | B312: =CHOOSE(WEEKDAY(C312),"Dimanche","Lundi","Mardi","Mercredi","Jeudi","Vendredi","Samedi") -> Jeudi | C312: =C311+1 -> 42314 | D312: =IF(H312<=0,0,1) -> 0 | E312: =IFERROR((VLOOKUP(C312,Données!F322:M334,8,0)),VLOOKUP(B312,Horaires,2,0)) -> 0.32291667
A313: =YEAR(C313) -> 2019 | B313: =CHOOSE(WEEKDAY(C313),"Dimanche","Lundi","Mardi","Mercredi","Jeudi","Vendredi","Samedi") -> Vendredi | C313: =C312+1 -> 42315 | D313: =IF(H313<=0,0,1) -> 0 | E313: =IFERROR((VLOOKUP(C313,Données!F323:M335,8,0)),VLOOKUP(B313,Horaires,2,0)) -> 0.16666667
A314: =YEAR(C314) -> 2019 | B314: =CHOOSE(WEEKDAY(C314),"Dimanche","Lundi","Mardi","Mercredi","Jeudi","Vendredi","Samedi") -> Samedi | C314: =C313+1 -> 42316 | D314: =IF(H314<=0,0,1) -> 0 | E314: =IFERROR((VLOOKUP(C314,Données!F324:M336,8,0)),VLOOKUP(B314,Horaires,2,0)) -> 0
A315: =YEAR(C315) -> 2019 | B315: =CHOOSE(WEEKDAY(C315),"Dimanche","Lundi","Mardi","Mercredi","Jeudi","Vendredi","Samedi") -> Dimanche | C315: =C314+1 -> 42317 | D315: =IF(H315<=0,0,1) -> 0 | E315: =IFERROR((VLOOKUP(C315,Données!F325:M337,8,0)),VLOOKUP(B315,Horaires,2,0)) -> 0
... A366: =YEAR(C366) -> 2019 | B366: =CHOOSE(WEEKDAY(C366),"Dimanche","Lundi","Mardi","Mercredi","Jeudi","Vendredi","Samedi") -> Mardi | C366: =C365+1 -> 42368 | D366: =IF(H366<=0,0,1) -> 0 | E366: =IFERROR((VLOOKUP(C366,Données!F376:M388,8,0)),VLOOKUP(B366,Horaires,2,0)) -> 0.32291667
A367: TOTAUX : | E367: =IFERROR((VLOOKUP(C367,Données!F377:M389,8,0)),VLOOKUP(B367,Horaires,2,0)) -> #N/A | F367: =SUM(F2:F366) -> 0 | G367: =SUM(G2:G366) -> 0 | H367: =SUM(H2:H366) -> 0 | I367: =SUM(I2:I366) -> 0 | J367: =SUM(J2:J366) -> 0 | K367: =SUM(K2:K366) -> 0 | L367: =SUM(L2:L366) -> 0 | M367: =SUM(M2:M366) -> 0 | ... Q367: =SUM(Q2:Q366) -> 0

Sheet 2018_V2
A1: Année | B1: jours | C1: Dates : | D1: Jours travaillés | E1: Heures à faire: | F1: 22hà3h30à6h (X2,5) | G1: 6hà7h30 (X1,25) | H1: 7h30à16h45 (X1) | I1: 16h45à22h (X1,25) | J1: Heures pointées Bâtiment | K1: ASA | L1: Formations | M1: Jours Fériés | N1: Congés | O1: Heures Supp | P1: Heures Neige | Q1: Récup Heures Neige
A2: =YEAR(C2) -> 2018 | B2: =CHOOSE(WEEKDAY(C2),"Dimanche","Lundi","Mardi","Mercredi","Jeudi","Vendredi","Samedi") -> Lundi | C2: 41639 | D2: =IF(H2<=0,0,1) -> 0 | E2: =IF(COUNTIF(Données!E12:E24,C2)>=1,0,VLOOKUP(B2,Horaires,2,0)) -> 0
A3: =YEAR(C3) -> 2018 | B3: =CHOOSE(WEEKDAY(C3),"Dimanche","Lundi","Mardi","Mercredi","Jeudi","Vendredi","Samedi") -> Mardi | C3: =C2+1 -> 41640 | D3: =IF(H3<=0,0,1) -> 0 | E3: =IF(COUNTIF(Données!E13:E25,C3)>=1,0,VLOOKUP(B3,Horaires,2,0)) -> 0.32291667
A4: =YEAR(C4) -> 2018 | B4: =CHOOSE(WEEKDAY(C4),"Dimanche","Lundi","Mardi","Mercredi","Jeudi","Vendredi","Samedi") -> Mercredi | C4: =C3+1 -> 41641 | D4: =IF(H4<=0,0,1) -> 0 | E4: =IF(COUNTIF(Données!E14:E26,C4)>=1,0,VLOOKUP(B4,Horaires,2,0)) -> 0.32291667
A5: =YEAR(C5) -> 2018 | B5: =CHOOSE(WEEKDAY(C5),"Dimanche","Lundi","Mardi","Mercredi","Jeudi","Vendredi","Samedi") -> Jeudi | C5: =C4+1 -> 41642 | D5: =IF(H5<=0,0,1) -> 0 | E5: =IF(COUNTIF(Données!E15:E27,C5)>=1,0,VLOOKUP(B5,Horaires,2,0)) -> 0.32291667
A6: =YEAR(C6) -> 2018 | B6: =CHOOSE(WEEKDAY(C6),"Dimanche","Lundi","Mardi","Mercredi","Jeudi","Vendredi","Samedi") -> Vendredi | C6: =C5+1 -> 41643 | D6: =IF(H6<=0,0,1) -> 0 | E6: =IF(COUNTIF(Données!E16:E28,C6)>=1,0,VLOOKUP(B6,Horaires,2,0)) -> 0.16666667
A7: =YEAR(C7) -> 2018 | B7: =CHOOSE(WEEKDAY(C7),"Dimanche","Lundi","Mardi","Mercredi","Jeudi","Vendredi","Samedi") -> Samedi | C7: =C6+1 -> 41644 | D7: =IF(H7<=0,0,1) -> 0 | E7: =IF(COUNTIF(Données!E17:E29,C7)>=1,0,VLOOKUP(B7,Horaires,2,0)) -> 0
A8: =YEAR(C8) -> 2018 | B8: =CHOOSE(WEEKDAY(C8),"Dimanche","Lundi","Mardi","Mercredi","Jeudi","Vendredi","Samedi") -> Dimanche | C8: =C7+1 -> 41645 | D8: =IF(H8<=0,0,1) -> 0 | E8: =IF(COUNTIF(Données!E18:E30,C8)>=1,0,VLOOKUP(B8,Horaires,2,0)) -> 0
A9: =YEAR(C9) -> 2018 | B9: =CHOOSE(WEEKDAY(C9),"Dimanche","Lundi","Mardi","Mercredi","Jeudi","Vendredi","Samedi") -> Lundi | C9: =C8+1 -> 41646 | D9: =IF(H9<=0,0,1) -> 0 | E9: =IF(COUNTIF(Données!E19:E31,C9)>=1,0,VLOOKUP(B9,Horaires,2,0)) -> 0.32291667
A10: =YEAR(C10) -> 2018 | B10: =CHOOSE(WEEKDAY(C10),"Dimanche","Lundi","Mardi","Mercredi","Jeudi","Vendredi","Samedi") -> Mardi | C10: =C9+1 -> 41647 | D10: =IF(H10<=0,0,1) -> 0 | E10: =IF(COUNTIF(Données!E20:E32,C10)>=1,0,VLOOKUP(B10,Horaires,2,0)) -> 0.32291667
A11: =YEAR(C11) -> 2018 | B11: =CHOOSE(WEEKDAY(C11),"Dimanche","Lundi","Mardi","Mercredi","Jeudi","Vendredi","Samedi") -> Mercredi | C11: =C10+1 -> 41648 | D11: =IF(H11<=0,0,1) -> 0 | E11: =IF(COUNTIF(Données!E21:E33,C11)>=1,0,VLOOKUP(B11,Horaires,2,0)) -> 0.32291667
A12: =YEAR(C12) -> 2018 | B12: =CHOOSE(WEEKDAY(C12),"Dimanche","Lundi","Mardi","Mercredi","Jeudi","Vendredi","Samedi") -> Jeudi | C12: =C11+1 -> 41649 | D12: =IF(H12<=0,0,1) -> 0 | E12: =IF(COUNTIF(Données!E22:E34,C12)>=1,0,VLOOKUP(B12,Horaires,2,0)) -> 0.32291667
A13: =YEAR(C13) -> 2018 | B13: =CHOOSE(WEEKDAY(C13),"Dimanche","Lundi","Mardi","Mercredi","Jeudi","Vendredi","Samedi") -> Vendredi | C13: =C12+1 -> 41650 | D13: =IF(H13<=0,0,1) -> 0 | E13: =IF(COUNTIF(Données!E23:E35,C13)>=1,0,VLOOKUP(B13,Horaires,2,0)) -> 0.16666667
A14: =YEAR(C14) -> 2018 | B14: =CHOOSE(WEEKDAY(C14),"Dimanche","Lundi","Mardi","Mercredi","Jeudi","Vendredi","Samedi") -> Samedi | C14: =C13+1 -> 41651 | D14: =IF(H14<=0,0,1) -> 0 | E14: =IF(COUNTIF(Données!E24:E36,C14)>=1,0,VLOOKUP(B14,Horaires,2,0)) -> 0
... A226: =YEAR(C226) -> 2018 | B226: =CHOOSE(WEEKDAY(C226),"Dimanche","Lundi","Mardi","Mercredi","Jeudi","Vendredi","Samedi") -> Lundi | C226: =C225+1 -> 41863 | D226: =IF(H226<=0,0,1) -> 0 | E226: =IF(COUNTIF(Données!E236:E248,C226)>=1,0,VLOOKUP(B226,Horaires,2,0)) -> 0.32291667
A227: =YEAR(C227) -> 2018 | B227: =CHOOSE(WEEKDAY(C227),"Dimanche","Lundi","Mardi","Mercredi","Jeudi","Vendredi","Samedi") -> Mardi | C227: =C226+1 -> 41864 | D227: =IF(H227<=0,0,1) -> 0 | E227: =IF(COUNTIF(Données!E237:E249,C227)>=1,0,VLOOKUP(B227,Horaires,2,0)) -> 0.32291667 | R227: medecin
A228: =YEAR(C228) -> 2018 | B228: =CHOOSE(WEEKDAY(C228),"Dimanche","Lundi","Mardi","Mercredi","Jeudi","Vendredi","Samedi") -> Mercredi | C228: =C227+1 -> 41865 | D228: =IF(H228<=0,0,1) -> 0 | E228: =IF(COUNTIF(Données!E238:E250,C228)>=1,0,VLOOKUP(B228,Horaires,2,0)) -> 0.32291667
A229: =YEAR(C229) -> 2018 | B229: =CHOOSE(WEEKDAY(C229),"Dimanche","Lundi","Mardi","Mercredi","Jeudi","Vendredi","Samedi") -> Jeudi | C229: =C228+1 -> 41866 | D229: =IF(H229<=0,0,1) -> 0 | E229: =IF(COUNTIF(Données!E239:E251,C229)>=1,0,VLOOKUP(B229,Horaires,2,0)) -> 0.32291667
A230: =YEAR(C230) -> 2018 | B230: =CHOOSE(WEEKDAY(C230),"Dimanche","Lundi","Mardi","Mercredi","Jeudi","Vendredi","Samedi") -> Vendredi | C230: =C229+1 -> 41867 | D230: =IF(H230<=0,0,1) -> 0 | E230: =IF(COUNTIF(Données!E240:E252,C230)>=1,0,VLOOKUP(B230,Horaires,2,0)) -> 0.16666667
A231: =YEAR(C231) -> 2018 | B231: =CHOOSE(WEEKDAY(C231),"Dimanche","Lundi","Mardi","Mercredi","Jeudi","Vendredi","Samedi") -> Samedi | C231: =C230+1 -> 41868 | D231: =IF(H231<=0,0,1) -> 0 | E231: =IF(COUNTIF(Données!E241:E253,C231)>=1,0,VLOOKUP(B231,Horaires,2,0)) -> 0
A232: =YEAR(C232) -> 2018 | B232: =CHOOSE(WEEKDAY(C232),"Dimanche","Lundi","Mardi","Mercredi","Jeudi","Vendredi","Samedi") -> Dimanche | C232: =C231+1 -> 41869 | D232: =IF(H232<=0,0,1) -> 0 | E232: =IF(COUNTIF(Données!E242:E254,C232)>=1,0,VLOOKUP(B232,Horaires,2,0)) -> 0
A233: =YEAR(C233) -> 2018 | B233: =CHOOSE(WEEKDAY(C233),"Dimanche","Lundi","Mardi","Mercredi","Jeudi","Vendredi","Samedi") -> Lundi | C233: =C232+1 -> 41870 | D233: =IF(H233<=0,0,1) -> 0 | E233: =IF(COUNTIF(Données!E243:E255,C233)>=1,0,VLOOKUP(B233,Horaires,2,0)) -> 0.32291667
A234: =YEAR(C234) -> 2018 | B234: =CHOOSE(WEEKDAY(C234),"Dimanche","Lundi","Mardi","Mercredi","Jeudi","Vendredi","Samedi") -> Mardi | C234: =C233+1 -> 41871 | D234: =IF(H234<=0,0,1) -> 0 | E234: =IF(COUNTIF(Données!E244:E256,C234)>=1,0,VLOOKUP(B234,Horaires,2,0)) -> 0.32291667
A235: =YEAR(C235) -> 2018 | B235: =CHOOSE(WEEKDAY(C235),"Dimanche","Lundi","Mardi","Mercredi","Jeudi","Vendredi","Samedi") -> Mercredi | C235: =C234+1 -> 41872 | D235: =IF(H235<=0,0,1) -> 0 | E235: =IF(COUNTIF(Données!E245:E257,C235)>=1,0,VLOOKUP(B235,Horaires,2,0)) -> 0.32291667
A236: =YEAR(C236) -> 2018 | B236: =CHOOSE(WEEKDAY(C236),"Dimanche","Lundi","Mardi","Mercredi","Jeudi","Vendredi","Samedi") -> Jeudi | C236: =C235+1 -> 41873 | D236: =IF(H236<=0,0,1) -> 0 | E236: =IF(COUNTIF(Données!E246:E258,C236)>=1,0,VLOOKUP(B236,Horaires,2,0)) -> 0.32291667
A237: =YEAR(C237) -> 2018 | B237: =CHOOSE(WEEKDAY(C237),"Dimanche","Lundi","Mardi","Mercredi","Jeudi","Vendredi","Samedi") -> Vendredi | C237: =C236+1 -> 41874 | D237: =IF(H237<=0,0,1) -> 0 | E237: =IF(COUNTIF(Données!E247:E259,C237)>=1,0,VLOOKUP(B237,Horaires,2,0)) -> 0.16666667
A238: =YEAR(C238) -> 2018 | B238: =CHOOSE(WEEKDAY(C238),"Dimanche","Lundi","Mardi","Mercredi","Jeudi","Vendredi","Samedi") -> Samedi | C238: =C237+1 -> 41875 | D238: =IF(H238<=0,0,1) -> 0 | E238: =IF(COUNTIF(Données!E248:E260,C238)>=1,0,VLOOKUP(B238,Horaires,2,0)) -> 0
A239: =YEAR(C239) -> 2018 | B239: =CHOOSE(WEEKDAY(C239),"Dimanche","Lundi","Mardi","Mercredi","Jeudi","Vendredi","Samedi") -> Dimanche | C239: =C238+1 -> 41876 | D239: =IF(H239<=0,0,1) -> 0 | E239: =IF(COUNTIF(Données!E249:E261,C239)>=1,0,VLOOKUP(B239,Horaires,2,0)) -> 0
A240: =YEAR(C240) -> 2018 | B240: =CHOOSE(WEEKDAY(C240),"Dimanche","Lundi","Mardi","Mercredi","Jeudi","Vendredi","Samedi") -> Lundi | C240: =C239+1 -> 41877 | D240: =IF(H240<=0,0,1) -> 0 | E240: =IF(COUNTIF(Données!E250:E262,C240)>=1,0,VLOOKUP(B240,Horaires,2,0)) -> 0.32291667
A241: =YEAR(C241) -> 2018 | B241: =CHOOSE(WEEKDAY(C241),"Dimanche","Lundi","Mardi","Mercredi","Jeudi","Vendredi","Samedi") -> Mardi | C241: =C240+1 -> 41878 | D241: =IF(H241<=0,0,1) -> 0 | E241: =IF(COUNTIF(Données!E251:E263,C241)>=1,0,VLOOKUP(B241,Horaires,2,0)) -> 0.32291667 | R241: muron
A242: =YEAR(C242) -> 2018 | B242: =CHOOSE(WEEKDAY(C242),"Dimanche","Lundi","Mardi","Mercredi","Jeudi","Vendredi","Samedi") -> Mercredi | C242: =C241+1 -> 41879 | D242: =IF(H242<=0,0,1) -> 0 | E242: =IF(COUNTIF(Données!E252:E264,C242)>=1,0,VLOOKUP(B242,Horaires,2,0)) -> 0.32291667
A243: =YEAR(C243) -> 2018 | B243: =CHOOSE(WEEKDAY(C243),"Dimanche","Lundi","Mardi","Mercredi","Jeudi","Vendredi","Samedi") -> Jeudi | C243: =C242+1 -> 41880 | D243: =IF(H243<=0,0,1) -> 0 | E243: =IF(COUNTIF(Données!E253:E265,C243)>=1,0,VLOOKUP(B243,Horaires,2,0)) -> 0.32291667
A244: =YEAR(C244) -> 2018 | B244: =CHOOSE(WEEKDAY(C244),"Dimanche","Lundi","Mardi","Mercredi","Jeudi","Vendredi","Samedi") -> Vendredi | C244: =C243+1 -> 41881 | D244: =IF(H244<=0,0,1) -> 0 | E244: =IF(COUNTIF(Données!E254:E266,C244)>=1,0,VLOOKUP(B244,Horaires,2,0)) -> 0.16666667 | R244: medecin
A245: =YEAR(C245) -> 2018 | B245: =CHOOSE(WEEKDAY(C245),"Dimanche","Lundi","Mardi","Mercredi","Jeudi","Vendredi","Samedi") -> Samedi | C245: =C244+1 -> 41882 | D245: =IF(H245<=0,0,1) -> 0 | E245: =IF(COUNTIF(Données!E255:E267,C245)>=1,0,VLOOKUP(B245,Horaires,2,0)) -> 0
A246: =YEAR(C246) -> 2018 | B246: =CHOOSE(WEEKDAY(C246),"Dimanche","Lundi","Mardi","Mercredi","Jeudi","Vendredi","Samedi") -> Dimanche | C246: =C245+1 -> 41883 | D246: =IF(H246<=0,0,1) -> 0 | E246: =IF(COUNTIF(Données!E256:E268,C246)>=1,0,VLOOKUP(B246,Horaires,2,0)) -> 0
A247: =YEAR(C247) -> 2018 | B247: =CHOOSE(WEEKDAY(C247),"Dimanche","Lundi","Mardi","Mercredi","Jeudi","Vendredi","Samedi") -> Lundi | C247: =C246+1 -> 41884 | D247: =IF(H247<=0,0,1) -> 0 | E247: =IF(COUNTIF(Données!E257:E269,C247)>=1,0,VLOOKUP(B247,Horaires,2,0)) -> 0.32291667
A248: =YEAR(C248) -> 2018 | B248: =CHOOSE(WEEKDAY(C248),"Dimanche","Lundi","Mardi","Mercredi","Jeudi","Vendredi","Samedi") -> Mardi | C248: =C247+1 -> 41885 | D248: =IF(H248<=0,0,1) -> 0 | E248: =IF(COUNTIF(Données!E258:E270,C248)>=1,0,VLOOKUP(B248,Horaires,2,0)) -> 0.32291667
A249: =YEAR(C249) -> 2018 | B249: =CHOOSE(WEEKDAY(C249),"Dimanche","Lundi","Mardi","Mercredi","Jeudi","Vendredi","Samedi") -> Mercredi | C249: =C248+1 -> 41886 | D249: =IF(H249<=0,0,1) -> 0 | E249: =IF(COUNTIF(Données!E259:E271,C249)>=1,0,VLOOKUP(B249,Horaires,2,0)) -> 0.32291667
A250: =YEAR(C250) -> 2018 | B250: =CHOOSE(WEEKDAY(C250),"Dimanche","Lundi","Mardi","Mercredi","Jeudi","Vendredi","Samedi") -> Jeudi | C250: =C249+1 -> 41887 | D250: =IF(H250<=0,0,1) -> 0 | E250: =IF(COUNTIF(Données!E260:E272,C250)>=1,0,VLOOKUP(B250,Horaires,2,0)) -> 0.32291667
A251: =YEAR(C251) -> 2018 | B251: =CHOOSE(WEEKDAY(C251),"Dimanche","Lundi","Mardi","Mercredi","Jeudi","Vendredi","Samedi") -> Vendredi | C251: =C250+1 -> 41888 | D251: =IF(H251<=0,0,1) -> 0 | E251: =IF(COUNTIF(Données!E261:E273,C251)>=1,0,VLOOKUP(B251,Horaires,2,0)) -> 0.16666667
A252: =YEAR(C252) -> 2018 | B252: =CHOOSE(WEEKDAY(C252),"Dimanche","Lundi","Mardi","Mercredi","Jeudi","Vendredi","Samedi") -> Samedi | C252: =C251+1 -> 41889 | D252: =IF(H252<=0,0,1) -> 0 | E252: =IF(COUNTIF(Données!E262:E274,C252)>=1,0,VLOOKUP(B252,Horaires,2,0)) -> 0
A253: =YEAR(C253) -> 2018 | B253: =CHOOSE(WEEKDAY(C253),"Dimanche","Lundi","Mardi","Mercredi","Jeudi","Vendredi","Samedi") -> Dimanche | C253: =C252+1 -> 41890 | D253: =IF(H253<=0,0,1) -> 0 | E253: =IF(COUNTIF(Données!E263:E275,C253)>=1,0,VLOOKUP(B253,Horaires,2,0)) -> 0
A254: =YEAR(C254) -> 2018 | B254: =CHOOSE(WEEKDAY(C254),"Dimanche","Lundi","Mardi","Mercredi","Jeudi","Vendredi","Samedi") -> Lundi | C254: =C253+1 -> 41891 | D254: =IF(H254<=0,0,1) -> 0 | E254: =IF(COUNTIF(Données!E264:E276,C254)>=1,0,VLOOKUP(B254,Horaires,2,0)) -> 0.32291667
A255: =YEAR(C255) -> 2018 | B255: =CHOOSE(WEEKDAY(C255),"Dimanche","Lundi","Mardi","Mercredi","Jeudi","Vendredi","Samedi") -> Mardi | C255: =C254+1 -> 41892 | D255: =IF(H255<=0,0,1) -> 0 | E255: =IF(COUNTIF(Données!E265:E277,C255)>=1,0,VLOOKUP(B255,Horaires,2,0)) -> 0.32291667
A256: =YEAR(C256) -> 2018 | B256: =CHOOSE(WEEKDAY(C256),"Dimanche","Lundi","Mardi","Mercredi","Jeudi","Vendredi","Samedi") -> Mercredi | C256: =C255+1 -> 41893 | D256: =IF(H256<=0,0,1) -> 0 | E256: =IF(COUNTIF(Données!E266:E278,C256)>=1,0,VLOOKUP(B256,Horaires,2,0)) -> 0.32291667
... A302: =YEAR(C302) -> 2018 | B302: =CHOOSE(WEEKDAY(C302),"Dimanche","Lundi","Mardi","Mercredi","Jeudi","Vendredi","Samedi") -> Dimanche | C302: =C301+1 -> 41939 | D302: =IF(H302<=0,0,1) -> 0 | E302: =IF(COUNTIF(Données!E312:E324,C302)>=1,0,VLOOKUP(B302,Horaires,2,0)) -> 0
A303: =YEAR(C303) -> 2018 | B303: =CHOOSE(WEEKDAY(C303),"Dimanche","Lundi","Mardi","Mercredi","Jeudi","Vendredi","Samedi") -> Lundi | C303: =C302+1 -> 41940 | D303: =IF(H303<=0,0,1) -> 0 | E303: =IF(COUNTIF(Données!E313:E325,C303)>=1,0,VLOOKUP(B303,Horaires,2,0)) -> 0.32291667 | R303: formation caces 4 + blocage neige
A304: =YEAR(C304) -> 2018 | B304: =CHOOSE(WEEKDAY(C304),"Dimanche","Lundi","Mardi","Mercredi","Jeudi","Vendredi","Samedi") -> Mardi | C304: =C303+1 -> 41941 | D304: =IF(H304<=0,0,1) -> 0 | E304: =IF(COUNTIF(Données!E314:E326,C304)>=1,0,VLOOKUP(B304,Horaires,2,0)) -> 0.32291667
A305: =YEAR(C305) -> 2018 | B305: =CHOOSE(WEEKDAY(C305),"Dimanche","Lundi","Mardi","Mercredi","Jeudi","Vendredi","Samedi") -> Mercredi | C305: =C304+1 -> 41942 | D305: =IF(H305<=0,0,1) -> 0 | E305: =IF(COUNTIF(Données!E315:E327,C305)>=1,0,VLOOKUP(B305,Horaires,2,0)) -> 0.32291667
A306: =YEAR(C306) -> 2018 | B306: =CHOOSE(WEEKDAY(C306),"Dimanche","Lundi","Mardi","Mercredi","Jeudi","Vendredi","Samedi") -> Jeudi | C306: =C305+1 -> 41943 | D306: =IF(H306<=0,0,1) -> 0 | E306: =IF(COUNTIF(Données!E316:E328,C306)>=1,0,VLOOKUP(B306,Horaires,2,0)) -> 0.32291667
A307: =YEAR(C307) -> 2018 | B307: =CHOOSE(WEEKDAY(C307),"Dimanche","Lundi","Mardi","Mercredi","Jeudi","Vendredi","Samedi") -> Vendredi | C307: =C306+1 -> 41944 | D307: =IF(H307<=0,0,1) -> 0 | E307: =IF(COUNTIF(Données!E317:E329,C307)>=1,0,VLOOKUP(B307,Horaires,2,0)) -> 0.16666667
A308: =YEAR(C308) -> 2018 | B308: =CHOOSE(WEEKDAY(C308),"Dimanche","Lundi","Mardi","Mercredi","Jeudi","Vendredi","Samedi") -> Samedi | C308: =C307+1 -> 41945 | D308: =IF(H308<=0,0,1) -> 0 | E308: =IF(COUNTIF(Données!E318:E330,C308)>=1,0,VLOOKUP(B308,Horaires,2,0)) -> 0
A309: =YEAR(C309) -> 2018 | B309: =CHOOSE(WEEKDAY(C309),"Dimanche","Lundi","Mardi","Mercredi","Jeudi","Vendredi","Samedi") -> Dimanche | C309: =C308+1 -> 41946 | D309: =IF(H309<=0,0,1) -> 0 | E309: =IF(COUNTIF(Données!E319:E331,C309)>=1,0,VLOOKUP(B309,Horaires,2,0)) -> 0
A310: =YEAR(C310) -> 2018 | B310: =CHOOSE(WEEKDAY(C310),"Dimanche","Lundi","Mardi","Mercredi","Jeudi","Vendredi","Samedi") -> Lundi | C310: =C309+1 -> 41947 | D310: =IF(H310<=0,0,1) -> 0 | E310: =IF(COUNTIF(Données!E320:E332,C310)>=1,0,VLOOKUP(B310,Horaires,2,0)) -> 0.32291667
A311: =YEAR(C311) -> 2018 | B311: =CHOOSE(WEEKDAY(C311),"Dimanche","Lundi","Mardi","Mercredi","Jeudi","Vendredi","Samedi") -> Mardi | C311: =C310+1 -> 41948 | D311: =IF(H311<=0,0,1) -> 0 | E311: =IF(COUNTIF(Données!E321:E333,C311)>=1,0,VLOOKUP(B311,Horaires,2,0)) -> 0.32291667
A312: =YEAR(C312) -> 2018 | B312: =CHOOSE(WEEKDAY(C312),"Dimanche","Lundi","Mardi","Mercredi","Jeudi","Vendredi","Samedi") -> Mercredi | C312: =C311+1 -> 41949 | D312: =IF(H312<=0,0,1) -> 0 | E312: =IF(COUNTIF(Données!E322:E334,C312)>=1,0,VLOOKUP(B312,Horaires,2,0)) -> 0.32291667
A313: =YEAR(C313) -> 2018 | B313: =CHOOSE(WEEKDAY(C313),"Dimanche","Lundi","Mardi","Mercredi","Jeudi","Vendredi","Samedi") -> Jeudi | C313: =C312+1 -> 41950 | D313: =IF(H313<=0,0,1) -> 0 | E313: =IF(COUNTIF(Données!E323:E335,C313)>=1,0,VLOOKUP(B313,Horaires,2,0)) -> 0.32291667
A314: =YEAR(C314) -> 2018 | B314: =CHOOSE(WEEKDAY(C314),"Dimanche","Lundi","Mardi","Mercredi","Jeudi","Vendredi","Samedi") -> Vendredi | C314: =C313+1 -> 41951 | D314: =IF(H314<=0,0,1) -> 0 | E314: =IF(COUNTIF(Données!E324:E336,C314)>=1,0,VLOOKUP(B314,Horaires,2,0)) -> 0.16666667
A315: =YEAR(C315) -> 2018 | B315: =CHOOSE(WEEKDAY(C315),"Dimanche","Lundi","Mardi","Mercredi","Jeudi","Vendredi","Samedi") -> Samedi | C315: =C314+1 -> 41952 | D315: =IF(H315<=0,0,1) -> 0 | E315: =IF(COUNTIF(Données!E325:E337,C315)>=1,0,VLOOKUP(B315,Horaires,2,0)) -> 0
... A366: =YEAR(C366) -> 2018 | B366: =CHOOSE(WEEKDAY(C366),"Dimanche","Lundi","Mardi","Mercredi","Jeudi","Vendredi","Samedi") -> Lundi | C366: =C365+1 -> 42003 | D366: =IF(H366<=0,0,1) -> 0 | E366: =IF(COUNTIF(Données!E376:E388,C366)>=1,0,VLOOKUP(B366,Horaires,2,0)) -> 0.32291667
A367: TOTAUX : | E367: =IF(COUNTIF(Données!E377:E389,C367)>=1,0,VLOOKUP(B367,Horaires,2,0)) -> #N/A | F367: =SUM(F2:F366) -> 0 | G367: =SUM(G2:G366) -> 0 | H367: =SUM(H2:H366) -> 0 | I367: =SUM(I2:I366) -> 0 | J367: =SUM(J2:J366) -> 0 | K367: =SUM(K2:K366) -> 0 | L367: =SUM(L2:L366) -> 0 | M367: =SUM(M2:M366) -> 0 | ... Q367: =SUM(Q2:Q366) -> 0

Sheet 2019_V2
A1: Année | B1: jours | C1: Dates : | D1: Jours travaillés | E1: Heures à faire: | F1: 22hà3h30à6h (X2,5) | G1: 6hà7h30 (X1,25) | H1: 7h30à16h45 (X1) | I1: 16h45à22h (X1,25) | J1: Heures pointées Bâtiment | K1: ASA | L1: Formations | M1: Jours Fériés | N1: Congés | O1: Heures Supp | P1: Heures Neige | Q1: Récup Heures Neige
A2: =YEAR(C2) -> 2019 | B2: =CHOOSE(WEEKDAY(C2),"Dimanche","Lundi","Mardi","Mercredi","Jeudi","Vendredi","Samedi") -> Mardi | C2: 42004 | D2: =IF(H2<=0,0,1) -> 0 | E2: =IF(COUNTIF(Données!F12:F24,C2)>=1,0,VLOOKUP(B2,Horaires,2,0)) -> 0
A3: =YEAR(C3) -> 2019 | B3: =CHOOSE(WEEKDAY(C3),"Dimanche","Lundi","Mardi","Mercredi","Jeudi","Vendredi","Samedi") -> Mercredi | C3: =C2+1 -> 42005 | D3: =IF(H3<=0,0,1) -> 0 | E3: =IF(COUNTIF(Données!F13:F25,C3)>=1,0,VLOOKUP(B3,Horaires,2,0)) -> 0.32291667
A4: =YEAR(C4) -> 2019 | B4: =CHOOSE(WEEKDAY(C4),"Dimanche","Lundi","Mardi","Mercredi","Jeudi","Vendredi","Samedi") -> Jeudi | C4: =C3+1 -> 42006 | D4: =IF(H4<=0,0,1) -> 0 | E4: =IF(COUNTIF(Données!F14:F26,C4)>=1,0,VLOOKUP(B4,Horaires,2,0)) -> 0.32291667
A5: =YEAR(C5) -> 2019 | B5: =CHOOSE(WEEKDAY(C5),"Dimanche","Lundi","Mardi","Mercredi","Jeudi","Vendredi","Samedi") -> Vendredi | C5: =C4+1 -> 42007 | D5: =IF(H5<=0,0,1) -> 0 | E5: =IF(COUNTIF(Données!F15:F27,C5)>=1,0,VLOOKUP(B5,Horaires,2,0)) -> 0.16666667
A6: =YEAR(C6) -> 2019 | B6: =CHOOSE(WEEKDAY(C6),"Dimanche","Lundi","Mardi","Mercredi","Jeudi","Vendredi","Samedi") -> Samedi | C6: =C5+1 -> 42008 | D6: =IF(H6<=0,0,1) -> 0 | E6: =IF(COUNTIF(Données!F16:F28,C6)>=1,0,VLOOKUP(B6,Horaires,2,0)) -> 0
A7: =YEAR(C7) -> 2019 | B7: =CHOOSE(WEEKDAY(C7),"Dimanche","Lundi","Mardi","Mercredi","Jeudi","Vendredi","Samedi") -> Dimanche | C7: =C6+1 -> 42009 | D7: =IF(H7<=0,0,1) -> 0 | E7: =IF(COUNTIF(Données!F17:F29,C7)>=1,0,VLOOKUP(B7,Horaires,2,0)) -> 0
A8: =YEAR(C8) -> 2019 | B8: =CHOOSE(WEEKDAY(C8),"Dimanche","Lundi","Mardi","Mercredi","Jeudi","Vendredi","Samedi") -> Lundi | C8: =C7+1 -> 42010 | D8: =IF(H8<=0,0,1) -> 0 | E8: =IF(COUNTIF(Données!F18:F30,C8)>=1,0,VLOOKUP(B8,Horaires,2,0)) -> 0.32291667
A9: =YEAR(C9) -> 2019 | B9: =CHOOSE(WEEKDAY(C9),"Dimanche","Lundi","Mardi","Mercredi","Jeudi","Vendredi","Samedi") -> Mardi | C9: =C8+1 -> 42011 | D9: =IF(H9<=0,0,1) -> 0 | E9: =IF(COUNTIF(Données!F19:F31,C9)>=1,0,VLOOKUP(B9,Horaires,2,0)) -> 0.32291667
A10: =YEAR(C10) -> 2019 | B10: =CHOOSE(WEEKDAY(C10),"Dimanche","Lundi","Mardi","Mercredi","Jeudi","Vendredi","Samedi") -> Mercredi | C10: =C9+1 -> 42012 | D10: =IF(H10<=0,0,1) -> 0 | E10: =IF(COUNTIF(Données!F20:F32,C10)>=1,0,VLOOKUP(B10,Horaires,2,0)) -> 0.32291667
A11: =YEAR(C11) -> 2019 | B11: =CHOOSE(WEEKDAY(C11),"Dimanche","Lundi","Mardi","Mercredi","Jeudi","Vendredi","Samedi") -> Jeudi | C11: =C10+1 -> 42013 | D11: =IF(H11<=0,0,1) -> 0 | E11: =IF(COUNTIF(Données!F21:F33,C11)>=1,0,VLOOKUP(B11,Horaires,2,0)) -> 0.32291667
A12: =YEAR(C12) -> 2019 | B12: =CHOOSE(WEEKDAY(C12),"Dimanche","Lundi","Mardi","Mercredi","Jeudi","Vendredi","Samedi") -> Vendredi | C12: =C11+1 -> 42014 | D12: =IF(H12<=0,0,1) -> 0 | E12: =IF(COUNTIF(Données!F22:F34,C12)>=1,0,VLOOKUP(B12,Horaires,2,0)) -> 0.16666667
A13: =YEAR(C13) -> 2019 | B13: =CHOOSE(WEEKDAY(C13),"Dimanche","Lundi","Mardi","Mercredi","Jeudi","Vendredi","Samedi") -> Samedi | C13: =C12+1 -> 42015 | D13: =IF(H13<=0,0,1) -> 0 | E13: =IF(COUNTIF(Données!F23:F35,C13)>=1,0,VLOOKUP(B13,Horaires,2,0)) -> 0
A14: =YEAR(C14) -> 2019 | B14: =CHOOSE(WEEKDAY(C14),"Dimanche","Lundi","Mardi","Mercredi","Jeudi","Vendredi","Samedi") -> Dimanche | C14: =C13+1 -> 42016 | D14: =IF(H14<=0,0,1) -> 0 | E14: =IF(COUNTIF(Données!F24:F36,C14)>=1,0,VLOOKUP(B14,Horaires,2,0)) -> 0
... A226: =YEAR(C226) -> 2019 | B226: =CHOOSE(WEEKDAY(C226),"Dimanche","Lundi","Mardi","Mercredi","Jeudi","Vendredi","Samedi") -> Mardi | C226: =C225+1 -> 42228 | D226: =IF(H226<=0,0,1) -> 0 | E226: =IF(COUNTIF(Données!F236:F248,C226)>=1,0,VLOOKUP(B226,Horaires,2,0)) -> 0.32291667
A227: =YEAR(C227) -> 2019 | B227: =CHOOSE(WEEKDAY(C227),"Dimanche","Lundi","Mardi","Mercredi","Jeudi","Vendredi","Samedi") -> Mercredi | C227: =C226+1 -> 42229 | D227: =IF(H227<=0,0,1) -> 0 | E227: =IF(COUNTIF(Données!F237:F249,C227)>=1,0,VLOOKUP(B227,Horaires,2,0)) -> 0.32291667 | R227: medecin
A228: =YEAR(C228) -> 2019 | B228: =CHOOSE(WEEKDAY(C228),"Dimanche","Lundi","Mardi","Mercredi","Jeudi","Vendredi","Samedi") -> Jeudi | C228: =C227+1 -> 42230 | D228: =IF(H228<=0,0,1) -> 0 | E228: =IF(COUNTIF(Données!F238:F250,C228)>=1,0,VLOOKUP(B228,Horaires,2,0)) -> 0.32291667
A229: =YEAR(C229) -> 2019 | B229: =CHOOSE(WEEKDAY(C229),"Dimanche","Lundi","Mardi","Mercredi","Jeudi","Vendredi","Samedi") -> Vendredi | C229: =C228+1 -> 42231 | D229: =IF(H229<=0,0,1) -> 0 | E229: =IF(COUNTIF(Données!F239:F251,C229)>=1,0,VLOOKUP(B229,Horaires,2,0)) -> 0.16666667
A230: =YEAR(C230) -> 2019 | B230: =CHOOSE(WEEKDAY(C230),"Dimanche","Lundi","Mardi","Mercredi","Jeudi","Vendredi","Samedi") -> Samedi | C230: =C229+1 -> 42232 | D230: =IF(H230<=0,0,1) -> 0 | E230: =IF(COUNTIF(Données!F240:F252,C230)>=1,0,VLOOKUP(B230,Horaires,2,0)) -> 0
A231: =YEAR(C231) -> 2019 | B231: =CHOOSE(WEEKDAY(C231),"Dimanche","Lundi","Mardi","Mercredi","Jeudi","Vendredi","Samedi") -> Dimanche | C231: =C230+1 -> 42233 | D231: =IF(H231<=0,0,1) -> 0 | E231: =IF(COUNTIF(Données!F241:F253,C231)>=1,0,VLOOKUP(B231,Horaires,2,0)) -> 0
A232: =YEAR(C232) -> 2019 | B232: =CHOOSE(WEEKDAY(C232),"Dimanche","Lundi","Mardi","Mercredi","Jeudi","Vendredi","Samedi") -> Lundi | C232: =C231+1 -> 42234 | D232: =IF(H232<=0,0,1) -> 0 | E232: =IF(COUNTIF(Données!F242:F254,C232)>=1,0,VLOOKUP(B232,Horaires,2,0)) -> 0.32291667
A233: =YEAR(C233) -> 2019 | B233: =CHOOSE(WEEKDAY(C233),"Dimanche","Lundi","Mardi","Mercredi","Jeudi","Vendredi","Samedi") -> Mardi | C233: =C232+1 -> 42235 | D233: =IF(H233<=0,0,1) -> 0 | E233: =IF(COUNTIF(Données!F243:F255,C233)>=1,0,VLOOKUP(B233,Horaires,2,0)) -> 0.32291667
A234: =YEAR(C234) -> 2019 | B234: =CHOOSE(WEEKDAY(C234),"Dimanche","Lundi","Mardi","Mercredi","Jeudi","Vendredi","Samedi") -> Mercredi | C234: =C233+1 -> 42236 | D234: =IF(H234<=0,0,1) -> 0 | E234: =IF(COUNTIF(Données!F244:F256,C234)>=1,0,VLOOKUP(B234,Horaires,2,0)) -> 0.32291667
A235: =YEAR(C235) -> 2019 | B235: =CHOOSE(WEEKDAY(C235),"Dimanche","Lundi","Mardi","Mercredi","Jeudi","Vendredi","Samedi") -> Jeudi | C235: =C234+1 -> 42237 | D235: =IF(H235<=0,0,1) -> 0 | E235: =IF(COUNTIF(Données!F245:F257,C235)>=1,0,VLOOKUP(B235,Horaires,2,0)) -> 0.32291667
A236: =YEAR(C236) -> 2019 | B236: =CHOOSE(WEEKDAY(C236),"Dimanche","Lundi","Mardi","Mercredi","Jeudi","Vendredi","Samedi") -> Vendredi | C236: =C235+1 -> 42238 | D236: =IF(H236<=0,0,1) -> 0 | E236: =IF(COUNTIF(Données!F246:F258,C236)>=1,0,VLOOKUP(B236,Horaires,2,0)) -> 0.16666667
A237: =YEAR(C237) -> 2019 | B237: =CHOOSE(WEEKDAY(C237),"Dimanche","Lundi","Mardi","Mercredi","Jeudi","Vendredi","Samedi") -> Samedi | C237: =C236+1 -> 42239 | D237: =IF(H237<=0,0,1) -> 0 | E237: =IF(COUNTIF(Données!F247:F259,C237)>=1,0,VLOOKUP(B237,Horaires,2,0)) -> 0
A238: =YEAR(C238) -> 2019 | B238: =CHOOSE(WEEKDAY(C238),"Dimanche","Lundi","Mardi","Mercredi","Jeudi","Vendredi","Samedi") -> Dimanche | C238: =C237+1 -> 42240 | D238: =IF(H238<=0,0,1) -> 0 | E238: =IF(COUNTIF(Données!F248:F260,C238)>=1,0,VLOOKUP(B238,Horaires,2,0)) -> 0
A239: =YEAR(C239) -> 2019 | B239: =CHOOSE(WEEKDAY(C239),"Dimanche","Lundi","Mardi","Mercredi","Jeudi","Vendredi","Samedi") -> Lundi | C239: =C238+1 -> 42241 | D239: =IF(H239<=0,0,1) -> 0 | E239: =IF(COUNTIF(Données!F249:F261,C239)>=1,0,VLOOKUP(B239,Horaires,2,0)) -> 0.32291667
A240: =YEAR(C240) -> 2019 | B240: =CHOOSE(WEEKDAY(C240),"Dimanche","Lundi","Mardi","Mercredi","Jeudi","Vendredi","Samedi") -> Mardi | C240: =C239+1 -> 42242 | D240: =IF(H240<=0,0,1) -> 0 | E240: =IF(COUNTIF(Données!F250:F262,C240)>=1,0,VLOOKUP(B240,Horaires,2,0)) -> 0.32291667
A241: =YEAR(C241) -> 2019 | B241: =CHOOSE(WEEKDAY(C241),"Dimanche","Lundi","Mardi","Mercredi","Jeudi","Vendredi","Samedi") -> Mercredi | C241: =C240+1 -> 42243 | D241: =IF(H241<=0,0,1) -> 0 | E241: =IF(COUNTIF(Données!F251:F263,C241)>=1,0,VLOOKUP(B241,Horaires,2,0)) -> 0.32291667 | R241: muron
A242: =YEAR(C242) -> 2019 | B242: =CHOOSE(WEEKDAY(C242),"Dimanche","Lundi","Mardi","Mercredi","Jeudi","Vendredi","Samedi") -> Jeudi | C242: =C241+1 -> 42244 | D242: =IF(H242<=0,0,1) -> 0 | E242: =IF(COUNTIF(Données!F252:F264,C242)>=1,0,VLOOKUP(B242,Horaires,2,0)) -> 0.32291667
A243: =YEAR(C243) -> 2019 | B243: =CHOOSE(WEEKDAY(C243),"Dimanche","Lundi","Mardi","Mercredi","Jeudi","Vendredi","Samedi") -> Vendredi | C243: =C242+1 -> 42245 | D243: =IF(H243<=0,0,1) -> 0 | E243: =IF(COUNTIF(Données!F253:F265,C243)>=1,0,VLOOKUP(B243,Horaires,2,0)) -> 0.16666667
A244: =YEAR(C244) -> 2019 | B244: =CHOOSE(WEEKDAY(C244),"Dimanche","Lundi","Mardi","Mercredi","Jeudi","Vendredi","Samedi") -> Samedi | C244: =C243+1 -> 42246 | D244: =IF(H244<=0,0,1) -> 0 | E244: =IF(COUNTIF(Données!F254:F266,C244)>=1,0,VLOOKUP(B244,Horaires,2,0)) -> 0 | R244: medecin
A245: =YEAR(C245) -> 2019 | B245: =CHOOSE(WEEKDAY(C245),"Dimanche","Lundi","Mardi","Mercredi","Jeudi","Vendredi","Samedi") -> Dimanche | C245: =C244+1 -> 42247 | D245: =IF(H245<=0,0,1) -> 0 | E245: =IF(COUNTIF(Données!F255:F267,C245)>=1,0,VLOOKUP(B245,Horaires,2,0)) -> 0
A246: =YEAR(C246) -> 2019 | B246: =CHOOSE(WEEKDAY(C246),"Dimanche","Lundi","Mardi","Mercredi","Jeudi","Vendredi","Samedi") -> Lundi | C246: =C245+1 -> 42248 | D246: =IF(H246<=0,0,1) -> 0 | E246: =IF(COUNTIF(Données!F256:F268,C246)>=1,0,VLOOKUP(B246,Horaires,2,0)) -> 0.32291667
A247: =YEAR(C247) -> 2019 | B247: =CHOOSE(WEEKDAY(C247),"Dimanche","Lundi","Mardi","Mercredi","Jeudi","Vendredi","Samedi") -> Mardi | C247: =C246+1 -> 42249 | D247: =IF(H247<=0,0,1) -> 0 | E247: =IF(COUNTIF(Données!F257:F269,C247)>=1,0,VLOOKUP(B247,Horaires,2,0)) -> 0.32291667
A248: =YEAR(C248) -> 2019 | B248: =CHOOSE(WEEKDAY(C248),"Dimanche","Lundi","Mardi","Mercredi","Jeudi","Vendredi","Samedi") -> Mercredi | C248: =C247+1 -> 42250 | D248: =IF(H248<=0,0,1) -> 0 | E248: =IF(COUNTIF(Données!F258:F270,C248)>=1,0,VLOOKUP(B248,Horaires,2,0)) -> 0.32291667
A249: =YEAR(C249) -> 2019 | B249: =CHOOSE(WEEKDAY(C249),"Dimanche","Lundi","Mardi","Mercredi","Jeudi","Vendredi","Samedi") -> Jeudi | C249: =C248+1 -> 42251 | D249: =IF(H249<=0,0,1) -> 0 | E249: =IF(COUNTIF(Données!F259:F271,C249)>=1,0,VLOOKUP(B249,Horaires,2,0)) -> 0.32291667
A250: =YEAR(C250) -> 2019 | B250: =CHOOSE(WEEKDAY(C250),"Dimanche","Lundi","Mardi","Mercredi","Jeudi","Vendredi","Samedi") -> Vendredi | C250: =C249+1 -> 42252 | D250: =IF(H250<=0,0,1) -> 0 | E250: =IF(COUNTIF(Données!F260:F272,C250)>=1,0,VLOOKUP(B250,Horaires,2,0)) -> 0.16666667
A251: =YEAR(C251) -> 2019 | B251: =CHOOSE(WEEKDAY(C251),"Dimanche","Lundi","Mardi","Mercredi","Jeudi","Vendredi","Samedi") -> Samedi | C251: =C250+1 -> 42253 | D251: =IF(H251<=0,0,1) -> 0 | E251: =IF(COUNTIF(Données!F261:F273,C251)>=1,0,VLOOKUP(B251,Horaires,2,0)) -> 0
A252: =YEAR(C252) -> 2019 | B252: =CHOOSE(WEEKDAY(C252),"Dimanche","Lundi","Mardi","Mercredi","Jeudi","Vendredi","Samedi") -> Dimanche | C252: =C251+1 -> 42254 | D252: =IF(H252<=0,0,1) -> 0 | E252: =IF(COUNTIF(Données!F262:F274,C252)>=1,0,VLOOKUP(B252,Horaires,2,0)) -> 0
A253: =YEAR(C253) -> 2019 | B253: =CHOOSE(WEEKDAY(C253),"Dimanche","Lundi","Mardi","Mercredi","Jeudi","Vendredi","Samedi") -> Lundi | C253: =C252+1 -> 42255 | D253: =IF(H253<=0,0,1) -> 0 | E253: =IF(COUNTIF(Données!F263:F275,C253)>=1,0,VLOOKUP(B253,Horaires,2,0)) -> 0.32291667
A254: =YEAR(C254) -> 2019 | B254: =CHOOSE(WEEKDAY(C254),"Dimanche","Lundi","Mardi","Mercredi","Jeudi","Vendredi","Samedi") -> Mardi | C254: =C253+1 -> 42256 | D254: =IF(H254<=0,0,1) -> 0 | E254: =IF(COUNTIF(Données!F264:F276,C254)>=1,0,VLOOKUP(B254,Horaires,2,0)) -> 0.32291667
A255: =YEAR(C255) -> 2019 | B255: =CHOOSE(WEEKDAY(C255),"Dimanche","Lundi","Mardi","Mercredi","Jeudi","Vendredi","Samedi") -> Mercredi | C255: =C254+1 -> 42257 | D255: =IF(H255<=0,0,1) -> 0 | E255: =IF(COUNTIF(Données!F265:F277,C255)>=1,0,VLOOKUP(B255,Horaires,2,0)) -> 0.32291667
A256: =YEAR(C256) -> 2019 | B256: =CHOOSE(WEEKDAY(C256),"Dimanche","Lundi","Mardi","Mercredi","Jeudi","Vendredi","Samedi") -> Jeudi | C256: =C255+1 -> 42258 | D256: =IF(H256<=0,0,1) -> 0 | E256: =IF(COUNTIF(Données!F266:F278,C256)>=1,0,VLOOKUP(B256,Horaires,2,0)) -> 0.32291667
... A302: =YEAR(C302) -> 2019 | B302: =CHOOSE(WEEKDAY(C302),"Dimanche","Lundi","Mardi","Mercredi","Jeudi","Vendredi","Samedi") -> Lundi | C302: =C301+1 -> 42304 | D302: =IF(H302<=0,0,1) -> 0 | E302: =IF(COUNTIF(Données!F312:F324,C302)>=1,0,VLOOKUP(B302,Horaires,2,0)) -> 0.32291667
A303: =YEAR(C303) -> 2019 | B303: =CHOOSE(WEEKDAY(C303),"Dimanche","Lundi","Mardi","Mercredi","Jeudi","Vendredi","Samedi") -> Mardi | C303: =C302+1 -> 42305 | D303: =IF(H303<=0,0,1) -> 0 | E303: =IF(COUNTIF(Données!F313:F325,C303)>=1,0,VLOOKUP(B303,Horaires,2,0)) -> 0.32291667 | R303: formation caces 4 + blocage neige
A304: =YEAR(C304) -> 2019 | B304: =CHOOSE(WEEKDAY(C304),"Dimanche","Lundi","Mardi","Mercredi","Jeudi","Vendredi","Samedi") -> Mercredi | C304: =C303+1 -> 42306 | D304: =IF(H304<=0,0,1) -> 0 | E304: =IF(COUNTIF(Données!F314:F326,C304)>=1,0,VLOOKUP(B304,Horaires,2,0)) -> 0.32291667
A305: =YEAR(C305) -> 2019 | B305: =CHOOSE(WEEKDAY(C305),"Dimanche","Lundi","Mardi","Mercredi","Jeudi","Vendredi","Samedi") -> Jeudi | C305: =C304+1 -> 42307 | D305: =IF(H305<=0,0,1) -> 0 | E305: =IF(COUNTIF(Données!F315:F327,C305)>=1,0,VLOOKUP(B305,Horaires,2,0)) -> 0.32291667
A306: =YEAR(C306) -> 2019 | B306: =CHOOSE(WEEKDAY(C306),"Dimanche","Lundi","Mardi","Mercredi","Jeudi","Vendredi","Samedi") -> Vendredi | C306: =C305+1 -> 42308 | D306: =IF(H306<=0,0,1) -> 0 | E306: =IF(COUNTIF(Données!F316:F328,C306)>=1,0,VLOOKUP(B306,Horaires,2,0)) -> 0.16666667
A307: =YEAR(C307) -> 2019 | B307: =CHOOSE(WEEKDAY(C307),"Dimanche","Lundi","Mardi","Mercredi","Jeudi","Vendredi","Samedi") -> Samedi | C307: =C306+1 -> 42309 | D307: =IF(H307<=0,0,1) -> 0 | E307: =IF(COUNTIF(Données!F317:F329,C307)>=1,0,VLOOKUP(B307,Horaires,2,0)) -> 0
A308: =YEAR(C308) -> 2019 | B308: =CHOOSE(WEEKDAY(C308),"Dimanche","Lundi","Mardi","Mercredi","Jeudi","Vendredi","Samedi") -> Dimanche | C308: =C307+1 -> 42310 | D308: =IF(H308<=0,0,1) -> 0 | E308: =IF(COUNTIF(Données!F318:F330,C308)>=1,0,VLOOKUP(B308,Horaires,2,0)) -> 0
A309: =YEAR(C309) -> 2019 | B309: =CHOOSE(WEEKDAY(C309),"Dimanche","Lundi","Mardi","Mercredi","Jeudi","Vendredi","Samedi") -> Lundi | C309: =C308+1 -> 42311 | D309: =IF(H309<=0,0,1) -> 0 | E309: =IF(COUNTIF(Données!F319:F331,C309)>=1,0,VLOOKUP(B309,Horaires,2,0)) -> 0.32291667
A310: =YEAR(C310) -> 2019 | B310: =CHOOSE(WEEKDAY(C310),"Dimanche","Lundi","Mardi","Mercredi","Jeudi","Vendredi","Samedi") -> Mardi | C310: =C309+1 -> 42312 | D310: =IF(H310<=0,0,1) -> 0 | E310: =IF(COUNTIF(Données!F320:F332,C310)>=1,0,VLOOKUP(B310,Horaires,2,0)) -> 0.32291667
A311: =YEAR(C311) -> 2019 | B311: =CHOOSE(WEEKDAY(C311),"Dimanche","Lundi","Mardi","Mercredi","Jeudi","Vendredi","Samedi") -> Mercredi | C311: =C310+1 -> 42313 | D311: =IF(H311<=0,0,1) -> 0 | E311: =IF(COUNTIF(Données!F321:F333,C311)>=1,0,VLOOKUP(B311,Horaires,2,0)) -> 0.32291667
A312: =YEAR(C312) -> 2019 | B312: =CHOOSE(WEEKDAY(C312),"Dimanche","Lundi","Mardi","Mercredi","Jeudi","Vendredi","Samedi") -> Jeudi | C312: =C311+1 -> 42314 | D312: =IF(H312<=0,0,1) -> 0 | E312: =IF(COUNTIF(Données!F322:F334,C312)>=1,0,VLOOKUP(B312,Horaires,2,0)) -> 0.32291667
A313: =YEAR(C313) -> 2019 | B313: =CHOOSE(WEEKDAY(C313),"Dimanche","Lundi","Mardi","Mercredi","Jeudi","Vendredi","Samedi") -> Vendredi | C313: =C312+1 -> 42315 | D313: =IF(H313<=0,0,1) -> 0 | E313: =IF(COUNTIF(Données!F323:F335,C313)>=1,0,VLOOKUP(B313,Horaires,2,0)) -> 0.16666667
A314: =YEAR(C314) -> 2019 | B314: =CHOOSE(WEEKDAY(C314),"Dimanche","Lundi","Mardi","Mercredi","Jeudi","Vendredi","Samedi") -> Samedi | C314: =C313+1 -> 42316 | D314: =IF(H314<=0,0,1) -> 0 | E314: =IF(COUNTIF(Données!F324:F336,C314)>=1,0,VLOOKUP(B314,Horaires,2,0)) -> 0
A315: =YEAR(C315) -> 2019 | B315: =CHOOSE(WEEKDAY(C315),"Dimanche","Lundi","Mardi","Mercredi","Jeudi","Vendredi","Samedi") -> Dimanche | C315: =C314+1 -> 42317 | D315: =IF(H315<=0,0,1) -> 0 | E315: =IF(COUNTIF(Données!F325:F337,C315)>=1,0,VLOOKUP(B315,Horaires,2,0)) -> 0
... A366: =YEAR(C366) -> 2019 | B366: =CHOOSE(WEEKDAY(C366),"Dimanche","Lundi","Mardi","Mercredi","Jeudi","Vendredi","Samedi") -> Mardi | C366: =C365+1 -> 42368 | D366: =IF(H366<=0,0,1) -> 0 | E366: =IF(COUNTIF(Données!F376:F388,C366)>=1,0,VLOOKUP(B366,Horaires,2,0)) -> 0.32291667
A367: TOTAUX : | E367: =IF(COUNTIF(Données!F377:F389,C367)>=1,0,VLOOKUP(B367,Horaires,2,0)) -> #N/A | F367: =SUM(F2:F366) -> 0 | G367: =SUM(G2:G366) -> 0 | H367: =SUM(H2:H366) -> 0 | I367: =SUM(I2:I366) -> 0 | J367: =SUM(J2:J366) -> 0 | K367: =SUM(K2:K366) -> 0 | L367: =SUM(L2:L366) -> 0 | M367: =SUM(M2:M366) -> 0 | ... Q367: =SUM(Q2:Q366) -> 0
