Workbook
Name ART_L: OFFSET(bible!$C$1,MATCH(devis!$A1,bible!$A:$A,0)-1,,COUNTIF(bible!$A:$A,devis!$A1))

Sheet devis
A3: CODE | B3: Désignation | C3: Article | D3: Unité (U/ens/ml) | E3: quantité | F3: prix unitaire | G3: Prix Total | H3: Marge % | I3: Prix
A4: 100 | B4: =IF(A4=" "," ",VLOOKUP(A4,bible!$A$1:$D$10,2,FALSE)) -> Coffret electrique | D4: u | E4: 1 | F4: =IF(A4=" "," ",VLOOKUP(A4,bible!$A$1:$D$10,4,FALSE)) -> 1 | G4: =F4*E4 -> 1 | H4: 10 | I4: =((G4*H4)/100)+G4 -> 1.1
A5: 103 | B5: =IF(A5=" "," ",VLOOKUP(A5,bible!$A$1:$D$10,2,FALSE)) -> #N/A | D5: u | E5: 1 | F5: =IF(A5=" "," ",VLOOKUP(A5,bible!$A$1:$D$10,4,FALSE)) -> #N/A | G5: =F5*E5 -> #N/A | H5: 10 | I5: =((G5*H5)/100)+G5 -> #N/A
A6: 111 | B6: =IF(A6=" "," ",VLOOKUP(A6,bible!$A$1:$D$10,2,FALSE)) -> #N/A | D6: u | E6: 1 | F6: =IF(A6=" "," ",VLOOKUP(A6,bible!$A$1:$D$10,4,FALSE)) -> #N/A | G6: =F6*E6 -> #N/A | H6: 10 | I6: =((G6*H6)/100)+G6 -> #N/A
B7: =IF(A7=" "," ",VLOOKUP(A7,bible!$A$1:$D$10,2,FALSE)) -> #N/A | D7: u | E7: 1 | F7: =IF(A7=" "," ",VLOOKUP(A7,bible!$A$1:$D$10,4,FALSE)) -> #N/A | G7: =F7*E7 -> #N/A | H7: 10 | I7: =((G7*H7)/100)+G7 -> #N/A
B8: =IF(A8=" "," ",VLOOKUP(A8,bible!$A$1:$D$10,2,FALSE)) -> #N/A | D8: u | E8: 1 | F8: =IF(A8=" "," ",VLOOKUP(A8,bible!$A$1:$D$10,4,FALSE)) -> #N/A | G8: =F8*E8 -> #N/A | H8: 10 | I8: =((G8*H8)/100)+G8 -> #N/A
B9: =IF(A9=" "," ",VLOOKUP(A9,bible!$A$1:$D$10,2,FALSE)) -> #N/A | D9: u | E9: 1 | F9: =IF(A9=" "," ",VLOOKUP(A9,bible!$A$1:$D$10,4,FALSE)) -> #N/A | G9: =F9*E9 -> #N/A | H9: 10 | I9: =((G9*H9)/100)+G9 -> #N/A
B10: =IF(A10=" "," ",VLOOKUP(A10,bible!$A$1:$D$10,2,FALSE)) -> #N/A | D10: u | E10: 1 | F10: =IF(A10=" "," ",VLOOKUP(A10,bible!$A$1:$D$10,4,FALSE)) -> #N/A | G10: =F10*E10 -> #N/A | H10: 10 | I10: =((G10*H10)/100)+G10 -> #N/A
B11: =IF(A11=" "," ",VLOOKUP(A11,bible!$A$1:$D$10,2,FALSE)) -> #N/A | D11: u | E11: 1 | F11: =IF(A11=" "," ",VLOOKUP(A11,bible!$A$1:$D$10,4,FALSE)) -> #N/A | G11: =F11*E11 -> #N/A | H11: 10 | I11: =((G11*H11)/100)+G11 -> #N/A
B12: =IF(A12=" "," ",VLOOKUP(A12,bible!$A$1:$D$10,2,FALSE)) -> #N/A | D12: u | E12: 1 | F12: =IF(A12=" "," ",VLOOKUP(A12,bible!$A$1:$D$10,4,FALSE)) -> #N/A | G12: =F12*E12 -> #N/A | H12: 10 | I12: =((G12*H12)/100)+G12 -> #N/A
B13: =IF(A13=" "," ",VLOOKUP(A13,bible!$A$1:$D$10,2,FALSE)) -> #N/A | D13: u | E13: 1 | F13: =IF(A13=" "," ",VLOOKUP(A13,bible!$A$1:$D$10,4,FALSE)) -> #N/A | G13: =F13*E13 -> #N/A | H13: 10 | I13: =((G13*H13)/100)+G13 -> #N/A
B14: =IF(A14=" "," ",VLOOKUP(A14,bible!$A$1:$D$10,2,FALSE)) -> #N/A | D14: u | E14: 1 | F14: =IF(A14=" "," ",VLOOKUP(A14,bible!$A$1:$D$10,4,FALSE)) -> #N/A | G14: =F14*E14 -> #N/A | H14: 10 | I14: =((G14*H14)/100)+G14 -> #N/A
B15: =IF(A15=" "," ",VLOOKUP(A15,bible!$A$1:$D$10,2,FALSE)) -> #N/A | D15: u | E15: 1 | F15: =IF(A15=" "," ",VLOOKUP(A15,bible!$A$1:$D$10,4,FALSE)) -> #N/A | G15: =F15*E15 -> #N/A | H15: 10 | I15: =((G15*H15)/100)+G15 -> #N/A
B16: =IF(A16=" "," ",VLOOKUP(A16,bible!$A$1:$D$10,2,FALSE)) -> #N/A | D16: u | E16: 1 | F16: =IF(A16=" "," ",VLOOKUP(A16,bible!$A$1:$D$10,4,FALSE)) -> #N/A | G16: =F16*E16 -> #N/A | H16: 10 | I16: =((G16*H16)/100)+G16 -> #N/A

Sheet bible
A1: code | B1: designation | C1: article | D1: prix unitaire HT
A2: 100 | B2: Coffret electrique | C2: 1 rangée - 6 modules | D2: 1
A3: 100 | B3: Coffret electrique | C3: 1 rangée - 13 modules | D3: 2
A4: 100 | B4: Coffret electrique | C4: 2 rangées - 6 modules | D4: 3
A5: 100 | B5: Coffret electrique | C5: 2 rangées - 13 modules | D5: 4
A6: 101 | B6: Peigne d'alimentation PH/N | D6: 1
A7: 102 | B7: Interrupteur differentiel 30 mA | C7: 40 A type A | D7: 10
A8: 102 | B8: Interrupteur differentiel 30 mA | C8: 63 A type A | D8: 11
A9: 102 | B9: Interrupteur differentiel 30 mA | C9: 40 A type AC | D9: 12
A10: 102 | B10: Interrupteur differentiel 30 mA | C10: 63 A type AC | D10: 13
A11: 103 | B11: Disjoncteur | C11: 10A | D11: 1
A12: 103 | B12: Disjoncteur | C12: 16A | D12: 2
A13: 103 | B13: Disjoncteur | C13: 20A | D13: 3
A14: 103 | B14: Disjoncteur | C14: 25A | D14: 4
