Workbook

Sheet Feuil1
A1: X1
A2: X2
A3: X3
A4: X4
A5: X5
A6: X6

Sheet Feuil2
A1: =IF(ROW(1:1)<=COUNTA(Feuil1!$A:$A)/2,INDIRECT("Feuil1!A"&ROW(1:1)),"") -> X1
A2: =IF(ROW(2:2)<=COUNTA(Feuil1!$A:$A)/2,INDIRECT("Feuil1!A"&ROW(2:2)),"") -> X2
A3: =IF(ROW(3:3)<=COUNTA(Feuil1!$A:$A)/2,INDIRECT("Feuil1!A"&ROW(3:3)),"") -> X3
A4: =IF(ROW(4:4)<=COUNTA(Feuil1!$A:$A)/2,INDIRECT("Feuil1!A"&ROW(4:4)),"")
A5: =IF(ROW(5:5)<=COUNTA(Feuil1!$A:$A)/2,INDIRECT("Feuil1!A"&ROW(5:5)),"")
A6: =IF(ROW(6:6)<=COUNTA(Feuil1!$A:$A)/2,INDIRECT("Feuil1!A"&ROW(6:6)),"")
A7: =IF(ROW(7:7)<=COUNTA(Feuil1!$A:$A)/2,INDIRECT("Feuil1!A"&ROW(7:7)),"")
A8: =IF(ROW(8:8)<=COUNTA(Feuil1!$A:$A)/2,INDIRECT("Feuil1!A"&ROW(8:8)),"")
A9: =IF(ROW(9:9)<=COUNTA(Feuil1!$A:$A)/2,INDIRECT("Feuil1!A"&ROW(9:9)),"")
A10: =IF(ROW(10:10)<=COUNTA(Feuil1!$A:$A)/2,INDIRECT("Feuil1!A"&ROW(10:10)),"")
A11: =IF(ROW(11:11)<=COUNTA(Feuil1!$A:$A)/2,INDIRECT("Feuil1!A"&ROW(11:11)),"")
A12: =IF(ROW(12:12)<=COUNTA(Feuil1!$A:$A)/2,INDIRECT("Feuil1!A"&ROW(12:12)),"")

Sheet Feuil3
A1: =IF(ROW(1:1)+ROW(1:1)+COUNTA(Feuil1!$A:$A)/2>=COUNTA(Feuil1!$A:$A)/2,INDIRECT("Feuil1!A"&ROW(1:1)+COUNTA(Feuil1!$A:$A)/2),"") -> X4
A2: =IF(ROW(2:2)+ROW(2:2)+COUNTA(Feuil1!$A:$A)/2>=COUNTA(Feuil1!$A:$A)/2,INDIRECT("Feuil1!A"&ROW(2:2)+COUNTA(Feuil1!$A:$A)/2),"") -> X5
A3: =IF(ROW(3:3)+ROW(3:3)+COUNTA(Feuil1!$A:$A)/2>=COUNTA(Feuil1!$A:$A)/2,INDIRECT("Feuil1!A"&ROW(3:3)+COUNTA(Feuil1!$A:$A)/2),"") -> X6
A4: =IF(ROW(4:4)+ROW(4:4)+COUNTA(Feuil1!$A:$A)/2>=COUNTA(Feuil1!$A:$A)/2,INDIRECT("Feuil1!A"&ROW(4:4)+COUNTA(Feuil1!$A:$A)/2),"") -> 0
A5: =IF(ROW(5:5)+ROW(5:5)+COUNTA(Feuil1!$A:$A)/2>=COUNTA(Feuil1!$A:$A)/2,INDIRECT("Feuil1!A"&ROW(5:5)+COUNTA(Feuil1!$A:$A)/2),"") -> 0
A6: =IF(ROW(6:6)+ROW(6:6)+COUNTA(Feuil1!$A:$A)/2>=COUNTA(Feuil1!$A:$A)/2,INDIRECT("Feuil1!A"&ROW(6:6)+COUNTA(Feuil1!$A:$A)/2),"") -> 0
A7: =IF(ROW(7:7)+ROW(7:7)+COUNTA(Feuil1!$A:$A)/2>=COUNTA(Feuil1!$A:$A)/2,INDIRECT("Feuil1!A"&ROW(7:7)+COUNTA(Feuil1!$A:$A)/2),"") -> 0
A8: =IF(ROW(8:8)+ROW(8:8)+COUNTA(Feuil1!$A:$A)/2>=COUNTA(Feuil1!$A:$A)/2,INDIRECT("Feuil1!A"&ROW(8:8)+COUNTA(Feuil1!$A:$A)/2),"") -> 0
A9: =IF(ROW(9:9)+ROW(9:9)+COUNTA(Feuil1!$A:$A)/2>=COUNTA(Feuil1!$A:$A)/2,INDIRECT("Feuil1!A"&ROW(9:9)+COUNTA(Feuil1!$A:$A)/2),"") -> 0
A10: =IF(ROW(10:10)+ROW(10:10)+COUNTA(Feuil1!$A:$A)/2>=COUNTA(Feuil1!$A:$A)/2,INDIRECT("Feuil1!A"&ROW(10:10)+COUNTA(Feuil1!$A:$A)/2),"") -> 0
A11: =IF(ROW(11:11)+ROW(11:11)+COUNTA(Feuil1!$A:$A)/2>=COUNTA(Feuil1!$A:$A)/2,INDIRECT("Feuil1!A"&ROW(11:11)+COUNTA(Feuil1!$A:$A)/2),"") -> 0
A12: =IF(ROW(12:12)+ROW(12:12)+COUNTA(Feuil1!$A:$A)/2>=COUNTA(Feuil1!$A:$A)/2,INDIRECT("Feuil1!A"&ROW(12:12)+COUNTA(Feuil1!$A:$A)/2),"") -> 0
