Workbook

Sheet LISTE CLASSIQUE
A1: PROGRAMMES | B1: TARIF HT | C1: TSP | D1: TVA | E1: droit d'asile | F1: remise exceptionnelle | G1: remise agence | I1: durée spot | J1: coefficient duree spot
A2: FREQ2 - 06h15 (L-D) | B2: 64000 | C2: 0 | D2: 0 | E2: 0 | F2: 0 | G2: 0 | I2: 05 secondes | J2: 0.35
A3: FREQ2 - 06h45 (L-D) | B3: 64000 | C3: 0.03 | D3: 0.18 | E3: 0.15 | F3: 0.05 | G3: 0.15 | I3: 06 secondes | J3: 0.38
A4: FREQ2 - 07h15 (L-D) | B4: 64000 | E4: 0.3 | F4: 0.1 | G4: 0.35 | I4: 07 secondes | J4: 0.41
A5: FREQ2 - 07h45 (L-D) | B5: 64000 | F5: 0.15 | I5: 08 secondes | J5: 0.44
A6: FREQ2 - 08h15 (L-D) | B6: 18000 | F6: 0.2 | I6: 09 secondes | J6: 0.47
A7: FREQ2 - 08h45 (L-D) | B7: 18000 | F7: 0.25 | I7: 10 secondes | J7: 0.5
A8: FREQ2 - 09h15 (L-D) | B8: 18000 | F8: 0.3 | I8: 11 secondes | J8: 0.53
A9: FREQ2 - 09h45 (L-D) | B9: 36000 | F9: 0.35 | I9: 12 secondes | J9: 0.57
A10: FREQ2 - 10h15 (L-D) | B10: 36000 | F10: 0.4 | I10: 13 secondes | J10: 0.61
A11: FREQ2 - 10h45 (L-D) | B11: 36000 | F11: 0.5 | I11: 14 secondes | J11: 0.64
A12: FREQ2 - 11h15 (L-D) | B12: 18000 | I12: 15 secondes | J12: 0.67
A13: FREQ2 - 11h45 (L-D) | B13: 18000 | I13: 16 secondes | J13: 0.7
A14: FREQ2 - 12h15 (L-D) | B14: 18000 | I14: 17 secondes | J14: 0.73
A15: FREQ2 - 12h45 (L-D) | B15: 18000 | I15: 18 secondes | J15: 0.76
A16: FREQ2 - 13h15 (L-D) | B16: 18000 | I16: 19 secondes | J16: 0.79
A17: FREQ2 - 13h45 (L-D) | B17: 18000 | I17: 20 secondes | J17: 0.81
A18: FREQ2 - 14h15 (L-D) | B18: 18000 | I18: 21 secondes | J18: 0.84
A19: FREQ2 - 14h45 (L-D) | B19: 18000 | I19: 22 secondes | J19: 0.87
A20: FREQ2 - 15h15 (L-D) | B20: 18000 | I20: 23 secondes | J20: 0.89
A21: FREQ2 - 15h45 (L-D) | B21: 18000 | I21: 24 secondes | J21: 0.92
A22: FREQ2 - 16h15 (L-D) | B22: 18000 | I22: 25 secondes | J22: 0.95
A23: FREQ2 - 16h45 (L-D) | B23: 18000 | I23: 26 secondes | J23: 0.96
... A33: FREQ2 - 23h45 (L-D) | B33: 18000 | I33: 36 secondes | J33: 1.34
A34: FREQUENCE 2 | I34: 37 secondes | J34: 1.38
A35: OFFRE DIGITAL | I35: 38 secondes | J35: 1.42
A36: OFFRE SPONSORING | I36: 39 secondes | J36: 1.46
A37: PAD | I37: 40 secondes | J37: 1.5
A38: RADIO BKE | I38: 41 secondes | J38: 1.54
A39: RADIO CI | I39: 42 secondes | J39: 1.58
A40: RBKE - 06h15 (L D) | B40: 23400 | I40: 43 secondes | J40: 1.62
A41: RBKE - 06h15 (S) | B41: 25740 | I41: 44 secondes | J41: 1.66
A42: RBKE - 06h45 (L D) | B42: 23400 | I42: 45 secondes | J42: 1.7
A43: RBKE - 06h45 (S) | B43: 25740 | I43: 46 secondes | J43: 1.74
A44: RBKE - 07h00 (L D) | B44: 20700 | I44: 47 secondes | J44: 1.78
A45: RBKE - 07h00 (S) | B45: 22770 | I45: 48 secondes | J45: 1.82
A46: RBKE - 07h30 (L D) | B46: 20700 | I46: 49 secondes | J46: 1.86
A47: RBKE - 07h30 (S) | B47: 22770 | I47: 50 secondes | J47: 1.9
A48: RBKE - 08h15 (L D) | B48: 19350 | I48: 51 secondes | J48: 1.94
A49: RBKE - 08h15 (S) | B49: 21285 | I49: 52 secondes | J49: 1.98
...

Sheet LISTE LA3
A1: PROGRAMMES | B1: TARIF HT
A2: LA3 - 06h30 avt échauffement (lv) | B2: 75000
A3: LA3 - 07h30 avt sport stars uncovered (lv) | B3: 75000
A4: LA3 - 08h00 avt la grande team (lv) | B4: 75000
A5: LA3 - 08h45 coup la grande team (lv) | B5: 75000
A6: LA3 - 09h30 après la grande team (lv) | B6: 75000
A7: LA3 - 10h00 avt star scanner (lv) | B7: 75000
A8: LA3 - 11h00 avt playlist (lv) | B8: 75000
A9: LA3 - 12h00 avt lip sync battle (lv) | B9: 75000
A10: LA3 - 13h30 avt peopl'mik (lv) | B10: 150000
A11: LA3 - 14h00 coup peopl'mik (lv) | B11: 150000
A12: LA3 - 14h30 avt programme sport (lv) | B12: 150000
A13: LA3 - 16h30 avt magazine sport (lv) | B13: 150000
... A70: LA3 - 22h30 avt mag weekend sport (s) | B70: 75000
A72: durée spot | B72: coefficient duree spot
A73: de 05 A 09 secondes | B73: 0.35
A74: de 10 A 14 secondes | B74: 0.51
A75: de 15 A 19 secondes | B75: 0.67
A76: de 20 A 24 secondes | B76: 0.83
A77: de 25 A 29 secondes | B77: 0.99
A78: de 30 A 34 secondes | B78: 1
A79: de 35 A 39 secondes | B79: 1.16
A80: de 40 A 44 secondes | B80: 1.32
A81: de 45 A49 secondes | B81: 1.48
A82: de 50 A 54 secondes | B82: 1.64
A83: de 55 A 59 secondes | B83: 1.8
A84: de 60 A 64 secondes | B84: 1.96
... A90: de 90 A 94 secondes | B90: 2.92

Sheet CLASSIQUE LA3
B10: FACTURE PRO-FORMA
B13: ANNONCEUR: | E13: =TODAY() -> 44256
B14: INTERLOCUTEUR:
B15: CONTACT:
B16: PRODUIT: CLASSIQUE
B17: SUPPORT: LA3
B18: CAMPAGNE:
B19: DUREE SPOT: | D19: =IF(B20="","",VLOOKUP(B20,'LISTE LA3'!A73:B90,2,FALSE)) -> 1
B20: de 30 A 34 secondes
B22: Désignation | C22: QTE | D22: PU HT | E22: Montant HT
B23: LA3 - 2 | D23: =IF(B23="","",VLOOKUP(B23,'LISTE LA3'!$A$2:$B$70,2,FALSE)*$D$19) -> #N/A | E23: =IF(B23="","",C23*D23) -> #N/A
D24: =IF(B24="","",VLOOKUP(B24,'LISTE LA3'!$A$2:$B$70,2,FALSE)*$D$19) | E24: =IF(B24="","",C24*D24)
D25: =IF(B25="","",VLOOKUP(B25,'LISTE LA3'!$A$2:$B$70,2,FALSE)*$D$19) | E25: =IF(B25="","",C25*D25)
D26: =IF(B26="","",VLOOKUP(B26,'LISTE LA3'!$A$2:$B$70,2,FALSE)*$D$19) | E26: =IF(B26="","",C26*D26)
D27: =IF(B27="","",VLOOKUP(B27,'LISTE LA3'!$A$2:$B$70,2,FALSE)*$D$19) | E27: =IF(B27="","",C27*D27)
D28: =IF(B28="","",VLOOKUP(B28,'LISTE LA3'!$A$2:$B$70,2,FALSE)*$D$19) | E28: =IF(B28="","",C28*D28)
D29: =IF(B29="","",VLOOKUP(B29,'LISTE LA3'!$A$2:$B$70,2,FALSE)*$D$19) | E29: =IF(B29="","",C29*D29)
D30: =IF(B30="","",VLOOKUP(B30,'LISTE LA3'!$A$2:$B$70,2,FALSE)*$D$19) | E30: =IF(B30="","",C30*D30)
D31: =IF(B31="","",VLOOKUP(B31,'LISTE LA3'!$A$2:$B$70,2,FALSE)*$D$19) | E31: =IF(B31="","",C31*D31)
D32: =IF(B32="","",VLOOKUP(B32,'LISTE LA3'!$A$2:$B$70,2,FALSE)*$D$19) | E32: =IF(B32="","",C32*D32)
D33: =IF(B33="","",VLOOKUP(B33,'LISTE LA3'!$A$2:$B$70,2,FALSE)*$D$19) | E33: =IF(B33="","",C33*D33)
D34: =IF(B34="","",VLOOKUP(B34,'LISTE LA3'!$A$2:$B$70,2,FALSE)*$D$19) | E34: =IF(B34="","",C34*D34)
D35: =IF(B35="","",VLOOKUP(B35,'LISTE LA3'!$A$2:$B$70,2,FALSE)*$D$19) | E35: =IF(B35="","",C35*D35)
... D37: =IF(B37="","",VLOOKUP(B37,'LISTE LA3'!$A$2:$B$70,2,FALSE)*$D$19) | E37: =IF(B37="","",C37*D37)
B38: Conditions d'xecution des campagnes | C38: =SUM(C23:C37) -> 0 | D38: TOTAL HT | E38: =SUM(E23:E37) -> #N/A
C39: DROIT D'ASILE | D39: 0 | E39: =E38*D39 -> #N/A
C40: Montant Après DROIT D'ASILE | E40: =E38+E39 -> #N/A
C41: REMISE | D41: 0 | E41: =E40*D41 -> #N/A
C42: Montant Après REMISE | E42: =E40-E41 -> #N/A
C43: REMISE AGENCE | D43: 0 | E43: =E42*D43 -> #N/A
C44: Montant Après REMISE AGENCE | E44: =E42-E43 -> #N/A
C45: TVA | D45: 0.18 | E45: =E44*D45 -> #N/A
C46: SOUS TOTAL | E46: =E44+E45 -> #N/A
C47: TSP | D47: 0.03 | E47: =E44*D47 -> #N/A
B48: NET A PAYER | D48: =E46+E47 -> #N/A

Sheet CLASSIQUE TV RADIO (2)
B10: FACTURE PRO-FORMA
B13: ANNONCEUR: | E13: =TODAY() -> 44256
B14: INTERLOCUTEUR:
B15: CONTACT:
B16: PRODUIT:
B17: SUPPORT:
B18: CAMPAGNE:
B19: DUREE SPOT: | C19: =OFFSET('LISTE CLASSIQUE'!$A$1,MATCH($B23&"*",'LISTE CLASSIQUE'!$A$2:$A$261,0)-1,,SUMPRODUCT(ISNUMBER(SEARCH($B23&"*",LEFT('LISTE CLASSIQUE'!$A$2:$A$261,LEN($B23))))*1)) -> #VALUE! | D19: =SUMPRODUCT(ISNUMBER(SEARCH($B23&"*",LEFT('LISTE CLASSIQUE'!$A$2:$A$261,LEN($B23))))*1) -> 30
B20: 30 secondes | C20: Indice calcul | D20: =IF(B20="","",VLOOKUP(B20,'LISTE CLASSIQUE'!$I$2:$J$117,2,FALSE)) -> 1
B22: Désignation | C22: QTE | D22: PU HT | E22: Montant HT
B23: RC | D23: =IF(B23="","",VLOOKUP(B23,'LISTE CLASSIQUE'!$A$2:$B$261,2,FALSE)*$D$20) -> #N/A | E23: =IF(B23="","",C23*D23) -> #N/A
D24: =IF(B24="","",VLOOKUP(B24,'LISTE CLASSIQUE'!$A$2:$B$261,2,FALSE)*$D$20) | E24: =IF(B24="","",C24*D24)
D25: =IF(B25="","",VLOOKUP(B25,'LISTE CLASSIQUE'!$A$2:$B$261,2,FALSE)*$D$20) | E25: =IF(B25="","",C25*D25)
D26: =IF(B26="","",VLOOKUP(B26,'LISTE CLASSIQUE'!$A$2:$B$261,2,FALSE)*$D$20) | E26: =IF(B26="","",C26*D26)
D27: =IF(B27="","",VLOOKUP(B27,'LISTE CLASSIQUE'!$A$2:$B$261,2,FALSE)*$D$20) | E27: =IF(B27="","",C27*D27)
D28: =IF(B28="","",VLOOKUP(B28,'LISTE CLASSIQUE'!$A$2:$B$261,2,FALSE)*$D$20) | E28: =IF(B28="","",C28*D28)
D29: =IF(B29="","",VLOOKUP(B29,'LISTE CLASSIQUE'!$A$2:$B$261,2,FALSE)*$D$20) | E29: =IF(B29="","",C29*D29)
D30: =IF(B30="","",VLOOKUP(B30,'LISTE CLASSIQUE'!$A$2:$B$261,2,FALSE)*$D$20) | E30: =IF(B30="","",C30*D30)
D31: =IF(B31="","",VLOOKUP(B31,'LISTE CLASSIQUE'!$A$2:$B$261,2,FALSE)*$D$20) | E31: =IF(B31="","",C31*D31)
D32: =IF(B32="","",VLOOKUP(B32,'LISTE CLASSIQUE'!$A$2:$B$261,2,FALSE)*$D$20) | E32: =IF(B32="","",C32*D32)
D33: =IF(B33="","",VLOOKUP(B33,'LISTE CLASSIQUE'!$A$2:$B$261,2,FALSE)*$D$20) | E33: =IF(B33="","",C33*D33)
D34: =IF(B34="","",VLOOKUP(B34,'LISTE CLASSIQUE'!$A$2:$B$261,2,FALSE)*$D$20) | E34: =IF(B34="","",C34*D34)
D35: =IF(B35="","",VLOOKUP(B35,'LISTE CLASSIQUE'!$A$2:$B$261,2,FALSE)*$D$20) | E35: =IF(B35="","",C35*D35)
... D37: =IF(B37="","",VLOOKUP(B37,'LISTE CLASSIQUE'!$A$2:$B$261,2,FALSE)*$D$20) | E37: =IF(B37="","",C37*D37)
B38: Conditions d'xecution des campagnes | C38: =SUM(C23:C37) -> 0 | D38: TOTAL HT | E38: =SUM(E23:E37) -> #N/A
C39: DROIT D'ASILE | D39: 0 | E39: =E38*D39 -> #N/A
C40: Montant Après DROIT D'ASILE | E40: =E38+E39 -> #N/A
C41: REMISE | D41: 0 | E41: =E40*D41 -> #N/A
C42: Montant Après REMISE | E42: =E40-E41 -> #N/A
C43: REMISE AGENCE | D43: 0 | E43: =E42*D43 -> #N/A
C44: Montant Après REMISE AGENCE | E44: =E42-E43 -> #N/A
C45: TVA | D45: 0.18 | E45: =E44*D45 -> #N/A
C46: SOUS TOTAL | E46: =E44+E45 -> #N/A
C47: TSP | D47: 0.03 | E47: =E44*D47 -> #N/A
B48: NET A PAYER | D48: =E46+E47 -> #N/A
