Workbook
Name liste: #REF!
Name liste_magasin: #REF!
Name mag: 'CA + ALERTE'!#REF!
Name magasins: #REF!
Name mags: #REF!
Name maligne: #REF!
Name maliste: #REF!
Name maliste1: #REF!
Name semaine1: #REF!

Sheet COMMANDES2021
B2: COMMERCIAL | C2: CLIENT | E2: NOM DU CLIENT | F2: DATE DE CONFIRMATION | G2: MONTANT | I2: STATUT COMMANDE | L2: DATE DE LIVRAISON | M2: 100% dépot1 | N2: PARTIEL dépot1 | O2: ! | P2: PLAQUE (liv à Dépôt1) PA CDE | Q2: N° DE PLS CDE 100% Dépot1 | R2: DATE PREV DEPART dépot1 | S2: DATE DEPART PLAQUES dépot1 | T2: COMMENTAIRES
B4: COM1 | C4: CLIENT1 | E4: MAGASIN 1 | F4: 44228 | G4: 720 | L4: 44197 | M4: X
B5: COM2 | C5: CLIENT2 | E5: MAGASIN 2 | F5: 44229 | G5: 0 | L5: 44197 | M5: X
B6: COM3 | C6: CLIENT3 | E6: ENSEIGNE 1 | F6: 44229 | G6: 500 | L6: 44197 | M6: X
B7: COM4 | C7: CLIENT4 | E7: MAGASIN3 | F7: 44229 | G7: 500 | L7: 44197 | M7: X
B8: COM5 | C8: CLIENT5 | E8: MAGASIN4 | F8: 44230 | G8: 600 | L8: 44199 | M8: X
B9: COM6 | C9: CLIENT6 | E9: BOUTIQUE 4 | F9: 44230 | G9: 400 | L9: 44198 | M9: X
B10: COM7 | C10: CLIENT7 | E10: MAGASIN 4 | F10: 44230 | G10: 850 | L10: 44197 | M10: X
B11: COM8 | C11: CLIENT8 | E11: MAGASIN 1 | F11: 44255 | G11: 11630 | L11: 44197 | M11: x
B12: COM9 | C12: CLIENT9 | E12: MAGASIN 2 | F12: 44231 | G12: 646 | L12: 44197 | N12: x
B13: COM10 | C13: CLIENT10 | E13: ENSEIGNE 1 | F13: 44229 | G13: 150 | L13: 44197 | M13: X
B14: COM11 | C14: CLIENT11 | E14: MAGASIN3 | F14: 44229 | G14: 500 | L14: 44197 | M14: X
B15: COM12 | C15: CLIENT12 | E15: MAGASIN4 | F15: 44229 | G15: 500 | L15: 44197 | M15: X
B16: COM13 | C16: CLIENT13 | E16: BOUTIQUE 4 | F16: 44230 | G16: 600 | L16: 44197 | M16: X
B17: COM14 | C17: CLIENT14 | E17: MAGASIN 4 | F17: 44230 | G17: 400 | L17: 44197 | M17: X
B18: COM15 | C18: CLIENT15 | E18: MAGASIN4 | F18: 44255 | G18: 11630 | L18: 44197 | M18: x
B19: COM16 | C19: CLIENT16 | E19: BOUTIQUE 4 | F19: 44231 | G19: 646 | L19: 44197 | N19: x
B20: COM17 | C20: CLIENT17 | E20: MAGASIN 4 | F20: 44231 | G20: 250 | L20: 44197
F22: TOTAL SEMAINE 01 | G22: =SUM(G3:G21) -> 30522 | M22: =SUMIF(M3:M21,"X",G3:G21) -> 28980 | N22: =SUMIF(N3:N21,"X",G3:G21) -> 1292 | P22: CA DEPOT 1 | Q22: =M22+N22 -> 30272
B24: COM1 | C24: CLIENT1 | E24: MAGASIN 1 | F24: 44228 | G24: 720 | L24: 44200 | M24: X
B25: COM2 | C25: CLIENT2 | E25: MAGASIN 2 | F25: 44229 | G25: 0 | L25: 44201 | M25: X
B26: COM3 | C26: CLIENT3 | E26: ENSEIGNE 1 | F26: 44229 | G26: 500 | L26: 44202 | M26: X
B27: COM4 | C27: CLIENT4 | E27: MAGASIN3 | F27: 44229 | G27: 500 | L27: 44203 | M27: X
B28: COM5 | C28: CLIENT5 | E28: MAGASIN4 | F28: 44230 | G28: 600 | L28: 44200 | M28: X
B29: COM6 | C29: CLIENT6 | E29: BOUTIQUE 4 | F29: 44230 | G29: 400 | L29: 44201 | M29: X
B30: COM7 | C30: CLIENT7 | E30: MAGASIN 4 | F30: 44230 | G30: 850 | L30: 44202 | M30: X
B31: COM8 | C31: CLIENT8 | E31: MAGASIN 1 | F31: 44255 | G31: 1163 | L31: 44203 | M31: x
B32: COM9 | C32: CLIENT9 | E32: MAGASIN 2 | F32: 44231 | G32: 646 | L32: 44200 | N32: x
B33: COM10 | C33: CLIENT10 | E33: ENSEIGNE 1 | F33: 44229 | G33: 0 | L33: 44201 | M33: X
B34: COM11 | C34: CLIENT11 | E34: MAGASIN3 | F34: 44229 | G34: 500 | L34: 44202 | M34: X
B35: COM12 | C35: CLIENT12 | E35: MAGASIN4 | F35: 44229 | G35: 500 | L35: 44203 | M35: X
B36: COM13 | C36: CLIENT13 | E36: BOUTIQUE 4 | F36: 44230 | G36: 600 | L36: 44200 | M36: X
B37: COM14 | C37: CLIENT14 | E37: MAGASIN 4 | F37: 44230 | G37: 400 | L37: 44201 | M37: X
B38: COM15 | C38: CLIENT15 | E38: MAGASIN4 | F38: 44255 | G38: 11630 | L38: 44202 | M38: x
B39: COM16 | C39: CLIENT16 | E39: BOUTIQUE 4 | F39: 44231 | G39: 646 | L39: 44203 | N39: x
B40: COM17 | C40: CLIENT17 | E40: MAGASIN 4 | F40: 44231 | G40: 250 | L40: 44203
F42: TOTAL SEMAINE 02 | G42: =SUM(G23:G41) -> 19905 | M42: =SUMIF(M23:M41,"X",G23:G41) -> 18363 | N42: =SUMIF(N23:N41,"X",G23:G41) -> 1292 | P42: CA DEPOT 1 | Q42: =M42+N42 -> 19655
B44: COM1 | C44: CLIENT1 | E44: MAGASIN 1 | F44: 44228 | G44: 720 | L44: 44254 | M44: X
B45: COM2 | C45: CLIENT2 | E45: MAGASIN 2 | F45: 44229 | G45: 0 | L45: 44255 | M45: X
B46: COM3 | C46: CLIENT3 | E46: ENSEIGNE 1 | F46: 44229 | G46: 500 | L46: 44255 | M46: X
B47: COM4 | C47: CLIENT4 | E47: MAGASIN3 | F47: 44229 | G47: 500 | L47: 44255 | M47: X
B48: COM5 | C48: CLIENT5 | E48: MAGASIN4 | F48: 44230 | G48: 600 | L48: 44255 | M48: X
B49: COM6 | C49: CLIENT6 | E49: BOUTIQUE 4 | F49: 44230 | G49: 400 | L49: 44255 | M49: X
B50: COM7 | C50: CLIENT7 | E50: MAGASIN 4 | F50: 44230 | G50: 850 | L50: 44255 | M50: X
B51: COM8 | C51: CLIENT8 | E51: MAGASIN 1 | F51: 44255 | G51: 11630 | L51: 44256 | M51: x
B52: COM9 | C52: CLIENT9 | E52: MAGASIN 2 | F52: 44231 | G52: 646 | L52: 44258 | N52: x
B53: COM10 | C53: CLIENT10 | E53: ENSEIGNE 1 | F53: 44229 | G53: 0 | L53: 44255 | M53: X
B54: COM11 | C54: CLIENT11 | E54: MAGASIN3 | F54: 44229 | G54: 500 | L54: 44255 | M54: X
B55: COM12 | C55: CLIENT12 | E55: MAGASIN4 | F55: 44229 | G55: 500 | L55: 44255 | M55: X
B56: COM13 | C56: CLIENT13 | E56: BOUTIQUE 4 | F56: 44230 | G56: 600 | L56: 44255 | M56: X
B57: COM14 | C57: CLIENT14 | E57: MAGASIN 4 | F57: 44230 | G57: 400 | L57: 44255 | M57: X
B58: COM15 | C58: CLIENT15 | E58: MAGASIN4 | F58: 44255 | G58: 10000 | L58: 44256 | M58: x
B59: COM16 | C59: CLIENT16 | E59: BOUTIQUE 4 | F59: 44231 | G59: 646 | L59: 44258 | N59: x
B60: COM17 | C60: CLIENT17 | E60: MAGASIN 4 | F60: 44231 | G60: 250 | L60: 44260
F62: TOTAL SEMAINE 03 | G62: =SUM(G43:G61) -> 28742 | L62: =SUMIF(N43:N61,"X",G43:G61) -> 1292 | M62: =SUMIF(M43:M61,"X",G43:G61) -> 27200 | N62: =SUMIF(N43:N61,"X",G43:G61) -> 1292 | P62: CA DEPOT 1 | Q62: =M62+N62 -> 28492
B64: COM1 | C64: CLIENT1 | E64: MAGASIN 1 | F64: 44228 | G64: 720 | L64: 44254 | M64: X
B65: COM2 | C65: CLIENT2 | E65: MAGASIN 2 | F65: 44229 | G65: 0 | L65: 44255 | M65: X
B66: COM3 | C66: CLIENT3 | E66: ENSEIGNE 1 | F66: 44229 | G66: 500 | L66: 44255 | M66: X
B67: COM4 | C67: CLIENT4 | E67: MAGASIN3 | F67: 44229 | G67: 500 | L67: 44255 | M67: X
B68: COM5 | C68: CLIENT5 | E68: MAGASIN4 | F68: 44230 | G68: 600 | L68: 44255 | M68: X
B69: COM6 | C69: CLIENT6 | E69: BOUTIQUE 4 | F69: 44230 | G69: 400 | L69: 44255 | M69: X
B70: COM7 | C70: CLIENT7 | E70: MAGASIN 4 | F70: 44230 | G70: 850 | L70: 44255 | M70: X
B71: COM8 | C71: CLIENT8 | E71: MAGASIN 1 | F71: 44255 | G71: 11630 | L71: 44256 | M71: x
B72: COM9 | C72: CLIENT9 | E72: MAGASIN 2 | F72: 44231 | G72: 646 | L72: 44258 | N72: x
B73: COM10 | C73: CLIENT10 | E73: ENSEIGNE 1 | F73: 44229 | G73: 0 | L73: 44255 | M73: X
B74: COM11 | C74: CLIENT11 | E74: MAGASIN3 | F74: 44229 | G74: 500 | L74: 44255 | M74: X
B75: COM12 | C75: CLIENT12 | E75: MAGASIN4 | F75: 44229 | G75: 500 | L75: 44255 | M75: X
B76: COM13 | C76: CLIENT13 | E76: BOUTIQUE 4 | F76: 44230 | G76: 600 | L76: 44255 | M76: X
B77: COM14 | C77: CLIENT14 | E77: MAGASIN 4 | F77: 44230 | G77: 400 | L77: 44255 | M77: X
B78: COM15 | C78: CLIENT15 | E78: MAGASIN4 | F78: 44255 | G78: 11630 | L78: 44256 | M78: x
B79: COM16 | C79: CLIENT16 | E79: BOUTIQUE 4 | F79: 44231 | G79: 646 | L79: 44258 | N79: x
B80: COM17 | C80: CLIENT17 | E80: MAGASIN 4 | F80: 44231 | G80: 2500 | L80: 44260
F82: TOTAL SEMAINE 4 | G82: =SUM(G63:G81) -> 32622 | M82: =SUMIF(M63:M81,"X",G63:G81) -> 28830 | N82: =SUMIF(N63:N81,"X",G63:G81) -> 1292 | P82: CA DEPOT 1 | Q82: =M82+N82 -> 30122
B86: LISTE DES MAGASINS PRIORITAIRES
B87: MAGASIN 1 | F87: =AND(COUNTIF($B$87:$B$96,$E4)=0,COUNTIF($M4:$N4,"X")>0,INDIRECT(ADDRESS(MATCH(CONCATENATE("TOTAL SEMAINE ",TEXT(WEEKNUM($L4,2),"00")),$F:$F,0),17))>VLOOKUP(CONCATENATE("SEMAINE ",TEXT(WEEKNUM($L4,2),"00")),'CA + ALERTE'!$B$4:$E$55,4,FALSE)) -> FALSE
B88: MAGASIN 2
B89: MAGASIN 3
B90: MAGASIN 4
B91: MAGASIN 5
B92: MAGASIN 6
B93: MAGASIN 7
B94: MAGASIN 8
B95: MAGASIN 9
B96: MAGASIN 10

Sheet CA + ALERTE
C3: CA SEMAINE | D3: ESTI. Depot1 | E3: LIMITE | F3: % ALERTE | H3: CA SEMAINE | I3: Correspond au CA de tout les dépôts pour la semaine
B4: SEMAINE 01 | C4: =COMMANDES2021!G22 -> 30522 | D4: =COMMANDES2021!I22+COMMANDES2021!L22 -> 0 | E4: 31000 | F4: 0.3 | H4: ESTI dépot1 | I4: Correspond au CA uniquement du dépôt 1 (en rouge dans l'onglet "commandes2021" )
B5: SEMAINE 02 | C5: =COMMANDES2021!G42 -> 19905 | F5: 0.2 | H5: LIMITE | I5: Ce que fixe comme CA, le directeur, par semaine, uniquement pour le dépôt 1
B6: SEMAINE 03 | C6: =COMMANDES2021!G62 -> 28742 | F6: 0.4 | H6: % ALERTE | I6: Représente le seuil d'alerte avant d'atteindre la limite, sur les clients non prioritaires (exemple si la limite du directeur est de 25000 € pour la semaine 1, le seuil d'alerte s'affichera et m'indiquera que la limite va bientôt être atteind. Les clients non prioritaires seront alors colorés en orange, à partir de 17500 € (30% avant la limite) de commande pour le dépôt 1 de la semaine 1
B7: SEMAINE 04 | F7: 0.25
B8: SEMAINE 05 | F8: 0.35
B9: SEMAINE 06 | F9: 0.2
B10: SEMAINE 07 | F10: 0.2
B11: SEMAINE 08 | F11: 0.2
B12: SEMAINE 09 | F12: 0.3
B13: SEMAINE 10 | F13: 0.3
B14: SEMAINE 11 | F14: 0.3
B15: SEMAINE 12 | F15: 0.4
B16: SEMAINE 13 | F16: 0.5
B17: SEMAINE 14 | F17: 0.25
B18: SEMAINE 15 | F18: 0.25
... B55: SEMAINE 52 | F55: 0.48190476
