Workbook

Sheet dette avec nvx emprunts
A1: ETAT DE REGRESSION DE LA DETTE | H1: =#REF! -> #REF! | K1: LES AVENIERES | U1: VEYRINS-THUELLIN
B3: DETTE | C3: ANNUITE | F3: EVOLUTION | G3: EVOLUTION | H3: EVOLUTION | I3: EVOLUTION | L3: DETTE | M3: ANNUITE | P3: EVOLUTION | Q3: EVOLUTION | R3: EVOLUTION | S3: EVOLUTION | V3: DETTE | W3: ANNUITE | Z3: EVOLUTION | AA3: EVOLUTION | AB3: EVOLUTION | AC3: EVOLUTION
A4: ANNÉE | B4: AU | C4: TOTAL | D4: CAPITAL | E4: INTERETS | F4: DE LA DETTE | G4: DE L'ANNUITE | H4: DE LA DETTE | I4: DE L'ANNUITE | K4: AN | L4: AU | M4: TOTAL | N4: CAPITAL | O4: INTERETS | P4: DE LA DETTE | Q4: DE L'ANNUITE | R4: DE LA DETTE | S4: DE L'ANNUITE | U4: AN | V4: AU | W4: TOTAL | X4: CAPITAL | Y4: INTERETS | Z4: DE LA DETTE | AA4: DE L'ANNUITE | AB4: DE LA DETTE | AC4: DE L'ANNUITE
B5: 1ER JANVIER | C5: TOTAL | D5: CAPITAL | E5: INTERETS | F5: EN % | G5: EN % | H5: EN EUROS | I5: =H5 -> EN EUROS | L5: 1ER JANVIER | M5: TOTAL | N5: CAPITAL | O5: INTERETS | P5: EN % | Q5: EN % | R5: EN EUROS | S5: =R5 -> EN EUROS | V5: 1ER JANVIER | W5: TOTAL | X5: CAPITAL | Y5: INTERETS | Z5: EN % | AA5: EN % | AB5: EN EUROS | AC5: =AB5 -> EN EUROS
A6: 2015 | B6: ='dette existante'!B6+'simul emprunt 1'!B6+#REF!+#REF!+#REF! -> #REF! | C6: ='dette existante'!C6+'simul emprunt 1'!C6+#REF!+#REF!+#REF! -> #REF! | D6: ='dette existante'!D6+'simul emprunt 1'!D6+#REF!+#REF!+#REF! -> #REF! | E6: ='dette existante'!E6+'simul emprunt 1'!E6+#REF!+#REF!+#REF! -> #REF! | K6: 2015 | L6: 4995433.3 | M6: =N6+O6 -> 603901.01 | N6: 389133.51 | O6: 214767.5 | U6: 2015 | V6: 1543510.7 | W6: =X6+Y6 -> 161924.93 | X6: 102976.97 | Y6: 58947.96
A7: =A6+1 -> 2016 | B7: ='dette existante'!B7+'simul emprunt 1'!B7+#REF!+#REF!+#REF! -> #REF! | C7: ='dette existante'!C7+'simul emprunt 1'!C7+#REF!+#REF!+#REF! -> #REF! | D7: ='dette existante'!D7+'simul emprunt 1'!D7+#REF!+#REF!+#REF! -> #REF! | E7: ='dette existante'!E7+'simul emprunt 1'!E7+#REF!+#REF!+#REF! -> #REF! | F7: =(B7-B6)/B6 -> #REF! | G7: =(C7-C6)/C6 -> #REF! | H7: =B7-B6 -> #REF! | I7: =C7-C6 -> #REF! | K7: =K6+1 -> 2016 | L7: =L6-N6 -> 4606299.8 | M7: =N7+O7 -> 603901.01 | N7: 405338.33 | O7: 198562.68 | P7: =(L7-L6)/L6 -> -0.07789785 | Q7: =(M7-M6)/M6 -> 0 | R7: =L7-L6 -> -389133.51 | S7: =M7-M6 -> 0 | U7: =U6+1 -> 2016 | V7: =V6-X6 -> 1440533.7 | W7: =X7+Y7 -> 161643.36 | X7: 105723.01 | Y7: 55920.35 | Z7: =(V7-V6)/V6 -> -0.066716071 | AA7: =(W7-W6)/W6 -> -0.0017388922 | AB7: =V7-V6 -> -102976.97 | AC7: =W7-W6 -> -281.57
A8: =A7+1 -> 2017 | B8: ='dette existante'!B8+'simul emprunt 1'!B8+#REF!+#REF!+#REF! -> #REF! | C8: ='dette existante'!C8+'simul emprunt 1'!C8+#REF!+#REF!+#REF! -> #REF! | D8: ='dette existante'!D8+'simul emprunt 1'!D8+#REF!+#REF!+#REF! -> #REF! | E8: ='dette existante'!E8+'simul emprunt 1'!E8+#REF!+#REF!+#REF! -> #REF! | F8: =(B8-B7)/B7 -> #REF! | G8: =(C8-C7)/C7 -> #REF! | H8: =B8-B7 -> #REF! | I8: =C8-C7 -> #REF! | K8: =K7+1 -> 2017 | L8: =L7-N7 -> 4200961.4 | M8: =N8+O8 -> 603901.01 | N8: 422235.27 | O8: 181665.74 | P8: =(L8-L7)/L7 -> -0.087996516 | Q8: =(M8-M7)/M7 -> 0 | R8: =L8-L7 -> -405338.33 | S8: =M8-M7 -> 0 | U8: =U7+1 -> 2017 | V8: =V7-X7 -> 1334810.7 | W8: =X8+Y8 -> 163668.07 | X8: 109031.13 | Y8: 54636.94 | Z8: =(V8-V7)/V7 -> -0.073391555 | AA8: =(W8-W7)/W7 -> 0.012525785 | AB8: =V8-V7 -> -105723.01 | AC8: =W8-W7 -> 2024.71
A9: =A8+1 -> 2018 | B9: ='dette existante'!B9+'simul emprunt 1'!B9+#REF!+#REF!+#REF! -> #REF! | C9: ='dette existante'!C9+'simul emprunt 1'!C9+#REF!+#REF!+#REF! -> #REF! | D9: ='dette existante'!D9+'simul emprunt 1'!D9+#REF!+#REF!+#REF! -> #REF! | E9: ='dette existante'!E9+'simul emprunt 1'!E9+#REF!+#REF!+#REF! -> #REF! | F9: =(B9-B8)/B8 -> #REF! | G9: =(C9-C8)/C8 -> #REF! | H9: =B9-B8 -> #REF! | I9: =C9-C8 -> #REF! | K9: =K8+1 -> 2018 | L9: =L8-N8 -> 3778726.2 | M9: =N9+O9 -> 603901.01 | N9: 439854.88 | O9: 164046.13 | P9: =(L9-L8)/L8 -> -0.1005092 | Q9: =(M9-M8)/M8 -> 0 | R9: =L9-L8 -> -422235.27 | S9: =M9-M8 -> 0 | U9: =U8+1 -> 2018 | V9: =V8-X8 -> 1225779.6 | W9: =X9+Y9 -> 162935.48 | X9: 112500.31 | Y9: 50435.17 | Z9: =(V9-V8)/V8 -> -0.08168284 | AA9: =(W9-W8)/W8 -> -0.0044760716 | AB9: =V9-V8 -> -109031.13 | AC9: =W9-W8 -> -732.59
A10: =A9+1 -> 2019 | B10: ='dette existante'!B10+'simul emprunt 1'!B10+#REF!+#REF!+#REF! -> #REF! | C10: ='dette existante'!C10+'simul emprunt 1'!C10+#REF!+#REF!+#REF! -> #REF! | D10: ='dette existante'!D10+'simul emprunt 1'!D10+#REF!+#REF!+#REF! -> #REF! | E10: ='dette existante'!E10+'simul emprunt 1'!E10+#REF!+#REF!+#REF! -> #REF! | F10: =(B10-B9)/B9 -> #REF! | G10: =(C10-C9)/C9 -> #REF! | H10: =B10-B9 -> #REF! | I10: =C10-C9 -> #REF! | K10: =K9+1 -> 2019 | L10: =L9-N9 -> 3338871.3 | M10: =N10+O10 -> 472375.69 | N10: 326703.42 | O10: 145672.27 | P10: =(L10-L9)/L9 -> -0.11640295 | Q10: =(M10-M9)/M9 -> -0.21779285 | R10: =L10-L9 -> -439854.88 | S10: =M10-M9 -> -131525.32 | U10: =U9+1 -> 2019 | V10: =V9-X9 -> 1113279.3 | W10: =X10+Y10 -> 162192.79 | X10: 116119.68 | Y10: 46073.11 | Z10: =(V10-V9)/V9 -> -0.09177858 | AA10: =(W10-W9)/W9 -> -0.0045581846 | AB10: =V10-V9 -> -112500.31 | AC10: =W10-W9 -> -742.69
A11: =A10+1 -> 2020 | B11: ='dette existante'!B11+'simul emprunt 1'!B11+#REF!+#REF!+#REF! -> #REF! | C11: ='dette existante'!C11+'simul emprunt 1'!C11+#REF!+#REF!+#REF! -> #REF! | D11: ='dette existante'!D11+'simul emprunt 1'!D11+#REF!+#REF!+#REF! -> #REF! | E11: ='dette existante'!E11+'simul emprunt 1'!E11+#REF!+#REF!+#REF! -> #REF! | F11: =(B11-B10)/B10 -> #REF! | G11: =(C11-C10)/C10 -> #REF! | H11: =B11-B10 -> #REF! | I11: =C11-C10 -> #REF! | K11: =K10+1 -> 2020 | L11: =L10-N10 -> 3012167.9 | M11: =N11+O11 -> 472375.69 | N11: 340432.91 | O11: 131942.78 | P11: =(L11-L10)/L10 -> -0.097848462 | Q11: =(M11-M10)/M10 -> 0 | R11: =L11-L10 -> -326703.42 | S11: =M11-M10 -> 0 | U11: =U10+1 -> 2020 | V11: =V10-X10 -> 997159.6 | W11: =X11+Y11 -> 152324.57 | X11: 110767.9 | Y11: 41556.67 | Z11: =(V11-V10)/V10 -> -0.10430418 | AA11: =(W11-W10)/W10 -> -0.060842532 | AB11: =V11-V10 -> -116119.68 | AC11: =W11-W10 -> -9868.22
A12: =A11+1 -> 2021 | B12: ='dette existante'!B12+'simul emprunt 1'!B12+#REF!+#REF!+#REF! -> #REF! | C12: ='dette existante'!C12+'simul emprunt 1'!C12+#REF!+#REF!+#REF! -> #REF! | D12: ='dette existante'!D12+'simul emprunt 1'!D12+#REF!+#REF!+#REF! -> #REF! | E12: ='dette existante'!E12+'simul emprunt 1'!E12+#REF!+#REF!+#REF! -> #REF! | F12: =(B12-B11)/B11 -> #REF! | G12: =(C12-C11)/C11 -> #REF! | H12: =B12-B11 -> #REF! | I12: =C12-C11 -> #REF! | K12: =K11+1 -> 2021 | L12: =L11-N11 -> 2671734.9 | M12: =N12+O12 -> 419876.72 | N12: 302261.41 | O12: 117615.31 | P12: =(L12-L11)/L11 -> -0.11301924 | Q12: =(M12-M11)/M11 -> -0.11113817 | R12: =L12-L11 -> -340432.91 | S12: =M12-M11 -> -52498.97 | U12: =U11+1 -> 2021 | V12: =V11-X11 -> 886391.7 | W12: =X12+Y12 -> 144541.48 | X12: 107442.64 | Y12: 37098.84 | Z12: =(V12-V11)/V11 -> -0.11108342 | AA12: =(W12-W11)/W11 -> -0.051095434 | AB12: =V12-V11 -> -110767.9 | AC12: =W12-W11 -> -7783.09
A13: =A12+1 -> 2022 | B13: ='dette existante'!B13+'simul emprunt 1'!B13+#REF!+#REF!+#REF! -> #REF! | C13: ='dette existante'!C13+'simul emprunt 1'!C13+#REF!+#REF!+#REF! -> #REF! | D13: ='dette existante'!D13+'simul emprunt 1'!D13+#REF!+#REF!+#REF! -> #REF! | E13: ='dette existante'!E13+'simul emprunt 1'!E13+#REF!+#REF!+#REF! -> #REF! | F13: =(B13-B12)/B12 -> #REF! | G13: =(C13-C12)/C12 -> #REF! | H13: =B13-B12 -> #REF! | I13: =C13-C12 -> #REF! | K13: =K12+1 -> 2022 | L13: =L12-N12 -> 2369473.5 | M13: =N13+O13 -> 419876.32 | N13: 315276.29 | O13: 104600.03 | P13: =(L13-L12)/L12 -> -0.11313301 | Q13: =(M13-M12)/M12 -> -9.5266058e-07 | R13: =L13-L12 -> -302261.41 | S13: =M13-M12 -> -0.4 | U13: =U12+1 -> 2022 | V13: =V12-X12 -> 778949.06 | W13: =X13+Y13 -> 143792.17 | X13: 111300.31 | Y13: 32491.86 | Z13: =(V13-V12)/V12 -> -0.1212135 | AA13: =(W13-W12)/W12 -> -0.0051840482 | AB13: =V13-V12 -> -107442.64 | AC13: =W13-W12 -> -749.31
A14: =A13+1 -> 2023 | B14: ='dette existante'!B14+'simul emprunt 1'!B14+#REF!+#REF!+#REF! -> #REF! | C14: ='dette existante'!C14+'simul emprunt 1'!C14+#REF!+#REF!+#REF! -> #REF! | D14: ='dette existante'!D14+'simul emprunt 1'!D14+#REF!+#REF!+#REF! -> #REF! | E14: ='dette existante'!E14+'simul emprunt 1'!E14+#REF!+#REF!+#REF! -> #REF! | F14: =(B14-B13)/B13 -> #REF! | G14: =(C14-C13)/C13 -> #REF! | H14: =B14-B13 -> #REF! | I14: =C14-C13 -> #REF! | K14: =K13+1 -> 2023 | L14: =L13-N13 -> 2054197.2 | M14: =N14+O14 -> 419876.72 | N14: 328873.82 | O14: 91002.9 | P14: =(L14-L13)/L13 -> -0.13305753 | Q14: =(M14-M13)/M13 -> 9.5266149e-07 | R14: =L14-L13 -> -315276.29 | S14: =M14-M13 -> 0.4 | U14: =U13+1 -> 2023 | V14: =V13-X13 -> 667648.75 | W14: =X14+Y14 -> 143038.57 | X14: 115341.27 | Y14: 27697.3 | Z14: =(V14-V13)/V13 -> -0.14288522 | AA14: =(W14-W13)/W13 -> -0.0052408973 | AB14: =V14-V13 -> -111300.31 | AC14: =W14-W13 -> -753.6
A15: =A14+1 -> 2024 | B15: ='dette existante'!B15+'simul emprunt 1'!B15+#REF!+#REF!+#REF! -> #REF! | C15: ='dette existante'!C15+'simul emprunt 1'!C15+#REF!+#REF!+#REF! -> #REF! | D15: ='dette existante'!D15+'simul emprunt 1'!D15+#REF!+#REF!+#REF! -> #REF! | E15: ='dette existante'!E15+'simul emprunt 1'!E15+#REF!+#REF!+#REF! -> #REF! | F15: =(B15-B14)/B14 -> #REF! | G15: =(C15-C14)/C14 -> #REF! | H15: =B15-B14 -> #REF! | I15: =C15-C14 -> #REF! | K15: =K14+1 -> 2024 | L15: =L14-N14 -> 1725323.4 | M15: =N15+O15 -> 419876.72 | N15: 343079.81 | O15: 76796.91 | P15: =(L15-L14)/L14 -> -0.16009846 | Q15: =(M15-M14)/M14 -> 0 | R15: =L15-L14 -> -328873.82 | S15: =M15-M14 -> 0 | U15: =U14+1 -> 2024 | V15: =V14-X14 -> 552307.48 | W15: =X15+Y15 -> 143353.13 | X15: 120646.89 | Y15: 22706.24 | Z15: =(V15-V14)/V14 -> -0.17275741 | AA15: =(W15-W14)/W14 -> 0.0021991271 | AB15: =V15-V14 -> -115341.27 | AC15: =W15-W14 -> 314.56
A16: =A15+1 -> 2025 | B16: ='dette existante'!B16+'simul emprunt 1'!B16+#REF!+#REF!+#REF! -> #REF! | C16: ='dette existante'!C16+'simul emprunt 1'!C16+#REF!+#REF!+#REF! -> #REF! | D16: ='dette existante'!D16+'simul emprunt 1'!D16+#REF!+#REF!+#REF! -> #REF! | E16: ='dette existante'!E16+'simul emprunt 1'!E16+#REF!+#REF!+#REF! -> #REF! | F16: =(B16-B15)/B15 -> #REF! | G16: =(C16-C15)/C15 -> #REF! | H16: =B16-B15 -> #REF! | I16: =C16-C15 -> #REF! | K16: =K15+1 -> 2025 | L16: =L15-N15 -> 1382243.6 | M16: =N16+O16 -> 419876.72 | N16: 357922.91 | O16: 61953.81 | P16: =(L16-L15)/L15 -> -0.19884956 | Q16: =(M16-M15)/M15 -> 0 | R16: =L16-L15 -> -343079.81 | S16: =M16-M15 -> 0 | U16: =U15+1 -> 2025 | V16: =V15-X15 -> 431660.59 | W16: =X16+Y16 -> 142814.33 | X16: 125304.88 | Y16: 17509.45 | Z16: =(V16-V15)/V15 -> -0.21844153 | AA16: =(W16-W15)/W15 -> -0.0037585507 | AB16: =V16-V15 -> -120646.89 | AC16: =W16-W15 -> -538.8
A17: =A16+1 -> 2026 | B17: ='dette existante'!B17+'simul emprunt 1'!B17+#REF!+#REF!+#REF! -> #REF! | C17: ='dette existante'!C17+'simul emprunt 1'!C17+#REF!+#REF!+#REF! -> #REF! | D17: ='dette existante'!D17+'simul emprunt 1'!D17+#REF!+#REF!+#REF! -> #REF! | E17: ='dette existante'!E17+'simul emprunt 1'!E17+#REF!+#REF!+#REF! -> #REF! | F17: =(B17-B16)/B16 -> #REF! | G17: =(C17-C16)/C16 -> #REF! | H17: =B17-B16 -> #REF! | I17: =C17-C16 -> #REF! | K17: =K16+1 -> 2026 | L17: =L16-N16 -> 1024320.7 | M17: =N17+O17 -> 342640.67 | N17: 295552.98 | O17: 47087.69 | P17: =(L17-L16)/L16 -> -0.25894343 | Q17: =(M17-M16)/M16 -> -0.18394935 | R17: =L17-L16 -> -357922.91 | S17: =M17-M16 -> -77236.05 | U17: =U16+1 -> 2026 | V17: =V16-X16 -> 306355.71 | W17: =X17+Y17 -> 124149.6 | X17: 111940.93 | Y17: 12208.67 | Z17: =(V17-V16)/V16 -> -0.29028566 | AA17: =(W17-W16)/W16 -> -0.13069228 | AB17: =V17-V16 -> -125304.88 | AC17: =W17-W16 -> -18664.73
A18: =A17+1 -> 2027 | B18: ='dette existante'!B18+'simul emprunt 1'!B18+#REF!+#REF!+#REF! -> #REF! | C18: ='dette existante'!C18+'simul emprunt 1'!C18+#REF!+#REF!+#REF! -> #REF! | D18: ='dette existante'!D18+'simul emprunt 1'!D18+#REF!+#REF!+#REF! -> #REF! | E18: ='dette existante'!E18+'simul emprunt 1'!E18+#REF!+#REF!+#REF! -> #REF! | F18: =(B18-B17)/B17 -> #REF! | G18: =(C18-C17)/C17 -> #REF! | H18: =B18-B17 -> #REF! | I18: =C18-C17 -> #REF! | K18: =K17+1 -> 2027 | L18: =L17-N17 -> 728767.73 | M18: =N18+O18 -> 162515.29 | N18: 125714.69 | O18: 36800.6 | P18: =(L18-L17)/L17 -> -0.28853559 | Q18: =(M18-M17)/M17 -> -0.52569761 | R18: =L18-L17 -> -295552.98 | S18: =M18-M17 -> -180125.38 | U18: =U17+1 -> 2027 | V18: =V17-X17 -> 194414.78 | W18: =X18+Y18 -> 123610.84 | X18: 116740 | Y18: 6870.84 | Z18: =(V18-V17)/V17 -> -0.36539528 | AA18: =(W18-W17)/W17 -> -0.0043396032 | AB18: =V18-V17 -> -111940.93 | AC18: =W18-W17 -> -538.76
A19: =A18+1 -> 2028 | B19: ='dette existante'!B19+'simul emprunt 1'!B19+#REF!+#REF!+#REF! -> #REF! | C19: ='dette existante'!C19+'simul emprunt 1'!C19+#REF!+#REF!+#REF! -> #REF! | D19: ='dette existante'!D19+'simul emprunt 1'!D19+#REF!+#REF!+#REF! -> #REF! | E19: ='dette existante'!E19+'simul emprunt 1'!E19+#REF!+#REF!+#REF! -> #REF! | F19: =(B19-B18)/B18 -> #REF! | G19: =(C19-C18)/C18 -> #REF! | H19: =B19-B18 -> #REF! | I19: =C19-C18 -> #REF! | K19: =K18+1 -> 2028 | L19: =L18-N18 -> 603053.04 | M19: =N19+O19 -> 148479.08 | N19: 117956 | O19: 30523.08 | P19: =(L19-L18)/L18 -> -0.1725031 | Q19: =(M19-M18)/M18 -> -0.08636855 | R19: =L19-L18 -> -125714.69 | S19: =M19-M18 -> -14036.21 | U19: =U18+1 -> 2028 | V19: =V18-X18 -> 77674.78 | W19: =X19+Y19 -> 44169.29 | X19: 41888.43 | Y19: 2280.86 | Z19: =(V19-V18)/V18 -> -0.60046875 | AA19: =(W19-W18)/W18 -> -0.64267462 | AB19: =V19-V18 -> -116740 | AC19: =W19-W18 -> -79441.55
A20: =A19+1 -> 2029 | B20: ='dette existante'!B20+'simul emprunt 1'!B20+#REF!+#REF!+#REF! -> #REF! | C20: ='dette existante'!C20+'simul emprunt 1'!C20+#REF!+#REF!+#REF! -> #REF! | D20: ='dette existante'!D20+'simul emprunt 1'!D20+#REF!+#REF!+#REF! -> #REF! | E20: ='dette existante'!E20+'simul emprunt 1'!E20+#REF!+#REF!+#REF! -> #REF! | F20: =(B20-B19)/B19 -> #REF! | G20: =(C20-C19)/C19 -> #REF! | H20: =B20-B19 -> #REF! | I20: =C20-C19 -> #REF! | K20: =K19+1 -> 2029 | L20: =L19-N19 -> 485097.04 | M20: =N20+O20 -> 148479.08 | N20: 124533.93 | O20: 23945.15 | P20: =(L20-L19)/L19 -> -0.19559805 | Q20: =(M20-M19)/M19 -> -1.96013e-16 | R20: =L20-L19 -> -117956 | S20: =M20-M19 -> 0 | U20: =U19+1 -> 2029 | V20: =V19-X19 -> 35786.35 | W20: =X20+Y20 -> 13914.22 | X20: =3125+3125+3125+3125 -> 12500 | Y20: =404.06+370.39+336.72+303.05 -> 1414.22 | Z20: =(V20-V19)/V19 -> -0.53927967 | AA20: =(W20-W19)/W19 -> -0.68497977 | AB20: =V20-V19 -> -41888.43 | AC20: =W20-W19 -> -30255.07
A21: =A20+1 -> 2030 | B21: ='dette existante'!B21+'simul emprunt 1'!B21+#REF!+#REF!+#REF! -> #REF! | C21: ='dette existante'!C21+'simul emprunt 1'!C21+#REF!+#REF!+#REF! -> #REF! | D21: ='dette existante'!D21+'simul emprunt 1'!D21+#REF!+#REF!+#REF! -> #REF! | E21: ='dette existante'!E21+'simul emprunt 1'!E21+#REF!+#REF!+#REF! -> #REF! | F21: =(B21-B20)/B20 -> #REF! | G21: =(C21-C20)/C20 -> #REF! | H21: =B21-B20 -> #REF! | I21: =C21-C20 -> #REF! | K21: =K20+1 -> 2030 | L21: =L20-N20 -> 360563.11 | M21: =N21+O21 -> 148479.08 | N21: 131479.31 | O21: 16999.77 | P21: =(L21-L20)/L20 -> -0.25671962 | Q21: =(M21-M20)/M20 -> 0 | R21: =L21-L20 -> -124533.93 | S21: =M21-M20 -> 0 | U21: =U20+1 -> 2030 | V21: =V20-X20 -> 23286.35 | W21: =X21+Y21 -> 13375.47 | X21: =3125+3125+3125+3125 -> 12500 | Y21: 875.47 | Z21: =(V21-V20)/V20 -> -0.34929519 | AA21: =(W21-W20)/W20 -> -0.038719382 | AB21: =V21-V20 -> -12500 | AC21: =W21-W20 -> -538.75
A22: =A21+1 -> 2031 | B22: ='dette existante'!B22+'simul emprunt 1'!B22+#REF!+#REF!+#REF! -> #REF! | C22: ='dette existante'!C22+'simul emprunt 1'!C22+#REF!+#REF!+#REF! -> #REF! | D22: ='dette existante'!D22+'simul emprunt 1'!D22+#REF!+#REF!+#REF! -> #REF! | E22: ='dette existante'!E22+'simul emprunt 1'!E22+#REF!+#REF!+#REF! -> #REF! | F22: =(B22-B21)/B21 -> #REF! | G22: =(C22-C21)/C21 -> #REF! | H22: =B22-B21 -> #REF! | I22: =C22-C21 -> #REF! | K22: =K21+1 -> 2031 | L22: =L21-N21 -> 229083.8 | M22: =N22+O22 -> 148479.08 | N22: 138812.68 | O22: 9666.4 | P22: =(L22-L21)/L21 -> -0.36464992 | Q22: =(M22-M21)/M21 -> 0 | R22: =L22-L21 -> -131479.31 | S22: =M22-M21 -> 0 | U22: =U21+1 -> 2031 | V22: =V21-X21 -> 10786.35 | W22: =X22+Y22 -> 12836.72 | X22: =3125+3125+3125+3125 -> 12500 | Y22: =134.69+101.02+67.34+33.67 -> 336.72 | Z22: =(V22-V21)/V21 -> -0.53679516 | AA22: =(W22-W21)/W21 -> -0.040278958 | AB22: =V22-V21 -> -12500 | AC22: =W22-W21 -> -538.75
A23: =A22+1 -> 2032 | B23: ='dette existante'!B23+'simul emprunt 1'!B23+#REF!+#REF!+#REF! -> #REF! | C23: ='dette existante'!C23+'simul emprunt 1'!C23+#REF!+#REF!+#REF! -> #REF! | D23: ='dette existante'!D23+'simul emprunt 1'!D23+#REF!+#REF!+#REF! -> #REF! | E23: ='dette existante'!E23+'simul emprunt 1'!E23+#REF!+#REF!+#REF! -> #REF! | F23: =(B23-B22)/B22 -> #REF! | G23: =(C23-C22)/C22 -> #REF! | H23: =B23-B22 -> #REF! | I23: =C23-C22 -> #REF! | K23: 2032 | L23: =L22-N22 -> 90271.12 | M23: =N23+O23 -> 92462.97 | N23: 90270.72 | O23: 2192.25 | P23: =(L23-L22)/L22 -> -0.60594717 | Q23: =(M23-M22)/M22 -> -0.37726601 | R23: =L23-L22 -> -138812.68 | S23: =M23-M22 -> -56016.11 | U23: 2032 | AA23: =(W23-W22)/W22 -> -1 | AB23: =V23-V22 -> -10786.35 | AC23: =W23-W22 -> -12836.72
A24: =A23+1 -> 2033 | B24: ='dette existante'!B24+'simul emprunt 1'!B24+#REF!+#REF!+#REF! -> #REF! | C24: ='dette existante'!C24+'simul emprunt 1'!C24+#REF!+#REF!+#REF! -> #REF! | D24: ='dette existante'!D24+'simul emprunt 1'!D24+#REF!+#REF!+#REF! -> #VALUE! | E24: ='dette existante'!E24+'simul emprunt 1'!E24+#REF!+#REF!+#REF! -> #VALUE! | F24: =(B24-B23)/B23 -> #REF! | G24: =(C24-C23)/C23 -> #REF! | H24: =B24-B23 -> #REF! | I24: =C24-C23 -> #REF! | R24: =L24-L23 -> -90271.12 | S24: =M24-M23 -> -92462.97
A25: =A24+1 -> 2034 | B25: ='dette existante'!B25+'simul emprunt 1'!B25+#REF!+#REF!+#REF! -> #VALUE! | C25: ='dette existante'!C25+'simul emprunt 1'!C25+#REF!+#REF!+#REF! -> #REF! | D25: ='dette existante'!D25+'simul emprunt 1'!D25+#REF!+#REF!+#REF! -> #VALUE! | E25: ='dette existante'!E25+'simul emprunt 1'!E25+#REF!+#REF!+#REF! -> #VALUE! | F25: =(B25-B24)/B24 -> #VALUE! | G25: =(C25-C24)/C24 -> #REF! | H25: =B25-B24 -> #VALUE! | I25: =C25-C24 -> #REF!
F26: =(B26-B25)/B25 -> #VALUE! | G26: =(C26-C25)/C25 -> #REF! | H26: =B26-B25 -> #VALUE! | I26: =C26-C25 -> #REF!

Sheet dette existante
A1: ETAT DE REGRESSION DE LA DETTE | H1: =#REF! -> #REF! | K1: LES AVENIERES | U1: VEYRINS-THUELLIN
B3: DETTE | C3: ANNUITE | F3: EVOLUTION | G3: EVOLUTION | H3: EVOLUTION | I3: EVOLUTION | L3: DETTE | M3: ANNUITE | P3: EVOLUTION | Q3: EVOLUTION | R3: EVOLUTION | S3: EVOLUTION | V3: DETTE | W3: ANNUITE | Z3: EVOLUTION | AA3: EVOLUTION | AB3: EVOLUTION | AC3: EVOLUTION
A4: ANNÉE | B4: AU | C4: TOTAL | D4: CAPITAL | E4: INTERETS | F4: DE LA DETTE | G4: DE L'ANNUITE | H4: DE LA DETTE | I4: DE L'ANNUITE | K4: AN | L4: AU | M4: TOTAL | N4: CAPITAL | O4: INTERETS | P4: DE LA DETTE | Q4: DE L'ANNUITE | R4: DE LA DETTE | S4: DE L'ANNUITE | U4: AN | V4: AU | W4: TOTAL | X4: CAPITAL | Y4: INTERETS | Z4: DE LA DETTE | AA4: DE L'ANNUITE | AB4: DE LA DETTE | AC4: DE L'ANNUITE
B5: 1ER JANVIER | C5: TOTAL | D5: CAPITAL | E5: INTERETS | F5: EN % | G5: EN % | H5: EN EUROS | I5: =H5 -> EN EUROS | L5: 1ER JANVIER | M5: TOTAL | N5: CAPITAL | O5: INTERETS | P5: EN % | Q5: EN % | R5: EN EUROS | S5: =R5 -> EN EUROS | V5: 1ER JANVIER | W5: TOTAL | X5: CAPITAL | Y5: INTERETS | Z5: EN % | AA5: EN % | AB5: EN EUROS | AC5: =AB5 -> EN EUROS
A6: 2015 | B6: 6537666.4 | C6: =D6+E6 -> 765825.94 | D6: =N6+X6 -> 492110.48 | E6: =O6+Y6 -> 273715.46 | K6: 2015 | L6: 4995433.3 | M6: =N6+O6 -> 603901.01 | N6: 389133.51 | O6: 214767.5 | U6: 2015 | V6: 1543510.7 | W6: =X6+Y6 -> 161924.93 | X6: 102976.97 | Y6: 58947.96
A7: =A6+1 -> 2016 | B7: =B6-D6 -> 6045555.9 | C7: =D7+E7 -> 765306.51 | D7: 511722.21 | E7: 253584.3 | F7: =(B7-B6)/B6 -> -0.07527311 | G7: =(C7-C6)/C6 -> -0.00067826117 | H7: =B7-B6 -> -492110.48 | I7: =C7-C6 -> -519.43 | K7: =K6+1 -> 2016 | L7: =L6-N6 -> 4606299.8 | M7: =N7+O7 -> 603901.01 | N7: 405338.33 | O7: 198562.68 | P7: =(L7-L6)/L6 -> -0.07789785 | Q7: =(M7-M6)/M6 -> 0 | R7: =L7-L6 -> -389133.51 | S7: =M7-M6 -> 0 | U7: =U6+1 -> 2016 | V7: =V6-X6 -> 1440533.7 | W7: =X7+Y7 -> 161643.36 | X7: 105723.01 | Y7: 55920.35 | Z7: =(V7-V6)/V6 -> -0.066716071 | AA7: =(W7-W6)/W6 -> -0.0017388922 | AB7: =V7-V6 -> -102976.97 | AC7: =W7-W6 -> -281.57
A8: =A7+1 -> 2017 | B8: =B7-D7 -> 5533833.7 | C8: =D8+E8 -> 765097.78 | D8: 531998.37 | E8: 233099.41 | F8: =(B8-B7)/B7 -> -0.08464436 | G8: =(C8-C7)/C7 -> -0.0002727404 | H8: =B8-B7 -> -511722.21 | I8: =C8-C7 -> -208.73 | K8: =K7+1 -> 2017 | L8: =L7-N7 -> 4200961.4 | M8: =N8+O8 -> 603901.01 | N8: 422235.27 | O8: 181665.74 | P8: =(L8-L7)/L7 -> -0.087996516 | Q8: =(M8-M7)/M7 -> 0 | R8: =L8-L7 -> -405338.33 | S8: =M8-M7 -> 0 | U8: =U7+1 -> 2017 | V8: =V7-X7 -> 1334810.7 | W8: =X8+Y8 -> 163668.07 | X8: 109031.13 | Y8: 54636.94 | Z8: =(V8-V7)/V7 -> -0.073391555 | AA8: =(W8-W7)/W7 -> 0.012525785 | AB8: =V8-V7 -> -105723.01 | AC8: =W8-W7 -> 2024.71
A9: =A8+1 -> 2018 | B9: =B8-D8 -> 5001835.3 | C9: =D9+E9 -> 764933.42 | D9: 553132.25 | E9: 211801.17 | F9: =(B9-B8)/B8 -> -0.096135591 | G9: =(C9-C8)/C8 -> -0.00021482222 | H9: =B9-B8 -> -531998.37 | I9: =C9-C8 -> -164.36 | K9: =K8+1 -> 2018 | L9: =L8-N8 -> 3778726.2 | M9: =N9+O9 -> 603901.01 | N9: 439854.88 | O9: 164046.13 | P9: =(L9-L8)/L8 -> -0.1005092 | Q9: =(M9-M8)/M8 -> 0 | R9: =L9-L8 -> -422235.27 | S9: =M9-M8 -> 0 | U9: =U8+1 -> 2018 | V9: =V8-X8 -> 1225779.6 | W9: =X9+Y9 -> 162935.48 | X9: 112500.31 | Y9: 50435.17 | Z9: =(V9-V8)/V8 -> -0.08168284 | AA9: =(W9-W8)/W8 -> -0.0044760716 | AB9: =V9-V8 -> -109031.13 | AC9: =W9-W8 -> -732.59
A10: =A9+1 -> 2019 | B10: =B9-D9 -> 4448703.1 | C10: =D10+E10 -> 736431.87 | D10: 528655.47 | E10: 207776.4 | F10: =(B10-B9)/B9 -> -0.11058586 | G10: =(C10-C9)/C9 -> -0.037260171 | H10: =B10-B9 -> -553132.25 | I10: =C10-C9 -> -28501.55 | K10: =K9+1 -> 2019 | L10: =L9-N9 -> 3338871.3 | M10: =N10+O10 -> 472375.69 | N10: 326703.42 | O10: 145672.27 | P10: =(L10-L9)/L9 -> -0.11640295 | Q10: =(M10-M9)/M9 -> -0.21779285 | R10: =L10-L9 -> -439854.88 | S10: =M10-M9 -> -131525.32 | U10: =U9+1 -> 2019 | V10: =V9-X9 -> 1113279.3 | W10: =X10+Y10 -> 162192.79 | X10: 116119.68 | Y10: 46073.11 | Z10: =(V10-V9)/V9 -> -0.09177858 | AA10: =(W10-W9)/W9 -> -0.0045581846 | AB10: =V10-V9 -> -112500.31 | AC10: =W10-W9 -> -742.69
A11: =A10+1 -> 2020 | B11: =B10-D10+1700000 -> 5620047.6 | C11: =D11+E11 -> 756447.56 | D11: 561767.84 | E11: 194679.72 | F11: =(B11-B10)/B10 -> 0.26330023 | G11: =(C11-C10)/C10 -> 0.027179283 | H11: =B11-B10 -> 1171344.5 | I11: =C11-C10 -> 20015.69 | K11: =K10+1 -> 2020 | L11: =L10-N10 -> 3012167.9 | M11: =N11+O11 -> 472375.69 | N11: 340432.91 | O11: 131942.78 | P11: =(L11-L10)/L10 -> -0.097848462 | Q11: =(M11-M10)/M10 -> 0 | R11: =L11-L10 -> -326703.42 | S11: =M11-M10 -> 0 | U11: =U10+1 -> 2020 | V11: =V10-X10 -> 997159.6 | W11: =X11+Y11 -> 152324.57 | X11: 110767.9 | Y11: 41556.67 | Z11: =(V11-V10)/V10 -> -0.10430418 | AA11: =(W11-W10)/W10 -> -0.060842532 | AB11: =V11-V10 -> -116119.68 | AC11: =W11-W10 -> -9868.22
A12: =A11+1 -> 2021 | B12: =B11-D11 -> 5058279.8 | C12: =D12+E12 -> 697551.7 | D12: 522998.38 | E12: 174553.32 | F12: =(B12-B11)/B11 -> -0.099957844 | G12: =(C12-C11)/C11 -> -0.077858484 | H12: =B12-B11 -> -561767.84 | I12: =C12-C11 -> -58895.86 | K12: =K11+1 -> 2021 | L12: =L11-N11 -> 2671734.9 | M12: =N12+O12 -> 419876.72 | N12: 302261.41 | O12: 117615.31 | P12: =(L12-L11)/L11 -> -0.11301924 | Q12: =(M12-M11)/M11 -> -0.11113817 | R12: =L12-L11 -> -340432.91 | S12: =M12-M11 -> -52498.97 | U12: =U11+1 -> 2021 | V12: =V11-X11 -> 886391.7 | W12: =X12+Y12 -> 144541.48 | X12: 107442.64 | Y12: 37098.84 | Z12: =(V12-V11)/V11 -> -0.11108342 | AA12: =(W12-W11)/W11 -> -0.051095434 | AB12: =V12-V11 -> -110767.9 | AC12: =W12-W11 -> -7783.09
A13: =A12+1 -> 2022 | B13: =B12-D12 -> 4535281.4 | C13: =D13+E13 -> 695369.57 | D13: 539805.08 | E13: 155564.49 | F13: =(B13-B12)/B12 -> -0.10339451 | G13: =(C13-C12)/C12 -> -0.0031282699 | H13: =B13-B12 -> -522998.38 | I13: =C13-C12 -> -2182.13 | K13: =K12+1 -> 2022 | L13: =L12-N12 -> 2369473.5 | M13: =N13+O13 -> 419876.32 | N13: 315276.29 | O13: 104600.03 | P13: =(L13-L12)/L12 -> -0.11313301 | Q13: =(M13-M12)/M12 -> -9.5266058e-07 | R13: =L13-L12 -> -302261.41 | S13: =M13-M12 -> -0.4 | U13: =U12+1 -> 2022 | V13: =V12-X12 -> 778949.06 | W13: =X13+Y13 -> 143792.17 | X13: 111300.31 | Y13: 32491.86 | Z13: =(V13-V12)/V12 -> -0.1212135 | AA13: =(W13-W12)/W12 -> -0.0051840482 | AB13: =V13-V12 -> -107442.64 | AC13: =W13-W12 -> -749.31
A14: =A13+1 -> 2023 | B14: =B13-D13 -> 3995476.3 | C14: =D14+E14 -> 693187.5 | D14: 557376.64 | E14: 135810.86 | F14: =(B14-B13)/B13 -> -0.1190235 | G14: =(C14-C13)/C13 -> -0.0031380004 | H14: =B14-B13 -> -539805.08 | I14: =C14-C13 -> -2182.07 | K14: =K13+1 -> 2023 | L14: =L13-N13 -> 2054197.2 | M14: =N14+O14 -> 419876.72 | N14: 328873.82 | O14: 91002.9 | P14: =(L14-L13)/L13 -> -0.13305753 | Q14: =(M14-M13)/M13 -> 9.5266149e-07 | R14: =L14-L13 -> -315276.29 | S14: =M14-M13 -> 0.4 | U14: =U13+1 -> 2023 | V14: =V13-X13 -> 667648.75 | W14: =X14+Y14 -> 143038.57 | X14: 115341.27 | Y14: 27697.3 | Z14: =(V14-V13)/V13 -> -0.14288522 | AA14: =(W14-W13)/W13 -> -0.0052408973 | AB14: =V14-V13 -> -111300.31 | AC14: =W14-W13 -> -753.6
A15: =A14+1 -> 2024 | B15: =B14-D14 -> 3438099.7 | C15: =D15+E15 -> 691005.44 | D15: 575748.88 | E15: 115256.56 | F15: =(B15-B14)/B14 -> -0.13950193 | G15: =(C15-C14)/C14 -> -0.003147864 | H15: =B15-B14 -> -557376.64 | I15: =C15-C14 -> -2182.06 | K15: =K14+1 -> 2024 | L15: =L14-N14 -> 1725323.4 | M15: =N15+O15 -> 419876.72 | N15: 343079.81 | O15: 76796.91 | P15: =(L15-L14)/L14 -> -0.16009846 | Q15: =(M15-M14)/M14 -> 0 | R15: =L15-L14 -> -328873.82 | S15: =M15-M14 -> 0 | U15: =U14+1 -> 2024 | V15: =V14-X14 -> 552307.48 | W15: =X15+Y15 -> 143353.13 | X15: 120646.89 | Y15: 22706.24 | Z15: =(V15-V14)/V14 -> -0.17275741 | AA15: =(W15-W14)/W14 -> 0.0021991271 | AB15: =V15-V14 -> -115341.27 | AC15: =W15-W14 -> 314.56
A16: =A15+1 -> 2025 | B16: =B15-D15 -> 2862350.8 | C16: =D16+E16 -> 689231.98 | D16: 594959.39 | E16: 94272.59 | F16: =(B16-B15)/B15 -> -0.16746137 | G16: =(C16-C15)/C15 -> -0.0025664921 | H16: =B16-B15 -> -575748.88 | I16: =C16-C15 -> -1773.46 | K16: =K15+1 -> 2025 | L16: =L15-N15 -> 1382243.6 | M16: =N16+O16 -> 419876.72 | N16: 357922.91 | O16: 61953.81 | P16: =(L16-L15)/L15 -> -0.19884956 | Q16: =(M16-M15)/M15 -> 0 | R16: =L16-L15 -> -343079.81 | S16: =M16-M15 -> 0 | U16: =U15+1 -> 2025 | V16: =V15-X15 -> 431660.59 | W16: =X16+Y16 -> 142814.33 | X16: 125304.88 | Y16: 17509.45 | Z16: =(V16-V15)/V15 -> -0.21844153 | AA16: =(W16-W15)/W15 -> -0.0037585507 | AB16: =V16-V15 -> -120646.89 | AC16: =W16-W15 -> -538.8
A17: =A16+1 -> 2026 | B17: =B16-D16 -> 2267391.4 | C17: =D17+E17 -> 593064.81 | D17: 520827.05 | E17: 72237.76 | F17: =(B17-B16)/B16 -> -0.20785691 | G17: =(C17-C16)/C16 -> -0.13952801 | H17: =B17-B16 -> -594959.39 | I17: =C17-C16 -> -96167.17 | K17: =K16+1 -> 2026 | L17: =L16-N16 -> 1024320.7 | M17: =N17+O17 -> 342640.67 | N17: 295552.98 | O17: 47087.69 | P17: =(L17-L16)/L16 -> -0.25894343 | Q17: =(M17-M16)/M16 -> -0.18394935 | R17: =L17-L16 -> -357922.91 | S17: =M17-M16 -> -77236.05 | U17: =U16+1 -> 2026 | V17: =V16-X16 -> 306355.71 | W17: =X17+Y17 -> 124149.6 | X17: 111940.93 | Y17: 12208.67 | Z17: =(V17-V16)/V16 -> -0.29028566 | AA17: =(W17-W16)/W16 -> -0.13069228 | AB17: =V17-V16 -> -125304.88 | AC17: =W17-W16 -> -18664.73
A18: =A17+1 -> 2027 | B18: =B17-D17 -> 1746564.3 | C18: =D18+E18 -> 410757.36 | D18: 355787.83 | E18: 54969.53 | F18: =(B18-B17)/B17 -> -0.2297032 | G18: =(C18-C17)/C17 -> -0.30739887 | H18: =B18-B17 -> -520827.05 | I18: =C18-C17 -> -182307.45 | K18: =K17+1 -> 2027 | L18: =L17-N17 -> 728767.73 | M18: =N18+O18 -> 162515.29 | N18: 125714.69 | O18: 36800.6 | P18: =(L18-L17)/L17 -> -0.28853559 | Q18: =(M18-M17)/M17 -> -0.52569761 | R18: =L18-L17 -> -295552.98 | S18: =M18-M17 -> -180125.38 | U18: =U17+1 -> 2027 | V18: =V17-X17 -> 194414.78 | W18: =X18+Y18 -> 123610.84 | X18: 116740 | Y18: 6870.84 | Z18: =(V18-V17)/V17 -> -0.36539528 | AA18: =(W18-W17)/W17 -> -0.0043396032 | AB18: =V18-V17 -> -111940.93 | AC18: =W18-W17 -> -538.76
A19: =A18+1 -> 2028 | B19: =B18-D18 -> 1390776.5 | C19: =D19+E19 -> 315637.92 | D19: 273179.3 | E19: 42458.62 | F19: =(B19-B18)/B18 -> -0.20370726 | G19: =(C19-C18)/C18 -> -0.23157087 | H19: =B19-B18 -> -355787.83 | I19: =C19-C18 -> -95119.44 | K19: =K18+1 -> 2028 | L19: =L18-N18 -> 603053.04 | M19: =N19+O19 -> 148479.08 | N19: 117956 | O19: 30523.08 | P19: =(L19-L18)/L18 -> -0.1725031 | Q19: =(M19-M18)/M18 -> -0.08636855 | R19: =L19-L18 -> -125714.69 | S19: =M19-M18 -> -14036.21 | U19: =U18+1 -> 2028 | V19: =V18-X18 -> 77674.78 | W19: =X19+Y19 -> 44169.29 | X19: 41888.43 | Y19: 2280.86 | Z19: =(V19-V18)/V18 -> -0.60046875 | AA19: =(W19-W18)/W18 -> -0.64267462 | AB19: =V19-V18 -> -116740 | AC19: =W19-W18 -> -79441.55
A20: =A19+1 -> 2029 | B20: =B19-D19 -> 1117597.2 | C20: =D20+E20 -> 283737.88 | D20: 250367.21 | E20: 33370.67 | F20: =(B20-B19)/B19 -> -0.19642214 | G20: =(C20-C19)/C19 -> -0.1010653 | H20: =B20-B19 -> -273179.3 | I20: =C20-C19 -> -31900.04 | K20: =K19+1 -> 2029 | L20: =L19-N19 -> 485097.04 | M20: =N20+O20 -> 148479.08 | N20: 124533.93 | O20: 23945.15 | P20: =(L20-L19)/L19 -> -0.19559805 | Q20: =(M20-M19)/M19 -> -1.96013e-16 | R20: =L20-L19 -> -117956 | S20: =M20-M19 -> 0 | U20: =U19+1 -> 2029 | V20: =V19-X19 -> 35786.35 | W20: =X20+Y20 -> 13914.22 | X20: =3125+3125+3125+3125 -> 12500 | Y20: =404.06+370.39+336.72+303.05 -> 1414.22 | Z20: =(V20-V19)/V19 -> -0.53927967 | AA20: =(W20-W19)/W19 -> -0.68497977 | AB20: =V20-V19 -> -41888.43 | AC20: =W20-W19 -> -30255.07
A21: =A20+1 -> 2030 | B21: =B20-D20 -> 867229.99 | C21: =D21+E21 -> 281555.78 | D21: 257312.59 | E21: 24243.19 | F21: =(B21-B20)/B20 -> -0.22402276 | G21: =(C21-C20)/C20 -> -0.0076905488 | H21: =B21-B20 -> -250367.21 | I21: =C21-C20 -> -2182.1 | K21: =K20+1 -> 2030 | L21: =L20-N20 -> 360563.11 | M21: =N21+O21 -> 148479.08 | N21: 131479.31 | O21: 16999.77 | P21: =(L21-L20)/L20 -> -0.25671962 | Q21: =(M21-M20)/M20 -> 0 | R21: =L21-L20 -> -124533.93 | S21: =M21-M20 -> 0 | U21: =U20+1 -> 2030 | V21: =V20-X20 -> 23286.35 | W21: =X21+Y21 -> 13375.47 | X21: =3125+3125+3125+3125 -> 12500 | Y21: 875.47 | Z21: =(V21-V20)/V20 -> -0.34929519 | AA21: =(W21-W20)/W20 -> -0.038719382 | AB21: =V21-V20 -> -12500 | AC21: =W21-W20 -> -538.75
A22: =A21+1 -> 2031 | B22: =B21-D21 -> 609917.4 | C22: =D22+E22 -> 279373.7 | D22: 264645.95 | E22: 14727.75 | F22: =(B22-B21)/B21 -> -0.29670629 | G22: =(C22-C21)/C21 -> -0.0077500806 | H22: =B22-B21 -> -257312.59 | I22: =C22-C21 -> -2182.08 | K22: =K21+1 -> 2031 | L22: =L21-N21 -> 229083.8 | M22: =N22+O22 -> 148479.08 | N22: 138812.68 | O22: 9666.4 | P22: =(L22-L21)/L21 -> -0.36464992 | Q22: =(M22-M21)/M21 -> 0 | R22: =L22-L21 -> -131479.31 | S22: =M22-M21 -> 0 | U22: =U21+1 -> 2031 | V22: =V21-X21 -> 10786.35 | W22: =X22+Y22 -> 12836.72 | X22: =3125+3125+3125+3125 -> 12500 | Y22: =134.69+101.02+67.34+33.67 -> 336.72 | Z22: =(V22-V21)/V21 -> -0.53679516 | AA22: =(W22-W21)/W21 -> -0.040278958 | AB22: =V22-V21 -> -12500 | AC22: =W22-W21 -> -538.75
A23: =A22+1 -> 2032 | B23: =B22-D22 -> 345271.45 | C23: =D23+E23 -> 208877.36 | D23: 203604.58 | E23: 5272.78 | F23: =(B23-B22)/B22 -> -0.43390457 | G23: =(C23-C22)/C22 -> -0.25233707 | H23: =B23-B22 -> -264645.95 | I23: =C23-C22 -> -70496.34 | K23: 2032 | L23: =L22-N22 -> 90271.12 | M23: =N23+O23 -> 92462.97 | N23: 90270.72 | O23: 2192.25 | P23: =(L23-L22)/L22 -> -0.60594717 | Q23: =(M23-M22)/M22 -> -0.37726601 | R23: =L23-L22 -> -138812.68 | S23: =M23-M22 -> -56016.11 | U23: 2032 | AA23: =(W23-W22)/W22 -> -1 | AB23: =V23-V22 -> -10786.35 | AC23: =W23-W22 -> -12836.72
A24: =A23+1 -> 2033 | B24: =B23-D23 -> 141666.87 | C24: =D24+E24 -> 114771.24 | D24: 113333.32 | E24: 1437.92 | F24: =(B24-B23)/B23 -> -0.58969422 | G24: =(C24-C23)/C23 -> -0.45053289 | H24: =B24-B23 -> -203604.58 | I24: =C24-C23 -> -94106.12 | R24: =L24-L23 -> -90271.12 | S24: =M24-M23 -> -92462.97
A25: =A24+1 -> 2034 | B25: =B24-D24 -> 28333.55 | C25: =D25+E25 -> 28436.24 | D25: 28333.53 | E25: 102.71 | F25: =(B25-B24)/B24 -> -0.79999876 | G25: =(C25-C24)/C24 -> -0.75223549 | H25: =B25-B24 -> -113333.32 | I25: =C25-C24 -> -86335
F26: =(B26-B25)/B25 -> -1 | G26: =(C26-C25)/C25 -> -1 | H26: =B26-B25 -> -28333.55 | I26: =C26-C25 -> -28436.24

Sheet liste emprunts
B1: LISTE DES EMPRUNTS
B3: Objet | C3: Montant initial | D3: Date de réalisation | E3: durée de l'emprunt | F3: Date de l'échéance finale | G3: Taux d'intérêt | H3: Capital restant dû au 1er janvier 2019
B4: emprunt passé | C4: 762245 | D4: 2000 | F4: 2020 | G4: 0.0526 | H4: 50630.69
B5: emprunt passé | C5: 1500000 | D5: 2006 | F5: 2026 | G5: 0.0332 | H5: 578995.47
B6: emprunt passé | C6: 2300000 | D6: 2007 | F6: 2027 | G6: 0.0408 | H6: 1034525.1
B7: emprunt passé | C7: 900000 | D7: 2012 | F7: 2032 | G7: 0.0524 | H7: 674810.5
B8: emprunt passé | C8: 900000 | D8: 2012 | F8: 2032 | G8: 0.0568 | H8: 673206.17
B9: emprunt passé | C9: 250000 | D9: 2011 | F9: 2031 | G9: 0.0431 | H9: 150000
B10: emprunt passé | C10: 400000 | D10: 2008 | F10: 2028 | G10: 0.0465 | H10: 212151.58
B11: emprunt passé | C11: 1000000 | D11: 2008 | F11: 2027 | G11: 0.0477 | H11: 528470.71
B12: emprunt passé | C12: 300000 | D12: 2006 | F12: 2025 | G12: 0.027 | H12: 98042.51
B13: emprunt passé | C13: 214000 | D13: 2005 | F13: 2020 | G13: 0.0234 | H13: 4214.82
B14: emprunt passé | C14: 1700000 | D14: 2018 | F14: 2034 | G14: 0.0145 | H14: 1615000
B15: emprunt 1 | C15: 1500000 | D15: 2022 | E15: 10 | F15: =D15+E15 -> 2032 | G15: 0.0325
B16: emprunt 2 | C16: 1500000 | F16: =D16+E16 -> 0
B17: emprunt 3 | C17: 1200000 | F17: =D17+E17 -> 0
B18: emprunt 4 | F18: =D18+E18 -> 0
B19: emprunt 5 | F19: =D19+E19 -> 0
B20: emprunt 6 | F20: =D20+E20 -> 0
B21: emprunt 7 | F21: =D21+E21 -> 0
B22: emprunt 8 | F22: =D22+E22 -> 0
B23: emprunt 9 | F23: =D23+E23 -> 0
B24: TOTAL | H24: =SUM(H4:H23) -> 5620047.6
H28: =D15=2023 -> FALSE

Sheet simul emprunt 1
A1: ETAT DE REGRESSION DE LA DETTE | H1: =#REF! -> #REF! | K1: LES AVENIERES | U1: VEYRINS-THUELLIN
B3: DETTE | C3: ANNUITE | F3: EVOLUTION | G3: EVOLUTION | H3: EVOLUTION | I3: EVOLUTION | L3: DETTE | M3: ANNUITE | P3: EVOLUTION | Q3: EVOLUTION | R3: EVOLUTION | S3: EVOLUTION | V3: DETTE | W3: ANNUITE | Z3: EVOLUTION | AA3: EVOLUTION | AB3: EVOLUTION | AC3: EVOLUTION
A4: ANNÉE | B4: AU | C4: TOTAL | D4: CAPITAL | E4: INTERETS | F4: DE LA DETTE | G4: DE L'ANNUITE | H4: DE LA DETTE | I4: DE L'ANNUITE | K4: AN | L4: AU | M4: TOTAL | N4: CAPITAL | O4: INTERETS | P4: DE LA DETTE | Q4: DE L'ANNUITE | R4: DE LA DETTE | S4: DE L'ANNUITE | U4: AN | V4: AU | W4: TOTAL | X4: CAPITAL | Y4: INTERETS | Z4: DE LA DETTE | AA4: DE L'ANNUITE | AB4: DE LA DETTE | AC4: DE L'ANNUITE
B5: 1ER JANVIER | C5: TOTAL | D5: CAPITAL | E5: INTERETS | F5: EN % | G5: EN % | H5: EN EUROS | I5: =H5 -> EN EUROS | L5: 1ER JANVIER | M5: TOTAL | N5: CAPITAL | O5: INTERETS | P5: EN % | Q5: EN % | R5: EN EUROS | S5: =R5 -> EN EUROS | V5: 1ER JANVIER | W5: TOTAL | X5: CAPITAL | Y5: INTERETS | Z5: EN % | AA5: EN % | AB5: EN EUROS | AC5: =AB5 -> EN EUROS
A6: 2015 | D6: =IFERROR(IF('liste emprunts'!$D$15<$A6,VLOOKUP($A6,'emprunt 1'!$G$2:$K$12,4,FALSE),0),"ANNEE NON COUVERTE") -> 0 | E6: =IFERROR(IF('liste emprunts'!$D$15<$A6,VLOOKUP($A6,'emprunt 1'!$G$2:$K$12,5,FALSE),0),"ANNEE NON COUVERTE") -> 0 | K6: 2015 | L6: 4995433.3 | M6: =N6+O6 -> 603901.01 | N6: 389133.51 | O6: 214767.5 | U6: 2015 | V6: 1543510.7 | W6: =X6+Y6 -> 161924.93 | X6: 102976.97 | Y6: 58947.96
A7: =A6+1 -> 2016 | B7: =B6-D6 -> 0 | D7: =IFERROR(IF('liste emprunts'!$D$15<$A7,VLOOKUP($A7,'emprunt 1'!$G$2:$K$12,4,FALSE),0),"ANNEE NON COUVERTE") -> 0 | E7: =IFERROR(IF('liste emprunts'!$D$15<$A7,VLOOKUP($A7,'emprunt 1'!$G$2:$K$12,5,FALSE),0),"ANNEE NON COUVERTE") -> 0 | F7: =(B7-B6)/B6 -> #DIV/0! | G7: =(C7-C6)/C6 -> #DIV/0! | H7: =B7-B6 -> 0 | I7: =C7-C6 -> 0 | K7: =K6+1 -> 2016 | L7: =L6-N6 -> 4606299.8 | M7: =N7+O7 -> 603901.01 | N7: 405338.33 | O7: 198562.68 | P7: =(L7-L6)/L6 -> -0.07789785 | Q7: =(M7-M6)/M6 -> 0 | R7: =L7-L6 -> -389133.51 | S7: =M7-M6 -> 0 | U7: =U6+1 -> 2016 | V7: =V6-X6 -> 1440533.7 | W7: =X7+Y7 -> 161643.36 | X7: 105723.01 | Y7: 55920.35 | Z7: =(V7-V6)/V6 -> -0.066716071 | AA7: =(W7-W6)/W6 -> -0.0017388922 | AB7: =V7-V6 -> -102976.97 | AC7: =W7-W6 -> -281.57
A8: =A7+1 -> 2017 | B8: =B7-D7 -> 0 | D8: =IFERROR(IF('liste emprunts'!$D$15<$A8,VLOOKUP($A8,'emprunt 1'!$G$2:$K$12,4,FALSE),0),"ANNEE NON COUVERTE") -> 0 | E8: =IFERROR(IF('liste emprunts'!$D$15<$A8,VLOOKUP($A8,'emprunt 1'!$G$2:$K$12,5,FALSE),0),"ANNEE NON COUVERTE") -> 0 | F8: =(B8-B7)/B7 -> #DIV/0! | G8: =(C8-C7)/C7 -> #DIV/0! | H8: =B8-B7 -> 0 | I8: =C8-C7 -> 0 | K8: =K7+1 -> 2017 | L8: =L7-N7 -> 4200961.4 | M8: =N8+O8 -> 603901.01 | N8: 422235.27 | O8: 181665.74 | P8: =(L8-L7)/L7 -> -0.087996516 | Q8: =(M8-M7)/M7 -> 0 | R8: =L8-L7 -> -405338.33 | S8: =M8-M7 -> 0 | U8: =U7+1 -> 2017 | V8: =V7-X7 -> 1334810.7 | W8: =X8+Y8 -> 163668.07 | X8: 109031.13 | Y8: 54636.94 | Z8: =(V8-V7)/V7 -> -0.073391555 | AA8: =(W8-W7)/W7 -> 0.012525785 | AB8: =V8-V7 -> -105723.01 | AC8: =W8-W7 -> 2024.71
A9: =A8+1 -> 2018 | B9: =B8-D8 -> 0 | D9: =IFERROR(IF('liste emprunts'!$D$15<$A9,VLOOKUP($A9,'emprunt 1'!$G$2:$K$12,4,FALSE),0),"ANNEE NON COUVERTE") -> 0 | E9: =IFERROR(IF('liste emprunts'!$D$15<$A9,VLOOKUP($A9,'emprunt 1'!$G$2:$K$12,5,FALSE),0),"ANNEE NON COUVERTE") -> 0 | F9: =(B9-B8)/B8 -> #DIV/0! | G9: =(C9-C8)/C8 -> #DIV/0! | H9: =B9-B8 -> 0 | I9: =C9-C8 -> 0 | K9: =K8+1 -> 2018 | L9: =L8-N8 -> 3778726.2 | M9: =N9+O9 -> 603901.01 | N9: 439854.88 | O9: 164046.13 | P9: =(L9-L8)/L8 -> -0.1005092 | Q9: =(M9-M8)/M8 -> 0 | R9: =L9-L8 -> -422235.27 | S9: =M9-M8 -> 0 | U9: =U8+1 -> 2018 | V9: =V8-X8 -> 1225779.6 | W9: =X9+Y9 -> 162935.48 | X9: 112500.31 | Y9: 50435.17 | Z9: =(V9-V8)/V8 -> -0.08168284 | AA9: =(W9-W8)/W8 -> -0.0044760716 | AB9: =V9-V8 -> -109031.13 | AC9: =W9-W8 -> -732.59
A10: =A9+1 -> 2019 | B10: =B9-D9 -> 0 | D10: =IFERROR(IF('liste emprunts'!$D$15<$A10,VLOOKUP($A10,'emprunt 1'!$G$2:$K$12,4,FALSE),0),"ANNEE NON COUVERTE") -> 0 | E10: =IFERROR(IF('liste emprunts'!$D$15<$A10,VLOOKUP($A10,'emprunt 1'!$G$2:$K$12,5,FALSE),0),"ANNEE NON COUVERTE") -> 0 | F10: =(B10-B9)/B9 -> #DIV/0! | G10: =(C10-C9)/C9 -> #DIV/0! | H10: =B10-B9 -> 0 | I10: =C10-C9 -> 0 | K10: =K9+1 -> 2019 | L10: =L9-N9 -> 3338871.3 | M10: =N10+O10 -> 472375.69 | N10: 326703.42 | O10: 145672.27 | P10: =(L10-L9)/L9 -> -0.11640295 | Q10: =(M10-M9)/M9 -> -0.21779285 | R10: =L10-L9 -> -439854.88 | S10: =M10-M9 -> -131525.32 | U10: =U9+1 -> 2019 | V10: =V9-X9 -> 1113279.3 | W10: =X10+Y10 -> 162192.79 | X10: 116119.68 | Y10: 46073.11 | Z10: =(V10-V9)/V9 -> -0.09177858 | AA10: =(W10-W9)/W9 -> -0.0045581846 | AB10: =V10-V9 -> -112500.31 | AC10: =W10-W9 -> -742.69
A11: =A10+1 -> 2020 | D11: =IFERROR(IF('liste emprunts'!$D$15<$A11,VLOOKUP($A11,'emprunt 1'!$G$2:$K$12,4,FALSE),0),"ANNEE NON COUVERTE") -> 0 | E11: =IFERROR(IF('liste emprunts'!$D$15<$A11,VLOOKUP($A11,'emprunt 1'!$G$2:$K$12,5,FALSE),0),"ANNEE NON COUVERTE") -> 0 | F11: =(B11-B10)/B10 -> #DIV/0! | G11: =(C11-C10)/C10 -> #DIV/0! | H11: =B11-B10 -> 0 | I11: =C11-C10 -> 0 | K11: =K10+1 -> 2020 | L11: =L10-N10 -> 3012167.9 | M11: =N11+O11 -> 472375.69 | N11: 340432.91 | O11: 131942.78 | P11: =(L11-L10)/L10 -> -0.097848462 | Q11: =(M11-M10)/M10 -> 0 | R11: =L11-L10 -> -326703.42 | S11: =M11-M10 -> 0 | U11: =U10+1 -> 2020 | V11: =V10-X10 -> 997159.6 | W11: =X11+Y11 -> 152324.57 | X11: 110767.9 | Y11: 41556.67 | Z11: =(V11-V10)/V10 -> -0.10430418 | AA11: =(W11-W10)/W10 -> -0.060842532 | AB11: =V11-V10 -> -116119.68 | AC11: =W11-W10 -> -9868.22
A12: =A11+1 -> 2021 | B12: =IF('liste emprunts'!$D$15='simul emprunt 1'!$A$12:$A$25,'liste emprunts'!$C$15,B11-D11) -> 0 | D12: =IFERROR(IF('liste emprunts'!$D$15<$A12,VLOOKUP($A12,'emprunt 1'!$G$2:$K$12,4,FALSE),0),"ANNEE NON COUVERTE") -> 0 | E12: =IFERROR(IF('liste emprunts'!$D$15<$A12,VLOOKUP($A12,'emprunt 1'!$G$2:$K$12,5,FALSE),0),"ANNEE NON COUVERTE") -> 0 | F12: =(B12-B11)/B11 -> #DIV/0! | G12: =(C12-C11)/C11 -> #DIV/0! | H12: =B12-B11 -> 0 | I12: =C12-C11 -> 0 | K12: =K11+1 -> 2021 | L12: =L11-N11 -> 2671734.9 | M12: =N12+O12 -> 419876.72 | N12: 302261.41 | O12: 117615.31 | P12: =(L12-L11)/L11 -> -0.11301924 | Q12: =(M12-M11)/M11 -> -0.11113817 | R12: =L12-L11 -> -340432.91 | S12: =M12-M11 -> -52498.97 | U12: =U11+1 -> 2021 | V12: =V11-X11 -> 886391.7 | W12: =X12+Y12 -> 144541.48 | X12: 107442.64 | Y12: 37098.84 | Z12: =(V12-V11)/V11 -> -0.11108342 | AA12: =(W12-W11)/W11 -> -0.051095434 | AB12: =V12-V11 -> -110767.9 | AC12: =W12-W11 -> -7783.09
A13: =A12+1 -> 2022 | B13: =IF('liste emprunts'!$D$15='simul emprunt 1'!$A$12:$A$25,'liste emprunts'!$C$15,B12-D12) -> 1500000 | D13: =IFERROR(IF('liste emprunts'!$D$15<$A13,VLOOKUP($A13,'emprunt 1'!$G$2:$K$12,4,FALSE),0),"ANNEE NON COUVERTE") -> 0 | E13: =IFERROR(IF('liste emprunts'!$D$15<$A13,VLOOKUP($A13,'emprunt 1'!$G$2:$K$12,5,FALSE),0),"ANNEE NON COUVERTE") -> 0 | F13: =(B13-B12)/B12 -> #DIV/0! | G13: =(C13-C12)/C12 -> #DIV/0! | H13: =B13-B12 -> 1500000 | I13: =C13-C12 -> 0 | K13: =K12+1 -> 2022 | L13: =L12-N12 -> 2369473.5 | M13: =N13+O13 -> 419876.32 | N13: 315276.29 | O13: 104600.03 | P13: =(L13-L12)/L12 -> -0.11313301 | Q13: =(M13-M12)/M12 -> -9.5266058e-07 | R13: =L13-L12 -> -302261.41 | S13: =M13-M12 -> -0.4 | U13: =U12+1 -> 2022 | V13: =V12-X12 -> 778949.06 | W13: =X13+Y13 -> 143792.17 | X13: 111300.31 | Y13: 32491.86 | Z13: =(V13-V12)/V12 -> -0.1212135 | AA13: =(W13-W12)/W12 -> -0.0051840482 | AB13: =V13-V12 -> -107442.64 | AC13: =W13-W12 -> -749.31
A14: =A13+1 -> 2023 | B14: =IF('liste emprunts'!$D$15='simul emprunt 1'!$A$12:$A$25,'liste emprunts'!$C$15,B13-D13) -> 1500000 | D14: =IFERROR(IF('liste emprunts'!$D$15<$A14,VLOOKUP($A14,'emprunt 1'!$G$2:$K$12,4,FALSE),0),"ANNEE NON COUVERTE") -> 150000 | E14: =IFERROR(IF('liste emprunts'!$D$15<$A14,VLOOKUP($A14,'emprunt 1'!$G$2:$K$12,5,FALSE),0),"ANNEE NON COUVERTE") -> 48750 | F14: =(B14-B13)/B13 -> 0 | G14: =(C14-C13)/C13 -> #DIV/0! | H14: =B14-B13 -> 0 | I14: =C14-C13 -> 0 | K14: =K13+1 -> 2023 | L14: =L13-N13 -> 2054197.2 | M14: =N14+O14 -> 419876.72 | N14: 328873.82 | O14: 91002.9 | P14: =(L14-L13)/L13 -> -0.13305753 | Q14: =(M14-M13)/M13 -> 9.5266149e-07 | R14: =L14-L13 -> -315276.29 | S14: =M14-M13 -> 0.4 | U14: =U13+1 -> 2023 | V14: =V13-X13 -> 667648.75 | W14: =X14+Y14 -> 143038.57 | X14: 115341.27 | Y14: 27697.3 | Z14: =(V14-V13)/V13 -> -0.14288522 | AA14: =(W14-W13)/W13 -> -0.0052408973 | AB14: =V14-V13 -> -111300.31 | AC14: =W14-W13 -> -753.6
A15: =A14+1 -> 2024 | B15: =IF('liste emprunts'!$D$15='simul emprunt 1'!$A$12:$A$25,'liste emprunts'!$C$15,B14-D14) -> 1350000 | D15: =IFERROR(IF('liste emprunts'!$D$15<$A15,VLOOKUP($A15,'emprunt 1'!$G$2:$K$12,4,FALSE),0),"ANNEE NON COUVERTE") -> 150000 | E15: =IFERROR(IF('liste emprunts'!$D$15<$A15,VLOOKUP($A15,'emprunt 1'!$G$2:$K$12,5,FALSE),0),"ANNEE NON COUVERTE") -> 43875 | F15: =(B15-B14)/B14 -> -0.1 | G15: =(C15-C14)/C14 -> #DIV/0! | H15: =B15-B14 -> -150000 | I15: =C15-C14 -> 0 | K15: =K14+1 -> 2024 | L15: =L14-N14 -> 1725323.4 | M15: =N15+O15 -> 419876.72 | N15: 343079.81 | O15: 76796.91 | P15: =(L15-L14)/L14 -> -0.16009846 | Q15: =(M15-M14)/M14 -> 0 | R15: =L15-L14 -> -328873.82 | S15: =M15-M14 -> 0 | U15: =U14+1 -> 2024 | V15: =V14-X14 -> 552307.48 | W15: =X15+Y15 -> 143353.13 | X15: 120646.89 | Y15: 22706.24 | Z15: =(V15-V14)/V14 -> -0.17275741 | AA15: =(W15-W14)/W14 -> 0.0021991271 | AB15: =V15-V14 -> -115341.27 | AC15: =W15-W14 -> 314.56
A16: =A15+1 -> 2025 | B16: =IF('liste emprunts'!$D$15='simul emprunt 1'!$A$12:$A$25,'liste emprunts'!$C$15,B15-D15) -> 1200000 | D16: =IFERROR(IF('liste emprunts'!$D$15<$A16,VLOOKUP($A16,'emprunt 1'!$G$2:$K$12,4,FALSE),0),"ANNEE NON COUVERTE") -> 150000 | E16: =IFERROR(IF('liste emprunts'!$D$15<$A16,VLOOKUP($A16,'emprunt 1'!$G$2:$K$12,5,FALSE),0),"ANNEE NON COUVERTE") -> 39000 | F16: =(B16-B15)/B15 -> -0.11111111 | G16: =(C16-C15)/C15 -> #DIV/0! | H16: =B16-B15 -> -150000 | I16: =C16-C15 -> 0 | K16: =K15+1 -> 2025 | L16: =L15-N15 -> 1382243.6 | M16: =N16+O16 -> 419876.72 | N16: 357922.91 | O16: 61953.81 | P16: =(L16-L15)/L15 -> -0.19884956 | Q16: =(M16-M15)/M15 -> 0 | R16: =L16-L15 -> -343079.81 | S16: =M16-M15 -> 0 | U16: =U15+1 -> 2025 | V16: =V15-X15 -> 431660.59 | W16: =X16+Y16 -> 142814.33 | X16: 125304.88 | Y16: 17509.45 | Z16: =(V16-V15)/V15 -> -0.21844153 | AA16: =(W16-W15)/W15 -> -0.0037585507 | AB16: =V16-V15 -> -120646.89 | AC16: =W16-W15 -> -538.8
A17: =A16+1 -> 2026 | B17: =IF('liste emprunts'!$D$15='simul emprunt 1'!$A$12:$A$25,'liste emprunts'!$C$15,B16-D16) -> 1050000 | D17: =IFERROR(IF('liste emprunts'!$D$15<$A17,VLOOKUP($A17,'emprunt 1'!$G$2:$K$12,4,FALSE),0),"ANNEE NON COUVERTE") -> 150000 | E17: =IFERROR(IF('liste emprunts'!$D$15<$A17,VLOOKUP($A17,'emprunt 1'!$G$2:$K$12,5,FALSE),0),"ANNEE NON COUVERTE") -> 34125 | F17: =(B17-B16)/B16 -> -0.125 | G17: =(C17-C16)/C16 -> #DIV/0! | H17: =B17-B16 -> -150000 | I17: =C17-C16 -> 0 | K17: =K16+1 -> 2026 | L17: =L16-N16 -> 1024320.7 | M17: =N17+O17 -> 342640.67 | N17: 295552.98 | O17: 47087.69 | P17: =(L17-L16)/L16 -> -0.25894343 | Q17: =(M17-M16)/M16 -> -0.18394935 | R17: =L17-L16 -> -357922.91 | S17: =M17-M16 -> -77236.05 | U17: =U16+1 -> 2026 | V17: =V16-X16 -> 306355.71 | W17: =X17+Y17 -> 124149.6 | X17: 111940.93 | Y17: 12208.67 | Z17: =(V17-V16)/V16 -> -0.29028566 | AA17: =(W17-W16)/W16 -> -0.13069228 | AB17: =V17-V16 -> -125304.88 | AC17: =W17-W16 -> -18664.73
A18: =A17+1 -> 2027 | B18: =IF('liste emprunts'!$D$15='simul emprunt 1'!$A$12:$A$25,'liste emprunts'!$C$15,B17-D17) -> 900000 | D18: =IFERROR(IF('liste emprunts'!$D$15<$A18,VLOOKUP($A18,'emprunt 1'!$G$2:$K$12,4,FALSE),0),"ANNEE NON COUVERTE") -> 150000 | E18: =IFERROR(IF('liste emprunts'!$D$15<$A18,VLOOKUP($A18,'emprunt 1'!$G$2:$K$12,5,FALSE),0),"ANNEE NON COUVERTE") -> 29250 | F18: =(B18-B17)/B17 -> -0.14285714 | G18: =(C18-C17)/C17 -> #DIV/0! | H18: =B18-B17 -> -150000 | I18: =C18-C17 -> 0 | K18: =K17+1 -> 2027 | L18: =L17-N17 -> 728767.73 | M18: =N18+O18 -> 162515.29 | N18: 125714.69 | O18: 36800.6 | P18: =(L18-L17)/L17 -> -0.28853559 | Q18: =(M18-M17)/M17 -> -0.52569761 | R18: =L18-L17 -> -295552.98 | S18: =M18-M17 -> -180125.38 | U18: =U17+1 -> 2027 | V18: =V17-X17 -> 194414.78 | W18: =X18+Y18 -> 123610.84 | X18: 116740 | Y18: 6870.84 | Z18: =(V18-V17)/V17 -> -0.36539528 | AA18: =(W18-W17)/W17 -> -0.0043396032 | AB18: =V18-V17 -> -111940.93 | AC18: =W18-W17 -> -538.76
A19: =A18+1 -> 2028 | B19: =IF('liste emprunts'!$D$15='simul emprunt 1'!$A$12:$A$25,'liste emprunts'!$C$15,B18-D18) -> 750000 | D19: =IFERROR(IF('liste emprunts'!$D$15<$A19,VLOOKUP($A19,'emprunt 1'!$G$2:$K$12,4,FALSE),0),"ANNEE NON COUVERTE") -> 150000 | E19: =IFERROR(IF('liste emprunts'!$D$15<$A19,VLOOKUP($A19,'emprunt 1'!$G$2:$K$12,5,FALSE),0),"ANNEE NON COUVERTE") -> 24375 | F19: =(B19-B18)/B18 -> -0.16666667 | G19: =(C19-C18)/C18 -> #DIV/0! | H19: =B19-B18 -> -150000 | I19: =C19-C18 -> 0 | K19: =K18+1 -> 2028 | L19: =L18-N18 -> 603053.04 | M19: =N19+O19 -> 148479.08 | N19: 117956 | O19: 30523.08 | P19: =(L19-L18)/L18 -> -0.1725031 | Q19: =(M19-M18)/M18 -> -0.08636855 | R19: =L19-L18 -> -125714.69 | S19: =M19-M18 -> -14036.21 | U19: =U18+1 -> 2028 | V19: =V18-X18 -> 77674.78 | W19: =X19+Y19 -> 44169.29 | X19: 41888.43 | Y19: 2280.86 | Z19: =(V19-V18)/V18 -> -0.60046875 | AA19: =(W19-W18)/W18 -> -0.64267462 | AB19: =V19-V18 -> -116740 | AC19: =W19-W18 -> -79441.55
A20: =A19+1 -> 2029 | B20: =IF('liste emprunts'!$D$15='simul emprunt 1'!$A$12:$A$25,'liste emprunts'!$C$15,B19-D19) -> 600000 | D20: =IFERROR(IF('liste emprunts'!$D$15<$A20,VLOOKUP($A20,'emprunt 1'!$G$2:$K$12,4,FALSE),0),"ANNEE NON COUVERTE") -> 150000 | E20: =IFERROR(IF('liste emprunts'!$D$15<$A20,VLOOKUP($A20,'emprunt 1'!$G$2:$K$12,5,FALSE),0),"ANNEE NON COUVERTE") -> 19500 | F20: =(B20-B19)/B19 -> -0.2 | G20: =(C20-C19)/C19 -> #DIV/0! | H20: =B20-B19 -> -150000 | I20: =C20-C19 -> 0 | K20: =K19+1 -> 2029 | L20: =L19-N19 -> 485097.04 | M20: =N20+O20 -> 148479.08 | N20: 124533.93 | O20: 23945.15 | P20: =(L20-L19)/L19 -> -0.19559805 | Q20: =(M20-M19)/M19 -> -1.96013e-16 | R20: =L20-L19 -> -117956 | S20: =M20-M19 -> 0 | U20: =U19+1 -> 2029 | V20: =V19-X19 -> 35786.35 | W20: =X20+Y20 -> 13914.22 | X20: =3125+3125+3125+3125 -> 12500 | Y20: =404.06+370.39+336.72+303.05 -> 1414.22 | Z20: =(V20-V19)/V19 -> -0.53927967 | AA20: =(W20-W19)/W19 -> -0.68497977 | AB20: =V20-V19 -> -41888.43 | AC20: =W20-W19 -> -30255.07
A21: =A20+1 -> 2030 | B21: =IF('liste emprunts'!$D$15='simul emprunt 1'!$A$12:$A$25,'liste emprunts'!$C$15,B20-D20) -> 450000 | D21: =IFERROR(IF('liste emprunts'!$D$15<$A21,VLOOKUP($A21,'emprunt 1'!$G$2:$K$12,4,FALSE),0),"ANNEE NON COUVERTE") -> 150000 | E21: =IFERROR(IF('liste emprunts'!$D$15<$A21,VLOOKUP($A21,'emprunt 1'!$G$2:$K$12,5,FALSE),0),"ANNEE NON COUVERTE") -> 14625 | F21: =(B21-B20)/B20 -> -0.25 | G21: =(C21-C20)/C20 -> #DIV/0! | H21: =B21-B20 -> -150000 | I21: =C21-C20 -> 0 | K21: =K20+1 -> 2030 | L21: =L20-N20 -> 360563.11 | M21: =N21+O21 -> 148479.08 | N21: 131479.31 | O21: 16999.77 | P21: =(L21-L20)/L20 -> -0.25671962 | Q21: =(M21-M20)/M20 -> 0 | R21: =L21-L20 -> -124533.93 | S21: =M21-M20 -> 0 | U21: =U20+1 -> 2030 | V21: =V20-X20 -> 23286.35 | W21: =X21+Y21 -> 13375.47 | X21: =3125+3125+3125+3125 -> 12500 | Y21: 875.47 | Z21: =(V21-V20)/V20 -> -0.34929519 | AA21: =(W21-W20)/W20 -> -0.038719382 | AB21: =V21-V20 -> -12500 | AC21: =W21-W20 -> -538.75
A22: =A21+1 -> 2031 | B22: =IF('liste emprunts'!$D$15='simul emprunt 1'!$A$12:$A$25,'liste emprunts'!$C$15,B21-D21) -> 300000 | D22: =IFERROR(IF('liste emprunts'!$D$15<$A22,VLOOKUP($A22,'emprunt 1'!$G$2:$K$12,4,FALSE),0),"ANNEE NON COUVERTE") -> 150000 | E22: =IFERROR(IF('liste emprunts'!$D$15<$A22,VLOOKUP($A22,'emprunt 1'!$G$2:$K$12,5,FALSE),0),"ANNEE NON COUVERTE") -> 9750 | F22: =(B22-B21)/B21 -> -0.33333333 | G22: =(C22-C21)/C21 -> #DIV/0! | H22: =B22-B21 -> -150000 | I22: =C22-C21 -> 0 | K22: =K21+1 -> 2031 | L22: =L21-N21 -> 229083.8 | M22: =N22+O22 -> 148479.08 | N22: 138812.68 | O22: 9666.4 | P22: =(L22-L21)/L21 -> -0.36464992 | Q22: =(M22-M21)/M21 -> 0 | R22: =L22-L21 -> -131479.31 | S22: =M22-M21 -> 0 | U22: =U21+1 -> 2031 | V22: =V21-X21 -> 10786.35 | W22: =X22+Y22 -> 12836.72 | X22: =3125+3125+3125+3125 -> 12500 | Y22: =134.69+101.02+67.34+33.67 -> 336.72 | Z22: =(V22-V21)/V21 -> -0.53679516 | AA22: =(W22-W21)/W21 -> -0.040278958 | AB22: =V22-V21 -> -12500 | AC22: =W22-W21 -> -538.75
A23: =A22+1 -> 2032 | B23: =IF('liste emprunts'!$D$15='simul emprunt 1'!$A$12:$A$25,'liste emprunts'!$C$15,B22-D22) -> 150000 | D23: =IFERROR(IF('liste emprunts'!$D$15<$A23,VLOOKUP($A23,'emprunt 1'!$G$2:$K$12,4,FALSE),0),"ANNEE NON COUVERTE") -> 150000 | E23: =IFERROR(IF('liste emprunts'!$D$15<$A23,VLOOKUP($A23,'emprunt 1'!$G$2:$K$12,5,FALSE),0),"ANNEE NON COUVERTE") -> 4875 | F23: =(B23-B22)/B22 -> -0.5 | G23: =(C23-C22)/C22 -> #DIV/0! | H23: =B23-B22 -> -150000 | I23: =C23-C22 -> 0 | K23: 2032 | L23: =L22-N22 -> 90271.12 | M23: =N23+O23 -> 92462.97 | N23: 90270.72 | O23: 2192.25 | P23: =(L23-L22)/L22 -> -0.60594717 | Q23: =(M23-M22)/M22 -> -0.37726601 | R23: =L23-L22 -> -138812.68 | S23: =M23-M22 -> -56016.11 | U23: 2032 | AA23: =(W23-W22)/W22 -> -1 | AB23: =V23-V22 -> -10786.35 | AC23: =W23-W22 -> -12836.72
A24: =A23+1 -> 2033 | B24: =IF('liste emprunts'!$D$15='simul emprunt 1'!$A$12:$A$25,'liste emprunts'!$C$15,B23-D23) -> 0 | D24: =IFERROR(IF('liste emprunts'!$D$15<$A24,VLOOKUP($A24,'emprunt 1'!$G$2:$K$12,4,FALSE),0),"ANNEE NON COUVERTE") -> ANNEE NON COUVERTE | E24: =IFERROR(IF('liste emprunts'!$D$15<$A24,VLOOKUP($A24,'emprunt 1'!$G$2:$K$12,5,FALSE),0),"ANNEE NON COUVERTE") -> ANNEE NON COUVERTE | F24: =(B24-B23)/B23 -> -1 | G24: =(C24-C23)/C23 -> #DIV/0! | H24: =B24-B23 -> -150000 | I24: =C24-C23 -> 0 | R24: =L24-L23 -> -90271.12 | S24: =M24-M23 -> -92462.97
A25: =A24+1 -> 2034 | B25: =IF('liste emprunts'!$D$15='simul emprunt 1'!$A$12:$A$25,'liste emprunts'!$C$15,B24-D24) -> #VALUE! | D25: =IFERROR(IF('liste emprunts'!$D$15<$A25,VLOOKUP($A25,'emprunt 1'!$G$2:$K$12,4,FALSE),0),"ANNEE NON COUVERTE") -> ANNEE NON COUVERTE | E25: =IFERROR(IF('liste emprunts'!$D$15<$A25,VLOOKUP($A25,'emprunt 1'!$G$2:$K$12,5,FALSE),0),"ANNEE NON COUVERTE") -> ANNEE NON COUVERTE | F25: =(B25-B24)/B24 -> #VALUE! | G25: =(C25-C24)/C24 -> #DIV/0! | H25: =B25-B24 -> #VALUE! | I25: =C25-C24 -> 0
F26: =(B26-B25)/B25 -> #VALUE! | G26: =(C26-C25)/C25 -> #DIV/0! | H26: =B26-B25 -> #VALUE! | I26: =C26-C25 -> 0

Sheet emprunt 1
A1: montant emprunté | B1: ='liste emprunts'!C15 -> 1500000 | F1: Période | G1: Date | H1: Nombre de jours de la période | I1: Capital restant dû DdP (CRD) | J1: Remboursement de capital | K1: Intérêts | L1: Annuité (selon période) | M1: Capital restant dû FdP (CRD)
A2: Date de souscription | B2: ='liste emprunts'!D15 -> 2022 | F2: 0 | G2: =B2 -> 2022 | M2: =B1 -> 1500000
A3: Durée | B3: ='liste emprunts'!E15 -> 10 | F3: =IF(COUNT(F$1:F2)>$B$5,"",F2+1) -> 1 | G3: =IF(F3="","",IF($B$4="mensuelle",EDATE(G2,1),IF($B$4="trimestrielle",EDATE(G2,3),G2+1))) -> 2023 | H3: =IF(F3="","",G3-G2) -> 1 | I3: =IF(F3="","",M2) -> 1500000 | J3: =IF(F3="","",CHOOSE($B$9,$B$1/$B$5,(F3=$B$5)*$B$1,-PPMT(CHOOSE($C$4,$B$6/12,$B$6/4,$B$6),F3,$B$5,$B$1))) -> 150000 | K3: =IF(F3="","",CHOOSE($C$4,$B$6/12,$B$6/4,$B$6)*I3) -> 48750 | L3: =IF(J3="","",J3+K3) -> 198750 | M3: =IF(F3="","",I3-J3) -> 1350000 | N3: =-PPMT(CHOOSE($C$4,$B$6/12,$B$6/4,$B$6),F3,$B$5,$B$1) -> 129346.61
A4: Périodicité | B4: annuelle | C4: =(B4="mensuelle")*1+(B4="trimestrielle")*2+(B4="annuelle")*3 -> 3 | F4: =IF(COUNT(F$1:F3)>$B$5,"",F3+1) -> 2 | G4: =IF(F4="","",IF($B$4="mensuelle",EDATE(G3,1),IF($B$4="trimestrielle",EDATE(G3,3),G3+1))) -> 2024 | H4: =IF(F4="","",G4-G3) -> 1 | I4: =IF(F4="","",M3) -> 1350000 | J4: =IF(F4="","",CHOOSE($B$9,$B$1/$B$5,(F4=$B$5)*$B$1,-PPMT(CHOOSE($C$4,$B$6/12,$B$6/4,$B$6),F4,$B$5,$B$1))) -> 150000 | K4: =IF(F4="","",CHOOSE($C$4,$B$6/12,$B$6/4,$B$6)*I4) -> 43875 | L4: =IF(J4="","",J4+K4) -> 193875 | M4: =IF(F4="","",I4-J4) -> 1200000 | N4: =-PPMT(CHOOSE($C$4,$B$6/12,$B$6/4,$B$6),F4,$B$5,$B$1) -> 133550.37
A5: Nombre de périodes | B5: =IF(B4="mensuelle",B3*12,IF(B4="trimestrielle",B3*4,IF(B4="annuelle",B3))) -> 10 | F5: =IF(COUNT(F$1:F4)>$B$5,"",F4+1) -> 3 | G5: =IF(F5="","",IF($B$4="mensuelle",EDATE(G4,1),IF($B$4="trimestrielle",EDATE(G4,3),G4+1))) -> 2025 | H5: =IF(F5="","",G5-G4) -> 1 | I5: =IF(F5="","",M4) -> 1200000 | J5: =IF(F5="","",CHOOSE($B$9,$B$1/$B$5,(F5=$B$5)*$B$1,-PPMT(CHOOSE($C$4,$B$6/12,$B$6/4,$B$6),F5,$B$5,$B$1))) -> 150000 | K5: =IF(F5="","",CHOOSE($C$4,$B$6/12,$B$6/4,$B$6)*I5) -> 39000 | L5: =IF(J5="","",J5+K5) -> 189000 | M5: =IF(F5="","",I5-J5) -> 1050000 | N5: =-PPMT(CHOOSE($C$4,$B$6/12,$B$6/4,$B$6),F5,$B$5,$B$1) -> 137890.76
A6: Taux d'intérêt | B6: ='liste emprunts'!G15 -> 0.0325 | E6: 146 | F6: =IF(COUNT(F$1:F5)>$B$5,"",F5+1) -> 4 | G6: =IF(F6="","",IF($B$4="mensuelle",EDATE(G5,1),IF($B$4="trimestrielle",EDATE(G5,3),G5+1))) -> 2026 | H6: =IF(F6="","",G6-G5) -> 1 | I6: =IF(F6="","",M5) -> 1050000 | J6: =IF(F6="","",CHOOSE($B$9,$B$1/$B$5,(F6=$B$5)*$B$1,-PPMT(CHOOSE($C$4,$B$6/12,$B$6/4,$B$6),F6,$B$5,$B$1))) -> 150000 | K6: =IF(F6="","",CHOOSE($C$4,$B$6/12,$B$6/4,$B$6)*I6) -> 34125 | L6: =IF(J6="","",J6+K6) -> 184125 | M6: =IF(F6="","",I6-J6) -> 900000 | N6: =-PPMT(CHOOSE($C$4,$B$6/12,$B$6/4,$B$6),F6,$B$5,$B$1) -> 142372.21
F7: =IF(COUNT(F$1:F6)>$B$5,"",F6+1) -> 5 | G7: =IF(F7="","",IF($B$4="mensuelle",EDATE(G6,1),IF($B$4="trimestrielle",EDATE(G6,3),G6+1))) -> 2027 | H7: =IF(F7="","",G7-G6) -> 1 | I7: =IF(F7="","",M6) -> 900000 | J7: =IF(F7="","",CHOOSE($B$9,$B$1/$B$5,(F7=$B$5)*$B$1,-PPMT(CHOOSE($C$4,$B$6/12,$B$6/4,$B$6),F7,$B$5,$B$1))) -> 150000 | K7: =IF(F7="","",CHOOSE($C$4,$B$6/12,$B$6/4,$B$6)*I7) -> 29250 | L7: =IF(J7="","",J7+K7) -> 179250 | M7: =IF(F7="","",I7-J7) -> 750000 | N7: =-PPMT(CHOOSE($C$4,$B$6/12,$B$6/4,$B$6),F7,$B$5,$B$1) -> 146999.31
F8: =IF(COUNT(F$1:F7)>$B$5,"",F7+1) -> 6 | G8: =IF(F8="","",IF($B$4="mensuelle",EDATE(G7,1),IF($B$4="trimestrielle",EDATE(G7,3),G7+1))) -> 2028 | H8: =IF(F8="","",G8-G7) -> 1 | I8: =IF(F8="","",M7) -> 750000 | J8: =IF(F8="","",CHOOSE($B$9,$B$1/$B$5,(F8=$B$5)*$B$1,-PPMT(CHOOSE($C$4,$B$6/12,$B$6/4,$B$6),F8,$B$5,$B$1))) -> 150000 | K8: =IF(F8="","",CHOOSE($C$4,$B$6/12,$B$6/4,$B$6)*I8) -> 24375 | L8: =IF(J8="","",J8+K8) -> 174375 | M8: =IF(F8="","",I8-J8) -> 600000 | N8: =-PPMT(CHOOSE($C$4,$B$6/12,$B$6/4,$B$6),F8,$B$5,$B$1) -> 151776.78
A9: Choix profil de remboursement | B9: 1 | F9: =IF(COUNT(F$1:F8)>$B$5,"",F8+1) -> 7 | G9: =IF(F9="","",IF($B$4="mensuelle",EDATE(G8,1),IF($B$4="trimestrielle",EDATE(G8,3),G8+1))) -> 2029 | H9: =IF(F9="","",G9-G8) -> 1 | I9: =IF(F9="","",M8) -> 600000 | J9: =IF(F9="","",CHOOSE($B$9,$B$1/$B$5,(F9=$B$5)*$B$1,-PPMT(CHOOSE($C$4,$B$6/12,$B$6/4,$B$6),F9,$B$5,$B$1))) -> 150000 | K9: =IF(F9="","",CHOOSE($C$4,$B$6/12,$B$6/4,$B$6)*I9) -> 19500 | L9: =IF(J9="","",J9+K9) -> 169500 | M9: =IF(F9="","",I9-J9) -> 450000 | N9: =-PPMT(CHOOSE($C$4,$B$6/12,$B$6/4,$B$6),F9,$B$5,$B$1) -> 156709.53
A10: Remboursement linéaire | F10: =IF(COUNT(F$1:F9)>$B$5,"",F9+1) -> 8 | G10: =IF(F10="","",IF($B$4="mensuelle",EDATE(G9,1),IF($B$4="trimestrielle",EDATE(G9,3),G9+1))) -> 2030 | H10: =IF(F10="","",G10-G9) -> 1 | I10: =IF(F10="","",M9) -> 450000 | J10: =IF(F10="","",CHOOSE($B$9,$B$1/$B$5,(F10=$B$5)*$B$1,-PPMT(CHOOSE($C$4,$B$6/12,$B$6/4,$B$6),F10,$B$5,$B$1))) -> 150000 | K10: =IF(F10="","",CHOOSE($C$4,$B$6/12,$B$6/4,$B$6)*I10) -> 14625 | L10: =IF(J10="","",J10+K10) -> 164625 | M10: =IF(F10="","",I10-J10) -> 300000 | N10: =-PPMT(CHOOSE($C$4,$B$6/12,$B$6/4,$B$6),F10,$B$5,$B$1) -> 161802.59
A11: Remboursement in fine | F11: =IF(COUNT(F$1:F10)>$B$5,"",F10+1) -> 9 | G11: =IF(F11="","",IF($B$4="mensuelle",EDATE(G10,1),IF($B$4="trimestrielle",EDATE(G10,3),G10+1))) -> 2031 | H11: =IF(F11="","",G11-G10) -> 1 | I11: =IF(F11="","",M10) -> 300000 | J11: =IF(F11="","",CHOOSE($B$9,$B$1/$B$5,(F11=$B$5)*$B$1,-PPMT(CHOOSE($C$4,$B$6/12,$B$6/4,$B$6),F11,$B$5,$B$1))) -> 150000 | K11: =IF(F11="","",CHOOSE($C$4,$B$6/12,$B$6/4,$B$6)*I11) -> 9750 | L11: =IF(J11="","",J11+K11) -> 159750 | M11: =IF(F11="","",I11-J11) -> 150000 | N11: =-PPMT(CHOOSE($C$4,$B$6/12,$B$6/4,$B$6),F11,$B$5,$B$1) -> 167061.17
A12: Remboursement p+i constant | F12: =IF(COUNT(F$1:F11)>$B$5,"",F11+1) -> 10 | G12: =IF(F12="","",IF($B$4="mensuelle",EDATE(G11,1),IF($B$4="trimestrielle",EDATE(G11,3),G11+1))) -> 2032 | H12: =IF(F12="","",G12-G11) -> 1 | I12: =IF(F12="","",M11) -> 150000 | J12: =IF(F12="","",CHOOSE($B$9,$B$1/$B$5,(F12=$B$5)*$B$1,-PPMT(CHOOSE($C$4,$B$6/12,$B$6/4,$B$6),F12,$B$5,$B$1))) -> 150000 | K12: =IF(F12="","",CHOOSE($C$4,$B$6/12,$B$6/4,$B$6)*I12) -> 4875 | L12: =IF(J12="","",J12+K12) -> 154875 | M12: =IF(F12="","",I12-J12) -> 0 | N12: =-PPMT(CHOOSE($C$4,$B$6/12,$B$6/4,$B$6),F12,$B$5,$B$1) -> 172490.66
F13: =IF(COUNT(F$1:F12)>$B$5,"",F12+1) | G13: =IF(F13="","",IF($B$4="mensuelle",EDATE(G12,1),IF($B$4="trimestrielle",EDATE(G12,3),EDATE(G12,12)))) | H13: =IF(F13="","",G13-G12) | I13: =IF(F13="","",M12) | J13: =IF(F13="","",CHOOSE($B$9,$B$1/$B$5,(F13=$B$5)*$B$1,-PPMT(CHOOSE($C$4,$B$6/12,$B$6/4,$B$6),F13,$B$5,$B$1))) | K13: =IF(F13="","",CHOOSE($C$4,$B$6/12,$B$6/4,$B$6)*I13) | L13: =IF(J13="","",J13+K13) | M13: =IF(F13="","",I13-J13) | N13: =-PPMT(CHOOSE($C$4,$B$6/12,$B$6/4,$B$6),F13,$B$5,$B$1) -> #VALUE!
A14: TOTAL INTERETS | B14: =SUM(K3:K300) -> 268125 | F14: =IF(COUNT(F$1:F13)>$B$5,"",F13+1) | G14: =IF(F14="","",IF($B$4="mensuelle",EDATE(G13,1),IF($B$4="trimestrielle",EDATE(G13,3),EDATE(G13,12)))) | H14: =IF(F14="","",G14-G13) | I14: =IF(F14="","",M13) | J14: =IF(F14="","",CHOOSE($B$9,$B$1/$B$5,(F14=$B$5)*$B$1,-PPMT(CHOOSE($C$4,$B$6/12,$B$6/4,$B$6),F14,$B$5,$B$1))) | K14: =IF(F14="","",CHOOSE($C$4,$B$6/12,$B$6/4,$B$6)*I14) | L14: =IF(J14="","",J14+K14) | M14: =IF(F14="","",I14-J14) | N14: =-PPMT(CHOOSE($C$4,$B$6/12,$B$6/4,$B$6),F14,$B$5,$B$1) -> #VALUE!
