Workbook
Name Classification: PARAM!$A$2:$A$7
Name Classification1: PARAM!$F$2:$F$7
Name Classification2: PARAM!$F$2:$F$8
Name Classification3: PARAM!$A$2:$A$8
Name janvier: BILAN_V1!$A$3:$A$4

Sheet CMA37 Coralie
A1: DATE | B1: Catégorie Reappel | D1: Finalités | E1: Volume | F1: % | H1: Finalités | I1: Volume | J1: % | L1: DATE | M1: Catégorie Transfert
A2: 44223 | B2: RDV REAPPEL | D2: RDV REAPPEL | E2: =COUNTIFS($A$2:$A$100,TODAY(),$B$2:$B$100,D2) -> 1 | F2: =(E2/$E$9) -> 0.5 | H2: RDV TRANSFERT | I2: =COUNTIFS($L$2:$L$100,TODAY(),$M$2:$M$100,H2) -> 0 | J2: =(I2/$I$9) -> #DIV/0! | L2: 44223
A3: 44223 | B3: INTERROMPU | D3: INTERROMPU | E3: =COUNTIFS($A$2:$A$100,TODAY(),$B$2:$B$100,D3) -> 1 | F3: =(E3/$E$9) -> 0.5 | H3: INTERROMPU | I3: =COUNTIF($M$2:$M$101,H3) -> 0 | J3: =(I3/$I$9) -> #DIV/0! | L3: 44223
A4: 44224 | B4: JE N'AI PAS REUSSI A PRENDRE RDV | D4: JE N'AI PAS REUSSI A PRENDRE RDV | E4: =COUNTIFS($A$2:$A$100,TODAY(),$B$2:$B$100,D4) -> 0 | F4: =(E4/$E$9) -> 0 | H4: JE N'AI PAS REUSSI A PRENDRE RDV | I4: =COUNTIF($M$2:$M$101,H4) -> 0 | J4: =(I4/$I$9) -> #DIV/0!
D5: JE NE POUVAIS PAS PRENDRE RDV | E5: =COUNTIFS($A$2:$A$100,TODAY(),$B$2:$B$100,D5) -> 0 | F5: =(E5/$E$9) -> 0 | H5: JE NE POUVAIS PAS PRENDRE RDV | I5: =COUNTIF($M$2:$M$101,H5) -> 0 | J5: =(I5/$I$9) -> #DIV/0!
D6: J'AI TRANSFERE VERS UN AUTRE SERVICE | E6: =COUNTIFS($A$2:$A$100,TODAY(),$B$2:$B$100,D6) -> 0 | F6: =(E6/$E$9) -> 0 | H6: J'AI TRANSFERE VERS UN AUTRE SERVICE | I6: =COUNTIF($M$2:$M$101,H6) -> 0 | J6: =(I6/$I$9) -> #DIV/0!
D7: ABANDONNE EN TRANSFERT | E7: =COUNTIFS($A$2:$A$100,TODAY(),$B$2:$B$100,D7) -> 0 | F7: =(E7/$E$9) -> 0 | H7: ABANDONNE EN TRANSFERT | I7: =COUNTIF($M$2:$M$101,H7) -> 0 | J7: =(I7/$I$9) -> #DIV/0!
D8: RAPPEL PROGRAMME | E8: =COUNTIFS($A$2:$A$100,TODAY(),$B$2:$B$100,D8) -> 0 | F8: =(E8/$E$9) -> 0 | H8: RAPPEL PROGRAMME | I8: =COUNTIF($M$2:$M$101,H8) -> 0 | J8: =(I8/$I$9) -> #DIV/0!
D9: TOTAL | E9: =SUM(E2:E7) -> 2 | F9: =(E9/$E$9) -> 1 | H9: TOTAL | I9: =SUM(I2:I7) -> 0 | J9: =(I9/$I$9) -> #DIV/0!

Sheet BILAN_V2
A3: TAUX | B3: CATEGORIE
A4: DATE | B4: INTERROMPU | C4: RDV REAPPEL | D4: Total général
A5: 44223 | B5: 0.5 | C5: 0.5 | D5: 1
A6: Total général | B6: 0.5 | C6: 0.5 | D6: 1

Sheet BILAN_V1
B1: Catégorie Reappel | I1: Catégorie Transfert
A2: DATE | B2: RDV REAPPEL | C2: INTERROMPU | D2: JE N'AI PAS REUSSI A PRENDRE RDV | E2: JE NE POUVAIS PAS PRENDRE RDV | F2: J'AI TRANSFERE VERS UN AUTRE SERVICE | G2: ABANDONNE EN TRANSFERT | H2: RAPPEL PROGRAMME | I2: RDV TRANSFERT | J2: INTERROMPU | K2: JE N'AI PAS REUSSI A PRENDRE RDV | L2: JE NE POUVAIS PAS PRENDRE RDV | M2: J'AI TRANSFERE VERS UN AUTRE SERVICE | N2: ABANDONNE EN TRANSFERT | O2: RAPPEL PROGRAMME
A3: =TODAY() -> 44223 | B3: =IFERROR(COUNTIFS('CMA37 Coralie'!$A$2:$A$101,$A3,'CMA37 Coralie'!$B$2:$B$101,B$2)/COUNTIF('CMA37 Coralie'!$A$2:$A$101,$A3),0) -> 0.5 | C3: =IFERROR(COUNTIFS('CMA37 Coralie'!$A$2:$A$101,$A3,'CMA37 Coralie'!$B$2:$B$101,C$2)/COUNTIF('CMA37 Coralie'!$A$2:$A$101,$A3),0) -> 0.5 | D3: =IFERROR(COUNTIFS('CMA37 Coralie'!$A$2:$A$101,$A3,'CMA37 Coralie'!$B$2:$B$101,D$2)/COUNTIF('CMA37 Coralie'!$A$2:$A$101,$A3),0) -> 0 | E3: =IFERROR(COUNTIFS('CMA37 Coralie'!$A$2:$A$101,$A3,'CMA37 Coralie'!$B$2:$B$101,E$2)/COUNTIF('CMA37 Coralie'!$A$2:$A$101,$A3),0) -> 0 | F3: =IFERROR(COUNTIFS('CMA37 Coralie'!$A$2:$A$101,$A3,'CMA37 Coralie'!$B$2:$B$101,F$2)/COUNTIF('CMA37 Coralie'!$A$2:$A$101,$A3),0) -> 0 | G3: =IFERROR(COUNTIFS('CMA37 Coralie'!$A$2:$A$101,$A3,'CMA37 Coralie'!$B$2:$B$101,G$2)/COUNTIF('CMA37 Coralie'!$A$2:$A$101,$A3),0) -> 0 | H3: =IFERROR(COUNTIFS('CMA37 Coralie'!$A$2:$A$101,$A3,'CMA37 Coralie'!$B$2:$B$101,H$2)/COUNTIF('CMA37 Coralie'!$A$2:$A$101,$A3),0) -> 0 | I3: =IFERROR(COUNTIFS('CMA37 Coralie'!$L$2:$L$101,$A3,'CMA37 Coralie'!$M$2:$M$101,B$2)/COUNTIF('CMA37 Coralie'!$L$2:$L$101,$A3),0) -> 0 | J3: =IFERROR(COUNTIFS('CMA37 Coralie'!$L$2:$L$101,$A3,'CMA37 Coralie'!$M$2:$M$101,C$2)/COUNTIF('CMA37 Coralie'!$L$2:$L$101,$A3),0) -> 0 | K3: =IFERROR(COUNTIFS('CMA37 Coralie'!$L$2:$L$101,$A3,'CMA37 Coralie'!$M$2:$M$101,D$2)/COUNTIF('CMA37 Coralie'!$L$2:$L$101,$A3),0) -> 0 | L3: =IFERROR(COUNTIFS('CMA37 Coralie'!$L$2:$L$101,$A3,'CMA37 Coralie'!$M$2:$M$101,E$2)/COUNTIF('CMA37 Coralie'!$L$2:$L$101,$A3),0) -> 0 | M3: =IFERROR(COUNTIFS('CMA37 Coralie'!$L$2:$L$101,$A3,'CMA37 Coralie'!$M$2:$M$101,F$2)/COUNTIF('CMA37 Coralie'!$L$2:$L$101,$A3),0) -> 0 | N3: =IFERROR(COUNTIFS('CMA37 Coralie'!$L$2:$L$101,$A3,'CMA37 Coralie'!$M$2:$M$101,G$2)/COUNTIF('CMA37 Coralie'!$L$2:$L$101,$A3),0) -> 0 | O3: =IFERROR(COUNTIFS('CMA37 Coralie'!$L$2:$L$101,$A3,'CMA37 Coralie'!$M$2:$M$101,H$2)/COUNTIF('CMA37 Coralie'!$L$2:$L$101,$A3),0) -> 0
A4: =A3+1 -> 44224 | B4: =IFERROR(COUNTIFS('CMA37 Coralie'!$A$2:$A$101,$A4,'CMA37 Coralie'!$B$2:$B$101,B$2)/COUNTIF('CMA37 Coralie'!$A$2:$A$101,$A4),0) -> 0 | C4: =IFERROR(COUNTIFS('CMA37 Coralie'!$A$2:$A$101,$A4,'CMA37 Coralie'!$B$2:$B$101,C$2)/COUNTIF('CMA37 Coralie'!$A$2:$A$101,$A4),0) -> 0 | D4: =IFERROR(COUNTIFS('CMA37 Coralie'!$A$2:$A$101,$A4,'CMA37 Coralie'!$B$2:$B$101,D$2)/COUNTIF('CMA37 Coralie'!$A$2:$A$101,$A4),0) -> 1 | E4: =IFERROR(COUNTIFS('CMA37 Coralie'!$A$2:$A$101,$A4,'CMA37 Coralie'!$B$2:$B$101,E$2)/COUNTIF('CMA37 Coralie'!$A$2:$A$101,$A4),0) -> 0 | F4: =IFERROR(COUNTIFS('CMA37 Coralie'!$A$2:$A$101,$A4,'CMA37 Coralie'!$B$2:$B$101,F$2)/COUNTIF('CMA37 Coralie'!$A$2:$A$101,$A4),0) -> 0 | G4: =IFERROR(COUNTIFS('CMA37 Coralie'!$A$2:$A$101,$A4,'CMA37 Coralie'!$B$2:$B$101,G$2)/COUNTIF('CMA37 Coralie'!$A$2:$A$101,$A4),0) -> 0 | H4: =IFERROR(COUNTIFS('CMA37 Coralie'!$A$2:$A$101,$A4,'CMA37 Coralie'!$B$2:$B$101,H$2)/COUNTIF('CMA37 Coralie'!$A$2:$A$101,$A4),0) -> 0 | I4: =IFERROR(COUNTIFS('CMA37 Coralie'!$L$2:$L$101,$A4,'CMA37 Coralie'!$M$2:$M$101,B$2)/COUNTIF('CMA37 Coralie'!$L$2:$L$101,$A4),0) -> 0 | J4: =IFERROR(COUNTIFS('CMA37 Coralie'!$L$2:$L$101,$A4,'CMA37 Coralie'!$M$2:$M$101,C$2)/COUNTIF('CMA37 Coralie'!$L$2:$L$101,$A4),0) -> 0 | K4: =IFERROR(COUNTIFS('CMA37 Coralie'!$L$2:$L$101,$A4,'CMA37 Coralie'!$M$2:$M$101,D$2)/COUNTIF('CMA37 Coralie'!$L$2:$L$101,$A4),0) -> 0 | L4: =IFERROR(COUNTIFS('CMA37 Coralie'!$L$2:$L$101,$A4,'CMA37 Coralie'!$M$2:$M$101,E$2)/COUNTIF('CMA37 Coralie'!$L$2:$L$101,$A4),0) -> 0 | M4: =IFERROR(COUNTIFS('CMA37 Coralie'!$L$2:$L$101,$A4,'CMA37 Coralie'!$M$2:$M$101,F$2)/COUNTIF('CMA37 Coralie'!$L$2:$L$101,$A4),0) -> 0 | N4: =IFERROR(COUNTIFS('CMA37 Coralie'!$L$2:$L$101,$A4,'CMA37 Coralie'!$M$2:$M$101,G$2)/COUNTIF('CMA37 Coralie'!$L$2:$L$101,$A4),0) -> 0 | O4: =IFERROR(COUNTIFS('CMA37 Coralie'!$L$2:$L$101,$A4,'CMA37 Coralie'!$M$2:$M$101,H$2)/COUNTIF('CMA37 Coralie'!$L$2:$L$101,$A4),0) -> 0
A5: =A4+1 -> 44225 | B5: =IFERROR(COUNTIFS('CMA37 Coralie'!$A$2:$A$101,$A5,'CMA37 Coralie'!$B$2:$B$101,B$2)/COUNTIF('CMA37 Coralie'!$A$2:$A$101,$A5),0) -> 0 | C5: =IFERROR(COUNTIFS('CMA37 Coralie'!$A$2:$A$101,$A5,'CMA37 Coralie'!$B$2:$B$101,C$2)/COUNTIF('CMA37 Coralie'!$A$2:$A$101,$A5),0) -> 0 | D5: =IFERROR(COUNTIFS('CMA37 Coralie'!$A$2:$A$101,$A5,'CMA37 Coralie'!$B$2:$B$101,D$2)/COUNTIF('CMA37 Coralie'!$A$2:$A$101,$A5),0) -> 0 | E5: =IFERROR(COUNTIFS('CMA37 Coralie'!$A$2:$A$101,$A5,'CMA37 Coralie'!$B$2:$B$101,E$2)/COUNTIF('CMA37 Coralie'!$A$2:$A$101,$A5),0) -> 0 | F5: =IFERROR(COUNTIFS('CMA37 Coralie'!$A$2:$A$101,$A5,'CMA37 Coralie'!$B$2:$B$101,F$2)/COUNTIF('CMA37 Coralie'!$A$2:$A$101,$A5),0) -> 0 | G5: =IFERROR(COUNTIFS('CMA37 Coralie'!$A$2:$A$101,$A5,'CMA37 Coralie'!$B$2:$B$101,G$2)/COUNTIF('CMA37 Coralie'!$A$2:$A$101,$A5),0) -> 0 | H5: =IFERROR(COUNTIFS('CMA37 Coralie'!$A$2:$A$101,$A5,'CMA37 Coralie'!$B$2:$B$101,H$2)/COUNTIF('CMA37 Coralie'!$A$2:$A$101,$A5),0) -> 0 | I5: =IFERROR(COUNTIFS('CMA37 Coralie'!$L$2:$L$101,$A5,'CMA37 Coralie'!$M$2:$M$101,B$2)/COUNTIF('CMA37 Coralie'!$L$2:$L$101,$A5),0) -> 0 | J5: =IFERROR(COUNTIFS('CMA37 Coralie'!$L$2:$L$101,$A5,'CMA37 Coralie'!$M$2:$M$101,C$2)/COUNTIF('CMA37 Coralie'!$L$2:$L$101,$A5),0) -> 0 | K5: =IFERROR(COUNTIFS('CMA37 Coralie'!$L$2:$L$101,$A5,'CMA37 Coralie'!$M$2:$M$101,D$2)/COUNTIF('CMA37 Coralie'!$L$2:$L$101,$A5),0) -> 0 | L5: =IFERROR(COUNTIFS('CMA37 Coralie'!$L$2:$L$101,$A5,'CMA37 Coralie'!$M$2:$M$101,E$2)/COUNTIF('CMA37 Coralie'!$L$2:$L$101,$A5),0) -> 0 | M5: =IFERROR(COUNTIFS('CMA37 Coralie'!$L$2:$L$101,$A5,'CMA37 Coralie'!$M$2:$M$101,F$2)/COUNTIF('CMA37 Coralie'!$L$2:$L$101,$A5),0) -> 0 | N5: =IFERROR(COUNTIFS('CMA37 Coralie'!$L$2:$L$101,$A5,'CMA37 Coralie'!$M$2:$M$101,G$2)/COUNTIF('CMA37 Coralie'!$L$2:$L$101,$A5),0) -> 0 | O5: =IFERROR(COUNTIFS('CMA37 Coralie'!$L$2:$L$101,$A5,'CMA37 Coralie'!$M$2:$M$101,H$2)/COUNTIF('CMA37 Coralie'!$L$2:$L$101,$A5),0) -> 0
A6: =A5+1 -> 44226 | B6: =IFERROR(COUNTIFS('CMA37 Coralie'!$A$2:$A$101,$A6,'CMA37 Coralie'!$B$2:$B$101,B$2)/COUNTIF('CMA37 Coralie'!$A$2:$A$101,$A6),0) -> 0 | C6: =IFERROR(COUNTIFS('CMA37 Coralie'!$A$2:$A$101,$A6,'CMA37 Coralie'!$B$2:$B$101,C$2)/COUNTIF('CMA37 Coralie'!$A$2:$A$101,$A6),0) -> 0 | D6: =IFERROR(COUNTIFS('CMA37 Coralie'!$A$2:$A$101,$A6,'CMA37 Coralie'!$B$2:$B$101,D$2)/COUNTIF('CMA37 Coralie'!$A$2:$A$101,$A6),0) -> 0 | E6: =IFERROR(COUNTIFS('CMA37 Coralie'!$A$2:$A$101,$A6,'CMA37 Coralie'!$B$2:$B$101,E$2)/COUNTIF('CMA37 Coralie'!$A$2:$A$101,$A6),0) -> 0 | F6: =IFERROR(COUNTIFS('CMA37 Coralie'!$A$2:$A$101,$A6,'CMA37 Coralie'!$B$2:$B$101,F$2)/COUNTIF('CMA37 Coralie'!$A$2:$A$101,$A6),0) -> 0 | G6: =IFERROR(COUNTIFS('CMA37 Coralie'!$A$2:$A$101,$A6,'CMA37 Coralie'!$B$2:$B$101,G$2)/COUNTIF('CMA37 Coralie'!$A$2:$A$101,$A6),0) -> 0 | H6: =IFERROR(COUNTIFS('CMA37 Coralie'!$A$2:$A$101,$A6,'CMA37 Coralie'!$B$2:$B$101,H$2)/COUNTIF('CMA37 Coralie'!$A$2:$A$101,$A6),0) -> 0 | I6: =IFERROR(COUNTIFS('CMA37 Coralie'!$L$2:$L$101,$A6,'CMA37 Coralie'!$M$2:$M$101,B$2)/COUNTIF('CMA37 Coralie'!$L$2:$L$101,$A6),0) -> 0 | J6: =IFERROR(COUNTIFS('CMA37 Coralie'!$L$2:$L$101,$A6,'CMA37 Coralie'!$M$2:$M$101,C$2)/COUNTIF('CMA37 Coralie'!$L$2:$L$101,$A6),0) -> 0 | K6: =IFERROR(COUNTIFS('CMA37 Coralie'!$L$2:$L$101,$A6,'CMA37 Coralie'!$M$2:$M$101,D$2)/COUNTIF('CMA37 Coralie'!$L$2:$L$101,$A6),0) -> 0 | L6: =IFERROR(COUNTIFS('CMA37 Coralie'!$L$2:$L$101,$A6,'CMA37 Coralie'!$M$2:$M$101,E$2)/COUNTIF('CMA37 Coralie'!$L$2:$L$101,$A6),0) -> 0 | M6: =IFERROR(COUNTIFS('CMA37 Coralie'!$L$2:$L$101,$A6,'CMA37 Coralie'!$M$2:$M$101,F$2)/COUNTIF('CMA37 Coralie'!$L$2:$L$101,$A6),0) -> 0 | N6: =IFERROR(COUNTIFS('CMA37 Coralie'!$L$2:$L$101,$A6,'CMA37 Coralie'!$M$2:$M$101,G$2)/COUNTIF('CMA37 Coralie'!$L$2:$L$101,$A6),0) -> 0 | O6: =IFERROR(COUNTIFS('CMA37 Coralie'!$L$2:$L$101,$A6,'CMA37 Coralie'!$M$2:$M$101,H$2)/COUNTIF('CMA37 Coralie'!$L$2:$L$101,$A6),0) -> 0
A7: =A6+1 -> 44227 | B7: =IFERROR(COUNTIFS('CMA37 Coralie'!$A$2:$A$101,$A7,'CMA37 Coralie'!$B$2:$B$101,B$2)/COUNTIF('CMA37 Coralie'!$A$2:$A$101,$A7),0) -> 0 | C7: =IFERROR(COUNTIFS('CMA37 Coralie'!$A$2:$A$101,$A7,'CMA37 Coralie'!$B$2:$B$101,C$2)/COUNTIF('CMA37 Coralie'!$A$2:$A$101,$A7),0) -> 0 | D7: =IFERROR(COUNTIFS('CMA37 Coralie'!$A$2:$A$101,$A7,'CMA37 Coralie'!$B$2:$B$101,D$2)/COUNTIF('CMA37 Coralie'!$A$2:$A$101,$A7),0) -> 0 | E7: =IFERROR(COUNTIFS('CMA37 Coralie'!$A$2:$A$101,$A7,'CMA37 Coralie'!$B$2:$B$101,E$2)/COUNTIF('CMA37 Coralie'!$A$2:$A$101,$A7),0) -> 0 | F7: =IFERROR(COUNTIFS('CMA37 Coralie'!$A$2:$A$101,$A7,'CMA37 Coralie'!$B$2:$B$101,F$2)/COUNTIF('CMA37 Coralie'!$A$2:$A$101,$A7),0) -> 0 | G7: =IFERROR(COUNTIFS('CMA37 Coralie'!$A$2:$A$101,$A7,'CMA37 Coralie'!$B$2:$B$101,G$2)/COUNTIF('CMA37 Coralie'!$A$2:$A$101,$A7),0) -> 0 | H7: =IFERROR(COUNTIFS('CMA37 Coralie'!$A$2:$A$101,$A7,'CMA37 Coralie'!$B$2:$B$101,H$2)/COUNTIF('CMA37 Coralie'!$A$2:$A$101,$A7),0) -> 0 | I7: =IFERROR(COUNTIFS('CMA37 Coralie'!$L$2:$L$101,$A7,'CMA37 Coralie'!$M$2:$M$101,B$2)/COUNTIF('CMA37 Coralie'!$L$2:$L$101,$A7),0) -> 0 | J7: =IFERROR(COUNTIFS('CMA37 Coralie'!$L$2:$L$101,$A7,'CMA37 Coralie'!$M$2:$M$101,C$2)/COUNTIF('CMA37 Coralie'!$L$2:$L$101,$A7),0) -> 0 | K7: =IFERROR(COUNTIFS('CMA37 Coralie'!$L$2:$L$101,$A7,'CMA37 Coralie'!$M$2:$M$101,D$2)/COUNTIF('CMA37 Coralie'!$L$2:$L$101,$A7),0) -> 0 | L7: =IFERROR(COUNTIFS('CMA37 Coralie'!$L$2:$L$101,$A7,'CMA37 Coralie'!$M$2:$M$101,E$2)/COUNTIF('CMA37 Coralie'!$L$2:$L$101,$A7),0) -> 0 | M7: =IFERROR(COUNTIFS('CMA37 Coralie'!$L$2:$L$101,$A7,'CMA37 Coralie'!$M$2:$M$101,F$2)/COUNTIF('CMA37 Coralie'!$L$2:$L$101,$A7),0) -> 0 | N7: =IFERROR(COUNTIFS('CMA37 Coralie'!$L$2:$L$101,$A7,'CMA37 Coralie'!$M$2:$M$101,G$2)/COUNTIF('CMA37 Coralie'!$L$2:$L$101,$A7),0) -> 0 | O7: =IFERROR(COUNTIFS('CMA37 Coralie'!$L$2:$L$101,$A7,'CMA37 Coralie'!$M$2:$M$101,H$2)/COUNTIF('CMA37 Coralie'!$L$2:$L$101,$A7),0) -> 0

Sheet PARAM
A1: Classification
A2: RDV REAPPEL | F2: RDV TRANSFERT
A3: INTERROMPU | F3: INTERROMPU
A4: JE N'AI PAS REUSSI A PRENDRE RDV | F4: JE N'AI PAS REUSSI A PRENDRE RDV
A5: JE NE POUVAIS PAS PRENDRE RDV | F5: JE NE POUVAIS PAS PRENDRE RDV
A6: J'AI TRANSFERE VERS UN AUTRE SERVICE | F6: J'AI TRANSFERE VERS UN AUTRE SERVICE
A7: ABANDONNE EN TRANSFERT | F7: ABANDONNE EN TRANSFERT
A8: RAPPEL PROGRAMME | F8: RAPPEL PROGRAMME
