Workbook

Sheet 1
C2: Januar | D2: Februar | E2: März | F2: April | G2: Mai | H2: Juni | I2: Juli | J2: August | K2: September | L2: Oktober | M2: November | N2: Dezember | S2: 40179 | T2: 19945
B3: 2010 | C3: 19945 | D3: 19268 | E3: 22359 | F3: 22133 | G3: 26783 | H3: 39111 | I3: 37099 | J3: 54617 | K3: 19805 | L3: 37073 | M3: 29771 | N3: 15927 | S3: 40210 | T3: 19268
B4: 2011 | C4: =[1]Januar!$G$14 -> 26731 | D4: =[1]Februar!$G$14 -> 24844 | E4: =[1]März!$G$14 -> 34186 | F4: =[1]April!$G$14 -> 28372 | G4: =[1]Mai!$G$14 -> 33016 | H4: =[1]Juni!$G$14 -> 38806 | I4: =[1]July!$G$14 -> 23556 | J4: =[1]August!$G$14 -> 27905 | K4: =[1]September!$G$14 -> 33882 | L4: 16586 | M4: 17576 | N4: 12887 | S4: 40238 | T4: 22359
B5: 2012 | C5: =[2]Januar!$G$14 -> 23710 | D5: =[2]Februar!$G$14 -> 18778 | E5: =[2]März!$G$14 -> 28726 | F5: =[2]April!$G$14 -> 23563 | G5: =[2]Mai!$G$14 -> 36823 | H5: =[2]Juni!$G$14 -> 49259 | I5: =[2]July!$G$14 -> 25272 | J5: =[2]August!$G$14 -> 20350 | K5: =[2]September!$G$14 -> 16535 | L5: =[2]Oktober!$G$14 -> 21350 | M5: =[2]November!$G$14 -> 14889 | N5: =[2]Dezember!$G$14 -> 10452 | S5: 40269 | T5: 22133
B6: 2013 | C6: =[3]Januar!$G$14 -> 22694 | D6: =[3]Februar!$G$14 -> 21671 | E6: =[3]März!$G$14 -> 22092 | F6: =[3]April!$G$14 -> 23618 | G6: =[3]Mai!$G$14 -> 11953 | H6: =[3]Juni!$G$14 -> 21331 | I6: =[3]July!$G$14 -> 28558 | J6: =[3]August!$G$14 -> 8936 | K6: =[3]September!$G$14 -> 19384 | L6: =[3]Oktober!$G$14 -> 20794 | M6: =[3]November!$G$14 -> 14998 | N6: =[3]Dezember!$G$14 -> 12996 | S6: 40299 | T6: 26783
B7: 2014 | C7: =[4]Januar!$G$14 -> 20912 | D7: =[4]Februar!$G$14 -> 17883 | E7: =[4]März!$G$14 -> 18887 | F7: =[4]April!$G$14 -> 23110 | G7: =[4]Mai!$G$14 -> 22590 | H7: =[4]Juni!$G$14 -> 20839 | I7: =[4]July!$G$14 -> 25626 | J7: =[4]August!$G$14 -> 8781 | K7: =[4]September!$G$14 -> 20969 | L7: =[4]Oktober!$G$14 -> 21156 | M7: =[4]November!$G$14 -> 22451 | N7: =[4]Dezember!$G$14 -> 13810 | S7: 40330 | T7: 39111
B8: 2015 | C8: =[5]Januar!$G$14 -> 19668 | D8: =[5]Februar!$G$14 -> 19948 | E8: =[5]März!$G$14 -> 23517 | F8: =[5]April!$G$14 -> 20004 | G8: =[5]Mai!$G$14 -> 17916 | H8: =[5]Juni!$G$14 -> 26432 | I8: =[5]July!$G$14 -> 24976 | J8: =[5]August!$G$14 -> 13126 | K8: =[5]September!$G$14 -> 24788 | L8: =[5]Oktober!$G$14 -> 20820 | M8: =[5]November!$G$14 -> 20293 | N8: =[5]Dezember!$G$14 -> 13089 | S8: 40360 | T8: 37099
B9: 2016 | C9: =[6]Januar!$G$14 -> 20886 | D9: =[6]Februar!$G$14 -> 22034 | E9: =[6]März!$G$14 -> 22040 | F9: =[6]April!$G$14 -> 21936 | G9: =[6]Mai!$G$14 -> 23087 | H9: =[6]Juni!$G$14 -> 23347 | I9: =[6]July!$G$14 -> 23449 | S9: 40391 | T9: 54617
S10: 40422 | T10: 19805
S11: 40452 | T11: 37073
S12: 40483 | T12: 29771
S13: 40513 | T13: 15927
S14: 40544 | T14: =[1]Januar!$G$14 -> 26731
S15: 40575 | T15: =[1]Februar!$G$14 -> 24844
S16: 40603 | T16: =[1]März!$G$14 -> 34186
S17: 40634 | T17: =[1]April!$G$14 -> 28372
S18: 40664 | T18: =[1]Mai!$G$14 -> 33016
S19: 40695 | T19: =[1]Juni!$G$14 -> 38806
S20: 40725 | T20: =[1]July!$G$14 -> 23556
S21: 40756 | T21: =[1]August!$G$14 -> 27905
S22: 40787 | T22: =[1]September!$G$14 -> 33882
S23: 40817 | T23: 16586
S24: 40848 | T24: 17576
S25: 40878 | T25: 12887
S26: 40909 | T26: =[2]Januar!$G$14 -> 23710
S27: 40940 | T27: =[2]Februar!$G$14 -> 18778
S28: 40969 | T28: =[2]März!$G$14 -> 28726
S29: 41000 | T29: =[2]April!$G$14 -> 23563
S30: 41030 | T30: =[2]Mai!$G$14 -> 36823
S31: 41061 | T31: =[2]Juni!$G$14 -> 49259
S32: 41091 | T32: =[2]July!$G$14 -> 25272
S33: 41122 | T33: =[2]August!$G$14 -> 20350
S34: 41153 | T34: =[2]September!$G$14 -> 16535
S35: 41183 | T35: =[2]Oktober!$G$14 -> 21350
S36: 41214 | T36: =[2]November!$G$14 -> 14889
S37: 41244 | T37: =[2]Dezember!$G$14 -> 10452
S38: 41275 | T38: =[3]Januar!$G$14 -> 22694
S39: 41306 | T39: =[3]Februar!$G$14 -> 21671
S40: 41334 | T40: =[3]März!$G$14 -> 22092
S41: 41365 | T41: =[3]April!$G$14 -> 23618
S42: 41395 | T42: =[3]Mai!$G$14 -> 11953
S43: 41426 | T43: =[3]Juni!$G$14 -> 21331
S44: 41456 | T44: =[3]July!$G$14 -> 28558
S45: 41487 | T45: =[3]August!$G$14 -> 8936
S46: 41518 | T46: =[3]September!$G$14 -> 19384
S47: 41548 | T47: =[3]Oktober!$G$14 -> 20794
S48: 41579 | T48: =[3]November!$G$14 -> 14998
S49: 41609 | T49: =[3]Dezember!$G$14 -> 12996
S50: 41640 | T50: =[4]Januar!$G$14 -> 20912
S51: 41671 | T51: =[4]Februar!$G$14 -> 17883
S52: 41699 | T52: =[4]März!$G$14 -> 18887
S53: 41730 | T53: =[4]April!$G$14 -> 23110
S54: 41760 | T54: =[4]Mai!$G$14 -> 22590
S55: 41791 | T55: =[4]Juni!$G$14 -> 20839
S56: 41821 | T56: =[4]July!$G$14 -> 25626
S57: 41852 | T57: =[4]August!$G$14 -> 8781
S58: 41883 | T58: =[4]September!$G$14 -> 20969
S59: 41913 | T59: =[4]Oktober!$G$14 -> 21156
S60: 41944 | T60: =[4]November!$G$14 -> 22451
S61: 41974 | T61: =[4]Dezember!$G$14 -> 13810
S62: 42005 | T62: =[5]Januar!$G$14 -> 19668
S63: 42036 | T63: =[5]Februar!$G$14 -> 19948
S64: 42064 | T64: =[5]März!$G$14 -> 23517
S65: 42095 | T65: =[5]April!$G$14 -> 20004
S66: 42125 | T66: =[5]Mai!$G$14 -> 17916
S67: 42156 | T67: =[5]Juni!$G$14 -> 26432
S68: 42186 | T68: =[5]July!$G$14 -> 24976
S69: 42217 | T69: =[5]August!$G$14 -> 13126
S70: 42248 | T70: =[5]September!$G$14 -> 24788
S71: 42278 | T71: =[5]Oktober!$G$14 -> 20820
S72: 42309 | T72: =[5]November!$G$14 -> 20293
S73: 42339 | T73: =[5]Dezember!$G$14 -> 13089
S74: 42370 | T74: =[6]Januar!$G$14 -> 20886
S75: 42401 | T75: =[6]Februar!$G$14 -> 22034
S76: 42430 | T76: =[6]März!$G$14 -> 22040
S77: 42461 | T77: =[6]April!$G$14 -> 21936
S78: 42491 | T78: =[6]Mai!$G$14 -> 23087
S79: 42522 | T79: =[6]Juni!$G$14 -> 23347
S80: 42552 | T80: =[6]July!$G$14 -> 23449
S81: 42583

Sheet 2
C2: Januar | D2: Februar | E2: März | F2: April | G2: Mai | H2: Juni | I2: Juli | J2: August | K2: September | L2: Oktober | M2: November | N2: Dezember | T2: 40179 | U2: 2249
B3: 2010 | C3: 2249 | D3: 3789 | E3: 4080 | F3: 3498 | G3: 3110 | H3: 4313 | I3: 3667 | J3: 3338 | K3: 2177 | L3: 5573 | M3: 5459 | N3: 4005 | T3: 40210 | U3: 3789
B4: 2011 | C4: =[1]Januar!$G$34 -> 3805 | D4: =[1]Februar!$G$34 -> 5422 | E4: =[1]März!$G$34 -> 7984 | F4: =[1]April!$G$34 -> 6670 | G4: =[1]Mai!$G$34 -> 6180 | H4: =[1]Juni!$G$34 -> 6245 | I4: =[1]July!$G$34 -> 3049 | J4: =[1]August!$G$34 -> 3882 | K4: =[1]September!$G$34 -> 3182 | L4: =[1]Oktober!$G$34 -> 1998 | M4: =[1]November!$G$34 -> 2456 | N4: =[1]Dezember!$G$34 -> 571 | T4: 40238 | U4: 4080
B5: 2012 | C5: =[2]Januar!$G$34 -> 2409 | D5: =[2]Februar!$G$34 -> 3782 | E5: =[2]März!$G$34 -> 5015 | F5: =[2]April!$G$34 -> 4495 | G5: =[2]Mai!$G$34 -> 3477 | H5: =[2]Juni!$G$34 -> 5050 | I5: =[2]July!$G$34 -> 1960 | J5: =[2]August!$G$34 -> 2503 | K5: =[2]September!$G$34 -> 2972 | L5: =[2]Oktober!$G$34 -> 1220 | M5: =[2]November!$G$34 -> 843 | N5: =[2]Dezember!$G$34 -> 599 | T5: 40269 | U5: 3498
B6: 2013 | C6: =[3]Januar!$G$34 -> 3815 | D6: =[3]Februar!$G$34 -> 3022 | E6: =[3]März!$G$34 -> 2901 | F6: =[3]April!$G$34 -> 3843 | G6: =[3]Mai!$G$34 -> 3984 | H6: =[3]Juni!$G$34 -> 5260 | I6: =[3]July!$G$34 -> 4166 | J6: =[3]August!$G$34 -> 1896 | K6: =[3]September!$G$34 -> 4011 | L6: =[3]Oktober!$G$34 -> 3755 | M6: =[3]November!$G$34 -> 2401 | N6: =[3]Dezember!$G$34 -> 1026 | T6: 40299 | U6: 3110
B7: 2014 | C7: =[4]Januar!$G$34 -> 4063 | D7: =[4]Februar!$G$34 -> 3911 | E7: =[4]März!$G$34 -> 3137 | F7: =[4]April!$G$34 -> 3009 | G7: =[4]Mai!$G$34 -> 2515 | H7: =[4]Juni!$G$34 -> 3731 | I7: =[4]July!$G$34 -> 3545 | J7: =[4]August!$G$34 -> 2111 | K7: =[4]September!$G$34 -> 4031 | L7: =[4]Oktober!$G$34 -> 3950 | M7: =[4]November!$G$34 -> 2723 | N7: =[4]Dezember!$G$34 -> 2118 | T7: 40330 | U7: 4313
B8: 2015 | C8: =[5]Januar!$G$34 -> 2913 | D8: =[5]Februar!$G$34 -> 3289 | E8: =[5]März!$G$34 -> 4078 | F8: =[5]April!$G$34 -> 4290 | G8: =[5]Mai!$G$34 -> 2535 | H8: =[5]Juni!$G$34 -> 4441 | I8: =[5]July!$G$34 -> 4525 | J8: =[5]August!$G$34 -> 3530 | K8: =[5]September!$G$34 -> 3869 | L8: =[5]Oktober!$G$34 -> 3051 | M8: =[5]November!$G$34 -> 2691 | N8: =[5]Dezember!$G$34 -> 875 | T8: 40360 | U8: 3667
B9: 2016 | C9: =[6]Januar!$G$34 -> 4482 | D9: =[6]Februar!$G$34 -> 3661 | E9: =[6]März!$G$34 -> 2216 | F9: =[6]April!$G$34 -> 2291 | G9: =[6]Mai!$G$34 -> 2842 | H9: =[6]Juni!$G$34 -> 3451 | I9: =[6]July!$G$34 -> 1625 | T9: 40391 | U9: 3338
T10: 40422 | U10: 2177
T11: 40452 | U11: 5573
T12: 40483 | U12: 5459
T13: 40513 | U13: 4005
T14: 40544 | U14: =[1]Januar!$G$34 -> 3805
T15: 40575 | U15: =[1]Februar!$G$34 -> 5422
T16: 40603 | U16: =[1]März!$G$34 -> 7984
T17: 40634 | U17: =[1]April!$G$34 -> 6670
T18: 40664 | U18: =[1]Mai!$G$34 -> 6180
T19: 40695 | U19: =[1]Juni!$G$34 -> 6245
T20: 40725 | U20: =[1]July!$G$34 -> 3049
T21: 40756 | U21: =[1]August!$G$34 -> 3882
T22: 40787 | U22: =[1]September!$G$34 -> 3182
T23: 40817 | U23: =[1]Oktober!$G$34 -> 1998
T24: 40848 | U24: =[1]November!$G$34 -> 2456
T25: 40878 | U25: =[1]Dezember!$G$34 -> 571
T26: 40909 | U26: =[2]Januar!$G$34 -> 2409
T27: 40940 | U27: =[2]Februar!$G$34 -> 3782
T28: 40969 | U28: =[2]März!$G$34 -> 5015
T29: 41000 | U29: =[2]April!$G$34 -> 4495
T30: 41030 | U30: =[2]Mai!$G$34 -> 3477
T31: 41061 | U31: =[2]Juni!$G$34 -> 5050
T32: 41091 | U32: =[2]July!$G$34 -> 1960
T33: 41122 | U33: =[2]August!$G$34 -> 2503
T34: 41153 | U34: =[2]September!$G$34 -> 2972
T35: 41183 | U35: =[2]Oktober!$G$34 -> 1220
T36: 41214 | U36: =[2]November!$G$34 -> 843
T37: 41244 | U37: =[2]Dezember!$G$34 -> 599
T38: 41275 | U38: =[3]Januar!$G$34 -> 3815
T39: 41306 | U39: =[3]Februar!$G$34 -> 3022
T40: 41334 | U40: =[3]März!$G$34 -> 2901
T41: 41365 | U41: =[3]April!$G$34 -> 3843
T42: 41395 | U42: =[3]Mai!$G$34 -> 3984
T43: 41426 | U43: =[3]Juni!$G$34 -> 5260
T44: 41456 | U44: =[3]July!$G$34 -> 4166
T45: 41487 | U45: =[3]August!$G$34 -> 1896
T46: 41518 | U46: =[3]September!$G$34 -> 4011
T47: 41548 | U47: =[3]Oktober!$G$34 -> 3755
T48: 41579 | U48: =[3]November!$G$34 -> 2401
T49: 41609 | U49: =[3]Dezember!$G$34 -> 1026
T50: 41640 | U50: =[4]Januar!$G$34 -> 4063
T51: 41671 | U51: =[4]Februar!$G$34 -> 3911
T52: 41699 | U52: =[4]März!$G$34 -> 3137
T53: 41730 | U53: =[4]April!$G$34 -> 3009
T54: 41760 | U54: =[4]Mai!$G$34 -> 2515
T55: 41791 | U55: =[4]Juni!$G$34 -> 3731
T56: 41821 | U56: =[4]July!$G$34 -> 3545
T57: 41852 | U57: =[4]August!$G$34 -> 2111
T58: 41883 | U58: =[4]September!$G$34 -> 4031
T59: 41913 | U59: =[4]Oktober!$G$34 -> 3950
T60: 41944 | U60: =[4]November!$G$34 -> 2723
T61: 41974 | U61: =[4]Dezember!$G$34 -> 2118
T62: 42005 | U62: =[5]Januar!$G$34 -> 2913
T63: 42036 | U63: =[5]Februar!$G$34 -> 3289
T64: 42064 | U64: =[5]März!$G$34 -> 4078
T65: 42095 | U65: =[5]April!$G$34 -> 4290
T66: 42125 | U66: =[5]Mai!$G$34 -> 2535
T67: 42156 | U67: =[5]Juni!$G$34 -> 4441
T68: 42186 | U68: =[5]July!$G$34 -> 4525
T69: 42217 | U69: =[5]August!$G$34 -> 3530
T70: 42248 | U70: =[5]September!$G$34 -> 3869
T71: 42278 | U71: =[5]Oktober!$G$34 -> 3051
T72: 42309 | U72: =[5]November!$G$34 -> 2691
T73: 42339 | U73: =[5]Dezember!$G$34 -> 875
T74: 42370 | U74: =[6]Januar!$G$34 -> 4482
T75: 42401 | U75: =[6]Februar!$G$34 -> 3661
T76: 42430 | U76: =[6]März!$G$34 -> 2216
T77: 42461 | U77: =[6]April!$G$34 -> 2291
T78: 42491 | U78: =[6]Mai!$G$34 -> 2842
T79: 42522 | U79: =[6]Juni!$G$34 -> 3451
T80: 42552 | U80: =[6]July!$G$34 -> 1625
T81: 42583
