Workbook

Sheet DR
A1: DR N°: | B1: 108 | C1: FICHE DE RECEPTION RDC | I1: ENTREE RDC SIGNATURE RDC | K1: PROPRE | L1: SORTIE RDC SIGNATURE PGC | N1: PROPRE
K2: NON PROPRE | N2: NON PROPRE
A3: EMAT | B3: IMMAT | C3: DESIGNATION | H3: UNITE | I3: KMS | J3: HRS | K3: MAT 1018 | L3: CV | M3: V+ | N3: TB
A5: =VLOOKUP(B5,LISTE!C2:E205,3,FALSE) -> 22233101 | B5: 68213260 | C5: =VLOOKUP(B5,LISTE!C2:E205,2,FALSE) -> VTC P4 | D5: =VLOOKUP(F5,LISTE!F2:H205,3,FALSE) -> #N/A | F5: =VLOOKUP(G5,LISTE!G2:I205,3,FALSE) -> #N/A | G5: =VLOOKUP(H5,LISTE!H2:J205,3,FALSE) -> #N/A | H5: POOL
A7: DATE DE SORTIE POOL: | D7: DATE DE RECEPTION RDC: | H7: N° DE DOSSIER SIMAT: | K7: ENTREE | M7: SORTIE
A8: =TODAY() -> 42789 | K8: Niv GO | M8: Niv GO
A9: OPERATIONS A EFFECTUER | F9: MOTIF DE L'INTERVENTION | K9: SECTION: PSP
A11: =IF(C5<>0,IF(C5="VTC P4",LISTE!H4,IF(C5="GBC 180",LISTE!H18,IF(C5="TRM 2000",LISTE!H35,IF(C5="TRM 10 000",LISTE!H46,IF(C5="VBL",LISTE!H69,IF(C5="VAB",LISTE!H86))))))) -> COS | F11: BACHE
F12: SIEGES
A13: =IF(C5<>0,IF(C5="VTC P4",LISTE!H5,IF(C5="GBC 180",LISTE!H19,IF(C5="TRM 2000",LISTE!H35:H44,IF(C5="TRM 10 000",LISTE!H46:H67,IF(C5="VBL",LISTE!H69:H84,IF(C5="VAB",LISTE!H86:H96))))))) -> VSTATION 7500 Km ou 300H ou 2 ans | F13: RS
A15: =IF(C5<>0,IF(C5="VTC P4",LISTE!H6,IF(C5="GBC 180",LISTE!H20,IF(C5="TRM 2000",LISTE!H35:H44,IF(C5="TRM 10 000",LISTE!H46:H67,IF(C5="VBL",LISTE!H69:H84,IF(C5="VAB",LISTE!H86:H96))))))) -> VSTATION 15000 Km
F16: OBSERVATIONS CONSTATEES | K16: 1 ECH | L16: DIAG | M16: NTI 1 | N16: NTI 2
A17: =IF(C5<>0,IF(C5="VTC P4",LISTE!H7,IF(C5="GBC 180",LISTE!H21,IF(C5="TRM 2000",LISTE!H35:H44,IF(C5="TRM 10 000",LISTE!H46:H67,IF(C5="VBL",LISTE!H69:H84,IF(C5="VAB",LISTE!H86:H96))))))) -> VSTATION 2 ans
A19: =IF(C5<>0,IF(C5="VTC P4",LISTE!H8,IF(C5="GBC 180",LISTE!H22,IF(C5="TRM 2000",LISTE!H35:H44,IF(C5="TRM 10 000",LISTE!H46:H67,IF(C5="VBL",LISTE!H69:H84,IF(C5="VAB",LISTE!H86:H96))))))) -> VSTATION 4 ans
A21: =IF(C5<>0,IF(C5="VTC P4",LISTE!H9,IF(C5="GBC 180",LISTE!H23,IF(C5="TRM 2000",LISTE!H35:H44,IF(C5="TRM 10 000",LISTE!H46:H67,IF(C5="VBL",LISTE!H69:H84,IF(C5="VAB",LISTE!H86:H96))))))) -> V30000 Km ou 4 ans
A23: =IF(C5<>0,IF(C5="VTC P4",LISTE!H10,IF(C5="GBC 180",LISTE!H24,IF(C5="TRM 2000",LISTE!H35:H44,IF(C5="TRM 10 000",LISTE!H46:H67,IF(C5="VBL",LISTE!H69:H84,IF(C5="VAB",LISTE!H86:H96))))))) -> VSTATION 45000 Km ou 6 ans
A25: =IF(C5<>0,IF(C5="VTC P4",LISTE!H11,IF(C5="GBC 180",LISTE!H25,IF(C5="TRM 2000",LISTE!H35:H44,IF(C5="TRM 10 000",LISTE!H46:H67,IF(C5="VBL",LISTE!H69:H84,IF(C5="VAB",LISTE!H86:H96))))))) -> VNTI 15000 Km ou 2 ans
A27: =IF(C5<>0,IF(C5="VTC P4",LISTE!H12,IF(C5="GBC 180",LISTE!H26,IF(C5="TRM 2000",LISTE!H35:H44,IF(C5="TRM 10 000",LISTE!H46:H67,IF(C5="VBL",LISTE!H69:H84,IF(C5="VAB",LISTE!H86:H96))))))) -> VNTI 30000 Km
A29: =IF(C5<>0,IF(C5="VTC P4",LISTE!H13,IF(C5="GBC 180",LISTE!H27,IF(C5="TRM 2000",LISTE!H35:H44,IF(C5="TRM 10 000",LISTE!H46:H67,IF(C5="VBL",LISTE!H69:H84,IF(C5="VAB",LISTE!H86:H96))))))) -> VNTI 90000 Km
A31: =IF(C5<>0,IF(C5="VTC P4",LISTE!H14,IF(C5="GBC 180",LISTE!H28,IF(C5="TRM 2000",LISTE!H35:H44,IF(C5="TRM 10 000",LISTE!H46:H67,IF(C5="VBL",LISTE!H69:H84,IF(C5="VAB",LISTE!H86:H96))))))) -> VA TRANS
A33: =IF(C5<>0,IF(C5="VTC P4",LISTE!H15,IF(C5="GBC 180",LISTE!H29,IF(C5="TRM 2000",LISTE!H35:H44,IF(C5="TRM 10 000",LISTE!H46:H67,IF(C5="VBL",LISTE!H69:H84,IF(C5="VAB",LISTE!H86:H96))))))) -> VA APC
A35: =IF(C5<>0,IF(C5="VTC P4",LISTE!H16,IF(C5="GBC 180",LISTE!H30,IF(C5="TRM 2000",LISTE!H37:H46,IF(C5="TRM 10 000",LISTE!H48:H69,IF(C5="VBL",LISTE!H71:H86,IF(C5="VAB",LISTE!H88:H98))))))) -> Corps creux
A37: =IF(C5<>0,IF(C5="GBC 180",LISTE!H31:H33,IF(C5="TRM 2000",LISTE!H39:H48,IF(C5="TRM 10 000",LISTE!H50:H71,IF(C5="VBL",LISTE!H73:H88,IF(C5="VAB",LISTE!H90:H100)))))) -> FALSE
A39: =IF(C5<>0,IF(C5="GBC 180",LISTE!H32:H33,IF(C5="TRM 2000",LISTE!H41:H50,IF(C5="TRM 10 000",LISTE!H52:H73,IF(C5="VBL",LISTE!H75:H90,IF(C5="VAB",LISTE!H92:H102)))))) -> FALSE
A41: =IF(C5<>0,IF(C5="GBC 180",LISTE!H33:H34,IF(C5="TRM 2000",LISTE!H43:H52,IF(C5="TRM 10 000",LISTE!H54:H75,IF(C5="VBL",LISTE!H77:H92,IF(C5="VAB",LISTE!H94:H104)))))) -> FALSE

Sheet LISTE
G1: GAMMES OPERATOIRES
A2: VTC P4 | B2: 20 | C2: 6830058 | D2: VAB | E2: 00068301 | I2: X
A3: TRM 2 000 | B3: 4 | C3: 61520300 | D3: FORD RANGER XL | E3: 00082601
A4: VTL | B4: 0 | C4: 61520301 | D4: FORD RANGER XL | E4: 00082601 | G4: VTC P4 | H4: COS
A5: TRM 700/100 | B5: 1 | C5: 61520302 | D5: FORD RANGER XL | E5: 00082601 | G5: VTC P4 | H5: VSTATION 7500 Km ou 300H ou 2 ans
A6: TRM 10 000 | B6: 11 | C6: 61520303 | D6: FORD RANGER XL | E6: 00082601 | G6: VTC P4 | H6: VSTATION 15000 Km
A7: GBC 180 | B7: 24 | C7: 61620250 | D7: FORD RANGER XL | E7: 00082601 | G7: VTC P4 | H7: VSTATION 2 ans
A8: PPLD | B8: 0 | C8: 61620251 | D8: FORD RANGER XL | E8: 00082601 | G8: VTC P4 | H8: VSTATION 4 ans
A9: VBL | B9: 54 | C9: 61620252 | D9: FORD RANGER XL | E9: 00082601 | G9: VTC P4 | H9: V30000 Km ou 4 ans
A10: VAB | B10: 5 | C10: 61620253 | D10: FORD RANGER XL | E10: 00082601 | G10: VTC P4 | H10: VSTATION 45000 Km ou 6 ans
A11: RQ 1/4T | B11: 6 | C11: 68213260 | D11: VTC P4 | E11: 22233101 | G11: VTC P4 | H11: VNTI 15000 Km ou 2 ans
A12: RQ 1T | B12: 5 | C12: 68310114 | D12: VTC P4 | E12: 22233101 | G12: VTC P4 | H12: VNTI 30000 Km
A13: RQ 1500L | B13: 8 | C13: 68410261 | D13: VTC P4 | E13: 22233101 | G13: VTC P4 | H13: VNTI 90000 Km
A14: RQ 700/100 | B14: 1 | C14: 68610154 | D14: VTC P4 | E14: 22233101 | G14: VTC P4 | H14: VA TRANS
A15: RQ 15 KWA | B15: 4 | C15: 68610606 | D15: VTC P4 | E15: 22233101 | G15: VTC P4 | H15: VA APC
A16: GE 10 KWA | B16: 2 | C16: 68710309 | D16: VTC P4 | E16: 22233101 | G16: VTC P4 | H16: Corps creux
A17: GE 15 KWA | B17: 4 | C17: 68810184 | D17: VTC P4 | E17: 22233101
A18: GE 28V/1500W | B18: 6 | C18: 68910391 | D18: VTC P4 | E18: 22233101 | G18: GBC 180 | H18: COS
A19: VGC | B19: 15 | C19: 68911914 | D19: VTC P4 | E19: 22233101 | G19: GBC 180 | H19: VSTATION 5000 Km ou 1 an
A20: LECLERC | B20: 19 | C20: 69011128 | D20: VTC P4 | E20: 22233101 | G20: GBC 180 | H20: VSTATION 20000 Km ou 2 ans
A21: DCL | B21: 2 | C21: 69011163 | D21: VTC P4 | E21: 22233101 | G21: GBC 180 | H21: VSTATION 20000 Km ou 4 ans
A22: VBCI/VPC | B22: 5 | C22: 69011179 | D22: VTC P4 | E22: 22233101 | G22: GBC 180 | H22: VSTATION ANNUELLE BMH
B23: =SUM(B2:B22) -> 196 | C23: 69011186 | D23: VTC P4 | E23: 22233101 | G23: GBC 180 | H23: VSTATION 50H BRAS BMH
C24: 69011191 | D24: VTC P4 | E24: 22233101 | G24: GBC 180 | H24: Contrôle réglage freins
C25: 69011196 | D25: VTC P4 | E25: 22233101 | G25: GBC 180 | H25: VNTI 20000 Km ou 2 ans
C26: 69011212 | D26: VTC P4 | E26: 22233101 | G26: GBC 180 | H26: VNTI 40000 Km
C27: 69011213 | D27: VTC P4 | E27: 22233101 | G27: GBC 180 | H27: VNTI 90000 Km
C28: 69011332 | D28: VTC P4 | E28: 22233101 | G28: GBC 180 | H28: VNTI 120000 Km
C29: 69110819 | D29: VTC P4 | E29: 22233101 | G29: GBC 180 | H29: VA BRAS BMH
C30: 69111142 | D30: VTC P4 | E30: 22233101 | G30: GBC 180 | H30: ESP
C31: 61510784 | D31: MINIBUS 9 PLACES | E31: 23010104 | G31: GBC 180 | H31: IM 36002
C32: 68720080 | D32: TRM 2000 | E32: 24230401 | G32: GBC 180 | H32: VA SIR
C33: 68721239 | D33: TRM 2000 | E33: 24230401 | G33: GBC 180 | H33: Corps creux
C34: 60430494 | D34: GBC 180 | E34: 24432201
C35: 68930710 | D35: TRM 10 000 | E35: 24434502 | G35: TRM 2000 | H35: COS
C36: 60030226 | D36: GBC 180 | E36: 24453101 | G36: TRM 2000 | H36: VSTATION 5000 Km ou 200H ou 2ans
C37: 60030227 | D37: GBC 180 | E37: 24453101 | G37: TRM 2000 | H37: VSTATION 10000 Km ou 400H
C38: 60030230 | D38: GBC 180 | E38: 24453101 | G38: TRM 2000 | H38: VSTATION 20000 Km ou 4ans
C39: 60030231 | D39: GBC 180 | E39: 24453101 | G39: TRM 2000 | H39: VSTATION 40000 Km ou 4ans
C40: 60030233 | D40: GBC 180 | E40: 24453101 | G40: TRM 2000 | H40: VSTATION 2ans
C41: 60130145 | D41: GBC 180 | E41: 24453101 | G41: TRM 2000 | H41: VNTI 10000Km ou 2ans ou 200H
C42: 60130151 | D42: GBC 180 | E42: 24453101 | G42: TRM 2000 | H42: VA TRANS
C43: 60130153 | D43: GBC 180 | E43: 24453101 | G43: TRM 2000 | H43: ESP
C44: 60130154 | D44: GBC 180 | E44: 24453101 | G44: TRM 2000 | H44: Corps Creux
C45: 60130331 | D45: GBC 180 | E45: 24454302
C46: 60530313 | D46: GBC 180 | E46: 24454303 | G46: TRM 10 000 | H46: COS
C47: 60130345 | D47: GBC 180 | E47: 24453102 | G47: TRM 10 000 | H47: CODE DE LA ROUTE
C48: 60130346 | D48: GBC 180 | E48: 24453102 | G48: TRM 10 000 | H48: V10000 Km ou 2 ans ou 400H
C49: 60230351 | D49: GBC 180 | E49: 24453103 | G49: TRM 10 000 | H49: V20000 Km ou 2 ans
C50: 60230352 | D50: GBC 180 | E50: 24453103 | G50: TRM 10 000 | H50: V20000 Km ou 4 ans
C51: 60230353 | D51: GBC 180 | E51: 24453103 | G51: TRM 10 000 | H51: V40000 Km ou 4 ans
C52: 60230354 | D52: GBC 180 | E52: 24453103 | G52: TRM 10 000 | H52: V10000 Km ou 2 ans
C53: 60230356 | D53: GBC 180 | E53: 24453103 | G53: TRM 10 000 | H53: V20000 Km ou 800H
C54: 60830238 | D54: GBC 180 | E54: 24453103 | G54: TRM 10 000 | H54: V40000 Km
C55: 60730140 | D55: GBC 180 | E55: 24453702 | G55: TRM 10 000 | H55: V80000 Km ou 1600H
C56: 60930643 | D56: GBC 180 | E56: 24454501 | G56: TRM 10 000 | H56: V6 Mois
C57: 60930502 | D57: GBC 180 | E57: 24454601 | G57: TRM 10 000 | H57: V500H ou 2 ans
... C67: 60280009 | D67: VBL | E67: 246015K2 | G67: TRM 10 000 | H67: V6 SEA
C68: 69140095 | D68: VBL | E68: 246015K2
C69: 69440059 | D69: VBL | E69: 246015K2 | G69: VBL | H69: COS
C70: 69640007 | D70: VBL | E70: 246015K2 | G70: VBL | H70: VSTATION 5000 Km, 200H ou 2 ans
C71: 60540102 | D71: VBL | E71: 246215K1 | G71: VBL | H71: VSTATION 20000 Km , 400H ou 4 ans
C72: 60540104 | D72: VBL | E72: 246215K1 | G72: VBL | H72: VSTATION 2 ans
C73: 60540105 | D73: VBL | E73: 246215K1 | G73: VBL | H73: VSTATION 4 ans
C74: 60540161 | D74: VBL | E74: 246215K1 | G74: VBL | H74: VNTI 200 H
C75: 60640071 | D75: VBL | E75: 246215K1 | G75: VBL | H75: VNTI 400 H
C76: 60640072 | D76: VBL | E76: 246215K1 | G76: VBL | H76: VNTI 600 H
C77: 69240176 | D77: VBL | E77: 246215K1 | G77: VBL | H77: VNTI CTRL REDUCTEUR
C78: 69240208 | D78: VBL | E78: 246215K1 | G78: VBL | H78: VA APC
C79: 60380009 | D79: VBL | E79: 246315K1 | G79: VBL | H79: VA TRANS
C80: 60380018 | D80: VBL | E80: 246315K1 | G80: VBL | H80: VA INC
... C84: 69240282 | D84: VBL | E84: 246315K1 | G84: VBL | H84: V 2 ans (joints VBL)
C85: 69340047 | D85: VBL | E85: 246315K1
C86: 69340144 | D86: VBL | E86: 246315K1 | G86: VAB | H86: COS
C87: 69540006 | D87: VBL | E87: 246315K1 | G87: VAB | H87: VSTATION 2 ans ou 400H
C88: 69540040 | D88: VBL | E88: 246315K1 | G88: VAB | H88: VSTATION 4 ans OU 800H
C89: 69540041 | D89: VBL | E89: 246315K1 | G89: VAB | H89: VA NTI
C90: 69540048 | D90: VBL | E90: 246315K1 | G90: VAB | H90: VNTI 10000 Km ou 400 H
C91: 69640028 | D91: VBL | E91: 246315K1 | G91: VAB | H91: VA APC
C92: 60040076 | D92: VBL | E92: 24649083 | G92: VAB | H92: VA TRANS
C93: 60140052 | D93: VBL | E93: 24649083 | G93: VAB | H93: VA INCENDIE
C94: 60340023 | D94: VBL | E94: 246490C2 | G94: VAB | H94: PVSEB
C95: 60340030 | D95: VBL | E95: 246490C2 | G95: VAB | H95: VSEB
C96: 60340031 | D96: VBL | E96: 246490C2 | G96: VAB | H96: V ENVSI
C97: 60340032 | D97: VBL | E97: 246490C2
C98: 60340049 | D98: VBL | E98: 246490C2
C99: 60340052 | D99: VBL | E99: 246490C2
C100: 60440036 | D100: VBL | E100: 246490C2
C101: 60440038 | D101: VBL | E101: 246490C2
C102: 60440039 | D102: VBL | E102: 246490C2
C103: 60540021 | D103: VBL | E103: 246490C2
C104: 69240031 | D104: VBL | E104: 246915K1
C105: 69240060 | D105: VBL | E105: 246915K1
C106: 69240061 | D106: VBL | E106: 246915K1
C107: 69240062 | D107: VBL | E107: 246915K1
C108: 69240117 | D108: VBL | E108: 246915K1
... C205: 033 | D205: COMPRESSEUR AIR EPB LECLERC | E205: S5120101
