Workbook

Sheet DR
A1: DR N°: | B1: 108 | C1: FICHE DE RECEPTION RDC | I1: ENTREE RDC SIGNATURE RDC | K1: PROPRE | L1: SORTIE RDC SIGNATURE PGC | N1: PROPRE
K2: NON PROPRE | N2: NON PROPRE
A3: EMAT | B3: IMMAT | C3: DESIGNATION | H3: UNITE | I3: KMS | J3: HRS | K3: MAT 1018 | L3: CV | M3: V+ | N3: TB
A5: =VLOOKUP(B5,LISTE!C2:E205,3,FALSE) -> 22233101 | B5: 68213260 | C5: =VLOOKUP(B5,LISTE!C2:E205,2,FALSE) -> VTC P4 | D5: =VLOOKUP(F5,LISTE!F2:H205,3,FALSE) -> #N/A | F5: =VLOOKUP(G5,LISTE!G2:I205,3,FALSE) -> #N/A | G5: =VLOOKUP(H5,LISTE!H2:J205,3,FALSE) -> #N/A | H5: POOL
A7: DATE DE SORTIE POOL: | D7: DATE DE RECEPTION RDC: | H7: N° DE DOSSIER SIMAT: | K7: ENTREE | M7: SORTIE
A8: =TODAY() -> 42789 | K8: Niv GO | M8: Niv GO
A9: OPERATIONS A EFFECTUER | F9: MOTIF DE L'INTERVENTION | K9: SECTION: PSP
A11: =IF(C5<>0,IF(C5="VTC P4",LISTE!H4,IF(C5="GBC 180",LISTE!H18,IF(C5="TRM 2000",LISTE!H35,IF(C5="TRM 10 000",LISTE!H46,IF(C5="VBL",LISTE!H69,IF(C5="VAB",LISTE!H86))))))) -> COS | F11: BACHE
F12: SIEGES
A13: =IF(C5<>0,IF(C5="VTC P4",LISTE!H5,IF(C5="GBC 180",LISTE!H19,IF(C5="TRM 2000",LISTE!H35:H44,IF(C5="TRM 10 000",LISTE!H46:H67,IF(C5="VBL",LISTE!H69:H84,IF(C5="VAB",LISTE!H86:H96))))))) -> VSTATION 7500 Km ou 300H ou 2 ans | F13: RS
A15: =IF(C5<>0,IF(C5="VTC P4",LISTE!H6,IF(C5="GBC 180",LISTE!H20,IF(C5="TRM 2000",LISTE!H35:H44,IF(C5="TRM 10 000",LISTE!H46:H67,IF(C5="VBL",LISTE!H69:H84,IF(C5="VAB",LISTE!H86:H96))))))) -> VSTATION 15000 Km
F16: OBSERVATIONS CONSTATEES | K16: 1 ECH | L16: DIAG | M16: NTI 1 | N16: NTI 2
A17: =IF(C5<>0,IF(C5="VTC P4",LISTE!H7,IF(C5="GBC 180",LISTE!H21,IF(C5="TRM 2000",LISTE!H35:H44,IF(C5="TRM 10 000",LISTE!H46:H67,IF(C5="VBL",LISTE!H69:H84,IF(C5="VAB",LISTE!H86:H96))))))) -> VSTATION 2 ans
A19: =IF(C5<>0,IF(C5="VTC P4",LISTE!H8,IF(C5="GBC 180",LISTE!H22,IF(C5="TRM 2000",LISTE!H35:H44,IF(C5="TRM 10 000",LISTE!H46:H67,IF(C5="VBL",LISTE!H69:H84,IF(C5="VAB",LISTE!H86:H96))))))) -> VSTATION 4 ans
A21: =IF(C5<>0,IF(C5="VTC P4",LISTE!H9,IF(C5="GBC 180",LISTE!H23,IF(C5="TRM 2000",LISTE!H35:H44,IF(C5="TRM 10 000",LISTE!H46:H67,IF(C5="VBL",LISTE!H69:H84,IF(C5="VAB",LISTE!H86:H96))))))) -> V30000 Km ou 4 ans
A23: =IF(C5<>0,IF(C5="VTC P4",LISTE!H10,IF(C5="GBC 180",LISTE!H24,IF(C5="TRM 2000",LISTE!H35:H44,IF(C5="TRM 10 000",LISTE!H46:H67,IF(C5="VBL",LISTE!H69:H84,IF(C5="VAB",LISTE!H86:H96))))))) -> VSTATION 45000 Km ou 6 ans
A25: =IF(C5<>0,IF(C5="VTC P4",LISTE!H11,IF(C5="GBC 180",LISTE!H25,IF(C5="TRM 2000",LISTE!H35:H44,IF(C5="TRM 10 000",LISTE!H46:H67,IF(C5="VBL",LISTE!H69:H84,IF(C5="VAB",LISTE!H86:H96))))))) -> VNTI 15000 Km ou 2 ans
A27: =IF(C5<>0,IF(C5="VTC P4",LISTE!H12,IF(C5="GBC 180",LISTE!H26,IF(C5="TRM 2000",LISTE!H35:H44,IF(C5="TRM 10 000",LISTE!H46:H67,IF(C5="VBL",LISTE!H69:H84,IF(C5="VAB",LISTE!H86:H96))))))) -> VNTI 30000 Km
A29: =IF(C5<>0,IF(C5="VTC P4",LISTE!H13,IF(C5="GBC 180",LISTE!H27,IF(C5="TRM 2000",LISTE!H35:H44,IF(C5="TRM 10 000",LISTE!H46:H67,IF(C5="VBL",LISTE!H69:H84,IF(C5="VAB",LISTE!H86:H96))))))) -> VNTI 90000 Km
A31: =IF(C5<>0,IF(C5="VTC P4",LISTE!H14,IF(C5="GBC 180",LISTE!H28,IF(C5="TRM 2000",LISTE!H35:H44,IF(C5="TRM 10 000",LISTE!H46:H67,IF(C5="VBL",LISTE!H69:H84,IF(C5="VAB",LISTE!H86:H96))))))) -> VA TRANS
A33: =IF(C5<>0,IF(C5="VTC P4",LISTE!H15,IF(C5="GBC 180",LISTE!H29,IF(C5="TRM 2000",LISTE!H35:H44,IF(C5="TRM 10 000",LISTE!H46:H67,IF(C5="VBL",LISTE!H69:H84,IF(C5="VAB",LISTE!H86:H96))))))) -> VA APC
A35: =IF(C5<>0,IF(C5="VTC P4",LISTE!H16,IF(C5="GBC 180",LISTE!H30,IF(C5="TRM 2000",LISTE!H37:H46,IF(C5="TRM 10 000",LISTE!H48:H69,IF(C5="VBL",LISTE!H71:H86,IF(C5="VAB",LISTE!H88:H98))))))) -> Corps creux
A37: =IF(C5<>0,IF(C5="GBC 180",LISTE!H31:H33,IF(C5="TRM 2000",LISTE!H39:H48,IF(C5="TRM 10 000",LISTE!H50:H71,IF(C5="VBL",LISTE!H73:H88,IF(C5="VAB",LISTE!H90:H100)))))) -> FALSE
A39: =IF(C5<>0,IF(C5="GBC 180",LISTE!H32:H33,IF(C5="TRM 2000",LISTE!H41:H50,IF(C5="TRM 10 000",LISTE!H52:H73,IF(C5="VBL",LISTE!H75:H90,IF(C5="VAB",LISTE!H92:H102)))))) -> FALSE
A41: =IF(C5<>0,IF(C5="GBC 180",LISTE!H33:H34,IF(C5="TRM 2000",LISTE!H43:H52,IF(C5="TRM 10 000",LISTE!H54:H75,IF(C5="VBL",LISTE!H77:H92,IF(C5="VAB",LISTE!H94:H104)))))) -> FALSE

Sheet LISTE
G1: GAMMES OPERATOIRES
A2: VTC P4 | B2: 20 | C2: 6830058 | D2: VAB | E2: 00068301 | I2: X
A3: TRM 2 000 | B3: 4 | C3: 61520300 | D3: FORD RANGER XL | E3: 00082601
A4: VTL | B4: 0 | C4: 61520301 | D4: FORD RANGER XL | E4: 00082601 | G4: VTC P4 | H4: COS
A5: TRM 700/100 | B5: 1 | C5: 61520302 | D5: FORD RANGER XL | E5: 00082601 | G5: VTC P4 | H5: VSTATION 7500 Km ou 300H ou 2 ans
A6: TRM 10 000 | B6: 11 | C6: 61520303 | D6: FORD RANGER XL | E6: 00082601 | G6: VTC P4 | H6: VSTATION 15000 Km
A7: GBC 180 | B7: 24 | C7: 61620250 | D7: FORD RANGER XL | E7: 00082601 | G7: VTC P4 | H7: VSTATION 2 ans
A8: PPLD | B8: 0 | C8: 61620251 | D8: FORD RANGER XL | E8: 00082601 | G8: VTC P4 | H8: VSTATION 4 ans
A9: VBL | B9: 54 | C9: 61620252 | D9: FORD RANGER XL | E9: 00082601 | G9: VTC P4 | H9: V30000 Km ou 4 ans
A10: VAB | B10: 5 | C10: 61620253 | D10: FORD RANGER XL | E10: 00082601 | G10: VTC P4 | H10: VSTATION 45000 Km ou 6 ans
A11: RQ 1/4T | B11: 6 | C11: 68213260 | D11: VTC P4 | E11: 22233101 | G11: VTC P4 | H11: VNTI 15000 Km ou 2 ans
A12: RQ 1T | B12: 5 | C12: 68310114 | D12: VTC P4 | E12: 22233101 | G12: VTC P4 | H12: VNTI 30000 Km
A13: RQ 1500L | B13: 8 | C13: 68410261 | D13: VTC P4 | E13: 22233101 | G13: VTC P4 | H13: VNTI 90000 Km
A14: RQ 700/100 | B14: 1 | C14: 68610154 | D14: VTC P4 | E14: 22233101 | G14: VTC P4 | H14: VA TRANS
A15: RQ 15 KWA | B15: 4 | C15: 68610606 | D15: VTC P4 | E15: 22233101 | G15: VTC P4 | H15: VA APC
A16: GE 10 KWA | B16: 2 | C16: 68710309 | D16: VTC P4 | E16: 22233101 | G16: VTC P4 | H16: Corps creux
A17: GE 15 KWA | B17: 4 | C17: 68810184 | D17: VTC P4 | E17: 22233101
A18: GE 28V/1500W | B18: 6 | C18: 68910391 | D18: VTC P4 | E18: 22233101 | G18: GBC 180 | H18: COS
A19: VGC | B19: 15 | C19: 68911914 | D19: VTC P4 | E19: 22233101 | G19: GBC 180 | H19: VSTATION 5000 Km ou 1 an
A20: LECLERC | B20: 19 | C20: 69011128 | D20: VTC P4 | E20: 22233101 | G20: GBC 180 | H20: VSTATION 20000 Km ou 2 ans
A21: DCL | B21: 2 | C21: 69011163 | D21: VTC P4 | E21: 22233101 | G21: GBC 180 | H21: VSTATION 20000 Km ou 4 ans
A22: VBCI/VPC | B22: 5 | C22: 69011179 | D22: VTC P4 | E22: 22233101 | G22: GBC 180 | H22: VSTATION ANNUELLE BMH
B23: =SUM(B2:B22) -> 196 | C23: 69011186 | D23: VTC P4 | E23: 22233101 | G23: GBC 180 | H23: VSTATION 50H BRAS BMH
C24: 69011191 | D24: VTC P4 | E24: 22233101 | G24: GBC 180 | H24: Contrôle réglage freins
C25: 69011196 | D25: VTC P4 | E25: 22233101 | G25: GBC 180 | H25: VNTI 20000 Km ou 2 ans
C26: 69011212 | D26: VTC P4 | E26: 22233101 | G26: GBC 180 | H26: VNTI 40000 Km
C27: 69011213 | D27: VTC P4 | E27: 22233101 | G27: GBC 180 | H27: VNTI 90000 Km
C28: 69011332 | D28: VTC P4 | E28: 22233101 | G28: GBC 180 | H28: VNTI 120000 Km
C29: 69110819 | D29: VTC P4 | E29: 22233101 | G29: GBC 180 | H29: VA BRAS BMH
C30: 69111142 | D30: VTC P4 | E30: 22233101 | G30: GBC 180 | H30: ESP
C31: 61510784 | D31: MINIBUS 9 PLACES | E31: 23010104 | G31: GBC 180 | H31: IM 36002
C32: 68720080 | D32: TRM 2000 | E32: 24230401 | G32: GBC 180 | H32: VA SIR
C33: 68721239 | D33: TRM 2000 | E33: 24230401 | G33: GBC 180 | H33: Corps creux
C34: 60430494 | D34: GBC 180 | E34: 24432201
C35: 68930710 | D35: TRM 10 000 | E35: 24434502 | G35: TRM 2000 | H35: COS
C36: 60030226 | D36: GBC 180 | E36: 24453101 | G36: TRM 2000 | H36: VSTATION 5000 Km ou 200H ou 2ans
C37: 60030227 | D37: GBC 180 | E37: 24453101 | G37: TRM 2000 | H37: VSTATION 10000 Km ou 400H
C38: 60030230 | D38: GBC 180 | E38: 24453101 | G38: TRM 2000 | H38: VSTATION 20000 Km ou 4ans
C39: 60030231 | D39: GBC 180 | E39: 24453101 | G39: TRM 2000 | H39: VSTATION 40000 Km ou 4ans
C40: 60030233 | D40: GBC 180 | E40: 24453101 | G40: TRM 2000 | H40: VSTATION 2ans
...
