Workbook

Sheet DonnéeProduction
B1: Date | C1: NOMBRE PESEE | G1: NOMBRE MELANGE | L1: NB CONDITIONNEMENT
C2: Nb Ingrédients | E2: Nb Recettes | F2: Poids Pesée Total | G2: S 1000 | H2: S 1000 I | I2: S 200 | J2: S 200 I | K2: S60+CC | L2: Boite sertis | N2: Dosettes | P2: VAI | Q2: Sénéchal (STD) | S2: Condi S 1000 | T2: PAE
C3: Théorique | D3: Réel | L3: Théorique | M3: Réel | N3: Théorique | O3: Réel | Q3: Théorique | R3: Réel
B4: 42527 | M4: 10 000
B5: 42528 | M5: 15 000
B6: 42529 | M6: 20 000
B7: 42530 | M7: 30 000
B8: 42531
B9: 42534
B10: 42535
B11: 42536
B12: 42537
B13: 42538

Sheet Temps Mélange S 1000
A1: Tps dispo | B1: 0.29166667 | C1: 0.73958333 | D1: =(((C1-B1)-INT(C1-B1))*24) -> 10.75 | F1: LUNDI 20 JUIN
B2: CARO CHOCO | E2: 551 kg | F2: CONDI 1 | K2: CONDI 2
F3: 37 | G3: SACS | H3: 15 | I3: KG | J3: CADENCE CONDI/H | K3: 3 | L3: BACS | M3: 450 | N3: KG | O3: CADENCE CONDI/H
B4: Mise en place/Nettoyage | D4: Mélange | F4: DÉBUT | G4: FIN | H4: TEMPS CONDI | K4: DÉBUT | L4: FIN | M4: TEMPS CONDI | S4: BACS
A5: THEO | B5: 0.29166667 | C5: 0.3125 | D5: 0.3125 | E5: 0.34027778 | F5: 0.34027778 | G5: 0.40277778 | H5: =G5-F5 -> 0.0625 | I5: =(H5-INT(H5))*24 -> 1.5 | J5: =F3/$I5 -> 24.666667 | M5: =L5-K5 -> 0 | N5: =(M5-INT(M5))*24 -> 0 | O5: =K3/$N5 -> #DIV/0! | S5: SEAUX
A6: REEL | H6: =G6-F6 -> 0 | I6: =(H6-INT(H6))*24 -> 0 | J6: =F3/$I6 -> #DIV/0! | M6: =L6-K6 -> 0 | N6: =(M6-INT(M6))*24 -> 0 | O6: =K3/$N6 -> #DIV/0! | S6: SACS
S7: BOX GRIS
B8: CARO CHOCO | E8: 551 kg | F8: CONDI 1 | K8: CONDI 2
F9: 37 | G9: SACS | H9: 15 | I9: KG | J9: CADENCE CONDI/H | N9: KG | O9: CADENCE CONDI/H
B10: Mise en place/Nettoyage | D10: Mélange | F10: DÉBUT | G10: FIN | H10: TEMPS CONDI | K10: DÉBUT | L10: FIN | M10: TEMPS CONDI
A11: THEO | D11: 0.40277778 | E11: 0.43055556 | F11: 0.43055556 | G11: 0.49305556 | H11: =G11-F11 -> 0.0625 | I11: =(H11-INT(H11))*24 -> 1.5 | J11: =F9/$I11 -> 24.666667 | M11: =L11-K11 -> 0 | N11: =(M11-INT(M11))*24 -> 0 | O11: =K9/$N11 -> #DIV/0!
A12: REEL | H12: =G12-F12 -> 0 | I12: =(H12-INT(H12))*24 -> 0 | J12: =F9/$I12 -> #DIV/0! | M12: =L12-K12 -> 0 | N12: =(M12-INT(M12))*24 -> 0 | O12: =K9/$N12 -> #DIV/0!
B14: CARO CHOCO | E14: 551 kg | F14: CONDI 1 | K14: CONDI 2
F15: 37 | G15: SACS | H15: 15 | I15: KG | J15: CADENCE CONDI/H | N15: KG | O15: CADENCE CONDI/H
B16: Mise en place/Nettoyage | D16: Mélange | F16: DÉBUT | G16: FIN | H16: TEMPS CONDI | K16: DÉBUT | L16: FIN | M16: TEMPS CONDI
A17: THEO | D17: 0.49305556 | E17: 0.52083333 | F17: 0.52083333 | G17: 0.58333333 | H17: =G17-F17 -> 0.0625 | I17: =(H17-INT(H17))*24 -> 1.5 | J17: =F15/$I17 -> 24.666667 | M17: =L17-K17 -> 0 | N17: =(M17-INT(M17))*24 -> 0 | O17: =K15/$N17 -> #DIV/0!
A18: REEL | H18: =G18-F18 -> 0 | I18: =(H18-INT(H18))*24 -> 0 | J18: =F15/$I18 -> #DIV/0! | M18: =L18-K18 -> 0 | N18: =(M18-INT(M18))*24 -> 0 | O18: =K15/$N18 -> #DIV/0!
B20: CARO CHOCO | E20: 551 kg | F20: CONDI 1 | K20: CONDI 2
F21: 12 | G21: SACS | H21: 15 | I21: KG | J21: CADENCE CONDI/H | K21: 37 | L21: SACS | M21: 10 | N21: KG | O21: CADENCE CONDI/H
B22: Mise en place/Nettoyage | D22: Mélange | F22: DÉBUT | G22: FIN | H22: TEMPS CONDI | K22: DÉBUT | L22: FIN | M22: TEMPS CONDI
A23: THEO | D23: 0.58333333 | E23: 0.61111111 | F23: 0.61111111 | G23: 0.625 | H23: =G23-F23 -> 0.013888889 | I23: =(H23-INT(H23))*24 -> 0.33333333 | J23: =F21/$I23 -> 36 | K23: 0.625 | L23: 0.67708333 | M23: =L23-K23 -> 0.052083333 | N23: =(M23-INT(M23))*24 -> 1.25 | O23: =K21/$N23 -> 29.6
A24: REEL | H24: =G24-F24 -> 0 | I24: =(H24-INT(H24))*24 -> 0 | J24: =F21/$I24 -> #DIV/0! | M24: =L24-K24 -> 0 | N24: =(M24-INT(M24))*24 -> 0 | O24: =K21/$N24 -> #DIV/0!
B26: CARO CHOCO | E26: 551 kg | F26: CONDI 1 | K26: CONDI 2
F27: 55 | G27: SACS | H27: 10 | I27: KG | J27: CADENCE CONDI/H | N27: KG | O27: CADENCE CONDI/H
B28: Mise en place/Nettoyage | D28: Mélange | F28: DÉBUT | G28: FIN | H28: TEMPS CONDI | K28: DÉBUT | L28: FIN | M28: TEMPS CONDI
A29: THEO | D29: 0.67708333 | E29: 0.69444444 | F29: 0.69444444 | G29: 0.73958333 | H29: =G29-F29 -> 0.045138889 | I29: =(H29-INT(H29))*24 -> 1.0833333 | J29: =F27/$I29 -> 50.769231 | M29: =L29-K29 -> 0 | N29: =(M29-INT(M29))*24 -> 0 | O29: =K27/$N29 -> #DIV/0!
A30: REEL | H30: =G30-F30 -> 0 | I30: =(H30-INT(H30))*24 -> 0 | J30: =F27/$I30 -> #DIV/0! | M30: =L30-K30 -> 0 | N30: =(M30-INT(M30))*24 -> 0 | O30: =K27/$N30 -> #DIV/0!
F32: CONDI 1 | K32: CONDI 2
G33: SACS | I33: KG | J33: CADENCE CONDI/H | N33: KG | O33: CADENCE CONDI/H
B34: Mise en place/Nettoyage | D34: Mélange | F34: DÉBUT | G34: FIN | H34: TEMPS CONDI | K34: DÉBUT | L34: FIN | M34: TEMPS CONDI
A35: THEO | H35: =G35-F35 -> 0 | I35: =(H35-INT(H35))*24 -> 0 | J35: =F33/$I35 -> #DIV/0! | M35: =L35-K35 -> 0 | N35: =(M35-INT(M35))*24 -> 0 | O35: =K33/$N35 -> #DIV/0!
A36: REEL | H36: =G36-F36 -> 0 | I36: =(H36-INT(H36))*24 -> 0 | J36: =F33/$I36 -> #DIV/0! | M36: =L36-K36 -> 0 | N36: =(M36-INT(M36))*24 -> 0 | O36: =K33/$N36 -> #DIV/0!
B38: Temps total MEP + NETT | D38: Théorique | E38: =(((C11-B11)-INT(C11-B11))*24)+(((C17-B17)-INT(C17-B17))*24)+(((C23-B23)-INT(C23-B23))*24)+(((C29-B29)-INT(C29-B29))*24)+(((C5-B5)-INT(C5-B5))*24)+(((C35-B35)-INT(C35-B35))*24) -> 0.5
D39: Réel | E39: =(((C12-B12)-INT(C12-B12))*24)+(((C18-B18)-INT(C18-B18))*24)+(((C24-B24)-INT(C24-B24))*24)+(((C30-B30)-INT(C30-B30))*24)+(((C6-B6)-INT(C6-B6))*24)+(((C36-B36)-INT(C36-B36))*24) -> 0
B41: Temps total Mélange | D41: Théorique | E41: =(((E11-D11)-INT(E11-D11))*24)+(((E17-D17)-INT(E17-D17))*24)+(((E23-D23)-INT(E23-D23))*24)+(((E29-D29)-INT(E29-D29))*24)+(((E5-D5)-INT(E5-D5))*24)+(((E35-D35)-INT(E35-D35))*24) -> 3.0833333
D42: Réel | E42: =(((E12-D12)-INT(E12-D12))*24)+(((E18-D18)-INT(E18-D18))*24)+(((E24-D24)-INT(E24-D24))*24)+(((E30-D30)-INT(E30-D30))*24)+(((E6-D6)-INT(E6-D6))*24)+(((E36-D36)-INT(E36-D36))*24) -> 0
B44: Temps total Condi | D44: Théorique | E44: =SUM(I11+I17+I23+I29+I5+N5+N11+N17+N23+N29+N35) -> 7.1666667
D45: Réel | E45: =SUM(I12+I18+I24+I30+I6) -> 0
B47: TOTAL | D47: Théorique | E47: =SUM(E38+E41+E44) -> 10.75
D48: Réel | E48: =SUM(E39+E42+E45) -> 0

Sheet TempsPoste
B1: DATE | C1: POSTE | D1: PERSONNEL | E1: MISE EN PLACE | F1: NETTOYAGE | G1: PESEE | H1: S1000 | K1: S200 | L1: S60/CC | M1: CONDI STD | N1: BOITE | O1: DOSETTE | P1: PAE | Q1: MEC | R1: VAI | S1: MEC PAE | T1: CUMUL
H2: MEP | I2: MELANGE | J2: CONDI
B3: 42527 | C3: Pesée | D3: Virginie | N3: 2 | T3: =SUM(E3:S3) -> 2 | W3: 1 | X3: Virginie
D4: Coraline | N4: 2 | T4: =SUM(E4:S4) -> 2 | W4: 2 | X4: Mélissa
C5: Mélange | T5: =SUM(E5:S5) -> 0 | W5: 3 | X5: Coraline
T6: =SUM(E6:S6) -> 0 | W6: 4 | X6: Catherine
C7: Conditionnement | T7: =SUM(E7:S7) -> 0 | W7: 5 | X7: Antonia
T8: =SUM(E8:S8) -> 0 | W8: 6 | X8: Olivier
T9: =SUM(E9:S9) -> 0 | W9: 7 | X9: Nicolas
T10: =SUM(E10:S10) -> 0 | W10: 8 | X10: Intérimaire
C11: MEC | T11: =SUM(E11:S11) -> 0 | W11: 9 | X11: Jérémy
C12: MEC PAE + PAE | T12: =SUM(E12:S12) -> 0 | W12: 10 | X12: Pierre
T13: =SUM(E13:S13) -> 0 | W13: 11 | X13: Martin
B14: SOMME | E14: =SUM(E3:E13) -> 0 | F14: =SUM(F3:F13) -> 0 | G14: =SUM(G3:G13) -> 0 | H14: =SUM(H3:H13) -> 0 | I14: =SUM(I3:I13) -> 0 | J14: =SUM(J3:J13) -> 0 | K14: =SUM(K3:K13) -> 0 | L14: =SUM(L3:L13) -> 0 | ... T14: =SUM(T3:T13) -> 4 | W14: 12 | X14: Jacky
B15: 42528 | C15: Pesée | N15: 2 | T15: =SUM(E15:S15) -> 2
N16: 2 | T16: =SUM(E16:S16) -> 2
C17: Mélange | T17: =SUM(E17:S17) -> 0
T18: =SUM(E18:S18) -> 0
C19: Conditionnement | T19: =SUM(E19:S19) -> 0
T20: =SUM(E20:S20) -> 0
T21: =SUM(E21:S21) -> 0
T22: =SUM(E22:S22) -> 0
C23: MEC | T23: =SUM(E23:S23) -> 0
C24: MEC PAE + PAE | T24: =SUM(E24:S24) -> 0
T25: =SUM(E25:S25) -> 0
B26: SOMME | E26: =SUM(E15:E25) -> 0 | F26: =SUM(F15:F25) -> 0 | G26: =SUM(G15:G25) -> 0 | H26: =SUM(H15:H25) -> 0 | I26: =SUM(I15:I25) -> 0 | J26: =SUM(J15:J25) -> 0 | K26: =SUM(K15:K25) -> 0 | L26: =SUM(L15:L25) -> 0 | ... T26: =SUM(T15:T25) -> 4
B27: 42529 | C27: Pesée | N27: 2 | T27: =SUM(E27:S27) -> 2
N28: 2 | T28: =SUM(E28:S28) -> 2
C29: Mélange | T29: =SUM(E29:S29) -> 0
T30: =SUM(E30:S30) -> 0
C31: Conditionnement | T31: =SUM(E31:S31) -> 0
T32: =SUM(E32:S32) -> 0
T33: =SUM(E33:S33) -> 0
T34: =SUM(E34:S34) -> 0
C35: MEC | T35: =SUM(E35:S35) -> 0
C36: MEC PAE + PAE | T36: =SUM(E36:S36) -> 0
T37: =SUM(E37:S37) -> 0
B38: SOMME | E38: =SUM(E27:E37) -> 0 | F38: =SUM(F27:F37) -> 0 | G38: =SUM(G27:G37) -> 0 | H38: =SUM(H27:H37) -> 0 | I38: =SUM(I27:I37) -> 0 | J38: =SUM(J27:J37) -> 0 | K38: =SUM(K27:K37) -> 0 | L38: =SUM(L27:L37) -> 0 | ... T38: =SUM(T27:T37) -> 4
B39: 42530 | C39: Pesée | N39: 2 | T39: =SUM(E39:S39) -> 2
N40: 2 | T40: =SUM(E40:S40) -> 2
...

Sheet CADENCES
A1: DATE | B1: PESEE | E1: MELANGE | H1: CONDITIONNEMENT | N1: MEC (HORS PAE)
B2: Nb Ing/H | C2: Min/Ing | D2: Min/Kg | E2: S 1000 + S 1000 I/H | F2: S 200 + S 200 I/H | G2: S60+CC/H | H2: Boites/H | I2: Dosettes/H | J2: Sachets/H | K2: STD/H | L2: CONDI S 1000 | M2: PAE/H | N2: CONDI MEC/H
A3: =DonnéeProduction!B4 -> 42527 | B3: =(SUM(DonnéeProduction!D4:D8))/(TempsPoste!G14+TempsPoste!G26+TempsPoste!G38+TempsPoste!G50+TempsPoste!G62) -> #DIV/0! | C3: =((TempsPoste!G14+TempsPoste!G26+TempsPoste!G38+TempsPoste!G50+TempsPoste!G62)*60)/(SUM(DonnéeProduction!D4:D8)) -> #DIV/0! | D3: =((TempsPoste!G14+TempsPoste!G26+TempsPoste!G38+TempsPoste!G50+TempsPoste!G62)*60)/(SUM(DonnéeProduction!F4:F8)) -> #DIV/0! | E3: =SUM(DonnéeProduction!G4:H4)/SUM(TempsPoste!H14:I14) -> #DIV/0! | F3: =SUM(DonnéeProduction!I4:J4)/TempsPoste!K14 -> #DIV/0! | G3: =DonnéeProduction!K4/TempsPoste!L14 -> #DIV/0! | H3: =DonnéeProduction!M4/INDIRECT(TempsPoste!N&(ROW(A1)*12-12)+14) -> #VALUE! | I3: =DonnéeProduction!O4/TempsPoste!O14 -> #DIV/0! | J3: =DonnéeProduction!P4/TempsPoste!R14 -> #DIV/0! | K3: =DonnéeProduction!R4/TempsPoste!M14 -> #DIV/0! | L3: =DonnéeProduction!S4/TempsPoste!J14 -> #DIV/0! | M3: =DonnéeProduction!T4/TempsPoste!P14 -> #DIV/0! | N3: =SUM(DonnéeProduction!M4,DonnéeProduction!P4,DonnéeProduction!Q4,DonnéeProduction!R4)/TempsPoste!Q14 -> #DIV/0!
A4: =DonnéeProduction!B5 -> 42528 | E4: =SUM(DonnéeProduction!G5:H5)/SUM(TempsPoste!H26:I26) -> #DIV/0! | F4: =SUM(DonnéeProduction!I5:J5)/TempsPoste!K26 -> #DIV/0! | G4: =DonnéeProduction!K5/TempsPoste!L26 -> #DIV/0! | H4: =DonnéeProduction!M5/INDIRECT(TempsPoste!N&(ROW(A2)*12-12)+14) -> #VALUE! | I4: =DonnéeProduction!O5/TempsPoste!O26 -> #DIV/0! | J4: =DonnéeProduction!P5/TempsPoste!R26 -> #DIV/0! | K4: =DonnéeProduction!R5/TempsPoste!M26 -> #DIV/0! | L4: =DonnéeProduction!S5/TempsPoste!J26 -> #DIV/0! | M4: =DonnéeProduction!T5/TempsPoste!P26 -> #DIV/0! | N4: =SUM(DonnéeProduction!M5,DonnéeProduction!P5,DonnéeProduction!Q5,DonnéeProduction!R5)/TempsPoste!Q26 -> #DIV/0!
A5: =DonnéeProduction!B6 -> 42529 | E5: =SUM(DonnéeProduction!G6:H6)/SUM(TempsPoste!H38:I38) -> #DIV/0! | F5: =SUM(DonnéeProduction!I6:J6)/TempsPoste!K38 -> #DIV/0! | G5: =DonnéeProduction!K6/TempsPoste!L38 -> #DIV/0! | H5: =DonnéeProduction!M6/INDIRECT(TempsPoste!N&(ROW(A3)*12-12)+14) -> #VALUE! | I5: =DonnéeProduction!O6/TempsPoste!O38 -> #DIV/0! | J5: =DonnéeProduction!P6/TempsPoste!R38 -> #DIV/0! | K5: =DonnéeProduction!R6/TempsPoste!M38 -> #DIV/0! | L5: =DonnéeProduction!S6/TempsPoste!J38 -> #DIV/0! | M5: =DonnéeProduction!T6/TempsPoste!P38 -> #DIV/0! | N5: =SUM(DonnéeProduction!M6,DonnéeProduction!P6,DonnéeProduction!Q6,DonnéeProduction!R6)/TempsPoste!Q38 -> #DIV/0!
A6: =DonnéeProduction!B7 -> 42530 | E6: =SUM(DonnéeProduction!G7:H7)/SUM(TempsPoste!H50:I50) -> #DIV/0! | F6: =SUM(DonnéeProduction!I7:J7)/TempsPoste!K50 -> #DIV/0! | G6: =DonnéeProduction!K7/TempsPoste!L50 -> #DIV/0! | H6: =DonnéeProduction!M7/INDIRECT(TempsPoste!N&(ROW(A4)*12-12)+14) -> #VALUE! | I6: =DonnéeProduction!O7/TempsPoste!O50 -> #DIV/0! | J6: =DonnéeProduction!P7/TempsPoste!R50 -> #DIV/0! | K6: =DonnéeProduction!R7/TempsPoste!M50 -> #DIV/0! | L6: =DonnéeProduction!S7/TempsPoste!J50 -> #DIV/0! | M6: =DonnéeProduction!T7/TempsPoste!P50 -> #DIV/0! | N6: =SUM(DonnéeProduction!M7,DonnéeProduction!P7,DonnéeProduction!Q7,DonnéeProduction!R7)/TempsPoste!Q50 -> #DIV/0!
A7: =DonnéeProduction!B8 -> 42531 | E7: =SUM(DonnéeProduction!G8:H8)/SUM(TempsPoste!H62:I62) -> #DIV/0! | F7: =SUM(DonnéeProduction!I8:J8)/TempsPoste!K62 -> #DIV/0! | G7: =DonnéeProduction!K8/TempsPoste!L62 -> #DIV/0! | H7: =DonnéeProduction!M8/INDIRECT(TempsPoste!N&(ROW(A5)*12-12)+14) -> #NAME? | I7: =DonnéeProduction!O8/TempsPoste!O62 -> #DIV/0! | J7: =DonnéeProduction!P8/TempsPoste!R62 -> #DIV/0! | K7: =DonnéeProduction!R8/TempsPoste!M62 -> #DIV/0! | L7: =DonnéeProduction!S8/TempsPoste!J62 -> #DIV/0! | M7: =DonnéeProduction!T8/TempsPoste!P62 -> #DIV/0! | N7: =SUM(DonnéeProduction!M8,DonnéeProduction!P8,DonnéeProduction!Q8,DonnéeProduction!R8)/TempsPoste!Q62 -> #DIV/0!
A8: =DonnéeProduction!B9 -> 42534 | B8: =(SUM(DonnéeProduction!D9:D13))/(TempsPoste!G74+TempsPoste!G86+TempsPoste!G98+TempsPoste!G110+TempsPoste!G122) -> #DIV/0! | C8: =((TempsPoste!G74+TempsPoste!G86+TempsPoste!G98+TempsPoste!G110+TempsPoste!G122)*60)/(SUM(DonnéeProduction!D9:D13)) -> #DIV/0! | D8: =((TempsPoste!G74+TempsPoste!G86+TempsPoste!G98+TempsPoste!G110+TempsPoste!G122)*60)/(SUM(DonnéeProduction!F9:F13)) -> #DIV/0! | E8: =SUM(DonnéeProduction!G9:H9)/SUM(TempsPoste!H74:I74) -> #DIV/0! | F8: =SUM(DonnéeProduction!I9:J9)/TempsPoste!K74 -> #DIV/0! | G8: =DonnéeProduction!K9/TempsPoste!L74 -> #DIV/0! | H8: =DonnéeProduction!M9/INDIRECT(TempsPoste!N&(ROW(A6)*12-12)+14) -> #NAME? | I8: =DonnéeProduction!O9/TempsPoste!O74 -> #DIV/0! | J8: =DonnéeProduction!P9/TempsPoste!R74 -> #DIV/0! | K8: =DonnéeProduction!R9/TempsPoste!M74 -> #DIV/0! | L8: =DonnéeProduction!S9/TempsPoste!J74 -> #DIV/0! | M8: =DonnéeProduction!T9/TempsPoste!P74 -> #DIV/0! | N8: =SUM(DonnéeProduction!M9,DonnéeProduction!P9,DonnéeProduction!Q9,DonnéeProduction!R9)/TempsPoste!Q74 -> #DIV/0!
A9: =DonnéeProduction!B10 -> 42535 | E9: =SUM(DonnéeProduction!G10:H10)/SUM(TempsPoste!H86:I86) -> #DIV/0! | F9: =SUM(DonnéeProduction!I10:J10)/TempsPoste!K86 -> #DIV/0! | G9: =DonnéeProduction!K10/TempsPoste!L86 -> #DIV/0! | H9: =DonnéeProduction!M10/INDIRECT(TempsPoste!N&(ROW(A7)*12-12)+14) -> #NAME? | I9: =DonnéeProduction!O10/TempsPoste!O86 -> #DIV/0! | J9: =DonnéeProduction!P10/TempsPoste!R86 -> #DIV/0! | K9: =DonnéeProduction!R10/TempsPoste!M86 -> #DIV/0! | L9: =DonnéeProduction!S10/TempsPoste!J86 -> #DIV/0! | M9: =DonnéeProduction!T10/TempsPoste!P86 -> #DIV/0! | N9: =SUM(DonnéeProduction!M10,DonnéeProduction!P10,DonnéeProduction!Q10,DonnéeProduction!R10)/TempsPoste!Q86 -> #DIV/0!
A10: =DonnéeProduction!B11 -> 42536 | E10: =SUM(DonnéeProduction!G11:H11)/SUM(TempsPoste!H98:I98) -> #DIV/0! | F10: =SUM(DonnéeProduction!I11:J11)/TempsPoste!K98 -> #DIV/0! | G10: =DonnéeProduction!K11/TempsPoste!L98 -> #DIV/0! | H10: =DonnéeProduction!M11/INDIRECT(TempsPoste!N&(ROW(A8)*12-12)+14) -> #NAME? | I10: =DonnéeProduction!O11/TempsPoste!O98 -> #DIV/0! | J10: =DonnéeProduction!P11/TempsPoste!R98 -> #DIV/0! | K10: =DonnéeProduction!R11/TempsPoste!M98 -> #DIV/0! | L10: =DonnéeProduction!S11/TempsPoste!J98 -> #DIV/0! | M10: =DonnéeProduction!T11/TempsPoste!P98 -> #DIV/0! | N10: =SUM(DonnéeProduction!M11,DonnéeProduction!P11,DonnéeProduction!Q11,DonnéeProduction!R11)/TempsPoste!Q98 -> #DIV/0!
A11: =DonnéeProduction!B12 -> 42537 | E11: =SUM(DonnéeProduction!G12:H12)/SUM(TempsPoste!H110:I110) -> #DIV/0! | F11: =SUM(DonnéeProduction!I12:J12)/TempsPoste!K110 -> #DIV/0! | G11: =DonnéeProduction!K12/TempsPoste!L110 -> #DIV/0! | H11: =DonnéeProduction!M12/INDIRECT(TempsPoste!N&(ROW(A9)*12-12)+14) -> #NAME? | I11: =DonnéeProduction!O12/TempsPoste!O110 -> #DIV/0! | J11: =DonnéeProduction!P12/TempsPoste!R110 -> #DIV/0! | K11: =DonnéeProduction!R12/TempsPoste!M110 -> #DIV/0! | L11: =DonnéeProduction!S12/TempsPoste!J110 -> #DIV/0! | M11: =DonnéeProduction!T12/TempsPoste!P110 -> #DIV/0! | N11: =SUM(DonnéeProduction!M12,DonnéeProduction!P12,DonnéeProduction!Q12,DonnéeProduction!R12)/TempsPoste!Q110 -> #DIV/0!
A12: =DonnéeProduction!B13 -> 42538 | E12: =SUM(DonnéeProduction!G13:H13)/SUM(TempsPoste!H122:I122) -> #DIV/0! | F12: =SUM(DonnéeProduction!I13:J13)/TempsPoste!K122 -> #DIV/0! | G12: =DonnéeProduction!K13/TempsPoste!L122 -> #DIV/0! | H12: =DonnéeProduction!M13/INDIRECT(TempsPoste!N&(ROW(A10)*12-12)+14) -> #NAME? | I12: =DonnéeProduction!O13/TempsPoste!O122 -> #DIV/0! | J12: =DonnéeProduction!P13/TempsPoste!R122 -> #DIV/0! | K12: =DonnéeProduction!R13/TempsPoste!M122 -> #DIV/0! | L12: =DonnéeProduction!S13/TempsPoste!J122 -> #DIV/0! | M12: =DonnéeProduction!T13/TempsPoste!P122 -> #DIV/0! | N12: =SUM(DonnéeProduction!M13,DonnéeProduction!P13,DonnéeProduction!Q13,DonnéeProduction!R13)/TempsPoste!Q122 -> #DIV/0!
A13: =DonnéeProduction!B14 -> 0 | B13: =(SUM(DonnéeProduction!D14:D18))/(TempsPoste!G134+TempsPoste!G146+TempsPoste!G158+TempsPoste!G170+TempsPoste!G182) -> #DIV/0! | C13: =((TempsPoste!G134+TempsPoste!G146+TempsPoste!G158+TempsPoste!G170+TempsPoste!G182)*60)/(SUM(DonnéeProduction!D14:D18)) -> #DIV/0! | D13: =((TempsPoste!G134+TempsPoste!G146+TempsPoste!G158+TempsPoste!G170+TempsPoste!G182)*60)/(SUM(DonnéeProduction!F14:F18)) -> #DIV/0! | E13: =SUM(DonnéeProduction!G14:H14)/SUM(TempsPoste!H134:I134) -> #DIV/0! | F13: =SUM(DonnéeProduction!I14:J14)/TempsPoste!K134 -> #DIV/0! | G13: =DonnéeProduction!K14/TempsPoste!L134 -> #DIV/0! | H13: =DonnéeProduction!M14/INDIRECT(TempsPoste!N&(ROW(A11)*12-12)+14) -> #NAME? | I13: =DonnéeProduction!O14/TempsPoste!O134 -> #DIV/0! | J13: =DonnéeProduction!P14/TempsPoste!R134 -> #DIV/0! | K13: =DonnéeProduction!R14/TempsPoste!M134 -> #DIV/0! | L13: =DonnéeProduction!S14/TempsPoste!J134 -> #DIV/0! | M13: =DonnéeProduction!T14/TempsPoste!P134 -> #DIV/0! | N13: =SUM(DonnéeProduction!M14,DonnéeProduction!P14,DonnéeProduction!Q14,DonnéeProduction!R14)/TempsPoste!Q134 -> #DIV/0!
A14: =DonnéeProduction!B15 -> 0 | E14: =SUM(DonnéeProduction!G15:H15)/SUM(TempsPoste!H146:I146) -> #DIV/0! | F14: =SUM(DonnéeProduction!I15:J15)/TempsPoste!K146 -> #DIV/0! | G14: =DonnéeProduction!K15/TempsPoste!L146 -> #DIV/0! | H14: =DonnéeProduction!M15/INDIRECT(TempsPoste!N&(ROW(A12)*12-12)+14) -> #NAME? | I14: =DonnéeProduction!O15/TempsPoste!O146 -> #DIV/0! | J14: =DonnéeProduction!P15/TempsPoste!R146 -> #DIV/0! | K14: =DonnéeProduction!R15/TempsPoste!M146 -> #DIV/0! | L14: =DonnéeProduction!S15/TempsPoste!J146 -> #DIV/0! | M14: =DonnéeProduction!T15/TempsPoste!P146 -> #DIV/0! | N14: =SUM(DonnéeProduction!M15,DonnéeProduction!P15,DonnéeProduction!Q15,DonnéeProduction!R15)/TempsPoste!Q146 -> #DIV/0!
A15: =DonnéeProduction!B16 -> 0 | E15: =SUM(DonnéeProduction!G16:H16)/SUM(TempsPoste!H158:I158) -> #DIV/0! | F15: =SUM(DonnéeProduction!I16:J16)/TempsPoste!K158 -> #DIV/0! | G15: =DonnéeProduction!K16/TempsPoste!L158 -> #DIV/0! | H15: =DonnéeProduction!M16/INDIRECT(TempsPoste!N&(ROW(A13)*12-12)+14) -> #NAME? | I15: =DonnéeProduction!O16/TempsPoste!O158 -> #DIV/0! | J15: =DonnéeProduction!P16/TempsPoste!R158 -> #DIV/0! | K15: =DonnéeProduction!R16/TempsPoste!M158 -> #DIV/0! | L15: =DonnéeProduction!S16/TempsPoste!J158 -> #DIV/0! | M15: =DonnéeProduction!T16/TempsPoste!P158 -> #DIV/0! | N15: =SUM(DonnéeProduction!M16,DonnéeProduction!P16,DonnéeProduction!Q16,DonnéeProduction!R16)/TempsPoste!Q158 -> #DIV/0!
A16: =DonnéeProduction!B17 -> 0 | E16: =SUM(DonnéeProduction!G17:H17)/SUM(TempsPoste!H170:I170) -> #DIV/0! | F16: =SUM(DonnéeProduction!I17:J17)/TempsPoste!K170 -> #DIV/0! | G16: =DonnéeProduction!K17/TempsPoste!L170 -> #DIV/0! | H16: =DonnéeProduction!M17/INDIRECT(TempsPoste!N&(ROW(A14)*12-12)+14) -> #NAME? | I16: =DonnéeProduction!O17/TempsPoste!O170 -> #DIV/0! | J16: =DonnéeProduction!P17/TempsPoste!R170 -> #DIV/0! | K16: =DonnéeProduction!R17/TempsPoste!M170 -> #DIV/0! | L16: =DonnéeProduction!S17/TempsPoste!J170 -> #DIV/0! | M16: =DonnéeProduction!T17/TempsPoste!P170 -> #DIV/0! | N16: =SUM(DonnéeProduction!M17,DonnéeProduction!P17,DonnéeProduction!Q17,DonnéeProduction!R17)/TempsPoste!Q170 -> #DIV/0!
A17: =DonnéeProduction!B18 -> 0 | E17: =SUM(DonnéeProduction!G18:H18)/SUM(TempsPoste!H182:I182) -> #DIV/0! | F17: =SUM(DonnéeProduction!I18:J18)/TempsPoste!K182 -> #DIV/0! | G17: =DonnéeProduction!K18/TempsPoste!L182 -> #DIV/0! | H17: =DonnéeProduction!M18/INDIRECT(TempsPoste!N&(ROW(A15)*12-12)+14) -> #NAME? | I17: =DonnéeProduction!O18/TempsPoste!O182 -> #DIV/0! | J17: =DonnéeProduction!P18/TempsPoste!R182 -> #DIV/0! | K17: =DonnéeProduction!R18/TempsPoste!M182 -> #DIV/0! | L17: =DonnéeProduction!S18/TempsPoste!J182 -> #DIV/0! | M17: =DonnéeProduction!T18/TempsPoste!P182 -> #DIV/0! | N17: =SUM(DonnéeProduction!M18,DonnéeProduction!P18,DonnéeProduction!Q18,DonnéeProduction!R18)/TempsPoste!Q182 -> #DIV/0!
E18: =SUM(DonnéeProduction!G19:H19)/SUM(TempsPoste!H194:I194) -> #DIV/0!
E19: =SUM(DonnéeProduction!G20:H20)/SUM(TempsPoste!H206:I206) -> #DIV/0!
E20: =SUM(DonnéeProduction!G21:H21)/SUM(TempsPoste!H218:I218) -> #DIV/0!
E21: =SUM(DonnéeProduction!G22:H22)/SUM(TempsPoste!H230:I230) -> #DIV/0!
E22: =SUM(DonnéeProduction!G23:H23)/SUM(TempsPoste!H242:I242) -> #DIV/0!
E23: =SUM(DonnéeProduction!G24:H24)/SUM(TempsPoste!H254:I254) -> #DIV/0!
E24: =SUM(DonnéeProduction!G25:H25)/SUM(TempsPoste!H266:I266) -> #DIV/0!
E25: =SUM(DonnéeProduction!G26:H26)/SUM(TempsPoste!H278:I278) -> #DIV/0!
E26: =SUM(DonnéeProduction!G27:H27)/SUM(TempsPoste!H290:I290) -> #DIV/0!
E27: =SUM(DonnéeProduction!G28:H28)/SUM(TempsPoste!H302:I302) -> #DIV/0!
E28: =SUM(DonnéeProduction!G29:H29)/SUM(TempsPoste!H314:I314) -> #DIV/0!
E29: =SUM(DonnéeProduction!G30:H30)/SUM(TempsPoste!H326:I326) -> #DIV/0!
E30: =SUM(DonnéeProduction!G31:H31)/SUM(TempsPoste!H338:I338) -> #DIV/0!
E31: =SUM(DonnéeProduction!G32:H32)/SUM(TempsPoste!H350:I350) -> #DIV/0!
E32: =SUM(DonnéeProduction!G33:H33)/SUM(TempsPoste!H362:I362) -> #DIV/0!
E33: =SUM(DonnéeProduction!G34:H34)/SUM(TempsPoste!H374:I374) -> #DIV/0!
E34: =SUM(DonnéeProduction!G35:H35)/SUM(TempsPoste!H386:I386) -> #DIV/0!
E35: =SUM(DonnéeProduction!G36:H36)/SUM(TempsPoste!H398:I398) -> #DIV/0!
E36: =SUM(DonnéeProduction!G37:H37)/SUM(TempsPoste!H410:I410) -> #DIV/0!
E37: =SUM(DonnéeProduction!G38:H38)/SUM(TempsPoste!H422:I422) -> #DIV/0!
E38: =SUM(DonnéeProduction!G39:H39)/SUM(TempsPoste!H434:I434) -> #DIV/0!
E39: =SUM(DonnéeProduction!G40:H40)/SUM(TempsPoste!H446:I446) -> #DIV/0!
E40: =SUM(DonnéeProduction!G41:H41)/SUM(TempsPoste!H458:I458) -> #DIV/0!
...
