Workbook
Name BDD.Depl: Deploiement!$A$5:$Y$441
Name BDD.Merch: Merchandising!$A$5:$H$437
Name concept: #REF!
Name lightbox: #REF!
Name ligthbox: #REF!
Name maquillage: #REF!
Name meubles: #REF!
Name non_age: Merchandising!$H$6:$H$437
Name TA: #REF!
Name Table.Iso: #REF!
Name zone: Merchandising!$E$6:$E$437

Sheet Règles d'utilsation
B2: UTILISATION DE LA BASE DE DONNEES
B5: Fonction | C5: Elle permet de faire le suivi global du déploiement du LAB'.
C6: Toutes les ouvertures, rénovations, transferts LAB' du monde entier y sont référencés.
B8: Règles importantes ! | C8: Avant de commencer à remplir la BDD, tu dois impérativement avoir les règles qui suivent en tête ! Plusieurs tableaux sont croisés, aussi une erreur pourrait très rapidement tout dérégler.
E9: 1) | F9: Pour ajouter un projet à l'onglet "Déploiement", tu dois toujours te rendre tout en bas du tableau. Tu y trouveras 3 lignes blanches, suivies d'une ligne bleue.
F10: Insère une nouvelle ligne, tu pourras ensuite y entrer tes informations.
F11: Tu dois toujours conserver 3 lignes blanches et la ligne bleue à la fin du tableau !
E13: 2) | F13: Pour que la ligne que tu as ajouté dans l'onglet "Déploiement" apparaisse dans l'onglet "Merchandising", tu dois te rendre tout en bas du tableau "Merchandising".
F14: Tu y trouveras de nouveau 3 lignes blanches suivies d'une ligne bleue.
F15: Insère une nouvelle ligne. Séléctionne ensuite les 6 premières colonnes de la dernière ligne remplie du tableau.
F16: Etire ta séléction vers le bas pour étendre la formule. Les informations que tu as rentré dans "Déploiement" apparaissent alors.
F17: Tu dois toujours conserver 3 lignes blanches et la ligne bleue à la fin du tableau !
E19: 3) | F19: Pour trier le tableau par ordre alphabétique, tu dois IMPERATIVEMENT respecter la démarche suivante dans l'ordre indiqué !!
F20: Va dans l'onglet "Merchandising". Sélectionne TOUTES les cases du tableau (la partie de droite également).
F21: Clique sur "Trier et Filtrer" > "Trier de A à Z"
F22: Va ensuite dans l'onglet "Deploiement". Sélectionne TOUTES les cases du tableau (la partie de droite également).
F23: Clique sur "Trier et Filtrer" > "Trier de A à Z"
F24: Va dans l'onglet "Merchandising". Séléctionne les 6 premières colonnes de la première ligne remplie du tableau.
F25: Etire ta séléction vers le bas pour étendre la formule. (Certaines données vont changer, c'est normal.)
F26: Tu as trié les deux tableaux sans altérer les données qui y sont référencées !
E28: 4) | F28: Pour supprimer une ligne : tu dois toujours la supprimer D'ABORD dans l'onglet "Merchandising" PUIS dans l'onglet "Deploiement" !
B31: Déroulement | C31: 1 - | D31: Réception de la "project sheet"
D32: Chaque pays désirant entreprendre un nouveau projet LAB' envoie une "project sheet" (fichier Excel).
D33: Il s'agit d'un document regroupant les premières informations relatives au projet.
D34: Ce document te permettra de remplir l'onglet "Déploiement".
D35: Pour trouver cette project sheet :
E36: 1) | F36: Si le pays est une Filiale : la project sheet te sera directement transféré par Marie ou Manon par mail.
E37: 2) | F37: Si le pays est un Agent : tu trouveras la project sheet en suivant le lien suivant :
F38: G:\GDM_INTERNATIONAL\1-PROJETS à rentre dans un projet puis va dans le dossier "DOCS"
F39: Exemple : G:\GDM_INTERNATIONAL\1-PROJETS\A-LAB_Hongrie_Békéscsaba_CC_2017\DOCS
G40: à A-LAB_Hongrie_Békéscsaba_CC_2017 signifie :
G41: AGENT LAB' situé dans le pays de la Hongrie, dans la ville de Békéscsaba dans un Centre Commercial, le projet date de 2017.
C43: 2- | D43: Remplissage de l'onglet "Déploiement"
D44: Pour remplir l'onglet "Déploiement", il te suffit de suivre les informations données par la project sheet.
D46: POUR LE REMPLIR :
E47: 1) | F47: Pour définir le CODE MAG tu dois regarder les codes précèdemment attribués au pays et ajouter +1 au dernier listé.
F48: Exemple : Je cherche à intégrer un magasin en Allemagne. En regardant le dernier magasin référencé en Allemagne je vois que son code est DE011.
F49: Je dois donc donner à mon nouveau magasin le code DE012.
F50: S'il s'agit du premier magasin dans ce pays, il faut regarder le code ISO du pays (onglet ISO). Son numéro sera alors 001.
E52: 2) | F52: Lorsque tu remplis la case "VILLE - NOM DU MAGASIN", ne pas oublier de référencer la ville !
F53: N'hésite pas à jeter un coup d'oeuil sur Google si celle-ci n'est pas indiquée dans la project sheet.
E55: 3) | F55: Pour remplir les cases "DIRECTION", "ZONE" et "AGENT OU FILIALE", réfère toi aux attributions précèdement données au pays concerné.
E57: 4) | F57: Pour remplir le "CONCEPT LEVEL", tu as 3 possibilités : Light, STD (Standard) ou EXP (Experientiel). Si le magasin est Light, c'est indiqué dans la project sheet
F58: ou dans l'échange de mails.
F59: Ce n'est cependant pas toujours le cas de l'EXP. Pour confirmer qu'il s'agit bien d'un LAB' standard ou experientiel, regarde les plans :
F60: - | G60: Si présence d'un TryLAB = EXP
F61: - | G61: Si pas de TryLAB = STD
E63: 5) | F63: Le "STORE LEVEL" est normalement indiqué dans la project sheet.
F64: Cependant il y a souvent des erreurs aussi je te conseille de vérifier avec Manon ou Marie lorsque tu as un doute.
E66: 6) | F66: Si une information ne t'a pas été communiqué, indique NC (souvent pour les CA)
F67: Attention ! Si un magasin ne possède pas de cabine et qu'in n'a rien indiqué pour le CA soin, tu dois mettre 0 et non NC !
F68: Le magasin n'aura tout simplement pas de CA soin car il n'a pas d'institut.
D70: Pour le reste tout est inscrit dans la fiche ! :)
C72: 3- | D72: Réception du plan
D73: L'onglet "Merchandising" se rempli dans un second temps. Ayant besoin des plans magasin pour le remplir, il te faudra attendre la reception de ces derniers.
D74: Tu dois bien faire attention à ce que le plan soit à l'état APD (validé) et non APS (en cours). Les plans peuvent beaucoup changer pendant le processus.
D75: Pour trouver le plan APD :
E76: 1) | F76: Si le pays est une Filiale : le plan te sera directement transféré par Marie ou Manon par mail.
E77: 2) | F77: Si le pays est un Agent : tu trouveras le plan en suivant le lien suivant :
F78: G:\GDM_INTERNATIONAL\1-PROJETS à rentre dans un projet puis va dans le dossier "PLAN" > "PLAN PROJET" > "[date] APD"
F79: Personne ne te signalera qu'un plan APD a été ajouté, aussi dois-tu régulièrement vérifier les dossiers pour être à jour.
C81: 4- | D81: Remplissage de l'onglet "Merchandising"
D82: Pour remplir l'onglet "Merchandising" tu dois bien observer le plan.
D84: POUR LE REMPLIR :
E85: 1) | F85: Pour remplir "Merchandising Permanent" : reporte le nombre de meuble dans chaque catégorie que tu vois sur le plan dans la BDD.
F86: Si un meuble est noté R/V sur le plan, indique "oui" dans la case appropriée. Si non, laisse vide.
E88: 2) | F88: Attention à ne pas confondre "Meuble cadeaux" et "Gift wrapping". Ce sont deux choses différentes !
F89: Regarde bien ce que les pays ont écrit sur le plan !
F90: A noter que si un meuble "gift wrapping" se trouve hors de la surface de vente (réserve) tu dois quand même le noter dans la BDD.
E92: 3) | F92: Pour "Animation", si un mobilier n'est pas présent dans le magasin, tu ne dois pas laisser un vide mais indiquer 0.
E94: 4) | F94: L'espace experientiel peut être un Trylab, un Beauty Bar, une Make Up Station...
F95: Attention ! Un lavabo ou une Tour VAO etc. ne sont pas des espaces exéprientiels ! Ce sont des "Ameublements Spécifiques".
F96: Une case leur est dediée à la fin !
E98: 5) | F98: Pour "Lightbox", si un magasin n'en possède pas, tu ne dois pas laisser un vide mais indiquer 0.

Sheet Deploiement
A1: DEPLOIEMENT LAB' - 2016/2017 | F1: magasin verifié via liste pays ok
A2: hors France
N3: PLANNING PROJET | T3: CONTACTS | W3: DIVERS
A5: PAYS | B5: CODE MAG | C5: VILLE - NOM DU MAGASIN | D5: DIRECTION | E5: ZONE | F5: CONCEPT LEVEL | G5: AGENT OU FILIALE | H5: CREA-TR-RENO | I5: STORE LEVEL | J5: SDV (m²) | K5: CABINES | L5: CA PDTS ESTIME 3ans(K€) | M5: CA INSTITUT ESTIME 3ans (K€) | N5: RECEPTION FS | O5: REALISATION PLANS | P5: Retour central RECO ou APS | Q5: OUVERTURE INITIALE PREVUE | R5: ETAT | S5: RECEPTION PHOTOS | T5: CHEF DE PROJET | U5: MERCH | V5: BUSINESS MANAGER / DIRECTEUR RETAIL | W5: Contact /suivi | X5: XX | Y5: Réception matrice
A6: Albanie | B6: AL001 | C6: Tirana - Toptani | D6: BRICS | E6: SEE | F6: STD | G6: A | H6: CREA | I6: STD | J6: 30 | K6: 0 | L6: 120 | M6: 0 | N6: 42480 | O6: central | P6: 42500 | Q6: XX/03/16 | R6: OK OUVERT | T6: CORNELIA NITU | U6: CORNELIA NITU
A7: Albanie | B7: AL002 | C7: Shkodra - Shkodra | D7: BRICS | E7: SEE | F7: STD | G7: A | H7: CREA | I7: STD | J7: 19.45 | K7: 0 | L7: 270 | M7: 0 | Q7: 43054
A8: Algérie | B8: DZ001 | C8: Alger - Carrefour City Center | D8: BRICS | E8: Méditerranée | F8: STD | G8: A | H8: CREA | I8: STD | J8: 47 | K8: 0 | L8: 400 | M8: 0 | N8: 42641 | O8: central | P8: 42650 | Q8: 42673 | R8: OK OUVERT | T8: RYM AYACH | U8: RYM AYACH
A9: Algérie | B9: DZ002 | C9: Bouira - Bouira | D9: BRICS | E9: Méditerranée | F9: STD | G9: A | H9: CREA | I9: STD | J9: 38.85 | K9: 1 | L9: 600 | M9: NC | N9: 42711 | O9: central | P9: 42713 | Q9: XX/08/17 | R9: OK OUVERT | T9: RYM AYACH | U9: RYM AYACH
A10: Algérie | B10: DZ003 | C10: Alger - Didouche Mourad | D10: BRICS | E10: Méditerranée | F10: STD | G10: A | H10: CREA | I10: STD | J10: 30 | K10: 2 | L10: 150 | M10: NC | N10: 42550 | O10: central | P10: 42557 | Q10: XX/04/17 | R10: OK OUVERT | T10: RYM AYACH | U10: SABINE CEYRAC | V10: HB
A11: Algérie | B11: DZ004 | C11: Alger - Hassiba ben Bouali | D11: BRICS | E11: Méditerranée | F11: STD | G11: A | H11: RENO | I11: STD | J11: 45.55 | K11: 2 | L11: 50 | M11: NC | N11: 42622 | O11: central | P11: 42632 | Q11: 42675 | T11: RYM AYACH | U11: RYM AYACH
A12: Allemagne | B12: DE001 | C12: Bad Oeynhausen | D12: NCE | E12: AL/AUT/SUI | F12: STD | G12: F | H12: TR | I12: STD | J12: 45 | K12: 0 | L12: 1195 | M12: 0 | N12: 42767 | O12: local | Q12: XX/06/17 | R12: OK OUVERT
A13: Allemagne | B13: DE002 | C13: Bautzen - DE0209 | D13: NCE | E13: AL/AUT/SUI | F13: Light | G13: F | H13: RENO | I13: STD | J13: 48.2 | K13: 0 | L13: 1173 | M13: 0 | N13: 42858 | O13: local | Q13: XX/08/17 | R13: OK OUVERT
A14: Allemagne | B14: DE003 | C14: Frankfurt | D14: NCE | E14: AL/AUT/SUI | F14: STD | G14: F | I14: STD | N14: 42878 | O14: local | Q14: XX/07/17 | R14: OK OUVERT
A15: Allemagne | B15: DE004 | C15: Hoyerswerda - DE0260 | D15: NCE | E15: AL/AUT/SUI | F15: Light | G15: F | H15: RENO | I15: STD | J15: 50 | K15: 0 | L15: 965 | M15: 0 | N15: 42857 | O15: local | Q15: NC
A16: Allemagne | B16: DE005 | C16: Gera - Gera Arcaden | D16: NCE | E16: AL/AUT/SUI | F16: STD | G16: F | H16: TR | I16: STD | J16: 35 | K16: 0 | L16: 957 | M16: 0 | Q16: 43069 | T16: Catharina Transier | U16: Barbara Klein | V16: Antoine Robert du Boilouveau
A17: Allemagne | B17: DE006 | C17: Berlin - DE0273 Berlin Alexa | D17: NCE | E17: AL/AUT/SUI | F17: STD | G17: F | H17: CREA | I17: STD | J17: 48.88 | K17: 0 | L17: 520 | M17: 0 | Q17: 43116
A18: Allemagne | B18: DE007 | C18: Oberhauffsen | D18: NCE | E18: AL/AUT/SUI | G18: F
A19: Allemagne | B19: DE008 | C19: Gera - Ausführungsplanung | D19: NCE | E19: AL/AUT/SUI | F19: STD | G19: F | I19: STD | J19: 55 | K19: 0 | L19: NC | M19: NC | Q19: 43056
A20: Angola | B20: AO001 | C20: Luanda - Shopping Centre Kilamba | D20: BRICS | E20: SSA | F20: STD | G20: A | H20: CREA | I20: STD | J20: 80 | K20: 0 | L20: 450 | M20: 0 | N20: 42793 | Q20: 42856 | T20: Izar Hyacinthe | U20: Jacek Roznowickz | V20: HB
A21: Angola | B21: AO002 | C21: Lubango - Xyami | D21: BRICS | E21: SSA | F21: STD | G21: A | H21: CREA | I21: STD | J21: 38 | K21: 0 | L21: NC | M21: 0 | N21: 42542 | O21: central | P21: 42543 | Q21: 42705 | R21: OK OUVERT | T21: IZAR HYACINTHE | U21: SABINE CEYRAC | V21: HB
A22: Arabie Saoudite | B22: SA001 | C22: Khobar - Al Rashid Mall | D22: BRICS | E22: Middle East | F22: STD | G22: A | H22: CREA | I22: IMAGE | J22: 55 | K22: 0 | L22: 300 | M22: 0 | N22: 42761 | Q22: XX/05/17 | R22: OK OUVERT | T22: STEPAHNIE BRUNI | V22: HB | Y22: NOK
A23: Arabie Saoudite | B23: SA002 | C23: Riyad - Al Faisaliyah | D23: BRICS | E23: Middle East | F23: STD | G23: A | H23: CREA | I23: IMAGE | J23: 40 | K23: 0 | L23: 350 | M23: 0 | N23: 42761 | Q23: XX/06/17 | R23: OK OUVERT | Y23: NOK
A24: Arabie Saoudite | B24: SA003 | C24: Djeddah - Roshan Mall | D24: BRICS | E24: Middle East | G24: A | Q24: XX/09/17 | R24: OK OUVERT
A25: Arabie Saoudite | B25: SA004 | C25: Riyadh - Al Nakheel Mall | D25: BRICS | E25: Middle East | F25: STD | G25: A | H25: RENO | I25: STD | J25: 80 | K25: 0 | L25: 700 | M25: 0 | Q25: 42826
A26: Arabie Saoudite | B26: SA005 | C26: Djeddah - Al Saalam Mall | D26: BRICS | E26: Middle East | F26: STD | G26: A | H26: RENO | I26: STD | J26: 44 | K26: 0 | L26: 350 | M26: 0 | Q26: 42826
A27: Arabie Saoudite | B27: SA006 | C27: Tabuk - Park Mall | D27: BRICS | E27: Middle East | F27: STD | G27: A | H27: CREA | I27: IMAGE | J27: 47 | K27: 0 | L27: 350 | M27: 0 | Q27: NC
A28: Arabie Saoudite | B28: SA007 | C28: Riyadh - Tala Mall | D28: BRICS | E28: Middle East | F28: STD | G28: A | H28: RENO | I28: STD | J28: 49.3 | K28: 0 | L28: 350 | M28: 0 | Q28: 42826
A29: Arabie Saoudite | B29: SA008 | C29: Dammam - West Avenue Mall | D29: BRICS | E29: Middle East | F29: STD | G29: A | H29: CREA | I29: STD | J29: 53.3 | K29: 0 | L29: 700 | M29: 0 | Q29: 43040
A30: Arabie Saoudite | B30: SA009 | C30: Jeddah - Jeddah | D30: BRICS | E30: Middle East | F30: STD | G30: A | H30: CREA | I30: STD | J30: 67 | K30: 0 | L30: 350 | M30: 0 | Q30: Q1 2018
A31: Autriche | B31: AT001 | C31: Vienne - SCS | D31: NCE | E31: AL/AUT/SUI | F31: STD | G31: F | H31: TR | I31: STD | J31: 43.31 | K31: 0 | L31: NC | M31: 0 | Q31: 43035 | T31: Heike Jäckle | U31: Barbara Klein | V31: Thomas Chatain
A32: Belgique | B32: BE001 | C32: Bruxelles Docks | D32: NCE | E32: Benelux | F32: STD | G32: F | H32: CREA | I32: STD | J32: 49 | K32: 2 | L32: 462 | M32: 80 | N32: 42563 | O32: local | P32: 42572 | Q32: 42663 | R32: OK OUVERT | T32: INGRID HOLVOET | U32: CECILIA NUNES DA SILVA | Y32: OK
A33: Belgique | B33: BE002 | C33: Bruxelles Gare Centrale | D33: NCE | E33: Benelux | F33: STD | G33: F | H33: CREA | I33: STD | J33: 22 | K33: 0 | L33: 273 | M33: 0 | N33: 42569 | O33: local | P33: 42572 | Q33: XX/02/17 | R33: OK OUVERT | T33: INGRID HOLVOET | U33: CECILIA NUNES DA SILVA | Y33: OK
A34: Belgique | B34: BE003 | C34: Bruxelles Gare Du Nord | D34: NCE | E34: Benelux | F34: STD | G34: F | H34: CREA | I34: STD | J34: 54 | K34: 0 | L34: 540 | M34: NC | N34: 42660 | O34: local | P34: 42661 | Q34: 42824 | R34: OK OUVERT | T34: INGRID HOLVOET | U34: CECILIA NUNES DA SILVA
A35: Belgique | B35: BE004 | C35: Charleroi | D35: NCE | E35: Benelux | F35: STD | G35: F | H35: CREA | I35: TOP STORE | J35: 55 | K35: 2 | L35: 570 | M35: NC | N35: 42660 | O35: local | P35: 42668 | Q35: 42786 | T35: INGRID HOLVOET | U35: CECILIA NUNES DA SILVA | Y35: OK
A36: Belgique | B36: BE005 | C36: Bruxelles - Fort Jaco | D36: NCE | E36: Benelux | F36: STD | G36: F | H36: CREA | I36: STD | J36: 41 | K36: 3 | L36: 370 | M36: NC | N36: 42563 | O36: local | P36: 42572 | Q36: 42648 | R36: OK OUVERT | T36: INGRID HOLVOET | U36: CECILIA NUNES DA SILVA | Y36: OK
A37: Belgique | B37: BE006 | C37: Anvers - Korte Gasthuisstraat | D37: NCE | E37: Benelux | F37: STD | G37: F | H37: CREA | I37: IMAGE | J37: 42 | K37: 2 | L37: 701 | M37: 63 | N37: 42654 | O37: local | P37: 42655 | Q37: XX/03/17 | R37: OK OUVERT | T37: INGRID HOLVOET | U37: CECILIA NUNES DA SILVA | Y37: OK
A38: Belgique | B38: BE007 | C38: Mol - CV | D38: NCE | E38: Benelux | F38: STD | G38: F | H38: CREA | I38: STD | J38: 45 | K38: 2 | L38: 323 | M38: NC | N38: 42650 | O38: local | P38: 42653 | Q38: 42774 | R38: OK OUVERT | T38: INGRID HOLVOET | U38: CECILIA NUNES DA SILVA
A39: Belgique | B39: BE008 | C39: Anvers - Mortsel | D39: NCE | E39: Benelux | F39: STD | G39: F | H39: CREA | I39: STD | J39: 18 | K39: 2 | L39: 370 | M39: 60 | Q39: XX/06/17 | R39: OK OUVERT | T39: INGRID HOLVOET | U39: CECILIA NUNES DA SILVA | V39: GUILLAUME LECOINTRE
A40: Belgique | B40: BE009 | C40: Namur - CV | D40: NCE | E40: Benelux | F40: STD | G40: F | H40: RENO | I40: TOP STORE | J40: 69.3 | K40: 4 | L40: >1500 | M40: NC | N40: 42772 | O40: local | Q40: 42837 | R40: OK OUVERT | T40: INGRID HOLVOET | U40: CECILIA NUNES DA SILVA | V40: NC
A41: Belgique | B41: BE010 | C41: Avers - Wijnegem | D41: NCE | E41: Benelux | F41: STD | G41: F | H41: RENO | I41: STD | J41: 48 | K41: 2 | L41: 1050 | M41: 80 | N41: 42706 | O41: local | P41: 42710 | Q41: 42788 | R41: OK OUVERT | T41: INGRID HOLVOET | U41: CECILIA NUNES DA SILVA
A42: Belgique | B42: BE011 | C42: Anvers - Wilrijk | D42: NCE | E42: Benelux | F42: STD | G42: F | H42: CREA | I42: STD | J42: 46 | K42: 2 | L42: 370 | M42: 60 | N42: 42605 | O42: local | P42: 42605 | Q42: 42676 | R42: OK OUVERT | T42: INGRID HOLVOET | U42: CECILIA NUNES DA SILVA | W42: Envoyé | Y42: OK
A43: Belgique | B43: BE012 | C43: Anvers - Grand Bazar | D43: NCE | E43: Benelux | F43: Light | G43: F | H43: RENO | I43: STD | Q43: XX/03/17 | R43: OK OUVERT
A44: Belgique | B44: BE013 | C44: Knocke | D44: NCE | E44: Benelux | F44: Light | G44: F | I44: STD | R44: OK OUVERT
A45: Biélorussie | B45: BY001 | C45: Minsk - Dana Mall | D45: BRICS | E45: ex-CEI étendu | F45: STD | G45: A | H45: CREA | I45: STD | J45: 27 | K45: 0 | L45: 900 | M45: 0 | N45: 42549 | O45: central | P45: 42557 | Q45: XX/02/17 | R45: OK OUVERT | T45: MARIA OSTROUKHOVA | U45: MARIA OSTROUKHOVA
A46: Biélorussie | B46: BY002 | C46: Minsk - Green City | D46: BRICS | E46: ex-CEI étendu | F46: STD | G46: A | H46: CREA | I46: STD | J46: 33.7 | K46: 0 | L46: 300 | M46: 0 | N46: 42741 | O46: central | Q46: XX/05/17 | R46: OK OUVERT
A47: Biélorussie | B47: BY003 | C47: Minsk - Zamok | D47: BRICS | E47: ex-CEI étendu | F47: STD | G47: A | H47: TR | I47: STD | J47: 32 | K47: 0 | L47: 900 | M47: 0 | N47: 42549 | O47: central | P47: 42562 | Q47: XX/02/17 | R47: OK OUVERT | T47: MARIA OSTROUKHOVA | U47: MARIA OSTROUKHOVA | W47: Envoyé | Y47: OK
A48: Biélorussie | B48: BY004 | C48: Gomel - Mandarine Plaza | D48: BRICS | E48: ex-CEI étendu | F48: STD | G48: A | H48: CREA | I48: STD | J48: 31.5 | K48: 0 | L48: 1050 | M48: 0 | Q48: 42979
A49: Biélorussie | B49: BY005 | C49: Vitebsk - Vitebsk Kirova | D49: BRICS | E49: ex-CEI étendu | F49: STD | G49: A | H49: RENO | I49: STD | J49: 49.24 | K49: 0 | L49: NC | M49: 0 | Q49: NC
A50: Bulgarie | B50: BG001 | C50: Plovdiv - Markovo Tepe Mall | D50: BRICS | E50: SEE | F50: STD | G50: A | H50: CREA | I50: STD | J50: 38 | K50: 0 | L50: 200 | M50: 0 | N50: 42550 | O50: central | P50: 42562 | Q50: 42644 | T50: CORNELIA NITU | U50: CORNELIA NITU | V50: HB | Y50: OK
A51: Bulgarie | B51: BG002 | C51: Sofia - Paradise center | D51: BRICS | E51: SEE | F51: STD | G51: A | H51: CREA | I51: STD | J51: 33 | K51: 1 | L51: 395 | M51: 70 | N51: 42976 | Q51: 43023 | T51: Cornelia Nitu | U51: Cornelia Nitu
A52: Cambodge | B52: KH001 | C52: Phnom Penh - Exchange Square | D52: BRICS | E52: SEA | F52: STD | G52: A | H52: CREA | I52: STD | J52: 29 | K52: 1 | L52: 80 | M52: 20 | N52: 42572 | O52: central | P52: 42629 | Q52: XX/07/17 | R52: OK OUVERT | T52: NICOLAS GILLET | U52: ZINEB HOURRI
A53: Cambodge | B53: KH002 | C53: Phnom Penh - Aeon | D53: BRICS | E53: SEA | F53: STD | G53: A | H53: RENO | I53: STD | J53: 51 | K53: 2 | L53: 95 | M53: 25 | Q53: 43160
A54: Cambodge | B54: KH003 | C54: Phnom Penh - Street 51 | D54: BRICS | E54: SEA | G54: A | Q54: XX/06/17 | R54: OK OUVERT
A55: Cambodge | B55: KH004 | C55: Siem Reap - Heritage Walk | D55: BRICS | E55: SEA | F55: STD | G55: A | H55: CREA | I55: STD | J55: NC | K55: 2 | L55: 85 | M55: 15 | Q55: 43132
A56: Canada | B56: CA001 | C56: Montréal - Carrefour Angrignon | D56: AMERIQUES | E56: Canada | F56: Light | G56: F | H56: RENO | I56: STD | J56: 60 | K56: 1 | L56: 231 | M56: 1 | N56: 42845 | O56: local | Q56: XX/09/17 | R56: OK OUVERT | W56: envoyé
A57: Canada | B57: CA002 | C57: Sherbrooke - Carrefour De L'Estrie | D57: AMERIQUES | E57: Canada | F57: STD expérientiel | G57: F | H57: CREA | I57: IMAGE | O57: local | Q57: NC | R57: OK OUVERT
A58: Canada | B58: CA003 | C58: Laval - Centre Laval | D58: AMERIQUES | E58: Canada | F58: Light | G58: F | H58: RENO | I58: STD | J58: 60 | K58: 0 | L58: NC | M58: 0 | N58: 42847 | O58: local | Q58: XX/08/17 | R58: OK OUVERT | T58: YVES TANGUY | U58: LAURA TACCORI
A59: Canada | B59: CA004 | C59: Toronto - Dufferin Mall | D59: AMERIQUES | E59: Canada | F59: STD | G59: F | H59: CREA | I59: STD | J59: 58 | K59: 0 | L59: 325 | M59: 0 | N59: 42568 | O59: local | P59: 42573 | Q59: XX/10/2016 | R59: OK OUVERT | T59: YVES TANGUY | U59: OMAR CHTAYNA | Y59: NOK
A60: Canada | B60: CA005 | C60: Toronto - Eaton | D60: AMERIQUES | E60: Canada | G60: F | I60: STD | O60: local | Q60: NC | Y60: NOK
A61: Canada | B61: CA006 | C61: Kitchener - Fairview Park | D61: AMERIQUES | E61: Canada | F61: STD | G61: F | H61: CREA | I61: STD | J61: 60 | K61: 0 | L61: NC | M61: 0 | N61: 42663 | O61: local | P61: 42668 | Q61: XX/02/17 | R61: OK OUVERT | T61: YVES TANGUY | U61: OMAR CHTAYNA
A62: Canada | B62: CA007 | C62: Barrie - Georgian Mall | D62: AMERIQUES | E62: Canada | F62: STD | G62: F | H62: CREA | I62: STD | J62: 52 | K62: 0 | L62: 285 | M62: 0 | N62: 42767 | O62: local | Q62: XX/05/17 | R62: OK OUVERT | T62: YVES TANGUY | U62: LAURA TACCORI
A63: Canada | B63: CA008 | C63: Montréal - Rockland | D63: AMERIQUES | E63: Canada | F63: STD | G63: F | H63: RENO | I63: STD | J63: 38.6 | K63: 2 | L63: 307 | M63: 67 | N63: 42843 | O63: local | Q63: 43009 | W63: envoyé
A64: Canada | B64: CA009 | C64: Beloeil - Mail Montenach | D64: AMERIQUES | E64: Canada | F64: Light | G64: F | H64: TR | I64: STD | J64: 49 | K64: 0 | L64: 187 | M64: 0 | Q64: NC
A65: Canada | B65: CA010 | C65: Quebec - Galerie de la Capitale | D65: AMERIQUES | E65: Canada | F65: EXP | G65: F | H65: RENO | I65: TOP STORE | J65: 133 | K65: 2 | L65: 584 | M65: 93 | Q65: 43159
A66: Chine | B66: CN001 | C66: Shanghai - Xinzhuang | D66: BRICS | E66: Chine | F66: STD | G66: A | H66: CREA | I66: STD | J66: 35 | K66: 0 | L66: NC | M66: 0 | O66: local | Q66: 42628 | R66: FERME | T66: GILLES BEROUD | U66: ZINEB HOURRI | V66: GILLES BEROUD | Y66: OK
A67: Chypre | B67: CY001 | C67: Limassol - Anexartisias | D67: BRICS | E67: Méditerranée | F67: STD | G67: A | H67: CREA | I67: STD | J67: 58 | K67: 0 | L67: 400 | M67: 0 | N67: 42649 | O67: central | P67: 42655 | Q67: XX/12/16 | R67: OK OUVERT | T67: VALENTINE TOUSSAINT | U67: RYM AYACH | Y67: NOK
A68: Chypre | B68: CY002 | C68: Limassol - My Mall | D68: BRICS | E68: Méditerranée | F68: STD | G68: A | H68: CREA | I68: STD | J68: 35.5 | K68: 0 | L68: 400 | M68: 0 | N68: 42765 | O68: central | Q68: 42855 | T68: VALENTINE VINCENT | U68: NC | V68: NC
A69: Côte d'Ivoire | B69: CI001 | C69: Abidjan - Cap Sud | D69: BRICS | E69: SSA | F69: STD | G69: A | H69: CREA | I69: STD | J69: 29 | K69: 0 | L69: 150 | M69: 0 | N69: 42529 | O69: central | P69: 42542 | Q69: XX/11/16 | R69: OK OUVERT | T69: IZAR HYACINTHE | U69: SABINE CEYRAC | V69: HB
A70: Côte d'Ivoire | B70: CI002 | C70: Abidjan - CC Cap Nord | D70: BRICS | E70: SSA | F70: STD | G70: A | H70: CREA | I70: STD | J70: 46 | K70: 2 | L70: 200 | M70: 50 | Q70: XX/06/17 | R70: OK OUVERT | T70: IZAR HYACINTHE | U70: SABINE CEYRAC
A71: Croatie | B71: HR001 | C71: Split - Marmontova | D71: BRICS | E71: SEE | F71: STD | G71: A | H71: CREA | I71: STD | J71: 31 | K71: 0 | L71: 370 | M71: 0 | Q71: 43103
A72: Egypte | B72: EG001 | C72: Le Caire - Mall of Egypt | D72: BRICS | E72: Middle East | F72: STD | G72: A | H72: CREA | I72: IMAGE | J72: 33 | K72: 0 | L72: 300 | M72: 0 | O72: central | P72: 42555 | Q72: 42689 | T72: HB | V72: HB | Y72: Ouverture marché, poids estimés
A73: Egypte | B73: EG002 | C73: Le Caire - Point 90 | D73: BRICS | E73: Middle East | F73: STD | G73: A | H73: CREA | I73: STD | J73: 63 | K73: 0 | L73: NC | M73: 0 | N73: 42740 | O73: local | Q73: XX/09/17 | R73: OK OUVERT | Y73: Ouverture marché, poids estimés
A74: Egypte | B74: EG003 | C74: Le Caire - Maadi | D74: BRICS | E74: Middle East | F74: STD | G74: A | H74: CREA | I74: STD | J74: 28 | K74: 0 | L74: NC | M74: 0 | Q74: Q1 2017 | Y74: OK
A75: Egypte | B75: EG004 | C75: Alexandria - City Stars | D75: BRICS | E75: Middle East | F75: STD | G75: A | H75: CREA | I75: STD | J75: 40 | K75: 0 | L75: 300 | M75: 0 | Q75: 42689
A76: Egypte | B76: EG005 | C76: Le Caire - Mohy El Dien Abu Al Ezz Street | D76: BRICS | E76: Middle East | F76: STD | G76: A | H76: CREA | I76: STD | J76: 40.2 | K76: 0 | L76: 150 | M76: 0 | Q76: Q3 2017
A77: Espagne | B77: ES001 | C77: Alicante - Alfonso X | D77: Europe du Sud | E77: Espagne | F77: STD | G77: F | H77: CREA | I77: STD | J77: 45.2 | K77: 3 | L77: 480 | M77: 95 | N77: 42786 | O77: local | Q77: XX/06/2017 | R77: OK OUVERT | T77: THOMAS BLENEAU | U77: BEATRIZ ADUADO | V77: INIGO RUANES | Y77: OK
A78: Espagne | B78: ES002 | C78: Alicante - Plaza | D78: Europe du Sud | E78: Espagne | F78: STD | G78: F | H78: RENO | I78: STD | J78: 43.35 | K78: 1 | L78: 530 | M78: 20 | N78: 42948 | O78: Local | Q78: 42979
A79: Espagne | B79: ES003 | C79: Arona - Parque Santiago IV | D79: Europe du Sud | E79: Espagne | F79: STD | G79: F | H79: CREA | I79: STD | J79: 40.4 | K79: 1 | L79: 453 | M79: 60 | N79: 42824 | O79: Local | Q79: 42887 | R79: OK OUVERT | T79: THOMAS BLENEAU | U79: BEATRIZ AGUADO | V79: IÑIGO RUANES | Y79: OK
A80: Espagne | B80: ES004 | C80: Barcelone - Las Glories | D80: Europe du Sud | E80: Espagne | F80: STD | G80: F | H80: CREA | I80: STD | J80: 33 | K80: 1 | L80: 380 | M80: 50 | O80: local | P80: 42502 | Q80: XX/12/16 | R80: OK OUVERT | T80: THOMAS BLENEAU | U80: BEATRIZ AGUADO | Y80: OK
A81: Espagne | B81: ES005 | C81: Barcelone - Maremagnum | D81: Europe du Sud | E81: Espagne | F81: STD | G81: F | H81: CREA | I81: STD | J81: 25.6 | K81: 0 | L81: 350 | M81: 0 | N81: 42782 | O81: local | Q81: 42887 | R81: OK OUVERT | T81: THOMAS BLENEAU | U81: BEATRIZ ADUADO | V81: INIGO RUANES | Y81: OK
A82: Espagne | B82: ES006 | C82: Barcelone - Portaferrisa | D82: Europe du Sud | E82: Espagne | F82: STD | G82: F | H82: RENO | I82: TOP STORE | J82: 72 | K82: 3 | L82: 850 | M82: 100 | N82: 42698 | O82: local | P82: 42707 | Q82: NC | R82: ANNULE | T82: THOMAS BLENEAU | U82: BEATRIZ AGUADO | V82: IÑIGO RUANES | Y82: OK
A83: Espagne | B83: ES007 | C83: Barcelone - Ramblas Cataluna | D83: Europe du Sud | E83: Espagne | F83: STD | G83: F | I83: STD | J83: 44.7 | K83: 2 | L83: 630 | M83: 60 | P83: 42458 | Q83: 42529 | R83: OK OUVERT | T83: THOMAS BLENEAU | U83: BEATRIZ AGUADO
A84: Espagne | B84: ES008 | C84: Cordoba - CC La Sierra | D84: Europe du Sud | E84: Espagne | F84: STD | G84: F | H84: CREA | I84: STD | J84: 46.7 | K84: 1 | L84: 309 | M84: 30 | Q84: XX/06/17 | R84: OK OUVERT
A85: Espagne | B85: ES009 | C85: Fuengirola - CC Miramar | D85: Europe du Sud | E85: Espagne | F85: STD | G85: F | H85: RENO | I85: STD | J85: 40.3 | K85: 2 | L85: 340 | M85: 40 | N85: 42948 | O85: Local | Q85: 43022 | R85: OK OUVERT
A86: Espagne | B86: ES010 | C86: Gijon - Corrida | D86: Europe du Sud | E86: Espagne | F86: STD | G86: F | H86: RENO | I86: TOP STORE | J86: 50 | K86: 4 | L86: 540 | M86: 70 | O86: central | P86: 42471 | Q86: 42678 | R86: OK OUVERT | T86: THOMAS BLENEAU | U86: BEATRIZ AGUADO
A87: Espagne | B87: ES011 | C87: Granada - Cc Nevada Shopping | D87: Europe du Sud | E87: Espagne | F87: STD | G87: F | H87: CREA | I87: STD | J87: 44 | K87: 0 | L87: 378 | M87: 0 | N87: 42690 | O87: local | P87: 42690 | Q87: 42725 | R87: OK OUVERT | T87: THOMAS BLENEAU | U87: BEATRIZ AGUADO
A88: Espagne | B88: ES012 | C88: Irun - CC Txingudi | D88: Europe du Sud | E88: Espagne | F88: STD | G88: F | H88: CREA | I88: STD | J88: 45.1 | K88: 0 | L88: 326 | M88: 0 | N88: 42824 | O88: Local | Q88: XX/05/17 | R88: OK OUVERT | T88: THOMAS BLENEAU | U88: BEATRIZ AGUADO | V88: IÑIGO RUANES | Y88: NOK
A89: Espagne | B89: ES013 | C89: Madrid - Arenal | D89: Europe du Sud | E89: Espagne | F89: STD | G89: F | H89: TR | I89: IMAGE | J89: 58 | K89: 3 | L89: NC | M89: NC | O89: central | P89: 42612 | Q89: 42675 | R89: OK OUVERT | T89: THOMAS BLENEAU | U89: BEATRIZ AGUADO
A90: Espagne | B90: ES014 | C90: Madrid - Goya | D90: Europe du Sud | E90: Espagne | F90: STD | G90: F | H90: RENO | I90: IMAGE | K90: 3 | L90: NC | M90: NC | O90: local | Q90: NC | R90: OK OUVERT | T90: THOMAS BLENEAU | U90: BEATRIZ AGUADO
A91: Espagne | B91: ES015 | C91: Madrid - La Gavia | D91: Europe du Sud | E91: Espagne | F91: STD | G91: F | H91: RENO | I91: STD | J91: 41 | K91: 2 | L91: NC | M91: NC | N91: 42542 | O91: local | P91: 42542 | Q91: XX/03/17 | R91: OK OUVERT | T91: THOMAS BLENEAU
A92: Espagne | B92: ES016 | C92: Madrid - Plenilunio | D92: Europe du Sud | E92: Espagne | F92: STD | G92: F | H92: CREA | I92: STD | J92: 29.8 | K92: 0 | L92: 350 | M92: 0 | N92: 42782 | O92: local | Q92: 42917 | R92: OK OUVERT | T92: THOMAS BLENEAU | U92: BEATRIZ ADUADO | V92: INIGO RUANES | Y92: OK
A93: Espagne | B93: ES017 | C93: Madrid - Xanadu (Arroyolomolinos) | D93: Europe du Sud | E93: Espagne | F93: STD | G93: F | H93: CREA | I93: STD | J93: 45 | K93: 1 | L93: 380 | M93: 45 | O93: central | P93: 42486 | Q93: 42614 | R93: OK OUVERT | T93: THOMAS BLENEAU | U93: BEATRIZ AGUADO | Y93: OK
A94: Espagne | B94: ES018 | C94: Ondara - Cc Portal De La Marina | D94: Europe du Sud | E94: Espagne | F94: STD | G94: F | H94: CREA | I94: STD | J94: 29.9 | K94: 0 | L94: 281 | M94: 0 | N94: 42825 | O94: Local | Q94: 42887 | R94: OK OUVERT | T94: THOMAS BLENEAU | U94: BEATRIZ AGUADO | V94: IÑIGO RUANES | Y94: NOK
A95: Espagne | B95: ES019 | C95: Oviedo - Uria | D95: Europe du Sud | E95: Espagne | F95: STD | G95: F | H95: TR | I95: STD | J95: 41 | K95: 3 | L95: 510 | M95: 95 | N95: 42690 | O95: local | P95: 42695 | Q95: XX/04/17 | R95: OK OUVERT | T95: THOMAS BLENEAU | U95: BEATRIZ AGUADO | Y95: Pas de sell out
A96: Espagne | B96: ES020 | C96: Palma - CC Fan | D96: Europe du Sud | E96: Espagne | F96: STD | G96: F | H96: CREA | I96: STD | J96: 37 | K96: 1 | L96: 380 | M96: 50 | O96: central | P96: 42478 | Q96: 42635 | R96: OK OUVERT | T96: THOMAS BLENEAU | U96: BEATRIZ AGUADO
A97: Espagne | B97: ES021 | C97: Palma - San Miguel | D97: Europe du Sud | E97: Espagne | F97: STD | G97: F | H97: RENO | I97: TOP STORE | J97: 55 | K97: 3 | L97: 720 | M97: 150 | N97: 42717 | O97: local | Q97: Reporté à 2018 | T97: THOMAS BLENEAU | U97: BEATRIZ AGUADO | V97: IÑIGO RUANES | Y97: OK
A98: Espagne | B98: ES022 | C98: Tenerife - CC Meridiano | D98: Europe du Sud | E98: Espagne | F98: STD | G98: F | H98: RENO | I98: STD | J98: 56 | K98: 3 | L98: NC | M98: NC | N98: 42542 | O98: local | P98: 42542 | Q98: XX/03/17 | R98: OK OUVERT | T98: THOMAS BLENEAU | Y98: OK
A99: Espagne | B99: ES023 | C99: Valencia - Colon | D99: Europe du Sud | E99: Espagne | F99: STD | G99: F | H99: RENO | I99: TOP STORE | J99: 48 | K99: 2 | L99: 950 | M99: 60 | N99: 42698 | O99: local | P99: 42707 | Q99: 42826 | R99: OK OUVERT | T99: THOMAS BLENEAU | U99: BEATRIZ AGUADO | V99: IÑIGO RUANES | Y99: NOK
A100: Espagne | B100: ES024 | C100: Vigo - CC Gran Via | D100: Europe du Sud | E100: Espagne | F100: STD | G100: F | H100: CREA | I100: STD | J100: 62 | K100: 2 | L100: 520 | M100: 45 | O100: central | P100: 42482 | Q100: 42608 | R100: OK OUVERT | T100: THOMAS BLENEAU | U100: BEATRIZ AGUADO | Y100: OK
A101: Espagne | B101: ES025 | C101: Vigo - Urzaiz | D101: Europe du Sud | E101: Espagne | F101: STD | G101: F | H101: RENO | I101: STD | J101: 50 | K101: 2 | L101: 400 | M101: 50 | N101: 42698 | O101: local | P101: 42707 | Q101: XX/06/17 | R101: OK OUVERT | T101: THOMAS BLENEAU | U101: BEATRIZ AGUADO | V101: IÑIGO RUANES | Y101: OK
...

Sheet Merchandising
A5: PAYS | B5: CODE MAG | C5: VILLE - NOM DU MAGASIN | D5: DIRECTION | E5: ZONE | F5: NIVEAU DE CONCEPT | G5: GENERALISTE / SPECIALISTE | H5: NON AGE ML
A6: =IF(Deploiement!A6="","",Deploiement!A6) -> Albanie | B6: =IF(Deploiement!B6="","",Deploiement!B6) -> AL001 | C6: =IF(Deploiement!C6="","",Deploiement!C6) -> Tirana - Toptani | D6: =IF(Deploiement!D6="","",Deploiement!D6) -> BRICS | E6: =IF(Deploiement!E6="","",Deploiement!E6) -> SEE | F6: =IF(Deploiement!F6="","",Deploiement!F6) -> STD | G6: Généraliste | H6: 1.5 | J6: Turquie | K6: {=_xlfn.MODE.SNGL(IF((zone=$J$6)*(non_age>0),non_age))} -> 1.5 | Q6: MODE.SIMPLE(SI((zone=J6)*(non_age>0);non_age))
A7: =IF(Deploiement!A7="","",Deploiement!A7) -> Albanie | B7: =IF(Deploiement!B7="","",Deploiement!B7) -> AL002 | C7: =IF(Deploiement!C7="","",Deploiement!C7) -> Shkodra - Shkodra | D7: =IF(Deploiement!D7="","",Deploiement!D7) -> BRICS | E7: =IF(Deploiement!E7="","",Deploiement!E7) -> SEE | F7: =IF(Deploiement!F7="","",Deploiement!F7) -> STD | H7: 1 | K7: {=IFERROR(IF(SUMPRODUCT((non_age=_xlfn.MODE.SNGL(IF((zone=$J$6)*(non_age>0)*(non_age<>$K$6:$K6),non_age)))*(zone=$J$6))=SUMPRODUCT((non_age=$K$6)*(zone=$J$6)),_xlfn.MODE.SNGL(IF((zone=$J$6)*(non_age>0)*(non_age<>$K$6:$K6),non_age)),""),"")} -> 1 | Q7: SOMMEPROD((zone=J6)*(non_age=K6))
A8: =IF(Deploiement!A8="","",Deploiement!A8) -> Algérie | B8: =IF(Deploiement!B8="","",Deploiement!B8) -> DZ001 | C8: =IF(Deploiement!C8="","",Deploiement!C8) -> Alger - Carrefour City Center | D8: =IF(Deploiement!D8="","",Deploiement!D8) -> BRICS | E8: =IF(Deploiement!E8="","",Deploiement!E8) -> Méditerranée | F8: =IF(Deploiement!F8="","",Deploiement!F8) -> STD | G8: Généraliste | H8: 1.5 | K8: {=IFERROR(IF(SUMPRODUCT((non_age=_xlfn.MODE.SNGL(IF((zone=$J$6)*(non_age>0)*(non_age<>$K$6:$K7),non_age)))*(zone=$J$6))=SUMPRODUCT((non_age=$K$6)*(zone=$J$6)),_xlfn.MODE.SNGL(IF((zone=$J$6)*(non_age>0)*(non_age<>$K$6:$K7),non_age)),""),"")} | Q8: MODE.SIMPLE(SI((zone=J6)*(non_age>0)*(non_age<>K6);non_age))
A9: =IF(Deploiement!A9="","",Deploiement!A9) -> Algérie | B9: =IF(Deploiement!B9="","",Deploiement!B9) -> DZ002 | C9: =IF(Deploiement!C9="","",Deploiement!C9) -> Bouira - Bouira | D9: =IF(Deploiement!D9="","",Deploiement!D9) -> BRICS | E9: =IF(Deploiement!E9="","",Deploiement!E9) -> Méditerranée | F9: =IF(Deploiement!F9="","",Deploiement!F9) -> STD | H9: 1.5
A10: =IF(Deploiement!A10="","",Deploiement!A10) -> Algérie | B10: =IF(Deploiement!B10="","",Deploiement!B10) -> DZ003 | C10: =IF(Deploiement!C10="","",Deploiement!C10) -> Alger - Didouche Mourad | D10: =IF(Deploiement!D10="","",Deploiement!D10) -> BRICS | E10: =IF(Deploiement!E10="","",Deploiement!E10) -> Méditerranée | F10: =IF(Deploiement!F10="","",Deploiement!F10) -> STD | G10: Généraliste | H10: 1
A11: =IF(Deploiement!A11="","",Deploiement!A11) -> Algérie | B11: =IF(Deploiement!B11="","",Deploiement!B11) -> DZ004 | C11: =IF(Deploiement!C11="","",Deploiement!C11) -> Alger - Hassiba ben Bouali | D11: =IF(Deploiement!D11="","",Deploiement!D11) -> BRICS | E11: =IF(Deploiement!E11="","",Deploiement!E11) -> Méditerranée | F11: =IF(Deploiement!F11="","",Deploiement!F11) -> STD | G11: Généraliste | H11: 2
A12: =IF(Deploiement!A12="","",Deploiement!A12) -> Allemagne | B12: =IF(Deploiement!B12="","",Deploiement!B12) -> DE001 | C12: =IF(Deploiement!C12="","",Deploiement!C12) -> Bad Oeynhausen | D12: =IF(Deploiement!D12="","",Deploiement!D12) -> NCE | E12: =IF(Deploiement!E12="","",Deploiement!E12) -> AL/AUT/SUI | F12: =IF(Deploiement!F12="","",Deploiement!F12) -> STD | H12: 1.5
A13: =IF(Deploiement!A13="","",Deploiement!A13) -> Allemagne | B13: =IF(Deploiement!B13="","",Deploiement!B13) -> DE002 | C13: =IF(Deploiement!C13="","",Deploiement!C13) -> Bautzen - DE0209 | D13: =IF(Deploiement!D13="","",Deploiement!D13) -> NCE | E13: =IF(Deploiement!E13="","",Deploiement!E13) -> AL/AUT/SUI | F13: =IF(Deploiement!F13="","",Deploiement!F13) -> Light | H13: 1.5
A14: =IF(Deploiement!A14="","",Deploiement!A14) -> Allemagne | B14: =IF(Deploiement!B14="","",Deploiement!B14) -> DE003 | C14: =IF(Deploiement!C14="","",Deploiement!C14) -> Frankfurt | D14: =IF(Deploiement!D14="","",Deploiement!D14) -> NCE | E14: =IF(Deploiement!E14="","",Deploiement!E14) -> AL/AUT/SUI | F14: =IF(Deploiement!F14="","",Deploiement!F14) -> STD | H14: 1.5
A15: =IF(Deploiement!A15="","",Deploiement!A15) -> Allemagne | B15: =IF(Deploiement!B15="","",Deploiement!B15) -> DE004 | C15: =IF(Deploiement!C15="","",Deploiement!C15) -> Hoyerswerda - DE0260 | D15: =IF(Deploiement!D15="","",Deploiement!D15) -> NCE | E15: =IF(Deploiement!E15="","",Deploiement!E15) -> AL/AUT/SUI | F15: =IF(Deploiement!F15="","",Deploiement!F15) -> Light
A16: =IF(Deploiement!A16="","",Deploiement!A16) -> Allemagne | B16: =IF(Deploiement!B16="","",Deploiement!B16) -> DE005 | C16: =IF(Deploiement!C16="","",Deploiement!C16) -> Gera - Gera Arcaden | D16: =IF(Deploiement!D16="","",Deploiement!D16) -> NCE | E16: =IF(Deploiement!E16="","",Deploiement!E16) -> AL/AUT/SUI | F16: =IF(Deploiement!F16="","",Deploiement!F16) -> STD
A17: =IF(Deploiement!A17="","",Deploiement!A17) -> Allemagne | B17: =IF(Deploiement!B17="","",Deploiement!B17) -> DE006 | C17: =IF(Deploiement!C17="","",Deploiement!C17) -> Berlin - DE0273 Berlin Alexa | D17: =IF(Deploiement!D17="","",Deploiement!D17) -> NCE | E17: =IF(Deploiement!E17="","",Deploiement!E17) -> AL/AUT/SUI | F17: =IF(Deploiement!F17="","",Deploiement!F17) -> STD
A18: =IF(Deploiement!A18="","",Deploiement!A18) -> Allemagne | B18: =IF(Deploiement!B18="","",Deploiement!B18) -> DE007 | C18: =IF(Deploiement!C18="","",Deploiement!C18) -> Oberhauffsen | D18: =IF(Deploiement!D18="","",Deploiement!D18) -> NCE | E18: =IF(Deploiement!E18="","",Deploiement!E18) -> AL/AUT/SUI | F18: =IF(Deploiement!F18="","",Deploiement!F18)
A19: =IF(Deploiement!A19="","",Deploiement!A19) -> Allemagne | B19: =IF(Deploiement!B19="","",Deploiement!B19) -> DE008 | C19: =IF(Deploiement!C19="","",Deploiement!C19) -> Gera - Ausführungsplanung | D19: =IF(Deploiement!D19="","",Deploiement!D19) -> NCE | E19: =IF(Deploiement!E19="","",Deploiement!E19) -> AL/AUT/SUI | F19: =IF(Deploiement!F19="","",Deploiement!F19) -> STD | H19: 1
A20: =IF(Deploiement!A20="","",Deploiement!A20) -> Angola | B20: =IF(Deploiement!B20="","",Deploiement!B20) -> AO001 | C20: =IF(Deploiement!C20="","",Deploiement!C20) -> Luanda - Shopping Centre Kilamba | D20: =IF(Deploiement!D20="","",Deploiement!D20) -> BRICS | E20: =IF(Deploiement!E20="","",Deploiement!E20) -> SSA | F20: =IF(Deploiement!F20="","",Deploiement!F20) -> STD | G20: Généraliste | H20: 1.5
A21: =IF(Deploiement!A21="","",Deploiement!A21) -> Angola | B21: =IF(Deploiement!B21="","",Deploiement!B21) -> AO002 | C21: =IF(Deploiement!C21="","",Deploiement!C21) -> Lubango - Xyami | D21: =IF(Deploiement!D21="","",Deploiement!D21) -> BRICS | E21: =IF(Deploiement!E21="","",Deploiement!E21) -> SSA | F21: =IF(Deploiement!F21="","",Deploiement!F21) -> STD | G21: Généraliste | H21: 1.5
A22: =IF(Deploiement!A22="","",Deploiement!A22) -> Arabie Saoudite | B22: =IF(Deploiement!B22="","",Deploiement!B22) -> SA001 | C22: =IF(Deploiement!C22="","",Deploiement!C22) -> Khobar - Al Rashid Mall | D22: =IF(Deploiement!D22="","",Deploiement!D22) -> BRICS | E22: =IF(Deploiement!E22="","",Deploiement!E22) -> Middle East | F22: =IF(Deploiement!F22="","",Deploiement!F22) -> STD | H22: 1.5
A23: =IF(Deploiement!A23="","",Deploiement!A23) -> Arabie Saoudite | B23: =IF(Deploiement!B23="","",Deploiement!B23) -> SA002 | C23: =IF(Deploiement!C23="","",Deploiement!C23) -> Riyad - Al Faisaliyah | D23: =IF(Deploiement!D23="","",Deploiement!D23) -> BRICS | E23: =IF(Deploiement!E23="","",Deploiement!E23) -> Middle East | F23: =IF(Deploiement!F23="","",Deploiement!F23) -> STD | H23: 1
A24: =IF(Deploiement!A24="","",Deploiement!A24) -> Arabie Saoudite | B24: =IF(Deploiement!B24="","",Deploiement!B24) -> SA003 | C24: =IF(Deploiement!C24="","",Deploiement!C24) -> Djeddah - Roshan Mall | D24: =IF(Deploiement!D24="","",Deploiement!D24) -> BRICS | E24: =IF(Deploiement!E24="","",Deploiement!E24) -> Middle East | F24: =IF(Deploiement!F24="","",Deploiement!F24)
A25: =IF(Deploiement!A25="","",Deploiement!A25) -> Arabie Saoudite | B25: =IF(Deploiement!B25="","",Deploiement!B25) -> SA004 | C25: =IF(Deploiement!C25="","",Deploiement!C25) -> Riyadh - Al Nakheel Mall | D25: =IF(Deploiement!D25="","",Deploiement!D25) -> BRICS | E25: =IF(Deploiement!E25="","",Deploiement!E25) -> Middle East | F25: =IF(Deploiement!F25="","",Deploiement!F25) -> STD
A26: =IF(Deploiement!A26="","",Deploiement!A26) -> Arabie Saoudite | B26: =IF(Deploiement!B26="","",Deploiement!B26) -> SA005 | C26: =IF(Deploiement!C26="","",Deploiement!C26) -> Djeddah - Al Saalam Mall | D26: =IF(Deploiement!D26="","",Deploiement!D26) -> BRICS | E26: =IF(Deploiement!E26="","",Deploiement!E26) -> Middle East | F26: =IF(Deploiement!F26="","",Deploiement!F26) -> STD | H26: 2
A27: =IF(Deploiement!A27="","",Deploiement!A27) -> Arabie Saoudite | B27: =IF(Deploiement!B27="","",Deploiement!B27) -> SA006 | C27: =IF(Deploiement!C27="","",Deploiement!C27) -> Tabuk - Park Mall | D27: =IF(Deploiement!D27="","",Deploiement!D27) -> BRICS | E27: =IF(Deploiement!E27="","",Deploiement!E27) -> Middle East | F27: =IF(Deploiement!F27="","",Deploiement!F27) -> STD | H27: 1.5
A28: =IF(Deploiement!A28="","",Deploiement!A28) -> Arabie Saoudite | B28: =IF(Deploiement!B28="","",Deploiement!B28) -> SA007 | C28: =IF(Deploiement!C28="","",Deploiement!C28) -> Riyadh - Tala Mall | D28: =IF(Deploiement!D28="","",Deploiement!D28) -> BRICS | E28: =IF(Deploiement!E28="","",Deploiement!E28) -> Middle East | F28: =IF(Deploiement!F28="","",Deploiement!F28) -> STD | H28: 1
A29: =IF(Deploiement!A29="","",Deploiement!A29) -> Arabie Saoudite | B29: =IF(Deploiement!B29="","",Deploiement!B29) -> SA008 | C29: =IF(Deploiement!C29="","",Deploiement!C29) -> Dammam - West Avenue Mall | D29: =IF(Deploiement!D29="","",Deploiement!D29) -> BRICS | E29: =IF(Deploiement!E29="","",Deploiement!E29) -> Middle East | F29: =IF(Deploiement!F29="","",Deploiement!F29) -> STD | H29: 2
A30: =IF(Deploiement!A30="","",Deploiement!A30) -> Arabie Saoudite | B30: =IF(Deploiement!B30="","",Deploiement!B30) -> SA009 | C30: =IF(Deploiement!C30="","",Deploiement!C30) -> Jeddah - Jeddah | D30: =IF(Deploiement!D30="","",Deploiement!D30) -> BRICS | E30: =IF(Deploiement!E30="","",Deploiement!E30) -> Middle East | F30: =IF(Deploiement!F30="","",Deploiement!F30) -> STD
A31: =IF(Deploiement!A31="","",Deploiement!A31) -> Autriche | B31: =IF(Deploiement!B31="","",Deploiement!B31) -> AT001 | C31: =IF(Deploiement!C31="","",Deploiement!C31) -> Vienne - SCS | D31: =IF(Deploiement!D31="","",Deploiement!D31) -> NCE | E31: =IF(Deploiement!E31="","",Deploiement!E31) -> AL/AUT/SUI | F31: =IF(Deploiement!F31="","",Deploiement!F31) -> STD | H31: 2
A32: =IF(Deploiement!A32="","",Deploiement!A32) -> Belgique | B32: =IF(Deploiement!B32="","",Deploiement!B32) -> BE001 | C32: =IF(Deploiement!C32="","",Deploiement!C32) -> Bruxelles Docks | D32: =IF(Deploiement!D32="","",Deploiement!D32) -> NCE | E32: =IF(Deploiement!E32="","",Deploiement!E32) -> Benelux | F32: =IF(Deploiement!F32="","",Deploiement!F32) -> STD | G32: Généraliste | H32: 2
A33: =IF(Deploiement!A33="","",Deploiement!A33) -> Belgique | B33: =IF(Deploiement!B33="","",Deploiement!B33) -> BE002 | C33: =IF(Deploiement!C33="","",Deploiement!C33) -> Bruxelles Gare Centrale | D33: =IF(Deploiement!D33="","",Deploiement!D33) -> NCE | E33: =IF(Deploiement!E33="","",Deploiement!E33) -> Benelux | F33: =IF(Deploiement!F33="","",Deploiement!F33) -> STD | G33: Généraliste | H33: 1.5
A34: =IF(Deploiement!A34="","",Deploiement!A34) -> Belgique | B34: =IF(Deploiement!B34="","",Deploiement!B34) -> BE003 | C34: =IF(Deploiement!C34="","",Deploiement!C34) -> Bruxelles Gare Du Nord | D34: =IF(Deploiement!D34="","",Deploiement!D34) -> NCE | E34: =IF(Deploiement!E34="","",Deploiement!E34) -> Benelux | F34: =IF(Deploiement!F34="","",Deploiement!F34) -> STD | G34: Généraliste | H34: 2
A35: =IF(Deploiement!A35="","",Deploiement!A35) -> Belgique | B35: =IF(Deploiement!B35="","",Deploiement!B35) -> BE004 | C35: =IF(Deploiement!C35="","",Deploiement!C35) -> Charleroi | D35: =IF(Deploiement!D35="","",Deploiement!D35) -> NCE | E35: =IF(Deploiement!E35="","",Deploiement!E35) -> Benelux | F35: =IF(Deploiement!F35="","",Deploiement!F35) -> STD | G35: Généraliste | H35: 2
A36: =IF(Deploiement!A36="","",Deploiement!A36) -> Belgique | B36: =IF(Deploiement!B36="","",Deploiement!B36) -> BE005 | C36: =IF(Deploiement!C36="","",Deploiement!C36) -> Bruxelles - Fort Jaco | D36: =IF(Deploiement!D36="","",Deploiement!D36) -> NCE | E36: =IF(Deploiement!E36="","",Deploiement!E36) -> Benelux | F36: =IF(Deploiement!F36="","",Deploiement!F36) -> STD | G36: Spécialiste | H36: 2
A37: =IF(Deploiement!A37="","",Deploiement!A37) -> Belgique | B37: =IF(Deploiement!B37="","",Deploiement!B37) -> BE006 | C37: =IF(Deploiement!C37="","",Deploiement!C37) -> Anvers - Korte Gasthuisstraat | D37: =IF(Deploiement!D37="","",Deploiement!D37) -> NCE | E37: =IF(Deploiement!E37="","",Deploiement!E37) -> Benelux | F37: =IF(Deploiement!F37="","",Deploiement!F37) -> STD | G37: Généraliste | H37: 2
A38: =IF(Deploiement!A38="","",Deploiement!A38) -> Belgique | B38: =IF(Deploiement!B38="","",Deploiement!B38) -> BE007 | C38: =IF(Deploiement!C38="","",Deploiement!C38) -> Mol - CV | D38: =IF(Deploiement!D38="","",Deploiement!D38) -> NCE | E38: =IF(Deploiement!E38="","",Deploiement!E38) -> Benelux | F38: =IF(Deploiement!F38="","",Deploiement!F38) -> STD | G38: Généraliste | H38: 1.5
A39: =IF(Deploiement!A39="","",Deploiement!A39) -> Belgique | B39: =IF(Deploiement!B39="","",Deploiement!B39) -> BE008 | C39: =IF(Deploiement!C39="","",Deploiement!C39) -> Anvers - Mortsel | D39: =IF(Deploiement!D39="","",Deploiement!D39) -> NCE | E39: =IF(Deploiement!E39="","",Deploiement!E39) -> Benelux | F39: =IF(Deploiement!F39="","",Deploiement!F39) -> STD | G39: Généraliste | H39: 1.5
A40: =IF(Deploiement!A40="","",Deploiement!A40) -> Belgique | B40: =IF(Deploiement!B40="","",Deploiement!B40) -> BE009 | C40: =IF(Deploiement!C40="","",Deploiement!C40) -> Namur - CV | D40: =IF(Deploiement!D40="","",Deploiement!D40) -> NCE | E40: =IF(Deploiement!E40="","",Deploiement!E40) -> Benelux | F40: =IF(Deploiement!F40="","",Deploiement!F40) -> STD | G40: Généraliste | H40: 2
A41: =IF(Deploiement!A41="","",Deploiement!A41) -> Belgique | B41: =IF(Deploiement!B41="","",Deploiement!B41) -> BE010 | C41: =IF(Deploiement!C41="","",Deploiement!C41) -> Avers - Wijnegem | D41: =IF(Deploiement!D41="","",Deploiement!D41) -> NCE | E41: =IF(Deploiement!E41="","",Deploiement!E41) -> Benelux | F41: =IF(Deploiement!F41="","",Deploiement!F41) -> STD | G41: Généraliste | H41: 2
A42: =IF(Deploiement!A42="","",Deploiement!A42) -> Belgique | B42: =IF(Deploiement!B42="","",Deploiement!B42) -> BE011 | C42: =IF(Deploiement!C42="","",Deploiement!C42) -> Anvers - Wilrijk | D42: =IF(Deploiement!D42="","",Deploiement!D42) -> NCE | E42: =IF(Deploiement!E42="","",Deploiement!E42) -> Benelux | F42: =IF(Deploiement!F42="","",Deploiement!F42) -> STD | G42: Généraliste | H42: 2
A43: =IF(Deploiement!A43="","",Deploiement!A43) -> Belgique | B43: =IF(Deploiement!B43="","",Deploiement!B43) -> BE012 | C43: =IF(Deploiement!C43="","",Deploiement!C43) -> Anvers - Grand Bazar | D43: =IF(Deploiement!D43="","",Deploiement!D43) -> NCE | E43: =IF(Deploiement!E43="","",Deploiement!E43) -> Benelux | F43: =IF(Deploiement!F43="","",Deploiement!F43) -> Light | H43: 1.5
A44: =IF(Deploiement!A44="","",Deploiement!A44) -> Belgique | B44: =IF(Deploiement!B44="","",Deploiement!B44) -> BE013 | C44: =IF(Deploiement!C44="","",Deploiement!C44) -> Knocke | D44: =IF(Deploiement!D44="","",Deploiement!D44) -> NCE | E44: =IF(Deploiement!E44="","",Deploiement!E44) -> Benelux | F44: =IF(Deploiement!F44="","",Deploiement!F44) -> Light | H44: 2
A45: =IF(Deploiement!A45="","",Deploiement!A45) -> Biélorussie | B45: =IF(Deploiement!B45="","",Deploiement!B45) -> BY001 | C45: =IF(Deploiement!C45="","",Deploiement!C45) -> Minsk - Dana Mall | D45: =IF(Deploiement!D45="","",Deploiement!D45) -> BRICS | E45: =IF(Deploiement!E45="","",Deploiement!E45) -> ex-CEI étendu | F45: =IF(Deploiement!F45="","",Deploiement!F45) -> STD | G45: Généraliste | H45: 1
A46: =IF(Deploiement!A46="","",Deploiement!A46) -> Biélorussie | B46: =IF(Deploiement!B46="","",Deploiement!B46) -> BY002 | C46: =IF(Deploiement!C46="","",Deploiement!C46) -> Minsk - Green City | D46: =IF(Deploiement!D46="","",Deploiement!D46) -> BRICS | E46: =IF(Deploiement!E46="","",Deploiement!E46) -> ex-CEI étendu | F46: =IF(Deploiement!F46="","",Deploiement!F46) -> STD | G46: Généraliste | H46: 1.5
A47: =IF(Deploiement!A47="","",Deploiement!A47) -> Biélorussie | B47: =IF(Deploiement!B47="","",Deploiement!B47) -> BY003 | C47: =IF(Deploiement!C47="","",Deploiement!C47) -> Minsk - Zamok | D47: =IF(Deploiement!D47="","",Deploiement!D47) -> BRICS | E47: =IF(Deploiement!E47="","",Deploiement!E47) -> ex-CEI étendu | F47: =IF(Deploiement!F47="","",Deploiement!F47) -> STD | G47: Généraliste | H47: 1.5
A48: =IF(Deploiement!A48="","",Deploiement!A48) -> Biélorussie | B48: =IF(Deploiement!B48="","",Deploiement!B48) -> BY004 | C48: =IF(Deploiement!C48="","",Deploiement!C48) -> Gomel - Mandarine Plaza | D48: =IF(Deploiement!D48="","",Deploiement!D48) -> BRICS | E48: =IF(Deploiement!E48="","",Deploiement!E48) -> ex-CEI étendu | F48: =IF(Deploiement!F48="","",Deploiement!F48) -> STD | H48: 1.5
A49: =IF(Deploiement!A49="","",Deploiement!A49) -> Biélorussie | B49: =IF(Deploiement!B49="","",Deploiement!B49) -> BY005 | C49: =IF(Deploiement!C49="","",Deploiement!C49) -> Vitebsk - Vitebsk Kirova | D49: =IF(Deploiement!D49="","",Deploiement!D49) -> BRICS | E49: =IF(Deploiement!E49="","",Deploiement!E49) -> ex-CEI étendu | F49: =IF(Deploiement!F49="","",Deploiement!F49) -> STD | H49: 2
A50: =IF(Deploiement!A50="","",Deploiement!A50) -> Bulgarie | B50: =IF(Deploiement!B50="","",Deploiement!B50) -> BG001 | C50: =IF(Deploiement!C50="","",Deploiement!C50) -> Plovdiv - Markovo Tepe Mall | D50: =IF(Deploiement!D50="","",Deploiement!D50) -> BRICS | E50: =IF(Deploiement!E50="","",Deploiement!E50) -> SEE | F50: =IF(Deploiement!F50="","",Deploiement!F50) -> STD | G50: Généraliste | H50: 1
A51: =IF(Deploiement!A51="","",Deploiement!A51) -> Bulgarie | B51: =IF(Deploiement!B51="","",Deploiement!B51) -> BG002 | C51: =IF(Deploiement!C51="","",Deploiement!C51) -> Sofia - Paradise center | D51: =IF(Deploiement!D51="","",Deploiement!D51) -> BRICS | E51: =IF(Deploiement!E51="","",Deploiement!E51) -> SEE | F51: =IF(Deploiement!F51="","",Deploiement!F51) -> STD | H51: 1.5
A52: =IF(Deploiement!A52="","",Deploiement!A52) -> Cambodge | B52: =IF(Deploiement!B52="","",Deploiement!B52) -> KH001 | C52: =IF(Deploiement!C52="","",Deploiement!C52) -> Phnom Penh - Exchange Square | D52: =IF(Deploiement!D52="","",Deploiement!D52) -> BRICS | E52: =IF(Deploiement!E52="","",Deploiement!E52) -> SEA | F52: =IF(Deploiement!F52="","",Deploiement!F52) -> STD | G52: Généraliste | H52: 1.5
A53: =IF(Deploiement!A53="","",Deploiement!A53) -> Cambodge | B53: =IF(Deploiement!B53="","",Deploiement!B53) -> KH002 | C53: =IF(Deploiement!C53="","",Deploiement!C53) -> Phnom Penh - Aeon | D53: =IF(Deploiement!D53="","",Deploiement!D53) -> BRICS | E53: =IF(Deploiement!E53="","",Deploiement!E53) -> SEA | F53: =IF(Deploiement!F53="","",Deploiement!F53) -> STD
A54: =IF(Deploiement!A54="","",Deploiement!A54) -> Cambodge | B54: =IF(Deploiement!B54="","",Deploiement!B54) -> KH003 | C54: =IF(Deploiement!C54="","",Deploiement!C54) -> Phnom Penh - Street 51 | D54: =IF(Deploiement!D54="","",Deploiement!D54) -> BRICS | E54: =IF(Deploiement!E54="","",Deploiement!E54) -> SEA | F54: =IF(Deploiement!F54="","",Deploiement!F54)
A55: =IF(Deploiement!A55="","",Deploiement!A55) -> Cambodge | B55: =IF(Deploiement!B55="","",Deploiement!B55) -> KH004 | C55: =IF(Deploiement!C55="","",Deploiement!C55) -> Siem Reap - Heritage Walk | D55: =IF(Deploiement!D55="","",Deploiement!D55) -> BRICS | E55: =IF(Deploiement!E55="","",Deploiement!E55) -> SEA | F55: =IF(Deploiement!F55="","",Deploiement!F55) -> STD | H55: 2
A56: =IF(Deploiement!A56="","",Deploiement!A56) -> Canada | B56: =IF(Deploiement!B56="","",Deploiement!B56) -> CA001 | C56: =IF(Deploiement!C56="","",Deploiement!C56) -> Montréal - Carrefour Angrignon | D56: =IF(Deploiement!D56="","",Deploiement!D56) -> AMERIQUES | E56: =IF(Deploiement!E56="","",Deploiement!E56) -> Canada | F56: =IF(Deploiement!F56="","",Deploiement!F56) -> Light | G56: Généraliste | H56: 3
A57: =IF(Deploiement!A57="","",Deploiement!A57) -> Canada | B57: =IF(Deploiement!B57="","",Deploiement!B57) -> CA002 | C57: =IF(Deploiement!C57="","",Deploiement!C57) -> Sherbrooke - Carrefour De L'Estrie | D57: =IF(Deploiement!D57="","",Deploiement!D57) -> AMERIQUES | E57: =IF(Deploiement!E57="","",Deploiement!E57) -> Canada | F57: =IF(Deploiement!F57="","",Deploiement!F57) -> STD expérientiel | G57: Généraliste | H57: 3.5
A58: =IF(Deploiement!A58="","",Deploiement!A58) -> Canada | B58: =IF(Deploiement!B58="","",Deploiement!B58) -> CA003 | C58: =IF(Deploiement!C58="","",Deploiement!C58) -> Laval - Centre Laval | D58: =IF(Deploiement!D58="","",Deploiement!D58) -> AMERIQUES | E58: =IF(Deploiement!E58="","",Deploiement!E58) -> Canada | F58: =IF(Deploiement!F58="","",Deploiement!F58) -> Light | G58: Généraliste | H58: 2
A59: =IF(Deploiement!A59="","",Deploiement!A59) -> Canada | B59: =IF(Deploiement!B59="","",Deploiement!B59) -> CA004 | C59: =IF(Deploiement!C59="","",Deploiement!C59) -> Toronto - Dufferin Mall | D59: =IF(Deploiement!D59="","",Deploiement!D59) -> AMERIQUES | E59: =IF(Deploiement!E59="","",Deploiement!E59) -> Canada | F59: =IF(Deploiement!F59="","",Deploiement!F59) -> STD | G59: Généraliste | H59: 2.5
A60: =IF(Deploiement!A60="","",Deploiement!A60) -> Canada | B60: =IF(Deploiement!B60="","",Deploiement!B60) -> CA005 | C60: =IF(Deploiement!C60="","",Deploiement!C60) -> Toronto - Eaton | D60: =IF(Deploiement!D60="","",Deploiement!D60) -> AMERIQUES | E60: =IF(Deploiement!E60="","",Deploiement!E60) -> Canada | F60: =IF(Deploiement!F60="","",Deploiement!F60) | G60: Généraliste
A61: =IF(Deploiement!A61="","",Deploiement!A61) -> Canada | B61: =IF(Deploiement!B61="","",Deploiement!B61) -> CA006 | C61: =IF(Deploiement!C61="","",Deploiement!C61) -> Kitchener - Fairview Park | D61: =IF(Deploiement!D61="","",Deploiement!D61) -> AMERIQUES | E61: =IF(Deploiement!E61="","",Deploiement!E61) -> Canada | F61: =IF(Deploiement!F61="","",Deploiement!F61) -> STD | G61: Généraliste | H61: 2.5
A62: =IF(Deploiement!A62="","",Deploiement!A62) -> Canada | B62: =IF(Deploiement!B62="","",Deploiement!B62) -> CA007 | C62: =IF(Deploiement!C62="","",Deploiement!C62) -> Barrie - Georgian Mall | D62: =IF(Deploiement!D62="","",Deploiement!D62) -> AMERIQUES | E62: =IF(Deploiement!E62="","",Deploiement!E62) -> Canada | F62: =IF(Deploiement!F62="","",Deploiement!F62) -> STD | G62: Généraliste | H62: 2
A63: =IF(Deploiement!A63="","",Deploiement!A63) -> Canada | B63: =IF(Deploiement!B63="","",Deploiement!B63) -> CA008 | C63: =IF(Deploiement!C63="","",Deploiement!C63) -> Montréal - Rockland | D63: =IF(Deploiement!D63="","",Deploiement!D63) -> AMERIQUES | E63: =IF(Deploiement!E63="","",Deploiement!E63) -> Canada | F63: =IF(Deploiement!F63="","",Deploiement!F63) -> STD | G63: Généraliste | H63: 2
A64: =IF(Deploiement!A64="","",Deploiement!A64) -> Canada | B64: =IF(Deploiement!B64="","",Deploiement!B64) -> CA009 | C64: =IF(Deploiement!C64="","",Deploiement!C64) -> Beloeil - Mail Montenach | D64: =IF(Deploiement!D64="","",Deploiement!D64) -> AMERIQUES | E64: =IF(Deploiement!E64="","",Deploiement!E64) -> Canada | F64: =IF(Deploiement!F64="","",Deploiement!F64) -> Light | H64: 2
A65: =IF(Deploiement!A65="","",Deploiement!A65) -> Canada | B65: =IF(Deploiement!B65="","",Deploiement!B65) -> CA010 | C65: =IF(Deploiement!C65="","",Deploiement!C65) -> Quebec - Galerie de la Capitale | D65: =IF(Deploiement!D65="","",Deploiement!D65) -> AMERIQUES | E65: =IF(Deploiement!E65="","",Deploiement!E65) -> Canada | F65: =IF(Deploiement!F65="","",Deploiement!F65) -> EXP | H65: 2
A66: =IF(Deploiement!A66="","",Deploiement!A66) -> Chine | B66: =IF(Deploiement!B66="","",Deploiement!B66) -> CN001 | C66: =IF(Deploiement!C66="","",Deploiement!C66) -> Shanghai - Xinzhuang | D66: =IF(Deploiement!D66="","",Deploiement!D66) -> BRICS | E66: =IF(Deploiement!E66="","",Deploiement!E66) -> Chine | F66: =IF(Deploiement!F66="","",Deploiement!F66) -> STD | G66: Spécialiste | H66: 2.5
A67: =IF(Deploiement!A67="","",Deploiement!A67) -> Chypre | B67: =IF(Deploiement!B67="","",Deploiement!B67) -> CY001 | C67: =IF(Deploiement!C67="","",Deploiement!C67) -> Limassol - Anexartisias | D67: =IF(Deploiement!D67="","",Deploiement!D67) -> BRICS | E67: =IF(Deploiement!E67="","",Deploiement!E67) -> Méditerranée | F67: =IF(Deploiement!F67="","",Deploiement!F67) -> STD | H67: 1.5
A68: =IF(Deploiement!A68="","",Deploiement!A68) -> Chypre | B68: =IF(Deploiement!B68="","",Deploiement!B68) -> CY002 | C68: =IF(Deploiement!C68="","",Deploiement!C68) -> Limassol - My Mall | D68: =IF(Deploiement!D68="","",Deploiement!D68) -> BRICS | E68: =IF(Deploiement!E68="","",Deploiement!E68) -> Méditerranée | F68: =IF(Deploiement!F68="","",Deploiement!F68) -> STD | H68: 1.5
A69: =IF(Deploiement!A69="","",Deploiement!A69) -> Côte d'Ivoire | B69: =IF(Deploiement!B69="","",Deploiement!B69) -> CI001 | C69: =IF(Deploiement!C69="","",Deploiement!C69) -> Abidjan - Cap Sud | D69: =IF(Deploiement!D69="","",Deploiement!D69) -> BRICS | E69: =IF(Deploiement!E69="","",Deploiement!E69) -> SSA | F69: =IF(Deploiement!F69="","",Deploiement!F69) -> STD | G69: Généraliste | H69: 1
A70: =IF(Deploiement!A70="","",Deploiement!A70) -> Côte d'Ivoire | B70: =IF(Deploiement!B70="","",Deploiement!B70) -> CI002 | C70: =IF(Deploiement!C70="","",Deploiement!C70) -> Abidjan - CC Cap Nord | D70: =IF(Deploiement!D70="","",Deploiement!D70) -> BRICS | E70: =IF(Deploiement!E70="","",Deploiement!E70) -> SSA | F70: =IF(Deploiement!F70="","",Deploiement!F70) -> STD | G70: Généraliste | H70: 1.5
A71: =IF(Deploiement!A71="","",Deploiement!A71) -> Croatie | B71: =IF(Deploiement!B71="","",Deploiement!B71) -> HR001 | C71: =IF(Deploiement!C71="","",Deploiement!C71) -> Split - Marmontova | D71: =IF(Deploiement!D71="","",Deploiement!D71) -> BRICS | E71: =IF(Deploiement!E71="","",Deploiement!E71) -> SEE | F71: =IF(Deploiement!F71="","",Deploiement!F71) -> STD
A72: =IF(Deploiement!A72="","",Deploiement!A72) -> Egypte | B72: =IF(Deploiement!B72="","",Deploiement!B72) -> EG001 | C72: =IF(Deploiement!C72="","",Deploiement!C72) -> Le Caire - Mall of Egypt | D72: =IF(Deploiement!D72="","",Deploiement!D72) -> BRICS | E72: =IF(Deploiement!E72="","",Deploiement!E72) -> Middle East | F72: =IF(Deploiement!F72="","",Deploiement!F72) -> STD | G72: Généraliste | H72: 1
A73: =IF(Deploiement!A73="","",Deploiement!A73) -> Egypte | B73: =IF(Deploiement!B73="","",Deploiement!B73) -> EG002 | C73: =IF(Deploiement!C73="","",Deploiement!C73) -> Le Caire - Point 90 | D73: =IF(Deploiement!D73="","",Deploiement!D73) -> BRICS | E73: =IF(Deploiement!E73="","",Deploiement!E73) -> Middle East | F73: =IF(Deploiement!F73="","",Deploiement!F73) -> STD | G73: Généraliste | H73: 2
A74: =IF(Deploiement!A74="","",Deploiement!A74) -> Egypte | B74: =IF(Deploiement!B74="","",Deploiement!B74) -> EG003 | C74: =IF(Deploiement!C74="","",Deploiement!C74) -> Le Caire - Maadi | D74: =IF(Deploiement!D74="","",Deploiement!D74) -> BRICS | E74: =IF(Deploiement!E74="","",Deploiement!E74) -> Middle East | F74: =IF(Deploiement!F74="","",Deploiement!F74) -> STD | G74: Généraliste | H74: 1
A75: =IF(Deploiement!A75="","",Deploiement!A75) -> Egypte | B75: =IF(Deploiement!B75="","",Deploiement!B75) -> EG004 | C75: =IF(Deploiement!C75="","",Deploiement!C75) -> Alexandria - City Stars | D75: =IF(Deploiement!D75="","",Deploiement!D75) -> BRICS | E75: =IF(Deploiement!E75="","",Deploiement!E75) -> Middle East | F75: =IF(Deploiement!F75="","",Deploiement!F75) -> STD
A76: =IF(Deploiement!A76="","",Deploiement!A76) -> Egypte | B76: =IF(Deploiement!B76="","",Deploiement!B76) -> EG005 | C76: =IF(Deploiement!C76="","",Deploiement!C76) -> Le Caire - Mohy El Dien Abu Al Ezz Street | D76: =IF(Deploiement!D76="","",Deploiement!D76) -> BRICS | E76: =IF(Deploiement!E76="","",Deploiement!E76) -> Middle East | F76: =IF(Deploiement!F76="","",Deploiement!F76) -> STD | H76: 1.5
A77: =IF(Deploiement!A77="","",Deploiement!A77) -> Espagne | B77: =IF(Deploiement!B77="","",Deploiement!B77) -> ES001 | C77: =IF(Deploiement!C77="","",Deploiement!C77) -> Alicante - Alfonso X | D77: =IF(Deploiement!D77="","",Deploiement!D77) -> Europe du Sud | E77: =IF(Deploiement!E77="","",Deploiement!E77) -> Espagne | F77: =IF(Deploiement!F77="","",Deploiement!F77) -> STD | H77: 2
A78: =IF(Deploiement!A78="","",Deploiement!A78) -> Espagne | B78: =IF(Deploiement!B78="","",Deploiement!B78) -> ES002 | C78: =IF(Deploiement!C78="","",Deploiement!C78) -> Alicante - Plaza | D78: =IF(Deploiement!D78="","",Deploiement!D78) -> Europe du Sud | E78: =IF(Deploiement!E78="","",Deploiement!E78) -> Espagne | F78: =IF(Deploiement!F78="","",Deploiement!F78) -> STD | G78: Généraliste | H78: 2
A79: =IF(Deploiement!A79="","",Deploiement!A79) -> Espagne | B79: =IF(Deploiement!B79="","",Deploiement!B79) -> ES003 | C79: =IF(Deploiement!C79="","",Deploiement!C79) -> Arona - Parque Santiago IV | D79: =IF(Deploiement!D79="","",Deploiement!D79) -> Europe du Sud | E79: =IF(Deploiement!E79="","",Deploiement!E79) -> Espagne | F79: =IF(Deploiement!F79="","",Deploiement!F79) -> STD | G79: Généraliste | H79: 2
A80: =IF(Deploiement!A80="","",Deploiement!A80) -> Espagne | B80: =IF(Deploiement!B80="","",Deploiement!B80) -> ES004 | C80: =IF(Deploiement!C80="","",Deploiement!C80) -> Barcelone - Las Glories | D80: =IF(Deploiement!D80="","",Deploiement!D80) -> Europe du Sud | E80: =IF(Deploiement!E80="","",Deploiement!E80) -> Espagne | F80: =IF(Deploiement!F80="","",Deploiement!F80) -> STD | G80: Généraliste | H80: 1.5
A81: =IF(Deploiement!A81="","",Deploiement!A81) -> Espagne | B81: =IF(Deploiement!B81="","",Deploiement!B81) -> ES005 | C81: =IF(Deploiement!C81="","",Deploiement!C81) -> Barcelone - Maremagnum | D81: =IF(Deploiement!D81="","",Deploiement!D81) -> Europe du Sud | E81: =IF(Deploiement!E81="","",Deploiement!E81) -> Espagne | F81: =IF(Deploiement!F81="","",Deploiement!F81) -> STD | G81: Généraliste | H81: 1.5
A82: =IF(Deploiement!A82="","",Deploiement!A82) -> Espagne | B82: =IF(Deploiement!B82="","",Deploiement!B82) -> ES006 | C82: =IF(Deploiement!C82="","",Deploiement!C82) -> Barcelone - Portaferrisa | D82: =IF(Deploiement!D82="","",Deploiement!D82) -> Europe du Sud | E82: =IF(Deploiement!E82="","",Deploiement!E82) -> Espagne | F82: =IF(Deploiement!F82="","",Deploiement!F82) -> STD | G82: Généraliste | H82: 2
A83: =IF(Deploiement!A83="","",Deploiement!A83) -> Espagne | B83: =IF(Deploiement!B83="","",Deploiement!B83) -> ES007 | C83: =IF(Deploiement!C83="","",Deploiement!C83) -> Barcelone - Ramblas Cataluna | D83: =IF(Deploiement!D83="","",Deploiement!D83) -> Europe du Sud | E83: =IF(Deploiement!E83="","",Deploiement!E83) -> Espagne | F83: =IF(Deploiement!F83="","",Deploiement!F83) -> STD | G83: Généraliste | H83: 1.5
A84: =IF(Deploiement!A84="","",Deploiement!A84) -> Espagne | B84: =IF(Deploiement!B84="","",Deploiement!B84) -> ES008 | C84: =IF(Deploiement!C84="","",Deploiement!C84) -> Cordoba - CC La Sierra | D84: =IF(Deploiement!D84="","",Deploiement!D84) -> Europe du Sud | E84: =IF(Deploiement!E84="","",Deploiement!E84) -> Espagne | F84: =IF(Deploiement!F84="","",Deploiement!F84) -> STD | G84: Généraliste | H84: 2
A85: =IF(Deploiement!A85="","",Deploiement!A85) -> Espagne | B85: =IF(Deploiement!B85="","",Deploiement!B85) -> ES009 | C85: =IF(Deploiement!C85="","",Deploiement!C85) -> Fuengirola - CC Miramar | D85: =IF(Deploiement!D85="","",Deploiement!D85) -> Europe du Sud | E85: =IF(Deploiement!E85="","",Deploiement!E85) -> Espagne | F85: =IF(Deploiement!F85="","",Deploiement!F85) -> STD | G85: Généraliste | H85: 2
A86: =IF(Deploiement!A86="","",Deploiement!A86) -> Espagne | B86: =IF(Deploiement!B86="","",Deploiement!B86) -> ES010 | C86: =IF(Deploiement!C86="","",Deploiement!C86) -> Gijon - Corrida | D86: =IF(Deploiement!D86="","",Deploiement!D86) -> Europe du Sud | E86: =IF(Deploiement!E86="","",Deploiement!E86) -> Espagne | F86: =IF(Deploiement!F86="","",Deploiement!F86) -> STD | G86: Généraliste | H86: 2
A87: =IF(Deploiement!A87="","",Deploiement!A87) -> Espagne | B87: =IF(Deploiement!B87="","",Deploiement!B87) -> ES011 | C87: =IF(Deploiement!C87="","",Deploiement!C87) -> Granada - Cc Nevada Shopping | D87: =IF(Deploiement!D87="","",Deploiement!D87) -> Europe du Sud | E87: =IF(Deploiement!E87="","",Deploiement!E87) -> Espagne | F87: =IF(Deploiement!F87="","",Deploiement!F87) -> STD | G87: Généraliste | H87: 2
A88: =IF(Deploiement!A88="","",Deploiement!A88) -> Espagne | B88: =IF(Deploiement!B88="","",Deploiement!B88) -> ES012 | C88: =IF(Deploiement!C88="","",Deploiement!C88) -> Irun - CC Txingudi | D88: =IF(Deploiement!D88="","",Deploiement!D88) -> Europe du Sud | E88: =IF(Deploiement!E88="","",Deploiement!E88) -> Espagne | F88: =IF(Deploiement!F88="","",Deploiement!F88) -> STD | G88: Généraliste | H88: 2
A89: =IF(Deploiement!A89="","",Deploiement!A89) -> Espagne | B89: =IF(Deploiement!B89="","",Deploiement!B89) -> ES013 | C89: =IF(Deploiement!C89="","",Deploiement!C89) -> Madrid - Arenal | D89: =IF(Deploiement!D89="","",Deploiement!D89) -> Europe du Sud | E89: =IF(Deploiement!E89="","",Deploiement!E89) -> Espagne | F89: =IF(Deploiement!F89="","",Deploiement!F89) -> STD | G89: Généraliste | H89: 2
... A97: =IF(Deploiement!A97="","",Deploiement!A97) -> Espagne | B97: =IF(Deploiement!B97="","",Deploiement!B97) -> ES021 | C97: =IF(Deploiement!C97="","",Deploiement!C97) -> Palma - San Miguel | D97: =IF(Deploiement!D97="","",Deploiement!D97) -> Europe du Sud | E97: =IF(Deploiement!E97="","",Deploiement!E97) -> Espagne | F97: =IF(Deploiement!F97="","",Deploiement!F97) -> STD | G97: Généraliste | H97: 2
A98: =IF(Deploiement!A98="","",Deploiement!A98) -> Espagne | B98: =IF(Deploiement!B98="","",Deploiement!B98) -> ES022 | C98: =IF(Deploiement!C98="","",Deploiement!C98) -> Tenerife - CC Meridiano | D98: =IF(Deploiement!D98="","",Deploiement!D98) -> Europe du Sud | E98: =IF(Deploiement!E98="","",Deploiement!E98) -> Espagne | F98: =IF(Deploiement!F98="","",Deploiement!F98) -> STD | H98: 2
A99: =IF(Deploiement!A99="","",Deploiement!A99) -> Espagne | B99: =IF(Deploiement!B99="","",Deploiement!B99) -> ES023 | C99: =IF(Deploiement!C99="","",Deploiement!C99) -> Valencia - Colon | D99: =IF(Deploiement!D99="","",Deploiement!D99) -> Europe du Sud | E99: =IF(Deploiement!E99="","",Deploiement!E99) -> Espagne | F99: =IF(Deploiement!F99="","",Deploiement!F99) -> STD | G99: Généraliste | H99: 2
A100: =IF(Deploiement!A100="","",Deploiement!A100) -> Espagne | B100: =IF(Deploiement!B100="","",Deploiement!B100) -> ES024 | C100: =IF(Deploiement!C100="","",Deploiement!C100) -> Vigo - CC Gran Via | D100: =IF(Deploiement!D100="","",Deploiement!D100) -> Europe du Sud | E100: =IF(Deploiement!E100="","",Deploiement!E100) -> Espagne | F100: =IF(Deploiement!F100="","",Deploiement!F100) -> STD | G100: Généraliste | H100: 2
A101: =IF(Deploiement!A101="","",Deploiement!A101) -> Espagne | B101: =IF(Deploiement!B101="","",Deploiement!B101) -> ES025 | C101: =IF(Deploiement!C101="","",Deploiement!C101) -> Vigo - Urzaiz | D101: =IF(Deploiement!D101="","",Deploiement!D101) -> Europe du Sud | E101: =IF(Deploiement!E101="","",Deploiement!E101) -> Espagne | F101: =IF(Deploiement!F101="","",Deploiement!F101) -> STD | G101: Généraliste | H101: 2.5
A102: =IF(Deploiement!A102="","",Deploiement!A102) -> Espagne | B102: =IF(Deploiement!B102="","",Deploiement!B102) -> ES026 | C102: =IF(Deploiement!C102="","",Deploiement!C102) -> Alcala de Henares - La Dehesa | D102: =IF(Deploiement!D102="","",Deploiement!D102) -> Europe du Sud | E102: =IF(Deploiement!E102="","",Deploiement!E102) -> Espagne | F102: =IF(Deploiement!F102="","",Deploiement!F102) -> STD | H102: a
A103: =IF(Deploiement!A103="","",Deploiement!A103) -> Espagne | B103: =IF(Deploiement!B103="","",Deploiement!B103) -> ES027 | C103: =IF(Deploiement!C103="","",Deploiement!C103) -> Huelva - Palacio | D103: =IF(Deploiement!D103="","",Deploiement!D103) -> Europe du Sud | E103: =IF(Deploiement!E103="","",Deploiement!E103) -> Espagne | F103: =IF(Deploiement!F103="","",Deploiement!F103) -> STD | H103: 1.5
A104: =IF(Deploiement!A104="","",Deploiement!A104) -> Espagne | B104: =IF(Deploiement!B104="","",Deploiement!B104) -> ES028 | C104: =IF(Deploiement!C104="","",Deploiement!C104) -> Vilanova i La Geltru – Rambla Principal | D104: =IF(Deploiement!D104="","",Deploiement!D104) -> Europe du Sud | E104: =IF(Deploiement!E104="","",Deploiement!E104) -> Espagne | F104: =IF(Deploiement!F104="","",Deploiement!F104) -> STD | H104: 2
A105: =IF(Deploiement!A105="","",Deploiement!A105) -> Espagne | B105: =IF(Deploiement!B105="","",Deploiement!B105) -> ES029 | C105: =IF(Deploiement!C105="","",Deploiement!C105) -> Almeria – Paseo de almeria | D105: =IF(Deploiement!D105="","",Deploiement!D105) -> Europe du Sud | E105: =IF(Deploiement!E105="","",Deploiement!E105) -> Espagne | F105: =IF(Deploiement!F105="","",Deploiement!F105) -> STD | H105: 1
A106: =IF(Deploiement!A106="","",Deploiement!A106) -> Ethiopie | B106: =IF(Deploiement!B106="","",Deploiement!B106) -> ET001 | C106: =IF(Deploiement!C106="","",Deploiement!C106) -> Addis Abeba - Lebu Mall | D106: =IF(Deploiement!D106="","",Deploiement!D106) -> BRICS | E106: =IF(Deploiement!E106="","",Deploiement!E106) -> SSA | F106: =IF(Deploiement!F106="","",Deploiement!F106) -> STD | G106: Généraliste | H106: 1
A107: =IF(Deploiement!A107="","",Deploiement!A107) -> Ethiopie | B107: =IF(Deploiement!B107="","",Deploiement!B107) -> ET002 | C107: =IF(Deploiement!C107="","",Deploiement!C107) -> Addis Abeba - Mexico | D107: =IF(Deploiement!D107="","",Deploiement!D107) -> BRICS | E107: =IF(Deploiement!E107="","",Deploiement!E107) -> SSA | F107: =IF(Deploiement!F107="","",Deploiement!F107) -> STD | H107: 1.5
A108: =IF(Deploiement!A108="","",Deploiement!A108) -> Ethiopie | B108: =IF(Deploiement!B108="","",Deploiement!B108) -> ET003 | C108: =IF(Deploiement!C108="","",Deploiement!C108) -> Addis Abeba - Rakkan Mall | D108: =IF(Deploiement!D108="","",Deploiement!D108) -> BRICS | E108: =IF(Deploiement!E108="","",Deploiement!E108) -> SSA | F108: =IF(Deploiement!F108="","",Deploiement!F108) -> STD | H108: 1.5
A109: =IF(Deploiement!A109="","",Deploiement!A109) -> France | B109: =IF(Deploiement!B109="","",Deploiement!B109) -> FR001 | C109: =IF(Deploiement!C109="","",Deploiement!C109) -> La Gacilly - Vegetarium | D109: =IF(Deploiement!D109="","",Deploiement!D109) -> France | E109: =IF(Deploiement!E109="","",Deploiement!E109) -> France | F109: =IF(Deploiement!F109="","",Deploiement!F109) -> EXP | H109: 2
A110: =IF(Deploiement!A110="","",Deploiement!A110) -> France | B110: =IF(Deploiement!B110="","",Deploiement!B110) -> FR002 | C110: =IF(Deploiement!C110="","",Deploiement!C110) -> Nice - Medecin | D110: =IF(Deploiement!D110="","",Deploiement!D110) -> France | E110: =IF(Deploiement!E110="","",Deploiement!E110) -> France | F110: =IF(Deploiement!F110="","",Deploiement!F110) -> STD | H110: 2
A111: =IF(Deploiement!A111="","",Deploiement!A111) -> France | B111: =IF(Deploiement!B111="","",Deploiement!B111) -> FR003 | C111: =IF(Deploiement!C111="","",Deploiement!C111) -> Saint Maur des Fosses | D111: =IF(Deploiement!D111="","",Deploiement!D111) -> France | E111: =IF(Deploiement!E111="","",Deploiement!E111) -> France | F111: =IF(Deploiement!F111="","",Deploiement!F111) -> STD | H111: 2
...

Sheet Analyse V2
B3: PERMANENT
B4: NON AGE
B6: Cas d'école Monde : | E6: =_xlfn.MODE.SNGL(Merchandising!$H:$H) -> 1.5 | G6: =COUNTIFS(Merchandising!$H:$H,'Analyse V2'!E6)/COUNT(Merchandising!$H:$H) -> 0.44117647
B8: Zone ou Pays | D8: Cas d'école (mL) | F8: Détail des configuration | H8: Poids config dans parc LAB'
B9: ALL/AUT/SUI | F9: 1 | H9: =COUNTIFS(Merchandising!H:H,"1",Merchandising!E:E,"AL/AUT/SUI")/COUNTIFS(Merchandising!H:H,">0",Merchandising!E:E,"AL/AUT/SUI") -> 0.14285714
F10: 1.5 | H10: =COUNTIFS(Merchandising!H:H,"1,5",Merchandising!E:E,"AL/AUT/SUI")/COUNTIFS(Merchandising!H:H,">0",Merchandising!E:E,"AL/AUT/SUI") -> 0.57142857
D11: {=_xlfn.MODE.SNGL(IF((Merchandising!$E$6:$E$65536="AL/AUT/SUI")*(Merchandising!$H$6:$H$65536<>""),Merchandising!$H$6:$H$65536))} -> 1.5 | F11: 2 | H11: =COUNTIFS(Merchandising!H:H,"2",Merchandising!E:E,"AL/AUT/SUI")/COUNTIFS(Merchandising!H:H,">0",Merchandising!E:E,"AL/AUT/SUI") -> 0.28571429
F12: 2.5 | H12: =COUNTIFS(Merchandising!H:H,"2,5",Merchandising!E:E,"AL/AUT/SUI")/COUNTIFS(Merchandising!H:H,">0",Merchandising!E:E,"AL/AUT/SUI") -> 0
F13: 3 | H13: =COUNTIFS(Merchandising!H:H,"3",Merchandising!E:E,"AL/AUT/SUI")/COUNTIFS(Merchandising!H:H,">0",Merchandising!E:E,"AL/AUT/SUI") -> 0
F14: 3.5 | H14: =COUNTIFS(Merchandising!H:H,"3,5",Merchandising!E:E,"AL/AUT/SUI")/COUNTIFS(Merchandising!H:H,">0",Merchandising!E:E,"AL/AUT/SUI") -> 0
B15: Benelux | F15: 1 | H15: =COUNTIFS(Merchandising!H:H,"1",Merchandising!E:E,"Benelux")/COUNTIFS(Merchandising!H:H,">0",Merchandising!E:E,"Benelux") -> 0
F16: 1.5 | H16: =COUNTIFS(Merchandising!H:H,"1,5",Merchandising!E:E,"Benelux")/COUNTIFS(Merchandising!H:H,">0",Merchandising!E:E,"Benelux") -> 0.35714286
D17: {=_xlfn.MODE.SNGL(IF((Merchandising!$E$6:$E$65536="Benelux")*(Merchandising!$H$6:$H$65536<>""),Merchandising!$H$6:$H$65536))} -> 2 | F17: 2 | H17: =COUNTIFS(Merchandising!H:H,"2",Merchandising!E:E,"Benelux")/COUNTIFS(Merchandising!H:H,">0",Merchandising!E:E,"Benelux") -> 0.64285714
F18: 2.5 | H18: =COUNTIFS(Merchandising!H:H,"2,5",Merchandising!E:E,"Benelux")/COUNTIFS(Merchandising!H:H,">0",Merchandising!E:E,"Benelux") -> 0
F19: 3 | H19: =COUNTIFS(Merchandising!H:H,"3",Merchandising!E:E,"Benelux")/COUNTIFS(Merchandising!H:H,">0",Merchandising!E:E,"Benelux") -> 0
F20: 3.5 | H20: =COUNTIFS(Merchandising!H:H,"3,5",Merchandising!E:E,"Benelux")/COUNTIFS(Merchandising!H:H,">0",Merchandising!E:E,"Benelux") -> 0
B21: Canada | F21: 1 | H21: =COUNTIFS(Merchandising!H:H,"1",Merchandising!E:E,"Canada")/COUNTIFS(Merchandising!H:H,">0",Merchandising!E:E,"Canada") -> 0
F22: 1.5 | H22: =COUNTIFS(Merchandising!H:H,"1,5",Merchandising!E:E,"Canada")/COUNTIFS(Merchandising!H:H,">0",Merchandising!E:E,"Canada") -> 0
D23: {=_xlfn.MODE.SNGL(IF((Merchandising!$E$6:$E$65536="Canada")*(Merchandising!$H$6:$H$65536<>""),Merchandising!$H$6:$H$65536))} -> 2 | F23: 2 | H23: =COUNTIFS(Merchandising!H:H,"2",Merchandising!E:E,"Canada")/COUNTIFS(Merchandising!H:H,">0",Merchandising!E:E,"Canada") -> 0.55555556
F24: 2.5 | H24: =COUNTIFS(Merchandising!H:H,"2,5",Merchandising!E:E,"Canada")/COUNTIFS(Merchandising!H:H,">0",Merchandising!E:E,"Canada") -> 0.22222222
F25: 3 | H25: =COUNTIFS(Merchandising!H:H,"3",Merchandising!E:E,"Canada")/COUNTIFS(Merchandising!H:H,">0",Merchandising!E:E,"Canada") -> 0.11111111
F26: 3.5 | H26: =COUNTIFS(Merchandising!H:H,"3,5",Merchandising!E:E,"Canada")/COUNTIFS(Merchandising!H:H,">0",Merchandising!E:E,"Canada") -> 0.11111111
B27: Espagne | F27: 1 | H27: =COUNTIFS(Merchandising!H:H,"3,5",Merchandising!E:E,"Espagne")/COUNTIFS(Merchandising!H:H,">0",Merchandising!E:E,"Espagne") -> 0
F28: 1.5 | H28: =COUNTIFS(Merchandising!H:H,"1,5",Merchandising!E:E,"Espagne")/COUNTIFS(Merchandising!H:H,">0",Merchandising!E:E,"Espagne") -> 0.25
D29: {=_xlfn.MODE.SNGL(IF((Merchandising!$E$6:$E$65536="Espagne")*(Merchandising!$H$6:$H$65536<>""),Merchandising!$H$6:$H$65536))} -> 2 | F29: 2 | H29: =COUNTIFS(Merchandising!H:H,"2",Merchandising!E:E,"Espagne")/COUNTIFS(Merchandising!H:H,">0",Merchandising!E:E,"Espagne") -> 0.60714286
F30: 2.5 | H30: =COUNTIFS(Merchandising!H:H,"2,5",Merchandising!E:E,"Espagne")/COUNTIFS(Merchandising!H:H,">0",Merchandising!E:E,"Espagne") -> 0.035714286
F31: 3 | H31: =COUNTIFS(Merchandising!H:H,"3",Merchandising!E:E,"Espagne")/COUNTIFS(Merchandising!H:H,">0",Merchandising!E:E,"Espagne") -> 0
F32: 3.5 | H32: =COUNTIFS(Merchandising!H:H,"3,5",Merchandising!E:E,"Espagne")/COUNTIFS(Merchandising!H:H,">0",Merchandising!E:E,"Espagne") -> 0
B33: France | F33: 1 | H33: =COUNTIFS(Merchandising!H:H,"1",Merchandising!E:E,"France")/COUNTIFS(Merchandising!H:H,">0",Merchandising!E:E,"France") -> 0.048387097
F34: 1.5 | H34: =COUNTIFS(Merchandising!H:H,"1,5",Merchandising!E:E,"France")/COUNTIFS(Merchandising!H:H,">0",Merchandising!E:E,"France") -> 0.33870968
D35: {=_xlfn.MODE.SNGL(IF((Merchandising!$E$6:$E$65536="France")*(Merchandising!$H$6:$H$65536<>""),Merchandising!$H$6:$H$65536))} -> 2 | F35: 2 | H35: =COUNTIFS(Merchandising!H:H,"2",Merchandising!E:E,"France")/COUNTIFS(Merchandising!H:H,">0",Merchandising!E:E,"France") -> 0.58064516
F36: 2.5 | H36: =COUNTIFS(Merchandising!H:H,"2,5",Merchandising!E:E,"France")/COUNTIFS(Merchandising!H:H,">0",Merchandising!E:E,"France") -> 0.032258065
F37: 3 | H37: =COUNTIFS(Merchandising!H:H,"3",Merchandising!E:E,"France")/COUNTIFS(Merchandising!H:H,">0",Merchandising!E:E,"France") -> 0
F38: 3.5 | H38: =COUNTIFS(Merchandising!H:H,"3,5",Merchandising!E:E,"France")/COUNTIFS(Merchandising!H:H,">0",Merchandising!E:E,"France") -> 0
B39: Italie | F39: 1 | H39: =COUNTIFS(Merchandising!H:H,"1",Merchandising!E:E,"Italie")/COUNTIFS(Merchandising!H:H,">0",Merchandising!E:E,"Italie") -> 0.18181818
F40: 1.5 | H40: =COUNTIFS(Merchandising!H:H,"1,5",Merchandising!E:E,"Italie")/COUNTIFS(Merchandising!H:H,">0",Merchandising!E:E,"Italie") -> 0.59090909
D41: {=_xlfn.MODE.SNGL(IF((Merchandising!$E$6:$E$65536="Italie")*(Merchandising!$H$6:$H$65536<>""),Merchandising!$H$6:$H$65536))} -> 1.5 | F41: 2 | H41: =COUNTIFS(Merchandising!H:H,"2",Merchandising!E:E,"Italie")/COUNTIFS(Merchandising!H:H,">0",Merchandising!E:E,"Italie") -> 0.22727273
F42: 2.5 | H42: =COUNTIFS(Merchandising!H:H,"2,5",Merchandising!E:E,"Italie")/COUNTIFS(Merchandising!H:H,">0",Merchandising!E:E,"Italie") -> 0
F43: 3 | H43: =COUNTIFS(Merchandising!H:H,"3",Merchandising!E:E,"Italie")/COUNTIFS(Merchandising!H:H,">0",Merchandising!E:E,"Italie") -> 0
F44: 3.5 | H44: =COUNTIFS(Merchandising!H:H,"3,5",Merchandising!E:E,"Italie")/COUNTIFS(Merchandising!H:H,">0",Merchandising!E:E,"Italie") -> 0
B45: Maroc | F45: 1 | H45: =COUNTIFS(Merchandising!H:H,"1",Merchandising!E:E,"Maroc")/COUNTIFS(Merchandising!H:H,">0",Merchandising!E:E,"Maroc") -> 0.27272727
F46: 1.5 | H46: =COUNTIFS(Merchandising!H:H,"1,5",Merchandising!E:E,"Maroc")/COUNTIFS(Merchandising!H:H,">0",Merchandising!E:E,"Maroc") -> 0.45454545
D47: {=_xlfn.MODE.SNGL(IF((Merchandising!$E$6:$E$65536="Maroc")*(Merchandising!$H$6:$H$65536<>""),Merchandising!$H$6:$H$65536))} -> 1.5 | F47: 2 | H47: =COUNTIFS(Merchandising!H:H,"2",Merchandising!E:E,"Maroc")/COUNTIFS(Merchandising!H:H,">0",Merchandising!E:E,"Maroc") -> 0.27272727
F48: 2.5 | H48: =COUNTIFS(Merchandising!H:H,"2,5",Merchandising!E:E,"Maroc")/COUNTIFS(Merchandising!H:H,">0",Merchandising!E:E,"Maroc") -> 0
F49: 3 | H49: =COUNTIFS(Merchandising!H:H,"3",Merchandising!E:E,"Maroc")/COUNTIFS(Merchandising!H:H,">0",Merchandising!E:E,"Maroc") -> 0
F50: 3.5 | H50: =COUNTIFS(Merchandising!H:H,"3,5",Merchandising!E:E,"Maroc")/COUNTIFS(Merchandising!H:H,">0",Merchandising!E:E,"Maroc") -> 0
B51: Mexique | F51: 1 | H51: =COUNTIFS(Merchandising!H:H,"1",Merchandising!E:E,"Mexique")/COUNTIFS(Merchandising!H:H,">0",Merchandising!E:E,"Mexique") -> 0
F52: 1.5 | H52: =COUNTIFS(Merchandising!H:H,"1,5",Merchandising!E:E,"Mexique")/COUNTIFS(Merchandising!H:H,">0",Merchandising!E:E,"Mexique") -> 0.8
D53: {=_xlfn.MODE.SNGL(IF((Merchandising!$E$6:$E$65536="Mexique")*(Merchandising!$H$6:$H$65536<>""),Merchandising!$H$6:$H$65536))} -> 1.5 | F53: 2 | H53: =COUNTIFS(Merchandising!H:H,"2",Merchandising!E:E,"Mexique")/COUNTIFS(Merchandising!H:H,">0",Merchandising!E:E,"Mexique") -> 0.2
F54: 2.5 | H54: =COUNTIFS(Merchandising!H:H,"2,5",Merchandising!E:E,"Mexique")/COUNTIFS(Merchandising!H:H,">0",Merchandising!E:E,"Mexique") -> 0
F55: 3 | H55: =COUNTIFS(Merchandising!H:H,"3",Merchandising!E:E,"Mexique")/COUNTIFS(Merchandising!H:H,">0",Merchandising!E:E,"Mexique") -> 0
F56: 3.5 | H56: =COUNTIFS(Merchandising!H:H,"3,5",Merchandising!E:E,"Mexique")/COUNTIFS(Merchandising!H:H,">0",Merchandising!E:E,"Mexique") -> 0
B57: PECO | F57: 1 | H57: =COUNTIFS(Merchandising!H:H,"1",Merchandising!E:E,"PECO")/COUNTIFS(Merchandising!H:H,">0",Merchandising!E:E,"PECO") -> 0.2195122
F58: 1.5 | H58: =COUNTIFS(Merchandising!H:H,"1,5",Merchandising!E:E,"PECO")/COUNTIFS(Merchandising!H:H,">0",Merchandising!E:E,"PECO") -> 0.48780488
D59: {=_xlfn.MODE.SNGL(IF((Merchandising!$E$6:$E$65536="PECO")*(Merchandising!$H$6:$H$65536<>""),Merchandising!$H$6:$H$65536))} -> 1.5 | F59: 2 | H59: =COUNTIFS(Merchandising!H:H,"2",Merchandising!E:E,"PECO")/COUNTIFS(Merchandising!H:H,">0",Merchandising!E:E,"PECO") -> 0.24390244
F60: 2.5 | H60: =COUNTIFS(Merchandising!H:H,"2,5",Merchandising!E:E,"PECO")/COUNTIFS(Merchandising!H:H,">0",Merchandising!E:E,"PECO") -> 0.048780488
F61: 3 | H61: =COUNTIFS(Merchandising!H:H,"3",Merchandising!E:E,"PECO")/COUNTIFS(Merchandising!H:H,">0",Merchandising!E:E,"PECO") -> 0
F62: 3.5 | H62: =COUNTIFS(Merchandising!H:H,"3,5",Merchandising!E:E,"PECO")/COUNTIFS(Merchandising!H:H,">0",Merchandising!E:E,"PECO") -> 0
B63: Russie | F63: 1 | H63: =COUNTIFS(Merchandising!H:H,"1",Merchandising!E:E,"Russie")/COUNTIFS(Merchandising!H:H,">0",Merchandising!E:E,"Russie") -> 0.071428571
F64: 1.5 | H64: =COUNTIFS(Merchandising!H:H,"1,5",Merchandising!E:E,"Russie")/COUNTIFS(Merchandising!H:H,">0",Merchandising!E:E,"Russie") -> 0.57142857
D65: {=_xlfn.MODE.SNGL(IF((Merchandising!$E$6:$E$65536="Russie")*(Merchandising!$H$6:$H$65536<>""),Merchandising!$H$6:$H$65536))} -> 1.5 | F65: 2 | H65: =COUNTIFS(Merchandising!H:H,"2",Merchandising!E:E,"Russie")/COUNTIFS(Merchandising!H:H,">0",Merchandising!E:E,"Russie") -> 0.35714286
F66: 2.5 | H66: =COUNTIFS(Merchandising!H:H,"2,5",Merchandising!E:E,"Russie")/COUNTIFS(Merchandising!H:H,">0",Merchandising!E:E,"Russie") -> 0
F67: 3 | H67: =COUNTIFS(Merchandising!H:H,"3",Merchandising!E:E,"Russie")/COUNTIFS(Merchandising!H:H,">0",Merchandising!E:E,"Russie") -> 0
F68: 3.5 | H68: =COUNTIFS(Merchandising!H:H,"3,5",Merchandising!E:E,"Russie")/COUNTIFS(Merchandising!H:H,">0",Merchandising!E:E,"Russie") -> 0
B69: Thailande | F69: 1 | H69: =COUNTIFS(Merchandising!H:H,"1",Merchandising!E:E,"Thailande")/COUNTIFS(Merchandising!H:H,">0",Merchandising!E:E,"Thailande") -> 0.5
F70: 1.5 | H70: =COUNTIFS(Merchandising!H:H,"1,5",Merchandising!E:E,"Thailande")/COUNTIFS(Merchandising!H:H,">0",Merchandising!E:E,"Thailande") -> 0.25
D71: {=_xlfn.MODE.SNGL(IF((Merchandising!$E$6:$E$65536="Thailande")*(Merchandising!$H$6:$H$65536<>""),Merchandising!$H$6:$H$65536))} -> 1 | F71: 2 | H71: =COUNTIFS(Merchandising!H:H,"2",Merchandising!E:E,"Thailande")/COUNTIFS(Merchandising!H:H,">0",Merchandising!E:E,"Thailande") -> 0.25
F72: 2.5 | H72: =COUNTIFS(Merchandising!H:H,"2,5",Merchandising!E:E,"Thailande")/COUNTIFS(Merchandising!H:H,">0",Merchandising!E:E,"Thailande") -> 0
F73: 3 | H73: =COUNTIFS(Merchandising!H:H,"3",Merchandising!E:E,"Thailande")/COUNTIFS(Merchandising!H:H,">0",Merchandising!E:E,"Thailande") -> 0
F74: 3.5 | H74: =COUNTIFS(Merchandising!H:H,"3,5",Merchandising!E:E,"Thailande")/COUNTIFS(Merchandising!H:H,">0",Merchandising!E:E,"Thailande") -> 0
B75: Turquie | F75: 1 | H75: =COUNTIFS(Merchandising!H:H,"1",Merchandising!E:E,"Turquie")/COUNTIFS(Merchandising!H:H,">0",Merchandising!E:E,"Turquie") -> 0.5
F76: 1.5 | H76: =COUNTIFS(Merchandising!H:H,"1,5",Merchandising!E:E,"Turquie")/COUNTIFS(Merchandising!H:H,">0",Merchandising!E:E,"Turquie") -> 0.5
D77: {=_xlfn.MODE.SNGL(IF((Merchandising!$E$6:$E$65536="Turquie")*(Merchandising!$H$6:$H$65536<>""),Merchandising!$H$6:$H$65536))} -> 1.5 | F77: 2 | H77: =COUNTIFS(Merchandising!H:H,"2",Merchandising!E:E,"Turquie")/COUNTIFS(Merchandising!H:H,">0",Merchandising!E:E,"Turquie") -> 0
D78: {=MODE(IF(ISNA(MATCH(IF((Merchandising!$E$6:$E$65536="Turquie")*(Merchandising!$H$6:$H$65536<>""),Merchandising!$H$6:$H$65536),$D$77:D77,0)),Merchandising!$H$6:$H$65536))} -> 0 | F78: 2.5 | H78: =COUNTIFS(Merchandising!H:H,"2,5",Merchandising!E:E,"Turquie")/COUNTIFS(Merchandising!H:H,">0",Merchandising!E:E,"Turquie") -> 0
F79: 3 | H79: =COUNTIFS(Merchandising!H:H,"3",Merchandising!E:E,"Turquie")/COUNTIFS(Merchandising!H:H,">0",Merchandising!E:E,"Turquie") -> 0
F80: 3.5 | H80: =COUNTIFS(Merchandising!H:H,"3,5",Merchandising!E:E,"Turquie")/COUNTIFS(Merchandising!H:H,">0",Merchandising!E:E,"Turquie") -> 0
