Workbook
Name BDD.Depl: Deploiement!$A$5:$Y$441
Name BDD.Merch: Merchandising!$A$5:$H$437
Name concept: #REF!
Name lightbox: #REF!
Name ligthbox: #REF!
Name maquillage: #REF!
Name meubles: #REF!
Name non_age: Merchandising!$H$6:$H$437
Name TA: #REF!
Name Table.Iso: #REF!
Name zone: Merchandising!$E$6:$E$437

Sheet Règles d'utilsation
B2: UTILISATION DE LA BASE DE DONNEES
B5: Fonction | C5: Elle permet de faire le suivi global du déploiement du LAB'.
C6: Toutes les ouvertures, rénovations, transferts LAB' du monde entier y sont référencés.
B8: Règles importantes ! | C8: Avant de commencer à remplir la BDD, tu dois impérativement avoir les règles qui suivent en tête ! Plusieurs tableaux sont croisés, aussi une erreur pourrait très rapidement tout dérégler.
E9: 1) | F9: Pour ajouter un projet à l'onglet "Déploiement", tu dois toujours te rendre tout en bas du tableau. Tu y trouveras 3 lignes blanches, suivies d'une ligne bleue.
F10: Insère une nouvelle ligne, tu pourras ensuite y entrer tes informations.
F11: Tu dois toujours conserver 3 lignes blanches et la ligne bleue à la fin du tableau !
E13: 2) | F13: Pour que la ligne que tu as ajouté dans l'onglet "Déploiement" apparaisse dans l'onglet "Merchandising", tu dois te rendre tout en bas du tableau "Merchandising".
F14: Tu y trouveras de nouveau 3 lignes blanches suivies d'une ligne bleue.
F15: Insère une nouvelle ligne. Séléctionne ensuite les 6 premières colonnes de la dernière ligne remplie du tableau.
F16: Etire ta séléction vers le bas pour étendre la formule. Les informations que tu as rentré dans "Déploiement" apparaissent alors.
F17: Tu dois toujours conserver 3 lignes blanches et la ligne bleue à la fin du tableau !
E19: 3) | F19: Pour trier le tableau par ordre alphabétique, tu dois IMPERATIVEMENT respecter la démarche suivante dans l'ordre indiqué !!
F20: Va dans l'onglet "Merchandising". Sélectionne TOUTES les cases du tableau (la partie de droite également).
F21: Clique sur "Trier et Filtrer" > "Trier de A à Z"
F22: Va ensuite dans l'onglet "Deploiement". Sélectionne TOUTES les cases du tableau (la partie de droite également).
F23: Clique sur "Trier et Filtrer" > "Trier de A à Z"
F24: Va dans l'onglet "Merchandising". Séléctionne les 6 premières colonnes de la première ligne remplie du tableau.
F25: Etire ta séléction vers le bas pour étendre la formule. (Certaines données vont changer, c'est normal.)
F26: Tu as trié les deux tableaux sans altérer les données qui y sont référencées !
E28: 4) | F28: Pour supprimer une ligne : tu dois toujours la supprimer D'ABORD dans l'onglet "Merchandising" PUIS dans l'onglet "Deploiement" !
B31: Déroulement | C31: 1 - | D31: Réception de la "project sheet"
D32: Chaque pays désirant entreprendre un nouveau projet LAB' envoie une "project sheet" (fichier Excel).
D33: Il s'agit d'un document regroupant les premières informations relatives au projet.
D34: Ce document te permettra de remplir l'onglet "Déploiement".
D35: Pour trouver cette project sheet :
E36: 1) | F36: Si le pays est une Filiale : la project sheet te sera directement transféré par Marie ou Manon par mail.
E37: 2) | F37: Si le pays est un Agent : tu trouveras la project sheet en suivant le lien suivant :
F38: G:\GDM_INTERNATIONAL\1-PROJETS à rentre dans un projet puis va dans le dossier "DOCS"
F39: Exemple : G:\GDM_INTERNATIONAL\1-PROJETS\A-LAB_Hongrie_Békéscsaba_CC_2017\DOCS
G40: à A-LAB_Hongrie_Békéscsaba_CC_2017 signifie :
G41: AGENT LAB' situé dans le pays de la Hongrie, dans la ville de Békéscsaba dans un Centre Commercial, le projet date de 2017.
C43: 2- | D43: Remplissage de l'onglet "Déploiement"
D44: Pour remplir l'onglet "Déploiement", il te suffit de suivre les informations données par la project sheet.
D46: POUR LE REMPLIR :
E47: 1) | F47: Pour définir le CODE MAG tu dois regarder les codes précèdemment attribués au pays et ajouter +1 au dernier listé.
F48: Exemple : Je cherche à intégrer un magasin en Allemagne. En regardant le dernier magasin référencé en Allemagne je vois que son code est DE011.
F49: Je dois donc donner à mon nouveau magasin le code DE012.
F50: S'il s'agit du premier magasin dans ce pays, il faut regarder le code ISO du pays (onglet ISO). Son numéro sera alors 001.
E52: 2) | F52: Lorsque tu remplis la case "VILLE - NOM DU MAGASIN", ne pas oublier de référencer la ville !
...

Sheet Deploiement
A1: DEPLOIEMENT LAB' - 2016/2017 | F1: magasin verifié via liste pays ok
A2: hors France
N3: PLANNING PROJET | T3: CONTACTS | W3: DIVERS
A5: PAYS | B5: CODE MAG | C5: VILLE - NOM DU MAGASIN | D5: DIRECTION | E5: ZONE | F5: CONCEPT LEVEL | G5: AGENT OU FILIALE | H5: CREA-TR-RENO | I5: STORE LEVEL | J5: SDV (m²) | K5: CABINES | L5: CA PDTS ESTIME 3ans(K€) | M5: CA INSTITUT ESTIME 3ans (K€) | N5: RECEPTION FS | O5: REALISATION PLANS | P5: Retour central RECO ou APS | Q5: OUVERTURE INITIALE PREVUE | R5: ETAT | S5: RECEPTION PHOTOS | T5: CHEF DE PROJET | U5: MERCH | V5: BUSINESS MANAGER / DIRECTEUR RETAIL | W5: Contact /suivi | X5: XX | Y5: Réception matrice
A6: Albanie | B6: AL001 | C6: Tirana - Toptani | D6: BRICS | E6: SEE | F6: STD | G6: A | H6: CREA | I6: STD | J6: 30 | K6: 0 | L6: 120 | M6: 0 | N6: 42480 | O6: central | P6: 42500 | Q6: XX/03/16 | R6: OK OUVERT | T6: CORNELIA NITU | U6: CORNELIA NITU
A7: Albanie | B7: AL002 | C7: Shkodra - Shkodra | D7: BRICS | E7: SEE | F7: STD | G7: A | H7: CREA | I7: STD | J7: 19.45 | K7: 0 | L7: 270 | M7: 0 | Q7: 43054
A8: Algérie | B8: DZ001 | C8: Alger - Carrefour City Center | D8: BRICS | E8: Méditerranée | F8: STD | G8: A | H8: CREA | I8: STD | J8: 47 | K8: 0 | L8: 400 | M8: 0 | N8: 42641 | O8: central | P8: 42650 | Q8: 42673 | R8: OK OUVERT | T8: RYM AYACH | U8: RYM AYACH
A9: Algérie | B9: DZ002 | C9: Bouira - Bouira | D9: BRICS | E9: Méditerranée | F9: STD | G9: A | H9: CREA | I9: STD | J9: 38.85 | K9: 1 | L9: 600 | M9: NC | N9: 42711 | O9: central | P9: 42713 | Q9: XX/08/17 | R9: OK OUVERT | T9: RYM AYACH | U9: RYM AYACH
A10: Algérie | B10: DZ003 | C10: Alger - Didouche Mourad | D10: BRICS | E10: Méditerranée | F10: STD | G10: A | H10: CREA | I10: STD | J10: 30 | K10: 2 | L10: 150 | M10: NC | N10: 42550 | O10: central | P10: 42557 | Q10: XX/04/17 | R10: OK OUVERT | T10: RYM AYACH | U10: SABINE CEYRAC | V10: HB
A11: Algérie | B11: DZ004 | C11: Alger - Hassiba ben Bouali | D11: BRICS | E11: Méditerranée | F11: STD | G11: A | H11: RENO | I11: STD | J11: 45.55 | K11: 2 | L11: 50 | M11: NC | N11: 42622 | O11: central | P11: 42632 | Q11: 42675 | T11: RYM AYACH | U11: RYM AYACH
A12: Allemagne | B12: DE001 | C12: Bad Oeynhausen | D12: NCE | E12: AL/AUT/SUI | F12: STD | G12: F | H12: TR | I12: STD | J12: 45 | K12: 0 | L12: 1195 | M12: 0 | N12: 42767 | O12: local | Q12: XX/06/17 | R12: OK OUVERT
A13: Allemagne | B13: DE002 | C13: Bautzen - DE0209 | D13: NCE | E13: AL/AUT/SUI | F13: Light | G13: F | H13: RENO | I13: STD | J13: 48.2 | K13: 0 | L13: 1173 | M13: 0 | N13: 42858 | O13: local | Q13: XX/08/17 | R13: OK OUVERT
A14: Allemagne | B14: DE003 | C14: Frankfurt | D14: NCE | E14: AL/AUT/SUI | F14: STD | G14: F | I14: STD | N14: 42878 | O14: local | Q14: XX/07/17 | R14: OK OUVERT
A15: Allemagne | B15: DE004 | C15: Hoyerswerda - DE0260 | D15: NCE | E15: AL/AUT/SUI | F15: Light | G15: F | H15: RENO | I15: STD | J15: 50 | K15: 0 | L15: 965 | M15: 0 | N15: 42857 | O15: local | Q15: NC
A16: Allemagne | B16: DE005 | C16: Gera - Gera Arcaden | D16: NCE | E16: AL/AUT/SUI | F16: STD | G16: F | H16: TR | I16: STD | J16: 35 | K16: 0 | L16: 957 | M16: 0 | Q16: 43069 | T16: Catharina Transier | U16: Barbara Klein | V16: Antoine Robert du Boilouveau
A17: Allemagne | B17: DE006 | C17: Berlin - DE0273 Berlin Alexa | D17: NCE | E17: AL/AUT/SUI | F17: STD | G17: F | H17: CREA | I17: STD | J17: 48.88 | K17: 0 | L17: 520 | M17: 0 | Q17: 43116
A18: Allemagne | B18: DE007 | C18: Oberhauffsen | D18: NCE | E18: AL/AUT/SUI | G18: F
A19: Allemagne | B19: DE008 | C19: Gera - Ausführungsplanung | D19: NCE | E19: AL/AUT/SUI | F19: STD | G19: F | I19: STD | J19: 55 | K19: 0 | L19: NC | M19: NC | Q19: 43056
A20: Angola | B20: AO001 | C20: Luanda - Shopping Centre Kilamba | D20: BRICS | E20: SSA | F20: STD | G20: A | H20: CREA | I20: STD | J20: 80 | K20: 0 | L20: 450 | M20: 0 | N20: 42793 | Q20: 42856 | T20: Izar Hyacinthe | U20: Jacek Roznowickz | V20: HB
A21: Angola | B21: AO002 | C21: Lubango - Xyami | D21: BRICS | E21: SSA | F21: STD | G21: A | H21: CREA | I21: STD | J21: 38 | K21: 0 | L21: NC | M21: 0 | N21: 42542 | O21: central | P21: 42543 | Q21: 42705 | R21: OK OUVERT | T21: IZAR HYACINTHE | U21: SABINE CEYRAC | V21: HB
A22: Arabie Saoudite | B22: SA001 | C22: Khobar - Al Rashid Mall | D22: BRICS | E22: Middle East | F22: STD | G22: A | H22: CREA | I22: IMAGE | J22: 55 | K22: 0 | L22: 300 | M22: 0 | N22: 42761 | Q22: XX/05/17 | R22: OK OUVERT | T22: STEPAHNIE BRUNI | V22: HB | Y22: NOK
A23: Arabie Saoudite | B23: SA002 | C23: Riyad - Al Faisaliyah | D23: BRICS | E23: Middle East | F23: STD | G23: A | H23: CREA | I23: IMAGE | J23: 40 | K23: 0 | L23: 350 | M23: 0 | N23: 42761 | Q23: XX/06/17 | R23: OK OUVERT | Y23: NOK
A24: Arabie Saoudite | B24: SA003 | C24: Djeddah - Roshan Mall | D24: BRICS | E24: Middle East | G24: A | Q24: XX/09/17 | R24: OK OUVERT
A25: Arabie Saoudite | B25: SA004 | C25: Riyadh - Al Nakheel Mall | D25: BRICS | E25: Middle East | F25: STD | G25: A | H25: RENO | I25: STD | J25: 80 | K25: 0 | L25: 700 | M25: 0 | Q25: 42826
A26: Arabie Saoudite | B26: SA005 | C26: Djeddah - Al Saalam Mall | D26: BRICS | E26: Middle East | F26: STD | G26: A | H26: RENO | I26: STD | J26: 44 | K26: 0 | L26: 350 | M26: 0 | Q26: 42826
A27: Arabie Saoudite | B27: SA006 | C27: Tabuk - Park Mall | D27: BRICS | E27: Middle East | F27: STD | G27: A | H27: CREA | I27: IMAGE | J27: 47 | K27: 0 | L27: 350 | M27: 0 | Q27: NC
A28: Arabie Saoudite | B28: SA007 | C28: Riyadh - Tala Mall | D28: BRICS | E28: Middle East | F28: STD | G28: A | H28: RENO | I28: STD | J28: 49.3 | K28: 0 | L28: 350 | M28: 0 | Q28: 42826
A29: Arabie Saoudite | B29: SA008 | C29: Dammam - West Avenue Mall | D29: BRICS | E29: Middle East | F29: STD | G29: A | H29: CREA | I29: STD | J29: 53.3 | K29: 0 | L29: 700 | M29: 0 | Q29: 43040
A30: Arabie Saoudite | B30: SA009 | C30: Jeddah - Jeddah | D30: BRICS | E30: Middle East | F30: STD | G30: A | H30: CREA | I30: STD | J30: 67 | K30: 0 | L30: 350 | M30: 0 | Q30: Q1 2018
A31: Autriche | B31: AT001 | C31: Vienne - SCS | D31: NCE | E31: AL/AUT/SUI | F31: STD | G31: F | H31: TR | I31: STD | J31: 43.31 | K31: 0 | L31: NC | M31: 0 | Q31: 43035 | T31: Heike Jäckle | U31: Barbara Klein | V31: Thomas Chatain
A32: Belgique | B32: BE001 | C32: Bruxelles Docks | D32: NCE | E32: Benelux | F32: STD | G32: F | H32: CREA | I32: STD | J32: 49 | K32: 2 | L32: 462 | M32: 80 | N32: 42563 | O32: local | P32: 42572 | Q32: 42663 | R32: OK OUVERT | T32: INGRID HOLVOET | U32: CECILIA NUNES DA SILVA | Y32: OK
A33: Belgique | B33: BE002 | C33: Bruxelles Gare Centrale | D33: NCE | E33: Benelux | F33: STD | G33: F | H33: CREA | I33: STD | J33: 22 | K33: 0 | L33: 273 | M33: 0 | N33: 42569 | O33: local | P33: 42572 | Q33: XX/02/17 | R33: OK OUVERT | T33: INGRID HOLVOET | U33: CECILIA NUNES DA SILVA | Y33: OK
A34: Belgique | B34: BE003 | C34: Bruxelles Gare Du Nord | D34: NCE | E34: Benelux | F34: STD | G34: F | H34: CREA | I34: STD | J34: 54 | K34: 0 | L34: 540 | M34: NC | N34: 42660 | O34: local | P34: 42661 | Q34: 42824 | R34: OK OUVERT | T34: INGRID HOLVOET | U34: CECILIA NUNES DA SILVA
A35: Belgique | B35: BE004 | C35: Charleroi | D35: NCE | E35: Benelux | F35: STD | G35: F | H35: CREA | I35: TOP STORE | J35: 55 | K35: 2 | L35: 570 | M35: NC | N35: 42660 | O35: local | P35: 42668 | Q35: 42786 | T35: INGRID HOLVOET | U35: CECILIA NUNES DA SILVA | Y35: OK
A36: Belgique | B36: BE005 | C36: Bruxelles - Fort Jaco | D36: NCE | E36: Benelux | F36: STD | G36: F | H36: CREA | I36: STD | J36: 41 | K36: 3 | L36: 370 | M36: NC | N36: 42563 | O36: local | P36: 42572 | Q36: 42648 | R36: OK OUVERT | T36: INGRID HOLVOET | U36: CECILIA NUNES DA SILVA | Y36: OK
A37: Belgique | B37: BE006 | C37: Anvers - Korte Gasthuisstraat | D37: NCE | E37: Benelux | F37: STD | G37: F | H37: CREA | I37: IMAGE | J37: 42 | K37: 2 | L37: 701 | M37: 63 | N37: 42654 | O37: local | P37: 42655 | Q37: XX/03/17 | R37: OK OUVERT | T37: INGRID HOLVOET | U37: CECILIA NUNES DA SILVA | Y37: OK
A38: Belgique | B38: BE007 | C38: Mol - CV | D38: NCE | E38: Benelux | F38: STD | G38: F | H38: CREA | I38: STD | J38: 45 | K38: 2 | L38: 323 | M38: NC | N38: 42650 | O38: local | P38: 42653 | Q38: 42774 | R38: OK OUVERT | T38: INGRID HOLVOET | U38: CECILIA NUNES DA SILVA
A39: Belgique | B39: BE008 | C39: Anvers - Mortsel | D39: NCE | E39: Benelux | F39: STD | G39: F | H39: CREA | I39: STD | J39: 18 | K39: 2 | L39: 370 | M39: 60 | Q39: XX/06/17 | R39: OK OUVERT | T39: INGRID HOLVOET | U39: CECILIA NUNES DA SILVA | V39: GUILLAUME LECOINTRE
A40: Belgique | B40: BE009 | C40: Namur - CV | D40: NCE | E40: Benelux | F40: STD | G40: F | H40: RENO | I40: TOP STORE | J40: 69.3 | K40: 4 | L40: >1500 | M40: NC | N40: 42772 | O40: local | Q40: 42837 | R40: OK OUVERT | T40: INGRID HOLVOET | U40: CECILIA NUNES DA SILVA | V40: NC
A41: Belgique | B41: BE010 | C41: Avers - Wijnegem | D41: NCE | E41: Benelux | F41: STD | G41: F | H41: RENO | I41: STD | J41: 48 | K41: 2 | L41: 1050 | M41: 80 | N41: 42706 | O41: local | P41: 42710 | Q41: 42788 | R41: OK OUVERT | T41: INGRID HOLVOET | U41: CECILIA NUNES DA SILVA
...

Sheet Merchandising
A5: PAYS | B5: CODE MAG | C5: VILLE - NOM DU MAGASIN | D5: DIRECTION | E5: ZONE | F5: NIVEAU DE CONCEPT | G5: GENERALISTE / SPECIALISTE | H5: NON AGE ML
A6: =IF(Deploiement!A6="","",Deploiement!A6) -> Albanie | B6: =IF(Deploiement!B6="","",Deploiement!B6) -> AL001 | C6: =IF(Deploiement!C6="","",Deploiement!C6) -> Tirana - Toptani | D6: =IF(Deploiement!D6="","",Deploiement!D6) -> BRICS | E6: =IF(Deploiement!E6="","",Deploiement!E6) -> SEE | F6: =IF(Deploiement!F6="","",Deploiement!F6) -> STD | G6: Généraliste | H6: 1.5 | J6: Turquie | K6: {=_xlfn.MODE.SNGL(IF((zone=$J$6)*(non_age>0),non_age))} -> 1.5 | Q6: MODE.SIMPLE(SI((zone=J6)*(non_age>0);non_age))
A7: =IF(Deploiement!A7="","",Deploiement!A7) -> Albanie | B7: =IF(Deploiement!B7="","",Deploiement!B7) -> AL002 | C7: =IF(Deploiement!C7="","",Deploiement!C7) -> Shkodra - Shkodra | D7: =IF(Deploiement!D7="","",Deploiement!D7) -> BRICS | E7: =IF(Deploiement!E7="","",Deploiement!E7) -> SEE | F7: =IF(Deploiement!F7="","",Deploiement!F7) -> STD | H7: 1 | K7: {=IFERROR(IF(SUMPRODUCT((non_age=_xlfn.MODE.SNGL(IF((zone=$J$6)*(non_age>0)*(non_age<>$K$6:$K6),non_age)))*(zone=$J$6))=SUMPRODUCT((non_age=$K$6)*(zone=$J$6)),_xlfn.MODE.SNGL(IF((zone=$J$6)*(non_age>0)*(non_age<>$K$6:$K6),non_age)),""),"")} -> 1 | Q7: SOMMEPROD((zone=J6)*(non_age=K6))
A8: =IF(Deploiement!A8="","",Deploiement!A8) -> Algérie | B8: =IF(Deploiement!B8="","",Deploiement!B8) -> DZ001 | C8: =IF(Deploiement!C8="","",Deploiement!C8) -> Alger - Carrefour City Center | D8: =IF(Deploiement!D8="","",Deploiement!D8) -> BRICS | E8: =IF(Deploiement!E8="","",Deploiement!E8) -> Méditerranée | F8: =IF(Deploiement!F8="","",Deploiement!F8) -> STD | G8: Généraliste | H8: 1.5 | K8: {=IFERROR(IF(SUMPRODUCT((non_age=_xlfn.MODE.SNGL(IF((zone=$J$6)*(non_age>0)*(non_age<>$K$6:$K7),non_age)))*(zone=$J$6))=SUMPRODUCT((non_age=$K$6)*(zone=$J$6)),_xlfn.MODE.SNGL(IF((zone=$J$6)*(non_age>0)*(non_age<>$K$6:$K7),non_age)),""),"")} | Q8: MODE.SIMPLE(SI((zone=J6)*(non_age>0)*(non_age<>K6);non_age))
A9: =IF(Deploiement!A9="","",Deploiement!A9) -> Algérie | B9: =IF(Deploiement!B9="","",Deploiement!B9) -> DZ002 | C9: =IF(Deploiement!C9="","",Deploiement!C9) -> Bouira - Bouira | D9: =IF(Deploiement!D9="","",Deploiement!D9) -> BRICS | E9: =IF(Deploiement!E9="","",Deploiement!E9) -> Méditerranée | F9: =IF(Deploiement!F9="","",Deploiement!F9) -> STD | H9: 1.5
A10: =IF(Deploiement!A10="","",Deploiement!A10) -> Algérie | B10: =IF(Deploiement!B10="","",Deploiement!B10) -> DZ003 | C10: =IF(Deploiement!C10="","",Deploiement!C10) -> Alger - Didouche Mourad | D10: =IF(Deploiement!D10="","",Deploiement!D10) -> BRICS | E10: =IF(Deploiement!E10="","",Deploiement!E10) -> Méditerranée | F10: =IF(Deploiement!F10="","",Deploiement!F10) -> STD | G10: Généraliste | H10: 1
A11: =IF(Deploiement!A11="","",Deploiement!A11) -> Algérie | B11: =IF(Deploiement!B11="","",Deploiement!B11) -> DZ004 | C11: =IF(Deploiement!C11="","",Deploiement!C11) -> Alger - Hassiba ben Bouali | D11: =IF(Deploiement!D11="","",Deploiement!D11) -> BRICS | E11: =IF(Deploiement!E11="","",Deploiement!E11) -> Méditerranée | F11: =IF(Deploiement!F11="","",Deploiement!F11) -> STD | G11: Généraliste | H11: 2
A12: =IF(Deploiement!A12="","",Deploiement!A12) -> Allemagne | B12: =IF(Deploiement!B12="","",Deploiement!B12) -> DE001 | C12: =IF(Deploiement!C12="","",Deploiement!C12) -> Bad Oeynhausen | D12: =IF(Deploiement!D12="","",Deploiement!D12) -> NCE | E12: =IF(Deploiement!E12="","",Deploiement!E12) -> AL/AUT/SUI | F12: =IF(Deploiement!F12="","",Deploiement!F12) -> STD | H12: 1.5
A13: =IF(Deploiement!A13="","",Deploiement!A13) -> Allemagne | B13: =IF(Deploiement!B13="","",Deploiement!B13) -> DE002 | C13: =IF(Deploiement!C13="","",Deploiement!C13) -> Bautzen - DE0209 | D13: =IF(Deploiement!D13="","",Deploiement!D13) -> NCE | E13: =IF(Deploiement!E13="","",Deploiement!E13) -> AL/AUT/SUI | F13: =IF(Deploiement!F13="","",Deploiement!F13) -> Light | H13: 1.5
A14: =IF(Deploiement!A14="","",Deploiement!A14) -> Allemagne | B14: =IF(Deploiement!B14="","",Deploiement!B14) -> DE003 | C14: =IF(Deploiement!C14="","",Deploiement!C14) -> Frankfurt | D14: =IF(Deploiement!D14="","",Deploiement!D14) -> NCE | E14: =IF(Deploiement!E14="","",Deploiement!E14) -> AL/AUT/SUI | F14: =IF(Deploiement!F14="","",Deploiement!F14) -> STD | H14: 1.5
A15: =IF(Deploiement!A15="","",Deploiement!A15) -> Allemagne | B15: =IF(Deploiement!B15="","",Deploiement!B15) -> DE004 | C15: =IF(Deploiement!C15="","",Deploiement!C15) -> Hoyerswerda - DE0260 | D15: =IF(Deploiement!D15="","",Deploiement!D15) -> NCE | E15: =IF(Deploiement!E15="","",Deploiement!E15) -> AL/AUT/SUI | F15: =IF(Deploiement!F15="","",Deploiement!F15) -> Light
A16: =IF(Deploiement!A16="","",Deploiement!A16) -> Allemagne | B16: =IF(Deploiement!B16="","",Deploiement!B16) -> DE005 | C16: =IF(Deploiement!C16="","",Deploiement!C16) -> Gera - Gera Arcaden | D16: =IF(Deploiement!D16="","",Deploiement!D16) -> NCE | E16: =IF(Deploiement!E16="","",Deploiement!E16) -> AL/AUT/SUI | F16: =IF(Deploiement!F16="","",Deploiement!F16) -> STD
A17: =IF(Deploiement!A17="","",Deploiement!A17) -> Allemagne | B17: =IF(Deploiement!B17="","",Deploiement!B17) -> DE006 | C17: =IF(Deploiement!C17="","",Deploiement!C17) -> Berlin - DE0273 Berlin Alexa | D17: =IF(Deploiement!D17="","",Deploiement!D17) -> NCE | E17: =IF(Deploiement!E17="","",Deploiement!E17) -> AL/AUT/SUI | F17: =IF(Deploiement!F17="","",Deploiement!F17) -> STD
A18: =IF(Deploiement!A18="","",Deploiement!A18) -> Allemagne | B18: =IF(Deploiement!B18="","",Deploiement!B18) -> DE007 | C18: =IF(Deploiement!C18="","",Deploiement!C18) -> Oberhauffsen | D18: =IF(Deploiement!D18="","",Deploiement!D18) -> NCE | E18: =IF(Deploiement!E18="","",Deploiement!E18) -> AL/AUT/SUI | F18: =IF(Deploiement!F18="","",Deploiement!F18)
A19: =IF(Deploiement!A19="","",Deploiement!A19) -> Allemagne | B19: =IF(Deploiement!B19="","",Deploiement!B19) -> DE008 | C19: =IF(Deploiement!C19="","",Deploiement!C19) -> Gera - Ausführungsplanung | D19: =IF(Deploiement!D19="","",Deploiement!D19) -> NCE | E19: =IF(Deploiement!E19="","",Deploiement!E19) -> AL/AUT/SUI | F19: =IF(Deploiement!F19="","",Deploiement!F19) -> STD | H19: 1
A20: =IF(Deploiement!A20="","",Deploiement!A20) -> Angola | B20: =IF(Deploiement!B20="","",Deploiement!B20) -> AO001 | C20: =IF(Deploiement!C20="","",Deploiement!C20) -> Luanda - Shopping Centre Kilamba | D20: =IF(Deploiement!D20="","",Deploiement!D20) -> BRICS | E20: =IF(Deploiement!E20="","",Deploiement!E20) -> SSA | F20: =IF(Deploiement!F20="","",Deploiement!F20) -> STD | G20: Généraliste | H20: 1.5
A21: =IF(Deploiement!A21="","",Deploiement!A21) -> Angola | B21: =IF(Deploiement!B21="","",Deploiement!B21) -> AO002 | C21: =IF(Deploiement!C21="","",Deploiement!C21) -> Lubango - Xyami | D21: =IF(Deploiement!D21="","",Deploiement!D21) -> BRICS | E21: =IF(Deploiement!E21="","",Deploiement!E21) -> SSA | F21: =IF(Deploiement!F21="","",Deploiement!F21) -> STD | G21: Généraliste | H21: 1.5
A22: =IF(Deploiement!A22="","",Deploiement!A22) -> Arabie Saoudite | B22: =IF(Deploiement!B22="","",Deploiement!B22) -> SA001 | C22: =IF(Deploiement!C22="","",Deploiement!C22) -> Khobar - Al Rashid Mall | D22: =IF(Deploiement!D22="","",Deploiement!D22) -> BRICS | E22: =IF(Deploiement!E22="","",Deploiement!E22) -> Middle East | F22: =IF(Deploiement!F22="","",Deploiement!F22) -> STD | H22: 1.5
A23: =IF(Deploiement!A23="","",Deploiement!A23) -> Arabie Saoudite | B23: =IF(Deploiement!B23="","",Deploiement!B23) -> SA002 | C23: =IF(Deploiement!C23="","",Deploiement!C23) -> Riyad - Al Faisaliyah | D23: =IF(Deploiement!D23="","",Deploiement!D23) -> BRICS | E23: =IF(Deploiement!E23="","",Deploiement!E23) -> Middle East | F23: =IF(Deploiement!F23="","",Deploiement!F23) -> STD | H23: 1
A24: =IF(Deploiement!A24="","",Deploiement!A24) -> Arabie Saoudite | B24: =IF(Deploiement!B24="","",Deploiement!B24) -> SA003 | C24: =IF(Deploiement!C24="","",Deploiement!C24) -> Djeddah - Roshan Mall | D24: =IF(Deploiement!D24="","",Deploiement!D24) -> BRICS | E24: =IF(Deploiement!E24="","",Deploiement!E24) -> Middle East | F24: =IF(Deploiement!F24="","",Deploiement!F24)
A25: =IF(Deploiement!A25="","",Deploiement!A25) -> Arabie Saoudite | B25: =IF(Deploiement!B25="","",Deploiement!B25) -> SA004 | C25: =IF(Deploiement!C25="","",Deploiement!C25) -> Riyadh - Al Nakheel Mall | D25: =IF(Deploiement!D25="","",Deploiement!D25) -> BRICS | E25: =IF(Deploiement!E25="","",Deploiement!E25) -> Middle East | F25: =IF(Deploiement!F25="","",Deploiement!F25) -> STD
A26: =IF(Deploiement!A26="","",Deploiement!A26) -> Arabie Saoudite | B26: =IF(Deploiement!B26="","",Deploiement!B26) -> SA005 | C26: =IF(Deploiement!C26="","",Deploiement!C26) -> Djeddah - Al Saalam Mall | D26: =IF(Deploiement!D26="","",Deploiement!D26) -> BRICS | E26: =IF(Deploiement!E26="","",Deploiement!E26) -> Middle East | F26: =IF(Deploiement!F26="","",Deploiement!F26) -> STD | H26: 2
A27: =IF(Deploiement!A27="","",Deploiement!A27) -> Arabie Saoudite | B27: =IF(Deploiement!B27="","",Deploiement!B27) -> SA006 | C27: =IF(Deploiement!C27="","",Deploiement!C27) -> Tabuk - Park Mall | D27: =IF(Deploiement!D27="","",Deploiement!D27) -> BRICS | E27: =IF(Deploiement!E27="","",Deploiement!E27) -> Middle East | F27: =IF(Deploiement!F27="","",Deploiement!F27) -> STD | H27: 1.5
A28: =IF(Deploiement!A28="","",Deploiement!A28) -> Arabie Saoudite | B28: =IF(Deploiement!B28="","",Deploiement!B28) -> SA007 | C28: =IF(Deploiement!C28="","",Deploiement!C28) -> Riyadh - Tala Mall | D28: =IF(Deploiement!D28="","",Deploiement!D28) -> BRICS | E28: =IF(Deploiement!E28="","",Deploiement!E28) -> Middle East | F28: =IF(Deploiement!F28="","",Deploiement!F28) -> STD | H28: 1
A29: =IF(Deploiement!A29="","",Deploiement!A29) -> Arabie Saoudite | B29: =IF(Deploiement!B29="","",Deploiement!B29) -> SA008 | C29: =IF(Deploiement!C29="","",Deploiement!C29) -> Dammam - West Avenue Mall | D29: =IF(Deploiement!D29="","",Deploiement!D29) -> BRICS | E29: =IF(Deploiement!E29="","",Deploiement!E29) -> Middle East | F29: =IF(Deploiement!F29="","",Deploiement!F29) -> STD | H29: 2
A30: =IF(Deploiement!A30="","",Deploiement!A30) -> Arabie Saoudite | B30: =IF(Deploiement!B30="","",Deploiement!B30) -> SA009 | C30: =IF(Deploiement!C30="","",Deploiement!C30) -> Jeddah - Jeddah | D30: =IF(Deploiement!D30="","",Deploiement!D30) -> BRICS | E30: =IF(Deploiement!E30="","",Deploiement!E30) -> Middle East | F30: =IF(Deploiement!F30="","",Deploiement!F30) -> STD
A31: =IF(Deploiement!A31="","",Deploiement!A31) -> Autriche | B31: =IF(Deploiement!B31="","",Deploiement!B31) -> AT001 | C31: =IF(Deploiement!C31="","",Deploiement!C31) -> Vienne - SCS | D31: =IF(Deploiement!D31="","",Deploiement!D31) -> NCE | E31: =IF(Deploiement!E31="","",Deploiement!E31) -> AL/AUT/SUI | F31: =IF(Deploiement!F31="","",Deploiement!F31) -> STD | H31: 2
A32: =IF(Deploiement!A32="","",Deploiement!A32) -> Belgique | B32: =IF(Deploiement!B32="","",Deploiement!B32) -> BE001 | C32: =IF(Deploiement!C32="","",Deploiement!C32) -> Bruxelles Docks | D32: =IF(Deploiement!D32="","",Deploiement!D32) -> NCE | E32: =IF(Deploiement!E32="","",Deploiement!E32) -> Benelux | F32: =IF(Deploiement!F32="","",Deploiement!F32) -> STD | G32: Généraliste | H32: 2
A33: =IF(Deploiement!A33="","",Deploiement!A33) -> Belgique | B33: =IF(Deploiement!B33="","",Deploiement!B33) -> BE002 | C33: =IF(Deploiement!C33="","",Deploiement!C33) -> Bruxelles Gare Centrale | D33: =IF(Deploiement!D33="","",Deploiement!D33) -> NCE | E33: =IF(Deploiement!E33="","",Deploiement!E33) -> Benelux | F33: =IF(Deploiement!F33="","",Deploiement!F33) -> STD | G33: Généraliste | H33: 1.5
A34: =IF(Deploiement!A34="","",Deploiement!A34) -> Belgique | B34: =IF(Deploiement!B34="","",Deploiement!B34) -> BE003 | C34: =IF(Deploiement!C34="","",Deploiement!C34) -> Bruxelles Gare Du Nord | D34: =IF(Deploiement!D34="","",Deploiement!D34) -> NCE | E34: =IF(Deploiement!E34="","",Deploiement!E34) -> Benelux | F34: =IF(Deploiement!F34="","",Deploiement!F34) -> STD | G34: Généraliste | H34: 2
A35: =IF(Deploiement!A35="","",Deploiement!A35) -> Belgique | B35: =IF(Deploiement!B35="","",Deploiement!B35) -> BE004 | C35: =IF(Deploiement!C35="","",Deploiement!C35) -> Charleroi | D35: =IF(Deploiement!D35="","",Deploiement!D35) -> NCE | E35: =IF(Deploiement!E35="","",Deploiement!E35) -> Benelux | F35: =IF(Deploiement!F35="","",Deploiement!F35) -> STD | G35: Généraliste | H35: 2
A36: =IF(Deploiement!A36="","",Deploiement!A36) -> Belgique | B36: =IF(Deploiement!B36="","",Deploiement!B36) -> BE005 | C36: =IF(Deploiement!C36="","",Deploiement!C36) -> Bruxelles - Fort Jaco | D36: =IF(Deploiement!D36="","",Deploiement!D36) -> NCE | E36: =IF(Deploiement!E36="","",Deploiement!E36) -> Benelux | F36: =IF(Deploiement!F36="","",Deploiement!F36) -> STD | G36: Spécialiste | H36: 2
A37: =IF(Deploiement!A37="","",Deploiement!A37) -> Belgique | B37: =IF(Deploiement!B37="","",Deploiement!B37) -> BE006 | C37: =IF(Deploiement!C37="","",Deploiement!C37) -> Anvers - Korte Gasthuisstraat | D37: =IF(Deploiement!D37="","",Deploiement!D37) -> NCE | E37: =IF(Deploiement!E37="","",Deploiement!E37) -> Benelux | F37: =IF(Deploiement!F37="","",Deploiement!F37) -> STD | G37: Généraliste | H37: 2
A38: =IF(Deploiement!A38="","",Deploiement!A38) -> Belgique | B38: =IF(Deploiement!B38="","",Deploiement!B38) -> BE007 | C38: =IF(Deploiement!C38="","",Deploiement!C38) -> Mol - CV | D38: =IF(Deploiement!D38="","",Deploiement!D38) -> NCE | E38: =IF(Deploiement!E38="","",Deploiement!E38) -> Benelux | F38: =IF(Deploiement!F38="","",Deploiement!F38) -> STD | G38: Généraliste | H38: 1.5
A39: =IF(Deploiement!A39="","",Deploiement!A39) -> Belgique | B39: =IF(Deploiement!B39="","",Deploiement!B39) -> BE008 | C39: =IF(Deploiement!C39="","",Deploiement!C39) -> Anvers - Mortsel | D39: =IF(Deploiement!D39="","",Deploiement!D39) -> NCE | E39: =IF(Deploiement!E39="","",Deploiement!E39) -> Benelux | F39: =IF(Deploiement!F39="","",Deploiement!F39) -> STD | G39: Généraliste | H39: 1.5
A40: =IF(Deploiement!A40="","",Deploiement!A40) -> Belgique | B40: =IF(Deploiement!B40="","",Deploiement!B40) -> BE009 | C40: =IF(Deploiement!C40="","",Deploiement!C40) -> Namur - CV | D40: =IF(Deploiement!D40="","",Deploiement!D40) -> NCE | E40: =IF(Deploiement!E40="","",Deploiement!E40) -> Benelux | F40: =IF(Deploiement!F40="","",Deploiement!F40) -> STD | G40: Généraliste | H40: 2
A41: =IF(Deploiement!A41="","",Deploiement!A41) -> Belgique | B41: =IF(Deploiement!B41="","",Deploiement!B41) -> BE010 | C41: =IF(Deploiement!C41="","",Deploiement!C41) -> Avers - Wijnegem | D41: =IF(Deploiement!D41="","",Deploiement!D41) -> NCE | E41: =IF(Deploiement!E41="","",Deploiement!E41) -> Benelux | F41: =IF(Deploiement!F41="","",Deploiement!F41) -> STD | G41: Généraliste | H41: 2
A42: =IF(Deploiement!A42="","",Deploiement!A42) -> Belgique | B42: =IF(Deploiement!B42="","",Deploiement!B42) -> BE011 | C42: =IF(Deploiement!C42="","",Deploiement!C42) -> Anvers - Wilrijk | D42: =IF(Deploiement!D42="","",Deploiement!D42) -> NCE | E42: =IF(Deploiement!E42="","",Deploiement!E42) -> Benelux | F42: =IF(Deploiement!F42="","",Deploiement!F42) -> STD | G42: Généraliste | H42: 2
A43: =IF(Deploiement!A43="","",Deploiement!A43) -> Belgique | B43: =IF(Deploiement!B43="","",Deploiement!B43) -> BE012 | C43: =IF(Deploiement!C43="","",Deploiement!C43) -> Anvers - Grand Bazar | D43: =IF(Deploiement!D43="","",Deploiement!D43) -> NCE | E43: =IF(Deploiement!E43="","",Deploiement!E43) -> Benelux | F43: =IF(Deploiement!F43="","",Deploiement!F43) -> Light | H43: 1.5
A44: =IF(Deploiement!A44="","",Deploiement!A44) -> Belgique | B44: =IF(Deploiement!B44="","",Deploiement!B44) -> BE013 | C44: =IF(Deploiement!C44="","",Deploiement!C44) -> Knocke | D44: =IF(Deploiement!D44="","",Deploiement!D44) -> NCE | E44: =IF(Deploiement!E44="","",Deploiement!E44) -> Benelux | F44: =IF(Deploiement!F44="","",Deploiement!F44) -> Light | H44: 2
...

Sheet Analyse V2
B3: PERMANENT
B4: NON AGE
B6: Cas d'école Monde : | E6: =_xlfn.MODE.SNGL(Merchandising!$H:$H) -> 1.5 | G6: =COUNTIFS(Merchandising!$H:$H,'Analyse V2'!E6)/COUNT(Merchandising!$H:$H) -> 0.44117647
B8: Zone ou Pays | D8: Cas d'école (mL) | F8: Détail des configuration | H8: Poids config dans parc LAB'
B9: ALL/AUT/SUI | F9: 1 | H9: =COUNTIFS(Merchandising!H:H,"1",Merchandising!E:E,"AL/AUT/SUI")/COUNTIFS(Merchandising!H:H,">0",Merchandising!E:E,"AL/AUT/SUI") -> 0.14285714
F10: 1.5 | H10: =COUNTIFS(Merchandising!H:H,"1,5",Merchandising!E:E,"AL/AUT/SUI")/COUNTIFS(Merchandising!H:H,">0",Merchandising!E:E,"AL/AUT/SUI") -> 0.57142857
D11: {=_xlfn.MODE.SNGL(IF((Merchandising!$E$6:$E$65536="AL/AUT/SUI")*(Merchandising!$H$6:$H$65536<>""),Merchandising!$H$6:$H$65536))} -> 1.5 | F11: 2 | H11: =COUNTIFS(Merchandising!H:H,"2",Merchandising!E:E,"AL/AUT/SUI")/COUNTIFS(Merchandising!H:H,">0",Merchandising!E:E,"AL/AUT/SUI") -> 0.28571429
F12: 2.5 | H12: =COUNTIFS(Merchandising!H:H,"2,5",Merchandising!E:E,"AL/AUT/SUI")/COUNTIFS(Merchandising!H:H,">0",Merchandising!E:E,"AL/AUT/SUI") -> 0
F13: 3 | H13: =COUNTIFS(Merchandising!H:H,"3",Merchandising!E:E,"AL/AUT/SUI")/COUNTIFS(Merchandising!H:H,">0",Merchandising!E:E,"AL/AUT/SUI") -> 0
F14: 3.5 | H14: =COUNTIFS(Merchandising!H:H,"3,5",Merchandising!E:E,"AL/AUT/SUI")/COUNTIFS(Merchandising!H:H,">0",Merchandising!E:E,"AL/AUT/SUI") -> 0
B15: Benelux | F15: 1 | H15: =COUNTIFS(Merchandising!H:H,"1",Merchandising!E:E,"Benelux")/COUNTIFS(Merchandising!H:H,">0",Merchandising!E:E,"Benelux") -> 0
F16: 1.5 | H16: =COUNTIFS(Merchandising!H:H,"1,5",Merchandising!E:E,"Benelux")/COUNTIFS(Merchandising!H:H,">0",Merchandising!E:E,"Benelux") -> 0.35714286
D17: {=_xlfn.MODE.SNGL(IF((Merchandising!$E$6:$E$65536="Benelux")*(Merchandising!$H$6:$H$65536<>""),Merchandising!$H$6:$H$65536))} -> 2 | F17: 2 | H17: =COUNTIFS(Merchandising!H:H,"2",Merchandising!E:E,"Benelux")/COUNTIFS(Merchandising!H:H,">0",Merchandising!E:E,"Benelux") -> 0.64285714
F18: 2.5 | H18: =COUNTIFS(Merchandising!H:H,"2,5",Merchandising!E:E,"Benelux")/COUNTIFS(Merchandising!H:H,">0",Merchandising!E:E,"Benelux") -> 0
F19: 3 | H19: =COUNTIFS(Merchandising!H:H,"3",Merchandising!E:E,"Benelux")/COUNTIFS(Merchandising!H:H,">0",Merchandising!E:E,"Benelux") -> 0
F20: 3.5 | H20: =COUNTIFS(Merchandising!H:H,"3,5",Merchandising!E:E,"Benelux")/COUNTIFS(Merchandising!H:H,">0",Merchandising!E:E,"Benelux") -> 0
B21: Canada | F21: 1 | H21: =COUNTIFS(Merchandising!H:H,"1",Merchandising!E:E,"Canada")/COUNTIFS(Merchandising!H:H,">0",Merchandising!E:E,"Canada") -> 0
F22: 1.5 | H22: =COUNTIFS(Merchandising!H:H,"1,5",Merchandising!E:E,"Canada")/COUNTIFS(Merchandising!H:H,">0",Merchandising!E:E,"Canada") -> 0
D23: {=_xlfn.MODE.SNGL(IF((Merchandising!$E$6:$E$65536="Canada")*(Merchandising!$H$6:$H$65536<>""),Merchandising!$H$6:$H$65536))} -> 2 | F23: 2 | H23: =COUNTIFS(Merchandising!H:H,"2",Merchandising!E:E,"Canada")/COUNTIFS(Merchandising!H:H,">0",Merchandising!E:E,"Canada") -> 0.55555556
F24: 2.5 | H24: =COUNTIFS(Merchandising!H:H,"2,5",Merchandising!E:E,"Canada")/COUNTIFS(Merchandising!H:H,">0",Merchandising!E:E,"Canada") -> 0.22222222
F25: 3 | H25: =COUNTIFS(Merchandising!H:H,"3",Merchandising!E:E,"Canada")/COUNTIFS(Merchandising!H:H,">0",Merchandising!E:E,"Canada") -> 0.11111111
F26: 3.5 | H26: =COUNTIFS(Merchandising!H:H,"3,5",Merchandising!E:E,"Canada")/COUNTIFS(Merchandising!H:H,">0",Merchandising!E:E,"Canada") -> 0.11111111
B27: Espagne | F27: 1 | H27: =COUNTIFS(Merchandising!H:H,"3,5",Merchandising!E:E,"Espagne")/COUNTIFS(Merchandising!H:H,">0",Merchandising!E:E,"Espagne") -> 0
F28: 1.5 | H28: =COUNTIFS(Merchandising!H:H,"1,5",Merchandising!E:E,"Espagne")/COUNTIFS(Merchandising!H:H,">0",Merchandising!E:E,"Espagne") -> 0.25
D29: {=_xlfn.MODE.SNGL(IF((Merchandising!$E$6:$E$65536="Espagne")*(Merchandising!$H$6:$H$65536<>""),Merchandising!$H$6:$H$65536))} -> 2 | F29: 2 | H29: =COUNTIFS(Merchandising!H:H,"2",Merchandising!E:E,"Espagne")/COUNTIFS(Merchandising!H:H,">0",Merchandising!E:E,"Espagne") -> 0.60714286
F30: 2.5 | H30: =COUNTIFS(Merchandising!H:H,"2,5",Merchandising!E:E,"Espagne")/COUNTIFS(Merchandising!H:H,">0",Merchandising!E:E,"Espagne") -> 0.035714286
F31: 3 | H31: =COUNTIFS(Merchandising!H:H,"3",Merchandising!E:E,"Espagne")/COUNTIFS(Merchandising!H:H,">0",Merchandising!E:E,"Espagne") -> 0
F32: 3.5 | H32: =COUNTIFS(Merchandising!H:H,"3,5",Merchandising!E:E,"Espagne")/COUNTIFS(Merchandising!H:H,">0",Merchandising!E:E,"Espagne") -> 0
B33: France | F33: 1 | H33: =COUNTIFS(Merchandising!H:H,"1",Merchandising!E:E,"France")/COUNTIFS(Merchandising!H:H,">0",Merchandising!E:E,"France") -> 0.048387097
F34: 1.5 | H34: =COUNTIFS(Merchandising!H:H,"1,5",Merchandising!E:E,"France")/COUNTIFS(Merchandising!H:H,">0",Merchandising!E:E,"France") -> 0.33870968
D35: {=_xlfn.MODE.SNGL(IF((Merchandising!$E$6:$E$65536="France")*(Merchandising!$H$6:$H$65536<>""),Merchandising!$H$6:$H$65536))} -> 2 | F35: 2 | H35: =COUNTIFS(Merchandising!H:H,"2",Merchandising!E:E,"France")/COUNTIFS(Merchandising!H:H,">0",Merchandising!E:E,"France") -> 0.58064516
F36: 2.5 | H36: =COUNTIFS(Merchandising!H:H,"2,5",Merchandising!E:E,"France")/COUNTIFS(Merchandising!H:H,">0",Merchandising!E:E,"France") -> 0.032258065
F37: 3 | H37: =COUNTIFS(Merchandising!H:H,"3",Merchandising!E:E,"France")/COUNTIFS(Merchandising!H:H,">0",Merchandising!E:E,"France") -> 0
F38: 3.5 | H38: =COUNTIFS(Merchandising!H:H,"3,5",Merchandising!E:E,"France")/COUNTIFS(Merchandising!H:H,">0",Merchandising!E:E,"France") -> 0
B39: Italie | F39: 1 | H39: =COUNTIFS(Merchandising!H:H,"1",Merchandising!E:E,"Italie")/COUNTIFS(Merchandising!H:H,">0",Merchandising!E:E,"Italie") -> 0.18181818
F40: 1.5 | H40: =COUNTIFS(Merchandising!H:H,"1,5",Merchandising!E:E,"Italie")/COUNTIFS(Merchandising!H:H,">0",Merchandising!E:E,"Italie") -> 0.59090909
D41: {=_xlfn.MODE.SNGL(IF((Merchandising!$E$6:$E$65536="Italie")*(Merchandising!$H$6:$H$65536<>""),Merchandising!$H$6:$H$65536))} -> 1.5 | F41: 2 | H41: =COUNTIFS(Merchandising!H:H,"2",Merchandising!E:E,"Italie")/COUNTIFS(Merchandising!H:H,">0",Merchandising!E:E,"Italie") -> 0.22727273
F42: 2.5 | H42: =COUNTIFS(Merchandising!H:H,"2,5",Merchandising!E:E,"Italie")/COUNTIFS(Merchandising!H:H,">0",Merchandising!E:E,"Italie") -> 0
F43: 3 | H43: =COUNTIFS(Merchandising!H:H,"3",Merchandising!E:E,"Italie")/COUNTIFS(Merchandising!H:H,">0",Merchandising!E:E,"Italie") -> 0
F44: 3.5 | H44: =COUNTIFS(Merchandising!H:H,"3,5",Merchandising!E:E,"Italie")/COUNTIFS(Merchandising!H:H,">0",Merchandising!E:E,"Italie") -> 0
...
