Workbook
Name AT_MP: BDD!$D$2:$D$4
Name Congé_Evènement_Familial: BDD!$C$2:$C$21
Name Congés_Spéciaux: BDD!$E$2:$E$6
Name Formation: BDD!$F$2:$F$6
Name Maladie: BDD!$B$2:$B$5
Name MOTIF_GENERAL: BDD!$B$1:$G$1
Name Raison_personnelle: BDD!$G$2:$G$7

Sheet SUIVI 2018
A1: Avancé | Q1: TRAITEMENT DE LA MALADIE
A2: Traité | B2: NOM | C2: PRENOM | D2: DEBUT ABSENCE | E2: FIN ABSENCE | F2: MOIS | G2: Heures réelles d'absence | H2: Nb jours ouvrés d'absences | I2: MOTIF GENERAL | J2: MOTIF Secondaire | K2: JUSTIFICATIF | L2: COMMENTAIRES | M2: Abs. Déduite du volant | N2: Mention Fiche d'Heures | O2: Retenue de Salaire | P2: Mention Bulletin | Q2: Nb jours maintenus | R2: N° Arrêt (année civile) | S2: SUBROGATION | T2: Montant IJSS nettes | U2: Montant IJSS brutes | V2: Date versement IJSS
A3: En Attente

Sheet BDD
A1: MOTIF GENERAL | B1: Maladie | C1: Congé_Evènement_familial | D1: AT_MP | E1: Congés_Spéciaux | F1: Formation | G1: Raison_personnelle
B2: Maladie avec maintien total | C2: Mariage | D2: Accident du travail | E2: Congé maternité | G2: Grève
B3: Maladie sans maintien - Ancienneté insuffisante | C3: PACS | D3: Maladie professionnelle | E3: Congé paternité | G3: Autre
B4: Maladie avec maintien à compter du 4ème jour | C4: Mariage d'un enfant | D4: Accident de trajet | E4: Congé parental d'éducation
B5: Maladie sans maintien - + 90 jours maintenus | C5: Mariage : père / mère | E5: Congé sabbatique
C6: Mariage : frère / sœur | E6: Congé sans solde
C7: Mariage : beau-frère / belle sœur
C8: Mariage : oncle / tante
C9: Naissance / Adoption
C10: Décès : conjoint / concubin / enfant
C11: Décès : père / mère
C12: Décès : grand-parent
C13: Décès : frère / sœur
C14: Décès : beau-parent
C15: Décès : petit-enfant
C16: Décès : oncle / tante
C17: Décès : beau-frère / belle-sœur
C18: Décès : neveu / nièce
... C21: Conjoint Malade
B23: Jours Fériés
B24: Jour de l'an | C24: 43101
B25: Lundi de Pâques | C25: 43192
B26: Fête du travail | C26: 43221
B27: 8 mai 1945 | C27: 43228
B28: Jeudi Ascension | C28: 43230
B29: Lundi Pentecôte | C29: 43241
B30: Fête Nationale | C30: 43295
B31: Assomption | C31: 43327
B32: Toussaint | C32: 43405
B33: Armistice | C33: 43415
B34: Noël | C34: 43459

Sheet BDD PERSONNEL
A1: Nom | B1: Prénom | C1: N° Sécurité Sociale | D1: Date de naissance | E1: Age | F1: Date d'ancienneté | G1: Ancienneté en année | H1: Ancienneté en mois | I1: Taux horaire
A2: ADELE | B2: Sophie | E2: =DATEDIF(D2,TODAY(),"Y") -> 117 | F2: 41883 | G2: =DATEDIF(F2,TODAY(),"Y")&IF(DATEDIF(F2,TODAY(),"Y")>1," ans, "," an, " )&DATEDIF(F2,TODAY(), "YM") &" mois et " &DATEDIF(F2,TODAY(), "MD")&IF(DATEDIF(F2,TODAY(), "MD")>1," jours"," jour") -> 3 ans, 1 mois et 23 jours | H2: =DATEDIF(F2,TODAY(),"M") -> 37
A3: BEAUFILS | B3: Veronique | E3: =DATEDIF(D3,TODAY(),"Y") -> 117 | F3: 36598 | G3: =DATEDIF(F3,TODAY(),"Y")&IF(DATEDIF(F3,TODAY(),"Y")>1," ans, "," an, " )&DATEDIF(F3,TODAY(), "YM") &" mois et " &DATEDIF(F3,TODAY(), "MD")&IF(DATEDIF(F3,TODAY(), "MD")>1," jours"," jour") -> 17 ans, 7 mois et 11 jours | H3: =DATEDIF(F3,TODAY(),"M") -> 211
A4: BERLIVET - GONNORD | B4: Cindy | E4: =DATEDIF(D4,TODAY(),"Y") -> 117 | F4: 42800 | G4: =DATEDIF(F4,TODAY(),"Y")&IF(DATEDIF(F4,TODAY(),"Y")>1," ans, "," an, " )&DATEDIF(F4,TODAY(), "YM") &" mois et " &DATEDIF(F4,TODAY(), "MD")&IF(DATEDIF(F4,TODAY(), "MD")>1," jours"," jour") -> 0 an, 7 mois et 18 jours | H4: =DATEDIF(F4,TODAY(),"M") -> 7
A5: BERLOU | B5: Aurelie | E5: =DATEDIF(D5,TODAY(),"Y") -> 117 | F5: 41520 | G5: =DATEDIF(F5,TODAY(),"Y")&IF(DATEDIF(F5,TODAY(),"Y")>1," ans, "," an, " )&DATEDIF(F5,TODAY(), "YM") &" mois et " &DATEDIF(F5,TODAY(), "MD")&IF(DATEDIF(F5,TODAY(), "MD")>1," jours"," jour") -> 4 ans, 1 mois et 21 jours | H5: =DATEDIF(F5,TODAY(),"M") -> 49
A6: BIDET | B6: Maëva | E6: =DATEDIF(D6,TODAY(),"Y") -> 117 | F6: 42982 | G6: =DATEDIF(F6,TODAY(),"Y")&IF(DATEDIF(F6,TODAY(),"Y")>1," ans, "," an, " )&DATEDIF(F6,TODAY(), "YM") &" mois et " &DATEDIF(F6,TODAY(), "MD")&IF(DATEDIF(F6,TODAY(), "MD")>1," jours"," jour") -> 0 an, 1 mois et 20 jours | H6: =DATEDIF(F6,TODAY(),"M") -> 1
A7: BOUTAFI | B7: Akym | E7: =DATEDIF(D7,TODAY(),"Y") -> 117 | F7: 38866 | G7: =DATEDIF(F7,TODAY(),"Y")&IF(DATEDIF(F7,TODAY(),"Y")>1," ans, "," an, " )&DATEDIF(F7,TODAY(), "YM") &" mois et " &DATEDIF(F7,TODAY(), "MD")&IF(DATEDIF(F7,TODAY(), "MD")>1," jours"," jour") -> 11 ans, 4 mois et 25 jours | H7: =DATEDIF(F7,TODAY(),"M") -> 136
A8: BOUTON | B8: Isabelle | E8: =DATEDIF(D8,TODAY(),"Y") -> 117 | F8: 39322 | G8: =DATEDIF(F8,TODAY(),"Y")&IF(DATEDIF(F8,TODAY(),"Y")>1," ans, "," an, " )&DATEDIF(F8,TODAY(), "YM") &" mois et " &DATEDIF(F8,TODAY(), "MD")&IF(DATEDIF(F8,TODAY(), "MD")>1," jours"," jour") -> 10 ans, 1 mois et 26 jours | H8: =DATEDIF(F8,TODAY(),"M") -> 121
A9: BOUZIGON | B9: Julien | E9: =DATEDIF(D9,TODAY(),"Y") -> 117 | F9: 42396 | G9: =DATEDIF(F9,TODAY(),"Y")&IF(DATEDIF(F9,TODAY(),"Y")>1," ans, "," an, " )&DATEDIF(F9,TODAY(), "YM") &" mois et " &DATEDIF(F9,TODAY(), "MD")&IF(DATEDIF(F9,TODAY(), "MD")>1," jours"," jour") -> 1 an, 8 mois et 27 jours | H9: =DATEDIF(F9,TODAY(),"M") -> 20
A10: CHAISE | B10: Isabelle | E10: =DATEDIF(D10,TODAY(),"Y") -> 117 | F10: 32752 | G10: =DATEDIF(F10,TODAY(),"Y")&IF(DATEDIF(F10,TODAY(),"Y")>1," ans, "," an, " )&DATEDIF(F10,TODAY(), "YM") &" mois et " &DATEDIF(F10,TODAY(), "MD")&IF(DATEDIF(F10,TODAY(), "MD")>1," jours"," jour") -> 28 ans, 1 mois et 23 jours | H10: =DATEDIF(F10,TODAY(),"M") -> 337
A11: CHARNEAU | B11: Nicolas | E11: =DATEDIF(D11,TODAY(),"Y") -> 117 | F11: 40074 | G11: =DATEDIF(F11,TODAY(),"Y")&IF(DATEDIF(F11,TODAY(),"Y")>1," ans, "," an, " )&DATEDIF(F11,TODAY(), "YM") &" mois et " &DATEDIF(F11,TODAY(), "MD")&IF(DATEDIF(F11,TODAY(), "MD")>1," jours"," jour") -> 8 ans, 1 mois et 6 jours | H11: =DATEDIF(F11,TODAY(),"M") -> 97
A12: CHARQAOUI | B12: Francis | E12: =DATEDIF(D12,TODAY(),"Y") -> 117 | F12: 41883 | G12: =DATEDIF(F12,TODAY(),"Y")&IF(DATEDIF(F12,TODAY(),"Y")>1," ans, "," an, " )&DATEDIF(F12,TODAY(), "YM") &" mois et " &DATEDIF(F12,TODAY(), "MD")&IF(DATEDIF(F12,TODAY(), "MD")>1," jours"," jour") -> 3 ans, 1 mois et 23 jours | H12: =DATEDIF(F12,TODAY(),"M") -> 37
A13: COINCHELIN | B13: Frederique | E13: =DATEDIF(D13,TODAY(),"Y") -> 117 | F13: 36526 | G13: =DATEDIF(F13,TODAY(),"Y")&IF(DATEDIF(F13,TODAY(),"Y")>1," ans, "," an, " )&DATEDIF(F13,TODAY(), "YM") &" mois et " &DATEDIF(F13,TODAY(), "MD")&IF(DATEDIF(F13,TODAY(), "MD")>1," jours"," jour") -> 17 ans, 9 mois et 23 jours | H13: =DATEDIF(F13,TODAY(),"M") -> 213
... A42: WALLYN | B42: Jonathan | E42: =DATEDIF(D42,TODAY(),"Y") -> 117 | F42: 42312 | G42: =DATEDIF(F42,TODAY(),"Y")&IF(DATEDIF(F42,TODAY(),"Y")>1," ans, "," an, " )&DATEDIF(F42,TODAY(), "YM") &" mois et " &DATEDIF(F42,TODAY(), "MD")&IF(DATEDIF(F42,TODAY(), "MD")>1," jours"," jour") -> 1 an, 11 mois et 20 jours | H42: =DATEDIF(F42,TODAY(),"M") -> 23

Sheet SIMULATION MALADIE
B1: SIMULATION MALADIE - CAS GENERAL (Jusqu'à 2 enfants)
B3: ILHARRAGORRY | C3: =VLOOKUP(B3,'BDD PERSONNEL'!A2:I42,2,FALSE) -> Stéphanie | H3: =EDATE(C9,-1) -> 43071 | I3: =EDATE(C9,-2) -> 43041 | J3: =EDATE(C9,-3) -> 43010 | K3: =EDATE(C9,-4) -> 42980 | L3: =EDATE(C9,-5) -> 42949 | M3: =EDATE(C9,-6) -> 42918 | N3: Total
B4: N° Sécurité Sociale | C4: =VLOOKUP(B3,'BDD PERSONNEL'!A2:I42,3,FALSE) -> 0
B5: Ancienneté | C5: =VLOOKUP(B3,'BDD PERSONNEL'!A2:I42,7,FALSE) -> 0 an, 6 mois et 4 jours | E5: =VLOOKUP(B3,Tableau1[],8,FALSE) -> 6 | F5: mois | H5: =EDATE(C9,-7) -> 42888 | I5: =EDATE(C9,-8) -> 42857 | J5: =EDATE(C9,-9) -> 42827 | K5: =EDATE(C9,-10) -> 42796 | L5: =EDATE(C9,-11) -> 42768 | M5: =EDATE(C9,-12) -> 42737
B6: Age | C6: =VLOOKUP(B3,'BDD PERSONNEL'!A2:I42,5,FALSE) -> 117 | F6: ans
B8: Arrêt Maladie et Salaires
B9: 1er jour d'arrêt | C9: 43102 | E9: =EOMONTH($C$9,-2)+1 -> 43070 | F9: =INDEX(Feuil1!$A$1:$P$42,MATCH($B$3,Feuil1!$A$1:$A$42),MATCH($E9,Feuil1!$A$1:$P$1,0)) -> 1694
B10: Dernier jour d'arrêt | C10: 43125 | E10: =EOMONTH($C$9,-3)+1 -> 43040 | F10: =INDEX(Feuil1!$A$1:$P$42,MATCH($B$3,Feuil1!$A$1:$A$42),MATCH($E10,Feuil1!$A$1:$P$1,0)) -> 1694
B11: Nombre de jour calendaire d'arrêt | C11: =IF(C9="","",C10-C9+1) -> 24 | E11: =EOMONTH($C$9,-4)+1 -> 43009 | F11: =INDEX(Feuil1!$A$1:$P$42,MATCH($B$3,Feuil1!$A$1:$A$42),MATCH($E11,Feuil1!$A$1:$P$1,0)) -> 1694
B12: Nombre de jours ouvrés d'arrêt | C12: =NETWORKDAYS(C9,C10,BDD!C24:C34) -> 18 | E12: Total | F12: x
B14: IJSS
B15: Carence | E15: IJSS journalières
B16: Nb jours indemnisés | E16: IJSS brutes
B17: IJSS journalière max. | E17: IJSS nettes
B19: Retenue pour absence
B23: Maintien de salaire
B27: Taux de cotisations : | E27: maintien
B28: IJSS nettes recalculées
B33: Subrogation
B34: Date début
B35: Date de fin

Sheet SALAIRES & JOURS MAINTENUS
A1: Nombre Jours Maintenus
A2: Nom | B2: Prénom | C2: déc-18 | D2: nov-18 | E2: oct-18 | F2: sept-18 | G2: août-18 | H2: juil-18 | I2: juin-18 | J2: mai-18 | K2: avr-18 | L2: mars-18 | M2: févr-18 | N2: janv-18 | O2: déc-17 | P2: nov-17 | Q2: oct-17 | R2: sept-17 | S2: août-17 | T2: juil-17 | U2: juin-17 | V2: mai-17 | W2: avr-17 | X2: mars-17 | Y2: févr-17 | Z2: janv-17
A3: ADELE | B3: Sophie | R3: 0 | S3: 0 | T3: 0 | U3: 0 | V3: 0 | W3: 0 | X3: 8 | Y3: 0 | Z3: 0
A4: BEAUFILS | B4: Veronique | R4: 0 | S4: 0 | T4: 0 | U4: 0 | V4: 0 | W4: 0 | X4: 0 | Y4: 0 | Z4: 0
A5: BERLIVET - GONNORD | B5: Cindy | R5: 0 | S5: 0 | T5: 0 | U5: 0 | V5: 0 | W5: 0 | X5: 0 | Y5: 0 | Z5: 0
A6: BERLOU | B6: Aurelie | R6: 0 | S6: 0 | T6: 0 | U6: 0 | V6: 0 | W6: 0 | X6: 0 | Y6: 4 | Z6: 0
A7: BIDET | B7: Maëva | R7: 0 | S7: 0 | T7: 0 | U7: 0 | V7: 0 | W7: 0 | X7: 0 | Y7: 0 | Z7: 0
A8: BOUTAFI | B8: Akym | R8: 0 | S8: 0 | T8: 0 | U8: 0 | V8: 0 | W8: 0 | X8: 0 | Y8: 2 | Z8: 0
A9: BOUTON | B9: Isabelle | R9: 0 | S9: 0 | T9: 0 | U9: 0 | V9: 0 | W9: 0 | X9: 0 | Y9: 0 | Z9: 0
A10: BOUZIGON | B10: Julien | R10: 1 | S10: 0 | T10: 0 | U10: 0 | V10: 0 | W10: 0 | X10: 0 | Y10: 3 | Z10: 0
A11: CHAISE | B11: Isabelle | R11: 0 | S11: 0 | T11: 0 | U11: 0 | V11: 0 | W11: 0 | X11: 0 | Y11: 3 | Z11: 0
A12: CHARNEAU | B12: Nicolas | R12: 0 | S12: 0 | T12: 0 | U12: 0 | V12: 0 | W12: 0 | X12: 0 | Y12: 0 | Z12: 0
A13: CHARQAOUI | B13: Francis | R13: 0 | S13: 0 | T13: 0 | U13: 0 | V13: 0 | W13: 0 | X13: 0 | Y13: 4 | Z13: 0
A14: COINCHELIN | B14: Frederique | R14: 0 | S14: 0 | T14: 0 | U14: 0 | V14: 0 | W14: 0 | X14: 0 | Y14: 0 | Z14: 0
... A25: HAUSSÉGUY | B25: Elise | R25: 0 | S25: 0 | T25: 0 | U25: 0 | V25: 0 | W25: 0 | X25: 0 | Y25: 0 | Z25: 0
A26: ILHARRAGORRY | B26: Stéphanie | O26: 3 | P26: 5 | Q26: 2 | R26: 3 | S26: 0 | T26: 0 | U26: 0 | V26: 0 | W26: 0 | X26: 0 | Y26: 0 | Z26: 0
A27: LARQUIER | B27: Celine | R27: 0 | S27: 0 | T27: 0 | U27: 1 | V27: 0 | W27: 0 | X27: 0 | Y27: 0 | Z27: 0
A28: LEDUC | B28: Laetitia | R28: 0 | S28: 0 | T28: 0 | U28: 0 | V28: 0 | W28: 0 | X28: 0 | Y28: 0 | Z28: 0
A29: MABILLET | B29: Michelle | R29: 0 | S29: 0 | T29: 0 | U29: 0 | V29: 0 | W29: 0 | X29: 0 | Y29: 0 | Z29: 0
A30: MARTINIE | B30: Sylvain | R30: 0 | S30: 0 | T30: 0 | U30: 0 | V30: 0 | W30: 0 | X30: 0 | Y30: 0 | Z30: 0
A31: MÉLIN | B31: Mathieu | R31: 0 | S31: 0 | T31: 0 | U31: 0 | V31: 0 | W31: 0 | X31: 0 | Y31: 0 | Z31: 0
A32: MICHELENA | B32: Stéphane | R32: 0 | S32: 0 | T32: 0 | U32: 0 | V32: 0 | W32: 0 | X32: 0 | Y32: 0 | Z32: 0
A33: MUNSCH | B33: Brigitte | R33: 0 | S33: 0 | T33: 0 | U33: 0 | V33: 4 | W33: 0 | X33: 0 | Y33: 0 | Z33: 0
A34: POUMEYROL | B34: Raphaël | R34: 0 | S34: 0 | T34: 0 | U34: 0 | V34: 0 | W34: 0 | X34: 0 | Y34: 0 | Z34: 0
A35: RAMOUCHE | B35: Laura | R35: 0 | S35: 0 | T35: 0 | U35: 0 | V35: 0 | W35: 0 | X35: 0 | Y35: 0 | Z35: 0
A36: RUIZ | B36: Christelle | R36: 0 | S36: 0 | T36: 0 | U36: 0 | V36: 0 | W36: 0 | X36: 0 | Y36: 2 | Z36: 0
A37: ST MARTIN | B37: Didier | R37: 0 | S37: 0 | T37: 0 | U37: 0 | V37: 0 | W37: 0 | X37: 0 | Y37: 0 | Z37: 0
A38: TEJEDOR | B38: Maëva | R38: 0 | S38: 0 | T38: 0 | U38: 0 | V38: 0 | W38: 0 | X38: 0 | Y38: 0 | Z38: 0
... A43: WALLYN | B43: Jonathan | R43: 0 | S43: 0 | T43: 0 | U43: 0 | V43: 0 | W43: 0 | X43: 0 | Y43: 4 | Z43: 0
A44: TOTAL | O44: =SUM(O3:O43) -> 3 | P44: =SUM(P3:P43) -> 5 | Q44: =SUM(Q3:Q43) -> 2 | R44: =SUM(R3:R43) -> 4 | S44: =SUM(S3:S43) -> 11 | T44: =SUM(T3:T43) -> 21 | U44: =SUM(U3:U43) -> 13 | V44: =SUM(V3:V43) -> 6 | ... Z44: =SUM(Z3:Z43) -> 1

Sheet Feuil1
A1: Nom | B1: 43435 | C1: 43405 | D1: 43374 | E1: 43344 | F1: 43313 | G1: 43282 | H1: 43252 | I1: 43221 | J1: 43191 | K1: 43160 | L1: 43132 | M1: 43101 | N1: 43070 | O1: 43040 | P1: 43009
A2: ADELE
A3: BEAUFILS
A4: BERLIVET - GONNORD
A5: BERLOU
A6: BIDET
A7: BOUTAFI
A8: BOUTON
A9: BOUZIGON
A10: CHAISE
A11: CHARNEAU
A12: CHARQAOUI
A13: COINCHELIN
... A24: HAUSSÉGUY
A25: ILHARRAGORRY | N25: 1694 | O25: 1694 | P25: 1694
A26: LARQUIER
A27: LEDUC
A28: MABILLET
A29: MARTINIE
A30: MÉLIN
A31: MICHELENA
A32: MUNSCH
A33: POUMEYROL
A34: RAMOUCHE
A35: RUIZ
A36: ST MARTIN
A37: TEJEDOR
... A42: WALLYN
