Workbook
Name carburants: 'Prix carburant 2018'!$C$1:$F$1
Name Date: saisie!$B$3:$B$4867
Name immatriculation: OFFSET(Liste!$B$2,,,COUNTA(Liste!$B:$B)-1)
Name KmDepart: saisie!$E$3:$E$4867
Name Kmetrage: saisie!#REF!
Name KmParPlein: saisie!$N$3:$N$4867
Name KmRetour: saisie!$F$3:$F$4867
Name ListCars: Liste!$B$2:$B$42
Name NbLitres: saisie!$H$3:$H$4867
Name NoCar: Liste!$B$1:$B$42
Name PrixAuLitre: saisie!$K$3:$K$4867
Name prixmaxi: Global!$E$4:$E$25
Name prixmini: Global!$D$4:$D$25
Name PrixParPlein: saisie!$L$3:$L$4867
Name PxPompe: OFFSET('Prix carburant 2018'!$A$2,,,COUNTA('Prix carburant 2018'!$A:$A)-1)
Name Station: saisie!$I$3:$I$4867
Name Stations: #REF!

Sheet PRESENTATIONS
C2: Organisation Ourhoud | J2: Aujourd'hui, nous sommes le :
K3: =TODAY() -> 43128
C16: NOUS EN SOMME A | G16: POUR
B18: =SUM(Global!Q11) -> 23 | G18: =SUM(Global!L21) -> 200
E22: SOIT PAR MOIS
E23: =SUM(Global!Q11:R11) -> 23

Sheet saisie
B2: DATE | C2: Immatriculation Voiture | D2: Type de véhicule | E2: COMPTEUR DEPART | F2: COMPTEUR RETOUR | G2: CHAUFF | H2: Nb litres par plein | I2: Station | J2: Carburant | K2: Prix par litre | L2: Prix par plein | M2: Colonne1 | N2: Km Parcouru | O2: Conso moy par plein
B3: 43127 | C3: 00160 402 30 | D3: =IFERROR(VLOOKUP(C3,Liste!B:C,2,FALSE),"") -> Coaster 25 pl | E3: 22300 | F3: 22500 | G3: DDD | H3: 23 | I3: NAFTAL HIMAYA PLUS | J3: Sans plomb | K3: =IFERROR(OFFSET('Prix carburant 2018'!$A$1,MATCH($B3,PxPompe,1),MATCH($J3,carburants,0)),"") -> 41,62 | L3: =IF(H3=0,"",H3*K3) -> 957.26 | M3: 1.196 | N3: =IF(F3="","",F3-E3) -> 200 | O3: =IF( F3=0,"",H3/N3*100) -> 11.5
C4: IMMATRICULATION VOITURE | D4: =IFERROR(VLOOKUP(C4,Liste!B:C,2,FALSE),"") -> TYPE DE VEHICULE | I4: Stations | J4: Choisir Type de Carburant | K4: =IFERROR(OFFSET('Prix carburant 2018'!$A$1,MATCH($B4,PxPompe,1),MATCH($J4,carburants,0)),"") | L4: =IF(H4=0,"",H4*K4) | M4: 1.196 | N4: =IF(F4="","",F4-E4) | O4: =IF( F4=0,"",H4/N4*100)
C5: IMMATRICULATION VOITURE | D5: =IFERROR(VLOOKUP(C5,Liste!B:C,2,FALSE),"") -> TYPE DE VEHICULE | I5: Stations | J5: Choisir Type de Carburant | K5: =IFERROR(OFFSET('Prix carburant 2018'!$A$1,MATCH($B5,PxPompe,1),MATCH($J5,carburants,0)),"") | L5: =IF(H5=0,"",H5*K5) | M5: 1.196 | N5: =IF(F5="","",F5-E5) | O5: =IF( F5=0,"",H5/N5*100) | Q5: =Tableau1[Immatriculation Voiture] -> IMMATRICULATION VOITURE
C6: IMMATRICULATION VOITURE | D6: =IFERROR(VLOOKUP(C6,Liste!B:C,2,FALSE),"") -> TYPE DE VEHICULE | I6: Stations | J6: Choisir Type de Carburant | K6: =IFERROR(OFFSET('Prix carburant 2018'!$A$1,MATCH($B6,PxPompe,1),MATCH($J6,carburants,0)),"") | L6: =IF(H6=0,"",H6*K6) | M6: 1.196 | N6: =IF(F6="","",F6-E6) | O6: =IF( F6=0,"",H6/N6*100)
C7: IMMATRICULATION VOITURE | D7: =IFERROR(VLOOKUP(C7,Liste!B:C,2,FALSE),"") -> TYPE DE VEHICULE | I7: Stations | J7: Choisir Type de Carburant | K7: =IFERROR(OFFSET('Prix carburant 2018'!$A$1,MATCH($B7,PxPompe,1),MATCH($J7,carburants,0)),"") | L7: =IF(H7=0,"",H7*K7) | M7: 1.196 | N7: =IF(F7="","",F7-E7) | O7: =IF( F7=0,"",H7/N7*100)
C8: IMMATRICULATION VOITURE | D8: =IFERROR(VLOOKUP(C8,Liste!B:C,2,FALSE),"") -> TYPE DE VEHICULE | I8: Stations | J8: Choisir Type de Carburant | K8: =IFERROR(OFFSET('Prix carburant 2018'!$A$1,MATCH($B8,PxPompe,1),MATCH($J8,carburants,0)),"") | L8: =IF(H8=0,"",H8*K8) | M8: 1.196 | N8: =IF(F8="","",F8-E8) | O8: =IF( F8=0,"",H8/N8*100)
C9: IMMATRICULATION VOITURE | D9: =IFERROR(VLOOKUP(C9,Liste!B:C,2,FALSE),"") -> TYPE DE VEHICULE | I9: Stations | J9: Choisir Type de Carburant | K9: =IFERROR(OFFSET('Prix carburant 2018'!$A$1,MATCH($B9,PxPompe,1),MATCH($J9,carburants,0)),"") | L9: =IF(H9=0,"",H9*K9) | M9: 1.196 | N9: =IF(F9="","",F9-E9) | O9: =IF( F9=0,"",H9/N9*100)
C10: IMMATRICULATION VOITURE | D10: =IFERROR(VLOOKUP(C10,Liste!B:C,2,FALSE),"") -> TYPE DE VEHICULE | I10: Stations | J10: Choisir Type de Carburant | K10: =IFERROR(OFFSET('Prix carburant 2018'!$A$1,MATCH($B10,PxPompe,1),MATCH($J10,carburants,0)),"") | L10: =IF(H10=0,"",H10*K10) | M10: 1.196 | N10: =IF(F10="","",F10-E10) | O10: =IF( F10=0,"",H10/N10*100)
C11: IMMATRICULATION VOITURE | D11: =IFERROR(VLOOKUP(C11,Liste!B:C,2,FALSE),"") -> TYPE DE VEHICULE | I11: Stations | J11: Choisir Type de Carburant | K11: =IFERROR(OFFSET('Prix carburant 2018'!$A$1,MATCH($B11,PxPompe,1),MATCH($J11,carburants,0)),"") | L11: =IF(H11=0,"",H11*K11) | M11: 1.196 | N11: =IF(F11="","",F11-E11) | O11: =IF( F11=0,"",H11/N11*100)
C12: IMMATRICULATION VOITURE | D12: =IFERROR(VLOOKUP(C12,Liste!B:C,2,FALSE),"") -> TYPE DE VEHICULE | I12: Stations | J12: Choisir Type de Carburant | K12: =IFERROR(OFFSET('Prix carburant 2018'!$A$1,MATCH($B12,PxPompe,1),MATCH($J12,carburants,0)),"") | L12: =IF(H12=0,"",H12*K12) | M12: 1.196 | N12: =IF(F12="","",F12-E12) | O12: =IF( F12=0,"",H12/N12*100)
C13: IMMATRICULATION VOITURE | D13: =IFERROR(VLOOKUP(C13,Liste!B:C,2,FALSE),"") -> TYPE DE VEHICULE | I13: Stations | J13: Choisir Type de Carburant | K13: =IFERROR(OFFSET('Prix carburant 2018'!$A$1,MATCH($B13,PxPompe,1),MATCH($J13,carburants,0)),"") | L13: =IF(H13=0,"",H13*K13) | M13: 1.196 | N13: =IF(F13="","",F13-E13) | O13: =IF( F13=0,"",H13/N13*100)
C14: IMMATRICULATION VOITURE | D14: =IFERROR(VLOOKUP(C14,Liste!B:C,2,FALSE),"") -> TYPE DE VEHICULE | I14: Stations | J14: Choisir Type de Carburant | K14: =IFERROR(OFFSET('Prix carburant 2018'!$A$1,MATCH($B14,PxPompe,1),MATCH($J14,carburants,0)),"") | L14: =IF(H14=0,"",H14*K14) | M14: 1.196 | N14: =IF(F14="","",F14-E14) | O14: =IF( F14=0,"",H14/N14*100)
C15: IMMATRICULATION VOITURE | D15: =IFERROR(VLOOKUP(C15,Liste!B:C,2,FALSE),"") -> TYPE DE VEHICULE | I15: Stations | J15: Choisir Type de Carburant | K15: =IFERROR(OFFSET('Prix carburant 2018'!$A$1,MATCH($B15,PxPompe,1),MATCH($J15,carburants,0)),"") | L15: =IF(H15=0,"",H15*K15) | M15: 1.196 | N15: =IF(F15="","",F15-E15) | O15: =IF( F15=0,"",H15/N15*100)
C16: IMMATRICULATION VOITURE | D16: =IFERROR(VLOOKUP(C16,Liste!B:C,2,FALSE),"") -> TYPE DE VEHICULE | I16: Stations | J16: Choisir Type de Carburant | K16: =IFERROR(OFFSET('Prix carburant 2018'!$A$1,MATCH($B16,PxPompe,1),MATCH($J16,carburants,0)),"") | L16: =IF(H16=0,"",H16*K16) | M16: 1.196 | N16: =IF(F16="","",F16-E16) | O16: =IF( F16=0,"",H16/N16*100)
C17: IMMATRICULATION VOITURE | D17: =IFERROR(VLOOKUP(C17,Liste!B:C,2,FALSE),"") -> TYPE DE VEHICULE | I17: Stations | J17: Choisir Type de Carburant | K17: =IFERROR(OFFSET('Prix carburant 2018'!$A$1,MATCH($B17,PxPompe,1),MATCH($J17,carburants,0)),"") | L17: =IF(H17=0,"",H17*K17) | M17: 1.196 | N17: =IF(F17="","",F17-E17) | O17: =IF( F17=0,"",H17/N17*100)
... C600: IMMATRICULATION VOITURE | D600: =IFERROR(VLOOKUP(C600,Liste!B:C,2,FALSE),"") -> TYPE DE VEHICULE | I600: Stations | J600: Choisir Type de Carburant | K600: =IFERROR(OFFSET('Prix carburant 2018'!$A$1,MATCH($B600,PxPompe,1),MATCH($J600,carburants,0)),"") | L600: =IF(H600=0,"",H600*K600) | M600: 1.196 | N600: =IF(F600="","",F600-E600) | O600: =IF( F600=0,"",H600/N600*100)

Sheet Global
B1: Toutes voitures confondues
B3: Stations | C3: carburant | D3: Prix mini | E3: Prix maxi | G3: Les 2 prix mini | J3: Dépenses en carburant | O3: Consommation mensuelle
B4: NAFTAL HIMAYA PLUS | C4: =SUMIF(Station,$B4,NbLitres)+ROW()/100000 -> 23.00004 | D4: {=MIN(IF(Station=$B4,PrixAuLitre))+ROW()/100000} -> 4e-05 | E4: {=MAX(IF(Station=$B4,PrixAuLitre))+ROW()/100000} -> 4e-05 | G4: =IF(COUNTA(Station)<ROWS(G$4:G4),"",SMALL(prixmini,ROWS(G$4:G4)+COUNTIF(prixmini,"<0,01"))) -> #NUM! | H4: =IF(G4="","",INDEX(Station,MATCH(G4,prixmini,0))) -> #NUM! | J4: 38353 | K4: =DATE(YEAR(J4),MONTH(J4)+1,1) -> 38384 | L4: =DATE(YEAR(K4),MONTH(K4)+1,1) -> 38412 | M4: =DATE(YEAR(L4),MONTH(L4)+1,1) -> 38443 | O4: =J4 -> 38353 | P4: =DATE(YEAR(O4),MONTH(O4)+1,1) -> 38384 | Q4: =DATE(YEAR(P4),MONTH(P4)+1,1) -> 38412 | R4: =DATE(YEAR(Q4),MONTH(Q4)+1,1) -> 38443
B5: NAFTAL ROND POINT | C5: =SUMIF(Station,$B5,NbLitres)+ROW()/100000 -> 5e-05 | D5: {=MIN(IF(Station=$B5,PrixAuLitre))+ROW()/100000} -> 5e-05 | E5: {=MAX(IF(Station=$B5,PrixAuLitre))+ROW()/100000} -> 5e-05 | G5: =IF(COUNTA(Station)<ROWS(G$4:G5),"",SMALL(prixmini,ROWS(G$4:G5)+COUNTIF(prixmini,"<0,01"))) -> #NUM! | H5: =IF(G5="","",INDEX(Station,MATCH(G5,prixmini,0))) -> #NUM! | J5: =SUMPRODUCT((Date>0)*(MONTH(Date)=MONTH(J4)),PrixParPlein) -> 957.26 | K5: =SUMPRODUCT((Date>0)*(MONTH(Date)=MONTH(K4)),PrixParPlein) -> 0 | L5: =SUMPRODUCT((Date>0)*(MONTH(Date)=MONTH(L4)),PrixParPlein) -> 0 | M5: =SUMPRODUCT((Date>0)*(MONTH(Date)=MONTH(M4)),PrixParPlein) -> 0 | O5: =IF(J5>0,SUMPRODUCT((Date>0)*(MONTH(Date)=MONTH(O4)),NbLitres),"") -> 23 | P5: =IF(K5>0,SUMPRODUCT((Date>0)*(MONTH(Date)=MONTH(P4)),NbLitres),"") | Q5: =IF(L5>0,SUMPRODUCT((Date>0)*(MONTH(Date)=MONTH(Q4)),NbLitres),"") | R5: =IF(M5>0,SUMPRODUCT((Date>0)*(MONTH(Date)=MONTH(R4)),NbLitres),"")
B6: NAFTAL CIEPTAL | C6: =SUMIF(Station,$B6,NbLitres)+ROW()/100000 -> 6e-05 | D6: {=MIN(IF(Station=$B6,PrixAuLitre))+ROW()/100000} -> 6e-05 | E6: {=MAX(IF(Station=$B6,PrixAuLitre))+ROW()/100000} -> 6e-05 | J6: =DATE(YEAR(J4),MONTH(M4)+1,1) -> 38473 | K6: =DATE(YEAR(J6),MONTH(J6)+1,1) -> 38504 | L6: =DATE(YEAR(K6),MONTH(K6)+1,1) -> 38534 | M6: =DATE(YEAR(L6),MONTH(L6)+1,1) -> 38565 | O6: =DATE(YEAR(O4),MONTH(R4)+1,1) -> 38473 | P6: =DATE(YEAR(O6),MONTH(O6)+1,1) -> 38504 | Q6: =DATE(YEAR(P6),MONTH(P6)+1,1) -> 38534 | R6: =DATE(YEAR(Q6),MONTH(Q6)+1,1) -> 38565
B7: NAFTAL BAOUCHI | C7: =SUMIF(Station,$B7,NbLitres)+ROW()/100000 -> 7e-05 | D7: {=MIN(IF(Station=$B7,PrixAuLitre))+ROW()/100000} -> 7e-05 | E7: {=MAX(IF(Station=$B7,PrixAuLitre))+ROW()/100000} -> 7e-05 | G7: Les 2 prix maxi | J7: =SUMPRODUCT((Date>0)*(MONTH(Date)=MONTH(J6)),PrixParPlein) -> 0 | K7: =SUMPRODUCT((Date>0)*(MONTH(Date)=MONTH(K6)),PrixParPlein) -> 0 | L7: =SUMPRODUCT((Date>0)*(MONTH(Date)=MONTH(L6)),PrixParPlein) -> 0 | M7: =SUMPRODUCT((Date>0)*(MONTH(Date)=MONTH(M6)),PrixParPlein) -> 0 | O7: =IF(J7>0,SUMPRODUCT((Date>0)*(MONTH(Date)=MONTH(O6)),NbLitres),"") | P7: =IF(K7>0,SUMPRODUCT((Date>0)*(MONTH(Date)=MONTH(P6)),NbLitres),"") | Q7: =IF(L7>0,SUMPRODUCT((Date>0)*(MONTH(Date)=MONTH(Q6)),NbLitres),"") | R7: =IF(M7>0,SUMPRODUCT((Date>0)*(MONTH(Date)=MONTH(R6)),NbLitres),"")
C8: =SUMIF(Station,$B8,NbLitres)+ROW()/100000 -> 8e-05 | D8: {=MIN(IF(Station=$B8,PrixAuLitre))+ROW()/100000} -> 8e-05 | E8: {=MAX(IF(Station=$B8,PrixAuLitre))+ROW()/100000} -> 8e-05 | G8: =IF(COUNTA(Station)<ROWS(G$8:G8),"",LARGE(prixmaxi,ROWS(G$8:G8))) -> 0.00025 | H8: =IF(G8="","",INDEX(Station,MATCH(G8,prixmaxi,0))) -> Stations | J8: =DATE(YEAR(J6),MONTH(M6)+1,1) -> 38596 | K8: =DATE(YEAR(J8),MONTH(J8)+1,1) -> 38626 | L8: =DATE(YEAR(K8),MONTH(K8)+1,1) -> 38657 | M8: =DATE(YEAR(L8),MONTH(L8)+1,1) -> 38687 | O8: =DATE(YEAR(O6),MONTH(R6)+1,1) -> 38596 | P8: =DATE(YEAR(O8),MONTH(O8)+1,1) -> 38626 | Q8: =DATE(YEAR(P8),MONTH(P8)+1,1) -> 38657 | R8: =DATE(YEAR(Q8),MONTH(Q8)+1,1) -> 38687
C9: =SUMIF(Station,$B9,NbLitres)+ROW()/100000 -> 9e-05 | D9: {=MIN(IF(Station=$B9,PrixAuLitre))+ROW()/100000} -> 9e-05 | E9: {=MAX(IF(Station=$B9,PrixAuLitre))+ROW()/100000} -> 9e-05 | G9: =IF(COUNTA(Station)<ROWS(G$8:G9),"",LARGE(prixmaxi,ROWS(G$8:G9))) -> 0.00024 | H9: =IF(G9="","",INDEX(Station,MATCH(G9,prixmaxi,0))) -> Stations | J9: =SUMPRODUCT((Date>0)*(MONTH(Date)=MONTH(J8)),PrixParPlein) -> 0 | K9: =SUMPRODUCT((Date>0)*(MONTH(Date)=MONTH(K8)),PrixParPlein) -> 0 | L9: =SUMPRODUCT((Date>0)*(MONTH(Date)=MONTH(L8)),PrixParPlein) -> 0 | M9: =SUMPRODUCT((Date>0)*(MONTH(Date)=MONTH(M8)),PrixParPlein) -> 0 | O9: =IF(J9>0,SUMPRODUCT((Date>0)*(MONTH(Date)=MONTH(O8)),NbLitres),"") | P9: =IF(K9>0,SUMPRODUCT((Date>0)*(MONTH(Date)=MONTH(P8)),NbLitres),"") | Q9: =IF(L9>0,SUMPRODUCT((Date>0)*(MONTH(Date)=MONTH(Q8)),NbLitres),"") | R9: =IF(M9>0,SUMPRODUCT((Date>0)*(MONTH(Date)=MONTH(R8)),NbLitres),"")
C10: =SUMIF(Station,$B10,NbLitres)+ROW()/100000 -> 0.0001 | D10: {=MIN(IF(Station=$B10,PrixAuLitre))+ROW()/100000} -> 0.0001 | E10: {=MAX(IF(Station=$B10,PrixAuLitre))+ROW()/100000} -> 0.0001
C11: =SUMIF(Station,$B11,NbLitres)+ROW()/100000 -> 0.00011 | D11: {=MIN(IF(Station=$B11,PrixAuLitre))+ROW()/100000} -> 0.00011 | E11: {=MAX(IF(Station=$B11,PrixAuLitre))+ROW()/100000} -> 0.00011 | K11: Total | L11: =SUM(PrixParPlein) -> 957.26 | P11: Total | Q11: =SUM(NbLitres) -> 23
C12: =SUMIF(Station,$B12,NbLitres)+ROW()/100000 -> 0.00012 | D12: {=MIN(IF(Station=$B12,PrixAuLitre))+ROW()/100000} -> 0.00012 | E12: {=MAX(IF(Station=$B12,PrixAuLitre))+ROW()/100000} -> 0.00012
C13: =SUMIF(Station,$B13,NbLitres)+ROW()/100000 -> 0.00013 | D13: {=MIN(IF(Station=$B13,PrixAuLitre))+ROW()/100000} -> 0.00013 | E13: {=MAX(IF(Station=$B13,PrixAuLitre))+ROW()/100000} -> 0.00013 | J13: Kilométrage | O13: Consommation aux 100 Km
C14: =SUMIF(Station,$B14,NbLitres)+ROW()/100000 -> 0.00014 | D14: {=MIN(IF(Station=$B14,PrixAuLitre))+ROW()/100000} -> 0.00014 | E14: {=MAX(IF(Station=$B14,PrixAuLitre))+ROW()/100000} -> 0.00014 | J14: =J4 -> 38353 | K14: =DATE(YEAR(J14),MONTH(J14)+1,1) -> 38384 | L14: =DATE(YEAR(K14),MONTH(K14)+1,1) -> 38412 | M14: =DATE(YEAR(L14),MONTH(L14)+1,1) -> 38443 | O14: =J14 -> 38353 | P14: =DATE(YEAR(O14),MONTH(O14)+1,1) -> 38384 | Q14: =DATE(YEAR(P14),MONTH(P14)+1,1) -> 38412 | R14: =DATE(YEAR(Q14),MONTH(Q14)+1,1) -> 38443
C15: =SUMIF(Station,$B15,NbLitres)+ROW()/100000 -> 0.00015 | D15: {=MIN(IF(Station=$B15,PrixAuLitre))+ROW()/100000} -> 0.00015 | E15: {=MAX(IF(Station=$B15,PrixAuLitre))+ROW()/100000} -> 0.00015 | J15: =SUMPRODUCT((Date>0)*(MONTH(Date)=MONTH(J14))*(KmRetour-KmDepart)) -> 200 | K15: =SUMPRODUCT((Date>0)*(MONTH(Date)=MONTH(K14))*(KmRetour-KmDepart)) -> 0 | L15: =SUMPRODUCT((Date>0)*(MONTH(Date)=MONTH(L14))*(KmRetour-KmDepart)) -> 0 | M15: =SUMPRODUCT((Date>0)*(MONTH(Date)=MONTH(M14))*(KmRetour-KmDepart)) -> 0 | O15: =IF(J15>0,SUMPRODUCT((Date>0)*(MONTH(Date)=MONTH(O14)),NbLitres)/J15*100,"") -> 11.5 | P15: =IF(K15>0,SUMPRODUCT((Date>0)*(MONTH(Date)=MONTH(P14)),NbLitres)/K15*100,"") | Q15: =IF(L15>0,SUMPRODUCT((Date>0)*(MONTH(Date)=MONTH(Q14)),NbLitres)/L15*100,"") | R15: =IF(M15>0,SUMPRODUCT((Date>0)*(MONTH(Date)=MONTH(R14)),NbLitres)/M15*100,"")
C16: =SUMIF(Station,$B16,NbLitres)+ROW()/100000 -> 0.00016 | D16: {=MIN(IF(Station=$B16,PrixAuLitre))+ROW()/100000} -> 0.00016 | E16: {=MAX(IF(Station=$B16,PrixAuLitre))+ROW()/100000} -> 0.00016 | J16: =DATE(YEAR(J14),MONTH(M14)+1,1) -> 38473 | K16: =DATE(YEAR(J16),MONTH(J16)+1,1) -> 38504 | L16: =DATE(YEAR(K16),MONTH(K16)+1,1) -> 38534 | M16: =DATE(YEAR(L16),MONTH(L16)+1,1) -> 38565 | O16: =DATE(YEAR(O14),MONTH(R14)+1,1) -> 38473 | P16: =DATE(YEAR(O16),MONTH(O16)+1,1) -> 38504 | Q16: =DATE(YEAR(P16),MONTH(P16)+1,1) -> 38534 | R16: =DATE(YEAR(Q16),MONTH(Q16)+1,1) -> 38565
C17: =SUMIF(Station,$B17,NbLitres)+ROW()/100000 -> 0.00017 | D17: {=MIN(IF(Station=$B17,PrixAuLitre))+ROW()/100000} -> 0.00017 | E17: {=MAX(IF(Station=$B17,PrixAuLitre))+ROW()/100000} -> 0.00017 | J17: =SUMPRODUCT((Date>0)*(MONTH(Date)=MONTH(J16))*(KmRetour-KmDepart)) -> 0 | K17: =SUMPRODUCT((Date>0)*(MONTH(Date)=MONTH(K16))*(KmRetour-KmDepart)) -> 0 | L17: =SUMPRODUCT((Date>0)*(MONTH(Date)=MONTH(L16))*(KmRetour-KmDepart)) -> 0 | M17: =SUMPRODUCT((Date>0)*(MONTH(Date)=MONTH(M16))*(KmRetour-KmDepart)) -> 0 | O17: =IF(J17>0,SUMPRODUCT((Date>0)*(MONTH(Date)=MONTH(O16)),NbLitres)/J17*100,"") | P17: =IF(K17>0,SUMPRODUCT((Date>0)*(MONTH(Date)=MONTH(P16)),NbLitres)/K17*100,"") | Q17: =IF(L17>0,SUMPRODUCT((Date>0)*(MONTH(Date)=MONTH(Q16)),NbLitres)/L17*100,"") | R17: =IF(M17>0,SUMPRODUCT((Date>0)*(MONTH(Date)=MONTH(R16)),NbLitres)/M17*100,"")
C18: =SUMIF(Station,$B18,NbLitres)+ROW()/100000 -> 0.00018 | D18: {=MIN(IF(Station=$B18,PrixAuLitre))+ROW()/100000} -> 0.00018 | E18: {=MAX(IF(Station=$B18,PrixAuLitre))+ROW()/100000} -> 0.00018 | J18: =DATE(YEAR(J16),MONTH(M16)+1,1) -> 38596 | K18: =DATE(YEAR(J18),MONTH(J18)+1,1) -> 38626 | L18: =DATE(YEAR(K18),MONTH(K18)+1,1) -> 38657 | M18: =DATE(YEAR(L18),MONTH(L18)+1,1) -> 38687 | O18: =DATE(YEAR(O16),MONTH(R16)+1,1) -> 38596 | P18: =DATE(YEAR(O18),MONTH(O18)+1,1) -> 38626 | Q18: =DATE(YEAR(P18),MONTH(P18)+1,1) -> 38657 | R18: =DATE(YEAR(Q18),MONTH(Q18)+1,1) -> 38687
C19: =SUMIF(Station,$B19,NbLitres)+ROW()/100000 -> 0.00019 | D19: {=MIN(IF(Station=$B19,PrixAuLitre))+ROW()/100000} -> 0.00019 | E19: {=MAX(IF(Station=$B19,PrixAuLitre))+ROW()/100000} -> 0.00019 | J19: =SUMPRODUCT((Date>0)*(MONTH(Date)=MONTH(J18))*(KmRetour-KmDepart)) -> 0 | K19: =SUMPRODUCT((Date>0)*(MONTH(Date)=MONTH(K18))*(KmRetour-KmDepart)) -> 0 | L19: =SUMPRODUCT((Date>0)*(MONTH(Date)=MONTH(L18))*(KmRetour-KmDepart)) -> 0 | M19: =SUMPRODUCT((Date>0)*(MONTH(Date)=MONTH(M18))*(KmRetour-KmDepart)) -> 0 | O19: =IF(J19>0,SUMPRODUCT((Date>0)*(MONTH(Date)=MONTH(O18)),NbLitres)/J19*100,"") | P19: =IF(K19>0,SUMPRODUCT((Date>0)*(MONTH(Date)=MONTH(P18)),NbLitres)/K19*100,"") | Q19: =IF(L19>0,SUMPRODUCT((Date>0)*(MONTH(Date)=MONTH(Q18)),NbLitres)/L19*100,"") | R19: =IF(M19>0,SUMPRODUCT((Date>0)*(MONTH(Date)=MONTH(R18)),NbLitres)/M19*100,"")
C20: =SUMIF(Station,$B20,NbLitres)+ROW()/100000 -> 0.0002 | D20: {=MIN(IF(Station=$B20,PrixAuLitre))+ROW()/100000} -> 0.0002 | E20: {=MAX(IF(Station=$B20,PrixAuLitre))+ROW()/100000} -> 0.0002
C21: =SUMIF(Station,$B21,NbLitres)+ROW()/100000 -> 0.00021 | D21: {=MIN(IF(Station=$B21,PrixAuLitre))+ROW()/100000} -> 0.00021 | E21: {=MAX(IF(Station=$B21,PrixAuLitre))+ROW()/100000} -> 0.00021 | K21: Total | L21: =SUMPRODUCT((KmRetour-KmDepart)*1) -> 200 | P21: Moyenne | Q21: =IF(L21=0,"",Q11/L21*100) -> 11.5
C22: =SUMIF(Station,$B22,NbLitres)+ROW()/100000 -> 0.00022 | D22: {=MIN(IF(Station=$B22,PrixAuLitre))+ROW()/100000} -> 0.00022 | E22: {=MAX(IF(Station=$B22,PrixAuLitre))+ROW()/100000} -> 0.00022
C23: =SUMIF(Station,$B23,NbLitres)+ROW()/100000 -> 0.00023 | D23: {=MIN(IF(Station=$B23,PrixAuLitre))+ROW()/100000} -> 0.00023 | E23: {=MAX(IF(Station=$B23,PrixAuLitre))+ROW()/100000} -> 0.00023
C24: =SUMIF(Station,$B24,NbLitres)+ROW()/100000 -> 0.00024 | D24: {=MIN(IF(Station=$B24,PrixAuLitre))+ROW()/100000} -> 0.00024 | E24: {=MAX(IF(Station=$B24,PrixAuLitre))+ROW()/100000} -> 0.00024
C25: =SUMIF(Station,$B25,NbLitres)+ROW()/100000 -> 0.00025 | D25: {=MIN(IF(Station=$B25,PrixAuLitre))+ROW()/100000} -> 0.00025 | E25: {=MAX(IF(Station=$B25,PrixAuLitre))+ROW()/100000} -> 0.00025

Sheet Liste
B1: IMMATRICULATION VOITURE | C1: TYPE DE VEHICULE
B2: 029365 00 16 | C2: Corolla | E2: 029365 00 16 | G2: Corolla
B3: 00160 402 30 | C3: Coaster 25 pl
B4: 00163 402 30 | C4: Hiace 15 / 09 PI
B5: 00150 402 30 | C5: Hiace 15 / 09 PI
B6: 180560 00 16 | C6: Yaris
B7: 01981 199 30 | C7: Avensis
B8: 00764 103 30 | C8: 206
B9: 01134 103 30 | C9: 206
B10: 00709 101 30 | C10: 406
B11: 00713 101 30 | C11: 406
B12: 113185 00 16 | C12: Corolla
B13: 43095 105 16 | C13: Land Cruiser VX
B14: 05113 00 16 | C14: Coaster 25 pl
B15: 00584 303 30 | C15: Boxer
B16: 180576 00 16 | C16: Yaris
B17: 180549 00 16 | C17: Yaris
B18: 00183 103 30 | C18: Corolla DXL
B19: 17164 106 16 | C19: Corolla DXLI
B20: 180567 00 16 | C20: Yaris
B21: 157836 00 16 | C21: Yaris
B22: 00265 103 30 | C22: Corolla
B23: 00250 301 30 | C23: Boxer
B24: 028169 00 16 | C24: Corolla
B25: 39812 107 16 | C25: 407
B26: 39815 107 16 | C26: 407
B27: 01524 104 30 | C27: Corolla DXL
B28: 005762 00 16 | C28: Corolla
B29: 09279 00 16 | C29: Corolla
B30: 042912 00 16 | C30: Corolla
B31: 157838 00 16 | C31: Yaris
B32: 028689 00 16 | C32: Corolla
B33: 00689 101 30 | C33: 306
B34: 180587 00 16 | C34: Yaris
B35: 01059 103 30 | C35: 206
B36: 00401 302 30 | C36: Ambulance, Renault
B37: 00039 100 30 | C37: Land Cruiser
B38: 180570 00 16 | C38: Yaris
B39: 00706 101 30 | C39: 306
B40: 17160 106 16 | C40: Corolla DXLI
...

Sheet Voiture
D1: N° D'immatriculation Voiture---> | G1: 00160 402 30
B3: Dépenses en carburant | G3: Consommation mensuelle | L3: Stations
B4: 38353 | C4: =DATE(YEAR(B4),MONTH(B4)+1,1) -> 38384 | D4: =DATE(YEAR(C4),MONTH(C4)+1,1) -> 38412 | E4: =DATE(YEAR(D4),MONTH(D4)+1,1) -> 38443 | G4: =B4 -> 38353 | H4: =DATE(YEAR(G4),MONTH(G4)+1,1) -> 38384 | I4: =DATE(YEAR(H4),MONTH(H4)+1,1) -> 38412 | J4: =DATE(YEAR(I4),MONTH(I4)+1,1) -> 38443 | L4: =INDEX(Station,ROWS(L$4:L4))&"" -> NAFTAL HIMAYA PLUS | M4: =SUMPRODUCT((NoCar=G$1)*(Station=L4)*NbLitres) -> #N/A
B5: =SUMPRODUCT((Tableau1[[Immatriculation Voiture]:[Immatriculation Voiture]]=$G$1)*(Tableau1[[DATE]:[DATE]]>0)*(MONTH(Tableau1[[DATE]:[DATE]])=MONTH(B4)),Tableau1[[Prix par plein]:[Prix par plein]]) -> 957.26 | C5: =SUMPRODUCT((Tableau1[[Immatriculation Voiture]:[Immatriculation Voiture]]=$G$1)*(Tableau1[[DATE]:[DATE]]>0)*(MONTH(Tableau1[[DATE]:[DATE]])=MONTH(C4)),Tableau1[[Prix par plein]:[Prix par plein]]) -> 0 | D5: =SUMPRODUCT((Tableau1[[Immatriculation Voiture]:[Immatriculation Voiture]]=$G$1)*(Tableau1[[DATE]:[DATE]]>0)*(MONTH(Tableau1[[DATE]:[DATE]])=MONTH(D4)),Tableau1[[Prix par plein]:[Prix par plein]]) -> 0 | E5: =SUMPRODUCT((Tableau1[[Immatriculation Voiture]:[Immatriculation Voiture]]=$G$1)*(Tableau1[[DATE]:[DATE]]>0)*(MONTH(Tableau1[[DATE]:[DATE]])=MONTH(E4)),Tableau1[[Prix par plein]:[Prix par plein]]) -> 0 | G5: =IF(B4>0,SUMPRODUCT((NoCar=$G$1)*(Date>0)*(MONTH(Date)=MONTH(G4)),NbLitres),"") -> #N/A | H5: =IF(C4>0,SUMPRODUCT((NoCar=$G$1)*(Date>0)*(MONTH(Date)=MONTH(H4)),NbLitres),"") -> #N/A | I5: =IF(D4>0,SUMPRODUCT((NoCar=$G$1)*(Date>0)*(MONTH(Date)=MONTH(I4)),NbLitres),"") -> #N/A | J5: =IF(E4>0,SUMPRODUCT((NoCar=$G$1)*(Date>0)*(MONTH(Date)=MONTH(J4)),NbLitres),"") -> #N/A | L5: =INDEX(Station,ROWS(L$4:L5))&"" -> Stations | M5: =SUMPRODUCT((NoCar=G$1)*(Station=L5)*NbLitres) -> #N/A
B6: =DATE(YEAR(B4),MONTH(E4)+1,1) -> 38473 | C6: =DATE(YEAR(B6),MONTH(B6)+1,1) -> 38504 | D6: =DATE(YEAR(C6),MONTH(C6)+1,1) -> 38534 | E6: =DATE(YEAR(D6),MONTH(D6)+1,1) -> 38565 | G6: =DATE(YEAR(G4),MONTH(J4)+1,1) -> 38473 | H6: =DATE(YEAR(G6),MONTH(G6)+1,1) -> 38504 | I6: =DATE(YEAR(H6),MONTH(H6)+1,1) -> 38534 | J6: =DATE(YEAR(I6),MONTH(I6)+1,1) -> 38565 | L6: =INDEX(Station,ROWS(L$4:L6))&"" -> Stations | M6: =SUMPRODUCT((NoCar=G$1)*(Station=L6)*NbLitres) -> #N/A
B7: =SUMPRODUCT((Tableau1[[Immatriculation Voiture]:[Immatriculation Voiture]]=$G$1)*(Tableau1[[DATE]:[DATE]]>0)*(MONTH(Tableau1[[DATE]:[DATE]])=MONTH(B6)),Tableau1[[Prix par plein]:[Prix par plein]]) -> 0 | C7: =SUMPRODUCT((Tableau1[[Immatriculation Voiture]:[Immatriculation Voiture]]=$G$1)*(Tableau1[[DATE]:[DATE]]>0)*(MONTH(Tableau1[[DATE]:[DATE]])=MONTH(C6)),Tableau1[[Prix par plein]:[Prix par plein]]) -> 0 | D7: =SUMPRODUCT((Tableau1[[Immatriculation Voiture]:[Immatriculation Voiture]]=$G$1)*(Tableau1[[DATE]:[DATE]]>0)*(MONTH(Tableau1[[DATE]:[DATE]])=MONTH(D6)),Tableau1[[Prix par plein]:[Prix par plein]]) -> 0 | E7: =SUMPRODUCT((Tableau1[[Immatriculation Voiture]:[Immatriculation Voiture]]=$G$1)*(Tableau1[[DATE]:[DATE]]>0)*(MONTH(Tableau1[[DATE]:[DATE]])=MONTH(E6)),Tableau1[[Prix par plein]:[Prix par plein]]) -> 0 | G7: =IF(B6>0,SUMPRODUCT((NoCar=$G$1)*(Date>0)*(MONTH(Date)=MONTH(G6)),NbLitres),"") -> #N/A | H7: =IF(C6>0,SUMPRODUCT((NoCar=$G$1)*(Date>0)*(MONTH(Date)=MONTH(H6)),NbLitres),"") -> #N/A | I7: =IF(D6>0,SUMPRODUCT((NoCar=$G$1)*(Date>0)*(MONTH(Date)=MONTH(I6)),NbLitres),"") -> #N/A | J7: =IF(E6>0,SUMPRODUCT((NoCar=$G$1)*(Date>0)*(MONTH(Date)=MONTH(J6)),NbLitres),"") -> #N/A | L7: =INDEX(Station,ROWS(L$4:L7))&"" -> Stations | M7: =SUMPRODUCT((NoCar=G$1)*(Station=L7)*NbLitres) -> #N/A
B8: =DATE(YEAR(B6),MONTH(E6)+1,1) -> 38596 | C8: =DATE(YEAR(B8),MONTH(B8)+1,1) -> 38626 | D8: =DATE(YEAR(C8),MONTH(C8)+1,1) -> 38657 | E8: =DATE(YEAR(D8),MONTH(D8)+1,1) -> 38687 | G8: =DATE(YEAR(G6),MONTH(J6)+1,1) -> 38596 | H8: =DATE(YEAR(G8),MONTH(G8)+1,1) -> 38626 | I8: =DATE(YEAR(H8),MONTH(H8)+1,1) -> 38657 | J8: =DATE(YEAR(I8),MONTH(I8)+1,1) -> 38687 | L8: =INDEX(Station,ROWS(L$4:L8))&"" -> Stations | M8: =SUMPRODUCT((NoCar=G$1)*(Station=L8)*NbLitres) -> #N/A
B9: =SUMPRODUCT((Tableau1[[Immatriculation Voiture]:[Immatriculation Voiture]]=$G$1)*(Tableau1[[DATE]:[DATE]]>0)*(MONTH(Tableau1[[DATE]:[DATE]])=MONTH(B8)),Tableau1[[Prix par plein]:[Prix par plein]]) -> 0 | C9: =SUMPRODUCT((Tableau1[[Immatriculation Voiture]:[Immatriculation Voiture]]=$G$1)*(Tableau1[[DATE]:[DATE]]>0)*(MONTH(Tableau1[[DATE]:[DATE]])=MONTH(C8)),Tableau1[[Prix par plein]:[Prix par plein]]) -> 0 | D9: =SUMPRODUCT((Tableau1[[Immatriculation Voiture]:[Immatriculation Voiture]]=$G$1)*(Tableau1[[DATE]:[DATE]]>0)*(MONTH(Tableau1[[DATE]:[DATE]])=MONTH(D8)),Tableau1[[Prix par plein]:[Prix par plein]]) -> 0 | E9: =SUMPRODUCT((Tableau1[[Immatriculation Voiture]:[Immatriculation Voiture]]=$G$1)*(Tableau1[[DATE]:[DATE]]>0)*(MONTH(Tableau1[[DATE]:[DATE]])=MONTH(E8)),Tableau1[[Prix par plein]:[Prix par plein]]) -> 0 | G9: =IF(B8>0,SUMPRODUCT((NoCar=$G$1)*(Date>0)*(MONTH(Date)=MONTH(G8)),NbLitres),"") -> #N/A | H9: =IF(C8>0,SUMPRODUCT((NoCar=$G$1)*(Date>0)*(MONTH(Date)=MONTH(H8)),NbLitres),"") -> #N/A | I9: =IF(D8>0,SUMPRODUCT((NoCar=$G$1)*(Date>0)*(MONTH(Date)=MONTH(I8)),NbLitres),"") -> #N/A | J9: =IF(E8>0,SUMPRODUCT((NoCar=$G$1)*(Date>0)*(MONTH(Date)=MONTH(J8)),NbLitres),"") -> #N/A | L9: =INDEX(Station,ROWS(L$4:L9))&"" -> Stations | M9: =SUMPRODUCT((NoCar=G$1)*(Station=L9)*NbLitres) -> #N/A
L10: =INDEX(Station,ROWS(L$4:L10))&"" -> Stations | M10: =SUMPRODUCT((NoCar=G$1)*(Station=L10)*NbLitres) -> #N/A
C11: Total | D11: =SUMIF(NoCar,$G$1,PrixParPlein) -> 0 | H11: Total | I11: =SUMIF(NoCar,$G$1,NbLitres) -> 0 | L11: =INDEX(Station,ROWS(L$4:L11))&"" -> Stations | M11: =SUMPRODUCT((NoCar=G$1)*(Station=L11)*NbLitres) -> #N/A
L12: =INDEX(Station,ROWS(L$4:L12))&"" -> Stations | M12: =SUMPRODUCT((NoCar=G$1)*(Station=L12)*NbLitres) -> #N/A
B13: Kilométrage | G13: Consommation aux 100 Km | L13: =INDEX(Station,ROWS(L$4:L13))&"" -> Stations | M13: =SUMPRODUCT((NoCar=G$1)*(Station=L13)*NbLitres) -> #N/A
B14: =B4 -> 38353 | C14: =DATE(YEAR(B14),MONTH(B14)+1,1) -> 38384 | D14: =DATE(YEAR(C14),MONTH(C14)+1,1) -> 38412 | E14: =DATE(YEAR(D14),MONTH(D14)+1,1) -> 38443 | G14: =B14 -> 38353 | H14: =DATE(YEAR(G14),MONTH(G14)+1,1) -> 38384 | I14: =DATE(YEAR(H14),MONTH(H14)+1,1) -> 38412 | J14: =DATE(YEAR(I14),MONTH(I14)+1,1) -> 38443 | L14: =INDEX(Station,ROWS(L$4:L14))&"" -> Stations | M14: =SUMPRODUCT((NoCar=G$1)*(Station=L14)*NbLitres) -> #N/A
B15: =SUMPRODUCT((NoCar=$G$1)*(Date>0)*(MONTH(Date)=MONTH(B14))*(KmRetour-KmDepart)) -> #N/A | C15: =SUMPRODUCT((NoCar=$G$1)*(Date>0)*(MONTH(Date)=MONTH(C14))*(KmRetour-KmDepart)) -> #N/A | D15: =SUMPRODUCT((NoCar=$G$1)*(Date>0)*(MONTH(Date)=MONTH(D14))*(KmRetour-KmDepart)) -> #N/A | E15: =SUMPRODUCT((NoCar=$G$1)*(Date>0)*(MONTH(Date)=MONTH(E14))*(KmRetour-KmDepart)) -> #N/A | G15: =IF(B15>0,SUMPRODUCT((NoCar=$G$1)*(Date>0)*(MONTH(Date)=MONTH(G14)),NbLitres)/B15*100,"") -> #N/A | H15: =IF(C15>0,SUMPRODUCT((NoCar=$G$1)*(Date>0)*(MONTH(Date)=MONTH(H14)),NbLitres)/C15*100,"") -> #N/A | I15: =IF(D15>0,SUMPRODUCT((NoCar=$G$1)*(Date>0)*(MONTH(Date)=MONTH(I14)),NbLitres)/D15*100,"") -> #N/A | J15: =IF(E15>0,SUMPRODUCT((NoCar=$G$1)*(Date>0)*(MONTH(Date)=MONTH(J14)),NbLitres)/E15*100,"") -> #N/A | L15: =INDEX(Station,ROWS(L$4:L15))&"" -> Stations | M15: =SUMPRODUCT((NoCar=G$1)*(Station=L15)*NbLitres) -> #N/A
B16: =DATE(YEAR(B14),MONTH(E14)+1,1) -> 38473 | C16: =DATE(YEAR(B16),MONTH(B16)+1,1) -> 38504 | D16: =DATE(YEAR(C16),MONTH(C16)+1,1) -> 38534 | E16: =DATE(YEAR(D16),MONTH(D16)+1,1) -> 38565 | G16: =DATE(YEAR(G14),MONTH(J14)+1,1) -> 38473 | H16: =DATE(YEAR(G16),MONTH(G16)+1,1) -> 38504 | I16: =DATE(YEAR(H16),MONTH(H16)+1,1) -> 38534 | J16: =DATE(YEAR(I16),MONTH(I16)+1,1) -> 38565 | L16: =INDEX(Station,ROWS(L$4:L16))&"" -> Stations | M16: =SUMPRODUCT((NoCar=G$1)*(Station=L16)*NbLitres) -> #N/A
B17: =SUMPRODUCT((NoCar=$G$1)*(Date>0)*(MONTH(Date)=MONTH(B16))*(KmRetour-KmDepart)) -> #N/A | C17: =SUMPRODUCT((NoCar=$G$1)*(Date>0)*(MONTH(Date)=MONTH(C16))*(KmRetour-KmDepart)) -> #N/A | D17: =SUMPRODUCT((NoCar=$G$1)*(Date>0)*(MONTH(Date)=MONTH(D16))*(KmRetour-KmDepart)) -> #N/A | E17: =SUMPRODUCT((NoCar=$G$1)*(Date>0)*(MONTH(Date)=MONTH(E16))*(KmRetour-KmDepart)) -> #N/A | G17: =IF(B17>0,SUMPRODUCT((NoCar=$G$1)*(Date>0)*(MONTH(Date)=MONTH(G16)),NbLitres)/B17*100,"") -> #N/A | H17: =IF(C17>0,SUMPRODUCT((NoCar=$G$1)*(Date>0)*(MONTH(Date)=MONTH(H16)),NbLitres)/C17*100,"") -> #N/A | I17: =IF(D17>0,SUMPRODUCT((NoCar=$G$1)*(Date>0)*(MONTH(Date)=MONTH(I16)),NbLitres)/D17*100,"") -> #N/A | J17: =IF(E17>0,SUMPRODUCT((NoCar=$G$1)*(Date>0)*(MONTH(Date)=MONTH(J16)),NbLitres)/E17*100,"") -> #N/A | L17: =INDEX(Station,ROWS(L$4:L17))&"" -> Stations | M17: =SUMPRODUCT((NoCar=G$1)*(Station=L17)*NbLitres) -> #N/A
B18: =DATE(YEAR(B16),MONTH(E16)+1,1) -> 38596 | C18: =DATE(YEAR(B18),MONTH(B18)+1,1) -> 38626 | D18: =DATE(YEAR(C18),MONTH(C18)+1,1) -> 38657 | E18: =DATE(YEAR(D18),MONTH(D18)+1,1) -> 38687 | G18: =DATE(YEAR(G16),MONTH(J16)+1,1) -> 38596 | H18: =DATE(YEAR(G18),MONTH(G18)+1,1) -> 38626 | I18: =DATE(YEAR(H18),MONTH(H18)+1,1) -> 38657 | J18: =DATE(YEAR(I18),MONTH(I18)+1,1) -> 38687 | L18: =INDEX(Station,ROWS(L$4:L18))&"" -> Stations | M18: =SUMPRODUCT((NoCar=G$1)*(Station=L18)*NbLitres) -> #N/A
B19: =SUMPRODUCT((NoCar=$G$1)*(Date>0)*(MONTH(Date)=MONTH(B18))*(KmRetour-KmDepart)) -> #N/A | C19: =SUMPRODUCT((NoCar=$G$1)*(Date>0)*(MONTH(Date)=MONTH(C18))*(KmRetour-KmDepart)) -> #N/A | D19: =SUMPRODUCT((NoCar=$G$1)*(Date>0)*(MONTH(Date)=MONTH(D18))*(KmRetour-KmDepart)) -> #N/A | E19: =SUMPRODUCT((NoCar=$G$1)*(Date>0)*(MONTH(Date)=MONTH(E18))*(KmRetour-KmDepart)) -> #N/A | G19: =IF(B19>0,SUMPRODUCT((NoCar=$G$1)*(Date>0)*(MONTH(Date)=MONTH(G18)),NbLitres)/B19*100,"") -> #N/A | H19: =IF(C19>0,SUMPRODUCT((NoCar=$G$1)*(Date>0)*(MONTH(Date)=MONTH(H18)),NbLitres)/C19*100,"") -> #N/A | I19: =IF(D19>0,SUMPRODUCT((NoCar=$G$1)*(Date>0)*(MONTH(Date)=MONTH(I18)),NbLitres)/D19*100,"") -> #N/A | J19: =IF(E19>0,SUMPRODUCT((NoCar=$G$1)*(Date>0)*(MONTH(Date)=MONTH(J18)),NbLitres)/E19*100,"") -> #N/A | L19: =INDEX(Station,ROWS(L$4:L19))&"" -> Stations | M19: =SUMPRODUCT((NoCar=G$1)*(Station=L19)*NbLitres) -> #N/A
L20: =INDEX(Station,ROWS(L$4:L20))&"" -> Stations | M20: =SUMPRODUCT((NoCar=G$1)*(Station=L20)*NbLitres) -> #N/A
C21: Total | D21: =SUMPRODUCT((NoCar=$G$1)*(KmRetour-KmDepart)) -> #N/A | H21: Moyenne | I21: =IF(D21=0,"",I11/D21*100) -> #N/A | L21: =INDEX(Station,ROWS(L$4:L21))&"" -> Stations | M21: =SUMPRODUCT((NoCar=G$1)*(Station=L21)*NbLitres) -> #N/A
L22: =INDEX(Station,ROWS(L$4:L22))&"" -> Stations | M22: =SUMPRODUCT((NoCar=G$1)*(Station=L22)*NbLitres) -> #N/A
L23: =INDEX(Station,ROWS(L$4:L23))&"" -> Stations | M23: =SUMPRODUCT((NoCar=G$1)*(Station=L23)*NbLitres) -> #N/A
L24: =INDEX(Station,ROWS(L$4:L24))&"" -> Stations | M24: =SUMPRODUCT((NoCar=G$1)*(Station=L24)*NbLitres) -> #N/A
L25: =INDEX(Station,ROWS(L$4:L25))&"" -> Stations | M25: =SUMPRODUCT((NoCar=G$1)*(Station=L25)*NbLitres) -> #N/A
L26: =INDEX(Station,ROWS(L$4:L26))&"" -> Stations | M26: =SUMPRODUCT((NoCar=G$1)*(Station=L26)*NbLitres) -> #N/A
L27: =INDEX(Station,ROWS(L$4:L27))&"" -> Stations | M27: =SUMPRODUCT((NoCar=G$1)*(Station=L27)*NbLitres) -> #N/A
L28: =INDEX(Station,ROWS(L$4:L28))&"" -> Stations | M28: =SUMPRODUCT((NoCar=G$1)*(Station=L28)*NbLitres) -> #N/A
L29: =INDEX(Station,ROWS(L$4:L29))&"" -> Stations | M29: =SUMPRODUCT((NoCar=G$1)*(Station=L29)*NbLitres) -> #N/A
L30: =INDEX(Station,ROWS(L$4:L30))&"" -> Stations | M30: =SUMPRODUCT((NoCar=G$1)*(Station=L30)*NbLitres) -> #N/A
L31: =INDEX(Station,ROWS(L$4:L31))&"" -> Stations | M31: =SUMPRODUCT((NoCar=G$1)*(Station=L31)*NbLitres) -> #N/A
L32: =INDEX(Station,ROWS(L$4:L32))&"" -> Stations | M32: =SUMPRODUCT((NoCar=G$1)*(Station=L32)*NbLitres) -> #N/A
L33: =INDEX(Station,ROWS(L$4:L33))&"" -> Stations | M33: =SUMPRODUCT((NoCar=G$1)*(Station=L33)*NbLitres) -> #N/A
... L61: =INDEX(Station,ROWS(L$4:L61))&"" -> Stations | M61: =SUMPRODUCT((NoCar=G$1)*(Station=L61)*NbLitres) -> #N/A

Sheet Prix carburant 2018
A1: prix à la pompe | B1: SIRGHAZ | C1: Sans plomb | D1: Super | E1: Normal | F1: Sirghaz | G1: Choisir Type de Carburant
A2: 43101 | B2: 41,62 | C2: 41,97 | D2: 38,95 | E2: 9 | F2: 9
A3: 43101 | B3: 41,62 | C3: 41,97 | D3: 38,95 | E3: 9 | F3: 9
A4: 43101 | B4: 41,62 | C4: 41,97 | D4: 38,95 | E4: 9 | F4: 9
A5: 43101 | B5: 41,62 | C5: 41,97 | D5: 38,95 | E5: 9 | F5: 9
A6: 43101 | B6: 41,62 | C6: 41,97 | D6: 38,95 | E6: 9 | F6: 9
A7: 43465 | B7: 41,62 | C7: 41,97 | D7: 38,95 | E7: 9 | F7: 9
