Workbook

Sheet Calendrier
A1: 2019
P2: An Bisextille | Q2: =DAY(EOMONTH(DATE(A1,2,1),0))=29 -> FALSE
B3: =TEXT(DATE(2019,COLUMN(A:L),1),"Mmmm") -> janvier | C3: =TEXT(DATE(2019,COLUMN(B:M),1),"mmmm") -> février | D3: =TEXT(DATE(2019,COLUMN(C:N),1),"mmmm") -> mars | E3: =TEXT(DATE(2019,COLUMN(D:O),1),"mmmm") -> avril | F3: =TEXT(DATE(2019,COLUMN(E:P),1),"mmmm") -> mai | G3: =TEXT(DATE(2019,COLUMN(F:Q),1),"mmmm") -> juin | H3: =TEXT(DATE(2019,COLUMN(G:R),1),"mmmm") -> juillet | I3: =TEXT(DATE(2019,COLUMN(H:S),1),"mmmm") -> août | J3: =TEXT(DATE(2019,COLUMN(I:T),1),"mmmm") -> septembre | K3: =TEXT(DATE(2019,COLUMN(J:U),1),"mmmm") -> octobre | L3: =TEXT(DATE(2019,COLUMN(K:V),1),"mmmm") -> novembre | M3: =TEXT(DATE(2019,COLUMN(L:W),1),"mmmm") -> décembre
B4: =DATE($A$1,COLUMN(A:L),ROW(1:31)) -> 43466 | C4: =DATE($A$1,COLUMN(B:M),ROW(1:31)) -> 43497 | D4: =DATE($A$1,COLUMN(C:N),ROW(1:31)) -> 43525 | E4: =DATE($A$1,COLUMN(D:O),ROW(1:31)) -> 43556 | F4: =DATE($A$1,COLUMN(E:P),ROW(1:31)) -> 43586 | G4: =DATE($A$1,COLUMN(F:Q),ROW(1:31)) -> 43617 | H4: =DATE($A$1,COLUMN(G:R),ROW(1:31)) -> 43647 | I4: =DATE($A$1,COLUMN(H:S),ROW(1:31)) -> 43678 | J4: =DATE($A$1,COLUMN(I:T),ROW(1:31)) -> 43709 | K4: =DATE($A$1,COLUMN(J:U),ROW(1:31)) -> 43739 | L4: =DATE($A$1,COLUMN(K:V),ROW(1:31)) -> 43770 | M4: =DATE($A$1,COLUMN(L:W),ROW(1:31)) -> 43800 | P4: Colonne1 | Q4: Colonne2
B5: =DATE($A$1,COLUMN(A:L),ROW(2:32)) -> 43467 | C5: =DATE($A$1,COLUMN(B:M),ROW(2:32)) -> 43498 | D5: =DATE($A$1,COLUMN(C:N),ROW(2:32)) -> 43526 | E5: =DATE($A$1,COLUMN(D:O),ROW(2:32)) -> 43557 | F5: =DATE($A$1,COLUMN(E:P),ROW(2:32)) -> 43587 | G5: =DATE($A$1,COLUMN(F:Q),ROW(2:32)) -> 43618 | H5: =DATE($A$1,COLUMN(G:R),ROW(2:32)) -> 43648 | I5: =DATE($A$1,COLUMN(H:S),ROW(2:32)) -> 43679 | J5: =DATE($A$1,COLUMN(I:T),ROW(2:32)) -> 43710 | K5: =DATE($A$1,COLUMN(J:U),ROW(2:32)) -> 43740 | L5: =DATE($A$1,COLUMN(K:V),ROW(2:32)) -> 43771 | M5: =DATE($A$1,COLUMN(L:W),ROW(2:32)) -> 43801 | P5: Jour de l'An | Q5: =DATE($A$1,1,1) -> 43466
B6: =DATE($A$1,COLUMN(A:L),ROW(3:33)) -> 43468 | C6: =DATE($A$1,COLUMN(B:M),ROW(3:33)) -> 43499 | D6: =DATE($A$1,COLUMN(C:N),ROW(3:33)) -> 43527 | E6: =DATE($A$1,COLUMN(D:O),ROW(3:33)) -> 43558 | F6: =DATE($A$1,COLUMN(E:P),ROW(3:33)) -> 43588 | G6: =DATE($A$1,COLUMN(F:Q),ROW(3:33)) -> 43619 | H6: =DATE($A$1,COLUMN(G:R),ROW(3:33)) -> 43649 | I6: =DATE($A$1,COLUMN(H:S),ROW(3:33)) -> 43680 | J6: =DATE($A$1,COLUMN(I:T),ROW(3:33)) -> 43711 | K6: =DATE($A$1,COLUMN(J:U),ROW(3:33)) -> 43741 | L6: =DATE($A$1,COLUMN(K:V),ROW(3:33)) -> 43772 | M6: =DATE($A$1,COLUMN(L:W),ROW(3:33)) -> 43802 | P6: Paques | Q6: =FLOOR(DAY(MINUTE(A1/38)/2+56)&"/5/"&A1,7)-34 -> 43576
B7: =DATE($A$1,COLUMN(A:L),ROW(4:34)) -> 43469 | C7: =DATE($A$1,COLUMN(B:M),ROW(4:34)) -> 43500 | D7: =DATE($A$1,COLUMN(C:N),ROW(4:34)) -> 43528 | E7: =DATE($A$1,COLUMN(D:O),ROW(4:34)) -> 43559 | F7: =DATE($A$1,COLUMN(E:P),ROW(4:34)) -> 43589 | G7: =DATE($A$1,COLUMN(F:Q),ROW(4:34)) -> 43620 | H7: =DATE($A$1,COLUMN(G:R),ROW(4:34)) -> 43650 | I7: =DATE($A$1,COLUMN(H:S),ROW(4:34)) -> 43681 | J7: =DATE($A$1,COLUMN(I:T),ROW(4:34)) -> 43712 | K7: =DATE($A$1,COLUMN(J:U),ROW(4:34)) -> 43742 | L7: =DATE($A$1,COLUMN(K:V),ROW(4:34)) -> 43773 | M7: =DATE($A$1,COLUMN(L:W),ROW(4:34)) -> 43803 | P7: Lundi pâques | Q7: =Q6+1 -> 43577
B8: =DATE($A$1,COLUMN(A:L),ROW(5:35)) -> 43470 | C8: =DATE($A$1,COLUMN(B:M),ROW(5:35)) -> 43501 | D8: =DATE($A$1,COLUMN(C:N),ROW(5:35)) -> 43529 | E8: =DATE($A$1,COLUMN(D:O),ROW(5:35)) -> 43560 | F8: =DATE($A$1,COLUMN(E:P),ROW(5:35)) -> 43590 | G8: =DATE($A$1,COLUMN(F:Q),ROW(5:35)) -> 43621 | H8: =DATE($A$1,COLUMN(G:R),ROW(5:35)) -> 43651 | I8: =DATE($A$1,COLUMN(H:S),ROW(5:35)) -> 43682 | J8: =DATE($A$1,COLUMN(I:T),ROW(5:35)) -> 43713 | K8: =DATE($A$1,COLUMN(J:U),ROW(5:35)) -> 43743 | L8: =DATE($A$1,COLUMN(K:V),ROW(5:35)) -> 43774 | M8: =DATE($A$1,COLUMN(L:W),ROW(5:35)) -> 43804 | P8: fête travail | Q8: =DATE($A$1,5,1) -> 43586
B9: =DATE($A$1,COLUMN(A:L),ROW(6:36)) -> 43471 | C9: =DATE($A$1,COLUMN(B:M),ROW(6:36)) -> 43502 | D9: =DATE($A$1,COLUMN(C:N),ROW(6:36)) -> 43530 | E9: =DATE($A$1,COLUMN(D:O),ROW(6:36)) -> 43561 | F9: =DATE($A$1,COLUMN(E:P),ROW(6:36)) -> 43591 | G9: =DATE($A$1,COLUMN(F:Q),ROW(6:36)) -> 43622 | H9: =DATE($A$1,COLUMN(G:R),ROW(6:36)) -> 43652 | I9: =DATE($A$1,COLUMN(H:S),ROW(6:36)) -> 43683 | J9: =DATE($A$1,COLUMN(I:T),ROW(6:36)) -> 43714 | K9: =DATE($A$1,COLUMN(J:U),ROW(6:36)) -> 43744 | L9: =DATE($A$1,COLUMN(K:V),ROW(6:36)) -> 43775 | M9: =DATE($A$1,COLUMN(L:W),ROW(6:36)) -> 43805 | P9: Victoire 39/45 | Q9: =DATE($A$1,5,8) -> 43593
B10: =DATE($A$1,COLUMN(A:L),ROW(7:37)) -> 43472 | C10: =DATE($A$1,COLUMN(B:M),ROW(7:37)) -> 43503 | D10: =DATE($A$1,COLUMN(C:N),ROW(7:37)) -> 43531 | E10: =DATE($A$1,COLUMN(D:O),ROW(7:37)) -> 43562 | F10: =DATE($A$1,COLUMN(E:P),ROW(7:37)) -> 43592 | G10: =DATE($A$1,COLUMN(F:Q),ROW(7:37)) -> 43623 | H10: =DATE($A$1,COLUMN(G:R),ROW(7:37)) -> 43653 | I10: =DATE($A$1,COLUMN(H:S),ROW(7:37)) -> 43684 | J10: =DATE($A$1,COLUMN(I:T),ROW(7:37)) -> 43715 | K10: =DATE($A$1,COLUMN(J:U),ROW(7:37)) -> 43745 | L10: =DATE($A$1,COLUMN(K:V),ROW(7:37)) -> 43776 | M10: =DATE($A$1,COLUMN(L:W),ROW(7:37)) -> 43806 | P10: ascension | Q10: =Q6+39 -> 43615
B11: =DATE($A$1,COLUMN(A:L),ROW(8:38)) -> 43473 | C11: =DATE($A$1,COLUMN(B:M),ROW(8:38)) -> 43504 | D11: =DATE($A$1,COLUMN(C:N),ROW(8:38)) -> 43532 | E11: =DATE($A$1,COLUMN(D:O),ROW(8:38)) -> 43563 | F11: =DATE($A$1,COLUMN(E:P),ROW(8:38)) -> 43593 | G11: =DATE($A$1,COLUMN(F:Q),ROW(8:38)) -> 43624 | H11: =DATE($A$1,COLUMN(G:R),ROW(8:38)) -> 43654 | I11: =DATE($A$1,COLUMN(H:S),ROW(8:38)) -> 43685 | J11: =DATE($A$1,COLUMN(I:T),ROW(8:38)) -> 43716 | K11: =DATE($A$1,COLUMN(J:U),ROW(8:38)) -> 43746 | L11: =DATE($A$1,COLUMN(K:V),ROW(8:38)) -> 43777 | M11: =DATE($A$1,COLUMN(L:W),ROW(8:38)) -> 43807 | P11: Pentecôte | Q11: =Q6+49 -> 43625
B12: =DATE($A$1,COLUMN(A:L),ROW(9:39)) -> 43474 | C12: =DATE($A$1,COLUMN(B:M),ROW(9:39)) -> 43505 | D12: =DATE($A$1,COLUMN(C:N),ROW(9:39)) -> 43533 | E12: =DATE($A$1,COLUMN(D:O),ROW(9:39)) -> 43564 | F12: =DATE($A$1,COLUMN(E:P),ROW(9:39)) -> 43594 | G12: =DATE($A$1,COLUMN(F:Q),ROW(9:39)) -> 43625 | H12: =DATE($A$1,COLUMN(G:R),ROW(9:39)) -> 43655 | I12: =DATE($A$1,COLUMN(H:S),ROW(9:39)) -> 43686 | J12: =DATE($A$1,COLUMN(I:T),ROW(9:39)) -> 43717 | K12: =DATE($A$1,COLUMN(J:U),ROW(9:39)) -> 43747 | L12: =DATE($A$1,COLUMN(K:V),ROW(9:39)) -> 43778 | M12: =DATE($A$1,COLUMN(L:W),ROW(9:39)) -> 43808 | P12: lundi pente | Q12: =Q6+50 -> 43626
B13: =DATE($A$1,COLUMN(A:L),ROW(10:40)) -> 43475 | C13: =DATE($A$1,COLUMN(B:M),ROW(10:40)) -> 43506 | D13: =DATE($A$1,COLUMN(C:N),ROW(10:40)) -> 43534 | E13: =DATE($A$1,COLUMN(D:O),ROW(10:40)) -> 43565 | F13: =DATE($A$1,COLUMN(E:P),ROW(10:40)) -> 43595 | G13: =DATE($A$1,COLUMN(F:Q),ROW(10:40)) -> 43626 | H13: =DATE($A$1,COLUMN(G:R),ROW(10:40)) -> 43656 | I13: =DATE($A$1,COLUMN(H:S),ROW(10:40)) -> 43687 | J13: =DATE($A$1,COLUMN(I:T),ROW(10:40)) -> 43718 | K13: =DATE($A$1,COLUMN(J:U),ROW(10:40)) -> 43748 | L13: =DATE($A$1,COLUMN(K:V),ROW(10:40)) -> 43779 | M13: =DATE($A$1,COLUMN(L:W),ROW(10:40)) -> 43809 | P13: Fête Nat | Q13: =DATE($A$1,7,14) -> 43660
B14: =DATE($A$1,COLUMN(A:L),ROW(11:41)) -> 43476 | C14: =DATE($A$1,COLUMN(B:M),ROW(11:41)) -> 43507 | D14: =DATE($A$1,COLUMN(C:N),ROW(11:41)) -> 43535 | E14: =DATE($A$1,COLUMN(D:O),ROW(11:41)) -> 43566 | F14: =DATE($A$1,COLUMN(E:P),ROW(11:41)) -> 43596 | G14: =DATE($A$1,COLUMN(F:Q),ROW(11:41)) -> 43627 | H14: =DATE($A$1,COLUMN(G:R),ROW(11:41)) -> 43657 | I14: =DATE($A$1,COLUMN(H:S),ROW(11:41)) -> 43688 | J14: =DATE($A$1,COLUMN(I:T),ROW(11:41)) -> 43719 | K14: =DATE($A$1,COLUMN(J:U),ROW(11:41)) -> 43749 | L14: =DATE($A$1,COLUMN(K:V),ROW(11:41)) -> 43780 | M14: =DATE($A$1,COLUMN(L:W),ROW(11:41)) -> 43810 | P14: Assomption | Q14: =DATE($A$1,8,15) -> 43692
B15: =DATE($A$1,COLUMN(A:L),ROW(12:42)) -> 43477 | C15: =DATE($A$1,COLUMN(B:M),ROW(12:42)) -> 43508 | D15: =DATE($A$1,COLUMN(C:N),ROW(12:42)) -> 43536 | E15: =DATE($A$1,COLUMN(D:O),ROW(12:42)) -> 43567 | F15: =DATE($A$1,COLUMN(E:P),ROW(12:42)) -> 43597 | G15: =DATE($A$1,COLUMN(F:Q),ROW(12:42)) -> 43628 | H15: =DATE($A$1,COLUMN(G:R),ROW(12:42)) -> 43658 | I15: =DATE($A$1,COLUMN(H:S),ROW(12:42)) -> 43689 | J15: =DATE($A$1,COLUMN(I:T),ROW(12:42)) -> 43720 | K15: =DATE($A$1,COLUMN(J:U),ROW(12:42)) -> 43750 | L15: =DATE($A$1,COLUMN(K:V),ROW(12:42)) -> 43781 | M15: =DATE($A$1,COLUMN(L:W),ROW(12:42)) -> 43811 | P15: Toussaint | Q15: =DATE($A$1,11,1) -> 43770
B16: =DATE($A$1,COLUMN(A:L),ROW(13:43)) -> 43478 | C16: =DATE($A$1,COLUMN(B:M),ROW(13:43)) -> 43509 | D16: =DATE($A$1,COLUMN(C:N),ROW(13:43)) -> 43537 | E16: =DATE($A$1,COLUMN(D:O),ROW(13:43)) -> 43568 | F16: =DATE($A$1,COLUMN(E:P),ROW(13:43)) -> 43598 | G16: =DATE($A$1,COLUMN(F:Q),ROW(13:43)) -> 43629 | H16: =DATE($A$1,COLUMN(G:R),ROW(13:43)) -> 43659 | I16: =DATE($A$1,COLUMN(H:S),ROW(13:43)) -> 43690 | J16: =DATE($A$1,COLUMN(I:T),ROW(13:43)) -> 43721 | K16: =DATE($A$1,COLUMN(J:U),ROW(13:43)) -> 43751 | L16: =DATE($A$1,COLUMN(K:V),ROW(13:43)) -> 43782 | M16: =DATE($A$1,COLUMN(L:W),ROW(13:43)) -> 43812 | P16: Armistice | Q16: =DATE($A$1,11,11) -> 43780
B17: =DATE($A$1,COLUMN(A:L),ROW(14:44)) -> 43479 | C17: =DATE($A$1,COLUMN(B:M),ROW(14:44)) -> 43510 | D17: =DATE($A$1,COLUMN(C:N),ROW(14:44)) -> 43538 | E17: =DATE($A$1,COLUMN(D:O),ROW(14:44)) -> 43569 | F17: =DATE($A$1,COLUMN(E:P),ROW(14:44)) -> 43599 | G17: =DATE($A$1,COLUMN(F:Q),ROW(14:44)) -> 43630 | H17: =DATE($A$1,COLUMN(G:R),ROW(14:44)) -> 43660 | I17: =DATE($A$1,COLUMN(H:S),ROW(14:44)) -> 43691 | J17: =DATE($A$1,COLUMN(I:T),ROW(14:44)) -> 43722 | K17: =DATE($A$1,COLUMN(J:U),ROW(14:44)) -> 43752 | L17: =DATE($A$1,COLUMN(K:V),ROW(14:44)) -> 43783 | M17: =DATE($A$1,COLUMN(L:W),ROW(14:44)) -> 43813 | P17: Noël | Q17: =DATE($A$1,12,25) -> 43824
B18: =DATE($A$1,COLUMN(A:L),ROW(15:45)) -> 43480 | C18: =DATE($A$1,COLUMN(B:M),ROW(15:45)) -> 43511 | D18: =DATE($A$1,COLUMN(C:N),ROW(15:45)) -> 43539 | E18: =DATE($A$1,COLUMN(D:O),ROW(15:45)) -> 43570 | F18: =DATE($A$1,COLUMN(E:P),ROW(15:45)) -> 43600 | G18: =DATE($A$1,COLUMN(F:Q),ROW(15:45)) -> 43631 | H18: =DATE($A$1,COLUMN(G:R),ROW(15:45)) -> 43661 | I18: =DATE($A$1,COLUMN(H:S),ROW(15:45)) -> 43692 | J18: =DATE($A$1,COLUMN(I:T),ROW(15:45)) -> 43723 | K18: =DATE($A$1,COLUMN(J:U),ROW(15:45)) -> 43753 | L18: =DATE($A$1,COLUMN(K:V),ROW(15:45)) -> 43784 | M18: =DATE($A$1,COLUMN(L:W),ROW(15:45)) -> 43814
B19: =DATE($A$1,COLUMN(A:L),ROW(16:46)) -> 43481 | C19: =DATE($A$1,COLUMN(B:M),ROW(16:46)) -> 43512 | D19: =DATE($A$1,COLUMN(C:N),ROW(16:46)) -> 43540 | E19: =DATE($A$1,COLUMN(D:O),ROW(16:46)) -> 43571 | F19: =DATE($A$1,COLUMN(E:P),ROW(16:46)) -> 43601 | G19: =DATE($A$1,COLUMN(F:Q),ROW(16:46)) -> 43632 | H19: =DATE($A$1,COLUMN(G:R),ROW(16:46)) -> 43662 | I19: =DATE($A$1,COLUMN(H:S),ROW(16:46)) -> 43693 | J19: =DATE($A$1,COLUMN(I:T),ROW(16:46)) -> 43724 | K19: =DATE($A$1,COLUMN(J:U),ROW(16:46)) -> 43754 | L19: =DATE($A$1,COLUMN(K:V),ROW(16:46)) -> 43785 | M19: =DATE($A$1,COLUMN(L:W),ROW(16:46)) -> 43815
B20: =DATE($A$1,COLUMN(A:L),ROW(17:47)) -> 43482 | C20: =DATE($A$1,COLUMN(B:M),ROW(17:47)) -> 43513 | D20: =DATE($A$1,COLUMN(C:N),ROW(17:47)) -> 43541 | E20: =DATE($A$1,COLUMN(D:O),ROW(17:47)) -> 43572 | F20: =DATE($A$1,COLUMN(E:P),ROW(17:47)) -> 43602 | G20: =DATE($A$1,COLUMN(F:Q),ROW(17:47)) -> 43633 | H20: =DATE($A$1,COLUMN(G:R),ROW(17:47)) -> 43663 | I20: =DATE($A$1,COLUMN(H:S),ROW(17:47)) -> 43694 | J20: =DATE($A$1,COLUMN(I:T),ROW(17:47)) -> 43725 | K20: =DATE($A$1,COLUMN(J:U),ROW(17:47)) -> 43755 | L20: =DATE($A$1,COLUMN(K:V),ROW(17:47)) -> 43786 | M20: =DATE($A$1,COLUMN(L:W),ROW(17:47)) -> 43816
B21: =DATE($A$1,COLUMN(A:L),ROW(18:48)) -> 43483 | C21: =DATE($A$1,COLUMN(B:M),ROW(18:48)) -> 43514 | D21: =DATE($A$1,COLUMN(C:N),ROW(18:48)) -> 43542 | E21: =DATE($A$1,COLUMN(D:O),ROW(18:48)) -> 43573 | F21: =DATE($A$1,COLUMN(E:P),ROW(18:48)) -> 43603 | G21: =DATE($A$1,COLUMN(F:Q),ROW(18:48)) -> 43634 | H21: =DATE($A$1,COLUMN(G:R),ROW(18:48)) -> 43664 | I21: =DATE($A$1,COLUMN(H:S),ROW(18:48)) -> 43695 | J21: =DATE($A$1,COLUMN(I:T),ROW(18:48)) -> 43726 | K21: =DATE($A$1,COLUMN(J:U),ROW(18:48)) -> 43756 | L21: =DATE($A$1,COLUMN(K:V),ROW(18:48)) -> 43787 | M21: =DATE($A$1,COLUMN(L:W),ROW(18:48)) -> 43817
B22: =DATE($A$1,COLUMN(A:L),ROW(19:49)) -> 43484 | C22: =DATE($A$1,COLUMN(B:M),ROW(19:49)) -> 43515 | D22: =DATE($A$1,COLUMN(C:N),ROW(19:49)) -> 43543 | E22: =DATE($A$1,COLUMN(D:O),ROW(19:49)) -> 43574 | F22: =DATE($A$1,COLUMN(E:P),ROW(19:49)) -> 43604 | G22: =DATE($A$1,COLUMN(F:Q),ROW(19:49)) -> 43635 | H22: =DATE($A$1,COLUMN(G:R),ROW(19:49)) -> 43665 | I22: =DATE($A$1,COLUMN(H:S),ROW(19:49)) -> 43696 | J22: =DATE($A$1,COLUMN(I:T),ROW(19:49)) -> 43727 | K22: =DATE($A$1,COLUMN(J:U),ROW(19:49)) -> 43757 | L22: =DATE($A$1,COLUMN(K:V),ROW(19:49)) -> 43788 | M22: =DATE($A$1,COLUMN(L:W),ROW(19:49)) -> 43818
B23: =DATE($A$1,COLUMN(A:L),ROW(20:50)) -> 43485 | C23: =DATE($A$1,COLUMN(B:M),ROW(20:50)) -> 43516 | D23: =DATE($A$1,COLUMN(C:N),ROW(20:50)) -> 43544 | E23: =DATE($A$1,COLUMN(D:O),ROW(20:50)) -> 43575 | F23: =DATE($A$1,COLUMN(E:P),ROW(20:50)) -> 43605 | G23: =DATE($A$1,COLUMN(F:Q),ROW(20:50)) -> 43636 | H23: =DATE($A$1,COLUMN(G:R),ROW(20:50)) -> 43666 | I23: =DATE($A$1,COLUMN(H:S),ROW(20:50)) -> 43697 | J23: =DATE($A$1,COLUMN(I:T),ROW(20:50)) -> 43728 | K23: =DATE($A$1,COLUMN(J:U),ROW(20:50)) -> 43758 | L23: =DATE($A$1,COLUMN(K:V),ROW(20:50)) -> 43789 | M23: =DATE($A$1,COLUMN(L:W),ROW(20:50)) -> 43819
B24: =DATE($A$1,COLUMN(A:L),ROW(21:51)) -> 43486 | C24: =DATE($A$1,COLUMN(B:M),ROW(21:51)) -> 43517 | D24: =DATE($A$1,COLUMN(C:N),ROW(21:51)) -> 43545 | E24: =DATE($A$1,COLUMN(D:O),ROW(21:51)) -> 43576 | F24: =DATE($A$1,COLUMN(E:P),ROW(21:51)) -> 43606 | G24: =DATE($A$1,COLUMN(F:Q),ROW(21:51)) -> 43637 | H24: =DATE($A$1,COLUMN(G:R),ROW(21:51)) -> 43667 | I24: =DATE($A$1,COLUMN(H:S),ROW(21:51)) -> 43698 | J24: =DATE($A$1,COLUMN(I:T),ROW(21:51)) -> 43729 | K24: =DATE($A$1,COLUMN(J:U),ROW(21:51)) -> 43759 | L24: =DATE($A$1,COLUMN(K:V),ROW(21:51)) -> 43790 | M24: =DATE($A$1,COLUMN(L:W),ROW(21:51)) -> 43820
B25: =DATE($A$1,COLUMN(A:L),ROW(22:52)) -> 43487 | C25: =DATE($A$1,COLUMN(B:M),ROW(22:52)) -> 43518 | D25: =DATE($A$1,COLUMN(C:N),ROW(22:52)) -> 43546 | E25: =DATE($A$1,COLUMN(D:O),ROW(22:52)) -> 43577 | F25: =DATE($A$1,COLUMN(E:P),ROW(22:52)) -> 43607 | G25: =DATE($A$1,COLUMN(F:Q),ROW(22:52)) -> 43638 | H25: =DATE($A$1,COLUMN(G:R),ROW(22:52)) -> 43668 | I25: =DATE($A$1,COLUMN(H:S),ROW(22:52)) -> 43699 | J25: =DATE($A$1,COLUMN(I:T),ROW(22:52)) -> 43730 | K25: =DATE($A$1,COLUMN(J:U),ROW(22:52)) -> 43760 | L25: =DATE($A$1,COLUMN(K:V),ROW(22:52)) -> 43791 | M25: =DATE($A$1,COLUMN(L:W),ROW(22:52)) -> 43821
B26: =DATE($A$1,COLUMN(A:L),ROW(23:53)) -> 43488 | C26: =DATE($A$1,COLUMN(B:M),ROW(23:53)) -> 43519 | D26: =DATE($A$1,COLUMN(C:N),ROW(23:53)) -> 43547 | E26: =DATE($A$1,COLUMN(D:O),ROW(23:53)) -> 43578 | F26: =DATE($A$1,COLUMN(E:P),ROW(23:53)) -> 43608 | G26: =DATE($A$1,COLUMN(F:Q),ROW(23:53)) -> 43639 | H26: =DATE($A$1,COLUMN(G:R),ROW(23:53)) -> 43669 | I26: =DATE($A$1,COLUMN(H:S),ROW(23:53)) -> 43700 | J26: =DATE($A$1,COLUMN(I:T),ROW(23:53)) -> 43731 | K26: =DATE($A$1,COLUMN(J:U),ROW(23:53)) -> 43761 | L26: =DATE($A$1,COLUMN(K:V),ROW(23:53)) -> 43792 | M26: =DATE($A$1,COLUMN(L:W),ROW(23:53)) -> 43822
B27: =DATE($A$1,COLUMN(A:L),ROW(24:54)) -> 43489 | C27: =DATE($A$1,COLUMN(B:M),ROW(24:54)) -> 43520 | D27: =DATE($A$1,COLUMN(C:N),ROW(24:54)) -> 43548 | E27: =DATE($A$1,COLUMN(D:O),ROW(24:54)) -> 43579 | F27: =DATE($A$1,COLUMN(E:P),ROW(24:54)) -> 43609 | G27: =DATE($A$1,COLUMN(F:Q),ROW(24:54)) -> 43640 | H27: =DATE($A$1,COLUMN(G:R),ROW(24:54)) -> 43670 | I27: =DATE($A$1,COLUMN(H:S),ROW(24:54)) -> 43701 | J27: =DATE($A$1,COLUMN(I:T),ROW(24:54)) -> 43732 | K27: =DATE($A$1,COLUMN(J:U),ROW(24:54)) -> 43762 | L27: =DATE($A$1,COLUMN(K:V),ROW(24:54)) -> 43793 | M27: =DATE($A$1,COLUMN(L:W),ROW(24:54)) -> 43823
B28: =DATE($A$1,COLUMN(A:L),ROW(25:55)) -> 43490 | C28: =DATE($A$1,COLUMN(B:M),ROW(25:55)) -> 43521 | D28: =DATE($A$1,COLUMN(C:N),ROW(25:55)) -> 43549 | E28: =DATE($A$1,COLUMN(D:O),ROW(25:55)) -> 43580 | F28: =DATE($A$1,COLUMN(E:P),ROW(25:55)) -> 43610 | G28: =DATE($A$1,COLUMN(F:Q),ROW(25:55)) -> 43641 | H28: =DATE($A$1,COLUMN(G:R),ROW(25:55)) -> 43671 | I28: =DATE($A$1,COLUMN(H:S),ROW(25:55)) -> 43702 | J28: =DATE($A$1,COLUMN(I:T),ROW(25:55)) -> 43733 | K28: =DATE($A$1,COLUMN(J:U),ROW(25:55)) -> 43763 | L28: =DATE($A$1,COLUMN(K:V),ROW(25:55)) -> 43794 | M28: =DATE($A$1,COLUMN(L:W),ROW(25:55)) -> 43824
B29: =DATE($A$1,COLUMN(A:L),ROW(26:56)) -> 43491 | C29: =DATE($A$1,COLUMN(B:M),ROW(26:56)) -> 43522 | D29: =DATE($A$1,COLUMN(C:N),ROW(26:56)) -> 43550 | E29: =DATE($A$1,COLUMN(D:O),ROW(26:56)) -> 43581 | F29: =DATE($A$1,COLUMN(E:P),ROW(26:56)) -> 43611 | G29: =DATE($A$1,COLUMN(F:Q),ROW(26:56)) -> 43642 | H29: =DATE($A$1,COLUMN(G:R),ROW(26:56)) -> 43672 | I29: =DATE($A$1,COLUMN(H:S),ROW(26:56)) -> 43703 | J29: =DATE($A$1,COLUMN(I:T),ROW(26:56)) -> 43734 | K29: =DATE($A$1,COLUMN(J:U),ROW(26:56)) -> 43764 | L29: =DATE($A$1,COLUMN(K:V),ROW(26:56)) -> 43795 | M29: =DATE($A$1,COLUMN(L:W),ROW(26:56)) -> 43825
B30: =DATE($A$1,COLUMN(A:L),ROW(27:57)) -> 43492 | C30: =DATE($A$1,COLUMN(B:M),ROW(27:57)) -> 43523 | D30: =DATE($A$1,COLUMN(C:N),ROW(27:57)) -> 43551 | E30: =DATE($A$1,COLUMN(D:O),ROW(27:57)) -> 43582 | F30: =DATE($A$1,COLUMN(E:P),ROW(27:57)) -> 43612 | G30: =DATE($A$1,COLUMN(F:Q),ROW(27:57)) -> 43643 | H30: =DATE($A$1,COLUMN(G:R),ROW(27:57)) -> 43673 | I30: =DATE($A$1,COLUMN(H:S),ROW(27:57)) -> 43704 | J30: =DATE($A$1,COLUMN(I:T),ROW(27:57)) -> 43735 | K30: =DATE($A$1,COLUMN(J:U),ROW(27:57)) -> 43765 | L30: =DATE($A$1,COLUMN(K:V),ROW(27:57)) -> 43796 | M30: =DATE($A$1,COLUMN(L:W),ROW(27:57)) -> 43826
B31: =DATE($A$1,COLUMN(A:L),ROW(28:58)) -> 43493 | C31: =DATE($A$1,COLUMN(B:M),ROW(28:58)) -> 43524 | D31: =DATE($A$1,COLUMN(C:N),ROW(28:58)) -> 43552 | E31: =DATE($A$1,COLUMN(D:O),ROW(28:58)) -> 43583 | F31: =DATE($A$1,COLUMN(E:P),ROW(28:58)) -> 43613 | G31: =DATE($A$1,COLUMN(F:Q),ROW(28:58)) -> 43644 | H31: =DATE($A$1,COLUMN(G:R),ROW(28:58)) -> 43674 | I31: =DATE($A$1,COLUMN(H:S),ROW(28:58)) -> 43705 | J31: =DATE($A$1,COLUMN(I:T),ROW(28:58)) -> 43736 | K31: =DATE($A$1,COLUMN(J:U),ROW(28:58)) -> 43766 | L31: =DATE($A$1,COLUMN(K:V),ROW(28:58)) -> 43797 | M31: =DATE($A$1,COLUMN(L:W),ROW(28:58)) -> 43827
B32: =DATE($A$1,COLUMN(A:L),ROW(29:59)) -> 43494 | C32: =DATE($A$1,COLUMN(B:M),ROW(29:59)) -> 43525 | D32: =DATE($A$1,COLUMN(C:N),ROW(29:59)) -> 43553 | E32: =DATE($A$1,COLUMN(D:O),ROW(29:59)) -> 43584 | F32: =DATE($A$1,COLUMN(E:P),ROW(29:59)) -> 43614 | G32: =DATE($A$1,COLUMN(F:Q),ROW(29:59)) -> 43645 | H32: =DATE($A$1,COLUMN(G:R),ROW(29:59)) -> 43675 | I32: =DATE($A$1,COLUMN(H:S),ROW(29:59)) -> 43706 | J32: =DATE($A$1,COLUMN(I:T),ROW(29:59)) -> 43737 | K32: =DATE($A$1,COLUMN(J:U),ROW(29:59)) -> 43767 | L32: =DATE($A$1,COLUMN(K:V),ROW(29:59)) -> 43798 | M32: =DATE($A$1,COLUMN(L:W),ROW(29:59)) -> 43828
B33: =DATE($A$1,COLUMN(A:L),ROW(30:60)) -> 43495 | D33: =DATE($A$1,COLUMN(C:N),ROW(30:60)) -> 43554 | E33: =DATE($A$1,COLUMN(D:O),ROW(30:60)) -> 43585 | F33: =DATE($A$1,COLUMN(E:P),ROW(30:60)) -> 43615 | G33: =DATE($A$1,COLUMN(F:Q),ROW(30:60)) -> 43646 | H33: =DATE($A$1,COLUMN(G:R),ROW(30:60)) -> 43676 | I33: =DATE($A$1,COLUMN(H:S),ROW(30:60)) -> 43707 | J33: =DATE($A$1,COLUMN(I:T),ROW(30:60)) -> 43738 | K33: =DATE($A$1,COLUMN(J:U),ROW(30:60)) -> 43768 | L33: =DATE($A$1,COLUMN(K:V),ROW(30:60)) -> 43799 | M33: =DATE($A$1,COLUMN(L:W),ROW(30:60)) -> 43829
B34: =DATE($A$1,COLUMN(A:L),ROW(31:61)) -> 43496 | D34: =DATE($A$1,COLUMN(C:N),ROW(31:61)) -> 43555 | F34: =DATE($A$1,COLUMN(E:P),ROW(31:61)) -> 43616 | H34: =DATE($A$1,COLUMN(G:R),ROW(31:61)) -> 43677 | I34: =DATE($A$1,COLUMN(H:S),ROW(31:61)) -> 43708 | K34: =DATE($A$1,COLUMN(J:U),ROW(31:61)) -> 43769 | M34: =DATE($A$1,COLUMN(L:W),ROW(31:61)) -> 43830

Sheet Jan
Y2: =SUM(O4:O30) -> 0
A3: S 01 | B3: DATE | C3: SERV | E3: J | F3: HA | G3: HD | I3: K | J3: Ser | K3: CP | L3: MOTIF DU DEPLACEMENT | O3: Panniers | P3: HSD | Q3: HSF | R3: H.Sup | S3: Maj Nuit | T3: Maj Dim. | U3: Maj J.Fé. | V3: Astreinte | W3: SSLIA | Y3: =SUM(O30:O30) -> 0
B4: =DATE(Calendrier!$A$1,_xlfn.SHEET()-1,(ROW()/2)-1) -> 43466 | D4: M | E4: =IF(C4="","",IF(OR(C4="Cp",C4="AM",C4="Re",C4="Fe"),"",1)) | F4: 8 | G4: 10 | H4: =((G4-F4)+(G5-F5)) -> 2 | K4: =IF(OR(C4="Cp"),1,"") | P4: 18 | Q4: 20 | R4: =((Q4-P4)-(Q5-P5)) -> 2 | Y4: =SUM(#REF!) -> #REF!
A5: =SUM(H4:H15)+SUM(R4:R15) -> 4 | D5: S
B6: =DATE(Calendrier!$A$1,_xlfn.SHEET()-1,(ROW()/2)-1) -> 43467 | D6: M | E6: =IF(C6="","",IF(OR(C6="Cp",C6="AM",C6="Re",C6="Fe"),"",1)) | H6: =((G6-F6)+(G7-F7)) -> 0 | R6: =((Q6-P6)-(Q7-P7)) -> 0 | Y6: =SUM(#REF!) -> #REF!
D7: S
B8: =DATE(Calendrier!$A$1,_xlfn.SHEET()-1,(ROW()/2)-1) -> 43468 | D8: M | E8: =IF(C8="","",IF(OR(C8="Cp",C8="AM",C8="Re",C8="Fe"),"",1)) | H8: =((G8-F8)+(G9-F9)) -> 0 | K8: =IF(OR(C8="Cp"),1,"") | R8: =((Q8-P8)-(Q9-P9)) -> 0
D9: S
B10: =DATE(Calendrier!$A$1,_xlfn.SHEET()-1,(ROW()/2)-1) -> 43469 | D10: M | E10: =IF(C10="","",IF(OR(C10="Cp",C10="AM",C10="Re",C10="Fe"),"",1)) | H10: =((G10-F10)+(G11-F11)) -> 0 | K10: =IF(OR(C10="Cp"),1,"") | R10: =((Q10-P10)-(Q11-P11)) -> 0
D11: S
B12: =DATE(Calendrier!$A$1,_xlfn.SHEET()-1,(ROW()/2)-1) -> 43470 | D12: M | E12: =IF(C12="","",IF(OR(C12="Cp",C12="AM",C12="Re",C12="Fe"),"",1)) | H12: =((G12-F12)+(G13-F13)) -> 0 | K12: =IF(OR(C12="Cp"),1,"") | R12: =((Q12-P12)-(Q13-P13)) -> 0
D13: S
B14: =DATE(Calendrier!$A$1,_xlfn.SHEET()-1,(ROW()/2)-1) -> 43471 | D14: M | E14: =IF(C14="","",IF(OR(C14="Cp",C14="AM",C14="Re",C14="Fe"),"",1)) | H14: =((G14-F14)+(G15-F15)) -> 0 | K14: =IF(OR(C14="Cp"),1,"") | R14: =((Q14-P14)-(Q15-P15)) -> 0
A15: S 02 | D15: S
B16: =DATE(Calendrier!$A$1,_xlfn.SHEET()-1,(ROW()/2)-1) -> 43472 | D16: M | E16: =IF(C16="","",IF(OR(C16="Cp",C16="AM",C16="Re",C16="Fe"),"",1)) | F16: 8 | G16: 10 | H16: =((G16-F16)+(G17-F17)) -> 2 | K16: =IF(OR(C16="Cp"),1,"") | P16: 18 | Q16: 20 | R16: =((Q16-P16)-(Q17-P17)) -> 2
A17: =SUM(H16:H31)+SUM(R16:R31) -> 4 | D17: S
B18: =DATE(Calendrier!$A$1,_xlfn.SHEET()-1,(ROW()/2)-1) -> 43473 | D18: M | E18: =IF(C18="","",IF(OR(C18="Cp",C18="AM",C18="Re",C18="Fe"),"",1)) | H18: =((G18-F18)+(G19-F19)) -> 0 | K18: =IF(OR(C18="Cp"),1,"") | R18: =((Q18-P18)-(Q19-P19)) -> 0
D19: S
B20: =DATE(Calendrier!$A$1,_xlfn.SHEET()-1,(ROW()/2)-1) -> 43474 | D20: M | E20: =IF(C20="","",IF(OR(C20="Cp",C20="AM",C20="Re",C20="Fe"),"",1)) | H20: =((G20-F20)+(G21-F21)) -> 0 | K20: =IF(OR(C20="Cp"),1,"") | R20: =((Q20-P20)-(Q21-P21)) -> 0
D21: S
B22: =DATE(Calendrier!$A$1,_xlfn.SHEET()-1,(ROW()/2)-1) -> 43475 | D22: M | E22: =IF(C22="","",IF(OR(C22="Cp",C22="AM",C22="Re",C22="Fe"),"",1)) | H22: =((G22-F22)+(G23-F23)) -> 0 | K22: =IF(OR(C22="Cp"),1,"") | R22: =((Q22-P22)-(Q23-P23)) -> 0
D23: S
B24: =DATE(Calendrier!$A$1,_xlfn.SHEET()-1,(ROW()/2)-1) -> 43476 | D24: M | E24: =IF(C24="","",IF(OR(C24="Cp",C24="AM",C24="Re",C24="Fe"),"",1)) | H24: =((G24-F24)+(G25-F25)) -> 0 | K24: =IF(OR(C24="Cp"),1,"") | R24: =((Q24-P24)-(Q25-P25)) -> 0
D25: S
B26: =DATE(Calendrier!$A$1,_xlfn.SHEET()-1,(ROW()/2)-1) -> 43477 | D26: M | E26: =IF(C26="","",IF(OR(C26="Cp",C26="AM",C26="Re",C26="Fe"),"",1)) | H26: =((G26-F26)+(G27-F27)) -> 0 | K26: =IF(OR(C26="Cp"),1,"") | R26: =((Q26-P26)-(Q27-P27)) -> 0
D27: S
B28: =DATE(Calendrier!$A$1,_xlfn.SHEET()-1,(ROW()/2)-1) -> 43478 | D28: M | E28: =IF(C28="","",IF(OR(C28="Cp",C28="AM",C28="Re",C28="Fe"),"",1)) | H28: =((G28-F28)+(G29-F29)) -> 0 | K28: =IF(OR(C28="Cp"),1,"") | R28: =((Q28-P28)-(Q29-P29)) -> 0
A29: S 03 | D29: S
B30: =DATE(Calendrier!$A$1,_xlfn.SHEET()-1,(ROW()/2)-1) -> 43479 | D30: M | E30: =IF(C30="","",IF(OR(C30="Cp",C30="AM",C30="Re",C30="Fe"),"",1)) | H30: =((G30-F30)+(G31-F31)) -> 0 | K30: =IF(OR(C30="Cp"),1,"") | R30: =((Q30-P30)-(Q31-P31)) -> 0
D31: S
B32: =DATE(Calendrier!$A$1,_xlfn.SHEET()-1,(ROW()/2)-1) -> 43480 | D32: M | E32: =IF(C32="","",IF(OR(C32="Cp",C32="AM",C32="Re",C32="Fe"),"",1)) | H32: =((G32-F32)+(G33-F33)) -> 0 | K32: =IF(OR(C32="Cp"),1,"") | R32: =((Q32-P32)-(Q33-P33)) -> 0
D33: S
B34: =DATE(Calendrier!$A$1,_xlfn.SHEET()-1,(ROW()/2)-1) -> 43481 | D34: M | E34: =IF(C34="","",IF(OR(C34="Cp",C34="AM",C34="Re",C34="Fe"),"",1)) | H34: =((G34-F34)+(G35-F35)) -> 0 | K34: =IF(OR(C34="Cp"),1,"") | R34: =((Q34-P34)-(Q35-P35)) -> 0
D35: S
B36: =DATE(Calendrier!$A$1,_xlfn.SHEET()-1,(ROW()/2)-1) -> 43482 | D36: M | E36: =IF(C36="","",IF(OR(C36="Cp",C36="AM",C36="Re",C36="Fe"),"",1)) | H36: =((G36-F36)+(G37-F37)) -> 0 | K36: =IF(OR(C36="Cp"),1,"") | R36: =((Q36-P36)-(Q37-P37)) -> 0
D37: S
B38: =DATE(Calendrier!$A$1,_xlfn.SHEET()-1,(ROW()/2)-1) -> 43483 | D38: M | E38: =IF(C38="","",IF(OR(C38="Cp",C38="AM",C38="Re",C38="Fe"),"",1)) | H38: =((G38-F38)+(G39-F39)) -> 0 | R38: =((Q38-P38)-(Q39-P39)) -> 0
D39: S
B40: =DATE(Calendrier!$A$1,_xlfn.SHEET()-1,(ROW()/2)-1) -> 43484 | D40: M | E40: =IF(C40="","",IF(OR(C40="Cp",C40="AM",C40="Re",C40="Fe"),"",1)) | H40: =((G40-F40)+(G41-F41)) -> 0 | K40: =IF(OR(C40="Cp"),1,"") | R40: =((Q40-P40)-(Q41-P41)) -> 0
D41: S
B42: =DATE(Calendrier!$A$1,_xlfn.SHEET()-1,(ROW()/2)-1) -> 43485 | D42: M | E42: =IF(C42="","",IF(OR(C42="Cp",C42="AM",C42="Re",C42="Fe"),"",1)) | H42: =((G42-F42)+(G43-F43)) -> 0 | K42: =IF(OR(C42="Cp"),1,"") | R42: =((Q42-P42)-(Q43-P43)) -> 0
D43: S
B44: =DATE(Calendrier!$A$1,_xlfn.SHEET()-1,(ROW()/2)-1) -> 43486 | D44: M | E44: =IF(C44="","",IF(OR(C44="Cp",C44="AM",C44="Re",C44="Fe"),"",1)) | H44: =((G44-F44)+(G45-F45)) -> 0 | K44: =IF(OR(C44="Cp"),1,"") | R44: =((Q44-P44)-(Q45-P45)) -> 0
D45: S
B46: =DATE(Calendrier!$A$1,_xlfn.SHEET()-1,(ROW()/2)-1) -> 43487 | D46: M | E46: =IF(C46="","",IF(OR(C46="Cp",C46="AM",C46="Re",C46="Fe"),"",1)) | H46: =((G46-F46)+(G47-F47)) -> 0 | K46: =IF(OR(C46="Cp"),1,"") | R46: =((Q46-P46)-(Q47-P47)) -> 0
D47: S
B48: =DATE(Calendrier!$A$1,_xlfn.SHEET()-1,(ROW()/2)-1) -> 43488 | D48: M | E48: =IF(C48="","",IF(OR(C48="Cp",C48="AM",C48="Re",C48="Fe"),"",1)) | H48: =((G48-F48)+(G49-F49)) -> 0 | K48: =IF(OR(C48="Cp"),1,"") | R48: =((Q48-P48)-(Q49-P49)) -> 0
D49: S
B50: =DATE(Calendrier!$A$1,_xlfn.SHEET()-1,(ROW()/2)-1) -> 43489 | D50: M | E50: =IF(C50="","",IF(OR(C50="Cp",C50="AM",C50="Re",C50="Fe"),"",1)) | H50: =((G50-F50)+(G51-F51)) -> 0 | K50: =IF(OR(C50="Cp"),1,"") | R50: =((Q50-P50)-(Q51-P51)) -> 0
D51: S
B52: =DATE(Calendrier!$A$1,_xlfn.SHEET()-1,(ROW()/2)-1) -> 43490 | D52: M | E52: =IF(C52="","",IF(OR(C52="Cp",C52="AM",C52="Re",C52="Fe"),"",1)) | H52: =((G52-F52)+(G53-F53)) -> 0 | K52: =IF(OR(C52="Cp"),1,"") | R52: =((Q52-P52)-(Q53-P53)) -> 0
D53: S
B54: =DATE(Calendrier!$A$1,_xlfn.SHEET()-1,(ROW()/2)-1) -> 43491 | D54: M | E54: =IF(C54="","",IF(OR(C54="Cp",C54="AM",C54="Re",C54="Fe"),"",1)) | H54: =((G54-F54)+(G55-F55)) -> 0 | K54: =IF(OR(C54="Cp"),1,"") | R54: =((Q54-P54)-(Q55-P55)) -> 0
D55: S
B56: =DATE(Calendrier!$A$1,_xlfn.SHEET()-1,(ROW()/2)-1) -> 43492 | D56: M | E56: =IF(C56="","",IF(OR(C56="Cp",C56="AM",C56="Re",C56="Fe"),"",1)) | H56: =((G56-F56)+(G57-F57)) -> 0 | K56: =IF(OR(C56="Cp"),1,"") | R56: =((Q56-P56)-(Q57-P57)) -> 0
D57: S
B58: =DATE(Calendrier!$A$1,_xlfn.SHEET()-1,(ROW()/2)-1) -> 43493 | D58: M | E58: =IF(C58="","",IF(OR(C58="Cp",C58="AM",C58="Re",C58="Fe"),"",1)) | H58: =((G58-F58)+(G59-F59)) -> 0 | K58: =IF(OR(C58="Cp"),1,"") | R58: =((Q58-P58)-(Q59-P59)) -> 0
D59: S
B60: =DATE(Calendrier!$A$1,_xlfn.SHEET()-1,(ROW()/2)-1) -> 43494 | D60: M | E60: =IF(C60="","",IF(OR(C60="Cp",C60="AM",C60="Re",C60="Fe"),"",1)) | H60: =((G60-F60)+(G61-F61)) -> 0 | K60: =IF(OR(C60="Cp"),1,"") | R60: =((Q60-P60)-(Q61-P61)) -> 0
D61: S
B62: =DATE(Calendrier!$A$1,_xlfn.SHEET()-1,(ROW()/2)-1) -> 43495 | D62: M | E62: =IF(C62="","",IF(OR(C62="Cp",C62="AM",C62="Re",C62="Fe"),"",1)) | H62: =((G62-F62)+(G63-F63)) -> 0 | K62: =IF(OR(C62="Cp"),1,"") | R62: =((Q62-P62)-(Q63-P63)) -> 0
D63: S
B64: =DATE(Calendrier!$A$1,_xlfn.SHEET()-1,(ROW()/2)-1) -> 43496 | D64: M | E64: =IF(C64="","",IF(OR(C64="Cp",C64="AM",C64="Re",C64="Fe"),"",1)) | H64: =((G64-F64)+(G65-F65)) -> 0 | K64: =IF(OR(C64="Cp"),1,"") | R64: =((Q64-P64)-(Q65-P65)) -> 0
D65: S
B66: TOTAUX | E66: =SUM(E4:E65) -> 0 | F66: =SUM(H4:H65) -> 4 | I66: =SUM(I4:I65) -> 0 | J66: =SUM(J4:J65) -> 0 | K66: =SUM(K4:K65) -> 0 | N66: TOTAUX | O66: =SUM(O4:O65) -> 0 | R66: =SUM(R4:R30) -> 4 | S66: =SUM(S4:S65) -> 0 | T66: =SUM(T4:T65) -> 0 | U66: =SUM(U4:U65) -> 0 | V66: =SUM(V4:V65) -> 0 | W66: =SUM(W4:W65) -> 0

Sheet Fev
Y2: =SUM(O4:O30) -> 0
A3: S 01 | B3: DATE | C3: SERV | E3: J | F3: HA | G3: HD | I3: K | J3: Ser | K3: CP | L3: MOTIF DU DEPLACEMENT | O3: Panniers | P3: HSD | Q3: HSF | R3: H.Sup | S3: Maj Nuit | T3: Maj Dim. | U3: Maj J.Fé. | V3: Astreinte | W3: SSLIA | Y3: =SUM(O30:O30) -> 0
B4: =DATE(Calendrier!$A$1,_xlfn.SHEET()-1,(ROW()/2)-1) -> 43497 | D4: M | E4: =IF(C4="","",IF(OR(C4="Cp",C4="AM",C4="Re",C4="Fe"),"",1)) | F4: 8 | G4: 10 | H4: =((G4-F4)+(G5-F5)) -> 2 | K4: =IF(OR(C4="Cp"),1,"") | P4: 18 | Q4: 20 | R4: =((Q4-P4)-(Q5-P5)) -> 2 | Y4: =SUM(#REF!) -> #REF!
A5: =SUM(H4:H15)+SUM(R4:R15) -> 4 | D5: S
B6: =DATE(Calendrier!$A$1,_xlfn.SHEET()-1,(ROW()/2)-1) -> 43498 | D6: M | E6: =IF(C6="","",IF(OR(C6="Cp",C6="AM",C6="Re",C6="Fe"),"",1)) | H6: =((G6-F6)+(G7-F7)) -> 0 | R6: =((Q6-P6)-(Q7-P7)) -> 0 | Y6: =SUM(#REF!) -> #REF!
D7: S
B8: =DATE(Calendrier!$A$1,_xlfn.SHEET()-1,(ROW()/2)-1) -> 43499 | D8: M | E8: =IF(C8="","",IF(OR(C8="Cp",C8="AM",C8="Re",C8="Fe"),"",1)) | H8: =((G8-F8)+(G9-F9)) -> 0 | K8: =IF(OR(C8="Cp"),1,"") | R8: =((Q8-P8)-(Q9-P9)) -> 0
D9: S
B10: =DATE(Calendrier!$A$1,_xlfn.SHEET()-1,(ROW()/2)-1) -> 43500 | D10: M | E10: =IF(C10="","",IF(OR(C10="Cp",C10="AM",C10="Re",C10="Fe"),"",1)) | H10: =((G10-F10)+(G11-F11)) -> 0 | K10: =IF(OR(C10="Cp"),1,"") | R10: =((Q10-P10)-(Q11-P11)) -> 0
D11: S
B12: =DATE(Calendrier!$A$1,_xlfn.SHEET()-1,(ROW()/2)-1) -> 43501 | D12: M | E12: =IF(C12="","",IF(OR(C12="Cp",C12="AM",C12="Re",C12="Fe"),"",1)) | H12: =((G12-F12)+(G13-F13)) -> 0 | K12: =IF(OR(C12="Cp"),1,"") | R12: =((Q12-P12)-(Q13-P13)) -> 0
D13: S
B14: =DATE(Calendrier!$A$1,_xlfn.SHEET()-1,(ROW()/2)-1) -> 43502 | D14: M | E14: =IF(C14="","",IF(OR(C14="Cp",C14="AM",C14="Re",C14="Fe"),"",1)) | H14: =((G14-F14)+(G15-F15)) -> 0 | K14: =IF(OR(C14="Cp"),1,"") | R14: =((Q14-P14)-(Q15-P15)) -> 0
A15: S 02 | D15: S
B16: =DATE(Calendrier!$A$1,_xlfn.SHEET()-1,(ROW()/2)-1) -> 43503 | D16: M | E16: =IF(C16="","",IF(OR(C16="Cp",C16="AM",C16="Re",C16="Fe"),"",1)) | F16: 8 | G16: 10 | H16: =((G16-F16)+(G17-F17)) -> 2 | K16: =IF(OR(C16="Cp"),1,"") | P16: 18 | Q16: 20 | R16: =((Q16-P16)-(Q17-P17)) -> 2
A17: =SUM(H16:H31)+SUM(R16:R31) -> 4 | D17: S
B18: =DATE(Calendrier!$A$1,_xlfn.SHEET()-1,(ROW()/2)-1) -> 43504 | D18: M | E18: =IF(C18="","",IF(OR(C18="Cp",C18="AM",C18="Re",C18="Fe"),"",1)) | H18: =((G18-F18)+(G19-F19)) -> 0 | K18: =IF(OR(C18="Cp"),1,"") | R18: =((Q18-P18)-(Q19-P19)) -> 0
D19: S
B20: =DATE(Calendrier!$A$1,_xlfn.SHEET()-1,(ROW()/2)-1) -> 43505 | D20: M | E20: =IF(C20="","",IF(OR(C20="Cp",C20="AM",C20="Re",C20="Fe"),"",1)) | H20: =((G20-F20)+(G21-F21)) -> 0 | K20: =IF(OR(C20="Cp"),1,"") | R20: =((Q20-P20)-(Q21-P21)) -> 0
D21: S
B22: =DATE(Calendrier!$A$1,_xlfn.SHEET()-1,(ROW()/2)-1) -> 43506 | D22: M | E22: =IF(C22="","",IF(OR(C22="Cp",C22="AM",C22="Re",C22="Fe"),"",1)) | H22: =((G22-F22)+(G23-F23)) -> 0 | K22: =IF(OR(C22="Cp"),1,"") | R22: =((Q22-P22)-(Q23-P23)) -> 0
D23: S
B24: =DATE(Calendrier!$A$1,_xlfn.SHEET()-1,(ROW()/2)-1) -> 43507 | D24: M | E24: =IF(C24="","",IF(OR(C24="Cp",C24="AM",C24="Re",C24="Fe"),"",1)) | H24: =((G24-F24)+(G25-F25)) -> 0 | K24: =IF(OR(C24="Cp"),1,"") | R24: =((Q24-P24)-(Q25-P25)) -> 0
D25: S
B26: =DATE(Calendrier!$A$1,_xlfn.SHEET()-1,(ROW()/2)-1) -> 43508 | D26: M | E26: =IF(C26="","",IF(OR(C26="Cp",C26="AM",C26="Re",C26="Fe"),"",1)) | H26: =((G26-F26)+(G27-F27)) -> 0 | K26: =IF(OR(C26="Cp"),1,"") | R26: =((Q26-P26)-(Q27-P27)) -> 0
D27: S
B28: =DATE(Calendrier!$A$1,_xlfn.SHEET()-1,(ROW()/2)-1) -> 43509 | D28: M | E28: =IF(C28="","",IF(OR(C28="Cp",C28="AM",C28="Re",C28="Fe"),"",1)) | H28: =((G28-F28)+(G29-F29)) -> 0 | K28: =IF(OR(C28="Cp"),1,"") | R28: =((Q28-P28)-(Q29-P29)) -> 0
A29: S 03 | D29: S
B30: =DATE(Calendrier!$A$1,_xlfn.SHEET()-1,(ROW()/2)-1) -> 43510 | D30: M | E30: =IF(C30="","",IF(OR(C30="Cp",C30="AM",C30="Re",C30="Fe"),"",1)) | H30: =((G30-F30)+(G31-F31)) -> 0 | K30: =IF(OR(C30="Cp"),1,"") | R30: =((Q30-P30)-(Q31-P31)) -> 0
D31: S
B32: =DATE(Calendrier!$A$1,_xlfn.SHEET()-1,(ROW()/2)-1) -> 43511 | D32: M | E32: =IF(C32="","",IF(OR(C32="Cp",C32="AM",C32="Re",C32="Fe"),"",1)) | H32: =((G32-F32)+(G33-F33)) -> 0 | K32: =IF(OR(C32="Cp"),1,"") | R32: =((Q32-P32)-(Q33-P33)) -> 0
D33: S
B34: =DATE(Calendrier!$A$1,_xlfn.SHEET()-1,(ROW()/2)-1) -> 43512 | D34: M | E34: =IF(C34="","",IF(OR(C34="Cp",C34="AM",C34="Re",C34="Fe"),"",1)) | H34: =((G34-F34)+(G35-F35)) -> 0 | K34: =IF(OR(C34="Cp"),1,"") | R34: =((Q34-P34)-(Q35-P35)) -> 0
D35: S
B36: =DATE(Calendrier!$A$1,_xlfn.SHEET()-1,(ROW()/2)-1) -> 43513 | D36: M | E36: =IF(C36="","",IF(OR(C36="Cp",C36="AM",C36="Re",C36="Fe"),"",1)) | H36: =((G36-F36)+(G37-F37)) -> 0 | K36: =IF(OR(C36="Cp"),1,"") | R36: =((Q36-P36)-(Q37-P37)) -> 0
D37: S
B38: =DATE(Calendrier!$A$1,_xlfn.SHEET()-1,(ROW()/2)-1) -> 43514 | D38: M | E38: =IF(C38="","",IF(OR(C38="Cp",C38="AM",C38="Re",C38="Fe"),"",1)) | H38: =((G38-F38)+(G39-F39)) -> 0 | R38: =((Q38-P38)-(Q39-P39)) -> 0
D39: S
B40: =DATE(Calendrier!$A$1,_xlfn.SHEET()-1,(ROW()/2)-1) -> 43515 | D40: M | E40: =IF(C40="","",IF(OR(C40="Cp",C40="AM",C40="Re",C40="Fe"),"",1)) | H40: =((G40-F40)+(G41-F41)) -> 0 | K40: =IF(OR(C40="Cp"),1,"") | R40: =((Q40-P40)-(Q41-P41)) -> 0
D41: S
B42: =DATE(Calendrier!$A$1,_xlfn.SHEET()-1,(ROW()/2)-1) -> 43516 | D42: M | E42: =IF(C42="","",IF(OR(C42="Cp",C42="AM",C42="Re",C42="Fe"),"",1)) | H42: =((G42-F42)+(G43-F43)) -> 0 | K42: =IF(OR(C42="Cp"),1,"") | R42: =((Q42-P42)-(Q43-P43)) -> 0
D43: S
B44: =DATE(Calendrier!$A$1,_xlfn.SHEET()-1,(ROW()/2)-1) -> 43517 | D44: M | E44: =IF(C44="","",IF(OR(C44="Cp",C44="AM",C44="Re",C44="Fe"),"",1)) | H44: =((G44-F44)+(G45-F45)) -> 0 | K44: =IF(OR(C44="Cp"),1,"") | R44: =((Q44-P44)-(Q45-P45)) -> 0
D45: S
B46: =DATE(Calendrier!$A$1,_xlfn.SHEET()-1,(ROW()/2)-1) -> 43518 | D46: M | E46: =IF(C46="","",IF(OR(C46="Cp",C46="AM",C46="Re",C46="Fe"),"",1)) | H46: =((G46-F46)+(G47-F47)) -> 0 | K46: =IF(OR(C46="Cp"),1,"") | R46: =((Q46-P46)-(Q47-P47)) -> 0
D47: S
B48: =DATE(Calendrier!$A$1,_xlfn.SHEET()-1,(ROW()/2)-1) -> 43519 | D48: M | E48: =IF(C48="","",IF(OR(C48="Cp",C48="AM",C48="Re",C48="Fe"),"",1)) | H48: =((G48-F48)+(G49-F49)) -> 0 | K48: =IF(OR(C48="Cp"),1,"") | R48: =((Q48-P48)-(Q49-P49)) -> 0
D49: S
B50: =DATE(Calendrier!$A$1,_xlfn.SHEET()-1,(ROW()/2)-1) -> 43520 | D50: M | E50: =IF(C50="","",IF(OR(C50="Cp",C50="AM",C50="Re",C50="Fe"),"",1)) | H50: =((G50-F50)+(G51-F51)) -> 0 | K50: =IF(OR(C50="Cp"),1,"") | R50: =((Q50-P50)-(Q51-P51)) -> 0
D51: S
B52: =DATE(Calendrier!$A$1,_xlfn.SHEET()-1,(ROW()/2)-1) -> 43521 | D52: M | E52: =IF(C52="","",IF(OR(C52="Cp",C52="AM",C52="Re",C52="Fe"),"",1)) | H52: =((G52-F52)+(G53-F53)) -> 0 | K52: =IF(OR(C52="Cp"),1,"") | R52: =((Q52-P52)-(Q53-P53)) -> 0
D53: S
B54: =DATE(Calendrier!$A$1,_xlfn.SHEET()-1,(ROW()/2)-1) -> 43522 | D54: M | E54: =IF(C54="","",IF(OR(C54="Cp",C54="AM",C54="Re",C54="Fe"),"",1)) | H54: =((G54-F54)+(G55-F55)) -> 0 | K54: =IF(OR(C54="Cp"),1,"") | R54: =((Q54-P54)-(Q55-P55)) -> 0
D55: S
B56: =DATE(Calendrier!$A$1,_xlfn.SHEET()-1,(ROW()/2)-1) -> 43523 | D56: M | E56: =IF(C56="","",IF(OR(C56="Cp",C56="AM",C56="Re",C56="Fe"),"",1)) | H56: =((G56-F56)+(G57-F57)) -> 0 | K56: =IF(OR(C56="Cp"),1,"") | R56: =((Q56-P56)-(Q57-P57)) -> 0
D57: S
B58: =DATE(Calendrier!$A$1,_xlfn.SHEET()-1,(ROW()/2)-1) -> 43524 | D58: M | E58: =IF(C58="","",IF(OR(C58="Cp",C58="AM",C58="Re",C58="Fe"),"",1)) | H58: =((G58-F58)+(G59-F59)) -> 0 | K58: =IF(OR(C58="Cp"),1,"") | R58: =((Q58-P58)-(Q59-P59)) -> 0
D59: S
B60: =IF(MONTH(DATE(Calendrier!$A$1,_xlfn.SHEET()-1,(ROW()/2)-1))>_xlfn.SHEET()-1,"",DATE(Calendrier!$A$1,_xlfn.SHEET()-1,(ROW()/2)-1)) | D60: M | E60: =IF(C60="","",IF(OR(C60="Cp",C60="AM",C60="Re",C60="Fe"),"",1)) | H60: =((G60-F60)+(G61-F61)) -> 0 | K60: =IF(OR(C60="Cp"),1,"") | R60: =((Q60-P60)-(Q61-P61)) -> 0
D61: S
B62: TOTAUX | E62: =SUM(E4:E61) -> 0 | F62: =SUM(H4:H61) -> 4 | I62: =SUM(I4:I61) -> 0 | J62: =SUM(J4:J61) -> 0 | K62: =SUM(K4:K61) -> 0 | N62: TOTAUX | O62: =SUM(O4:O61) -> 0 | R62: =SUM(R4:R30) -> 4 | S62: =SUM(S4:S61) -> 0 | T62: =SUM(T4:T61) -> 0 | U62: =SUM(U4:U61) -> 0 | V62: =SUM(V4:V61) -> 0 | W62: =SUM(W4:W61) -> 0

Sheet Mar
Y2: =SUM(O4:O30) -> 0
A3: S 01 | B3: DATE | C3: SERV | E3: J | F3: HA | G3: HD | I3: K | J3: Ser | K3: CP | L3: MOTIF DU DEPLACEMENT | O3: Panniers | P3: HSD | Q3: HSF | R3: H.Sup | S3: Maj Nuit | T3: Maj Dim. | U3: Maj J.Fé. | V3: Astreinte | W3: SSLIA | Y3: =SUM(O30:O30) -> 0
B4: =DATE(Calendrier!$A$1,_xlfn.SHEET()-1,(ROW()/2)-1) -> 43525 | D4: M | E4: =IF(C4="","",IF(OR(C4="Cp",C4="AM",C4="Re",C4="Fe"),"",1)) | F4: 8 | G4: 10 | H4: =((G4-F4)+(G5-F5)) -> 2 | K4: =IF(OR(C4="Cp"),1,"") | P4: 18 | Q4: 20 | R4: =((Q4-P4)-(Q5-P5)) -> 2 | Y4: =SUM(#REF!) -> #REF!
A5: =SUM(H4:H15)+SUM(R4:R15) -> 4 | D5: S
B6: =DATE(Calendrier!$A$1,_xlfn.SHEET()-1,(ROW()/2)-1) -> 43526 | D6: M | E6: =IF(C6="","",IF(OR(C6="Cp",C6="AM",C6="Re",C6="Fe"),"",1)) | H6: =((G6-F6)+(G7-F7)) -> 0 | R6: =((Q6-P6)-(Q7-P7)) -> 0 | Y6: =SUM(#REF!) -> #REF!
D7: S
B8: =DATE(Calendrier!$A$1,_xlfn.SHEET()-1,(ROW()/2)-1) -> 43527 | D8: M | E8: =IF(C8="","",IF(OR(C8="Cp",C8="AM",C8="Re",C8="Fe"),"",1)) | H8: =((G8-F8)+(G9-F9)) -> 0 | K8: =IF(OR(C8="Cp"),1,"") | R8: =((Q8-P8)-(Q9-P9)) -> 0
D9: S
B10: =DATE(Calendrier!$A$1,_xlfn.SHEET()-1,(ROW()/2)-1) -> 43528 | D10: M | E10: =IF(C10="","",IF(OR(C10="Cp",C10="AM",C10="Re",C10="Fe"),"",1)) | H10: =((G10-F10)+(G11-F11)) -> 0 | K10: =IF(OR(C10="Cp"),1,"") | R10: =((Q10-P10)-(Q11-P11)) -> 0
D11: S
B12: =DATE(Calendrier!$A$1,_xlfn.SHEET()-1,(ROW()/2)-1) -> 43529 | D12: M | E12: =IF(C12="","",IF(OR(C12="Cp",C12="AM",C12="Re",C12="Fe"),"",1)) | H12: =((G12-F12)+(G13-F13)) -> 0 | K12: =IF(OR(C12="Cp"),1,"") | R12: =((Q12-P12)-(Q13-P13)) -> 0
D13: S
B14: =DATE(Calendrier!$A$1,_xlfn.SHEET()-1,(ROW()/2)-1) -> 43530 | D14: M | E14: =IF(C14="","",IF(OR(C14="Cp",C14="AM",C14="Re",C14="Fe"),"",1)) | H14: =((G14-F14)+(G15-F15)) -> 0 | K14: =IF(OR(C14="Cp"),1,"") | R14: =((Q14-P14)-(Q15-P15)) -> 0
A15: S 02 | D15: S
B16: =DATE(Calendrier!$A$1,_xlfn.SHEET()-1,(ROW()/2)-1) -> 43531 | D16: M | E16: =IF(C16="","",IF(OR(C16="Cp",C16="AM",C16="Re",C16="Fe"),"",1)) | F16: 8 | G16: 10 | H16: =((G16-F16)+(G17-F17)) -> 2 | K16: =IF(OR(C16="Cp"),1,"") | P16: 18 | Q16: 20 | R16: =((Q16-P16)-(Q17-P17)) -> 2
A17: =SUM(H16:H31)+SUM(R16:R31) -> 4 | D17: S
B18: =DATE(Calendrier!$A$1,_xlfn.SHEET()-1,(ROW()/2)-1) -> 43532 | D18: M | E18: =IF(C18="","",IF(OR(C18="Cp",C18="AM",C18="Re",C18="Fe"),"",1)) | H18: =((G18-F18)+(G19-F19)) -> 0 | K18: =IF(OR(C18="Cp"),1,"") | R18: =((Q18-P18)-(Q19-P19)) -> 0
D19: S
B20: =DATE(Calendrier!$A$1,_xlfn.SHEET()-1,(ROW()/2)-1) -> 43533 | D20: M | E20: =IF(C20="","",IF(OR(C20="Cp",C20="AM",C20="Re",C20="Fe"),"",1)) | H20: =((G20-F20)+(G21-F21)) -> 0 | K20: =IF(OR(C20="Cp"),1,"") | R20: =((Q20-P20)-(Q21-P21)) -> 0
D21: S
B22: =DATE(Calendrier!$A$1,_xlfn.SHEET()-1,(ROW()/2)-1) -> 43534 | D22: M | E22: =IF(C22="","",IF(OR(C22="Cp",C22="AM",C22="Re",C22="Fe"),"",1)) | H22: =((G22-F22)+(G23-F23)) -> 0 | K22: =IF(OR(C22="Cp"),1,"") | R22: =((Q22-P22)-(Q23-P23)) -> 0
D23: S
B24: =DATE(Calendrier!$A$1,_xlfn.SHEET()-1,(ROW()/2)-1) -> 43535 | D24: M | E24: =IF(C24="","",IF(OR(C24="Cp",C24="AM",C24="Re",C24="Fe"),"",1)) | H24: =((G24-F24)+(G25-F25)) -> 0 | K24: =IF(OR(C24="Cp"),1,"") | R24: =((Q24-P24)-(Q25-P25)) -> 0
D25: S
B26: =DATE(Calendrier!$A$1,_xlfn.SHEET()-1,(ROW()/2)-1) -> 43536 | D26: M | E26: =IF(C26="","",IF(OR(C26="Cp",C26="AM",C26="Re",C26="Fe"),"",1)) | H26: =((G26-F26)+(G27-F27)) -> 0 | K26: =IF(OR(C26="Cp"),1,"") | R26: =((Q26-P26)-(Q27-P27)) -> 0
D27: S
B28: =DATE(Calendrier!$A$1,_xlfn.SHEET()-1,(ROW()/2)-1) -> 43537 | D28: M | E28: =IF(C28="","",IF(OR(C28="Cp",C28="AM",C28="Re",C28="Fe"),"",1)) | H28: =((G28-F28)+(G29-F29)) -> 0 | K28: =IF(OR(C28="Cp"),1,"") | R28: =((Q28-P28)-(Q29-P29)) -> 0
A29: S 03 | D29: S
B30: =DATE(Calendrier!$A$1,_xlfn.SHEET()-1,(ROW()/2)-1) -> 43538 | D30: M | E30: =IF(C30="","",IF(OR(C30="Cp",C30="AM",C30="Re",C30="Fe"),"",1)) | H30: =((G30-F30)+(G31-F31)) -> 0 | K30: =IF(OR(C30="Cp"),1,"") | R30: =((Q30-P30)-(Q31-P31)) -> 0
D31: S
B32: =DATE(Calendrier!$A$1,_xlfn.SHEET()-1,(ROW()/2)-1) -> 43539 | D32: M | E32: =IF(C32="","",IF(OR(C32="Cp",C32="AM",C32="Re",C32="Fe"),"",1)) | H32: =((G32-F32)+(G33-F33)) -> 0 | K32: =IF(OR(C32="Cp"),1,"") | R32: =((Q32-P32)-(Q33-P33)) -> 0
D33: S
B34: =DATE(Calendrier!$A$1,_xlfn.SHEET()-1,(ROW()/2)-1) -> 43540 | D34: M | E34: =IF(C34="","",IF(OR(C34="Cp",C34="AM",C34="Re",C34="Fe"),"",1)) | H34: =((G34-F34)+(G35-F35)) -> 0 | K34: =IF(OR(C34="Cp"),1,"") | R34: =((Q34-P34)-(Q35-P35)) -> 0
D35: S
B36: =DATE(Calendrier!$A$1,_xlfn.SHEET()-1,(ROW()/2)-1) -> 43541 | D36: M | E36: =IF(C36="","",IF(OR(C36="Cp",C36="AM",C36="Re",C36="Fe"),"",1)) | H36: =((G36-F36)+(G37-F37)) -> 0 | K36: =IF(OR(C36="Cp"),1,"") | R36: =((Q36-P36)-(Q37-P37)) -> 0
D37: S
B38: =DATE(Calendrier!$A$1,_xlfn.SHEET()-1,(ROW()/2)-1) -> 43542 | D38: M | E38: =IF(C38="","",IF(OR(C38="Cp",C38="AM",C38="Re",C38="Fe"),"",1)) | H38: =((G38-F38)+(G39-F39)) -> 0 | R38: =((Q38-P38)-(Q39-P39)) -> 0
D39: S
B40: =DATE(Calendrier!$A$1,_xlfn.SHEET()-1,(ROW()/2)-1) -> 43543 | D40: M | E40: =IF(C40="","",IF(OR(C40="Cp",C40="AM",C40="Re",C40="Fe"),"",1)) | H40: =((G40-F40)+(G41-F41)) -> 0 | K40: =IF(OR(C40="Cp"),1,"") | R40: =((Q40-P40)-(Q41-P41)) -> 0
D41: S
B42: =DATE(Calendrier!$A$1,_xlfn.SHEET()-1,(ROW()/2)-1) -> 43544 | D42: M | E42: =IF(C42="","",IF(OR(C42="Cp",C42="AM",C42="Re",C42="Fe"),"",1)) | H42: =((G42-F42)+(G43-F43)) -> 0 | K42: =IF(OR(C42="Cp"),1,"") | R42: =((Q42-P42)-(Q43-P43)) -> 0
D43: S
B44: =DATE(Calendrier!$A$1,_xlfn.SHEET()-1,(ROW()/2)-1) -> 43545 | D44: M | E44: =IF(C44="","",IF(OR(C44="Cp",C44="AM",C44="Re",C44="Fe"),"",1)) | H44: =((G44-F44)+(G45-F45)) -> 0 | K44: =IF(OR(C44="Cp"),1,"") | R44: =((Q44-P44)-(Q45-P45)) -> 0
D45: S
B46: =DATE(Calendrier!$A$1,_xlfn.SHEET()-1,(ROW()/2)-1) -> 43546 | D46: M | E46: =IF(C46="","",IF(OR(C46="Cp",C46="AM",C46="Re",C46="Fe"),"",1)) | H46: =((G46-F46)+(G47-F47)) -> 0 | K46: =IF(OR(C46="Cp"),1,"") | R46: =((Q46-P46)-(Q47-P47)) -> 0
D47: S
B48: =DATE(Calendrier!$A$1,_xlfn.SHEET()-1,(ROW()/2)-1) -> 43547 | D48: M | E48: =IF(C48="","",IF(OR(C48="Cp",C48="AM",C48="Re",C48="Fe"),"",1)) | H48: =((G48-F48)+(G49-F49)) -> 0 | K48: =IF(OR(C48="Cp"),1,"") | R48: =((Q48-P48)-(Q49-P49)) -> 0
D49: S
B50: =DATE(Calendrier!$A$1,_xlfn.SHEET()-1,(ROW()/2)-1) -> 43548 | D50: M | E50: =IF(C50="","",IF(OR(C50="Cp",C50="AM",C50="Re",C50="Fe"),"",1)) | H50: =((G50-F50)+(G51-F51)) -> 0 | K50: =IF(OR(C50="Cp"),1,"") | R50: =((Q50-P50)-(Q51-P51)) -> 0
D51: S
B52: =DATE(Calendrier!$A$1,_xlfn.SHEET()-1,(ROW()/2)-1) -> 43549 | D52: M | E52: =IF(C52="","",IF(OR(C52="Cp",C52="AM",C52="Re",C52="Fe"),"",1)) | H52: =((G52-F52)+(G53-F53)) -> 0 | K52: =IF(OR(C52="Cp"),1,"") | R52: =((Q52-P52)-(Q53-P53)) -> 0
D53: S
B54: =DATE(Calendrier!$A$1,_xlfn.SHEET()-1,(ROW()/2)-1) -> 43550 | D54: M | E54: =IF(C54="","",IF(OR(C54="Cp",C54="AM",C54="Re",C54="Fe"),"",1)) | H54: =((G54-F54)+(G55-F55)) -> 0 | K54: =IF(OR(C54="Cp"),1,"") | R54: =((Q54-P54)-(Q55-P55)) -> 0
D55: S
B56: =DATE(Calendrier!$A$1,_xlfn.SHEET()-1,(ROW()/2)-1) -> 43551 | D56: M | E56: =IF(C56="","",IF(OR(C56="Cp",C56="AM",C56="Re",C56="Fe"),"",1)) | H56: =((G56-F56)+(G57-F57)) -> 0 | K56: =IF(OR(C56="Cp"),1,"") | R56: =((Q56-P56)-(Q57-P57)) -> 0
D57: S
B58: =DATE(Calendrier!$A$1,_xlfn.SHEET()-1,(ROW()/2)-1) -> 43552 | D58: M | E58: =IF(C58="","",IF(OR(C58="Cp",C58="AM",C58="Re",C58="Fe"),"",1)) | H58: =((G58-F58)+(G59-F59)) -> 0 | K58: =IF(OR(C58="Cp"),1,"") | R58: =((Q58-P58)-(Q59-P59)) -> 0
D59: S
B60: =DATE(Calendrier!$A$1,_xlfn.SHEET()-1,(ROW()/2)-1) -> 43553 | D60: M | E60: =IF(C60="","",IF(OR(C60="Cp",C60="AM",C60="Re",C60="Fe"),"",1)) | H60: =((G60-F60)+(G61-F61)) -> 0 | K60: =IF(OR(C60="Cp"),1,"") | R60: =((Q60-P60)-(Q61-P61)) -> 0
D61: S
B62: =DATE(Calendrier!$A$1,_xlfn.SHEET()-1,(ROW()/2)-1) -> 43554 | D62: M | E62: =IF(C62="","",IF(OR(C62="Cp",C62="AM",C62="Re",C62="Fe"),"",1)) | H62: =((G62-F62)+(G63-F63)) -> 0 | K62: =IF(OR(C62="Cp"),1,"") | R62: =((Q62-P62)-(Q63-P63)) -> 0
D63: S
B64: =DATE(Calendrier!$A$1,_xlfn.SHEET()-1,(ROW()/2)-1) -> 43555 | D64: M | E64: =IF(C64="","",IF(OR(C64="Cp",C64="AM",C64="Re",C64="Fe"),"",1)) | H64: =((G64-F64)+(G65-F65)) -> 0 | K64: =IF(OR(C64="Cp"),1,"") | R64: =((Q64-P64)-(Q65-P65)) -> 0
D65: S
B66: TOTAUX | E66: =SUM(E4:E65) -> 0 | F66: =SUM(H4:H65) -> 4 | I66: =SUM(I4:I65) -> 0 | J66: =SUM(J4:J65) -> 0 | K66: =SUM(K4:K65) -> 0 | N66: TOTAUX | O66: =SUM(O4:O65) -> 0 | R66: =SUM(R4:R30) -> 4 | S66: =SUM(S4:S65) -> 0 | T66: =SUM(T4:T65) -> 0 | U66: =SUM(U4:U65) -> 0 | V66: =SUM(V4:V65) -> 0 | W66: =SUM(W4:W65) -> 0

Sheet Avr
Y2: =SUM(O4:O30) -> 0
A3: S 01 | B3: DATE | C3: SERV | E3: J | F3: HA | G3: HD | I3: K | J3: Ser | K3: CP | L3: MOTIF DU DEPLACEMENT | O3: Panniers | P3: HSD | Q3: HSF | R3: H.Sup | S3: Maj Nuit | T3: Maj Dim. | U3: Maj J.Fé. | V3: Astreinte | W3: SSLIA | Y3: =SUM(O30:O30) -> 0
B4: =DATE(Calendrier!$A$1,_xlfn.SHEET()-1,(ROW()/2)-1) -> 43556 | D4: M | E4: =IF(C4="","",IF(OR(C4="Cp",C4="AM",C4="Re",C4="Fe"),"",1)) | F4: 8 | G4: 10 | H4: =((G4-F4)+(G5-F5)) -> 2 | K4: =IF(OR(C4="Cp"),1,"") | P4: 18 | Q4: 20 | R4: =((Q4-P4)-(Q5-P5)) -> 2 | Y4: =SUM(#REF!) -> #REF!
A5: =SUM(H4:H15)+SUM(R4:R15) -> 4 | D5: S
B6: =DATE(Calendrier!$A$1,_xlfn.SHEET()-1,(ROW()/2)-1) -> 43557 | D6: M | E6: =IF(C6="","",IF(OR(C6="Cp",C6="AM",C6="Re",C6="Fe"),"",1)) | H6: =((G6-F6)+(G7-F7)) -> 0 | R6: =((Q6-P6)-(Q7-P7)) -> 0 | Y6: =SUM(#REF!) -> #REF!
D7: S
B8: =DATE(Calendrier!$A$1,_xlfn.SHEET()-1,(ROW()/2)-1) -> 43558 | D8: M | E8: =IF(C8="","",IF(OR(C8="Cp",C8="AM",C8="Re",C8="Fe"),"",1)) | H8: =((G8-F8)+(G9-F9)) -> 0 | K8: =IF(OR(C8="Cp"),1,"") | R8: =((Q8-P8)-(Q9-P9)) -> 0
D9: S
B10: =DATE(Calendrier!$A$1,_xlfn.SHEET()-1,(ROW()/2)-1) -> 43559 | D10: M | E10: =IF(C10="","",IF(OR(C10="Cp",C10="AM",C10="Re",C10="Fe"),"",1)) | H10: =((G10-F10)+(G11-F11)) -> 0 | K10: =IF(OR(C10="Cp"),1,"") | R10: =((Q10-P10)-(Q11-P11)) -> 0
D11: S
B12: =DATE(Calendrier!$A$1,_xlfn.SHEET()-1,(ROW()/2)-1) -> 43560 | D12: M | E12: =IF(C12="","",IF(OR(C12="Cp",C12="AM",C12="Re",C12="Fe"),"",1)) | H12: =((G12-F12)+(G13-F13)) -> 0 | K12: =IF(OR(C12="Cp"),1,"") | R12: =((Q12-P12)-(Q13-P13)) -> 0
D13: S
B14: =DATE(Calendrier!$A$1,_xlfn.SHEET()-1,(ROW()/2)-1) -> 43561 | D14: M | E14: =IF(C14="","",IF(OR(C14="Cp",C14="AM",C14="Re",C14="Fe"),"",1)) | H14: =((G14-F14)+(G15-F15)) -> 0 | K14: =IF(OR(C14="Cp"),1,"") | R14: =((Q14-P14)-(Q15-P15)) -> 0
A15: S 02 | D15: S
B16: =DATE(Calendrier!$A$1,_xlfn.SHEET()-1,(ROW()/2)-1) -> 43562 | D16: M | E16: =IF(C16="","",IF(OR(C16="Cp",C16="AM",C16="Re",C16="Fe"),"",1)) | F16: 8 | G16: 10 | H16: =((G16-F16)+(G17-F17)) -> 2 | K16: =IF(OR(C16="Cp"),1,"") | P16: 18 | Q16: 20 | R16: =((Q16-P16)-(Q17-P17)) -> 2
A17: =SUM(H16:H31)+SUM(R16:R31) -> 4 | D17: S
B18: =DATE(Calendrier!$A$1,_xlfn.SHEET()-1,(ROW()/2)-1) -> 43563 | D18: M | E18: =IF(C18="","",IF(OR(C18="Cp",C18="AM",C18="Re",C18="Fe"),"",1)) | H18: =((G18-F18)+(G19-F19)) -> 0 | K18: =IF(OR(C18="Cp"),1,"") | R18: =((Q18-P18)-(Q19-P19)) -> 0
D19: S
B20: =DATE(Calendrier!$A$1,_xlfn.SHEET()-1,(ROW()/2)-1) -> 43564 | D20: M | E20: =IF(C20="","",IF(OR(C20="Cp",C20="AM",C20="Re",C20="Fe"),"",1)) | H20: =((G20-F20)+(G21-F21)) -> 0 | K20: =IF(OR(C20="Cp"),1,"") | R20: =((Q20-P20)-(Q21-P21)) -> 0
D21: S
B22: =DATE(Calendrier!$A$1,_xlfn.SHEET()-1,(ROW()/2)-1) -> 43565 | D22: M | E22: =IF(C22="","",IF(OR(C22="Cp",C22="AM",C22="Re",C22="Fe"),"",1)) | H22: =((G22-F22)+(G23-F23)) -> 0 | K22: =IF(OR(C22="Cp"),1,"") | R22: =((Q22-P22)-(Q23-P23)) -> 0
D23: S
B24: =DATE(Calendrier!$A$1,_xlfn.SHEET()-1,(ROW()/2)-1) -> 43566 | D24: M | E24: =IF(C24="","",IF(OR(C24="Cp",C24="AM",C24="Re",C24="Fe"),"",1)) | H24: =((G24-F24)+(G25-F25)) -> 0 | K24: =IF(OR(C24="Cp"),1,"") | R24: =((Q24-P24)-(Q25-P25)) -> 0
D25: S
B26: =DATE(Calendrier!$A$1,_xlfn.SHEET()-1,(ROW()/2)-1) -> 43567 | D26: M | E26: =IF(C26="","",IF(OR(C26="Cp",C26="AM",C26="Re",C26="Fe"),"",1)) | H26: =((G26-F26)+(G27-F27)) -> 0 | K26: =IF(OR(C26="Cp"),1,"") | R26: =((Q26-P26)-(Q27-P27)) -> 0
D27: S
B28: =DATE(Calendrier!$A$1,_xlfn.SHEET()-1,(ROW()/2)-1) -> 43568 | D28: M | E28: =IF(C28="","",IF(OR(C28="Cp",C28="AM",C28="Re",C28="Fe"),"",1)) | H28: =((G28-F28)+(G29-F29)) -> 0 | K28: =IF(OR(C28="Cp"),1,"") | R28: =((Q28-P28)-(Q29-P29)) -> 0
A29: S 03 | D29: S
B30: =DATE(Calendrier!$A$1,_xlfn.SHEET()-1,(ROW()/2)-1) -> 43569 | D30: M | E30: =IF(C30="","",IF(OR(C30="Cp",C30="AM",C30="Re",C30="Fe"),"",1)) | H30: =((G30-F30)+(G31-F31)) -> 0 | K30: =IF(OR(C30="Cp"),1,"") | R30: =((Q30-P30)-(Q31-P31)) -> 0
D31: S
B32: =DATE(Calendrier!$A$1,_xlfn.SHEET()-1,(ROW()/2)-1) -> 43570 | D32: M | E32: =IF(C32="","",IF(OR(C32="Cp",C32="AM",C32="Re",C32="Fe"),"",1)) | H32: =((G32-F32)+(G33-F33)) -> 0 | K32: =IF(OR(C32="Cp"),1,"") | R32: =((Q32-P32)-(Q33-P33)) -> 0
D33: S
B34: =DATE(Calendrier!$A$1,_xlfn.SHEET()-1,(ROW()/2)-1) -> 43571 | D34: M | E34: =IF(C34="","",IF(OR(C34="Cp",C34="AM",C34="Re",C34="Fe"),"",1)) | H34: =((G34-F34)+(G35-F35)) -> 0 | K34: =IF(OR(C34="Cp"),1,"") | R34: =((Q34-P34)-(Q35-P35)) -> 0
D35: S
B36: =DATE(Calendrier!$A$1,_xlfn.SHEET()-1,(ROW()/2)-1) -> 43572 | D36: M | E36: =IF(C36="","",IF(OR(C36="Cp",C36="AM",C36="Re",C36="Fe"),"",1)) | H36: =((G36-F36)+(G37-F37)) -> 0 | K36: =IF(OR(C36="Cp"),1,"") | R36: =((Q36-P36)-(Q37-P37)) -> 0
D37: S
B38: =DATE(Calendrier!$A$1,_xlfn.SHEET()-1,(ROW()/2)-1) -> 43573 | D38: M | E38: =IF(C38="","",IF(OR(C38="Cp",C38="AM",C38="Re",C38="Fe"),"",1)) | H38: =((G38-F38)+(G39-F39)) -> 0 | R38: =((Q38-P38)-(Q39-P39)) -> 0
D39: S
B40: =DATE(Calendrier!$A$1,_xlfn.SHEET()-1,(ROW()/2)-1) -> 43574 | D40: M | E40: =IF(C40="","",IF(OR(C40="Cp",C40="AM",C40="Re",C40="Fe"),"",1)) | H40: =((G40-F40)+(G41-F41)) -> 0 | K40: =IF(OR(C40="Cp"),1,"") | R40: =((Q40-P40)-(Q41-P41)) -> 0
D41: S
B42: =DATE(Calendrier!$A$1,_xlfn.SHEET()-1,(ROW()/2)-1) -> 43575 | D42: M | E42: =IF(C42="","",IF(OR(C42="Cp",C42="AM",C42="Re",C42="Fe"),"",1)) | H42: =((G42-F42)+(G43-F43)) -> 0 | K42: =IF(OR(C42="Cp"),1,"") | R42: =((Q42-P42)-(Q43-P43)) -> 0
D43: S
B44: =DATE(Calendrier!$A$1,_xlfn.SHEET()-1,(ROW()/2)-1) -> 43576 | D44: M | E44: =IF(C44="","",IF(OR(C44="Cp",C44="AM",C44="Re",C44="Fe"),"",1)) | H44: =((G44-F44)+(G45-F45)) -> 0 | K44: =IF(OR(C44="Cp"),1,"") | R44: =((Q44-P44)-(Q45-P45)) -> 0
D45: S
B46: =DATE(Calendrier!$A$1,_xlfn.SHEET()-1,(ROW()/2)-1) -> 43577 | D46: M | E46: =IF(C46="","",IF(OR(C46="Cp",C46="AM",C46="Re",C46="Fe"),"",1)) | H46: =((G46-F46)+(G47-F47)) -> 0 | K46: =IF(OR(C46="Cp"),1,"") | R46: =((Q46-P46)-(Q47-P47)) -> 0
D47: S
B48: =DATE(Calendrier!$A$1,_xlfn.SHEET()-1,(ROW()/2)-1) -> 43578 | D48: M | E48: =IF(C48="","",IF(OR(C48="Cp",C48="AM",C48="Re",C48="Fe"),"",1)) | H48: =((G48-F48)+(G49-F49)) -> 0 | K48: =IF(OR(C48="Cp"),1,"") | R48: =((Q48-P48)-(Q49-P49)) -> 0
D49: S
B50: =DATE(Calendrier!$A$1,_xlfn.SHEET()-1,(ROW()/2)-1) -> 43579 | D50: M | E50: =IF(C50="","",IF(OR(C50="Cp",C50="AM",C50="Re",C50="Fe"),"",1)) | H50: =((G50-F50)+(G51-F51)) -> 0 | K50: =IF(OR(C50="Cp"),1,"") | R50: =((Q50-P50)-(Q51-P51)) -> 0
D51: S
B52: =DATE(Calendrier!$A$1,_xlfn.SHEET()-1,(ROW()/2)-1) -> 43580 | D52: M | E52: =IF(C52="","",IF(OR(C52="Cp",C52="AM",C52="Re",C52="Fe"),"",1)) | H52: =((G52-F52)+(G53-F53)) -> 0 | K52: =IF(OR(C52="Cp"),1,"") | R52: =((Q52-P52)-(Q53-P53)) -> 0
D53: S
B54: =DATE(Calendrier!$A$1,_xlfn.SHEET()-1,(ROW()/2)-1) -> 43581 | D54: M | E54: =IF(C54="","",IF(OR(C54="Cp",C54="AM",C54="Re",C54="Fe"),"",1)) | H54: =((G54-F54)+(G55-F55)) -> 0 | K54: =IF(OR(C54="Cp"),1,"") | R54: =((Q54-P54)-(Q55-P55)) -> 0
D55: S
B56: =DATE(Calendrier!$A$1,_xlfn.SHEET()-1,(ROW()/2)-1) -> 43582 | D56: M | E56: =IF(C56="","",IF(OR(C56="Cp",C56="AM",C56="Re",C56="Fe"),"",1)) | H56: =((G56-F56)+(G57-F57)) -> 0 | K56: =IF(OR(C56="Cp"),1,"") | R56: =((Q56-P56)-(Q57-P57)) -> 0
D57: S
B58: =DATE(Calendrier!$A$1,_xlfn.SHEET()-1,(ROW()/2)-1) -> 43583 | D58: M | E58: =IF(C58="","",IF(OR(C58="Cp",C58="AM",C58="Re",C58="Fe"),"",1)) | H58: =((G58-F58)+(G59-F59)) -> 0 | K58: =IF(OR(C58="Cp"),1,"") | R58: =((Q58-P58)-(Q59-P59)) -> 0
D59: S
B60: =DATE(Calendrier!$A$1,_xlfn.SHEET()-1,(ROW()/2)-1) -> 43584 | D60: M | E60: =IF(C60="","",IF(OR(C60="Cp",C60="AM",C60="Re",C60="Fe"),"",1)) | H60: =((G60-F60)+(G61-F61)) -> 0 | K60: =IF(OR(C60="Cp"),1,"") | R60: =((Q60-P60)-(Q61-P61)) -> 0
D61: S
B62: =DATE(Calendrier!$A$1,_xlfn.SHEET()-1,(ROW()/2)-1) -> 43585 | D62: M | E62: =IF(C62="","",IF(OR(C62="Cp",C62="AM",C62="Re",C62="Fe"),"",1)) | H62: =((G62-F62)+(G63-F63)) -> 0 | K62: =IF(OR(C62="Cp"),1,"") | R62: =((Q62-P62)-(Q63-P63)) -> 0
D63: S
B64: 31 | D64: M | E64: =IF(C64="","",IF(OR(C64="Cp",C64="AM",C64="Re",C64="Fe"),"",1)) | H64: =((G64-F64)+(G65-F65)) -> 0 | K64: =IF(OR(C64="Cp"),1,"") | R64: =((Q64-P64)-(Q65-P65)) -> 0
D65: S
B66: TOTAUX | E66: =SUM(E4:E65) -> 0 | F66: =SUM(H4:H65) -> 4 | I66: =SUM(I4:I65) -> 0 | J66: =SUM(J4:J65) -> 0 | K66: =SUM(K4:K65) -> 0 | N66: TOTAUX | O66: =SUM(O4:O65) -> 0 | R66: =SUM(R4:R30) -> 4 | S66: =SUM(S4:S65) -> 0 | T66: =SUM(T4:T65) -> 0 | U66: =SUM(U4:U65) -> 0 | V66: =SUM(V4:V65) -> 0 | W66: =SUM(W4:W65) -> 0

Sheet Mai
Y2: =SUM(O4:O30) -> 0
A3: S 01 | B3: DATE | C3: SERV | E3: J | F3: HA | G3: HD | I3: K | J3: Ser | K3: CP | L3: MOTIF DU DEPLACEMENT | O3: Panniers | P3: HSD | Q3: HSF | R3: H.Sup | S3: Maj Nuit | T3: Maj Dim. | U3: Maj J.Fé. | V3: Astreinte | W3: SSLIA | Y3: =SUM(O30:O30) -> 0
B4: =DATE(Calendrier!$A$1,_xlfn.SHEET()-1,(ROW()/2)-1) -> 43586 | D4: M | E4: =IF(C4="","",IF(OR(C4="Cp",C4="AM",C4="Re",C4="Fe"),"",1)) | F4: 8 | G4: 10 | H4: =((G4-F4)+(G5-F5)) -> 2 | K4: =IF(OR(C4="Cp"),1,"") | P4: 18 | Q4: 20 | R4: =((Q4-P4)-(Q5-P5)) -> 2 | Y4: =SUM(#REF!) -> #REF!
A5: =SUM(H4:H15)+SUM(R4:R15) -> 4 | D5: S
B6: =DATE(Calendrier!$A$1,_xlfn.SHEET()-1,(ROW()/2)-1) -> 43587 | D6: M | E6: =IF(C6="","",IF(OR(C6="Cp",C6="AM",C6="Re",C6="Fe"),"",1)) | H6: =((G6-F6)+(G7-F7)) -> 0 | R6: =((Q6-P6)-(Q7-P7)) -> 0 | Y6: =SUM(#REF!) -> #REF!
D7: S
B8: =DATE(Calendrier!$A$1,_xlfn.SHEET()-1,(ROW()/2)-1) -> 43588 | D8: M | E8: =IF(C8="","",IF(OR(C8="Cp",C8="AM",C8="Re",C8="Fe"),"",1)) | H8: =((G8-F8)+(G9-F9)) -> 0 | K8: =IF(OR(C8="Cp"),1,"") | R8: =((Q8-P8)-(Q9-P9)) -> 0
D9: S
B10: =DATE(Calendrier!$A$1,_xlfn.SHEET()-1,(ROW()/2)-1) -> 43589 | D10: M | E10: =IF(C10="","",IF(OR(C10="Cp",C10="AM",C10="Re",C10="Fe"),"",1)) | H10: =((G10-F10)+(G11-F11)) -> 0 | K10: =IF(OR(C10="Cp"),1,"") | R10: =((Q10-P10)-(Q11-P11)) -> 0
D11: S
B12: =DATE(Calendrier!$A$1,_xlfn.SHEET()-1,(ROW()/2)-1) -> 43590 | D12: M | E12: =IF(C12="","",IF(OR(C12="Cp",C12="AM",C12="Re",C12="Fe"),"",1)) | H12: =((G12-F12)+(G13-F13)) -> 0 | K12: =IF(OR(C12="Cp"),1,"") | R12: =((Q12-P12)-(Q13-P13)) -> 0
D13: S
B14: =DATE(Calendrier!$A$1,_xlfn.SHEET()-1,(ROW()/2)-1) -> 43591 | D14: M | E14: =IF(C14="","",IF(OR(C14="Cp",C14="AM",C14="Re",C14="Fe"),"",1)) | H14: =((G14-F14)+(G15-F15)) -> 0 | K14: =IF(OR(C14="Cp"),1,"") | R14: =((Q14-P14)-(Q15-P15)) -> 0
A15: S 02 | D15: S
B16: =DATE(Calendrier!$A$1,_xlfn.SHEET()-1,(ROW()/2)-1) -> 43592 | D16: M | E16: =IF(C16="","",IF(OR(C16="Cp",C16="AM",C16="Re",C16="Fe"),"",1)) | F16: 8 | G16: 10 | H16: =((G16-F16)+(G17-F17)) -> 2 | K16: =IF(OR(C16="Cp"),1,"") | P16: 18 | Q16: 20 | R16: =((Q16-P16)-(Q17-P17)) -> 2
A17: =SUM(H16:H31)+SUM(R16:R31) -> 4 | D17: S
B18: =DATE(Calendrier!$A$1,_xlfn.SHEET()-1,(ROW()/2)-1) -> 43593 | D18: M | E18: =IF(C18="","",IF(OR(C18="Cp",C18="AM",C18="Re",C18="Fe"),"",1)) | H18: =((G18-F18)+(G19-F19)) -> 0 | K18: =IF(OR(C18="Cp"),1,"") | R18: =((Q18-P18)-(Q19-P19)) -> 0
D19: S
B20: =DATE(Calendrier!$A$1,_xlfn.SHEET()-1,(ROW()/2)-1) -> 43594 | D20: M | E20: =IF(C20="","",IF(OR(C20="Cp",C20="AM",C20="Re",C20="Fe"),"",1)) | H20: =((G20-F20)+(G21-F21)) -> 0 | K20: =IF(OR(C20="Cp"),1,"") | R20: =((Q20-P20)-(Q21-P21)) -> 0
D21: S
B22: =DATE(Calendrier!$A$1,_xlfn.SHEET()-1,(ROW()/2)-1) -> 43595 | D22: M | E22: =IF(C22="","",IF(OR(C22="Cp",C22="AM",C22="Re",C22="Fe"),"",1)) | H22: =((G22-F22)+(G23-F23)) -> 0 | K22: =IF(OR(C22="Cp"),1,"") | R22: =((Q22-P22)-(Q23-P23)) -> 0
D23: S
B24: =DATE(Calendrier!$A$1,_xlfn.SHEET()-1,(ROW()/2)-1) -> 43596 | D24: M | E24: =IF(C24="","",IF(OR(C24="Cp",C24="AM",C24="Re",C24="Fe"),"",1)) | H24: =((G24-F24)+(G25-F25)) -> 0 | K24: =IF(OR(C24="Cp"),1,"") | R24: =((Q24-P24)-(Q25-P25)) -> 0
D25: S
B26: =DATE(Calendrier!$A$1,_xlfn.SHEET()-1,(ROW()/2)-1) -> 43597 | D26: M | E26: =IF(C26="","",IF(OR(C26="Cp",C26="AM",C26="Re",C26="Fe"),"",1)) | H26: =((G26-F26)+(G27-F27)) -> 0 | K26: =IF(OR(C26="Cp"),1,"") | R26: =((Q26-P26)-(Q27-P27)) -> 0
D27: S
B28: =DATE(Calendrier!$A$1,_xlfn.SHEET()-1,(ROW()/2)-1) -> 43598 | D28: M | E28: =IF(C28="","",IF(OR(C28="Cp",C28="AM",C28="Re",C28="Fe"),"",1)) | H28: =((G28-F28)+(G29-F29)) -> 0 | K28: =IF(OR(C28="Cp"),1,"") | R28: =((Q28-P28)-(Q29-P29)) -> 0
A29: S 03 | D29: S
B30: =DATE(Calendrier!$A$1,_xlfn.SHEET()-1,(ROW()/2)-1) -> 43599 | D30: M | E30: =IF(C30="","",IF(OR(C30="Cp",C30="AM",C30="Re",C30="Fe"),"",1)) | H30: =((G30-F30)+(G31-F31)) -> 0 | K30: =IF(OR(C30="Cp"),1,"") | R30: =((Q30-P30)-(Q31-P31)) -> 0
D31: S
B32: =DATE(Calendrier!$A$1,_xlfn.SHEET()-1,(ROW()/2)-1) -> 43600 | D32: M | E32: =IF(C32="","",IF(OR(C32="Cp",C32="AM",C32="Re",C32="Fe"),"",1)) | H32: =((G32-F32)+(G33-F33)) -> 0 | K32: =IF(OR(C32="Cp"),1,"") | R32: =((Q32-P32)-(Q33-P33)) -> 0
D33: S
B34: =DATE(Calendrier!$A$1,_xlfn.SHEET()-1,(ROW()/2)-1) -> 43601 | D34: M | E34: =IF(C34="","",IF(OR(C34="Cp",C34="AM",C34="Re",C34="Fe"),"",1)) | H34: =((G34-F34)+(G35-F35)) -> 0 | K34: =IF(OR(C34="Cp"),1,"") | R34: =((Q34-P34)-(Q35-P35)) -> 0
D35: S
B36: =DATE(Calendrier!$A$1,_xlfn.SHEET()-1,(ROW()/2)-1) -> 43602 | D36: M | E36: =IF(C36="","",IF(OR(C36="Cp",C36="AM",C36="Re",C36="Fe"),"",1)) | H36: =((G36-F36)+(G37-F37)) -> 0 | K36: =IF(OR(C36="Cp"),1,"") | R36: =((Q36-P36)-(Q37-P37)) -> 0
D37: S
B38: =DATE(Calendrier!$A$1,_xlfn.SHEET()-1,(ROW()/2)-1) -> 43603 | D38: M | E38: =IF(C38="","",IF(OR(C38="Cp",C38="AM",C38="Re",C38="Fe"),"",1)) | H38: =((G38-F38)+(G39-F39)) -> 0 | R38: =((Q38-P38)-(Q39-P39)) -> 0
D39: S
B40: =DATE(Calendrier!$A$1,_xlfn.SHEET()-1,(ROW()/2)-1) -> 43604 | D40: M | E40: =IF(C40="","",IF(OR(C40="Cp",C40="AM",C40="Re",C40="Fe"),"",1)) | H40: =((G40-F40)+(G41-F41)) -> 0 | K40: =IF(OR(C40="Cp"),1,"") | R40: =((Q40-P40)-(Q41-P41)) -> 0
D41: S
B42: =DATE(Calendrier!$A$1,_xlfn.SHEET()-1,(ROW()/2)-1) -> 43605 | D42: M | E42: =IF(C42="","",IF(OR(C42="Cp",C42="AM",C42="Re",C42="Fe"),"",1)) | H42: =((G42-F42)+(G43-F43)) -> 0 | K42: =IF(OR(C42="Cp"),1,"") | R42: =((Q42-P42)-(Q43-P43)) -> 0
D43: S
B44: =DATE(Calendrier!$A$1,_xlfn.SHEET()-1,(ROW()/2)-1) -> 43606 | D44: M | E44: =IF(C44="","",IF(OR(C44="Cp",C44="AM",C44="Re",C44="Fe"),"",1)) | H44: =((G44-F44)+(G45-F45)) -> 0 | K44: =IF(OR(C44="Cp"),1,"") | R44: =((Q44-P44)-(Q45-P45)) -> 0
D45: S
B46: =DATE(Calendrier!$A$1,_xlfn.SHEET()-1,(ROW()/2)-1) -> 43607 | D46: M | E46: =IF(C46="","",IF(OR(C46="Cp",C46="AM",C46="Re",C46="Fe"),"",1)) | H46: =((G46-F46)+(G47-F47)) -> 0 | K46: =IF(OR(C46="Cp"),1,"") | R46: =((Q46-P46)-(Q47-P47)) -> 0
D47: S
B48: =DATE(Calendrier!$A$1,_xlfn.SHEET()-1,(ROW()/2)-1) -> 43608 | D48: M | E48: =IF(C48="","",IF(OR(C48="Cp",C48="AM",C48="Re",C48="Fe"),"",1)) | H48: =((G48-F48)+(G49-F49)) -> 0 | K48: =IF(OR(C48="Cp"),1,"") | R48: =((Q48-P48)-(Q49-P49)) -> 0
D49: S
B50: =DATE(Calendrier!$A$1,_xlfn.SHEET()-1,(ROW()/2)-1) -> 43609 | D50: M | E50: =IF(C50="","",IF(OR(C50="Cp",C50="AM",C50="Re",C50="Fe"),"",1)) | H50: =((G50-F50)+(G51-F51)) -> 0 | K50: =IF(OR(C50="Cp"),1,"") | R50: =((Q50-P50)-(Q51-P51)) -> 0
D51: S
B52: =DATE(Calendrier!$A$1,_xlfn.SHEET()-1,(ROW()/2)-1) -> 43610 | D52: M | E52: =IF(C52="","",IF(OR(C52="Cp",C52="AM",C52="Re",C52="Fe"),"",1)) | H52: =((G52-F52)+(G53-F53)) -> 0 | K52: =IF(OR(C52="Cp"),1,"") | R52: =((Q52-P52)-(Q53-P53)) -> 0
D53: S
B54: =DATE(Calendrier!$A$1,_xlfn.SHEET()-1,(ROW()/2)-1) -> 43611 | D54: M | E54: =IF(C54="","",IF(OR(C54="Cp",C54="AM",C54="Re",C54="Fe"),"",1)) | H54: =((G54-F54)+(G55-F55)) -> 0 | K54: =IF(OR(C54="Cp"),1,"") | R54: =((Q54-P54)-(Q55-P55)) -> 0
D55: S
B56: =DATE(Calendrier!$A$1,_xlfn.SHEET()-1,(ROW()/2)-1) -> 43612 | D56: M | E56: =IF(C56="","",IF(OR(C56="Cp",C56="AM",C56="Re",C56="Fe"),"",1)) | H56: =((G56-F56)+(G57-F57)) -> 0 | K56: =IF(OR(C56="Cp"),1,"") | R56: =((Q56-P56)-(Q57-P57)) -> 0
D57: S
B58: =DATE(Calendrier!$A$1,_xlfn.SHEET()-1,(ROW()/2)-1) -> 43613 | D58: M | E58: =IF(C58="","",IF(OR(C58="Cp",C58="AM",C58="Re",C58="Fe"),"",1)) | H58: =((G58-F58)+(G59-F59)) -> 0 | K58: =IF(OR(C58="Cp"),1,"") | R58: =((Q58-P58)-(Q59-P59)) -> 0
D59: S
B60: =DATE(Calendrier!$A$1,_xlfn.SHEET()-1,(ROW()/2)-1) -> 43614 | D60: M | E60: =IF(C60="","",IF(OR(C60="Cp",C60="AM",C60="Re",C60="Fe"),"",1)) | H60: =((G60-F60)+(G61-F61)) -> 0 | K60: =IF(OR(C60="Cp"),1,"") | R60: =((Q60-P60)-(Q61-P61)) -> 0
D61: S
B62: =DATE(Calendrier!$A$1,_xlfn.SHEET()-1,(ROW()/2)-1) -> 43615 | D62: M | E62: =IF(C62="","",IF(OR(C62="Cp",C62="AM",C62="Re",C62="Fe"),"",1)) | H62: =((G62-F62)+(G63-F63)) -> 0 | K62: =IF(OR(C62="Cp"),1,"") | R62: =((Q62-P62)-(Q63-P63)) -> 0
D63: S
B64: =DATE(Calendrier!$A$1,_xlfn.SHEET()-1,(ROW()/2)-1) -> 43616 | D64: M | E64: =IF(C64="","",IF(OR(C64="Cp",C64="AM",C64="Re",C64="Fe"),"",1)) | H64: =((G64-F64)+(G65-F65)) -> 0 | K64: =IF(OR(C64="Cp"),1,"") | R64: =((Q64-P64)-(Q65-P65)) -> 0
D65: S
B66: TOTAUX | E66: =SUM(E4:E65) -> 0 | F66: =SUM(H4:H65) -> 4 | I66: =SUM(I4:I65) -> 0 | J66: =SUM(J4:J65) -> 0 | K66: =SUM(K4:K65) -> 0 | N66: TOTAUX | O66: =SUM(O4:O65) -> 0 | R66: =SUM(R4:R30) -> 4 | S66: =SUM(S4:S65) -> 0 | T66: =SUM(T4:T65) -> 0 | U66: =SUM(U4:U65) -> 0 | V66: =SUM(V4:V65) -> 0 | W66: =SUM(W4:W65) -> 0

Sheet Juin
Y2: =SUM(O4:O30) -> 0
A3: S 01 | B3: DATE | C3: SERV | E3: J | F3: HA | G3: HD | I3: K | J3: Ser | K3: CP | L3: MOTIF DU DEPLACEMENT | O3: Panniers | P3: HSD | Q3: HSF | R3: H.Sup | S3: Maj Nuit | T3: Maj Dim. | U3: Maj J.Fé. | V3: Astreinte | W3: SSLIA | Y3: =SUM(O30:O30) -> 0
B4: =DATE(Calendrier!$A$1,_xlfn.SHEET()-1,(ROW()/2)-1) -> 43617 | D4: M | E4: =IF(C4="","",IF(OR(C4="Cp",C4="AM",C4="Re",C4="Fe"),"",1)) | F4: 8 | G4: 10 | H4: =((G4-F4)+(G5-F5)) -> 2 | K4: =IF(OR(C4="Cp"),1,"") | P4: 18 | Q4: 20 | R4: =((Q4-P4)-(Q5-P5)) -> 2 | Y4: =SUM(#REF!) -> #REF!
A5: jui | D5: S
B6: =DATE(Calendrier!$A$1,_xlfn.SHEET()-1,(ROW()/2)-1) -> 43618 | D6: M | E6: =IF(C6="","",IF(OR(C6="Cp",C6="AM",C6="Re",C6="Fe"),"",1)) | H6: =((G6-F6)+(G7-F7)) -> 0 | R6: =((Q6-P6)-(Q7-P7)) -> 0 | Y6: =SUM(#REF!) -> #REF!
D7: S
B8: =DATE(Calendrier!$A$1,_xlfn.SHEET()-1,(ROW()/2)-1) -> 43619 | D8: M | E8: =IF(C8="","",IF(OR(C8="Cp",C8="AM",C8="Re",C8="Fe"),"",1)) | H8: =((G8-F8)+(G9-F9)) -> 0 | K8: =IF(OR(C8="Cp"),1,"") | R8: =((Q8-P8)-(Q9-P9)) -> 0
D9: S
B10: =DATE(Calendrier!$A$1,_xlfn.SHEET()-1,(ROW()/2)-1) -> 43620 | D10: M | E10: =IF(C10="","",IF(OR(C10="Cp",C10="AM",C10="Re",C10="Fe"),"",1)) | H10: =((G10-F10)+(G11-F11)) -> 0 | K10: =IF(OR(C10="Cp"),1,"") | R10: =((Q10-P10)-(Q11-P11)) -> 0
D11: S
B12: =DATE(Calendrier!$A$1,_xlfn.SHEET()-1,(ROW()/2)-1) -> 43621 | D12: M | E12: =IF(C12="","",IF(OR(C12="Cp",C12="AM",C12="Re",C12="Fe"),"",1)) | H12: =((G12-F12)+(G13-F13)) -> 0 | K12: =IF(OR(C12="Cp"),1,"") | R12: =((Q12-P12)-(Q13-P13)) -> 0
D13: S
B14: =DATE(Calendrier!$A$1,_xlfn.SHEET()-1,(ROW()/2)-1) -> 43622 | D14: M | E14: =IF(C14="","",IF(OR(C14="Cp",C14="AM",C14="Re",C14="Fe"),"",1)) | H14: =((G14-F14)+(G15-F15)) -> 0 | K14: =IF(OR(C14="Cp"),1,"") | R14: =((Q14-P14)-(Q15-P15)) -> 0
A15: S 02 | D15: S
B16: =DATE(Calendrier!$A$1,_xlfn.SHEET()-1,(ROW()/2)-1) -> 43623 | D16: M | E16: =IF(C16="","",IF(OR(C16="Cp",C16="AM",C16="Re",C16="Fe"),"",1)) | F16: 8 | G16: 10 | H16: =((G16-F16)+(G17-F17)) -> 2 | K16: =IF(OR(C16="Cp"),1,"") | P16: 18 | Q16: 20 | R16: =((Q16-P16)-(Q17-P17)) -> 2
A17: =SUM(H16:H31)+SUM(R16:R31) -> 4 | D17: S
B18: =DATE(Calendrier!$A$1,_xlfn.SHEET()-1,(ROW()/2)-1) -> 43624 | D18: M | E18: =IF(C18="","",IF(OR(C18="Cp",C18="AM",C18="Re",C18="Fe"),"",1)) | H18: =((G18-F18)+(G19-F19)) -> 0 | K18: =IF(OR(C18="Cp"),1,"") | R18: =((Q18-P18)-(Q19-P19)) -> 0
D19: S
B20: =DATE(Calendrier!$A$1,_xlfn.SHEET()-1,(ROW()/2)-1) -> 43625 | D20: M | E20: =IF(C20="","",IF(OR(C20="Cp",C20="AM",C20="Re",C20="Fe"),"",1)) | H20: =((G20-F20)+(G21-F21)) -> 0 | K20: =IF(OR(C20="Cp"),1,"") | R20: =((Q20-P20)-(Q21-P21)) -> 0
D21: S
B22: =DATE(Calendrier!$A$1,_xlfn.SHEET()-1,(ROW()/2)-1) -> 43626 | D22: M | E22: =IF(C22="","",IF(OR(C22="Cp",C22="AM",C22="Re",C22="Fe"),"",1)) | H22: =((G22-F22)+(G23-F23)) -> 0 | K22: =IF(OR(C22="Cp"),1,"") | R22: =((Q22-P22)-(Q23-P23)) -> 0
D23: S
B24: =DATE(Calendrier!$A$1,_xlfn.SHEET()-1,(ROW()/2)-1) -> 43627 | D24: M | E24: =IF(C24="","",IF(OR(C24="Cp",C24="AM",C24="Re",C24="Fe"),"",1)) | H24: =((G24-F24)+(G25-F25)) -> 0 | K24: =IF(OR(C24="Cp"),1,"") | R24: =((Q24-P24)-(Q25-P25)) -> 0
D25: S
B26: =DATE(Calendrier!$A$1,_xlfn.SHEET()-1,(ROW()/2)-1) -> 43628 | D26: M | E26: =IF(C26="","",IF(OR(C26="Cp",C26="AM",C26="Re",C26="Fe"),"",1)) | H26: =((G26-F26)+(G27-F27)) -> 0 | K26: =IF(OR(C26="Cp"),1,"") | R26: =((Q26-P26)-(Q27-P27)) -> 0
D27: S
B28: =DATE(Calendrier!$A$1,_xlfn.SHEET()-1,(ROW()/2)-1) -> 43629 | D28: M | E28: =IF(C28="","",IF(OR(C28="Cp",C28="AM",C28="Re",C28="Fe"),"",1)) | H28: =((G28-F28)+(G29-F29)) -> 0 | K28: =IF(OR(C28="Cp"),1,"") | R28: =((Q28-P28)-(Q29-P29)) -> 0
A29: S 03 | D29: S
B30: =DATE(Calendrier!$A$1,_xlfn.SHEET()-1,(ROW()/2)-1) -> 43630 | D30: M | E30: =IF(C30="","",IF(OR(C30="Cp",C30="AM",C30="Re",C30="Fe"),"",1)) | H30: =((G30-F30)+(G31-F31)) -> 0 | K30: =IF(OR(C30="Cp"),1,"") | R30: =((Q30-P30)-(Q31-P31)) -> 0
D31: S
B32: =DATE(Calendrier!$A$1,_xlfn.SHEET()-1,(ROW()/2)-1) -> 43631 | D32: M | E32: =IF(C32="","",IF(OR(C32="Cp",C32="AM",C32="Re",C32="Fe"),"",1)) | H32: =((G32-F32)+(G33-F33)) -> 0 | K32: =IF(OR(C32="Cp"),1,"") | R32: =((Q32-P32)-(Q33-P33)) -> 0
D33: S
B34: =DATE(Calendrier!$A$1,_xlfn.SHEET()-1,(ROW()/2)-1) -> 43632 | D34: M | E34: =IF(C34="","",IF(OR(C34="Cp",C34="AM",C34="Re",C34="Fe"),"",1)) | H34: =((G34-F34)+(G35-F35)) -> 0 | K34: =IF(OR(C34="Cp"),1,"") | R34: =((Q34-P34)-(Q35-P35)) -> 0
D35: S
B36: =DATE(Calendrier!$A$1,_xlfn.SHEET()-1,(ROW()/2)-1) -> 43633 | D36: M | E36: =IF(C36="","",IF(OR(C36="Cp",C36="AM",C36="Re",C36="Fe"),"",1)) | H36: =((G36-F36)+(G37-F37)) -> 0 | K36: =IF(OR(C36="Cp"),1,"") | R36: =((Q36-P36)-(Q37-P37)) -> 0
D37: S
B38: =DATE(Calendrier!$A$1,_xlfn.SHEET()-1,(ROW()/2)-1) -> 43634 | D38: M | E38: =IF(C38="","",IF(OR(C38="Cp",C38="AM",C38="Re",C38="Fe"),"",1)) | H38: =((G38-F38)+(G39-F39)) -> 0 | R38: =((Q38-P38)-(Q39-P39)) -> 0
D39: S
B40: =DATE(Calendrier!$A$1,_xlfn.SHEET()-1,(ROW()/2)-1) -> 43635 | D40: M | E40: =IF(C40="","",IF(OR(C40="Cp",C40="AM",C40="Re",C40="Fe"),"",1)) | H40: =((G40-F40)+(G41-F41)) -> 0 | K40: =IF(OR(C40="Cp"),1,"") | R40: =((Q40-P40)-(Q41-P41)) -> 0
D41: S
B42: =DATE(Calendrier!$A$1,_xlfn.SHEET()-1,(ROW()/2)-1) -> 43636 | D42: M | E42: =IF(C42="","",IF(OR(C42="Cp",C42="AM",C42="Re",C42="Fe"),"",1)) | H42: =((G42-F42)+(G43-F43)) -> 0 | K42: =IF(OR(C42="Cp"),1,"") | R42: =((Q42-P42)-(Q43-P43)) -> 0
D43: S
B44: =DATE(Calendrier!$A$1,_xlfn.SHEET()-1,(ROW()/2)-1) -> 43637 | D44: M | E44: =IF(C44="","",IF(OR(C44="Cp",C44="AM",C44="Re",C44="Fe"),"",1)) | H44: =((G44-F44)+(G45-F45)) -> 0 | K44: =IF(OR(C44="Cp"),1,"") | R44: =((Q44-P44)-(Q45-P45)) -> 0
D45: S
B46: =DATE(Calendrier!$A$1,_xlfn.SHEET()-1,(ROW()/2)-1) -> 43638 | D46: M | E46: =IF(C46="","",IF(OR(C46="Cp",C46="AM",C46="Re",C46="Fe"),"",1)) | H46: =((G46-F46)+(G47-F47)) -> 0 | K46: =IF(OR(C46="Cp"),1,"") | R46: =((Q46-P46)-(Q47-P47)) -> 0
D47: S
B48: =DATE(Calendrier!$A$1,_xlfn.SHEET()-1,(ROW()/2)-1) -> 43639 | D48: M | E48: =IF(C48="","",IF(OR(C48="Cp",C48="AM",C48="Re",C48="Fe"),"",1)) | H48: =((G48-F48)+(G49-F49)) -> 0 | K48: =IF(OR(C48="Cp"),1,"") | R48: =((Q48-P48)-(Q49-P49)) -> 0
D49: S
B50: =DATE(Calendrier!$A$1,_xlfn.SHEET()-1,(ROW()/2)-1) -> 43640 | D50: M | E50: =IF(C50="","",IF(OR(C50="Cp",C50="AM",C50="Re",C50="Fe"),"",1)) | H50: =((G50-F50)+(G51-F51)) -> 0 | K50: =IF(OR(C50="Cp"),1,"") | R50: =((Q50-P50)-(Q51-P51)) -> 0
D51: S
B52: =DATE(Calendrier!$A$1,_xlfn.SHEET()-1,(ROW()/2)-1) -> 43641 | D52: M | E52: =IF(C52="","",IF(OR(C52="Cp",C52="AM",C52="Re",C52="Fe"),"",1)) | H52: =((G52-F52)+(G53-F53)) -> 0 | K52: =IF(OR(C52="Cp"),1,"") | R52: =((Q52-P52)-(Q53-P53)) -> 0
D53: S
B54: =DATE(Calendrier!$A$1,_xlfn.SHEET()-1,(ROW()/2)-1) -> 43642 | D54: M | E54: =IF(C54="","",IF(OR(C54="Cp",C54="AM",C54="Re",C54="Fe"),"",1)) | H54: =((G54-F54)+(G55-F55)) -> 0 | K54: =IF(OR(C54="Cp"),1,"") | R54: =((Q54-P54)-(Q55-P55)) -> 0
D55: S
B56: =DATE(Calendrier!$A$1,_xlfn.SHEET()-1,(ROW()/2)-1) -> 43643 | D56: M | E56: =IF(C56="","",IF(OR(C56="Cp",C56="AM",C56="Re",C56="Fe"),"",1)) | H56: =((G56-F56)+(G57-F57)) -> 0 | K56: =IF(OR(C56="Cp"),1,"") | R56: =((Q56-P56)-(Q57-P57)) -> 0
D57: S
B58: =DATE(Calendrier!$A$1,_xlfn.SHEET()-1,(ROW()/2)-1) -> 43644 | D58: M | E58: =IF(C58="","",IF(OR(C58="Cp",C58="AM",C58="Re",C58="Fe"),"",1)) | H58: =((G58-F58)+(G59-F59)) -> 0 | K58: =IF(OR(C58="Cp"),1,"") | R58: =((Q58-P58)-(Q59-P59)) -> 0
D59: S
B60: =DATE(Calendrier!$A$1,_xlfn.SHEET()-1,(ROW()/2)-1) -> 43645 | D60: M | E60: =IF(C60="","",IF(OR(C60="Cp",C60="AM",C60="Re",C60="Fe"),"",1)) | H60: =((G60-F60)+(G61-F61)) -> 0 | K60: =IF(OR(C60="Cp"),1,"") | R60: =((Q60-P60)-(Q61-P61)) -> 0
D61: S
B62: =DATE(Calendrier!$A$1,_xlfn.SHEET()-1,(ROW()/2)-1) -> 43646 | D62: M | E62: =IF(C62="","",IF(OR(C62="Cp",C62="AM",C62="Re",C62="Fe"),"",1)) | H62: =((G62-F62)+(G63-F63)) -> 0 | K62: =IF(OR(C62="Cp"),1,"") | R62: =((Q62-P62)-(Q63-P63)) -> 0
D63: S
B64: 31 | D64: M | E64: =IF(C64="","",IF(OR(C64="Cp",C64="AM",C64="Re",C64="Fe"),"",1)) | H64: =((G64-F64)+(G65-F65)) -> 0 | K64: =IF(OR(C64="Cp"),1,"") | R64: =((Q64-P64)-(Q65-P65)) -> 0
D65: S
B66: TOTAUX | E66: =SUM(E4:E65) -> 0 | F66: =SUM(H4:H65) -> 4 | I66: =SUM(I4:I65) -> 0 | J66: =SUM(J4:J65) -> 0 | K66: =SUM(K4:K65) -> 0 | N66: TOTAUX | O66: =SUM(O4:O65) -> 0 | R66: =SUM(R4:R30) -> 4 | S66: =SUM(S4:S65) -> 0 | T66: =SUM(T4:T65) -> 0 | U66: =SUM(U4:U65) -> 0 | V66: =SUM(V4:V65) -> 0 | W66: =SUM(W4:W65) -> 0

Sheet Juil
Y2: =SUM(O4:O30) -> 0
A3: S 01 | B3: DATE | C3: SERV | E3: J | F3: HA | G3: HD | I3: K | J3: Ser | K3: CP | L3: MOTIF DU DEPLACEMENT | O3: Panniers | P3: HSD | Q3: HSF | R3: H.Sup | S3: Maj Nuit | T3: Maj Dim. | U3: Maj J.Fé. | V3: Astreinte | W3: SSLIA | Y3: =SUM(O30:O30) -> 0
B4: =DATE(Calendrier!$A$1,_xlfn.SHEET()-1,(ROW()/2)-1) -> 43647 | D4: M | E4: =IF(C4="","",IF(OR(C4="Cp",C4="AM",C4="Re",C4="Fe"),"",1)) | F4: 8 | G4: 10 | H4: =((G4-F4)+(G5-F5)) -> 2 | K4: =IF(OR(C4="Cp"),1,"") | P4: 18 | Q4: 20 | R4: =((Q4-P4)-(Q5-P5)) -> 2 | Y4: =SUM(#REF!) -> #REF!
A5: jui | D5: S
B6: =DATE(Calendrier!$A$1,_xlfn.SHEET()-1,(ROW()/2)-1) -> 43648 | D6: M | E6: =IF(C6="","",IF(OR(C6="Cp",C6="AM",C6="Re",C6="Fe"),"",1)) | H6: =((G6-F6)+(G7-F7)) -> 0 | R6: =((Q6-P6)-(Q7-P7)) -> 0 | Y6: =SUM(#REF!) -> #REF!
D7: S
B8: =DATE(Calendrier!$A$1,_xlfn.SHEET()-1,(ROW()/2)-1) -> 43649 | D8: M | E8: =IF(C8="","",IF(OR(C8="Cp",C8="AM",C8="Re",C8="Fe"),"",1)) | H8: =((G8-F8)+(G9-F9)) -> 0 | K8: =IF(OR(C8="Cp"),1,"") | R8: =((Q8-P8)-(Q9-P9)) -> 0
D9: S
B10: =DATE(Calendrier!$A$1,_xlfn.SHEET()-1,(ROW()/2)-1) -> 43650 | D10: M | E10: =IF(C10="","",IF(OR(C10="Cp",C10="AM",C10="Re",C10="Fe"),"",1)) | H10: =((G10-F10)+(G11-F11)) -> 0 | K10: =IF(OR(C10="Cp"),1,"") | R10: =((Q10-P10)-(Q11-P11)) -> 0
D11: S
B12: =DATE(Calendrier!$A$1,_xlfn.SHEET()-1,(ROW()/2)-1) -> 43651 | D12: M | E12: =IF(C12="","",IF(OR(C12="Cp",C12="AM",C12="Re",C12="Fe"),"",1)) | H12: =((G12-F12)+(G13-F13)) -> 0 | K12: =IF(OR(C12="Cp"),1,"") | R12: =((Q12-P12)-(Q13-P13)) -> 0
D13: S
B14: =DATE(Calendrier!$A$1,_xlfn.SHEET()-1,(ROW()/2)-1) -> 43652 | D14: M | E14: =IF(C14="","",IF(OR(C14="Cp",C14="AM",C14="Re",C14="Fe"),"",1)) | H14: =((G14-F14)+(G15-F15)) -> 0 | K14: =IF(OR(C14="Cp"),1,"") | R14: =((Q14-P14)-(Q15-P15)) -> 0
A15: S 02 | D15: S
B16: =DATE(Calendrier!$A$1,_xlfn.SHEET()-1,(ROW()/2)-1) -> 43653 | D16: M | E16: =IF(C16="","",IF(OR(C16="Cp",C16="AM",C16="Re",C16="Fe"),"",1)) | F16: 8 | G16: 10 | H16: =((G16-F16)+(G17-F17)) -> 2 | K16: =IF(OR(C16="Cp"),1,"") | P16: 18 | Q16: 20 | R16: =((Q16-P16)-(Q17-P17)) -> 2
A17: =SUM(H16:H31)+SUM(R16:R31) -> 4 | D17: S
B18: =DATE(Calendrier!$A$1,_xlfn.SHEET()-1,(ROW()/2)-1) -> 43654 | D18: M | E18: =IF(C18="","",IF(OR(C18="Cp",C18="AM",C18="Re",C18="Fe"),"",1)) | H18: =((G18-F18)+(G19-F19)) -> 0 | K18: =IF(OR(C18="Cp"),1,"") | R18: =((Q18-P18)-(Q19-P19)) -> 0
D19: S
B20: =DATE(Calendrier!$A$1,_xlfn.SHEET()-1,(ROW()/2)-1) -> 43655 | D20: M | E20: =IF(C20="","",IF(OR(C20="Cp",C20="AM",C20="Re",C20="Fe"),"",1)) | H20: =((G20-F20)+(G21-F21)) -> 0 | K20: =IF(OR(C20="Cp"),1,"") | R20: =((Q20-P20)-(Q21-P21)) -> 0
D21: S
B22: =DATE(Calendrier!$A$1,_xlfn.SHEET()-1,(ROW()/2)-1) -> 43656 | D22: M | E22: =IF(C22="","",IF(OR(C22="Cp",C22="AM",C22="Re",C22="Fe"),"",1)) | H22: =((G22-F22)+(G23-F23)) -> 0 | K22: =IF(OR(C22="Cp"),1,"") | R22: =((Q22-P22)-(Q23-P23)) -> 0
D23: S
B24: =DATE(Calendrier!$A$1,_xlfn.SHEET()-1,(ROW()/2)-1) -> 43657 | D24: M | E24: =IF(C24="","",IF(OR(C24="Cp",C24="AM",C24="Re",C24="Fe"),"",1)) | H24: =((G24-F24)+(G25-F25)) -> 0 | K24: =IF(OR(C24="Cp"),1,"") | R24: =((Q24-P24)-(Q25-P25)) -> 0
D25: S
B26: =DATE(Calendrier!$A$1,_xlfn.SHEET()-1,(ROW()/2)-1) -> 43658 | D26: M | E26: =IF(C26="","",IF(OR(C26="Cp",C26="AM",C26="Re",C26="Fe"),"",1)) | H26: =((G26-F26)+(G27-F27)) -> 0 | K26: =IF(OR(C26="Cp"),1,"") | R26: =((Q26-P26)-(Q27-P27)) -> 0
D27: S
B28: =DATE(Calendrier!$A$1,_xlfn.SHEET()-1,(ROW()/2)-1) -> 43659 | D28: M | E28: =IF(C28="","",IF(OR(C28="Cp",C28="AM",C28="Re",C28="Fe"),"",1)) | H28: =((G28-F28)+(G29-F29)) -> 0 | K28: =IF(OR(C28="Cp"),1,"") | R28: =((Q28-P28)-(Q29-P29)) -> 0
A29: S 03 | D29: S
B30: =DATE(Calendrier!$A$1,_xlfn.SHEET()-1,(ROW()/2)-1) -> 43660 | D30: M | E30: =IF(C30="","",IF(OR(C30="Cp",C30="AM",C30="Re",C30="Fe"),"",1)) | H30: =((G30-F30)+(G31-F31)) -> 0 | K30: =IF(OR(C30="Cp"),1,"") | R30: =((Q30-P30)-(Q31-P31)) -> 0
D31: S
B32: =DATE(Calendrier!$A$1,_xlfn.SHEET()-1,(ROW()/2)-1) -> 43661 | D32: M | E32: =IF(C32="","",IF(OR(C32="Cp",C32="AM",C32="Re",C32="Fe"),"",1)) | H32: =((G32-F32)+(G33-F33)) -> 0 | K32: =IF(OR(C32="Cp"),1,"") | R32: =((Q32-P32)-(Q33-P33)) -> 0
D33: S
B34: =DATE(Calendrier!$A$1,_xlfn.SHEET()-1,(ROW()/2)-1) -> 43662 | D34: M | E34: =IF(C34="","",IF(OR(C34="Cp",C34="AM",C34="Re",C34="Fe"),"",1)) | H34: =((G34-F34)+(G35-F35)) -> 0 | K34: =IF(OR(C34="Cp"),1,"") | R34: =((Q34-P34)-(Q35-P35)) -> 0
D35: S
B36: =DATE(Calendrier!$A$1,_xlfn.SHEET()-1,(ROW()/2)-1) -> 43663 | D36: M | E36: =IF(C36="","",IF(OR(C36="Cp",C36="AM",C36="Re",C36="Fe"),"",1)) | H36: =((G36-F36)+(G37-F37)) -> 0 | K36: =IF(OR(C36="Cp"),1,"") | R36: =((Q36-P36)-(Q37-P37)) -> 0
D37: S
B38: =DATE(Calendrier!$A$1,_xlfn.SHEET()-1,(ROW()/2)-1) -> 43664 | D38: M | E38: =IF(C38="","",IF(OR(C38="Cp",C38="AM",C38="Re",C38="Fe"),"",1)) | H38: =((G38-F38)+(G39-F39)) -> 0 | R38: =((Q38-P38)-(Q39-P39)) -> 0
D39: S
B40: =DATE(Calendrier!$A$1,_xlfn.SHEET()-1,(ROW()/2)-1) -> 43665 | D40: M | E40: =IF(C40="","",IF(OR(C40="Cp",C40="AM",C40="Re",C40="Fe"),"",1)) | H40: =((G40-F40)+(G41-F41)) -> 0 | K40: =IF(OR(C40="Cp"),1,"") | R40: =((Q40-P40)-(Q41-P41)) -> 0
D41: S
B42: =DATE(Calendrier!$A$1,_xlfn.SHEET()-1,(ROW()/2)-1) -> 43666 | D42: M | E42: =IF(C42="","",IF(OR(C42="Cp",C42="AM",C42="Re",C42="Fe"),"",1)) | H42: =((G42-F42)+(G43-F43)) -> 0 | K42: =IF(OR(C42="Cp"),1,"") | R42: =((Q42-P42)-(Q43-P43)) -> 0
D43: S
B44: =DATE(Calendrier!$A$1,_xlfn.SHEET()-1,(ROW()/2)-1) -> 43667 | D44: M | E44: =IF(C44="","",IF(OR(C44="Cp",C44="AM",C44="Re",C44="Fe"),"",1)) | H44: =((G44-F44)+(G45-F45)) -> 0 | K44: =IF(OR(C44="Cp"),1,"") | R44: =((Q44-P44)-(Q45-P45)) -> 0
D45: S
B46: =DATE(Calendrier!$A$1,_xlfn.SHEET()-1,(ROW()/2)-1) -> 43668 | D46: M | E46: =IF(C46="","",IF(OR(C46="Cp",C46="AM",C46="Re",C46="Fe"),"",1)) | H46: =((G46-F46)+(G47-F47)) -> 0 | K46: =IF(OR(C46="Cp"),1,"") | R46: =((Q46-P46)-(Q47-P47)) -> 0
D47: S
B48: =DATE(Calendrier!$A$1,_xlfn.SHEET()-1,(ROW()/2)-1) -> 43669 | D48: M | E48: =IF(C48="","",IF(OR(C48="Cp",C48="AM",C48="Re",C48="Fe"),"",1)) | H48: =((G48-F48)+(G49-F49)) -> 0 | K48: =IF(OR(C48="Cp"),1,"") | R48: =((Q48-P48)-(Q49-P49)) -> 0
D49: S
B50: =DATE(Calendrier!$A$1,_xlfn.SHEET()-1,(ROW()/2)-1) -> 43670 | D50: M | E50: =IF(C50="","",IF(OR(C50="Cp",C50="AM",C50="Re",C50="Fe"),"",1)) | H50: =((G50-F50)+(G51-F51)) -> 0 | K50: =IF(OR(C50="Cp"),1,"") | R50: =((Q50-P50)-(Q51-P51)) -> 0
D51: S
B52: =DATE(Calendrier!$A$1,_xlfn.SHEET()-1,(ROW()/2)-1) -> 43671 | D52: M | E52: =IF(C52="","",IF(OR(C52="Cp",C52="AM",C52="Re",C52="Fe"),"",1)) | H52: =((G52-F52)+(G53-F53)) -> 0 | K52: =IF(OR(C52="Cp"),1,"") | R52: =((Q52-P52)-(Q53-P53)) -> 0
D53: S
B54: =DATE(Calendrier!$A$1,_xlfn.SHEET()-1,(ROW()/2)-1) -> 43672 | D54: M | E54: =IF(C54="","",IF(OR(C54="Cp",C54="AM",C54="Re",C54="Fe"),"",1)) | H54: =((G54-F54)+(G55-F55)) -> 0 | K54: =IF(OR(C54="Cp"),1,"") | R54: =((Q54-P54)-(Q55-P55)) -> 0
D55: S
B56: =DATE(Calendrier!$A$1,_xlfn.SHEET()-1,(ROW()/2)-1) -> 43673 | D56: M | E56: =IF(C56="","",IF(OR(C56="Cp",C56="AM",C56="Re",C56="Fe"),"",1)) | H56: =((G56-F56)+(G57-F57)) -> 0 | K56: =IF(OR(C56="Cp"),1,"") | R56: =((Q56-P56)-(Q57-P57)) -> 0
D57: S
B58: =DATE(Calendrier!$A$1,_xlfn.SHEET()-1,(ROW()/2)-1) -> 43674 | D58: M | E58: =IF(C58="","",IF(OR(C58="Cp",C58="AM",C58="Re",C58="Fe"),"",1)) | H58: =((G58-F58)+(G59-F59)) -> 0 | K58: =IF(OR(C58="Cp"),1,"") | R58: =((Q58-P58)-(Q59-P59)) -> 0
D59: S
B60: =DATE(Calendrier!$A$1,_xlfn.SHEET()-1,(ROW()/2)-1) -> 43675 | D60: M | E60: =IF(C60="","",IF(OR(C60="Cp",C60="AM",C60="Re",C60="Fe"),"",1)) | H60: =((G60-F60)+(G61-F61)) -> 0 | K60: =IF(OR(C60="Cp"),1,"") | R60: =((Q60-P60)-(Q61-P61)) -> 0
D61: S
B62: =DATE(Calendrier!$A$1,_xlfn.SHEET()-1,(ROW()/2)-1) -> 43676 | D62: M | E62: =IF(C62="","",IF(OR(C62="Cp",C62="AM",C62="Re",C62="Fe"),"",1)) | H62: =((G62-F62)+(G63-F63)) -> 0 | K62: =IF(OR(C62="Cp"),1,"") | R62: =((Q62-P62)-(Q63-P63)) -> 0
D63: S
B64: =DATE(Calendrier!$A$1,_xlfn.SHEET()-1,(ROW()/2)-1) -> 43677 | D64: M | E64: =IF(C64="","",IF(OR(C64="Cp",C64="AM",C64="Re",C64="Fe"),"",1)) | H64: =((G64-F64)+(G65-F65)) -> 0 | K64: =IF(OR(C64="Cp"),1,"") | R64: =((Q64-P64)-(Q65-P65)) -> 0
D65: S
B66: TOTAUX | E66: =SUM(E4:E65) -> 0 | F66: =SUM(H4:H65) -> 4 | I66: =SUM(I4:I65) -> 0 | J66: =SUM(J4:J65) -> 0 | K66: =SUM(K4:K65) -> 0 | N66: TOTAUX | O66: =SUM(O4:O65) -> 0 | R66: =SUM(R4:R30) -> 4 | S66: =SUM(S4:S65) -> 0 | T66: =SUM(T4:T65) -> 0 | U66: =SUM(U4:U65) -> 0 | V66: =SUM(V4:V65) -> 0 | W66: =SUM(W4:W65) -> 0

Sheet Aout
Y2: =SUM(O4:O30) -> 0
A3: S 01 | B3: DATE | C3: SERV | E3: J | F3: HA | G3: HD | I3: K | J3: Ser | K3: CP | L3: MOTIF DU DEPLACEMENT | O3: Panniers | P3: HSD | Q3: HSF | R3: H.Sup | S3: Maj Nuit | T3: Maj Dim. | U3: Maj J.Fé. | V3: Astreinte | W3: SSLIA | Y3: =SUM(O30:O30) -> 0
B4: =DATE(Calendrier!$A$1,_xlfn.SHEET()-1,(ROW()/2)-1) -> 43678 | D4: M | E4: =IF(C4="","",IF(OR(C4="Cp",C4="AM",C4="Re",C4="Fe"),"",1)) | F4: 8 | G4: 10 | H4: =((G4-F4)+(G5-F5)) -> 2 | K4: =IF(OR(C4="Cp"),1,"") | P4: 18 | Q4: 20 | R4: =((Q4-P4)-(Q5-P5)) -> 2 | Y4: =SUM(#REF!) -> #REF!
A5: jui | D5: S
B6: =DATE(Calendrier!$A$1,_xlfn.SHEET()-1,(ROW()/2)-1) -> 43679 | D6: M | E6: =IF(C6="","",IF(OR(C6="Cp",C6="AM",C6="Re",C6="Fe"),"",1)) | H6: =((G6-F6)+(G7-F7)) -> 0 | R6: =((Q6-P6)-(Q7-P7)) -> 0 | Y6: =SUM(#REF!) -> #REF!
D7: S
B8: =DATE(Calendrier!$A$1,_xlfn.SHEET()-1,(ROW()/2)-1) -> 43680 | D8: M | E8: =IF(C8="","",IF(OR(C8="Cp",C8="AM",C8="Re",C8="Fe"),"",1)) | H8: =((G8-F8)+(G9-F9)) -> 0 | K8: =IF(OR(C8="Cp"),1,"") | R8: =((Q8-P8)-(Q9-P9)) -> 0
D9: S
B10: =DATE(Calendrier!$A$1,_xlfn.SHEET()-1,(ROW()/2)-1) -> 43681 | D10: M | E10: =IF(C10="","",IF(OR(C10="Cp",C10="AM",C10="Re",C10="Fe"),"",1)) | H10: =((G10-F10)+(G11-F11)) -> 0 | K10: =IF(OR(C10="Cp"),1,"") | R10: =((Q10-P10)-(Q11-P11)) -> 0
D11: S
B12: =DATE(Calendrier!$A$1,_xlfn.SHEET()-1,(ROW()/2)-1) -> 43682 | D12: M | E12: =IF(C12="","",IF(OR(C12="Cp",C12="AM",C12="Re",C12="Fe"),"",1)) | H12: =((G12-F12)+(G13-F13)) -> 0 | K12: =IF(OR(C12="Cp"),1,"") | R12: =((Q12-P12)-(Q13-P13)) -> 0
D13: S
B14: =DATE(Calendrier!$A$1,_xlfn.SHEET()-1,(ROW()/2)-1) -> 43683 | D14: M | E14: =IF(C14="","",IF(OR(C14="Cp",C14="AM",C14="Re",C14="Fe"),"",1)) | H14: =((G14-F14)+(G15-F15)) -> 0 | K14: =IF(OR(C14="Cp"),1,"") | R14: =((Q14-P14)-(Q15-P15)) -> 0
A15: S 02 | D15: S
B16: =DATE(Calendrier!$A$1,_xlfn.SHEET()-1,(ROW()/2)-1) -> 43684 | D16: M | E16: =IF(C16="","",IF(OR(C16="Cp",C16="AM",C16="Re",C16="Fe"),"",1)) | F16: 8 | G16: 10 | H16: =((G16-F16)+(G17-F17)) -> 2 | K16: =IF(OR(C16="Cp"),1,"") | P16: 18 | Q16: 20 | R16: =((Q16-P16)-(Q17-P17)) -> 2
A17: =SUM(H16:H31)+SUM(R16:R31) -> 4 | D17: S
B18: =DATE(Calendrier!$A$1,_xlfn.SHEET()-1,(ROW()/2)-1) -> 43685 | D18: M | E18: =IF(C18="","",IF(OR(C18="Cp",C18="AM",C18="Re",C18="Fe"),"",1)) | H18: =((G18-F18)+(G19-F19)) -> 0 | K18: =IF(OR(C18="Cp"),1,"") | R18: =((Q18-P18)-(Q19-P19)) -> 0
D19: S
B20: =DATE(Calendrier!$A$1,_xlfn.SHEET()-1,(ROW()/2)-1) -> 43686 | D20: M | E20: =IF(C20="","",IF(OR(C20="Cp",C20="AM",C20="Re",C20="Fe"),"",1)) | H20: =((G20-F20)+(G21-F21)) -> 0 | K20: =IF(OR(C20="Cp"),1,"") | R20: =((Q20-P20)-(Q21-P21)) -> 0
D21: S
B22: =DATE(Calendrier!$A$1,_xlfn.SHEET()-1,(ROW()/2)-1) -> 43687 | D22: M | E22: =IF(C22="","",IF(OR(C22="Cp",C22="AM",C22="Re",C22="Fe"),"",1)) | H22: =((G22-F22)+(G23-F23)) -> 0 | K22: =IF(OR(C22="Cp"),1,"") | R22: =((Q22-P22)-(Q23-P23)) -> 0
D23: S
B24: =DATE(Calendrier!$A$1,_xlfn.SHEET()-1,(ROW()/2)-1) -> 43688 | D24: M | E24: =IF(C24="","",IF(OR(C24="Cp",C24="AM",C24="Re",C24="Fe"),"",1)) | H24: =((G24-F24)+(G25-F25)) -> 0 | K24: =IF(OR(C24="Cp"),1,"") | R24: =((Q24-P24)-(Q25-P25)) -> 0
D25: S
B26: =DATE(Calendrier!$A$1,_xlfn.SHEET()-1,(ROW()/2)-1) -> 43689 | D26: M | E26: =IF(C26="","",IF(OR(C26="Cp",C26="AM",C26="Re",C26="Fe"),"",1)) | H26: =((G26-F26)+(G27-F27)) -> 0 | K26: =IF(OR(C26="Cp"),1,"") | R26: =((Q26-P26)-(Q27-P27)) -> 0
D27: S
B28: =DATE(Calendrier!$A$1,_xlfn.SHEET()-1,(ROW()/2)-1) -> 43690 | D28: M | E28: =IF(C28="","",IF(OR(C28="Cp",C28="AM",C28="Re",C28="Fe"),"",1)) | H28: =((G28-F28)+(G29-F29)) -> 0 | K28: =IF(OR(C28="Cp"),1,"") | R28: =((Q28-P28)-(Q29-P29)) -> 0
A29: S 03 | D29: S
B30: =DATE(Calendrier!$A$1,_xlfn.SHEET()-1,(ROW()/2)-1) -> 43691 | D30: M | E30: =IF(C30="","",IF(OR(C30="Cp",C30="AM",C30="Re",C30="Fe"),"",1)) | H30: =((G30-F30)+(G31-F31)) -> 0 | K30: =IF(OR(C30="Cp"),1,"") | R30: =((Q30-P30)-(Q31-P31)) -> 0
D31: S
B32: =DATE(Calendrier!$A$1,_xlfn.SHEET()-1,(ROW()/2)-1) -> 43692 | D32: M | E32: =IF(C32="","",IF(OR(C32="Cp",C32="AM",C32="Re",C32="Fe"),"",1)) | H32: =((G32-F32)+(G33-F33)) -> 0 | K32: =IF(OR(C32="Cp"),1,"") | R32: =((Q32-P32)-(Q33-P33)) -> 0
D33: S
B34: =DATE(Calendrier!$A$1,_xlfn.SHEET()-1,(ROW()/2)-1) -> 43693 | D34: M | E34: =IF(C34="","",IF(OR(C34="Cp",C34="AM",C34="Re",C34="Fe"),"",1)) | H34: =((G34-F34)+(G35-F35)) -> 0 | K34: =IF(OR(C34="Cp"),1,"") | R34: =((Q34-P34)-(Q35-P35)) -> 0
D35: S
B36: =DATE(Calendrier!$A$1,_xlfn.SHEET()-1,(ROW()/2)-1) -> 43694 | D36: M | E36: =IF(C36="","",IF(OR(C36="Cp",C36="AM",C36="Re",C36="Fe"),"",1)) | H36: =((G36-F36)+(G37-F37)) -> 0 | K36: =IF(OR(C36="Cp"),1,"") | R36: =((Q36-P36)-(Q37-P37)) -> 0
D37: S
B38: =DATE(Calendrier!$A$1,_xlfn.SHEET()-1,(ROW()/2)-1) -> 43695 | D38: M | E38: =IF(C38="","",IF(OR(C38="Cp",C38="AM",C38="Re",C38="Fe"),"",1)) | H38: =((G38-F38)+(G39-F39)) -> 0 | R38: =((Q38-P38)-(Q39-P39)) -> 0
D39: S
B40: =DATE(Calendrier!$A$1,_xlfn.SHEET()-1,(ROW()/2)-1) -> 43696 | D40: M | E40: =IF(C40="","",IF(OR(C40="Cp",C40="AM",C40="Re",C40="Fe"),"",1)) | H40: =((G40-F40)+(G41-F41)) -> 0 | K40: =IF(OR(C40="Cp"),1,"") | R40: =((Q40-P40)-(Q41-P41)) -> 0
D41: S
B42: =DATE(Calendrier!$A$1,_xlfn.SHEET()-1,(ROW()/2)-1) -> 43697 | D42: M | E42: =IF(C42="","",IF(OR(C42="Cp",C42="AM",C42="Re",C42="Fe"),"",1)) | H42: =((G42-F42)+(G43-F43)) -> 0 | K42: =IF(OR(C42="Cp"),1,"") | R42: =((Q42-P42)-(Q43-P43)) -> 0
D43: S
B44: =DATE(Calendrier!$A$1,_xlfn.SHEET()-1,(ROW()/2)-1) -> 43698 | D44: M | E44: =IF(C44="","",IF(OR(C44="Cp",C44="AM",C44="Re",C44="Fe"),"",1)) | H44: =((G44-F44)+(G45-F45)) -> 0 | K44: =IF(OR(C44="Cp"),1,"") | R44: =((Q44-P44)-(Q45-P45)) -> 0
D45: S
B46: =DATE(Calendrier!$A$1,_xlfn.SHEET()-1,(ROW()/2)-1) -> 43699 | D46: M | E46: =IF(C46="","",IF(OR(C46="Cp",C46="AM",C46="Re",C46="Fe"),"",1)) | H46: =((G46-F46)+(G47-F47)) -> 0 | K46: =IF(OR(C46="Cp"),1,"") | R46: =((Q46-P46)-(Q47-P47)) -> 0
D47: S
B48: =DATE(Calendrier!$A$1,_xlfn.SHEET()-1,(ROW()/2)-1) -> 43700 | D48: M | E48: =IF(C48="","",IF(OR(C48="Cp",C48="AM",C48="Re",C48="Fe"),"",1)) | H48: =((G48-F48)+(G49-F49)) -> 0 | K48: =IF(OR(C48="Cp"),1,"") | R48: =((Q48-P48)-(Q49-P49)) -> 0
D49: S
B50: =DATE(Calendrier!$A$1,_xlfn.SHEET()-1,(ROW()/2)-1) -> 43701 | D50: M | E50: =IF(C50="","",IF(OR(C50="Cp",C50="AM",C50="Re",C50="Fe"),"",1)) | H50: =((G50-F50)+(G51-F51)) -> 0 | K50: =IF(OR(C50="Cp"),1,"") | R50: =((Q50-P50)-(Q51-P51)) -> 0
D51: S
B52: =DATE(Calendrier!$A$1,_xlfn.SHEET()-1,(ROW()/2)-1) -> 43702 | D52: M | E52: =IF(C52="","",IF(OR(C52="Cp",C52="AM",C52="Re",C52="Fe"),"",1)) | H52: =((G52-F52)+(G53-F53)) -> 0 | K52: =IF(OR(C52="Cp"),1,"") | R52: =((Q52-P52)-(Q53-P53)) -> 0
D53: S
B54: =DATE(Calendrier!$A$1,_xlfn.SHEET()-1,(ROW()/2)-1) -> 43703 | D54: M | E54: =IF(C54="","",IF(OR(C54="Cp",C54="AM",C54="Re",C54="Fe"),"",1)) | H54: =((G54-F54)+(G55-F55)) -> 0 | K54: =IF(OR(C54="Cp"),1,"") | R54: =((Q54-P54)-(Q55-P55)) -> 0
D55: S
B56: =DATE(Calendrier!$A$1,_xlfn.SHEET()-1,(ROW()/2)-1) -> 43704 | D56: M | E56: =IF(C56="","",IF(OR(C56="Cp",C56="AM",C56="Re",C56="Fe"),"",1)) | H56: =((G56-F56)+(G57-F57)) -> 0 | K56: =IF(OR(C56="Cp"),1,"") | R56: =((Q56-P56)-(Q57-P57)) -> 0
D57: S
B58: =DATE(Calendrier!$A$1,_xlfn.SHEET()-1,(ROW()/2)-1) -> 43705 | D58: M | E58: =IF(C58="","",IF(OR(C58="Cp",C58="AM",C58="Re",C58="Fe"),"",1)) | H58: =((G58-F58)+(G59-F59)) -> 0 | K58: =IF(OR(C58="Cp"),1,"") | R58: =((Q58-P58)-(Q59-P59)) -> 0
D59: S
B60: =DATE(Calendrier!$A$1,_xlfn.SHEET()-1,(ROW()/2)-1) -> 43706 | D60: M | E60: =IF(C60="","",IF(OR(C60="Cp",C60="AM",C60="Re",C60="Fe"),"",1)) | H60: =((G60-F60)+(G61-F61)) -> 0 | K60: =IF(OR(C60="Cp"),1,"") | R60: =((Q60-P60)-(Q61-P61)) -> 0
D61: S
B62: =DATE(Calendrier!$A$1,_xlfn.SHEET()-1,(ROW()/2)-1) -> 43707 | D62: M | E62: =IF(C62="","",IF(OR(C62="Cp",C62="AM",C62="Re",C62="Fe"),"",1)) | H62: =((G62-F62)+(G63-F63)) -> 0 | K62: =IF(OR(C62="Cp"),1,"") | R62: =((Q62-P62)-(Q63-P63)) -> 0
D63: S
B64: =DATE(Calendrier!$A$1,_xlfn.SHEET()-1,(ROW()/2)-1) -> 43708 | D64: M | E64: =IF(C64="","",IF(OR(C64="Cp",C64="AM",C64="Re",C64="Fe"),"",1)) | H64: =((G64-F64)+(G65-F65)) -> 0 | K64: =IF(OR(C64="Cp"),1,"") | R64: =((Q64-P64)-(Q65-P65)) -> 0
D65: S
B66: TOTAUX | E66: =SUM(E4:E65) -> 0 | F66: =SUM(H4:H65) -> 4 | I66: =SUM(I4:I65) -> 0 | J66: =SUM(J4:J65) -> 0 | K66: =SUM(K4:K65) -> 0 | N66: TOTAUX | O66: =SUM(O4:O65) -> 0 | R66: =SUM(R4:R30) -> 4 | S66: =SUM(S4:S65) -> 0 | T66: =SUM(T4:T65) -> 0 | U66: =SUM(U4:U65) -> 0 | V66: =SUM(V4:V65) -> 0 | W66: =SUM(W4:W65) -> 0

Sheet Sept
Y2: =SUM(O4:O30) -> 0
A3: S 01 | B3: DATE | C3: SERV | E3: J | F3: HA | G3: HD | I3: K | J3: Ser | K3: CP | L3: MOTIF DU DEPLACEMENT | O3: Panniers | P3: HSD | Q3: HSF | R3: H.Sup | S3: Maj Nuit | T3: Maj Dim. | U3: Maj J.Fé. | V3: Astreinte | W3: SSLIA | Y3: =SUM(O30:O30) -> 0
B4: =DATE(Calendrier!$A$1,_xlfn.SHEET()-1,(ROW()/2)-1) -> 43709 | D4: M | E4: =IF(C4="","",IF(OR(C4="Cp",C4="AM",C4="Re",C4="Fe"),"",1)) | F4: 8 | G4: 10 | H4: =((G4-F4)+(G5-F5)) -> 2 | K4: =IF(OR(C4="Cp"),1,"") | P4: 18 | Q4: 20 | R4: =((Q4-P4)-(Q5-P5)) -> 2 | Y4: =SUM(#REF!) -> #REF!
A5: jui | D5: S
B6: =DATE(Calendrier!$A$1,_xlfn.SHEET()-1,(ROW()/2)-1) -> 43710 | D6: M | E6: =IF(C6="","",IF(OR(C6="Cp",C6="AM",C6="Re",C6="Fe"),"",1)) | H6: =((G6-F6)+(G7-F7)) -> 0 | R6: =((Q6-P6)-(Q7-P7)) -> 0 | Y6: =SUM(#REF!) -> #REF!
D7: S
B8: =DATE(Calendrier!$A$1,_xlfn.SHEET()-1,(ROW()/2)-1) -> 43711 | D8: M | E8: =IF(C8="","",IF(OR(C8="Cp",C8="AM",C8="Re",C8="Fe"),"",1)) | H8: =((G8-F8)+(G9-F9)) -> 0 | K8: =IF(OR(C8="Cp"),1,"") | R8: =((Q8-P8)-(Q9-P9)) -> 0
D9: S
B10: =DATE(Calendrier!$A$1,_xlfn.SHEET()-1,(ROW()/2)-1) -> 43712 | D10: M | E10: =IF(C10="","",IF(OR(C10="Cp",C10="AM",C10="Re",C10="Fe"),"",1)) | H10: =((G10-F10)+(G11-F11)) -> 0 | K10: =IF(OR(C10="Cp"),1,"") | R10: =((Q10-P10)-(Q11-P11)) -> 0
D11: S
B12: =DATE(Calendrier!$A$1,_xlfn.SHEET()-1,(ROW()/2)-1) -> 43713 | D12: M | E12: =IF(C12="","",IF(OR(C12="Cp",C12="AM",C12="Re",C12="Fe"),"",1)) | H12: =((G12-F12)+(G13-F13)) -> 0 | K12: =IF(OR(C12="Cp"),1,"") | R12: =((Q12-P12)-(Q13-P13)) -> 0
D13: S
B14: =DATE(Calendrier!$A$1,_xlfn.SHEET()-1,(ROW()/2)-1) -> 43714 | D14: M | E14: =IF(C14="","",IF(OR(C14="Cp",C14="AM",C14="Re",C14="Fe"),"",1)) | H14: =((G14-F14)+(G15-F15)) -> 0 | K14: =IF(OR(C14="Cp"),1,"") | R14: =((Q14-P14)-(Q15-P15)) -> 0
A15: S 02 | D15: S
B16: =DATE(Calendrier!$A$1,_xlfn.SHEET()-1,(ROW()/2)-1) -> 43715 | D16: M | E16: =IF(C16="","",IF(OR(C16="Cp",C16="AM",C16="Re",C16="Fe"),"",1)) | F16: 8 | G16: 10 | H16: =((G16-F16)+(G17-F17)) -> 2 | K16: =IF(OR(C16="Cp"),1,"") | P16: 18 | Q16: 20 | R16: =((Q16-P16)-(Q17-P17)) -> 2
A17: =SUM(H16:H31)+SUM(R16:R31) -> 4 | D17: S
B18: =DATE(Calendrier!$A$1,_xlfn.SHEET()-1,(ROW()/2)-1) -> 43716 | D18: M | E18: =IF(C18="","",IF(OR(C18="Cp",C18="AM",C18="Re",C18="Fe"),"",1)) | H18: =((G18-F18)+(G19-F19)) -> 0 | K18: =IF(OR(C18="Cp"),1,"") | R18: =((Q18-P18)-(Q19-P19)) -> 0
D19: S
B20: =DATE(Calendrier!$A$1,_xlfn.SHEET()-1,(ROW()/2)-1) -> 43717 | D20: M | E20: =IF(C20="","",IF(OR(C20="Cp",C20="AM",C20="Re",C20="Fe"),"",1)) | H20: =((G20-F20)+(G21-F21)) -> 0 | K20: =IF(OR(C20="Cp"),1,"") | R20: =((Q20-P20)-(Q21-P21)) -> 0
D21: S
B22: =DATE(Calendrier!$A$1,_xlfn.SHEET()-1,(ROW()/2)-1) -> 43718 | D22: M | E22: =IF(C22="","",IF(OR(C22="Cp",C22="AM",C22="Re",C22="Fe"),"",1)) | H22: =((G22-F22)+(G23-F23)) -> 0 | K22: =IF(OR(C22="Cp"),1,"") | R22: =((Q22-P22)-(Q23-P23)) -> 0
D23: S
B24: =DATE(Calendrier!$A$1,_xlfn.SHEET()-1,(ROW()/2)-1) -> 43719 | D24: M | E24: =IF(C24="","",IF(OR(C24="Cp",C24="AM",C24="Re",C24="Fe"),"",1)) | H24: =((G24-F24)+(G25-F25)) -> 0 | K24: =IF(OR(C24="Cp"),1,"") | R24: =((Q24-P24)-(Q25-P25)) -> 0
D25: S
B26: =DATE(Calendrier!$A$1,_xlfn.SHEET()-1,(ROW()/2)-1) -> 43720 | D26: M | E26: =IF(C26="","",IF(OR(C26="Cp",C26="AM",C26="Re",C26="Fe"),"",1)) | H26: =((G26-F26)+(G27-F27)) -> 0 | K26: =IF(OR(C26="Cp"),1,"") | R26: =((Q26-P26)-(Q27-P27)) -> 0
D27: S
B28: =DATE(Calendrier!$A$1,_xlfn.SHEET()-1,(ROW()/2)-1) -> 43721 | D28: M | E28: =IF(C28="","",IF(OR(C28="Cp",C28="AM",C28="Re",C28="Fe"),"",1)) | H28: =((G28-F28)+(G29-F29)) -> 0 | K28: =IF(OR(C28="Cp"),1,"") | R28: =((Q28-P28)-(Q29-P29)) -> 0
A29: S 03 | D29: S
B30: =DATE(Calendrier!$A$1,_xlfn.SHEET()-1,(ROW()/2)-1) -> 43722 | D30: M | E30: =IF(C30="","",IF(OR(C30="Cp",C30="AM",C30="Re",C30="Fe"),"",1)) | H30: =((G30-F30)+(G31-F31)) -> 0 | K30: =IF(OR(C30="Cp"),1,"") | R30: =((Q30-P30)-(Q31-P31)) -> 0
D31: S
B32: =DATE(Calendrier!$A$1,_xlfn.SHEET()-1,(ROW()/2)-1) -> 43723 | D32: M | E32: =IF(C32="","",IF(OR(C32="Cp",C32="AM",C32="Re",C32="Fe"),"",1)) | H32: =((G32-F32)+(G33-F33)) -> 0 | K32: =IF(OR(C32="Cp"),1,"") | R32: =((Q32-P32)-(Q33-P33)) -> 0
D33: S
B34: =DATE(Calendrier!$A$1,_xlfn.SHEET()-1,(ROW()/2)-1) -> 43724 | D34: M | E34: =IF(C34="","",IF(OR(C34="Cp",C34="AM",C34="Re",C34="Fe"),"",1)) | H34: =((G34-F34)+(G35-F35)) -> 0 | K34: =IF(OR(C34="Cp"),1,"") | R34: =((Q34-P34)-(Q35-P35)) -> 0
D35: S
B36: =DATE(Calendrier!$A$1,_xlfn.SHEET()-1,(ROW()/2)-1) -> 43725 | D36: M | E36: =IF(C36="","",IF(OR(C36="Cp",C36="AM",C36="Re",C36="Fe"),"",1)) | H36: =((G36-F36)+(G37-F37)) -> 0 | K36: =IF(OR(C36="Cp"),1,"") | R36: =((Q36-P36)-(Q37-P37)) -> 0
D37: S
B38: =DATE(Calendrier!$A$1,_xlfn.SHEET()-1,(ROW()/2)-1) -> 43726 | D38: M | E38: =IF(C38="","",IF(OR(C38="Cp",C38="AM",C38="Re",C38="Fe"),"",1)) | H38: =((G38-F38)+(G39-F39)) -> 0 | R38: =((Q38-P38)-(Q39-P39)) -> 0
D39: S
B40: =DATE(Calendrier!$A$1,_xlfn.SHEET()-1,(ROW()/2)-1) -> 43727 | D40: M | E40: =IF(C40="","",IF(OR(C40="Cp",C40="AM",C40="Re",C40="Fe"),"",1)) | H40: =((G40-F40)+(G41-F41)) -> 0 | K40: =IF(OR(C40="Cp"),1,"") | R40: =((Q40-P40)-(Q41-P41)) -> 0
D41: S
B42: =DATE(Calendrier!$A$1,_xlfn.SHEET()-1,(ROW()/2)-1) -> 43728 | D42: M | E42: =IF(C42="","",IF(OR(C42="Cp",C42="AM",C42="Re",C42="Fe"),"",1)) | H42: =((G42-F42)+(G43-F43)) -> 0 | K42: =IF(OR(C42="Cp"),1,"") | R42: =((Q42-P42)-(Q43-P43)) -> 0
D43: S
B44: =DATE(Calendrier!$A$1,_xlfn.SHEET()-1,(ROW()/2)-1) -> 43729 | D44: M | E44: =IF(C44="","",IF(OR(C44="Cp",C44="AM",C44="Re",C44="Fe"),"",1)) | H44: =((G44-F44)+(G45-F45)) -> 0 | K44: =IF(OR(C44="Cp"),1,"") | R44: =((Q44-P44)-(Q45-P45)) -> 0
D45: S
B46: =DATE(Calendrier!$A$1,_xlfn.SHEET()-1,(ROW()/2)-1) -> 43730 | D46: M | E46: =IF(C46="","",IF(OR(C46="Cp",C46="AM",C46="Re",C46="Fe"),"",1)) | H46: =((G46-F46)+(G47-F47)) -> 0 | K46: =IF(OR(C46="Cp"),1,"") | R46: =((Q46-P46)-(Q47-P47)) -> 0
D47: S
B48: =DATE(Calendrier!$A$1,_xlfn.SHEET()-1,(ROW()/2)-1) -> 43731 | D48: M | E48: =IF(C48="","",IF(OR(C48="Cp",C48="AM",C48="Re",C48="Fe"),"",1)) | H48: =((G48-F48)+(G49-F49)) -> 0 | K48: =IF(OR(C48="Cp"),1,"") | R48: =((Q48-P48)-(Q49-P49)) -> 0
D49: S
B50: =DATE(Calendrier!$A$1,_xlfn.SHEET()-1,(ROW()/2)-1) -> 43732 | D50: M | E50: =IF(C50="","",IF(OR(C50="Cp",C50="AM",C50="Re",C50="Fe"),"",1)) | H50: =((G50-F50)+(G51-F51)) -> 0 | K50: =IF(OR(C50="Cp"),1,"") | R50: =((Q50-P50)-(Q51-P51)) -> 0
D51: S
B52: =DATE(Calendrier!$A$1,_xlfn.SHEET()-1,(ROW()/2)-1) -> 43733 | D52: M | E52: =IF(C52="","",IF(OR(C52="Cp",C52="AM",C52="Re",C52="Fe"),"",1)) | H52: =((G52-F52)+(G53-F53)) -> 0 | K52: =IF(OR(C52="Cp"),1,"") | R52: =((Q52-P52)-(Q53-P53)) -> 0
D53: S
B54: =DATE(Calendrier!$A$1,_xlfn.SHEET()-1,(ROW()/2)-1) -> 43734 | D54: M | E54: =IF(C54="","",IF(OR(C54="Cp",C54="AM",C54="Re",C54="Fe"),"",1)) | H54: =((G54-F54)+(G55-F55)) -> 0 | K54: =IF(OR(C54="Cp"),1,"") | R54: =((Q54-P54)-(Q55-P55)) -> 0
D55: S
B56: =DATE(Calendrier!$A$1,_xlfn.SHEET()-1,(ROW()/2)-1) -> 43735 | D56: M | E56: =IF(C56="","",IF(OR(C56="Cp",C56="AM",C56="Re",C56="Fe"),"",1)) | H56: =((G56-F56)+(G57-F57)) -> 0 | K56: =IF(OR(C56="Cp"),1,"") | R56: =((Q56-P56)-(Q57-P57)) -> 0
D57: S
B58: =DATE(Calendrier!$A$1,_xlfn.SHEET()-1,(ROW()/2)-1) -> 43736 | D58: M | E58: =IF(C58="","",IF(OR(C58="Cp",C58="AM",C58="Re",C58="Fe"),"",1)) | H58: =((G58-F58)+(G59-F59)) -> 0 | K58: =IF(OR(C58="Cp"),1,"") | R58: =((Q58-P58)-(Q59-P59)) -> 0
D59: S
B60: =DATE(Calendrier!$A$1,_xlfn.SHEET()-1,(ROW()/2)-1) -> 43737 | D60: M | E60: =IF(C60="","",IF(OR(C60="Cp",C60="AM",C60="Re",C60="Fe"),"",1)) | H60: =((G60-F60)+(G61-F61)) -> 0 | K60: =IF(OR(C60="Cp"),1,"") | R60: =((Q60-P60)-(Q61-P61)) -> 0
D61: S
B62: =DATE(Calendrier!$A$1,_xlfn.SHEET()-1,(ROW()/2)-1) -> 43738 | D62: M | E62: =IF(C62="","",IF(OR(C62="Cp",C62="AM",C62="Re",C62="Fe"),"",1)) | H62: =((G62-F62)+(G63-F63)) -> 0 | K62: =IF(OR(C62="Cp"),1,"") | R62: =((Q62-P62)-(Q63-P63)) -> 0
D63: S
B64: 31 | D64: M | E64: =IF(C64="","",IF(OR(C64="Cp",C64="AM",C64="Re",C64="Fe"),"",1)) | H64: =((G64-F64)+(G65-F65)) -> 0 | K64: =IF(OR(C64="Cp"),1,"") | R64: =((Q64-P64)-(Q65-P65)) -> 0
D65: S
B66: TOTAUX | E66: =SUM(E4:E65) -> 0 | F66: =SUM(H4:H65) -> 4 | I66: =SUM(I4:I65) -> 0 | J66: =SUM(J4:J65) -> 0 | K66: =SUM(K4:K65) -> 0 | N66: TOTAUX | O66: =SUM(O4:O65) -> 0 | R66: =SUM(R4:R30) -> 4 | S66: =SUM(S4:S65) -> 0 | T66: =SUM(T4:T65) -> 0 | U66: =SUM(U4:U65) -> 0 | V66: =SUM(V4:V65) -> 0 | W66: =SUM(W4:W65) -> 0

Sheet Oct
Y2: =SUM(O4:O30) -> 0
A3: S 01 | B3: DATE | C3: SERV | E3: J | F3: HA | G3: HD | I3: K | J3: Ser | K3: CP | L3: MOTIF DU DEPLACEMENT | O3: Panniers | P3: HSD | Q3: HSF | R3: H.Sup | S3: Maj Nuit | T3: Maj Dim. | U3: Maj J.Fé. | V3: Astreinte | W3: SSLIA | Y3: =SUM(O30:O30) -> 0
B4: =DATE(Calendrier!$A$1,_xlfn.SHEET()-1,(ROW()/2)-1) -> 43739 | D4: M | E4: =IF(C4="","",IF(OR(C4="Cp",C4="AM",C4="Re",C4="Fe"),"",1)) | F4: 8 | G4: 10 | H4: =((G4-F4)+(G5-F5)) -> 2 | K4: =IF(OR(C4="Cp"),1,"") | P4: 18 | Q4: 20 | R4: =((Q4-P4)-(Q5-P5)) -> 2 | Y4: =SUM(#REF!) -> #REF!
A5: jui | D5: S
B6: =DATE(Calendrier!$A$1,_xlfn.SHEET()-1,(ROW()/2)-1) -> 43740 | D6: M | E6: =IF(C6="","",IF(OR(C6="Cp",C6="AM",C6="Re",C6="Fe"),"",1)) | H6: =((G6-F6)+(G7-F7)) -> 0 | R6: =((Q6-P6)-(Q7-P7)) -> 0 | Y6: =SUM(#REF!) -> #REF!
D7: S
B8: =DATE(Calendrier!$A$1,_xlfn.SHEET()-1,(ROW()/2)-1) -> 43741 | D8: M | E8: =IF(C8="","",IF(OR(C8="Cp",C8="AM",C8="Re",C8="Fe"),"",1)) | H8: =((G8-F8)+(G9-F9)) -> 0 | K8: =IF(OR(C8="Cp"),1,"") | R8: =((Q8-P8)-(Q9-P9)) -> 0
D9: S
B10: =DATE(Calendrier!$A$1,_xlfn.SHEET()-1,(ROW()/2)-1) -> 43742 | D10: M | E10: =IF(C10="","",IF(OR(C10="Cp",C10="AM",C10="Re",C10="Fe"),"",1)) | H10: =((G10-F10)+(G11-F11)) -> 0 | K10: =IF(OR(C10="Cp"),1,"") | R10: =((Q10-P10)-(Q11-P11)) -> 0
D11: S
B12: =DATE(Calendrier!$A$1,_xlfn.SHEET()-1,(ROW()/2)-1) -> 43743 | D12: M | E12: =IF(C12="","",IF(OR(C12="Cp",C12="AM",C12="Re",C12="Fe"),"",1)) | H12: =((G12-F12)+(G13-F13)) -> 0 | K12: =IF(OR(C12="Cp"),1,"") | R12: =((Q12-P12)-(Q13-P13)) -> 0
D13: S
B14: =DATE(Calendrier!$A$1,_xlfn.SHEET()-1,(ROW()/2)-1) -> 43744 | D14: M | E14: =IF(C14="","",IF(OR(C14="Cp",C14="AM",C14="Re",C14="Fe"),"",1)) | H14: =((G14-F14)+(G15-F15)) -> 0 | K14: =IF(OR(C14="Cp"),1,"") | R14: =((Q14-P14)-(Q15-P15)) -> 0
A15: S 02 | D15: S
B16: =DATE(Calendrier!$A$1,_xlfn.SHEET()-1,(ROW()/2)-1) -> 43745 | D16: M | E16: =IF(C16="","",IF(OR(C16="Cp",C16="AM",C16="Re",C16="Fe"),"",1)) | F16: 8 | G16: 10 | H16: =((G16-F16)+(G17-F17)) -> 2 | K16: =IF(OR(C16="Cp"),1,"") | P16: 18 | Q16: 20 | R16: =((Q16-P16)-(Q17-P17)) -> 2
A17: =SUM(H16:H31)+SUM(R16:R31) -> 4 | D17: S
B18: =DATE(Calendrier!$A$1,_xlfn.SHEET()-1,(ROW()/2)-1) -> 43746 | D18: M | E18: =IF(C18="","",IF(OR(C18="Cp",C18="AM",C18="Re",C18="Fe"),"",1)) | H18: =((G18-F18)+(G19-F19)) -> 0 | K18: =IF(OR(C18="Cp"),1,"") | R18: =((Q18-P18)-(Q19-P19)) -> 0
D19: S
B20: =DATE(Calendrier!$A$1,_xlfn.SHEET()-1,(ROW()/2)-1) -> 43747 | D20: M | E20: =IF(C20="","",IF(OR(C20="Cp",C20="AM",C20="Re",C20="Fe"),"",1)) | H20: =((G20-F20)+(G21-F21)) -> 0 | K20: =IF(OR(C20="Cp"),1,"") | R20: =((Q20-P20)-(Q21-P21)) -> 0
D21: S
B22: =DATE(Calendrier!$A$1,_xlfn.SHEET()-1,(ROW()/2)-1) -> 43748 | D22: M | E22: =IF(C22="","",IF(OR(C22="Cp",C22="AM",C22="Re",C22="Fe"),"",1)) | H22: =((G22-F22)+(G23-F23)) -> 0 | K22: =IF(OR(C22="Cp"),1,"") | R22: =((Q22-P22)-(Q23-P23)) -> 0
D23: S
B24: =DATE(Calendrier!$A$1,_xlfn.SHEET()-1,(ROW()/2)-1) -> 43749 | D24: M | E24: =IF(C24="","",IF(OR(C24="Cp",C24="AM",C24="Re",C24="Fe"),"",1)) | H24: =((G24-F24)+(G25-F25)) -> 0 | K24: =IF(OR(C24="Cp"),1,"") | R24: =((Q24-P24)-(Q25-P25)) -> 0
D25: S
B26: =DATE(Calendrier!$A$1,_xlfn.SHEET()-1,(ROW()/2)-1) -> 43750 | D26: M | E26: =IF(C26="","",IF(OR(C26="Cp",C26="AM",C26="Re",C26="Fe"),"",1)) | H26: =((G26-F26)+(G27-F27)) -> 0 | K26: =IF(OR(C26="Cp"),1,"") | R26: =((Q26-P26)-(Q27-P27)) -> 0
D27: S
B28: =DATE(Calendrier!$A$1,_xlfn.SHEET()-1,(ROW()/2)-1) -> 43751 | D28: M | E28: =IF(C28="","",IF(OR(C28="Cp",C28="AM",C28="Re",C28="Fe"),"",1)) | H28: =((G28-F28)+(G29-F29)) -> 0 | K28: =IF(OR(C28="Cp"),1,"") | R28: =((Q28-P28)-(Q29-P29)) -> 0
A29: S 03 | D29: S
B30: =DATE(Calendrier!$A$1,_xlfn.SHEET()-1,(ROW()/2)-1) -> 43752 | D30: M | E30: =IF(C30="","",IF(OR(C30="Cp",C30="AM",C30="Re",C30="Fe"),"",1)) | H30: =((G30-F30)+(G31-F31)) -> 0 | K30: =IF(OR(C30="Cp"),1,"") | R30: =((Q30-P30)-(Q31-P31)) -> 0
D31: S
B32: =DATE(Calendrier!$A$1,_xlfn.SHEET()-1,(ROW()/2)-1) -> 43753 | D32: M | E32: =IF(C32="","",IF(OR(C32="Cp",C32="AM",C32="Re",C32="Fe"),"",1)) | H32: =((G32-F32)+(G33-F33)) -> 0 | K32: =IF(OR(C32="Cp"),1,"") | R32: =((Q32-P32)-(Q33-P33)) -> 0
D33: S
B34: =DATE(Calendrier!$A$1,_xlfn.SHEET()-1,(ROW()/2)-1) -> 43754 | D34: M | E34: =IF(C34="","",IF(OR(C34="Cp",C34="AM",C34="Re",C34="Fe"),"",1)) | H34: =((G34-F34)+(G35-F35)) -> 0 | K34: =IF(OR(C34="Cp"),1,"") | R34: =((Q34-P34)-(Q35-P35)) -> 0
D35: S
B36: =DATE(Calendrier!$A$1,_xlfn.SHEET()-1,(ROW()/2)-1) -> 43755 | D36: M | E36: =IF(C36="","",IF(OR(C36="Cp",C36="AM",C36="Re",C36="Fe"),"",1)) | H36: =((G36-F36)+(G37-F37)) -> 0 | K36: =IF(OR(C36="Cp"),1,"") | R36: =((Q36-P36)-(Q37-P37)) -> 0
D37: S
B38: =DATE(Calendrier!$A$1,_xlfn.SHEET()-1,(ROW()/2)-1) -> 43756 | D38: M | E38: =IF(C38="","",IF(OR(C38="Cp",C38="AM",C38="Re",C38="Fe"),"",1)) | H38: =((G38-F38)+(G39-F39)) -> 0 | R38: =((Q38-P38)-(Q39-P39)) -> 0
D39: S
B40: =DATE(Calendrier!$A$1,_xlfn.SHEET()-1,(ROW()/2)-1) -> 43757 | D40: M | E40: =IF(C40="","",IF(OR(C40="Cp",C40="AM",C40="Re",C40="Fe"),"",1)) | H40: =((G40-F40)+(G41-F41)) -> 0 | K40: =IF(OR(C40="Cp"),1,"") | R40: =((Q40-P40)-(Q41-P41)) -> 0
D41: S
B42: =DATE(Calendrier!$A$1,_xlfn.SHEET()-1,(ROW()/2)-1) -> 43758 | D42: M | E42: =IF(C42="","",IF(OR(C42="Cp",C42="AM",C42="Re",C42="Fe"),"",1)) | H42: =((G42-F42)+(G43-F43)) -> 0 | K42: =IF(OR(C42="Cp"),1,"") | R42: =((Q42-P42)-(Q43-P43)) -> 0
D43: S
B44: =DATE(Calendrier!$A$1,_xlfn.SHEET()-1,(ROW()/2)-1) -> 43759 | D44: M | E44: =IF(C44="","",IF(OR(C44="Cp",C44="AM",C44="Re",C44="Fe"),"",1)) | H44: =((G44-F44)+(G45-F45)) -> 0 | K44: =IF(OR(C44="Cp"),1,"") | R44: =((Q44-P44)-(Q45-P45)) -> 0
D45: S
B46: =DATE(Calendrier!$A$1,_xlfn.SHEET()-1,(ROW()/2)-1) -> 43760 | D46: M | E46: =IF(C46="","",IF(OR(C46="Cp",C46="AM",C46="Re",C46="Fe"),"",1)) | H46: =((G46-F46)+(G47-F47)) -> 0 | K46: =IF(OR(C46="Cp"),1,"") | R46: =((Q46-P46)-(Q47-P47)) -> 0
D47: S
B48: =DATE(Calendrier!$A$1,_xlfn.SHEET()-1,(ROW()/2)-1) -> 43761 | D48: M | E48: =IF(C48="","",IF(OR(C48="Cp",C48="AM",C48="Re",C48="Fe"),"",1)) | H48: =((G48-F48)+(G49-F49)) -> 0 | K48: =IF(OR(C48="Cp"),1,"") | R48: =((Q48-P48)-(Q49-P49)) -> 0
D49: S
B50: =DATE(Calendrier!$A$1,_xlfn.SHEET()-1,(ROW()/2)-1) -> 43762 | D50: M | E50: =IF(C50="","",IF(OR(C50="Cp",C50="AM",C50="Re",C50="Fe"),"",1)) | H50: =((G50-F50)+(G51-F51)) -> 0 | K50: =IF(OR(C50="Cp"),1,"") | R50: =((Q50-P50)-(Q51-P51)) -> 0
D51: S
B52: =DATE(Calendrier!$A$1,_xlfn.SHEET()-1,(ROW()/2)-1) -> 43763 | D52: M | E52: =IF(C52="","",IF(OR(C52="Cp",C52="AM",C52="Re",C52="Fe"),"",1)) | H52: =((G52-F52)+(G53-F53)) -> 0 | K52: =IF(OR(C52="Cp"),1,"") | R52: =((Q52-P52)-(Q53-P53)) -> 0
D53: S
B54: =DATE(Calendrier!$A$1,_xlfn.SHEET()-1,(ROW()/2)-1) -> 43764 | D54: M | E54: =IF(C54="","",IF(OR(C54="Cp",C54="AM",C54="Re",C54="Fe"),"",1)) | H54: =((G54-F54)+(G55-F55)) -> 0 | K54: =IF(OR(C54="Cp"),1,"") | R54: =((Q54-P54)-(Q55-P55)) -> 0
D55: S
B56: =DATE(Calendrier!$A$1,_xlfn.SHEET()-1,(ROW()/2)-1) -> 43765 | D56: M | E56: =IF(C56="","",IF(OR(C56="Cp",C56="AM",C56="Re",C56="Fe"),"",1)) | H56: =((G56-F56)+(G57-F57)) -> 0 | K56: =IF(OR(C56="Cp"),1,"") | R56: =((Q56-P56)-(Q57-P57)) -> 0
D57: S
B58: =DATE(Calendrier!$A$1,_xlfn.SHEET()-1,(ROW()/2)-1) -> 43766 | D58: M | E58: =IF(C58="","",IF(OR(C58="Cp",C58="AM",C58="Re",C58="Fe"),"",1)) | H58: =((G58-F58)+(G59-F59)) -> 0 | K58: =IF(OR(C58="Cp"),1,"") | R58: =((Q58-P58)-(Q59-P59)) -> 0
D59: S
B60: =DATE(Calendrier!$A$1,_xlfn.SHEET()-1,(ROW()/2)-1) -> 43767 | D60: M | E60: =IF(C60="","",IF(OR(C60="Cp",C60="AM",C60="Re",C60="Fe"),"",1)) | H60: =((G60-F60)+(G61-F61)) -> 0 | K60: =IF(OR(C60="Cp"),1,"") | R60: =((Q60-P60)-(Q61-P61)) -> 0
D61: S
B62: =DATE(Calendrier!$A$1,_xlfn.SHEET()-1,(ROW()/2)-1) -> 43768 | D62: M | E62: =IF(C62="","",IF(OR(C62="Cp",C62="AM",C62="Re",C62="Fe"),"",1)) | H62: =((G62-F62)+(G63-F63)) -> 0 | K62: =IF(OR(C62="Cp"),1,"") | R62: =((Q62-P62)-(Q63-P63)) -> 0
D63: S
B64: =DATE(Calendrier!$A$1,_xlfn.SHEET()-1,(ROW()/2)-1) -> 43769 | D64: M | E64: =IF(C64="","",IF(OR(C64="Cp",C64="AM",C64="Re",C64="Fe"),"",1)) | H64: =((G64-F64)+(G65-F65)) -> 0 | K64: =IF(OR(C64="Cp"),1,"") | R64: =((Q64-P64)-(Q65-P65)) -> 0
D65: S
B66: TOTAUX | E66: =SUM(E4:E65) -> 0 | F66: =SUM(H4:H65) -> 4 | I66: =SUM(I4:I65) -> 0 | J66: =SUM(J4:J65) -> 0 | K66: =SUM(K4:K65) -> 0 | N66: TOTAUX | O66: =SUM(O4:O65) -> 0 | R66: =SUM(R4:R30) -> 4 | S66: =SUM(S4:S65) -> 0 | T66: =SUM(T4:T65) -> 0 | U66: =SUM(U4:U65) -> 0 | V66: =SUM(V4:V65) -> 0 | W66: =SUM(W4:W65) -> 0

Sheet Nov
Y2: =SUM(O4:O30) -> 0
A3: S 01 | B3: DATE | C3: SERV | E3: J | F3: HA | G3: HD | I3: K | J3: Ser | K3: CP | L3: MOTIF DU DEPLACEMENT | O3: Panniers | P3: HSD | Q3: HSF | R3: H.Sup | S3: Maj Nuit | T3: Maj Dim. | U3: Maj J.Fé. | V3: Astreinte | W3: SSLIA | Y3: =SUM(O30:O30) -> 0
B4: =DATE(Calendrier!$A$1,_xlfn.SHEET()-1,(ROW()/2)-1) -> 43770 | D4: M | E4: =IF(C4="","",IF(OR(C4="Cp",C4="AM",C4="Re",C4="Fe"),"",1)) | F4: 8 | G4: 10 | H4: =((G4-F4)+(G5-F5)) -> 2 | K4: =IF(OR(C4="Cp"),1,"") | P4: 18 | Q4: 20 | R4: =((Q4-P4)-(Q5-P5)) -> 2 | Y4: =SUM(#REF!) -> #REF!
D5: S
B6: =DATE(Calendrier!$A$1,_xlfn.SHEET()-1,(ROW()/2)-1) -> 43771 | D6: M | E6: =IF(C6="","",IF(OR(C6="Cp",C6="AM",C6="Re",C6="Fe"),"",1)) | H6: =((G6-F6)+(G7-F7)) -> 0 | R6: =((Q6-P6)-(Q7-P7)) -> 0 | Y6: =SUM(#REF!) -> #REF!
D7: S
B8: =DATE(Calendrier!$A$1,_xlfn.SHEET()-1,(ROW()/2)-1) -> 43772 | D8: M | E8: =IF(C8="","",IF(OR(C8="Cp",C8="AM",C8="Re",C8="Fe"),"",1)) | H8: =((G8-F8)+(G9-F9)) -> 0 | K8: =IF(OR(C8="Cp"),1,"") | R8: =((Q8-P8)-(Q9-P9)) -> 0
D9: S
B10: =DATE(Calendrier!$A$1,_xlfn.SHEET()-1,(ROW()/2)-1) -> 43773 | D10: M | E10: =IF(C10="","",IF(OR(C10="Cp",C10="AM",C10="Re",C10="Fe"),"",1)) | H10: =((G10-F10)+(G11-F11)) -> 0 | K10: =IF(OR(C10="Cp"),1,"") | R10: =((Q10-P10)-(Q11-P11)) -> 0
D11: S
B12: =DATE(Calendrier!$A$1,_xlfn.SHEET()-1,(ROW()/2)-1) -> 43774 | D12: M | E12: =IF(C12="","",IF(OR(C12="Cp",C12="AM",C12="Re",C12="Fe"),"",1)) | H12: =((G12-F12)+(G13-F13)) -> 0 | K12: =IF(OR(C12="Cp"),1,"") | R12: =((Q12-P12)-(Q13-P13)) -> 0
D13: S
B14: =DATE(Calendrier!$A$1,_xlfn.SHEET()-1,(ROW()/2)-1) -> 43775 | D14: M | E14: =IF(C14="","",IF(OR(C14="Cp",C14="AM",C14="Re",C14="Fe"),"",1)) | H14: =((G14-F14)+(G15-F15)) -> 0 | K14: =IF(OR(C14="Cp"),1,"") | R14: =((Q14-P14)-(Q15-P15)) -> 0
A15: S 02 | D15: S
B16: =DATE(Calendrier!$A$1,_xlfn.SHEET()-1,(ROW()/2)-1) -> 43776 | D16: M | E16: =IF(C16="","",IF(OR(C16="Cp",C16="AM",C16="Re",C16="Fe"),"",1)) | F16: 8 | G16: 10 | H16: =((G16-F16)+(G17-F17)) -> 2 | K16: =IF(OR(C16="Cp"),1,"") | P16: 18 | Q16: 20 | R16: =((Q16-P16)-(Q17-P17)) -> 2
A17: =SUM(H16:H31)+SUM(R16:R31) -> 4 | D17: S
B18: =DATE(Calendrier!$A$1,_xlfn.SHEET()-1,(ROW()/2)-1) -> 43777 | D18: M | E18: =IF(C18="","",IF(OR(C18="Cp",C18="AM",C18="Re",C18="Fe"),"",1)) | H18: =((G18-F18)+(G19-F19)) -> 0 | K18: =IF(OR(C18="Cp"),1,"") | R18: =((Q18-P18)-(Q19-P19)) -> 0
D19: S
B20: =DATE(Calendrier!$A$1,_xlfn.SHEET()-1,(ROW()/2)-1) -> 43778 | D20: M | E20: =IF(C20="","",IF(OR(C20="Cp",C20="AM",C20="Re",C20="Fe"),"",1)) | H20: =((G20-F20)+(G21-F21)) -> 0 | K20: =IF(OR(C20="Cp"),1,"") | R20: =((Q20-P20)-(Q21-P21)) -> 0
D21: S
B22: =DATE(Calendrier!$A$1,_xlfn.SHEET()-1,(ROW()/2)-1) -> 43779 | D22: M | E22: =IF(C22="","",IF(OR(C22="Cp",C22="AM",C22="Re",C22="Fe"),"",1)) | H22: =((G22-F22)+(G23-F23)) -> 0 | K22: =IF(OR(C22="Cp"),1,"") | R22: =((Q22-P22)-(Q23-P23)) -> 0
D23: S
B24: =DATE(Calendrier!$A$1,_xlfn.SHEET()-1,(ROW()/2)-1) -> 43780 | D24: M | E24: =IF(C24="","",IF(OR(C24="Cp",C24="AM",C24="Re",C24="Fe"),"",1)) | H24: =((G24-F24)+(G25-F25)) -> 0 | K24: =IF(OR(C24="Cp"),1,"") | R24: =((Q24-P24)-(Q25-P25)) -> 0
D25: S
B26: =DATE(Calendrier!$A$1,_xlfn.SHEET()-1,(ROW()/2)-1) -> 43781 | D26: M | E26: =IF(C26="","",IF(OR(C26="Cp",C26="AM",C26="Re",C26="Fe"),"",1)) | H26: =((G26-F26)+(G27-F27)) -> 0 | K26: =IF(OR(C26="Cp"),1,"") | R26: =((Q26-P26)-(Q27-P27)) -> 0
D27: S
B28: =DATE(Calendrier!$A$1,_xlfn.SHEET()-1,(ROW()/2)-1) -> 43782 | D28: M | E28: =IF(C28="","",IF(OR(C28="Cp",C28="AM",C28="Re",C28="Fe"),"",1)) | H28: =((G28-F28)+(G29-F29)) -> 0 | K28: =IF(OR(C28="Cp"),1,"") | R28: =((Q28-P28)-(Q29-P29)) -> 0
A29: S 03 | D29: S
B30: =DATE(Calendrier!$A$1,_xlfn.SHEET()-1,(ROW()/2)-1) -> 43783 | D30: M | E30: =IF(C30="","",IF(OR(C30="Cp",C30="AM",C30="Re",C30="Fe"),"",1)) | H30: =((G30-F30)+(G31-F31)) -> 0 | K30: =IF(OR(C30="Cp"),1,"") | R30: =((Q30-P30)-(Q31-P31)) -> 0
D31: S
B32: =DATE(Calendrier!$A$1,_xlfn.SHEET()-1,(ROW()/2)-1) -> 43784 | D32: M | E32: =IF(C32="","",IF(OR(C32="Cp",C32="AM",C32="Re",C32="Fe"),"",1)) | H32: =((G32-F32)+(G33-F33)) -> 0 | K32: =IF(OR(C32="Cp"),1,"") | R32: =((Q32-P32)-(Q33-P33)) -> 0
D33: S
B34: =DATE(Calendrier!$A$1,_xlfn.SHEET()-1,(ROW()/2)-1) -> 43785 | D34: M | E34: =IF(C34="","",IF(OR(C34="Cp",C34="AM",C34="Re",C34="Fe"),"",1)) | H34: =((G34-F34)+(G35-F35)) -> 0 | K34: =IF(OR(C34="Cp"),1,"") | R34: =((Q34-P34)-(Q35-P35)) -> 0
D35: S
B36: =DATE(Calendrier!$A$1,_xlfn.SHEET()-1,(ROW()/2)-1) -> 43786 | D36: M | E36: =IF(C36="","",IF(OR(C36="Cp",C36="AM",C36="Re",C36="Fe"),"",1)) | H36: =((G36-F36)+(G37-F37)) -> 0 | K36: =IF(OR(C36="Cp"),1,"") | R36: =((Q36-P36)-(Q37-P37)) -> 0
D37: S
B38: =DATE(Calendrier!$A$1,_xlfn.SHEET()-1,(ROW()/2)-1) -> 43787 | D38: M | E38: =IF(C38="","",IF(OR(C38="Cp",C38="AM",C38="Re",C38="Fe"),"",1)) | H38: =((G38-F38)+(G39-F39)) -> 0 | R38: =((Q38-P38)-(Q39-P39)) -> 0
D39: S
B40: =DATE(Calendrier!$A$1,_xlfn.SHEET()-1,(ROW()/2)-1) -> 43788 | D40: M | E40: =IF(C40="","",IF(OR(C40="Cp",C40="AM",C40="Re",C40="Fe"),"",1)) | H40: =((G40-F40)+(G41-F41)) -> 0 | K40: =IF(OR(C40="Cp"),1,"") | R40: =((Q40-P40)-(Q41-P41)) -> 0
D41: S
B42: =DATE(Calendrier!$A$1,_xlfn.SHEET()-1,(ROW()/2)-1) -> 43789 | D42: M | E42: =IF(C42="","",IF(OR(C42="Cp",C42="AM",C42="Re",C42="Fe"),"",1)) | H42: =((G42-F42)+(G43-F43)) -> 0 | K42: =IF(OR(C42="Cp"),1,"") | R42: =((Q42-P42)-(Q43-P43)) -> 0
D43: S
B44: =DATE(Calendrier!$A$1,_xlfn.SHEET()-1,(ROW()/2)-1) -> 43790 | D44: M | E44: =IF(C44="","",IF(OR(C44="Cp",C44="AM",C44="Re",C44="Fe"),"",1)) | H44: =((G44-F44)+(G45-F45)) -> 0 | K44: =IF(OR(C44="Cp"),1,"") | R44: =((Q44-P44)-(Q45-P45)) -> 0
D45: S
B46: =DATE(Calendrier!$A$1,_xlfn.SHEET()-1,(ROW()/2)-1) -> 43791 | D46: M | E46: =IF(C46="","",IF(OR(C46="Cp",C46="AM",C46="Re",C46="Fe"),"",1)) | H46: =((G46-F46)+(G47-F47)) -> 0 | K46: =IF(OR(C46="Cp"),1,"") | R46: =((Q46-P46)-(Q47-P47)) -> 0
D47: S
B48: =DATE(Calendrier!$A$1,_xlfn.SHEET()-1,(ROW()/2)-1) -> 43792 | D48: M | E48: =IF(C48="","",IF(OR(C48="Cp",C48="AM",C48="Re",C48="Fe"),"",1)) | H48: =((G48-F48)+(G49-F49)) -> 0 | K48: =IF(OR(C48="Cp"),1,"") | R48: =((Q48-P48)-(Q49-P49)) -> 0
D49: S
B50: =DATE(Calendrier!$A$1,_xlfn.SHEET()-1,(ROW()/2)-1) -> 43793 | D50: M | E50: =IF(C50="","",IF(OR(C50="Cp",C50="AM",C50="Re",C50="Fe"),"",1)) | H50: =((G50-F50)+(G51-F51)) -> 0 | K50: =IF(OR(C50="Cp"),1,"") | R50: =((Q50-P50)-(Q51-P51)) -> 0
D51: S
B52: =DATE(Calendrier!$A$1,_xlfn.SHEET()-1,(ROW()/2)-1) -> 43794 | D52: M | E52: =IF(C52="","",IF(OR(C52="Cp",C52="AM",C52="Re",C52="Fe"),"",1)) | H52: =((G52-F52)+(G53-F53)) -> 0 | K52: =IF(OR(C52="Cp"),1,"") | R52: =((Q52-P52)-(Q53-P53)) -> 0
D53: S
B54: =DATE(Calendrier!$A$1,_xlfn.SHEET()-1,(ROW()/2)-1) -> 43795 | D54: M | E54: =IF(C54="","",IF(OR(C54="Cp",C54="AM",C54="Re",C54="Fe"),"",1)) | H54: =((G54-F54)+(G55-F55)) -> 0 | K54: =IF(OR(C54="Cp"),1,"") | R54: =((Q54-P54)-(Q55-P55)) -> 0
D55: S
B56: =DATE(Calendrier!$A$1,_xlfn.SHEET()-1,(ROW()/2)-1) -> 43796 | D56: M | E56: =IF(C56="","",IF(OR(C56="Cp",C56="AM",C56="Re",C56="Fe"),"",1)) | H56: =((G56-F56)+(G57-F57)) -> 0 | K56: =IF(OR(C56="Cp"),1,"") | R56: =((Q56-P56)-(Q57-P57)) -> 0
D57: S
B58: =DATE(Calendrier!$A$1,_xlfn.SHEET()-1,(ROW()/2)-1) -> 43797 | D58: M | E58: =IF(C58="","",IF(OR(C58="Cp",C58="AM",C58="Re",C58="Fe"),"",1)) | H58: =((G58-F58)+(G59-F59)) -> 0 | K58: =IF(OR(C58="Cp"),1,"") | R58: =((Q58-P58)-(Q59-P59)) -> 0
D59: S
B60: =DATE(Calendrier!$A$1,_xlfn.SHEET()-1,(ROW()/2)-1) -> 43798 | D60: M | E60: =IF(C60="","",IF(OR(C60="Cp",C60="AM",C60="Re",C60="Fe"),"",1)) | H60: =((G60-F60)+(G61-F61)) -> 0 | K60: =IF(OR(C60="Cp"),1,"") | R60: =((Q60-P60)-(Q61-P61)) -> 0
D61: S
B62: =DATE(Calendrier!$A$1,_xlfn.SHEET()-1,(ROW()/2)-1) -> 43799 | D62: M | E62: =IF(C62="","",IF(OR(C62="Cp",C62="AM",C62="Re",C62="Fe"),"",1)) | H62: =((G62-F62)+(G63-F63)) -> 0 | K62: =IF(OR(C62="Cp"),1,"") | R62: =((Q62-P62)-(Q63-P63)) -> 0
D63: S
B64: 31 | D64: M | E64: =IF(C64="","",IF(OR(C64="Cp",C64="AM",C64="Re",C64="Fe"),"",1)) | H64: =((G64-F64)+(G65-F65)) -> 0 | K64: =IF(OR(C64="Cp"),1,"") | R64: =((Q64-P64)-(Q65-P65)) -> 0
D65: S
B66: TOTAUX | E66: =SUM(E4:E65) -> 0 | F66: =SUM(H4:H65) -> 4 | I66: =SUM(I4:I65) -> 0 | J66: =SUM(J4:J65) -> 0 | K66: =SUM(K4:K65) -> 0 | N66: TOTAUX | O66: =SUM(O4:O65) -> 0 | R66: =SUM(R4:R30) -> 4 | S66: =SUM(S4:S65) -> 0 | T66: =SUM(T4:T65) -> 0 | U66: =SUM(U4:U65) -> 0 | V66: =SUM(V4:V65) -> 0 | W66: =SUM(W4:W65) -> 0

Sheet Dec
Y2: =SUM(O4:O30) -> 0
A3: S 01 | B3: DATE | C3: SERV | E3: J | F3: HA | G3: HD | I3: K | J3: Ser | K3: CP | L3: MOTIF DU DEPLACEMENT | O3: Panniers | P3: HSD | Q3: HSF | R3: H.Sup | S3: Maj Nuit | T3: Maj Dim. | U3: Maj J.Fé. | V3: Astreinte | W3: SSLIA | Y3: =SUM(O30:O30) -> 0
B4: =DATE(Calendrier!$A$1,_xlfn.SHEET()-1,(ROW()/2)-1) -> 43800 | D4: M | E4: =IF(C4="","",IF(OR(C4="Cp",C4="AM",C4="Re",C4="Fe"),"",1)) | F4: 8 | G4: 10 | H4: =((G4-F4)+(G5-F5)) -> 2 | K4: =IF(OR(C4="Cp"),1,"") | P4: 18 | Q4: 20 | R4: =((Q4-P4)-(Q5-P5)) -> 2 | Y4: =SUM(#REF!) -> #REF!
D5: S
B6: =DATE(Calendrier!$A$1,_xlfn.SHEET()-1,(ROW()/2)-1) -> 43801 | D6: M | E6: =IF(C6="","",IF(OR(C6="Cp",C6="AM",C6="Re",C6="Fe"),"",1)) | H6: =((G6-F6)+(G7-F7)) -> 0 | R6: =((Q6-P6)-(Q7-P7)) -> 0 | Y6: =SUM(#REF!) -> #REF!
D7: S
B8: =DATE(Calendrier!$A$1,_xlfn.SHEET()-1,(ROW()/2)-1) -> 43802 | D8: M | E8: =IF(C8="","",IF(OR(C8="Cp",C8="AM",C8="Re",C8="Fe"),"",1)) | H8: =((G8-F8)+(G9-F9)) -> 0 | K8: =IF(OR(C8="Cp"),1,"") | R8: =((Q8-P8)-(Q9-P9)) -> 0
D9: S
B10: =DATE(Calendrier!$A$1,_xlfn.SHEET()-1,(ROW()/2)-1) -> 43803 | D10: M | E10: =IF(C10="","",IF(OR(C10="Cp",C10="AM",C10="Re",C10="Fe"),"",1)) | H10: =((G10-F10)+(G11-F11)) -> 0 | K10: =IF(OR(C10="Cp"),1,"") | R10: =((Q10-P10)-(Q11-P11)) -> 0
D11: S
B12: =DATE(Calendrier!$A$1,_xlfn.SHEET()-1,(ROW()/2)-1) -> 43804 | D12: M | E12: =IF(C12="","",IF(OR(C12="Cp",C12="AM",C12="Re",C12="Fe"),"",1)) | H12: =((G12-F12)+(G13-F13)) -> 0 | K12: =IF(OR(C12="Cp"),1,"") | R12: =((Q12-P12)-(Q13-P13)) -> 0
D13: S
B14: =DATE(Calendrier!$A$1,_xlfn.SHEET()-1,(ROW()/2)-1) -> 43805 | D14: M | E14: =IF(C14="","",IF(OR(C14="Cp",C14="AM",C14="Re",C14="Fe"),"",1)) | H14: =((G14-F14)+(G15-F15)) -> 0 | K14: =IF(OR(C14="Cp"),1,"") | R14: =((Q14-P14)-(Q15-P15)) -> 0
A15: S 02 | D15: S
B16: =DATE(Calendrier!$A$1,_xlfn.SHEET()-1,(ROW()/2)-1) -> 43806 | D16: M | E16: =IF(C16="","",IF(OR(C16="Cp",C16="AM",C16="Re",C16="Fe"),"",1)) | F16: 8 | G16: 10 | H16: =((G16-F16)+(G17-F17)) -> 2 | K16: =IF(OR(C16="Cp"),1,"") | P16: 18 | Q16: 20 | R16: =((Q16-P16)-(Q17-P17)) -> 2
A17: =SUM(H16:H31)+SUM(R16:R31) -> 4 | D17: S
B18: =DATE(Calendrier!$A$1,_xlfn.SHEET()-1,(ROW()/2)-1) -> 43807 | D18: M | E18: =IF(C18="","",IF(OR(C18="Cp",C18="AM",C18="Re",C18="Fe"),"",1)) | H18: =((G18-F18)+(G19-F19)) -> 0 | K18: =IF(OR(C18="Cp"),1,"") | R18: =((Q18-P18)-(Q19-P19)) -> 0
D19: S
B20: =DATE(Calendrier!$A$1,_xlfn.SHEET()-1,(ROW()/2)-1) -> 43808 | D20: M | E20: =IF(C20="","",IF(OR(C20="Cp",C20="AM",C20="Re",C20="Fe"),"",1)) | H20: =((G20-F20)+(G21-F21)) -> 0 | K20: =IF(OR(C20="Cp"),1,"") | R20: =((Q20-P20)-(Q21-P21)) -> 0
D21: S
B22: =DATE(Calendrier!$A$1,_xlfn.SHEET()-1,(ROW()/2)-1) -> 43809 | D22: M | E22: =IF(C22="","",IF(OR(C22="Cp",C22="AM",C22="Re",C22="Fe"),"",1)) | H22: =((G22-F22)+(G23-F23)) -> 0 | K22: =IF(OR(C22="Cp"),1,"") | R22: =((Q22-P22)-(Q23-P23)) -> 0
D23: S
B24: =DATE(Calendrier!$A$1,_xlfn.SHEET()-1,(ROW()/2)-1) -> 43810 | D24: M | E24: =IF(C24="","",IF(OR(C24="Cp",C24="AM",C24="Re",C24="Fe"),"",1)) | H24: =((G24-F24)+(G25-F25)) -> 0 | K24: =IF(OR(C24="Cp"),1,"") | R24: =((Q24-P24)-(Q25-P25)) -> 0
D25: S
B26: =DATE(Calendrier!$A$1,_xlfn.SHEET()-1,(ROW()/2)-1) -> 43811 | D26: M | E26: =IF(C26="","",IF(OR(C26="Cp",C26="AM",C26="Re",C26="Fe"),"",1)) | H26: =((G26-F26)+(G27-F27)) -> 0 | K26: =IF(OR(C26="Cp"),1,"") | R26: =((Q26-P26)-(Q27-P27)) -> 0
D27: S
B28: =DATE(Calendrier!$A$1,_xlfn.SHEET()-1,(ROW()/2)-1) -> 43812 | D28: M | E28: =IF(C28="","",IF(OR(C28="Cp",C28="AM",C28="Re",C28="Fe"),"",1)) | H28: =((G28-F28)+(G29-F29)) -> 0 | K28: =IF(OR(C28="Cp"),1,"") | R28: =((Q28-P28)-(Q29-P29)) -> 0
A29: S 03 | D29: S
B30: =DATE(Calendrier!$A$1,_xlfn.SHEET()-1,(ROW()/2)-1) -> 43813 | D30: M | E30: =IF(C30="","",IF(OR(C30="Cp",C30="AM",C30="Re",C30="Fe"),"",1)) | H30: =((G30-F30)+(G31-F31)) -> 0 | K30: =IF(OR(C30="Cp"),1,"") | R30: =((Q30-P30)-(Q31-P31)) -> 0
D31: S
B32: =DATE(Calendrier!$A$1,_xlfn.SHEET()-1,(ROW()/2)-1) -> 43814 | D32: M | E32: =IF(C32="","",IF(OR(C32="Cp",C32="AM",C32="Re",C32="Fe"),"",1)) | H32: =((G32-F32)+(G33-F33)) -> 0 | K32: =IF(OR(C32="Cp"),1,"") | R32: =((Q32-P32)-(Q33-P33)) -> 0
D33: S
B34: =DATE(Calendrier!$A$1,_xlfn.SHEET()-1,(ROW()/2)-1) -> 43815 | D34: M | E34: =IF(C34="","",IF(OR(C34="Cp",C34="AM",C34="Re",C34="Fe"),"",1)) | H34: =((G34-F34)+(G35-F35)) -> 0 | K34: =IF(OR(C34="Cp"),1,"") | R34: =((Q34-P34)-(Q35-P35)) -> 0
D35: S
B36: =DATE(Calendrier!$A$1,_xlfn.SHEET()-1,(ROW()/2)-1) -> 43816 | D36: M | E36: =IF(C36="","",IF(OR(C36="Cp",C36="AM",C36="Re",C36="Fe"),"",1)) | H36: =((G36-F36)+(G37-F37)) -> 0 | K36: =IF(OR(C36="Cp"),1,"") | R36: =((Q36-P36)-(Q37-P37)) -> 0
D37: S
B38: =DATE(Calendrier!$A$1,_xlfn.SHEET()-1,(ROW()/2)-1) -> 43817 | D38: M | E38: =IF(C38="","",IF(OR(C38="Cp",C38="AM",C38="Re",C38="Fe"),"",1)) | H38: =((G38-F38)+(G39-F39)) -> 0 | R38: =((Q38-P38)-(Q39-P39)) -> 0
D39: S
B40: =DATE(Calendrier!$A$1,_xlfn.SHEET()-1,(ROW()/2)-1) -> 43818 | D40: M | E40: =IF(C40="","",IF(OR(C40="Cp",C40="AM",C40="Re",C40="Fe"),"",1)) | H40: =((G40-F40)+(G41-F41)) -> 0 | K40: =IF(OR(C40="Cp"),1,"") | R40: =((Q40-P40)-(Q41-P41)) -> 0
D41: S
B42: =DATE(Calendrier!$A$1,_xlfn.SHEET()-1,(ROW()/2)-1) -> 43819 | D42: M | E42: =IF(C42="","",IF(OR(C42="Cp",C42="AM",C42="Re",C42="Fe"),"",1)) | H42: =((G42-F42)+(G43-F43)) -> 0 | K42: =IF(OR(C42="Cp"),1,"") | R42: =((Q42-P42)-(Q43-P43)) -> 0
D43: S
B44: =DATE(Calendrier!$A$1,_xlfn.SHEET()-1,(ROW()/2)-1) -> 43820 | D44: M | E44: =IF(C44="","",IF(OR(C44="Cp",C44="AM",C44="Re",C44="Fe"),"",1)) | H44: =((G44-F44)+(G45-F45)) -> 0 | K44: =IF(OR(C44="Cp"),1,"") | R44: =((Q44-P44)-(Q45-P45)) -> 0
D45: S
B46: =DATE(Calendrier!$A$1,_xlfn.SHEET()-1,(ROW()/2)-1) -> 43821 | D46: M | E46: =IF(C46="","",IF(OR(C46="Cp",C46="AM",C46="Re",C46="Fe"),"",1)) | H46: =((G46-F46)+(G47-F47)) -> 0 | K46: =IF(OR(C46="Cp"),1,"") | R46: =((Q46-P46)-(Q47-P47)) -> 0
D47: S
B48: =DATE(Calendrier!$A$1,_xlfn.SHEET()-1,(ROW()/2)-1) -> 43822 | D48: M | E48: =IF(C48="","",IF(OR(C48="Cp",C48="AM",C48="Re",C48="Fe"),"",1)) | H48: =((G48-F48)+(G49-F49)) -> 0 | K48: =IF(OR(C48="Cp"),1,"") | R48: =((Q48-P48)-(Q49-P49)) -> 0
D49: S
B50: =DATE(Calendrier!$A$1,_xlfn.SHEET()-1,(ROW()/2)-1) -> 43823 | D50: M | E50: =IF(C50="","",IF(OR(C50="Cp",C50="AM",C50="Re",C50="Fe"),"",1)) | H50: =((G50-F50)+(G51-F51)) -> 0 | K50: =IF(OR(C50="Cp"),1,"") | R50: =((Q50-P50)-(Q51-P51)) -> 0
D51: S
B52: =DATE(Calendrier!$A$1,_xlfn.SHEET()-1,(ROW()/2)-1) -> 43824 | D52: M | E52: =IF(C52="","",IF(OR(C52="Cp",C52="AM",C52="Re",C52="Fe"),"",1)) | H52: =((G52-F52)+(G53-F53)) -> 0 | K52: =IF(OR(C52="Cp"),1,"") | R52: =((Q52-P52)-(Q53-P53)) -> 0
D53: S
B54: =DATE(Calendrier!$A$1,_xlfn.SHEET()-1,(ROW()/2)-1) -> 43825 | D54: M | E54: =IF(C54="","",IF(OR(C54="Cp",C54="AM",C54="Re",C54="Fe"),"",1)) | H54: =((G54-F54)+(G55-F55)) -> 0 | K54: =IF(OR(C54="Cp"),1,"") | R54: =((Q54-P54)-(Q55-P55)) -> 0
D55: S
B56: =DATE(Calendrier!$A$1,_xlfn.SHEET()-1,(ROW()/2)-1) -> 43826 | D56: M | E56: =IF(C56="","",IF(OR(C56="Cp",C56="AM",C56="Re",C56="Fe"),"",1)) | H56: =((G56-F56)+(G57-F57)) -> 0 | K56: =IF(OR(C56="Cp"),1,"") | R56: =((Q56-P56)-(Q57-P57)) -> 0
D57: S
B58: =DATE(Calendrier!$A$1,_xlfn.SHEET()-1,(ROW()/2)-1) -> 43827 | D58: M | E58: =IF(C58="","",IF(OR(C58="Cp",C58="AM",C58="Re",C58="Fe"),"",1)) | H58: =((G58-F58)+(G59-F59)) -> 0 | K58: =IF(OR(C58="Cp"),1,"") | R58: =((Q58-P58)-(Q59-P59)) -> 0
D59: S
B60: =DATE(Calendrier!$A$1,_xlfn.SHEET()-1,(ROW()/2)-1) -> 43828 | D60: M | E60: =IF(C60="","",IF(OR(C60="Cp",C60="AM",C60="Re",C60="Fe"),"",1)) | H60: =((G60-F60)+(G61-F61)) -> 0 | K60: =IF(OR(C60="Cp"),1,"") | R60: =((Q60-P60)-(Q61-P61)) -> 0
D61: S
B62: =DATE(Calendrier!$A$1,_xlfn.SHEET()-1,(ROW()/2)-1) -> 43829 | D62: M | E62: =IF(C62="","",IF(OR(C62="Cp",C62="AM",C62="Re",C62="Fe"),"",1)) | H62: =((G62-F62)+(G63-F63)) -> 0 | K62: =IF(OR(C62="Cp"),1,"") | R62: =((Q62-P62)-(Q63-P63)) -> 0
D63: S
B64: =DATE(Calendrier!$A$1,_xlfn.SHEET()-1,(ROW()/2)-1) -> 43830 | D64: M | E64: =IF(C64="","",IF(OR(C64="Cp",C64="AM",C64="Re",C64="Fe"),"",1)) | H64: =((G64-F64)+(G65-F65)) -> 0 | K64: =IF(OR(C64="Cp"),1,"") | R64: =((Q64-P64)-(Q65-P65)) -> 0
D65: S
B66: TOTAUX | E66: =SUM(E4:E65) -> 0 | F66: =SUM(H4:H65) -> 4 | I66: =SUM(I4:I65) -> 0 | J66: =SUM(J4:J65) -> 0 | K66: =SUM(K4:K65) -> 0 | N66: TOTAUX | O66: =SUM(O4:O65) -> 0 | R66: =SUM(R4:R30) -> 4 | S66: =SUM(S4:S65) -> 0 | T66: =SUM(T4:T65) -> 0 | U66: =SUM(U4:U65) -> 0 | V66: =SUM(V4:V65) -> 0 | W66: =SUM(W4:W65) -> 0

Sheet H.Se
A1: Se 01 | B1: ='[1]JAN '!$W$6 -> 0 | C1: Se 11 | D1: ='[1]MARS (2)'!$W$4 -> 0 | E1: Se 21 | F1: ='[1]MAI (2)'!$W$12 -> 0 | G1: Se 31 | H1: =[1]AOUT!$W$4 -> 0 | I1: Se 41 | J1: =[1]OCT!$W$18 -> 0 | K1: Se 51 | L1: ='[1]DEC (2)'!$W$4 -> 0
A2: Se 02 | B2: ='[1]JAN '!$W$18 -> 0 | C2: Se 12 | D2: ='[1]MARS (2)'!$W$8 -> 0 | E2: Se 22 | F2: =[1]JUIN!$W$4 -> 0 | G2: Se 32 | H2: =[1]AOUT!$W$14 -> 0 | I2: Se 42 | J2: ='[1]OCT (2)'!$W$4 -> 0 | K2: Se 52 | L2: ='[1]DEC (2)'!$W$18 -> 0
A3: Se 03 | B3: ='[1]JAN (2)'!$W$6 -> 0 | C3: Se 13 | D3: ='[1]MARS (2)'!$W$22 -> 0 | E3: Se 23 | F3: =[1]JUIN!$W$10 -> 0 | G3: Se 33 | H3: ='[1]AOUT (2)'!$W$4 -> 0 | I3: Se 43 | J3: ='[1]OCT (2)'!$W$14 -> 0 | K3: Se 53
A4: Se 04 | B4: ='[1]JAN (2)'!$W$16 -> 0 | C4: Se 14 | D4: =[1]AVRIL!$W$6 -> 0 | E4: Se 24 | F4: =[1]JUIN!$W$24 -> 0 | G4: Se 34 | H4: ='[1]AOUT (2)'!$W$10 -> 0 | I4: Se 44 | J4: =[1]NOV!$W$4 -> 0 | L4: =SUM(L1:L3) -> 0
A5: Se 05 | B5: =[1]FEV!$W$6 -> 0 | C5: Se 15 | D5: =[1]AVRIL!$W$20 -> 0 | E5: Se 25 | F5: ='[1]JUIN (2)'!$W$5 -> 0 | G5: Se 35 | H5: =[1]SEPT!$W$4 -> 0 | I5: Se 45 | J5: =[1]NOV!$W$12 -> 0
A6: Se 06 | B6: =[1]FEV!$W$12 -> 0 | C6: Se 16 | D6: ='[1]AVRIL (2)'!$W$5 -> 0 | E6: Se 26 | F6: ='[1]JUIN (2)'!$W$20 -> 0 | G6: Se 36 | H6: =[1]SEPT!$W$8 -> 0 | I6: Se 46 | J6: ='[1]NOV (2)'!$W$4 -> 0
A7: Se 07 | B7: ='[1]FEV (2)'!$W$4 -> 0 | C7: Se 17 | D7: ='[1]AVRIL (2)'!$W$16 -> 0 | E7: Se 27 | F7: =[1]JUILLET!$W$5 -> 0 | G7: Se 37 | H7: =[1]SEPT!$W$22 -> 0 | I7: Se 47 | J7: ='[1]NOV (2)'!$W$8 -> 0 | K7: TOTAL | L7: =SUM(B11,D11,F11,H11,J11,L4) -> 0
A8: Se 08 | B8: ='[1]FEV (2)'!$W$8 -> 0 | C8: Se 18 | D8: =[1]MAI!$W$4 -> 0 | E8: Se 28 | F8: =[1]JUILLET!$W$20 -> 0 | G8: Se 38 | H8: ='[1]SEPT (2)'!$W$4 -> 0 | I8: Se 48 | J8: =[1]DEC!$W$4 -> 0 | K8: RESTE | L8: =1588-L7 -> 1588
A9: Se 09 | B9: =[1]MARS!$W$5 -> 0 | C9: Se 19 | D9: =[1]MAI!$W$16 -> 0 | E9: Se 29 | F9: ='[1]JUILLET (2)'!$W$5 -> 0 | G9: Se 39 | H9: ='[1]SEPT (2)'!$W$18 -> 0 | I9: Se 49 | J9: =[1]DEC!$W$8 -> 0
A10: Se 10 | B10: =[1]MARS!$W$12 -> 0 | C10: Se 20 | D10: ='[1]MAI (2)'!$W$4 -> 0 | E10: Se 30 | F10: ='[1]JUILLET (2)'!$W$16 -> 0 | G10: Se 40 | H10: =[1]OCT!$W$4 -> 0 | I10: Se 50 | J10: =[1]DEC!$W$22 -> 0
B11: =SUM(B1:B10) -> 0 | D11: =SUM(D1:D10) -> 0 | F11: =SUM(F1:F10) -> 0 | H11: =SUM(H1:H10) -> 0 | J11: =SUM(J1:J10) -> 0

Sheet Récap
B1: 01 | C1: 02 | D1: 03 | E1: 04 | F1: 05 | G1: 06 | H1: 07 | I1: 08 | J1: 09 | K1: 10 | L1: 11 | M1: 12 | N1: 13 | O1: 14 | P1: 15 | Q1: 16 | R1: 17 | S1: 18 | T1: 19 | U1: 20 | V1: 21 | W1: 22 | X1: 23 | Y1: 24 | Z1: 25 | AA1: 26 | AB1: 27 | AC1: 28 | AD1: 29 | AE1: 30 | AF1: 31
A2: JAN | B2: ='[1]JAN '!B4 -> 0 | C2: ='[1]JAN '!B6 -> 0 | D2: ='[1]JAN '!B8 -> 0 | E2: ='[1]JAN '!B10 -> 0 | F2: ='[1]JAN '!B12 -> 0 | G2: ='[1]JAN '!B14 -> 0 | H2: ='[1]JAN '!B16 -> 0 | I2: ='[1]JAN '!B18 -> 0 | J2: ='[1]JAN '!B20 -> 0 | K2: ='[1]JAN '!B22 -> 0 | L2: ='[1]JAN '!B24 -> 0 | M2: ='[1]JAN '!B26 -> 0 | N2: ='[1]JAN '!B28 -> 0 | O2: ='[1]JAN '!B30 -> 0 | P2: ='[1]JAN '!B32 -> 0 | Q2: ='[1]JAN '!B34 -> 0 | R2: ='[1]JAN (2)'!B4 -> 0 | S2: ='[1]JAN (2)'!B6 -> 0 | T2: ='[1]JAN (2)'!B8 -> 0 | U2: ='[1]JAN (2)'!B10 -> 0 | V2: ='[1]JAN (2)'!B12 -> 0 | W2: ='[1]JAN (2)'!B14 -> 0 | X2: ='[1]JAN (2)'!B16 -> 0 | Y2: ='[1]JAN (2)'!B18 -> 0 | Z2: ='[1]JAN (2)'!B20 -> 0 | AA2: ='[1]JAN (2)'!B22 -> 0 | AB2: ='[1]JAN (2)'!B24 -> 0 | AC2: ='[1]JAN (2)'!B26 -> 0 | AD2: ='[1]JAN (2)'!B28 -> 0 | AE2: ='[1]JAN (2)'!B30 -> 0 | AF2: ='[1]JAN (2)'!B32 -> 0
A3: FEV | B3: =[1]FEV!B4 -> 0 | C3: =[1]FEV!B6 -> 0 | D3: =[1]FEV!B8 -> 0 | E3: =[1]FEV!B10 -> 0 | F3: =[1]FEV!B12 -> 0 | G3: =[1]FEV!B14 -> 0 | H3: =[1]FEV!B16 -> 0 | I3: =[1]FEV!B18 -> 0 | J3: =[1]FEV!B20 -> 0 | K3: =[1]FEV!B22 -> 0 | L3: =[1]FEV!B24 -> 0 | M3: =[1]FEV!B26 -> 0 | N3: =[1]FEV!B28 -> 0 | O3: =[1]FEV!B30 -> 0 | P3: =[1]FEV!B32 -> 0 | Q3: =[1]FEV!B34 -> 0 | R3: ='[1]FEV (2)'!B4 -> 0 | S3: ='[1]FEV (2)'!B6 -> 0 | T3: ='[1]FEV (2)'!B8 -> 0 | U3: ='[1]FEV (2)'!B10 -> 0 | V3: ='[1]FEV (2)'!B12 -> 0 | W3: ='[1]FEV (2)'!B14 -> 0 | X3: ='[1]FEV (2)'!B16 -> 0 | Y3: ='[1]FEV (2)'!B18 -> 0 | Z3: ='[1]FEV (2)'!B20 -> 0 | AA3: ='[1]FEV (2)'!B22 -> 0 | AB3: ='[1]FEV (2)'!B24 -> 0 | AC3: ='[1]FEV (2)'!B26 -> 0 | AD3: ='[1]FEV (2)'!B28 -> 0
A4: MAR | B4: =[1]MARS!B4 -> 0 | C4: =[1]MARS!B6 -> 0 | D4: =[1]MARS!B8 -> 0 | E4: =[1]MARS!B10 -> 0 | F4: =[1]MARS!B12 -> 0 | G4: =[1]MARS!B14 -> 0 | H4: =[1]MARS!B16 -> 0 | I4: =[1]MARS!B18 -> 0 | J4: =[1]MARS!B20 -> 0 | K4: =[1]MARS!B22 -> 0 | L4: =[1]MARS!B24 -> 0 | M4: =[1]MARS!B26 -> 0 | N4: =[1]MARS!B28 -> 0 | O4: =[1]MARS!B30 -> 0 | P4: =[1]MARS!B32 -> 0 | Q4: =[1]MARS!B34 -> 0 | R4: ='[1]MARS (2)'!B4 -> 0 | S4: ='[1]MARS (2)'!B8 -> 0 | T4: ='[1]MARS (2)'!B10 -> 0 | U4: ='[1]MARS (2)'!B12 -> 0 | V4: ='[1]MARS (2)'!B14 -> 0 | W4: ='[1]MARS (2)'!B16 -> 0 | X4: ='[1]MARS (2)'!B18 -> 0 | Y4: ='[1]MARS (2)'!B20 -> 0 | Z4: ='[1]MARS (2)'!B22 -> 0 | AA4: ='[1]MARS (2)'!B24 -> 0 | AB4: ='[1]MARS (2)'!B26 -> 0 | AC4: ='[1]MARS (2)'!B28 -> 0 | AD4: ='[1]MARS (2)'!B30 -> 0 | AE4: ='[1]MARS (2)'!B32 -> 0 | AF4: ='[1]MARS (2)'!B34 -> 0
A5: AVR | B5: =[1]AVRIL!B4 -> 0 | C5: =[1]AVRIL!B6 -> 0 | D5: =[1]AVRIL!B8 -> 0 | E5: =[1]AVRIL!B10 -> 0 | F5: =[1]AVRIL!B12 -> 0 | G5: =[1]AVRIL!B14 -> 0 | H5: =[1]AVRIL!B16 -> 0 | I5: =[1]AVRIL!B18 -> 0 | J5: =[1]AVRIL!B20 -> 0 | K5: =[1]AVRIL!B22 -> 0 | L5: =[1]AVRIL!B24 -> 0 | M5: =[1]AVRIL!B26 -> 0 | N5: =[1]AVRIL!B28 -> 0 | O5: =[1]AVRIL!B30 -> 0 | P5: =[1]AVRIL!B32 -> 0 | Q5: =[1]AVRIL!B34 -> 0 | R5: ='[1]AVRIL (2)'!B4 -> 0 | S5: ='[1]AVRIL (2)'!B6 -> 0 | T5: ='[1]AVRIL (2)'!B8 -> 0 | U5: ='[1]AVRIL (2)'!B10 -> 0 | V5: ='[1]AVRIL (2)'!B12 -> 0 | W5: ='[1]AVRIL (2)'!B14 -> 0 | X5: ='[1]AVRIL (2)'!B16 -> 0 | Y5: ='[1]AVRIL (2)'!B18 -> 0 | Z5: ='[1]AVRIL (2)'!B20 -> 0 | AA5: ='[1]AVRIL (2)'!B22 -> 0 | AB5: ='[1]AVRIL (2)'!B24 -> 0 | AC5: ='[1]AVRIL (2)'!B26 -> 0 | AD5: ='[1]AVRIL (2)'!B28 -> 0 | AE5: ='[1]AVRIL (2)'!B30 -> 0
A6: MAI | B6: =[1]MAI!B4 -> 0 | C6: =[1]MAI!B6 -> 0 | D6: =[1]MAI!B8 -> 0 | E6: =[1]MAI!B10 -> 0 | F6: =[1]MAI!B12 -> 0 | G6: =[1]MAI!B14 -> 0 | H6: =[1]MAI!B16 -> 0 | I6: =[1]MAI!B18 -> 0 | J6: =[1]MAI!B20 -> 0 | K6: =[1]MAI!B22 -> 0 | L6: =[1]MAI!B24 -> 0 | M6: =[1]MAI!B26 -> 0 | N6: =[1]MAI!B28 -> 0 | O6: =[1]MAI!B30 -> 0 | P6: =[1]MAI!B32 -> 0 | Q6: =[1]MAI!B34 -> 0 | R6: ='[1]MAI (2)'!B4 -> 0 | S6: ='[1]MAI (2)'!B6 -> 0 | T6: ='[1]MAI (2)'!B8 -> 0 | U6: ='[1]MAI (2)'!B10 -> 0 | V6: ='[1]MAI (2)'!B12 -> 0 | W6: ='[1]MAI (2)'!B14 -> 0 | X6: ='[1]MAI (2)'!B16 -> 0 | Y6: ='[1]MAI (2)'!B18 -> 0 | Z6: ='[1]MAI (2)'!B20 -> 0 | AA6: ='[1]MAI (2)'!B22 -> 0 | AB6: ='[1]MAI (2)'!B24 -> 0 | AC6: ='[1]MAI (2)'!B26 -> 0 | AD6: ='[1]MAI (2)'!B28 -> 0 | AE6: ='[1]MAI (2)'!B30 -> 0 | AF6: ='[1]MAI (2)'!B32 -> 0
A7: JUIN | B7: =[1]JUIN!B4 -> 0 | C7: =[1]JUIN!B6 -> 0 | D7: =[1]JUIN!B8 -> 0 | E7: =[1]JUIN!B10 -> 0 | F7: =[1]JUIN!B12 -> 0 | G7: =[1]JUIN!B14 -> 0 | H7: =[1]JUIN!B16 -> 0 | I7: =[1]JUIN!B18 -> 0 | J7: =[1]JUIN!B20 -> 0 | K7: =[1]JUIN!B22 -> 0 | L7: =[1]JUIN!B24 -> 0 | M7: =[1]JUIN!B26 -> 0 | N7: =[1]JUIN!B28 -> 0 | O7: =[1]JUIN!B30 -> 0 | P7: =[1]JUIN!B32 -> 0 | Q7: =[1]JUIN!B34 -> 0 | R7: ='[1]JUIN (2)'!B4 -> 0 | S7: ='[1]JUIN (2)'!B6 -> 0 | T7: ='[1]JUIN (2)'!B8 -> 0 | U7: ='[1]JUIN (2)'!B10 -> 0 | V7: ='[1]JUIN (2)'!B12 -> 0 | W7: ='[1]JUIN (2)'!B14 -> 0 | X7: ='[1]JUIN (2)'!B16 -> 0 | Y7: ='[1]JUIN (2)'!B18 -> 0 | Z7: ='[1]JUIN (2)'!B20 -> 0 | AA7: ='[1]JUIN (2)'!B22 -> 0 | AB7: ='[1]JUIN (2)'!B24 -> 0 | AC7: ='[1]JUIN (2)'!B26 -> 0 | AD7: ='[1]JUIN (2)'!B28 -> 0 | AE7: ='[1]JUIN (2)'!B30 -> 0
A8: JUIL | B8: =[1]JUILLET!B4 -> 0 | C8: =[1]JUILLET!B6 -> 0 | D8: =[1]JUILLET!B8 -> 0 | E8: =[1]JUILLET!B10 -> 0 | F8: =[1]JUILLET!B12 -> 0 | G8: =[1]JUILLET!B14 -> 0 | H8: =[1]JUILLET!B16 -> 0 | I8: =[1]JUILLET!B18 -> 0 | J8: =[1]JUILLET!B20 -> 0 | K8: =[1]JUILLET!B22 -> 0 | L8: =[1]JUILLET!B24 -> 0 | M8: =[1]JUILLET!B26 -> 0 | N8: =[1]JUILLET!B28 -> 0 | O8: =[1]JUILLET!B30 -> 0 | P8: =[1]JUILLET!B32 -> 0 | Q8: =[1]JUILLET!B34 -> 0 | R8: ='[1]JUILLET (2)'!B4 -> 0 | S8: ='[1]JUILLET (2)'!B6 -> 0 | T8: ='[1]JUILLET (2)'!B8 -> 0 | U8: ='[1]JUILLET (2)'!B10 -> 0 | V8: ='[1]JUILLET (2)'!B12 -> 0 | W8: ='[1]JUILLET (2)'!B14 -> 0 | X8: ='[1]JUILLET (2)'!B16 -> 0 | Y8: ='[1]JUILLET (2)'!B18 -> 0 | Z8: ='[1]JUILLET (2)'!B20 -> 0 | AA8: ='[1]JUILLET (2)'!B22 -> 0 | AB8: ='[1]JUILLET (2)'!B24 -> 0 | AC8: ='[1]JUILLET (2)'!B26 -> 0 | AD8: ='[1]JUILLET (2)'!B28 -> 0 | AE8: ='[1]JUILLET (2)'!B30 -> 0 | AF8: ='[1]JUILLET (2)'!B32 -> 0
A9: AOÛT | B9: =[1]AOUT!B4 -> 0 | C9: =[1]AOUT!B6 -> 0 | D9: =[1]AOUT!B8 -> 0 | E9: =[1]AOUT!B10 -> 0 | F9: =[1]AOUT!B12 -> 0 | G9: =[1]AOUT!B14 -> 0 | H9: =[1]AOUT!B16 -> 0 | I9: =[1]AOUT!B18 -> 0 | J9: =[1]AOUT!B20 -> 0 | K9: =[1]AOUT!B22 -> 0 | L9: =[1]AOUT!B24 -> 0 | M9: =[1]AOUT!B26 -> 0 | N9: =[1]AOUT!B28 -> 0 | O9: =[1]AOUT!B30 -> 0 | P9: =[1]AOUT!B32 -> 0 | Q9: =[1]AOUT!B34 -> 0 | R9: ='[1]AOUT (2)'!B4 -> 0 | S9: ='[1]AOUT (2)'!B6 -> 0 | T9: ='[1]AOUT (2)'!B8 -> 0 | U9: ='[1]AOUT (2)'!B10 -> 0 | V9: ='[1]AOUT (2)'!B12 -> 0 | W9: ='[1]AOUT (2)'!B14 -> 0 | X9: ='[1]AOUT (2)'!B16 -> 0 | Y9: ='[1]AOUT (2)'!B18 -> 0 | Z9: ='[1]AOUT (2)'!B20 -> 0 | AA9: ='[1]AOUT (2)'!B22 -> 0 | AB9: ='[1]AOUT (2)'!B24 -> 0 | AC9: ='[1]AOUT (2)'!B26 -> 0 | AD9: ='[1]AOUT (2)'!B28 -> 0 | AE9: ='[1]AOUT (2)'!B30 -> 0 | AF9: ='[1]AOUT (2)'!B32 -> 0
A10: SEPT | B10: =[1]SEPT!B4 -> 0 | C10: =[1]SEPT!B6 -> 0 | D10: =[1]SEPT!B8 -> 0 | E10: =[1]SEPT!B10 -> 0 | F10: =[1]SEPT!B12 -> 0 | G10: =[1]SEPT!B14 -> 0 | H10: =[1]SEPT!B16 -> 0 | I10: =[1]SEPT!B18 -> 0 | J10: =[1]SEPT!B20 -> 0 | K10: =[1]SEPT!B22 -> 0 | L10: =[1]SEPT!B24 -> 0 | M10: =[1]SEPT!B26 -> 0 | N10: =[1]SEPT!B28 -> 0 | O10: =[1]SEPT!B30 -> 0 | P10: =[1]SEPT!B32 -> 0 | Q10: =[1]SEPT!B34 -> 0 | R10: ='[1]SEPT (2)'!B4 -> 0 | S10: ='[1]SEPT (2)'!B6 -> 0 | T10: ='[1]SEPT (2)'!B8 -> 0 | U10: ='[1]SEPT (2)'!B10 -> 0 | V10: ='[1]SEPT (2)'!B12 -> 0 | W10: ='[1]SEPT (2)'!B14 -> 0 | X10: ='[1]SEPT (2)'!B16 -> 0 | Y10: ='[1]SEPT (2)'!B18 -> 0 | Z10: ='[1]SEPT (2)'!B20 -> 0 | AA10: ='[1]SEPT (2)'!B22 -> 0 | AB10: ='[1]SEPT (2)'!B24 -> 0 | AC10: ='[1]SEPT (2)'!B26 -> 0 | AD10: ='[1]SEPT (2)'!B28 -> 0 | AE10: ='[1]SEPT (2)'!B30 -> 0
A11: OCT | B11: =[1]OCT!B4 -> 0 | C11: =[1]OCT!B6 -> 0 | D11: =[1]OCT!B8 -> 0 | E11: =[1]OCT!B10 -> 0 | F11: =[1]OCT!B12 -> 0 | G11: =[1]OCT!B14 -> 0 | H11: =[1]OCT!B16 -> 0 | I11: =[1]OCT!B18 -> 0 | J11: =[1]OCT!B20 -> 0 | K11: =[1]OCT!B22 -> 0 | L11: =[1]OCT!B24 -> 0 | M11: =[1]OCT!B26 -> 0 | N11: =[1]OCT!B28 -> 0 | O11: =[1]OCT!B30 -> 0 | P11: =[1]OCT!B32 -> 0 | Q11: =[1]OCT!B34 -> 0 | R11: ='[1]OCT (2)'!B4 -> 0 | S11: ='[1]OCT (2)'!B6 -> 0 | T11: ='[1]OCT (2)'!B8 -> 0 | U11: ='[1]OCT (2)'!B10 -> 0 | V11: ='[1]OCT (2)'!B12 -> 0 | W11: ='[1]OCT (2)'!B14 -> 0 | X11: ='[1]OCT (2)'!B16 -> 0 | Y11: ='[1]OCT (2)'!B18 -> 0 | Z11: ='[1]OCT (2)'!B20 -> 0 | AA11: ='[1]OCT (2)'!B22 -> 0 | AB11: ='[1]OCT (2)'!B24 -> 0 | AC11: ='[1]OCT (2)'!B26 -> 0 | AD11: ='[1]OCT (2)'!B28 -> 0 | AE11: ='[1]OCT (2)'!B30 -> 0 | AF11: ='[1]OCT (2)'!B32 -> 0
A12: NOV | B12: =[1]NOV!B4 -> 0 | C12: =[1]NOV!B6 -> 0 | D12: =[1]NOV!B8 -> 0 | E12: =[1]NOV!B10 -> 0 | F12: =[1]NOV!B12 -> 0 | G12: =[1]NOV!B14 -> 0 | H12: =[1]NOV!B16 -> 0 | I12: =[1]NOV!B18 -> 0 | J12: =[1]NOV!B20 -> 0 | K12: =[1]NOV!B22 -> 0 | L12: =[1]NOV!B24 -> 0 | M12: =[1]NOV!B26 -> 0 | N12: =[1]NOV!B28 -> 0 | O12: =[1]NOV!B30 -> 0 | P12: =[1]NOV!B32 -> 0 | Q12: =[1]NOV!B34 -> 0 | R12: ='[1]NOV (2)'!B4 -> 0 | S12: ='[1]NOV (2)'!B6 -> 0 | T12: ='[1]NOV (2)'!B8 -> 0 | U12: ='[1]NOV (2)'!B10 -> 0 | V12: ='[1]NOV (2)'!B12 -> 0 | W12: ='[1]NOV (2)'!B14 -> 0 | X12: ='[1]NOV (2)'!B16 -> 0 | Y12: ='[1]NOV (2)'!B18 -> 0 | Z12: ='[1]NOV (2)'!B20 -> 0 | AA12: ='[1]NOV (2)'!B22 -> 0 | AB12: ='[1]NOV (2)'!B24 -> 0 | AC12: ='[1]NOV (2)'!B26 -> 0 | AD12: ='[1]NOV (2)'!B28 -> 0 | AE12: ='[1]NOV (2)'!B30 -> 0
A13: DEC | B13: =[1]DEC!B4 -> 0 | C13: =[1]DEC!B6 -> 0 | D13: =[1]DEC!B8 -> 0 | E13: =[1]DEC!B10 -> 0 | F13: =[1]DEC!B12 -> 0 | G13: =[1]DEC!B14 -> 0 | H13: =[1]DEC!B16 -> 0 | I13: =[1]DEC!B18 -> 0 | J13: =[1]DEC!B20 -> 0 | K13: =[1]DEC!B22 -> 0 | L13: =[1]DEC!B24 -> 0 | M13: =[1]DEC!B26 -> 0 | N13: =[1]DEC!B28 -> 0 | O13: =[1]DEC!B30 -> 0 | P13: =[1]DEC!B32 -> 0 | Q13: =[1]DEC!B34 -> 0 | R13: ='[1]DEC (2)'!B4 -> 0 | S13: ='[1]DEC (2)'!B6 -> 0 | T13: ='[1]DEC (2)'!B8 -> 0 | U13: ='[1]DEC (2)'!B10 -> 0 | V13: ='[1]DEC (2)'!B12 -> 0 | W13: ='[1]DEC (2)'!B14 -> 0 | X13: ='[1]DEC (2)'!B16 -> 0 | Y13: ='[1]DEC (2)'!B18 -> 0 | Z13: ='[1]DEC (2)'!B20 -> 0 | AA13: ='[1]DEC (2)'!B22 -> 0 | AB13: ='[1]DEC (2)'!B24 -> 0 | AC13: ='[1]DEC (2)'!B26 -> 0 | AD13: ='[1]DEC (2)'!B28 -> 0 | AE13: ='[1]DEC (2)'!B30 -> 0 | AF13: ='[1]DEC (2)'!B32 -> 0
C16: H.Sup | F16: Maj N | I16: Maj D | L16: Maj J.F | O16: Astr. | R16: Panniers | U16: SSLIA | X16: J.T | Z16: Ser | AB16: Kms | AE16: C.P | AI16: HORAIRES
A17: JAN | C17: ='[1]JAN (2)'!$Q$36 -> 0 | F17: ='[1]JAN (2)'!$R$36 -> 0 | I17: ='[1]JAN (2)'!$S$36 -> 0 | L17: ='[1]JAN (2)'!$T$36 -> 0 | O17: ='[1]JAN (2)'!$U$36 -> 0 | R17: ='[1]JAN (2)'!$N$36 -> 0 | U17: ='[1]JAN (2)'!$V$36 -> 0 | X17: ='[1]JAN (2)'!$D$36 -> 0 | Z17: ='[1]JAN (2)'!$I$36 -> 0 | AB17: ='[1]JAN (2)'!$H$36 -> 0 | AE17: ='[1]JAN (2)'!$J$36 -> 0 | AI17: ='[1]JAN (2)'!$E$36 -> 0
A18: FEV | C18: ='[1]FEV (2)'!$Q$34 -> 0 | F18: ='[1]FEV (2)'!$R$34 -> 0 | I18: ='[1]FEV (2)'!$S$34 -> 0 | L18: ='[1]FEV (2)'!$T$34 -> 0 | O18: ='[1]FEV (2)'!$U$34 -> 0 | R18: ='[1]FEV (2)'!$N$34 -> 0 | U18: ='[1]FEV (2)'!$V$34 -> 0 | X18: ='[1]FEV (2)'!$D$34 -> 0 | Z18: ='[1]FEV (2)'!$I$34 -> 0 | AB18: ='[1]FEV (2)'!$H$34 -> 0 | AE18: ='[1]FEV (2)'!$J$34 -> 0 | AI18: ='[1]FEV (2)'!$E$34 -> 0
A19: MAR | C19: ='[1]MARS (2)'!$Q$34 -> 0 | F19: ='[1]MARS (2)'!$R$34 -> 0 | I19: ='[1]MARS (2)'!$S$34 -> 0 | L19: ='[1]MARS (2)'!$T$34 -> 0 | O19: ='[1]MARS (2)'!$U$34 -> 0 | R19: ='[1]MARS (2)'!$N$34 -> 0 | U19: ='[1]MARS (2)'!$V$34 -> 0 | X19: ='[1]MARS (2)'!$D$34 -> 0 | Z19: ='[1]MARS (2)'!$I$34 -> 0 | AB19: ='[1]MARS (2)'!$H$34 -> 0 | AE19: ='[1]MARS (2)'!$J$34 -> 0 | AI19: ='[1]MARS (2)'!$E$34 -> 0
A20: AVR | C20: ='[1]AVRIL (2)'!$Q$34 -> 0 | F20: ='[1]AVRIL (2)'!$R$34 -> 0 | I20: ='[1]AVRIL (2)'!$S$34 -> 0 | L20: ='[1]AVRIL (2)'!$T$34 -> 0 | O20: ='[1]AVRIL (2)'!$U$34 -> 0 | R20: ='[1]AVRIL (2)'!$N$34 -> 0 | U20: ='[1]AVRIL (2)'!$V$34 -> 0 | X20: ='[1]AVRIL (2)'!$D$34 -> 0 | Z20: ='[1]AVRIL (2)'!$I$34 -> 0 | AB20: ='[1]AVRIL (2)'!$H$34 -> 0 | AE20: ='[1]AVRIL (2)'!$J$34 -> 0 | AI20: ='[1]AVRIL (2)'!$E$34 -> 0
A21: MAI | C21: ='[1]MAI (2)'!$Q$34 -> 0 | F21: ='[1]MAI (2)'!$R$34 -> 0 | I21: ='[1]MAI (2)'!$S$34 -> 0 | L21: ='[1]MAI (2)'!$T$34 -> 0 | O21: ='[1]MAI (2)'!$U$34 -> 0 | R21: ='[1]MAI (2)'!$N$34 -> 0 | U21: ='[1]MAI (2)'!$V$34 -> 0 | X21: ='[1]MAI (2)'!$D$34 -> 0 | Z21: ='[1]MAI (2)'!$I$34 -> 0 | AB21: ='[1]MAI (2)'!$H$34 -> 0 | AE21: ='[1]MAI (2)'!$J$34 -> 0 | AI21: ='[1]MAI (2)'!$E$34 -> 0
A22: JUIN | C22: ='[1]JUIN (2)'!$Q$34 -> 0 | F22: ='[1]JUIN (2)'!$R$34 -> 0 | I22: ='[1]JUIN (2)'!$S$34 -> 0 | L22: ='[1]JUIN (2)'!$T$34 -> 0 | O22: ='[1]JUIN (2)'!$U$34 -> 0 | R22: ='[1]JUIN (2)'!$N$34 -> 0 | U22: ='[1]JUIN (2)'!$V$34 -> 0 | X22: ='[1]JUIN (2)'!$D$34 -> 0 | Z22: ='[1]JUIN (2)'!$I$34 -> 0 | AB22: ='[1]JUIN (2)'!$H$34 -> 0 | AE22: ='[1]JUIN (2)'!$J$34 -> 0 | AI22: ='[1]JUIN (2)'!$E$34 -> 0
A23: JUIL | C23: ='[1]JUILLET (2)'!$Q$34 -> 0 | F23: ='[1]JUILLET (2)'!$R$34 -> 0 | I23: ='[1]JUILLET (2)'!$S$34 -> 0 | L23: ='[1]JUILLET (2)'!$T$34 -> 0 | O23: ='[1]JUILLET (2)'!$U$34 -> 0 | R23: ='[1]JUILLET (2)'!$N$34 -> 0 | U23: ='[1]JUILLET (2)'!$V$34 -> 0 | X23: ='[1]JUILLET (2)'!$D$34 -> 0 | Z23: ='[1]JUILLET (2)'!$I$34 -> 0 | AB23: ='[1]JUILLET (2)'!$H$34 -> 0 | AE23: ='[1]JUILLET (2)'!$J$34 -> 0 | AI23: ='[1]JUILLET (2)'!$E$34 -> 0
A24: AOÛT | C24: ='[1]AOUT (2)'!$Q$34 -> 0 | F24: ='[1]AOUT (2)'!$R$34 -> 0 | I24: ='[1]AOUT (2)'!$S$34 -> 0 | L24: ='[1]AOUT (2)'!$T$34 -> 0 | O24: ='[1]AOUT (2)'!$U$34 -> 0 | R24: ='[1]AOUT (2)'!$N$34 -> 0 | U24: ='[1]AOUT (2)'!$V$34 -> 0 | X24: ='[1]AOUT (2)'!$D$34 -> 0 | Z24: ='[1]AOUT (2)'!$I$34 -> 0 | AB24: ='[1]AOUT (2)'!$H$34 -> 0 | AE24: ='[1]AOUT (2)'!$J$34 -> 0 | AI24: ='[1]AOUT (2)'!$E$34 -> 0
A25: SEPT | C25: ='[1]SEPT (2)'!$Q$34 -> 0 | F25: ='[1]SEPT (2)'!$R$34 -> 0 | I25: ='[1]SEPT (2)'!$S$34 -> 0 | L25: ='[1]SEPT (2)'!$T$34 -> 0 | O25: ='[1]SEPT (2)'!$U$34 -> 0 | R25: ='[1]SEPT (2)'!$N$34 -> 0 | U25: ='[1]SEPT (2)'!$V$34 -> 0 | X25: ='[1]SEPT (2)'!$D$34 -> 0 | Z25: ='[1]SEPT (2)'!$I$34 -> 0 | AB25: ='[1]SEPT (2)'!$H$34 -> 0 | AE25: ='[1]SEPT (2)'!$J$34 -> 0 | AI25: ='[1]SEPT (2)'!$E$34 -> 0
A26: OCT | C26: ='[1]OCT (2)'!$Q$34 -> 0 | F26: ='[1]OCT (2)'!$R$34 -> 0 | I26: ='[1]OCT (2)'!$S$34 -> 0 | L26: ='[1]OCT (2)'!$T$34 -> 0 | O26: ='[1]OCT (2)'!$U$34 -> 0 | R26: ='[1]OCT (2)'!$N$34 -> 0 | U26: ='[1]OCT (2)'!$V$34 -> 0 | X26: ='[1]OCT (2)'!$D$34 -> 0 | Z26: ='[1]OCT (2)'!$I$34 -> 0 | AB26: ='[1]OCT (2)'!$H$34 -> 0 | AE26: ='[1]OCT (2)'!$J$34 -> 0 | AI26: ='[1]OCT (2)'!$E$34 -> 0
A27: NOV | C27: ='[1]NOV (2)'!$Q$34 -> 0 | F27: ='[1]NOV (2)'!$R$34 -> 0 | I27: ='[1]NOV (2)'!$S$34 -> 0 | L27: ='[1]NOV (2)'!$T$34 -> 0 | O27: ='[1]NOV (2)'!$U$34 -> 0 | R27: ='[1]NOV (2)'!$N$34 -> 0 | U27: ='[1]NOV (2)'!$V$34 -> 0 | X27: ='[1]NOV (2)'!$D$34 -> 0 | Z27: ='[1]NOV (2)'!$I$34 -> 0 | AB27: ='[1]NOV (2)'!$H$34 -> 0 | AE27: ='[1]NOV (2)'!$J$34 -> 0 | AI27: ='[1]NOV (2)'!$E$34 -> 0
A28: DEC | C28: ='[1]DEC (2)'!$Q$34 -> 0 | F28: ='[1]DEC (2)'!$R$34 -> 0 | I28: ='[1]DEC (2)'!$S$34 -> 0 | L28: ='[1]DEC (2)'!$T$34 -> 0 | O28: ='[1]DEC (2)'!$U$34 -> 0 | R28: ='[1]DEC (2)'!$N$34 -> 0 | U28: ='[1]DEC (2)'!$V$34 -> 0 | X28: ='[1]DEC (2)'!$D$34 -> 0 | Z28: ='[1]DEC (2)'!$I$34 -> 0 | AB28: ='[1]DEC (2)'!$H$34 -> 0 | AE28: ='[1]DEC (2)'!$J$34 -> 0 | AI28: ='[1]DEC (2)'!$E$34 -> 0
A29: TOT | C29: =SUM(C17:E28) -> 0 | F29: =SUM(F17:H28) -> 0 | I29: =SUM(I17:K28) -> 0 | L29: =SUM(L17:N28) -> 0 | O29: =SUM(O17:Q28) -> 0 | R29: =SUM(R17:T28) -> 0 | U29: =SUM(U17:W28) -> 0 | X29: =SUM(X17:Y28) -> 0 | Z29: =SUM(Z17:AA28) -> 0 | AB29: =SUM(AB17:AD28) -> 0 | AE29: =SUM(AE17:AH28) -> 0 | AI29: =SUM(AI17:AK28) -> 0
O31: =O29*15 -> 0 | R31: =R29*5.75 -> 0 | Z31: =Z29*2 -> 0 | AE31: Reste | AI31: Reste
AE32: =AE36-AE29 -> 30 | AI32: =1588-AI29 -> 1588
AA36: 2018/2019 | AE36: 30
