Workbook

Sheet Calendrier
A1: 2019
P2: An Bisextille | Q2: =DAY(EOMONTH(DATE(A1,2,1),0))=29 -> FALSE
B3: =TEXT(DATE(2019,COLUMN(A:L),1),"Mmmm") -> janvier | C3: =TEXT(DATE(2019,COLUMN(B:M),1),"mmmm") -> février | D3: =TEXT(DATE(2019,COLUMN(C:N),1),"mmmm") -> mars | E3: =TEXT(DATE(2019,COLUMN(D:O),1),"mmmm") -> avril | F3: =TEXT(DATE(2019,COLUMN(E:P),1),"mmmm") -> mai | G3: =TEXT(DATE(2019,COLUMN(F:Q),1),"mmmm") -> juin | H3: =TEXT(DATE(2019,COLUMN(G:R),1),"mmmm") -> juillet | I3: =TEXT(DATE(2019,COLUMN(H:S),1),"mmmm") -> août | J3: =TEXT(DATE(2019,COLUMN(I:T),1),"mmmm") -> septembre | K3: =TEXT(DATE(2019,COLUMN(J:U),1),"mmmm") -> octobre | L3: =TEXT(DATE(2019,COLUMN(K:V),1),"mmmm") -> novembre | M3: =TEXT(DATE(2019,COLUMN(L:W),1),"mmmm") -> décembre
B4: =DATE($A$1,COLUMN(A:L),ROW(1:31)) -> 43466 | C4: =DATE($A$1,COLUMN(B:M),ROW(1:31)) -> 43497 | D4: =DATE($A$1,COLUMN(C:N),ROW(1:31)) -> 43525 | E4: =DATE($A$1,COLUMN(D:O),ROW(1:31)) -> 43556 | F4: =DATE($A$1,COLUMN(E:P),ROW(1:31)) -> 43586 | G4: =DATE($A$1,COLUMN(F:Q),ROW(1:31)) -> 43617 | H4: =DATE($A$1,COLUMN(G:R),ROW(1:31)) -> 43647 | I4: =DATE($A$1,COLUMN(H:S),ROW(1:31)) -> 43678 | J4: =DATE($A$1,COLUMN(I:T),ROW(1:31)) -> 43709 | K4: =DATE($A$1,COLUMN(J:U),ROW(1:31)) -> 43739 | L4: =DATE($A$1,COLUMN(K:V),ROW(1:31)) -> 43770 | M4: =DATE($A$1,COLUMN(L:W),ROW(1:31)) -> 43800 | P4: Colonne1 | Q4: Colonne2
B5: =DATE($A$1,COLUMN(A:L),ROW(2:32)) -> 43467 | C5: =DATE($A$1,COLUMN(B:M),ROW(2:32)) -> 43498 | D5: =DATE($A$1,COLUMN(C:N),ROW(2:32)) -> 43526 | E5: =DATE($A$1,COLUMN(D:O),ROW(2:32)) -> 43557 | F5: =DATE($A$1,COLUMN(E:P),ROW(2:32)) -> 43587 | G5: =DATE($A$1,COLUMN(F:Q),ROW(2:32)) -> 43618 | H5: =DATE($A$1,COLUMN(G:R),ROW(2:32)) -> 43648 | I5: =DATE($A$1,COLUMN(H:S),ROW(2:32)) -> 43679 | J5: =DATE($A$1,COLUMN(I:T),ROW(2:32)) -> 43710 | K5: =DATE($A$1,COLUMN(J:U),ROW(2:32)) -> 43740 | L5: =DATE($A$1,COLUMN(K:V),ROW(2:32)) -> 43771 | M5: =DATE($A$1,COLUMN(L:W),ROW(2:32)) -> 43801 | P5: Jour de l'An | Q5: =DATE($A$1,1,1) -> 43466
B6: =DATE($A$1,COLUMN(A:L),ROW(3:33)) -> 43468 | C6: =DATE($A$1,COLUMN(B:M),ROW(3:33)) -> 43499 | D6: =DATE($A$1,COLUMN(C:N),ROW(3:33)) -> 43527 | E6: =DATE($A$1,COLUMN(D:O),ROW(3:33)) -> 43558 | F6: =DATE($A$1,COLUMN(E:P),ROW(3:33)) -> 43588 | G6: =DATE($A$1,COLUMN(F:Q),ROW(3:33)) -> 43619 | H6: =DATE($A$1,COLUMN(G:R),ROW(3:33)) -> 43649 | I6: =DATE($A$1,COLUMN(H:S),ROW(3:33)) -> 43680 | J6: =DATE($A$1,COLUMN(I:T),ROW(3:33)) -> 43711 | K6: =DATE($A$1,COLUMN(J:U),ROW(3:33)) -> 43741 | L6: =DATE($A$1,COLUMN(K:V),ROW(3:33)) -> 43772 | M6: =DATE($A$1,COLUMN(L:W),ROW(3:33)) -> 43802 | P6: Paques | Q6: =FLOOR(DAY(MINUTE(A1/38)/2+56)&"/5/"&A1,7)-34 -> 43576
B7: =DATE($A$1,COLUMN(A:L),ROW(4:34)) -> 43469 | C7: =DATE($A$1,COLUMN(B:M),ROW(4:34)) -> 43500 | D7: =DATE($A$1,COLUMN(C:N),ROW(4:34)) -> 43528 | E7: =DATE($A$1,COLUMN(D:O),ROW(4:34)) -> 43559 | F7: =DATE($A$1,COLUMN(E:P),ROW(4:34)) -> 43589 | G7: =DATE($A$1,COLUMN(F:Q),ROW(4:34)) -> 43620 | H7: =DATE($A$1,COLUMN(G:R),ROW(4:34)) -> 43650 | I7: =DATE($A$1,COLUMN(H:S),ROW(4:34)) -> 43681 | J7: =DATE($A$1,COLUMN(I:T),ROW(4:34)) -> 43712 | K7: =DATE($A$1,COLUMN(J:U),ROW(4:34)) -> 43742 | L7: =DATE($A$1,COLUMN(K:V),ROW(4:34)) -> 43773 | M7: =DATE($A$1,COLUMN(L:W),ROW(4:34)) -> 43803 | P7: Lundi pâques | Q7: =Q6+1 -> 43577
B8: =DATE($A$1,COLUMN(A:L),ROW(5:35)) -> 43470 | C8: =DATE($A$1,COLUMN(B:M),ROW(5:35)) -> 43501 | D8: =DATE($A$1,COLUMN(C:N),ROW(5:35)) -> 43529 | E8: =DATE($A$1,COLUMN(D:O),ROW(5:35)) -> 43560 | F8: =DATE($A$1,COLUMN(E:P),ROW(5:35)) -> 43590 | G8: =DATE($A$1,COLUMN(F:Q),ROW(5:35)) -> 43621 | H8: =DATE($A$1,COLUMN(G:R),ROW(5:35)) -> 43651 | I8: =DATE($A$1,COLUMN(H:S),ROW(5:35)) -> 43682 | J8: =DATE($A$1,COLUMN(I:T),ROW(5:35)) -> 43713 | K8: =DATE($A$1,COLUMN(J:U),ROW(5:35)) -> 43743 | L8: =DATE($A$1,COLUMN(K:V),ROW(5:35)) -> 43774 | M8: =DATE($A$1,COLUMN(L:W),ROW(5:35)) -> 43804 | P8: fête travail | Q8: =DATE($A$1,5,1) -> 43586
B9: =DATE($A$1,COLUMN(A:L),ROW(6:36)) -> 43471 | C9: =DATE($A$1,COLUMN(B:M),ROW(6:36)) -> 43502 | D9: =DATE($A$1,COLUMN(C:N),ROW(6:36)) -> 43530 | E9: =DATE($A$1,COLUMN(D:O),ROW(6:36)) -> 43561 | F9: =DATE($A$1,COLUMN(E:P),ROW(6:36)) -> 43591 | G9: =DATE($A$1,COLUMN(F:Q),ROW(6:36)) -> 43622 | H9: =DATE($A$1,COLUMN(G:R),ROW(6:36)) -> 43652 | I9: =DATE($A$1,COLUMN(H:S),ROW(6:36)) -> 43683 | J9: =DATE($A$1,COLUMN(I:T),ROW(6:36)) -> 43714 | K9: =DATE($A$1,COLUMN(J:U),ROW(6:36)) -> 43744 | L9: =DATE($A$1,COLUMN(K:V),ROW(6:36)) -> 43775 | M9: =DATE($A$1,COLUMN(L:W),ROW(6:36)) -> 43805 | P9: Victoire 39/45 | Q9: =DATE($A$1,5,8) -> 43593
B10: =DATE($A$1,COLUMN(A:L),ROW(7:37)) -> 43472 | C10: =DATE($A$1,COLUMN(B:M),ROW(7:37)) -> 43503 | D10: =DATE($A$1,COLUMN(C:N),ROW(7:37)) -> 43531 | E10: =DATE($A$1,COLUMN(D:O),ROW(7:37)) -> 43562 | F10: =DATE($A$1,COLUMN(E:P),ROW(7:37)) -> 43592 | G10: =DATE($A$1,COLUMN(F:Q),ROW(7:37)) -> 43623 | H10: =DATE($A$1,COLUMN(G:R),ROW(7:37)) -> 43653 | I10: =DATE($A$1,COLUMN(H:S),ROW(7:37)) -> 43684 | J10: =DATE($A$1,COLUMN(I:T),ROW(7:37)) -> 43715 | K10: =DATE($A$1,COLUMN(J:U),ROW(7:37)) -> 43745 | L10: =DATE($A$1,COLUMN(K:V),ROW(7:37)) -> 43776 | M10: =DATE($A$1,COLUMN(L:W),ROW(7:37)) -> 43806 | P10: ascension | Q10: =Q6+39 -> 43615
B11: =DATE($A$1,COLUMN(A:L),ROW(8:38)) -> 43473 | C11: =DATE($A$1,COLUMN(B:M),ROW(8:38)) -> 43504 | D11: =DATE($A$1,COLUMN(C:N),ROW(8:38)) -> 43532 | E11: =DATE($A$1,COLUMN(D:O),ROW(8:38)) -> 43563 | F11: =DATE($A$1,COLUMN(E:P),ROW(8:38)) -> 43593 | G11: =DATE($A$1,COLUMN(F:Q),ROW(8:38)) -> 43624 | H11: =DATE($A$1,COLUMN(G:R),ROW(8:38)) -> 43654 | I11: =DATE($A$1,COLUMN(H:S),ROW(8:38)) -> 43685 | J11: =DATE($A$1,COLUMN(I:T),ROW(8:38)) -> 43716 | K11: =DATE($A$1,COLUMN(J:U),ROW(8:38)) -> 43746 | L11: =DATE($A$1,COLUMN(K:V),ROW(8:38)) -> 43777 | M11: =DATE($A$1,COLUMN(L:W),ROW(8:38)) -> 43807 | P11: Pentecôte | Q11: =Q6+49 -> 43625
B12: =DATE($A$1,COLUMN(A:L),ROW(9:39)) -> 43474 | C12: =DATE($A$1,COLUMN(B:M),ROW(9:39)) -> 43505 | D12: =DATE($A$1,COLUMN(C:N),ROW(9:39)) -> 43533 | E12: =DATE($A$1,COLUMN(D:O),ROW(9:39)) -> 43564 | F12: =DATE($A$1,COLUMN(E:P),ROW(9:39)) -> 43594 | G12: =DATE($A$1,COLUMN(F:Q),ROW(9:39)) -> 43625 | H12: =DATE($A$1,COLUMN(G:R),ROW(9:39)) -> 43655 | I12: =DATE($A$1,COLUMN(H:S),ROW(9:39)) -> 43686 | J12: =DATE($A$1,COLUMN(I:T),ROW(9:39)) -> 43717 | K12: =DATE($A$1,COLUMN(J:U),ROW(9:39)) -> 43747 | L12: =DATE($A$1,COLUMN(K:V),ROW(9:39)) -> 43778 | M12: =DATE($A$1,COLUMN(L:W),ROW(9:39)) -> 43808 | P12: lundi pente | Q12: =Q6+50 -> 43626
B13: =DATE($A$1,COLUMN(A:L),ROW(10:40)) -> 43475 | C13: =DATE($A$1,COLUMN(B:M),ROW(10:40)) -> 43506 | D13: =DATE($A$1,COLUMN(C:N),ROW(10:40)) -> 43534 | E13: =DATE($A$1,COLUMN(D:O),ROW(10:40)) -> 43565 | F13: =DATE($A$1,COLUMN(E:P),ROW(10:40)) -> 43595 | G13: =DATE($A$1,COLUMN(F:Q),ROW(10:40)) -> 43626 | H13: =DATE($A$1,COLUMN(G:R),ROW(10:40)) -> 43656 | I13: =DATE($A$1,COLUMN(H:S),ROW(10:40)) -> 43687 | J13: =DATE($A$1,COLUMN(I:T),ROW(10:40)) -> 43718 | K13: =DATE($A$1,COLUMN(J:U),ROW(10:40)) -> 43748 | L13: =DATE($A$1,COLUMN(K:V),ROW(10:40)) -> 43779 | M13: =DATE($A$1,COLUMN(L:W),ROW(10:40)) -> 43809 | P13: Fête Nat | Q13: =DATE($A$1,7,14) -> 43660
B14: =DATE($A$1,COLUMN(A:L),ROW(11:41)) -> 43476 | C14: =DATE($A$1,COLUMN(B:M),ROW(11:41)) -> 43507 | D14: =DATE($A$1,COLUMN(C:N),ROW(11:41)) -> 43535 | E14: =DATE($A$1,COLUMN(D:O),ROW(11:41)) -> 43566 | F14: =DATE($A$1,COLUMN(E:P),ROW(11:41)) -> 43596 | G14: =DATE($A$1,COLUMN(F:Q),ROW(11:41)) -> 43627 | H14: =DATE($A$1,COLUMN(G:R),ROW(11:41)) -> 43657 | I14: =DATE($A$1,COLUMN(H:S),ROW(11:41)) -> 43688 | J14: =DATE($A$1,COLUMN(I:T),ROW(11:41)) -> 43719 | K14: =DATE($A$1,COLUMN(J:U),ROW(11:41)) -> 43749 | L14: =DATE($A$1,COLUMN(K:V),ROW(11:41)) -> 43780 | M14: =DATE($A$1,COLUMN(L:W),ROW(11:41)) -> 43810 | P14: Assomption | Q14: =DATE($A$1,8,15) -> 43692
B15: =DATE($A$1,COLUMN(A:L),ROW(12:42)) -> 43477 | C15: =DATE($A$1,COLUMN(B:M),ROW(12:42)) -> 43508 | D15: =DATE($A$1,COLUMN(C:N),ROW(12:42)) -> 43536 | E15: =DATE($A$1,COLUMN(D:O),ROW(12:42)) -> 43567 | F15: =DATE($A$1,COLUMN(E:P),ROW(12:42)) -> 43597 | G15: =DATE($A$1,COLUMN(F:Q),ROW(12:42)) -> 43628 | H15: =DATE($A$1,COLUMN(G:R),ROW(12:42)) -> 43658 | I15: =DATE($A$1,COLUMN(H:S),ROW(12:42)) -> 43689 | J15: =DATE($A$1,COLUMN(I:T),ROW(12:42)) -> 43720 | K15: =DATE($A$1,COLUMN(J:U),ROW(12:42)) -> 43750 | L15: =DATE($A$1,COLUMN(K:V),ROW(12:42)) -> 43781 | M15: =DATE($A$1,COLUMN(L:W),ROW(12:42)) -> 43811 | P15: Toussaint | Q15: =DATE($A$1,11,1) -> 43770
B16: =DATE($A$1,COLUMN(A:L),ROW(13:43)) -> 43478 | C16: =DATE($A$1,COLUMN(B:M),ROW(13:43)) -> 43509 | D16: =DATE($A$1,COLUMN(C:N),ROW(13:43)) -> 43537 | E16: =DATE($A$1,COLUMN(D:O),ROW(13:43)) -> 43568 | F16: =DATE($A$1,COLUMN(E:P),ROW(13:43)) -> 43598 | G16: =DATE($A$1,COLUMN(F:Q),ROW(13:43)) -> 43629 | H16: =DATE($A$1,COLUMN(G:R),ROW(13:43)) -> 43659 | I16: =DATE($A$1,COLUMN(H:S),ROW(13:43)) -> 43690 | J16: =DATE($A$1,COLUMN(I:T),ROW(13:43)) -> 43721 | K16: =DATE($A$1,COLUMN(J:U),ROW(13:43)) -> 43751 | L16: =DATE($A$1,COLUMN(K:V),ROW(13:43)) -> 43782 | M16: =DATE($A$1,COLUMN(L:W),ROW(13:43)) -> 43812 | P16: Armistice | Q16: =DATE($A$1,11,11) -> 43780
B17: =DATE($A$1,COLUMN(A:L),ROW(14:44)) -> 43479 | C17: =DATE($A$1,COLUMN(B:M),ROW(14:44)) -> 43510 | D17: =DATE($A$1,COLUMN(C:N),ROW(14:44)) -> 43538 | E17: =DATE($A$1,COLUMN(D:O),ROW(14:44)) -> 43569 | F17: =DATE($A$1,COLUMN(E:P),ROW(14:44)) -> 43599 | G17: =DATE($A$1,COLUMN(F:Q),ROW(14:44)) -> 43630 | H17: =DATE($A$1,COLUMN(G:R),ROW(14:44)) -> 43660 | I17: =DATE($A$1,COLUMN(H:S),ROW(14:44)) -> 43691 | J17: =DATE($A$1,COLUMN(I:T),ROW(14:44)) -> 43722 | K17: =DATE($A$1,COLUMN(J:U),ROW(14:44)) -> 43752 | L17: =DATE($A$1,COLUMN(K:V),ROW(14:44)) -> 43783 | M17: =DATE($A$1,COLUMN(L:W),ROW(14:44)) -> 43813 | P17: Noël | Q17: =DATE($A$1,12,25) -> 43824
B18: =DATE($A$1,COLUMN(A:L),ROW(15:45)) -> 43480 | C18: =DATE($A$1,COLUMN(B:M),ROW(15:45)) -> 43511 | D18: =DATE($A$1,COLUMN(C:N),ROW(15:45)) -> 43539 | E18: =DATE($A$1,COLUMN(D:O),ROW(15:45)) -> 43570 | F18: =DATE($A$1,COLUMN(E:P),ROW(15:45)) -> 43600 | G18: =DATE($A$1,COLUMN(F:Q),ROW(15:45)) -> 43631 | H18: =DATE($A$1,COLUMN(G:R),ROW(15:45)) -> 43661 | I18: =DATE($A$1,COLUMN(H:S),ROW(15:45)) -> 43692 | J18: =DATE($A$1,COLUMN(I:T),ROW(15:45)) -> 43723 | K18: =DATE($A$1,COLUMN(J:U),ROW(15:45)) -> 43753 | L18: =DATE($A$1,COLUMN(K:V),ROW(15:45)) -> 43784 | M18: =DATE($A$1,COLUMN(L:W),ROW(15:45)) -> 43814
B19: =DATE($A$1,COLUMN(A:L),ROW(16:46)) -> 43481 | C19: =DATE($A$1,COLUMN(B:M),ROW(16:46)) -> 43512 | D19: =DATE($A$1,COLUMN(C:N),ROW(16:46)) -> 43540 | E19: =DATE($A$1,COLUMN(D:O),ROW(16:46)) -> 43571 | F19: =DATE($A$1,COLUMN(E:P),ROW(16:46)) -> 43601 | G19: =DATE($A$1,COLUMN(F:Q),ROW(16:46)) -> 43632 | H19: =DATE($A$1,COLUMN(G:R),ROW(16:46)) -> 43662 | I19: =DATE($A$1,COLUMN(H:S),ROW(16:46)) -> 43693 | J19: =DATE($A$1,COLUMN(I:T),ROW(16:46)) -> 43724 | K19: =DATE($A$1,COLUMN(J:U),ROW(16:46)) -> 43754 | L19: =DATE($A$1,COLUMN(K:V),ROW(16:46)) -> 43785 | M19: =DATE($A$1,COLUMN(L:W),ROW(16:46)) -> 43815
B20: =DATE($A$1,COLUMN(A:L),ROW(17:47)) -> 43482 | C20: =DATE($A$1,COLUMN(B:M),ROW(17:47)) -> 43513 | D20: =DATE($A$1,COLUMN(C:N),ROW(17:47)) -> 43541 | E20: =DATE($A$1,COLUMN(D:O),ROW(17:47)) -> 43572 | F20: =DATE($A$1,COLUMN(E:P),ROW(17:47)) -> 43602 | G20: =DATE($A$1,COLUMN(F:Q),ROW(17:47)) -> 43633 | H20: =DATE($A$1,COLUMN(G:R),ROW(17:47)) -> 43663 | I20: =DATE($A$1,COLUMN(H:S),ROW(17:47)) -> 43694 | J20: =DATE($A$1,COLUMN(I:T),ROW(17:47)) -> 43725 | K20: =DATE($A$1,COLUMN(J:U),ROW(17:47)) -> 43755 | L20: =DATE($A$1,COLUMN(K:V),ROW(17:47)) -> 43786 | M20: =DATE($A$1,COLUMN(L:W),ROW(17:47)) -> 43816
B21: =DATE($A$1,COLUMN(A:L),ROW(18:48)) -> 43483 | C21: =DATE($A$1,COLUMN(B:M),ROW(18:48)) -> 43514 | D21: =DATE($A$1,COLUMN(C:N),ROW(18:48)) -> 43542 | E21: =DATE($A$1,COLUMN(D:O),ROW(18:48)) -> 43573 | F21: =DATE($A$1,COLUMN(E:P),ROW(18:48)) -> 43603 | G21: =DATE($A$1,COLUMN(F:Q),ROW(18:48)) -> 43634 | H21: =DATE($A$1,COLUMN(G:R),ROW(18:48)) -> 43664 | I21: =DATE($A$1,COLUMN(H:S),ROW(18:48)) -> 43695 | J21: =DATE($A$1,COLUMN(I:T),ROW(18:48)) -> 43726 | K21: =DATE($A$1,COLUMN(J:U),ROW(18:48)) -> 43756 | L21: =DATE($A$1,COLUMN(K:V),ROW(18:48)) -> 43787 | M21: =DATE($A$1,COLUMN(L:W),ROW(18:48)) -> 43817
B22: =DATE($A$1,COLUMN(A:L),ROW(19:49)) -> 43484 | C22: =DATE($A$1,COLUMN(B:M),ROW(19:49)) -> 43515 | D22: =DATE($A$1,COLUMN(C:N),ROW(19:49)) -> 43543 | E22: =DATE($A$1,COLUMN(D:O),ROW(19:49)) -> 43574 | F22: =DATE($A$1,COLUMN(E:P),ROW(19:49)) -> 43604 | G22: =DATE($A$1,COLUMN(F:Q),ROW(19:49)) -> 43635 | H22: =DATE($A$1,COLUMN(G:R),ROW(19:49)) -> 43665 | I22: =DATE($A$1,COLUMN(H:S),ROW(19:49)) -> 43696 | J22: =DATE($A$1,COLUMN(I:T),ROW(19:49)) -> 43727 | K22: =DATE($A$1,COLUMN(J:U),ROW(19:49)) -> 43757 | L22: =DATE($A$1,COLUMN(K:V),ROW(19:49)) -> 43788 | M22: =DATE($A$1,COLUMN(L:W),ROW(19:49)) -> 43818
B23: =DATE($A$1,COLUMN(A:L),ROW(20:50)) -> 43485 | C23: =DATE($A$1,COLUMN(B:M),ROW(20:50)) -> 43516 | D23: =DATE($A$1,COLUMN(C:N),ROW(20:50)) -> 43544 | E23: =DATE($A$1,COLUMN(D:O),ROW(20:50)) -> 43575 | F23: =DATE($A$1,COLUMN(E:P),ROW(20:50)) -> 43605 | G23: =DATE($A$1,COLUMN(F:Q),ROW(20:50)) -> 43636 | H23: =DATE($A$1,COLUMN(G:R),ROW(20:50)) -> 43666 | I23: =DATE($A$1,COLUMN(H:S),ROW(20:50)) -> 43697 | J23: =DATE($A$1,COLUMN(I:T),ROW(20:50)) -> 43728 | K23: =DATE($A$1,COLUMN(J:U),ROW(20:50)) -> 43758 | L23: =DATE($A$1,COLUMN(K:V),ROW(20:50)) -> 43789 | M23: =DATE($A$1,COLUMN(L:W),ROW(20:50)) -> 43819
B24: =DATE($A$1,COLUMN(A:L),ROW(21:51)) -> 43486 | C24: =DATE($A$1,COLUMN(B:M),ROW(21:51)) -> 43517 | D24: =DATE($A$1,COLUMN(C:N),ROW(21:51)) -> 43545 | E24: =DATE($A$1,COLUMN(D:O),ROW(21:51)) -> 43576 | F24: =DATE($A$1,COLUMN(E:P),ROW(21:51)) -> 43606 | G24: =DATE($A$1,COLUMN(F:Q),ROW(21:51)) -> 43637 | H24: =DATE($A$1,COLUMN(G:R),ROW(21:51)) -> 43667 | I24: =DATE($A$1,COLUMN(H:S),ROW(21:51)) -> 43698 | J24: =DATE($A$1,COLUMN(I:T),ROW(21:51)) -> 43729 | K24: =DATE($A$1,COLUMN(J:U),ROW(21:51)) -> 43759 | L24: =DATE($A$1,COLUMN(K:V),ROW(21:51)) -> 43790 | M24: =DATE($A$1,COLUMN(L:W),ROW(21:51)) -> 43820
B25: =DATE($A$1,COLUMN(A:L),ROW(22:52)) -> 43487 | C25: =DATE($A$1,COLUMN(B:M),ROW(22:52)) -> 43518 | D25: =DATE($A$1,COLUMN(C:N),ROW(22:52)) -> 43546 | E25: =DATE($A$1,COLUMN(D:O),ROW(22:52)) -> 43577 | F25: =DATE($A$1,COLUMN(E:P),ROW(22:52)) -> 43607 | G25: =DATE($A$1,COLUMN(F:Q),ROW(22:52)) -> 43638 | H25: =DATE($A$1,COLUMN(G:R),ROW(22:52)) -> 43668 | I25: =DATE($A$1,COLUMN(H:S),ROW(22:52)) -> 43699 | J25: =DATE($A$1,COLUMN(I:T),ROW(22:52)) -> 43730 | K25: =DATE($A$1,COLUMN(J:U),ROW(22:52)) -> 43760 | L25: =DATE($A$1,COLUMN(K:V),ROW(22:52)) -> 43791 | M25: =DATE($A$1,COLUMN(L:W),ROW(22:52)) -> 43821
B26: =DATE($A$1,COLUMN(A:L),ROW(23:53)) -> 43488 | C26: =DATE($A$1,COLUMN(B:M),ROW(23:53)) -> 43519 | D26: =DATE($A$1,COLUMN(C:N),ROW(23:53)) -> 43547 | E26: =DATE($A$1,COLUMN(D:O),ROW(23:53)) -> 43578 | F26: =DATE($A$1,COLUMN(E:P),ROW(23:53)) -> 43608 | G26: =DATE($A$1,COLUMN(F:Q),ROW(23:53)) -> 43639 | H26: =DATE($A$1,COLUMN(G:R),ROW(23:53)) -> 43669 | I26: =DATE($A$1,COLUMN(H:S),ROW(23:53)) -> 43700 | J26: =DATE($A$1,COLUMN(I:T),ROW(23:53)) -> 43731 | K26: =DATE($A$1,COLUMN(J:U),ROW(23:53)) -> 43761 | L26: =DATE($A$1,COLUMN(K:V),ROW(23:53)) -> 43792 | M26: =DATE($A$1,COLUMN(L:W),ROW(23:53)) -> 43822
B27: =DATE($A$1,COLUMN(A:L),ROW(24:54)) -> 43489 | C27: =DATE($A$1,COLUMN(B:M),ROW(24:54)) -> 43520 | D27: =DATE($A$1,COLUMN(C:N),ROW(24:54)) -> 43548 | E27: =DATE($A$1,COLUMN(D:O),ROW(24:54)) -> 43579 | F27: =DATE($A$1,COLUMN(E:P),ROW(24:54)) -> 43609 | G27: =DATE($A$1,COLUMN(F:Q),ROW(24:54)) -> 43640 | H27: =DATE($A$1,COLUMN(G:R),ROW(24:54)) -> 43670 | I27: =DATE($A$1,COLUMN(H:S),ROW(24:54)) -> 43701 | J27: =DATE($A$1,COLUMN(I:T),ROW(24:54)) -> 43732 | K27: =DATE($A$1,COLUMN(J:U),ROW(24:54)) -> 43762 | L27: =DATE($A$1,COLUMN(K:V),ROW(24:54)) -> 43793 | M27: =DATE($A$1,COLUMN(L:W),ROW(24:54)) -> 43823
B28: =DATE($A$1,COLUMN(A:L),ROW(25:55)) -> 43490 | C28: =DATE($A$1,COLUMN(B:M),ROW(25:55)) -> 43521 | D28: =DATE($A$1,COLUMN(C:N),ROW(25:55)) -> 43549 | E28: =DATE($A$1,COLUMN(D:O),ROW(25:55)) -> 43580 | F28: =DATE($A$1,COLUMN(E:P),ROW(25:55)) -> 43610 | G28: =DATE($A$1,COLUMN(F:Q),ROW(25:55)) -> 43641 | H28: =DATE($A$1,COLUMN(G:R),ROW(25:55)) -> 43671 | I28: =DATE($A$1,COLUMN(H:S),ROW(25:55)) -> 43702 | J28: =DATE($A$1,COLUMN(I:T),ROW(25:55)) -> 43733 | K28: =DATE($A$1,COLUMN(J:U),ROW(25:55)) -> 43763 | L28: =DATE($A$1,COLUMN(K:V),ROW(25:55)) -> 43794 | M28: =DATE($A$1,COLUMN(L:W),ROW(25:55)) -> 43824
B29: =DATE($A$1,COLUMN(A:L),ROW(26:56)) -> 43491 | C29: =DATE($A$1,COLUMN(B:M),ROW(26:56)) -> 43522 | D29: =DATE($A$1,COLUMN(C:N),ROW(26:56)) -> 43550 | E29: =DATE($A$1,COLUMN(D:O),ROW(26:56)) -> 43581 | F29: =DATE($A$1,COLUMN(E:P),ROW(26:56)) -> 43611 | G29: =DATE($A$1,COLUMN(F:Q),ROW(26:56)) -> 43642 | H29: =DATE($A$1,COLUMN(G:R),ROW(26:56)) -> 43672 | I29: =DATE($A$1,COLUMN(H:S),ROW(26:56)) -> 43703 | J29: =DATE($A$1,COLUMN(I:T),ROW(26:56)) -> 43734 | K29: =DATE($A$1,COLUMN(J:U),ROW(26:56)) -> 43764 | L29: =DATE($A$1,COLUMN(K:V),ROW(26:56)) -> 43795 | M29: =DATE($A$1,COLUMN(L:W),ROW(26:56)) -> 43825
B30: =DATE($A$1,COLUMN(A:L),ROW(27:57)) -> 43492 | C30: =DATE($A$1,COLUMN(B:M),ROW(27:57)) -> 43523 | D30: =DATE($A$1,COLUMN(C:N),ROW(27:57)) -> 43551 | E30: =DATE($A$1,COLUMN(D:O),ROW(27:57)) -> 43582 | F30: =DATE($A$1,COLUMN(E:P),ROW(27:57)) -> 43612 | G30: =DATE($A$1,COLUMN(F:Q),ROW(27:57)) -> 43643 | H30: =DATE($A$1,COLUMN(G:R),ROW(27:57)) -> 43673 | I30: =DATE($A$1,COLUMN(H:S),ROW(27:57)) -> 43704 | J30: =DATE($A$1,COLUMN(I:T),ROW(27:57)) -> 43735 | K30: =DATE($A$1,COLUMN(J:U),ROW(27:57)) -> 43765 | L30: =DATE($A$1,COLUMN(K:V),ROW(27:57)) -> 43796 | M30: =DATE($A$1,COLUMN(L:W),ROW(27:57)) -> 43826
B31: =DATE($A$1,COLUMN(A:L),ROW(28:58)) -> 43493 | C31: =DATE($A$1,COLUMN(B:M),ROW(28:58)) -> 43524 | D31: =DATE($A$1,COLUMN(C:N),ROW(28:58)) -> 43552 | E31: =DATE($A$1,COLUMN(D:O),ROW(28:58)) -> 43583 | F31: =DATE($A$1,COLUMN(E:P),ROW(28:58)) -> 43613 | G31: =DATE($A$1,COLUMN(F:Q),ROW(28:58)) -> 43644 | H31: =DATE($A$1,COLUMN(G:R),ROW(28:58)) -> 43674 | I31: =DATE($A$1,COLUMN(H:S),ROW(28:58)) -> 43705 | J31: =DATE($A$1,COLUMN(I:T),ROW(28:58)) -> 43736 | K31: =DATE($A$1,COLUMN(J:U),ROW(28:58)) -> 43766 | L31: =DATE($A$1,COLUMN(K:V),ROW(28:58)) -> 43797 | M31: =DATE($A$1,COLUMN(L:W),ROW(28:58)) -> 43827
B32: =DATE($A$1,COLUMN(A:L),ROW(29:59)) -> 43494 | C32: =DATE($A$1,COLUMN(B:M),ROW(29:59)) -> 43525 | D32: =DATE($A$1,COLUMN(C:N),ROW(29:59)) -> 43553 | E32: =DATE($A$1,COLUMN(D:O),ROW(29:59)) -> 43584 | F32: =DATE($A$1,COLUMN(E:P),ROW(29:59)) -> 43614 | G32: =DATE($A$1,COLUMN(F:Q),ROW(29:59)) -> 43645 | H32: =DATE($A$1,COLUMN(G:R),ROW(29:59)) -> 43675 | I32: =DATE($A$1,COLUMN(H:S),ROW(29:59)) -> 43706 | J32: =DATE($A$1,COLUMN(I:T),ROW(29:59)) -> 43737 | K32: =DATE($A$1,COLUMN(J:U),ROW(29:59)) -> 43767 | L32: =DATE($A$1,COLUMN(K:V),ROW(29:59)) -> 43798 | M32: =DATE($A$1,COLUMN(L:W),ROW(29:59)) -> 43828
B33: =DATE($A$1,COLUMN(A:L),ROW(30:60)) -> 43495 | D33: =DATE($A$1,COLUMN(C:N),ROW(30:60)) -> 43554 | E33: =DATE($A$1,COLUMN(D:O),ROW(30:60)) -> 43585 | F33: =DATE($A$1,COLUMN(E:P),ROW(30:60)) -> 43615 | G33: =DATE($A$1,COLUMN(F:Q),ROW(30:60)) -> 43646 | H33: =DATE($A$1,COLUMN(G:R),ROW(30:60)) -> 43676 | I33: =DATE($A$1,COLUMN(H:S),ROW(30:60)) -> 43707 | J33: =DATE($A$1,COLUMN(I:T),ROW(30:60)) -> 43738 | K33: =DATE($A$1,COLUMN(J:U),ROW(30:60)) -> 43768 | L33: =DATE($A$1,COLUMN(K:V),ROW(30:60)) -> 43799 | M33: =DATE($A$1,COLUMN(L:W),ROW(30:60)) -> 43829
B34: =DATE($A$1,COLUMN(A:L),ROW(31:61)) -> 43496 | D34: =DATE($A$1,COLUMN(C:N),ROW(31:61)) -> 43555 | F34: =DATE($A$1,COLUMN(E:P),ROW(31:61)) -> 43616 | H34: =DATE($A$1,COLUMN(G:R),ROW(31:61)) -> 43677 | I34: =DATE($A$1,COLUMN(H:S),ROW(31:61)) -> 43708 | K34: =DATE($A$1,COLUMN(J:U),ROW(31:61)) -> 43769 | M34: =DATE($A$1,COLUMN(L:W),ROW(31:61)) -> 43830

Sheet Jan
Y2: =SUM(O4:O30) -> 0
A3: S 01 | B3: DATE | C3: SERV | E3: J | F3: HA | G3: HD | I3: K | J3: Ser | K3: CP | L3: MOTIF DU DEPLACEMENT | O3: Panniers | P3: HSD | Q3: HSF | R3: H.Sup | S3: Maj Nuit | T3: Maj Dim. | U3: Maj J.Fé. | V3: Astreinte | W3: SSLIA | Y3: =SUM(O30:O30) -> 0
B4: =DATE(Calendrier!$A$1,_xlfn.SHEET()-1,(ROW()/2)-1) -> 43466 | D4: M | E4: =IF(C4="","",IF(OR(C4="Cp",C4="AM",C4="Re",C4="Fe"),"",1)) | F4: 8 | G4: 10 | H4: =((G4-F4)+(G5-F5)) -> 2 | K4: =IF(OR(C4="Cp"),1,"") | P4: 18 | Q4: 20 | R4: =((Q4-P4)-(Q5-P5)) -> 2 | Y4: =SUM(#REF!) -> #REF!
A5: =SUM(H4:H15)+SUM(R4:R15) -> 4 | D5: S
B6: =DATE(Calendrier!$A$1,_xlfn.SHEET()-1,(ROW()/2)-1) -> 43467 | D6: M | E6: =IF(C6="","",IF(OR(C6="Cp",C6="AM",C6="Re",C6="Fe"),"",1)) | H6: =((G6-F6)+(G7-F7)) -> 0 | R6: =((Q6-P6)-(Q7-P7)) -> 0 | Y6: =SUM(#REF!) -> #REF!
D7: S
B8: =DATE(Calendrier!$A$1,_xlfn.SHEET()-1,(ROW()/2)-1) -> 43468 | D8: M | E8: =IF(C8="","",IF(OR(C8="Cp",C8="AM",C8="Re",C8="Fe"),"",1)) | H8: =((G8-F8)+(G9-F9)) -> 0 | K8: =IF(OR(C8="Cp"),1,"") | R8: =((Q8-P8)-(Q9-P9)) -> 0
D9: S
B10: =DATE(Calendrier!$A$1,_xlfn.SHEET()-1,(ROW()/2)-1) -> 43469 | D10: M | E10: =IF(C10="","",IF(OR(C10="Cp",C10="AM",C10="Re",C10="Fe"),"",1)) | H10: =((G10-F10)+(G11-F11)) -> 0 | K10: =IF(OR(C10="Cp"),1,"") | R10: =((Q10-P10)-(Q11-P11)) -> 0
D11: S
B12: =DATE(Calendrier!$A$1,_xlfn.SHEET()-1,(ROW()/2)-1) -> 43470 | D12: M | E12: =IF(C12="","",IF(OR(C12="Cp",C12="AM",C12="Re",C12="Fe"),"",1)) | H12: =((G12-F12)+(G13-F13)) -> 0 | K12: =IF(OR(C12="Cp"),1,"") | R12: =((Q12-P12)-(Q13-P13)) -> 0
D13: S
B14: =DATE(Calendrier!$A$1,_xlfn.SHEET()-1,(ROW()/2)-1) -> 43471 | D14: M | E14: =IF(C14="","",IF(OR(C14="Cp",C14="AM",C14="Re",C14="Fe"),"",1)) | H14: =((G14-F14)+(G15-F15)) -> 0 | K14: =IF(OR(C14="Cp"),1,"") | R14: =((Q14-P14)-(Q15-P15)) -> 0
A15: S 02 | D15: S
B16: =DATE(Calendrier!$A$1,_xlfn.SHEET()-1,(ROW()/2)-1) -> 43472 | D16: M | E16: =IF(C16="","",IF(OR(C16="Cp",C16="AM",C16="Re",C16="Fe"),"",1)) | F16: 8 | G16: 10 | H16: =((G16-F16)+(G17-F17)) -> 2 | K16: =IF(OR(C16="Cp"),1,"") | P16: 18 | Q16: 20 | R16: =((Q16-P16)-(Q17-P17)) -> 2
A17: =SUM(H16:H31)+SUM(R16:R31) -> 4 | D17: S
B18: =DATE(Calendrier!$A$1,_xlfn.SHEET()-1,(ROW()/2)-1) -> 43473 | D18: M | E18: =IF(C18="","",IF(OR(C18="Cp",C18="AM",C18="Re",C18="Fe"),"",1)) | H18: =((G18-F18)+(G19-F19)) -> 0 | K18: =IF(OR(C18="Cp"),1,"") | R18: =((Q18-P18)-(Q19-P19)) -> 0
D19: S
B20: =DATE(Calendrier!$A$1,_xlfn.SHEET()-1,(ROW()/2)-1) -> 43474 | D20: M | E20: =IF(C20="","",IF(OR(C20="Cp",C20="AM",C20="Re",C20="Fe"),"",1)) | H20: =((G20-F20)+(G21-F21)) -> 0 | K20: =IF(OR(C20="Cp"),1,"") | R20: =((Q20-P20)-(Q21-P21)) -> 0
D21: S
B22: =DATE(Calendrier!$A$1,_xlfn.SHEET()-1,(ROW()/2)-1) -> 43475 | D22: M | E22: =IF(C22="","",IF(OR(C22="Cp",C22="AM",C22="Re",C22="Fe"),"",1)) | H22: =((G22-F22)+(G23-F23)) -> 0 | K22: =IF(OR(C22="Cp"),1,"") | R22: =((Q22-P22)-(Q23-P23)) -> 0
D23: S
B24: =DATE(Calendrier!$A$1,_xlfn.SHEET()-1,(ROW()/2)-1) -> 43476 | D24: M | E24: =IF(C24="","",IF(OR(C24="Cp",C24="AM",C24="Re",C24="Fe"),"",1)) | H24: =((G24-F24)+(G25-F25)) -> 0 | K24: =IF(OR(C24="Cp"),1,"") | R24: =((Q24-P24)-(Q25-P25)) -> 0
D25: S
B26: =DATE(Calendrier!$A$1,_xlfn.SHEET()-1,(ROW()/2)-1) -> 43477 | D26: M | E26: =IF(C26="","",IF(OR(C26="Cp",C26="AM",C26="Re",C26="Fe"),"",1)) | H26: =((G26-F26)+(G27-F27)) -> 0 | K26: =IF(OR(C26="Cp"),1,"") | R26: =((Q26-P26)-(Q27-P27)) -> 0
D27: S
B28: =DATE(Calendrier!$A$1,_xlfn.SHEET()-1,(ROW()/2)-1) -> 43478 | D28: M | E28: =IF(C28="","",IF(OR(C28="Cp",C28="AM",C28="Re",C28="Fe"),"",1)) | H28: =((G28-F28)+(G29-F29)) -> 0 | K28: =IF(OR(C28="Cp"),1,"") | R28: =((Q28-P28)-(Q29-P29)) -> 0
A29: S 03 | D29: S
B30: =DATE(Calendrier!$A$1,_xlfn.SHEET()-1,(ROW()/2)-1) -> 43479 | D30: M | E30: =IF(C30="","",IF(OR(C30="Cp",C30="AM",C30="Re",C30="Fe"),"",1)) | H30: =((G30-F30)+(G31-F31)) -> 0 | K30: =IF(OR(C30="Cp"),1,"") | R30: =((Q30-P30)-(Q31-P31)) -> 0
D31: S
B32: =DATE(Calendrier!$A$1,_xlfn.SHEET()-1,(ROW()/2)-1) -> 43480 | D32: M | E32: =IF(C32="","",IF(OR(C32="Cp",C32="AM",C32="Re",C32="Fe"),"",1)) | H32: =((G32-F32)+(G33-F33)) -> 0 | K32: =IF(OR(C32="Cp"),1,"") | R32: =((Q32-P32)-(Q33-P33)) -> 0
D33: S
B34: =DATE(Calendrier!$A$1,_xlfn.SHEET()-1,(ROW()/2)-1) -> 43481 | D34: M | E34: =IF(C34="","",IF(OR(C34="Cp",C34="AM",C34="Re",C34="Fe"),"",1)) | H34: =((G34-F34)+(G35-F35)) -> 0 | K34: =IF(OR(C34="Cp"),1,"") | R34: =((Q34-P34)-(Q35-P35)) -> 0
D35: S
B36: =DATE(Calendrier!$A$1,_xlfn.SHEET()-1,(ROW()/2)-1) -> 43482 | D36: M | E36: =IF(C36="","",IF(OR(C36="Cp",C36="AM",C36="Re",C36="Fe"),"",1)) | H36: =((G36-F36)+(G37-F37)) -> 0 | K36: =IF(OR(C36="Cp"),1,"") | R36: =((Q36-P36)-(Q37-P37)) -> 0
D37: S
B38: =DATE(Calendrier!$A$1,_xlfn.SHEET()-1,(ROW()/2)-1) -> 43483 | D38: M | E38: =IF(C38="","",IF(OR(C38="Cp",C38="AM",C38="Re",C38="Fe"),"",1)) | H38: =((G38-F38)+(G39-F39)) -> 0 | R38: =((Q38-P38)-(Q39-P39)) -> 0
D39: S
B40: =DATE(Calendrier!$A$1,_xlfn.SHEET()-1,(ROW()/2)-1) -> 43484 | D40: M | E40: =IF(C40="","",IF(OR(C40="Cp",C40="AM",C40="Re",C40="Fe"),"",1)) | H40: =((G40-F40)+(G41-F41)) -> 0 | K40: =IF(OR(C40="Cp"),1,"") | R40: =((Q40-P40)-(Q41-P41)) -> 0
D41: S
...

Sheet Fev
Y2: =SUM(O4:O30) -> 0
A3: S 01 | B3: DATE | C3: SERV | E3: J | F3: HA | G3: HD | I3: K | J3: Ser | K3: CP | L3: MOTIF DU DEPLACEMENT | O3: Panniers | P3: HSD | Q3: HSF | R3: H.Sup | S3: Maj Nuit | T3: Maj Dim. | U3: Maj J.Fé. | V3: Astreinte | W3: SSLIA | Y3: =SUM(O30:O30) -> 0
B4: =DATE(Calendrier!$A$1,_xlfn.SHEET()-1,(ROW()/2)-1) -> 43497 | D4: M | E4: =IF(C4="","",IF(OR(C4="Cp",C4="AM",C4="Re",C4="Fe"),"",1)) | F4: 8 | G4: 10 | H4: =((G4-F4)+(G5-F5)) -> 2 | K4: =IF(OR(C4="Cp"),1,"") | P4: 18 | Q4: 20 | R4: =((Q4-P4)-(Q5-P5)) -> 2 | Y4: =SUM(#REF!) -> #REF!
A5: =SUM(H4:H15)+SUM(R4:R15) -> 4 | D5: S
B6: =DATE(Calendrier!$A$1,_xlfn.SHEET()-1,(ROW()/2)-1) -> 43498 | D6: M | E6: =IF(C6="","",IF(OR(C6="Cp",C6="AM",C6="Re",C6="Fe"),"",1)) | H6: =((G6-F6)+(G7-F7)) -> 0 | R6: =((Q6-P6)-(Q7-P7)) -> 0 | Y6: =SUM(#REF!) -> #REF!
D7: S
B8: =DATE(Calendrier!$A$1,_xlfn.SHEET()-1,(ROW()/2)-1) -> 43499 | D8: M | E8: =IF(C8="","",IF(OR(C8="Cp",C8="AM",C8="Re",C8="Fe"),"",1)) | H8: =((G8-F8)+(G9-F9)) -> 0 | K8: =IF(OR(C8="Cp"),1,"") | R8: =((Q8-P8)-(Q9-P9)) -> 0
D9: S
B10: =DATE(Calendrier!$A$1,_xlfn.SHEET()-1,(ROW()/2)-1) -> 43500 | D10: M | E10: =IF(C10="","",IF(OR(C10="Cp",C10="AM",C10="Re",C10="Fe"),"",1)) | H10: =((G10-F10)+(G11-F11)) -> 0 | K10: =IF(OR(C10="Cp"),1,"") | R10: =((Q10-P10)-(Q11-P11)) -> 0
D11: S
B12: =DATE(Calendrier!$A$1,_xlfn.SHEET()-1,(ROW()/2)-1) -> 43501 | D12: M | E12: =IF(C12="","",IF(OR(C12="Cp",C12="AM",C12="Re",C12="Fe"),"",1)) | H12: =((G12-F12)+(G13-F13)) -> 0 | K12: =IF(OR(C12="Cp"),1,"") | R12: =((Q12-P12)-(Q13-P13)) -> 0
D13: S
B14: =DATE(Calendrier!$A$1,_xlfn.SHEET()-1,(ROW()/2)-1) -> 43502 | D14: M | E14: =IF(C14="","",IF(OR(C14="Cp",C14="AM",C14="Re",C14="Fe"),"",1)) | H14: =((G14-F14)+(G15-F15)) -> 0 | K14: =IF(OR(C14="Cp"),1,"") | R14: =((Q14-P14)-(Q15-P15)) -> 0
A15: S 02 | D15: S
B16: =DATE(Calendrier!$A$1,_xlfn.SHEET()-1,(ROW()/2)-1) -> 43503 | D16: M | E16: =IF(C16="","",IF(OR(C16="Cp",C16="AM",C16="Re",C16="Fe"),"",1)) | F16: 8 | G16: 10 | H16: =((G16-F16)+(G17-F17)) -> 2 | K16: =IF(OR(C16="Cp"),1,"") | P16: 18 | Q16: 20 | R16: =((Q16-P16)-(Q17-P17)) -> 2
A17: =SUM(H16:H31)+SUM(R16:R31) -> 4 | D17: S
B18: =DATE(Calendrier!$A$1,_xlfn.SHEET()-1,(ROW()/2)-1) -> 43504 | D18: M | E18: =IF(C18="","",IF(OR(C18="Cp",C18="AM",C18="Re",C18="Fe"),"",1)) | H18: =((G18-F18)+(G19-F19)) -> 0 | K18: =IF(OR(C18="Cp"),1,"") | R18: =((Q18-P18)-(Q19-P19)) -> 0
D19: S
B20: =DATE(Calendrier!$A$1,_xlfn.SHEET()-1,(ROW()/2)-1) -> 43505 | D20: M | E20: =IF(C20="","",IF(OR(C20="Cp",C20="AM",C20="Re",C20="Fe"),"",1)) | H20: =((G20-F20)+(G21-F21)) -> 0 | K20: =IF(OR(C20="Cp"),1,"") | R20: =((Q20-P20)-(Q21-P21)) -> 0
D21: S
B22: =DATE(Calendrier!$A$1,_xlfn.SHEET()-1,(ROW()/2)-1) -> 43506 | D22: M | E22: =IF(C22="","",IF(OR(C22="Cp",C22="AM",C22="Re",C22="Fe"),"",1)) | H22: =((G22-F22)+(G23-F23)) -> 0 | K22: =IF(OR(C22="Cp"),1,"") | R22: =((Q22-P22)-(Q23-P23)) -> 0
D23: S
B24: =DATE(Calendrier!$A$1,_xlfn.SHEET()-1,(ROW()/2)-1) -> 43507 | D24: M | E24: =IF(C24="","",IF(OR(C24="Cp",C24="AM",C24="Re",C24="Fe"),"",1)) | H24: =((G24-F24)+(G25-F25)) -> 0 | K24: =IF(OR(C24="Cp"),1,"") | R24: =((Q24-P24)-(Q25-P25)) -> 0
D25: S
B26: =DATE(Calendrier!$A$1,_xlfn.SHEET()-1,(ROW()/2)-1) -> 43508 | D26: M | E26: =IF(C26="","",IF(OR(C26="Cp",C26="AM",C26="Re",C26="Fe"),"",1)) | H26: =((G26-F26)+(G27-F27)) -> 0 | K26: =IF(OR(C26="Cp"),1,"") | R26: =((Q26-P26)-(Q27-P27)) -> 0
D27: S
B28: =DATE(Calendrier!$A$1,_xlfn.SHEET()-1,(ROW()/2)-1) -> 43509 | D28: M | E28: =IF(C28="","",IF(OR(C28="Cp",C28="AM",C28="Re",C28="Fe"),"",1)) | H28: =((G28-F28)+(G29-F29)) -> 0 | K28: =IF(OR(C28="Cp"),1,"") | R28: =((Q28-P28)-(Q29-P29)) -> 0
A29: S 03 | D29: S
B30: =DATE(Calendrier!$A$1,_xlfn.SHEET()-1,(ROW()/2)-1) -> 43510 | D30: M | E30: =IF(C30="","",IF(OR(C30="Cp",C30="AM",C30="Re",C30="Fe"),"",1)) | H30: =((G30-F30)+(G31-F31)) -> 0 | K30: =IF(OR(C30="Cp"),1,"") | R30: =((Q30-P30)-(Q31-P31)) -> 0
D31: S
B32: =DATE(Calendrier!$A$1,_xlfn.SHEET()-1,(ROW()/2)-1) -> 43511 | D32: M | E32: =IF(C32="","",IF(OR(C32="Cp",C32="AM",C32="Re",C32="Fe"),"",1)) | H32: =((G32-F32)+(G33-F33)) -> 0 | K32: =IF(OR(C32="Cp"),1,"") | R32: =((Q32-P32)-(Q33-P33)) -> 0
D33: S
B34: =DATE(Calendrier!$A$1,_xlfn.SHEET()-1,(ROW()/2)-1) -> 43512 | D34: M | E34: =IF(C34="","",IF(OR(C34="Cp",C34="AM",C34="Re",C34="Fe"),"",1)) | H34: =((G34-F34)+(G35-F35)) -> 0 | K34: =IF(OR(C34="Cp"),1,"") | R34: =((Q34-P34)-(Q35-P35)) -> 0
D35: S
B36: =DATE(Calendrier!$A$1,_xlfn.SHEET()-1,(ROW()/2)-1) -> 43513 | D36: M | E36: =IF(C36="","",IF(OR(C36="Cp",C36="AM",C36="Re",C36="Fe"),"",1)) | H36: =((G36-F36)+(G37-F37)) -> 0 | K36: =IF(OR(C36="Cp"),1,"") | R36: =((Q36-P36)-(Q37-P37)) -> 0
D37: S
B38: =DATE(Calendrier!$A$1,_xlfn.SHEET()-1,(ROW()/2)-1) -> 43514 | D38: M | E38: =IF(C38="","",IF(OR(C38="Cp",C38="AM",C38="Re",C38="Fe"),"",1)) | H38: =((G38-F38)+(G39-F39)) -> 0 | R38: =((Q38-P38)-(Q39-P39)) -> 0
D39: S
B40: =DATE(Calendrier!$A$1,_xlfn.SHEET()-1,(ROW()/2)-1) -> 43515 | D40: M | E40: =IF(C40="","",IF(OR(C40="Cp",C40="AM",C40="Re",C40="Fe"),"",1)) | H40: =((G40-F40)+(G41-F41)) -> 0 | K40: =IF(OR(C40="Cp"),1,"") | R40: =((Q40-P40)-(Q41-P41)) -> 0
D41: S
...

Sheet Mar
Y2: =SUM(O4:O30) -> 0
A3: S 01 | B3: DATE | C3: SERV | E3: J | F3: HA | G3: HD | I3: K | J3: Ser | K3: CP | L3: MOTIF DU DEPLACEMENT | O3: Panniers | P3: HSD | Q3: HSF | R3: H.Sup | S3: Maj Nuit | T3: Maj Dim. | U3: Maj J.Fé. | V3: Astreinte | W3: SSLIA | Y3: =SUM(O30:O30) -> 0
B4: =DATE(Calendrier!$A$1,_xlfn.SHEET()-1,(ROW()/2)-1) -> 43525 | D4: M | E4: =IF(C4="","",IF(OR(C4="Cp",C4="AM",C4="Re",C4="Fe"),"",1)) | F4: 8 | G4: 10 | H4: =((G4-F4)+(G5-F5)) -> 2 | K4: =IF(OR(C4="Cp"),1,"") | P4: 18 | Q4: 20 | R4: =((Q4-P4)-(Q5-P5)) -> 2 | Y4: =SUM(#REF!) -> #REF!
A5: =SUM(H4:H15)+SUM(R4:R15) -> 4 | D5: S
B6: =DATE(Calendrier!$A$1,_xlfn.SHEET()-1,(ROW()/2)-1) -> 43526 | D6: M | E6: =IF(C6="","",IF(OR(C6="Cp",C6="AM",C6="Re",C6="Fe"),"",1)) | H6: =((G6-F6)+(G7-F7)) -> 0 | R6: =((Q6-P6)-(Q7-P7)) -> 0 | Y6: =SUM(#REF!) -> #REF!
D7: S
B8: =DATE(Calendrier!$A$1,_xlfn.SHEET()-1,(ROW()/2)-1) -> 43527 | D8: M | E8: =IF(C8="","",IF(OR(C8="Cp",C8="AM",C8="Re",C8="Fe"),"",1)) | H8: =((G8-F8)+(G9-F9)) -> 0 | K8: =IF(OR(C8="Cp"),1,"") | R8: =((Q8-P8)-(Q9-P9)) -> 0
D9: S
B10: =DATE(Calendrier!$A$1,_xlfn.SHEET()-1,(ROW()/2)-1) -> 43528 | D10: M | E10: =IF(C10="","",IF(OR(C10="Cp",C10="AM",C10="Re",C10="Fe"),"",1)) | H10: =((G10-F10)+(G11-F11)) -> 0 | K10: =IF(OR(C10="Cp"),1,"") | R10: =((Q10-P10)-(Q11-P11)) -> 0
D11: S
B12: =DATE(Calendrier!$A$1,_xlfn.SHEET()-1,(ROW()/2)-1) -> 43529 | D12: M | E12: =IF(C12="","",IF(OR(C12="Cp",C12="AM",C12="Re",C12="Fe"),"",1)) | H12: =((G12-F12)+(G13-F13)) -> 0 | K12: =IF(OR(C12="Cp"),1,"") | R12: =((Q12-P12)-(Q13-P13)) -> 0
D13: S
B14: =DATE(Calendrier!$A$1,_xlfn.SHEET()-1,(ROW()/2)-1) -> 43530 | D14: M | E14: =IF(C14="","",IF(OR(C14="Cp",C14="AM",C14="Re",C14="Fe"),"",1)) | H14: =((G14-F14)+(G15-F15)) -> 0 | K14: =IF(OR(C14="Cp"),1,"") | R14: =((Q14-P14)-(Q15-P15)) -> 0
A15: S 02 | D15: S
B16: =DATE(Calendrier!$A$1,_xlfn.SHEET()-1,(ROW()/2)-1) -> 43531 | D16: M | E16: =IF(C16="","",IF(OR(C16="Cp",C16="AM",C16="Re",C16="Fe"),"",1)) | F16: 8 | G16: 10 | H16: =((G16-F16)+(G17-F17)) -> 2 | K16: =IF(OR(C16="Cp"),1,"") | P16: 18 | Q16: 20 | R16: =((Q16-P16)-(Q17-P17)) -> 2
A17: =SUM(H16:H31)+SUM(R16:R31) -> 4 | D17: S
B18: =DATE(Calendrier!$A$1,_xlfn.SHEET()-1,(ROW()/2)-1) -> 43532 | D18: M | E18: =IF(C18="","",IF(OR(C18="Cp",C18="AM",C18="Re",C18="Fe"),"",1)) | H18: =((G18-F18)+(G19-F19)) -> 0 | K18: =IF(OR(C18="Cp"),1,"") | R18: =((Q18-P18)-(Q19-P19)) -> 0
D19: S
B20: =DATE(Calendrier!$A$1,_xlfn.SHEET()-1,(ROW()/2)-1) -> 43533 | D20: M | E20: =IF(C20="","",IF(OR(C20="Cp",C20="AM",C20="Re",C20="Fe"),"",1)) | H20: =((G20-F20)+(G21-F21)) -> 0 | K20: =IF(OR(C20="Cp"),1,"") | R20: =((Q20-P20)-(Q21-P21)) -> 0
D21: S
B22: =DATE(Calendrier!$A$1,_xlfn.SHEET()-1,(ROW()/2)-1) -> 43534 | D22: M | E22: =IF(C22="","",IF(OR(C22="Cp",C22="AM",C22="Re",C22="Fe"),"",1)) | H22: =((G22-F22)+(G23-F23)) -> 0 | K22: =IF(OR(C22="Cp"),1,"") | R22: =((Q22-P22)-(Q23-P23)) -> 0
D23: S
B24: =DATE(Calendrier!$A$1,_xlfn.SHEET()-1,(ROW()/2)-1) -> 43535 | D24: M | E24: =IF(C24="","",IF(OR(C24="Cp",C24="AM",C24="Re",C24="Fe"),"",1)) | H24: =((G24-F24)+(G25-F25)) -> 0 | K24: =IF(OR(C24="Cp"),1,"") | R24: =((Q24-P24)-(Q25-P25)) -> 0
D25: S
B26: =DATE(Calendrier!$A$1,_xlfn.SHEET()-1,(ROW()/2)-1) -> 43536 | D26: M | E26: =IF(C26="","",IF(OR(C26="Cp",C26="AM",C26="Re",C26="Fe"),"",1)) | H26: =((G26-F26)+(G27-F27)) -> 0 | K26: =IF(OR(C26="Cp"),1,"") | R26: =((Q26-P26)-(Q27-P27)) -> 0
D27: S
B28: =DATE(Calendrier!$A$1,_xlfn.SHEET()-1,(ROW()/2)-1) -> 43537 | D28: M | E28: =IF(C28="","",IF(OR(C28="Cp",C28="AM",C28="Re",C28="Fe"),"",1)) | H28: =((G28-F28)+(G29-F29)) -> 0 | K28: =IF(OR(C28="Cp"),1,"") | R28: =((Q28-P28)-(Q29-P29)) -> 0
A29: S 03 | D29: S
B30: =DATE(Calendrier!$A$1,_xlfn.SHEET()-1,(ROW()/2)-1) -> 43538 | D30: M | E30: =IF(C30="","",IF(OR(C30="Cp",C30="AM",C30="Re",C30="Fe"),"",1)) | H30: =((G30-F30)+(G31-F31)) -> 0 | K30: =IF(OR(C30="Cp"),1,"") | R30: =((Q30-P30)-(Q31-P31)) -> 0
D31: S
B32: =DATE(Calendrier!$A$1,_xlfn.SHEET()-1,(ROW()/2)-1) -> 43539 | D32: M | E32: =IF(C32="","",IF(OR(C32="Cp",C32="AM",C32="Re",C32="Fe"),"",1)) | H32: =((G32-F32)+(G33-F33)) -> 0 | K32: =IF(OR(C32="Cp"),1,"") | R32: =((Q32-P32)-(Q33-P33)) -> 0
D33: S
B34: =DATE(Calendrier!$A$1,_xlfn.SHEET()-1,(ROW()/2)-1) -> 43540 | D34: M | E34: =IF(C34="","",IF(OR(C34="Cp",C34="AM",C34="Re",C34="Fe"),"",1)) | H34: =((G34-F34)+(G35-F35)) -> 0 | K34: =IF(OR(C34="Cp"),1,"") | R34: =((Q34-P34)-(Q35-P35)) -> 0
D35: S
B36: =DATE(Calendrier!$A$1,_xlfn.SHEET()-1,(ROW()/2)-1) -> 43541 | D36: M | E36: =IF(C36="","",IF(OR(C36="Cp",C36="AM",C36="Re",C36="Fe"),"",1)) | H36: =((G36-F36)+(G37-F37)) -> 0 | K36: =IF(OR(C36="Cp"),1,"") | R36: =((Q36-P36)-(Q37-P37)) -> 0
D37: S
B38: =DATE(Calendrier!$A$1,_xlfn.SHEET()-1,(ROW()/2)-1) -> 43542 | D38: M | E38: =IF(C38="","",IF(OR(C38="Cp",C38="AM",C38="Re",C38="Fe"),"",1)) | H38: =((G38-F38)+(G39-F39)) -> 0 | R38: =((Q38-P38)-(Q39-P39)) -> 0
D39: S
B40: =DATE(Calendrier!$A$1,_xlfn.SHEET()-1,(ROW()/2)-1) -> 43543 | D40: M | E40: =IF(C40="","",IF(OR(C40="Cp",C40="AM",C40="Re",C40="Fe"),"",1)) | H40: =((G40-F40)+(G41-F41)) -> 0 | K40: =IF(OR(C40="Cp"),1,"") | R40: =((Q40-P40)-(Q41-P41)) -> 0
D41: S
...

Sheet Avr
Y2: =SUM(O4:O30) -> 0
A3: S 01 | B3: DATE | C3: SERV | E3: J | F3: HA | G3: HD | I3: K | J3: Ser | K3: CP | L3: MOTIF DU DEPLACEMENT | O3: Panniers | P3: HSD | Q3: HSF | R3: H.Sup | S3: Maj Nuit | T3: Maj Dim. | U3: Maj J.Fé. | V3: Astreinte | W3: SSLIA | Y3: =SUM(O30:O30) -> 0
B4: =DATE(Calendrier!$A$1,_xlfn.SHEET()-1,(ROW()/2)-1) -> 43556 | D4: M | E4: =IF(C4="","",IF(OR(C4="Cp",C4="AM",C4="Re",C4="Fe"),"",1)) | F4: 8 | G4: 10 | H4: =((G4-F4)+(G5-F5)) -> 2 | K4: =IF(OR(C4="Cp"),1,"") | P4: 18 | Q4: 20 | R4: =((Q4-P4)-(Q5-P5)) -> 2 | Y4: =SUM(#REF!) -> #REF!
A5: =SUM(H4:H15)+SUM(R4:R15) -> 4 | D5: S
B6: =DATE(Calendrier!$A$1,_xlfn.SHEET()-1,(ROW()/2)-1) -> 43557 | D6: M | E6: =IF(C6="","",IF(OR(C6="Cp",C6="AM",C6="Re",C6="Fe"),"",1)) | H6: =((G6-F6)+(G7-F7)) -> 0 | R6: =((Q6-P6)-(Q7-P7)) -> 0 | Y6: =SUM(#REF!) -> #REF!
D7: S
B8: =DATE(Calendrier!$A$1,_xlfn.SHEET()-1,(ROW()/2)-1) -> 43558 | D8: M | E8: =IF(C8="","",IF(OR(C8="Cp",C8="AM",C8="Re",C8="Fe"),"",1)) | H8: =((G8-F8)+(G9-F9)) -> 0 | K8: =IF(OR(C8="Cp"),1,"") | R8: =((Q8-P8)-(Q9-P9)) -> 0
D9: S
B10: =DATE(Calendrier!$A$1,_xlfn.SHEET()-1,(ROW()/2)-1) -> 43559 | D10: M | E10: =IF(C10="","",IF(OR(C10="Cp",C10="AM",C10="Re",C10="Fe"),"",1)) | H10: =((G10-F10)+(G11-F11)) -> 0 | K10: =IF(OR(C10="Cp"),1,"") | R10: =((Q10-P10)-(Q11-P11)) -> 0
D11: S
B12: =DATE(Calendrier!$A$1,_xlfn.SHEET()-1,(ROW()/2)-1) -> 43560 | D12: M | E12: =IF(C12="","",IF(OR(C12="Cp",C12="AM",C12="Re",C12="Fe"),"",1)) | H12: =((G12-F12)+(G13-F13)) -> 0 | K12: =IF(OR(C12="Cp"),1,"") | R12: =((Q12-P12)-(Q13-P13)) -> 0
D13: S
B14: =DATE(Calendrier!$A$1,_xlfn.SHEET()-1,(ROW()/2)-1) -> 43561 | D14: M | E14: =IF(C14="","",IF(OR(C14="Cp",C14="AM",C14="Re",C14="Fe"),"",1)) | H14: =((G14-F14)+(G15-F15)) -> 0 | K14: =IF(OR(C14="Cp"),1,"") | R14: =((Q14-P14)-(Q15-P15)) -> 0
A15: S 02 | D15: S
B16: =DATE(Calendrier!$A$1,_xlfn.SHEET()-1,(ROW()/2)-1) -> 43562 | D16: M | E16: =IF(C16="","",IF(OR(C16="Cp",C16="AM",C16="Re",C16="Fe"),"",1)) | F16: 8 | G16: 10 | H16: =((G16-F16)+(G17-F17)) -> 2 | K16: =IF(OR(C16="Cp"),1,"") | P16: 18 | Q16: 20 | R16: =((Q16-P16)-(Q17-P17)) -> 2
A17: =SUM(H16:H31)+SUM(R16:R31) -> 4 | D17: S
B18: =DATE(Calendrier!$A$1,_xlfn.SHEET()-1,(ROW()/2)-1) -> 43563 | D18: M | E18: =IF(C18="","",IF(OR(C18="Cp",C18="AM",C18="Re",C18="Fe"),"",1)) | H18: =((G18-F18)+(G19-F19)) -> 0 | K18: =IF(OR(C18="Cp"),1,"") | R18: =((Q18-P18)-(Q19-P19)) -> 0
D19: S
B20: =DATE(Calendrier!$A$1,_xlfn.SHEET()-1,(ROW()/2)-1) -> 43564 | D20: M | E20: =IF(C20="","",IF(OR(C20="Cp",C20="AM",C20="Re",C20="Fe"),"",1)) | H20: =((G20-F20)+(G21-F21)) -> 0 | K20: =IF(OR(C20="Cp"),1,"") | R20: =((Q20-P20)-(Q21-P21)) -> 0
D21: S
B22: =DATE(Calendrier!$A$1,_xlfn.SHEET()-1,(ROW()/2)-1) -> 43565 | D22: M | E22: =IF(C22="","",IF(OR(C22="Cp",C22="AM",C22="Re",C22="Fe"),"",1)) | H22: =((G22-F22)+(G23-F23)) -> 0 | K22: =IF(OR(C22="Cp"),1,"") | R22: =((Q22-P22)-(Q23-P23)) -> 0
D23: S
B24: =DATE(Calendrier!$A$1,_xlfn.SHEET()-1,(ROW()/2)-1) -> 43566 | D24: M | E24: =IF(C24="","",IF(OR(C24="Cp",C24="AM",C24="Re",C24="Fe"),"",1)) | H24: =((G24-F24)+(G25-F25)) -> 0 | K24: =IF(OR(C24="Cp"),1,"") | R24: =((Q24-P24)-(Q25-P25)) -> 0
D25: S
B26: =DATE(Calendrier!$A$1,_xlfn.SHEET()-1,(ROW()/2)-1) -> 43567 | D26: M | E26: =IF(C26="","",IF(OR(C26="Cp",C26="AM",C26="Re",C26="Fe"),"",1)) | H26: =((G26-F26)+(G27-F27)) -> 0 | K26: =IF(OR(C26="Cp"),1,"") | R26: =((Q26-P26)-(Q27-P27)) -> 0
D27: S
B28: =DATE(Calendrier!$A$1,_xlfn.SHEET()-1,(ROW()/2)-1) -> 43568 | D28: M | E28: =IF(C28="","",IF(OR(C28="Cp",C28="AM",C28="Re",C28="Fe"),"",1)) | H28: =((G28-F28)+(G29-F29)) -> 0 | K28: =IF(OR(C28="Cp"),1,"") | R28: =((Q28-P28)-(Q29-P29)) -> 0
A29: S 03 | D29: S
B30: =DATE(Calendrier!$A$1,_xlfn.SHEET()-1,(ROW()/2)-1) -> 43569 | D30: M | E30: =IF(C30="","",IF(OR(C30="Cp",C30="AM",C30="Re",C30="Fe"),"",1)) | H30: =((G30-F30)+(G31-F31)) -> 0 | K30: =IF(OR(C30="Cp"),1,"") | R30: =((Q30-P30)-(Q31-P31)) -> 0
D31: S
B32: =DATE(Calendrier!$A$1,_xlfn.SHEET()-1,(ROW()/2)-1) -> 43570 | D32: M | E32: =IF(C32="","",IF(OR(C32="Cp",C32="AM",C32="Re",C32="Fe"),"",1)) | H32: =((G32-F32)+(G33-F33)) -> 0 | K32: =IF(OR(C32="Cp"),1,"") | R32: =((Q32-P32)-(Q33-P33)) -> 0
D33: S
B34: =DATE(Calendrier!$A$1,_xlfn.SHEET()-1,(ROW()/2)-1) -> 43571 | D34: M | E34: =IF(C34="","",IF(OR(C34="Cp",C34="AM",C34="Re",C34="Fe"),"",1)) | H34: =((G34-F34)+(G35-F35)) -> 0 | K34: =IF(OR(C34="Cp"),1,"") | R34: =((Q34-P34)-(Q35-P35)) -> 0
D35: S
B36: =DATE(Calendrier!$A$1,_xlfn.SHEET()-1,(ROW()/2)-1) -> 43572 | D36: M | E36: =IF(C36="","",IF(OR(C36="Cp",C36="AM",C36="Re",C36="Fe"),"",1)) | H36: =((G36-F36)+(G37-F37)) -> 0 | K36: =IF(OR(C36="Cp"),1,"") | R36: =((Q36-P36)-(Q37-P37)) -> 0
D37: S
B38: =DATE(Calendrier!$A$1,_xlfn.SHEET()-1,(ROW()/2)-1) -> 43573 | D38: M | E38: =IF(C38="","",IF(OR(C38="Cp",C38="AM",C38="Re",C38="Fe"),"",1)) | H38: =((G38-F38)+(G39-F39)) -> 0 | R38: =((Q38-P38)-(Q39-P39)) -> 0
D39: S
B40: =DATE(Calendrier!$A$1,_xlfn.SHEET()-1,(ROW()/2)-1) -> 43574 | D40: M | E40: =IF(C40="","",IF(OR(C40="Cp",C40="AM",C40="Re",C40="Fe"),"",1)) | H40: =((G40-F40)+(G41-F41)) -> 0 | K40: =IF(OR(C40="Cp"),1,"") | R40: =((Q40-P40)-(Q41-P41)) -> 0
D41: S
...

Sheet Mai
Y2: =SUM(O4:O30) -> 0
A3: S 01 | B3: DATE | C3: SERV | E3: J | F3: HA | G3: HD | I3: K | J3: Ser | K3: CP | L3: MOTIF DU DEPLACEMENT | O3: Panniers | P3: HSD | Q3: HSF | R3: H.Sup | S3: Maj Nuit | T3: Maj Dim. | U3: Maj J.Fé. | V3: Astreinte | W3: SSLIA | Y3: =SUM(O30:O30) -> 0
B4: =DATE(Calendrier!$A$1,_xlfn.SHEET()-1,(ROW()/2)-1) -> 43586 | D4: M | E4: =IF(C4="","",IF(OR(C4="Cp",C4="AM",C4="Re",C4="Fe"),"",1)) | F4: 8 | G4: 10 | H4: =((G4-F4)+(G5-F5)) -> 2 | K4: =IF(OR(C4="Cp"),1,"") | P4: 18 | Q4: 20 | R4: =((Q4-P4)-(Q5-P5)) -> 2 | Y4: =SUM(#REF!) -> #REF!
A5: =SUM(H4:H15)+SUM(R4:R15) -> 4 | D5: S
B6: =DATE(Calendrier!$A$1,_xlfn.SHEET()-1,(ROW()/2)-1) -> 43587 | D6: M | E6: =IF(C6="","",IF(OR(C6="Cp",C6="AM",C6="Re",C6="Fe"),"",1)) | H6: =((G6-F6)+(G7-F7)) -> 0 | R6: =((Q6-P6)-(Q7-P7)) -> 0 | Y6: =SUM(#REF!) -> #REF!
D7: S
B8: =DATE(Calendrier!$A$1,_xlfn.SHEET()-1,(ROW()/2)-1) -> 43588 | D8: M | E8: =IF(C8="","",IF(OR(C8="Cp",C8="AM",C8="Re",C8="Fe"),"",1)) | H8: =((G8-F8)+(G9-F9)) -> 0 | K8: =IF(OR(C8="Cp"),1,"") | R8: =((Q8-P8)-(Q9-P9)) -> 0
D9: S
B10: =DATE(Calendrier!$A$1,_xlfn.SHEET()-1,(ROW()/2)-1) -> 43589 | D10: M | E10: =IF(C10="","",IF(OR(C10="Cp",C10="AM",C10="Re",C10="Fe"),"",1)) | H10: =((G10-F10)+(G11-F11)) -> 0 | K10: =IF(OR(C10="Cp"),1,"") | R10: =((Q10-P10)-(Q11-P11)) -> 0
D11: S
B12: =DATE(Calendrier!$A$1,_xlfn.SHEET()-1,(ROW()/2)-1) -> 43590 | D12: M | E12: =IF(C12="","",IF(OR(C12="Cp",C12="AM",C12="Re",C12="Fe"),"",1)) | H12: =((G12-F12)+(G13-F13)) -> 0 | K12: =IF(OR(C12="Cp"),1,"") | R12: =((Q12-P12)-(Q13-P13)) -> 0
D13: S
B14: =DATE(Calendrier!$A$1,_xlfn.SHEET()-1,(ROW()/2)-1) -> 43591 | D14: M | E14: =IF(C14="","",IF(OR(C14="Cp",C14="AM",C14="Re",C14="Fe"),"",1)) | H14: =((G14-F14)+(G15-F15)) -> 0 | K14: =IF(OR(C14="Cp"),1,"") | R14: =((Q14-P14)-(Q15-P15)) -> 0
A15: S 02 | D15: S
B16: =DATE(Calendrier!$A$1,_xlfn.SHEET()-1,(ROW()/2)-1) -> 43592 | D16: M | E16: =IF(C16="","",IF(OR(C16="Cp",C16="AM",C16="Re",C16="Fe"),"",1)) | F16: 8 | G16: 10 | H16: =((G16-F16)+(G17-F17)) -> 2 | K16: =IF(OR(C16="Cp"),1,"") | P16: 18 | Q16: 20 | R16: =((Q16-P16)-(Q17-P17)) -> 2
A17: =SUM(H16:H31)+SUM(R16:R31) -> 4 | D17: S
B18: =DATE(Calendrier!$A$1,_xlfn.SHEET()-1,(ROW()/2)-1) -> 43593 | D18: M | E18: =IF(C18="","",IF(OR(C18="Cp",C18="AM",C18="Re",C18="Fe"),"",1)) | H18: =((G18-F18)+(G19-F19)) -> 0 | K18: =IF(OR(C18="Cp"),1,"") | R18: =((Q18-P18)-(Q19-P19)) -> 0
D19: S
B20: =DATE(Calendrier!$A$1,_xlfn.SHEET()-1,(ROW()/2)-1) -> 43594 | D20: M | E20: =IF(C20="","",IF(OR(C20="Cp",C20="AM",C20="Re",C20="Fe"),"",1)) | H20: =((G20-F20)+(G21-F21)) -> 0 | K20: =IF(OR(C20="Cp"),1,"") | R20: =((Q20-P20)-(Q21-P21)) -> 0
D21: S
B22: =DATE(Calendrier!$A$1,_xlfn.SHEET()-1,(ROW()/2)-1) -> 43595 | D22: M | E22: =IF(C22="","",IF(OR(C22="Cp",C22="AM",C22="Re",C22="Fe"),"",1)) | H22: =((G22-F22)+(G23-F23)) -> 0 | K22: =IF(OR(C22="Cp"),1,"") | R22: =((Q22-P22)-(Q23-P23)) -> 0
D23: S
B24: =DATE(Calendrier!$A$1,_xlfn.SHEET()-1,(ROW()/2)-1) -> 43596 | D24: M | E24: =IF(C24="","",IF(OR(C24="Cp",C24="AM",C24="Re",C24="Fe"),"",1)) | H24: =((G24-F24)+(G25-F25)) -> 0 | K24: =IF(OR(C24="Cp"),1,"") | R24: =((Q24-P24)-(Q25-P25)) -> 0
D25: S
B26: =DATE(Calendrier!$A$1,_xlfn.SHEET()-1,(ROW()/2)-1) -> 43597 | D26: M | E26: =IF(C26="","",IF(OR(C26="Cp",C26="AM",C26="Re",C26="Fe"),"",1)) | H26: =((G26-F26)+(G27-F27)) -> 0 | K26: =IF(OR(C26="Cp"),1,"") | R26: =((Q26-P26)-(Q27-P27)) -> 0
D27: S
B28: =DATE(Calendrier!$A$1,_xlfn.SHEET()-1,(ROW()/2)-1) -> 43598 | D28: M | E28: =IF(C28="","",IF(OR(C28="Cp",C28="AM",C28="Re",C28="Fe"),"",1)) | H28: =((G28-F28)+(G29-F29)) -> 0 | K28: =IF(OR(C28="Cp"),1,"") | R28: =((Q28-P28)-(Q29-P29)) -> 0
A29: S 03 | D29: S
B30: =DATE(Calendrier!$A$1,_xlfn.SHEET()-1,(ROW()/2)-1) -> 43599 | D30: M | E30: =IF(C30="","",IF(OR(C30="Cp",C30="AM",C30="Re",C30="Fe"),"",1)) | H30: =((G30-F30)+(G31-F31)) -> 0 | K30: =IF(OR(C30="Cp"),1,"") | R30: =((Q30-P30)-(Q31-P31)) -> 0
D31: S
B32: =DATE(Calendrier!$A$1,_xlfn.SHEET()-1,(ROW()/2)-1) -> 43600 | D32: M | E32: =IF(C32="","",IF(OR(C32="Cp",C32="AM",C32="Re",C32="Fe"),"",1)) | H32: =((G32-F32)+(G33-F33)) -> 0 | K32: =IF(OR(C32="Cp"),1,"") | R32: =((Q32-P32)-(Q33-P33)) -> 0
D33: S
B34: =DATE(Calendrier!$A$1,_xlfn.SHEET()-1,(ROW()/2)-1) -> 43601 | D34: M | E34: =IF(C34="","",IF(OR(C34="Cp",C34="AM",C34="Re",C34="Fe"),"",1)) | H34: =((G34-F34)+(G35-F35)) -> 0 | K34: =IF(OR(C34="Cp"),1,"") | R34: =((Q34-P34)-(Q35-P35)) -> 0
D35: S
B36: =DATE(Calendrier!$A$1,_xlfn.SHEET()-1,(ROW()/2)-1) -> 43602 | D36: M | E36: =IF(C36="","",IF(OR(C36="Cp",C36="AM",C36="Re",C36="Fe"),"",1)) | H36: =((G36-F36)+(G37-F37)) -> 0 | K36: =IF(OR(C36="Cp"),1,"") | R36: =((Q36-P36)-(Q37-P37)) -> 0
D37: S
B38: =DATE(Calendrier!$A$1,_xlfn.SHEET()-1,(ROW()/2)-1) -> 43603 | D38: M | E38: =IF(C38="","",IF(OR(C38="Cp",C38="AM",C38="Re",C38="Fe"),"",1)) | H38: =((G38-F38)+(G39-F39)) -> 0 | R38: =((Q38-P38)-(Q39-P39)) -> 0
D39: S
B40: =DATE(Calendrier!$A$1,_xlfn.SHEET()-1,(ROW()/2)-1) -> 43604 | D40: M | E40: =IF(C40="","",IF(OR(C40="Cp",C40="AM",C40="Re",C40="Fe"),"",1)) | H40: =((G40-F40)+(G41-F41)) -> 0 | K40: =IF(OR(C40="Cp"),1,"") | R40: =((Q40-P40)-(Q41-P41)) -> 0
D41: S
...

Sheet Juin
Y2: =SUM(O4:O30) -> 0
A3: S 01 | B3: DATE | C3: SERV | E3: J | F3: HA | G3: HD | I3: K | J3: Ser | K3: CP | L3: MOTIF DU DEPLACEMENT | O3: Panniers | P3: HSD | Q3: HSF | R3: H.Sup | S3: Maj Nuit | T3: Maj Dim. | U3: Maj J.Fé. | V3: Astreinte | W3: SSLIA | Y3: =SUM(O30:O30) -> 0
B4: =DATE(Calendrier!$A$1,_xlfn.SHEET()-1,(ROW()/2)-1) -> 43617 | D4: M | E4: =IF(C4="","",IF(OR(C4="Cp",C4="AM",C4="Re",C4="Fe"),"",1)) | F4: 8 | G4: 10 | H4: =((G4-F4)+(G5-F5)) -> 2 | K4: =IF(OR(C4="Cp"),1,"") | P4: 18 | Q4: 20 | R4: =((Q4-P4)-(Q5-P5)) -> 2 | Y4: =SUM(#REF!) -> #REF!
A5: jui | D5: S
B6: =DATE(Calendrier!$A$1,_xlfn.SHEET()-1,(ROW()/2)-1) -> 43618 | D6: M | E6: =IF(C6="","",IF(OR(C6="Cp",C6="AM",C6="Re",C6="Fe"),"",1)) | H6: =((G6-F6)+(G7-F7)) -> 0 | R6: =((Q6-P6)-(Q7-P7)) -> 0 | Y6: =SUM(#REF!) -> #REF!
D7: S
B8: =DATE(Calendrier!$A$1,_xlfn.SHEET()-1,(ROW()/2)-1) -> 43619 | D8: M | E8: =IF(C8="","",IF(OR(C8="Cp",C8="AM",C8="Re",C8="Fe"),"",1)) | H8: =((G8-F8)+(G9-F9)) -> 0 | K8: =IF(OR(C8="Cp"),1,"") | R8: =((Q8-P8)-(Q9-P9)) -> 0
D9: S
B10: =DATE(Calendrier!$A$1,_xlfn.SHEET()-1,(ROW()/2)-1) -> 43620 | D10: M | E10: =IF(C10="","",IF(OR(C10="Cp",C10="AM",C10="Re",C10="Fe"),"",1)) | H10: =((G10-F10)+(G11-F11)) -> 0 | K10: =IF(OR(C10="Cp"),1,"") | R10: =((Q10-P10)-(Q11-P11)) -> 0
D11: S
B12: =DATE(Calendrier!$A$1,_xlfn.SHEET()-1,(ROW()/2)-1) -> 43621 | D12: M | E12: =IF(C12="","",IF(OR(C12="Cp",C12="AM",C12="Re",C12="Fe"),"",1)) | H12: =((G12-F12)+(G13-F13)) -> 0 | K12: =IF(OR(C12="Cp"),1,"") | R12: =((Q12-P12)-(Q13-P13)) -> 0
D13: S
B14: =DATE(Calendrier!$A$1,_xlfn.SHEET()-1,(ROW()/2)-1) -> 43622 | D14: M | E14: =IF(C14="","",IF(OR(C14="Cp",C14="AM",C14="Re",C14="Fe"),"",1)) | H14: =((G14-F14)+(G15-F15)) -> 0 | K14: =IF(OR(C14="Cp"),1,"") | R14: =((Q14-P14)-(Q15-P15)) -> 0
A15: S 02 | D15: S
B16: =DATE(Calendrier!$A$1,_xlfn.SHEET()-1,(ROW()/2)-1) -> 43623 | D16: M | E16: =IF(C16="","",IF(OR(C16="Cp",C16="AM",C16="Re",C16="Fe"),"",1)) | F16: 8 | G16: 10 | H16: =((G16-F16)+(G17-F17)) -> 2 | K16: =IF(OR(C16="Cp"),1,"") | P16: 18 | Q16: 20 | R16: =((Q16-P16)-(Q17-P17)) -> 2
A17: =SUM(H16:H31)+SUM(R16:R31) -> 4 | D17: S
B18: =DATE(Calendrier!$A$1,_xlfn.SHEET()-1,(ROW()/2)-1) -> 43624 | D18: M | E18: =IF(C18="","",IF(OR(C18="Cp",C18="AM",C18="Re",C18="Fe"),"",1)) | H18: =((G18-F18)+(G19-F19)) -> 0 | K18: =IF(OR(C18="Cp"),1,"") | R18: =((Q18-P18)-(Q19-P19)) -> 0
D19: S
B20: =DATE(Calendrier!$A$1,_xlfn.SHEET()-1,(ROW()/2)-1) -> 43625 | D20: M | E20: =IF(C20="","",IF(OR(C20="Cp",C20="AM",C20="Re",C20="Fe"),"",1)) | H20: =((G20-F20)+(G21-F21)) -> 0 | K20: =IF(OR(C20="Cp"),1,"") | R20: =((Q20-P20)-(Q21-P21)) -> 0
D21: S
B22: =DATE(Calendrier!$A$1,_xlfn.SHEET()-1,(ROW()/2)-1) -> 43626 | D22: M | E22: =IF(C22="","",IF(OR(C22="Cp",C22="AM",C22="Re",C22="Fe"),"",1)) | H22: =((G22-F22)+(G23-F23)) -> 0 | K22: =IF(OR(C22="Cp"),1,"") | R22: =((Q22-P22)-(Q23-P23)) -> 0
D23: S
B24: =DATE(Calendrier!$A$1,_xlfn.SHEET()-1,(ROW()/2)-1) -> 43627 | D24: M | E24: =IF(C24="","",IF(OR(C24="Cp",C24="AM",C24="Re",C24="Fe"),"",1)) | H24: =((G24-F24)+(G25-F25)) -> 0 | K24: =IF(OR(C24="Cp"),1,"") | R24: =((Q24-P24)-(Q25-P25)) -> 0
D25: S
B26: =DATE(Calendrier!$A$1,_xlfn.SHEET()-1,(ROW()/2)-1) -> 43628 | D26: M | E26: =IF(C26="","",IF(OR(C26="Cp",C26="AM",C26="Re",C26="Fe"),"",1)) | H26: =((G26-F26)+(G27-F27)) -> 0 | K26: =IF(OR(C26="Cp"),1,"") | R26: =((Q26-P26)-(Q27-P27)) -> 0
D27: S
B28: =DATE(Calendrier!$A$1,_xlfn.SHEET()-1,(ROW()/2)-1) -> 43629 | D28: M | E28: =IF(C28="","",IF(OR(C28="Cp",C28="AM",C28="Re",C28="Fe"),"",1)) | H28: =((G28-F28)+(G29-F29)) -> 0 | K28: =IF(OR(C28="Cp"),1,"") | R28: =((Q28-P28)-(Q29-P29)) -> 0
A29: S 03 | D29: S
B30: =DATE(Calendrier!$A$1,_xlfn.SHEET()-1,(ROW()/2)-1) -> 43630 | D30: M | E30: =IF(C30="","",IF(OR(C30="Cp",C30="AM",C30="Re",C30="Fe"),"",1)) | H30: =((G30-F30)+(G31-F31)) -> 0 | K30: =IF(OR(C30="Cp"),1,"") | R30: =((Q30-P30)-(Q31-P31)) -> 0
D31: S
B32: =DATE(Calendrier!$A$1,_xlfn.SHEET()-1,(ROW()/2)-1) -> 43631 | D32: M | E32: =IF(C32="","",IF(OR(C32="Cp",C32="AM",C32="Re",C32="Fe"),"",1)) | H32: =((G32-F32)+(G33-F33)) -> 0 | K32: =IF(OR(C32="Cp"),1,"") | R32: =((Q32-P32)-(Q33-P33)) -> 0
D33: S
B34: =DATE(Calendrier!$A$1,_xlfn.SHEET()-1,(ROW()/2)-1) -> 43632 | D34: M | E34: =IF(C34="","",IF(OR(C34="Cp",C34="AM",C34="Re",C34="Fe"),"",1)) | H34: =((G34-F34)+(G35-F35)) -> 0 | K34: =IF(OR(C34="Cp"),1,"") | R34: =((Q34-P34)-(Q35-P35)) -> 0
D35: S
B36: =DATE(Calendrier!$A$1,_xlfn.SHEET()-1,(ROW()/2)-1) -> 43633 | D36: M | E36: =IF(C36="","",IF(OR(C36="Cp",C36="AM",C36="Re",C36="Fe"),"",1)) | H36: =((G36-F36)+(G37-F37)) -> 0 | K36: =IF(OR(C36="Cp"),1,"") | R36: =((Q36-P36)-(Q37-P37)) -> 0
D37: S
B38: =DATE(Calendrier!$A$1,_xlfn.SHEET()-1,(ROW()/2)-1) -> 43634 | D38: M | E38: =IF(C38="","",IF(OR(C38="Cp",C38="AM",C38="Re",C38="Fe"),"",1)) | H38: =((G38-F38)+(G39-F39)) -> 0 | R38: =((Q38-P38)-(Q39-P39)) -> 0
D39: S
B40: =DATE(Calendrier!$A$1,_xlfn.SHEET()-1,(ROW()/2)-1) -> 43635 | D40: M | E40: =IF(C40="","",IF(OR(C40="Cp",C40="AM",C40="Re",C40="Fe"),"",1)) | H40: =((G40-F40)+(G41-F41)) -> 0 | K40: =IF(OR(C40="Cp"),1,"") | R40: =((Q40-P40)-(Q41-P41)) -> 0
D41: S
...

Sheet Juil
Y2: =SUM(O4:O30) -> 0
A3: S 01 | B3: DATE | C3: SERV | E3: J | F3: HA | G3: HD | I3: K | J3: Ser | K3: CP | L3: MOTIF DU DEPLACEMENT | O3: Panniers | P3: HSD | Q3: HSF | R3: H.Sup | S3: Maj Nuit | T3: Maj Dim. | U3: Maj J.Fé. | V3: Astreinte | W3: SSLIA | Y3: =SUM(O30:O30) -> 0
B4: =DATE(Calendrier!$A$1,_xlfn.SHEET()-1,(ROW()/2)-1) -> 43647 | D4: M | E4: =IF(C4="","",IF(OR(C4="Cp",C4="AM",C4="Re",C4="Fe"),"",1)) | F4: 8 | G4: 10 | H4: =((G4-F4)+(G5-F5)) -> 2 | K4: =IF(OR(C4="Cp"),1,"") | P4: 18 | Q4: 20 | R4: =((Q4-P4)-(Q5-P5)) -> 2 | Y4: =SUM(#REF!) -> #REF!
A5: jui | D5: S
B6: =DATE(Calendrier!$A$1,_xlfn.SHEET()-1,(ROW()/2)-1) -> 43648 | D6: M | E6: =IF(C6="","",IF(OR(C6="Cp",C6="AM",C6="Re",C6="Fe"),"",1)) | H6: =((G6-F6)+(G7-F7)) -> 0 | R6: =((Q6-P6)-(Q7-P7)) -> 0 | Y6: =SUM(#REF!) -> #REF!
D7: S
B8: =DATE(Calendrier!$A$1,_xlfn.SHEET()-1,(ROW()/2)-1) -> 43649 | D8: M | E8: =IF(C8="","",IF(OR(C8="Cp",C8="AM",C8="Re",C8="Fe"),"",1)) | H8: =((G8-F8)+(G9-F9)) -> 0 | K8: =IF(OR(C8="Cp"),1,"") | R8: =((Q8-P8)-(Q9-P9)) -> 0
D9: S
B10: =DATE(Calendrier!$A$1,_xlfn.SHEET()-1,(ROW()/2)-1) -> 43650 | D10: M | E10: =IF(C10="","",IF(OR(C10="Cp",C10="AM",C10="Re",C10="Fe"),"",1)) | H10: =((G10-F10)+(G11-F11)) -> 0 | K10: =IF(OR(C10="Cp"),1,"") | R10: =((Q10-P10)-(Q11-P11)) -> 0
D11: S
B12: =DATE(Calendrier!$A$1,_xlfn.SHEET()-1,(ROW()/2)-1) -> 43651 | D12: M | E12: =IF(C12="","",IF(OR(C12="Cp",C12="AM",C12="Re",C12="Fe"),"",1)) | H12: =((G12-F12)+(G13-F13)) -> 0 | K12: =IF(OR(C12="Cp"),1,"") | R12: =((Q12-P12)-(Q13-P13)) -> 0
D13: S
B14: =DATE(Calendrier!$A$1,_xlfn.SHEET()-1,(ROW()/2)-1) -> 43652 | D14: M | E14: =IF(C14="","",IF(OR(C14="Cp",C14="AM",C14="Re",C14="Fe"),"",1)) | H14: =((G14-F14)+(G15-F15)) -> 0 | K14: =IF(OR(C14="Cp"),1,"") | R14: =((Q14-P14)-(Q15-P15)) -> 0
A15: S 02 | D15: S
B16: =DATE(Calendrier!$A$1,_xlfn.SHEET()-1,(ROW()/2)-1) -> 43653 | D16: M | E16: =IF(C16="","",IF(OR(C16="Cp",C16="AM",C16="Re",C16="Fe"),"",1)) | F16: 8 | G16: 10 | H16: =((G16-F16)+(G17-F17)) -> 2 | K16: =IF(OR(C16="Cp"),1,"") | P16: 18 | Q16: 20 | R16: =((Q16-P16)-(Q17-P17)) -> 2
A17: =SUM(H16:H31)+SUM(R16:R31) -> 4 | D17: S
B18: =DATE(Calendrier!$A$1,_xlfn.SHEET()-1,(ROW()/2)-1) -> 43654 | D18: M | E18: =IF(C18="","",IF(OR(C18="Cp",C18="AM",C18="Re",C18="Fe"),"",1)) | H18: =((G18-F18)+(G19-F19)) -> 0 | K18: =IF(OR(C18="Cp"),1,"") | R18: =((Q18-P18)-(Q19-P19)) -> 0
D19: S
B20: =DATE(Calendrier!$A$1,_xlfn.SHEET()-1,(ROW()/2)-1) -> 43655 | D20: M | E20: =IF(C20="","",IF(OR(C20="Cp",C20="AM",C20="Re",C20="Fe"),"",1)) | H20: =((G20-F20)+(G21-F21)) -> 0 | K20: =IF(OR(C20="Cp"),1,"") | R20: =((Q20-P20)-(Q21-P21)) -> 0
D21: S
B22: =DATE(Calendrier!$A$1,_xlfn.SHEET()-1,(ROW()/2)-1) -> 43656 | D22: M | E22: =IF(C22="","",IF(OR(C22="Cp",C22="AM",C22="Re",C22="Fe"),"",1)) | H22: =((G22-F22)+(G23-F23)) -> 0 | K22: =IF(OR(C22="Cp"),1,"") | R22: =((Q22-P22)-(Q23-P23)) -> 0
D23: S
B24: =DATE(Calendrier!$A$1,_xlfn.SHEET()-1,(ROW()/2)-1) -> 43657 | D24: M | E24: =IF(C24="","",IF(OR(C24="Cp",C24="AM",C24="Re",C24="Fe"),"",1)) | H24: =((G24-F24)+(G25-F25)) -> 0 | K24: =IF(OR(C24="Cp"),1,"") | R24: =((Q24-P24)-(Q25-P25)) -> 0
D25: S
B26: =DATE(Calendrier!$A$1,_xlfn.SHEET()-1,(ROW()/2)-1) -> 43658 | D26: M | E26: =IF(C26="","",IF(OR(C26="Cp",C26="AM",C26="Re",C26="Fe"),"",1)) | H26: =((G26-F26)+(G27-F27)) -> 0 | K26: =IF(OR(C26="Cp"),1,"") | R26: =((Q26-P26)-(Q27-P27)) -> 0
D27: S
B28: =DATE(Calendrier!$A$1,_xlfn.SHEET()-1,(ROW()/2)-1) -> 43659 | D28: M | E28: =IF(C28="","",IF(OR(C28="Cp",C28="AM",C28="Re",C28="Fe"),"",1)) | H28: =((G28-F28)+(G29-F29)) -> 0 | K28: =IF(OR(C28="Cp"),1,"") | R28: =((Q28-P28)-(Q29-P29)) -> 0
A29: S 03 | D29: S
B30: =DATE(Calendrier!$A$1,_xlfn.SHEET()-1,(ROW()/2)-1) -> 43660 | D30: M | E30: =IF(C30="","",IF(OR(C30="Cp",C30="AM",C30="Re",C30="Fe"),"",1)) | H30: =((G30-F30)+(G31-F31)) -> 0 | K30: =IF(OR(C30="Cp"),1,"") | R30: =((Q30-P30)-(Q31-P31)) -> 0
D31: S
B32: =DATE(Calendrier!$A$1,_xlfn.SHEET()-1,(ROW()/2)-1) -> 43661 | D32: M | E32: =IF(C32="","",IF(OR(C32="Cp",C32="AM",C32="Re",C32="Fe"),"",1)) | H32: =((G32-F32)+(G33-F33)) -> 0 | K32: =IF(OR(C32="Cp"),1,"") | R32: =((Q32-P32)-(Q33-P33)) -> 0
D33: S
B34: =DATE(Calendrier!$A$1,_xlfn.SHEET()-1,(ROW()/2)-1) -> 43662 | D34: M | E34: =IF(C34="","",IF(OR(C34="Cp",C34="AM",C34="Re",C34="Fe"),"",1)) | H34: =((G34-F34)+(G35-F35)) -> 0 | K34: =IF(OR(C34="Cp"),1,"") | R34: =((Q34-P34)-(Q35-P35)) -> 0
D35: S
B36: =DATE(Calendrier!$A$1,_xlfn.SHEET()-1,(ROW()/2)-1) -> 43663 | D36: M | E36: =IF(C36="","",IF(OR(C36="Cp",C36="AM",C36="Re",C36="Fe"),"",1)) | H36: =((G36-F36)+(G37-F37)) -> 0 | K36: =IF(OR(C36="Cp"),1,"") | R36: =((Q36-P36)-(Q37-P37)) -> 0
D37: S
B38: =DATE(Calendrier!$A$1,_xlfn.SHEET()-1,(ROW()/2)-1) -> 43664 | D38: M | E38: =IF(C38="","",IF(OR(C38="Cp",C38="AM",C38="Re",C38="Fe"),"",1)) | H38: =((G38-F38)+(G39-F39)) -> 0 | R38: =((Q38-P38)-(Q39-P39)) -> 0
D39: S
B40: =DATE(Calendrier!$A$1,_xlfn.SHEET()-1,(ROW()/2)-1) -> 43665 | D40: M | E40: =IF(C40="","",IF(OR(C40="Cp",C40="AM",C40="Re",C40="Fe"),"",1)) | H40: =((G40-F40)+(G41-F41)) -> 0 | K40: =IF(OR(C40="Cp"),1,"") | R40: =((Q40-P40)-(Q41-P41)) -> 0
D41: S
...

Sheet Aout
Y2: =SUM(O4:O30) -> 0
A3: S 01 | B3: DATE | C3: SERV | E3: J | F3: HA | G3: HD | I3: K | J3: Ser | K3: CP | L3: MOTIF DU DEPLACEMENT | O3: Panniers | P3: HSD | Q3: HSF | R3: H.Sup | S3: Maj Nuit | T3: Maj Dim. | U3: Maj J.Fé. | V3: Astreinte | W3: SSLIA | Y3: =SUM(O30:O30) -> 0
B4: =DATE(Calendrier!$A$1,_xlfn.SHEET()-1,(ROW()/2)-1) -> 43678 | D4: M | E4: =IF(C4="","",IF(OR(C4="Cp",C4="AM",C4="Re",C4="Fe"),"",1)) | F4: 8 | G4: 10 | H4: =((G4-F4)+(G5-F5)) -> 2 | K4: =IF(OR(C4="Cp"),1,"") | P4: 18 | Q4: 20 | R4: =((Q4-P4)-(Q5-P5)) -> 2 | Y4: =SUM(#REF!) -> #REF!
A5: jui | D5: S
B6: =DATE(Calendrier!$A$1,_xlfn.SHEET()-1,(ROW()/2)-1) -> 43679 | D6: M | E6: =IF(C6="","",IF(OR(C6="Cp",C6="AM",C6="Re",C6="Fe"),"",1)) | H6: =((G6-F6)+(G7-F7)) -> 0 | R6: =((Q6-P6)-(Q7-P7)) -> 0 | Y6: =SUM(#REF!) -> #REF!
D7: S
B8: =DATE(Calendrier!$A$1,_xlfn.SHEET()-1,(ROW()/2)-1) -> 43680 | D8: M | E8: =IF(C8="","",IF(OR(C8="Cp",C8="AM",C8="Re",C8="Fe"),"",1)) | H8: =((G8-F8)+(G9-F9)) -> 0 | K8: =IF(OR(C8="Cp"),1,"") | R8: =((Q8-P8)-(Q9-P9)) -> 0
D9: S
B10: =DATE(Calendrier!$A$1,_xlfn.SHEET()-1,(ROW()/2)-1) -> 43681 | D10: M | E10: =IF(C10="","",IF(OR(C10="Cp",C10="AM",C10="Re",C10="Fe"),"",1)) | H10: =((G10-F10)+(G11-F11)) -> 0 | K10: =IF(OR(C10="Cp"),1,"") | R10: =((Q10-P10)-(Q11-P11)) -> 0
D11: S
B12: =DATE(Calendrier!$A$1,_xlfn.SHEET()-1,(ROW()/2)-1) -> 43682 | D12: M | E12: =IF(C12="","",IF(OR(C12="Cp",C12="AM",C12="Re",C12="Fe"),"",1)) | H12: =((G12-F12)+(G13-F13)) -> 0 | K12: =IF(OR(C12="Cp"),1,"") | R12: =((Q12-P12)-(Q13-P13)) -> 0
D13: S
B14: =DATE(Calendrier!$A$1,_xlfn.SHEET()-1,(ROW()/2)-1) -> 43683 | D14: M | E14: =IF(C14="","",IF(OR(C14="Cp",C14="AM",C14="Re",C14="Fe"),"",1)) | H14: =((G14-F14)+(G15-F15)) -> 0 | K14: =IF(OR(C14="Cp"),1,"") | R14: =((Q14-P14)-(Q15-P15)) -> 0
A15: S 02 | D15: S
B16: =DATE(Calendrier!$A$1,_xlfn.SHEET()-1,(ROW()/2)-1) -> 43684 | D16: M | E16: =IF(C16="","",IF(OR(C16="Cp",C16="AM",C16="Re",C16="Fe"),"",1)) | F16: 8 | G16: 10 | H16: =((G16-F16)+(G17-F17)) -> 2 | K16: =IF(OR(C16="Cp"),1,"") | P16: 18 | Q16: 20 | R16: =((Q16-P16)-(Q17-P17)) -> 2
A17: =SUM(H16:H31)+SUM(R16:R31) -> 4 | D17: S
B18: =DATE(Calendrier!$A$1,_xlfn.SHEET()-1,(ROW()/2)-1) -> 43685 | D18: M | E18: =IF(C18="","",IF(OR(C18="Cp",C18="AM",C18="Re",C18="Fe"),"",1)) | H18: =((G18-F18)+(G19-F19)) -> 0 | K18: =IF(OR(C18="Cp"),1,"") | R18: =((Q18-P18)-(Q19-P19)) -> 0
D19: S
B20: =DATE(Calendrier!$A$1,_xlfn.SHEET()-1,(ROW()/2)-1) -> 43686 | D20: M | E20: =IF(C20="","",IF(OR(C20="Cp",C20="AM",C20="Re",C20="Fe"),"",1)) | H20: =((G20-F20)+(G21-F21)) -> 0 | K20: =IF(OR(C20="Cp"),1,"") | R20: =((Q20-P20)-(Q21-P21)) -> 0
D21: S
B22: =DATE(Calendrier!$A$1,_xlfn.SHEET()-1,(ROW()/2)-1) -> 43687 | D22: M | E22: =IF(C22="","",IF(OR(C22="Cp",C22="AM",C22="Re",C22="Fe"),"",1)) | H22: =((G22-F22)+(G23-F23)) -> 0 | K22: =IF(OR(C22="Cp"),1,"") | R22: =((Q22-P22)-(Q23-P23)) -> 0
D23: S
B24: =DATE(Calendrier!$A$1,_xlfn.SHEET()-1,(ROW()/2)-1) -> 43688 | D24: M | E24: =IF(C24="","",IF(OR(C24="Cp",C24="AM",C24="Re",C24="Fe"),"",1)) | H24: =((G24-F24)+(G25-F25)) -> 0 | K24: =IF(OR(C24="Cp"),1,"") | R24: =((Q24-P24)-(Q25-P25)) -> 0
D25: S
B26: =DATE(Calendrier!$A$1,_xlfn.SHEET()-1,(ROW()/2)-1) -> 43689 | D26: M | E26: =IF(C26="","",IF(OR(C26="Cp",C26="AM",C26="Re",C26="Fe"),"",1)) | H26: =((G26-F26)+(G27-F27)) -> 0 | K26: =IF(OR(C26="Cp"),1,"") | R26: =((Q26-P26)-(Q27-P27)) -> 0
D27: S
B28: =DATE(Calendrier!$A$1,_xlfn.SHEET()-1,(ROW()/2)-1) -> 43690 | D28: M | E28: =IF(C28="","",IF(OR(C28="Cp",C28="AM",C28="Re",C28="Fe"),"",1)) | H28: =((G28-F28)+(G29-F29)) -> 0 | K28: =IF(OR(C28="Cp"),1,"") | R28: =((Q28-P28)-(Q29-P29)) -> 0
A29: S 03 | D29: S
