Workbook

Sheet Data
B2: Clé | C2: Journée | D2: Type | E2: Joueur 1 | F2: Joueur 2 | G2: Résultat | K2: Type | M2: Joueurs
B3: =C3&D3 -> 1Double Dame | C3: 1 | D3: Double Dame | E3: Joueur H | F3: Joueur A | G3: Victoire | K3: Double Dame | M3: Joueur A
B4: =C4&D4 -> 1Simple Homme 1 | C4: 1 | D4: Simple Homme 1 | E4: Joueur C | G4: Défaite | K4: Double Homme 1 | M4: Joueur B
B5: =C5&D5 -> 1Double Mixte | C5: 1 | D5: Double Mixte | E5: Joueur A | F5: Joueur B | G5: Victoire | K5: Double Homme 2 | M5: Joueur C
B6: =C6&D6 -> 1Double Homme 2 | C6: 1 | D6: Double Homme 2 | E6: Joueur B | F6: Joueur E | G6: Défaite | K6: Double Mixte | M6: Joueur D
B7: =C7&D7 -> 2Double Mixte | C7: 2 | D7: Double Mixte | E7: Joueur B | F7: Joueur C | G7: Victoire | K7: Simple Dame | M7: Joueur E
B8: =C8&D8 -> 3Simple Homme 1 | C8: 3 | D8: Simple Homme 1 | E8: Joueur B | G8: Défaite | K8: Simple Homme 1 | M8: Joueur F
B9: =C9&D9 -> 3Simple Dame | C9: 3 | D9: Simple Dame | E9: Joueur F | G9: Défaite | K9: Simple Homme 2 | M9: Joueur G
K10: Simple Homme 3 | M10: Joueur H
M11: Joueur I
M12: Joueur J
M13: Joueur K
M14: Joueur L
M15: Joueur M
M16: Joueur N
M17: Joueur O
M18: Joueur P
M19: Joueur Q
M20: Joueur R

Sheet Synthèse
B2: Journée | C2: Double Homme 1 | D2: Double Homme 2 | E2: Double Dame | F2: Simple Homme 1 | G2: Simple Homme 2 | H2: Simple Homme 3 | I2: Simple Dame | J2: Double Mixte | K2: Résultat équipe
B3: 1 | C3: =IFERROR(VLOOKUP($B3&C$2,DataResultats[],4,FALSE),"")&IFERROR(IF(INDEX(DataResultats[Joueur 2],MATCH(Synthèse!$B3&Synthèse!C$2,DataResultats[Clé],0))="",""," / ")&VLOOKUP($B3&C$2,DataResultats[],5,FALSE),"") | D3: =IFERROR(VLOOKUP($B3&D$2,DataResultats[],4,FALSE),"")&IFERROR(IF(INDEX(DataResultats[Joueur 2],MATCH(Synthèse!$B3&Synthèse!D$2,DataResultats[Clé],0))="",""," / ")&VLOOKUP($B3&D$2,DataResultats[],5,FALSE),"") -> Joueur B / Joueur E | E3: =IFERROR(VLOOKUP($B3&E$2,DataResultats[],4,FALSE),"")&IFERROR(IF(INDEX(DataResultats[Joueur 2],MATCH(Synthèse!$B3&Synthèse!E$2,DataResultats[Clé],0))="",""," / ")&VLOOKUP($B3&E$2,DataResultats[],5,FALSE),"") -> Joueur H / Joueur A | F3: =IFERROR(VLOOKUP($B3&F$2,DataResultats[],4,FALSE),"")&IFERROR(IF(INDEX(DataResultats[Joueur 2],MATCH(Synthèse!$B3&Synthèse!F$2,DataResultats[Clé],0))="",""," / ")&VLOOKUP($B3&F$2,DataResultats[],5,FALSE),"") -> Joueur C | G3: =IFERROR(VLOOKUP($B3&G$2,DataResultats[],4,FALSE),"")&IFERROR(IF(INDEX(DataResultats[Joueur 2],MATCH(Synthèse!$B3&Synthèse!G$2,DataResultats[Clé],0))="",""," / ")&VLOOKUP($B3&G$2,DataResultats[],5,FALSE),"") | H3: =IFERROR(VLOOKUP($B3&H$2,DataResultats[],4,FALSE),"")&IFERROR(IF(INDEX(DataResultats[Joueur 2],MATCH(Synthèse!$B3&Synthèse!H$2,DataResultats[Clé],0))="",""," / ")&VLOOKUP($B3&H$2,DataResultats[],5,FALSE),"") | I3: =IFERROR(VLOOKUP($B3&I$2,DataResultats[],4,FALSE),"")&IFERROR(IF(INDEX(DataResultats[Joueur 2],MATCH(Synthèse!$B3&Synthèse!I$2,DataResultats[Clé],0))="",""," / ")&VLOOKUP($B3&I$2,DataResultats[],5,FALSE),"") | J3: =IFERROR(VLOOKUP($B3&J$2,DataResultats[],4,FALSE),"")&IFERROR(IF(INDEX(DataResultats[Joueur 2],MATCH(Synthèse!$B3&Synthèse!J$2,DataResultats[Clé],0))="",""," / ")&VLOOKUP($B3&J$2,DataResultats[],5,FALSE),"") -> Joueur A / Joueur B | K3: =IF(COUNTIF(DataResultats[Journée],Synthèse!B3)>=1,IF(COUNTIFS(DataResultats[Journée],Synthèse!B3,DataResultats[Résultat],"Victoire")>COUNTIFS(DataResultats[Journée],Synthèse!B3,DataResultats[Résultat],"Défaite"),"Victoire",IF(COUNTIFS(DataResultats[Journée],Synthèse!B3,DataResultats[Résultat],"Défaite")>COUNTIFS(DataResultats[Journée],Synthèse!B3,DataResultats[Résultat],"Victoire"),"Défaite","Egalité")),"") -> Egalité
B4: 2 | C4: =IFERROR(VLOOKUP($B4&C$2,DataResultats[],4,FALSE),"")&IFERROR(IF(INDEX(DataResultats[Joueur 2],MATCH(Synthèse!$B4&Synthèse!C$2,DataResultats[Clé],0))="",""," / ")&VLOOKUP($B4&C$2,DataResultats[],5,FALSE),"") | D4: =IFERROR(VLOOKUP($B4&D$2,DataResultats[],4,FALSE),"")&IFERROR(IF(INDEX(DataResultats[Joueur 2],MATCH(Synthèse!$B4&Synthèse!D$2,DataResultats[Clé],0))="",""," / ")&VLOOKUP($B4&D$2,DataResultats[],5,FALSE),"") | E4: =IFERROR(VLOOKUP($B4&E$2,DataResultats[],4,FALSE),"")&IFERROR(IF(INDEX(DataResultats[Joueur 2],MATCH(Synthèse!$B4&Synthèse!E$2,DataResultats[Clé],0))="",""," / ")&VLOOKUP($B4&E$2,DataResultats[],5,FALSE),"") | F4: =IFERROR(VLOOKUP($B4&F$2,DataResultats[],4,FALSE),"")&IFERROR(IF(INDEX(DataResultats[Joueur 2],MATCH(Synthèse!$B4&Synthèse!F$2,DataResultats[Clé],0))="",""," / ")&VLOOKUP($B4&F$2,DataResultats[],5,FALSE),"") | G4: =IFERROR(VLOOKUP($B4&G$2,DataResultats[],4,FALSE),"")&IFERROR(IF(INDEX(DataResultats[Joueur 2],MATCH(Synthèse!$B4&Synthèse!G$2,DataResultats[Clé],0))="",""," / ")&VLOOKUP($B4&G$2,DataResultats[],5,FALSE),"") | H4: =IFERROR(VLOOKUP($B4&H$2,DataResultats[],4,FALSE),"")&IFERROR(IF(INDEX(DataResultats[Joueur 2],MATCH(Synthèse!$B4&Synthèse!H$2,DataResultats[Clé],0))="",""," / ")&VLOOKUP($B4&H$2,DataResultats[],5,FALSE),"") | I4: =IFERROR(VLOOKUP($B4&I$2,DataResultats[],4,FALSE),"")&IFERROR(IF(INDEX(DataResultats[Joueur 2],MATCH(Synthèse!$B4&Synthèse!I$2,DataResultats[Clé],0))="",""," / ")&VLOOKUP($B4&I$2,DataResultats[],5,FALSE),"") | J4: =IFERROR(VLOOKUP($B4&J$2,DataResultats[],4,FALSE),"")&IFERROR(IF(INDEX(DataResultats[Joueur 2],MATCH(Synthèse!$B4&Synthèse!J$2,DataResultats[Clé],0))="",""," / ")&VLOOKUP($B4&J$2,DataResultats[],5,FALSE),"") -> Joueur B / Joueur C | K4: =IF(COUNTIF(DataResultats[Journée],Synthèse!B4)>=1,IF(COUNTIFS(DataResultats[Journée],Synthèse!B4,DataResultats[Résultat],"Victoire")>COUNTIFS(DataResultats[Journée],Synthèse!B4,DataResultats[Résultat],"Défaite"),"Victoire",IF(COUNTIFS(DataResultats[Journée],Synthèse!B4,DataResultats[Résultat],"Défaite")>COUNTIFS(DataResultats[Journée],Synthèse!B4,DataResultats[Résultat],"Victoire"),"Défaite","Egalité")),"") -> Victoire
B5: 3 | C5: =IFERROR(VLOOKUP($B5&C$2,DataResultats[],4,FALSE),"")&IFERROR(IF(INDEX(DataResultats[Joueur 2],MATCH(Synthèse!$B5&Synthèse!C$2,DataResultats[Clé],0))="",""," / ")&VLOOKUP($B5&C$2,DataResultats[],5,FALSE),"") | D5: =IFERROR(VLOOKUP($B5&D$2,DataResultats[],4,FALSE),"")&IFERROR(IF(INDEX(DataResultats[Joueur 2],MATCH(Synthèse!$B5&Synthèse!D$2,DataResultats[Clé],0))="",""," / ")&VLOOKUP($B5&D$2,DataResultats[],5,FALSE),"") | E5: =IFERROR(VLOOKUP($B5&E$2,DataResultats[],4,FALSE),"")&IFERROR(IF(INDEX(DataResultats[Joueur 2],MATCH(Synthèse!$B5&Synthèse!E$2,DataResultats[Clé],0))="",""," / ")&VLOOKUP($B5&E$2,DataResultats[],5,FALSE),"") | F5: =IFERROR(VLOOKUP($B5&F$2,DataResultats[],4,FALSE),"")&IFERROR(IF(INDEX(DataResultats[Joueur 2],MATCH(Synthèse!$B5&Synthèse!F$2,DataResultats[Clé],0))="",""," / ")&VLOOKUP($B5&F$2,DataResultats[],5,FALSE),"") -> Joueur B | G5: =IFERROR(VLOOKUP($B5&G$2,DataResultats[],4,FALSE),"")&IFERROR(IF(INDEX(DataResultats[Joueur 2],MATCH(Synthèse!$B5&Synthèse!G$2,DataResultats[Clé],0))="",""," / ")&VLOOKUP($B5&G$2,DataResultats[],5,FALSE),"") | H5: =IFERROR(VLOOKUP($B5&H$2,DataResultats[],4,FALSE),"")&IFERROR(IF(INDEX(DataResultats[Joueur 2],MATCH(Synthèse!$B5&Synthèse!H$2,DataResultats[Clé],0))="",""," / ")&VLOOKUP($B5&H$2,DataResultats[],5,FALSE),"") | I5: =IFERROR(VLOOKUP($B5&I$2,DataResultats[],4,FALSE),"")&IFERROR(IF(INDEX(DataResultats[Joueur 2],MATCH(Synthèse!$B5&Synthèse!I$2,DataResultats[Clé],0))="",""," / ")&VLOOKUP($B5&I$2,DataResultats[],5,FALSE),"") -> Joueur F | J5: =IFERROR(VLOOKUP($B5&J$2,DataResultats[],4,FALSE),"")&IFERROR(IF(INDEX(DataResultats[Joueur 2],MATCH(Synthèse!$B5&Synthèse!J$2,DataResultats[Clé],0))="",""," / ")&VLOOKUP($B5&J$2,DataResultats[],5,FALSE),"") | K5: =IF(COUNTIF(DataResultats[Journée],Synthèse!B5)>=1,IF(COUNTIFS(DataResultats[Journée],Synthèse!B5,DataResultats[Résultat],"Victoire")>COUNTIFS(DataResultats[Journée],Synthèse!B5,DataResultats[Résultat],"Défaite"),"Victoire",IF(COUNTIFS(DataResultats[Journée],Synthèse!B5,DataResultats[Résultat],"Défaite")>COUNTIFS(DataResultats[Journée],Synthèse!B5,DataResultats[Résultat],"Victoire"),"Défaite","Egalité")),"") -> Défaite
B6: 4 | C6: =IFERROR(VLOOKUP($B6&C$2,DataResultats[],4,FALSE),"")&IFERROR(IF(INDEX(DataResultats[Joueur 2],MATCH(Synthèse!$B6&Synthèse!C$2,DataResultats[Clé],0))="",""," / ")&VLOOKUP($B6&C$2,DataResultats[],5,FALSE),"") | D6: =IFERROR(VLOOKUP($B6&D$2,DataResultats[],4,FALSE),"")&IFERROR(IF(INDEX(DataResultats[Joueur 2],MATCH(Synthèse!$B6&Synthèse!D$2,DataResultats[Clé],0))="",""," / ")&VLOOKUP($B6&D$2,DataResultats[],5,FALSE),"") | E6: =IFERROR(VLOOKUP($B6&E$2,DataResultats[],4,FALSE),"")&IFERROR(IF(INDEX(DataResultats[Joueur 2],MATCH(Synthèse!$B6&Synthèse!E$2,DataResultats[Clé],0))="",""," / ")&VLOOKUP($B6&E$2,DataResultats[],5,FALSE),"") | F6: =IFERROR(VLOOKUP($B6&F$2,DataResultats[],4,FALSE),"")&IFERROR(IF(INDEX(DataResultats[Joueur 2],MATCH(Synthèse!$B6&Synthèse!F$2,DataResultats[Clé],0))="",""," / ")&VLOOKUP($B6&F$2,DataResultats[],5,FALSE),"") | G6: =IFERROR(VLOOKUP($B6&G$2,DataResultats[],4,FALSE),"")&IFERROR(IF(INDEX(DataResultats[Joueur 2],MATCH(Synthèse!$B6&Synthèse!G$2,DataResultats[Clé],0))="",""," / ")&VLOOKUP($B6&G$2,DataResultats[],5,FALSE),"") | H6: =IFERROR(VLOOKUP($B6&H$2,DataResultats[],4,FALSE),"")&IFERROR(IF(INDEX(DataResultats[Joueur 2],MATCH(Synthèse!$B6&Synthèse!H$2,DataResultats[Clé],0))="",""," / ")&VLOOKUP($B6&H$2,DataResultats[],5,FALSE),"") | I6: =IFERROR(VLOOKUP($B6&I$2,DataResultats[],4,FALSE),"")&IFERROR(IF(INDEX(DataResultats[Joueur 2],MATCH(Synthèse!$B6&Synthèse!I$2,DataResultats[Clé],0))="",""," / ")&VLOOKUP($B6&I$2,DataResultats[],5,FALSE),"") | J6: =IFERROR(VLOOKUP($B6&J$2,DataResultats[],4,FALSE),"")&IFERROR(IF(INDEX(DataResultats[Joueur 2],MATCH(Synthèse!$B6&Synthèse!J$2,DataResultats[Clé],0))="",""," / ")&VLOOKUP($B6&J$2,DataResultats[],5,FALSE),"") | K6: =IF(COUNTIF(DataResultats[Journée],Synthèse!B6)>=1,IF(COUNTIFS(DataResultats[Journée],Synthèse!B6,DataResultats[Résultat],"Victoire")>COUNTIFS(DataResultats[Journée],Synthèse!B6,DataResultats[Résultat],"Défaite"),"Victoire",IF(COUNTIFS(DataResultats[Journée],Synthèse!B6,DataResultats[Résultat],"Défaite")>COUNTIFS(DataResultats[Journée],Synthèse!B6,DataResultats[Résultat],"Victoire"),"Défaite","Egalité")),"")
B7: 5 | C7: =IFERROR(VLOOKUP($B7&C$2,DataResultats[],4,FALSE),"")&IFERROR(IF(INDEX(DataResultats[Joueur 2],MATCH(Synthèse!$B7&Synthèse!C$2,DataResultats[Clé],0))="",""," / ")&VLOOKUP($B7&C$2,DataResultats[],5,FALSE),"") | D7: =IFERROR(VLOOKUP($B7&D$2,DataResultats[],4,FALSE),"")&IFERROR(IF(INDEX(DataResultats[Joueur 2],MATCH(Synthèse!$B7&Synthèse!D$2,DataResultats[Clé],0))="",""," / ")&VLOOKUP($B7&D$2,DataResultats[],5,FALSE),"") | E7: =IFERROR(VLOOKUP($B7&E$2,DataResultats[],4,FALSE),"")&IFERROR(IF(INDEX(DataResultats[Joueur 2],MATCH(Synthèse!$B7&Synthèse!E$2,DataResultats[Clé],0))="",""," / ")&VLOOKUP($B7&E$2,DataResultats[],5,FALSE),"") | F7: =IFERROR(VLOOKUP($B7&F$2,DataResultats[],4,FALSE),"")&IFERROR(IF(INDEX(DataResultats[Joueur 2],MATCH(Synthèse!$B7&Synthèse!F$2,DataResultats[Clé],0))="",""," / ")&VLOOKUP($B7&F$2,DataResultats[],5,FALSE),"") | G7: =IFERROR(VLOOKUP($B7&G$2,DataResultats[],4,FALSE),"")&IFERROR(IF(INDEX(DataResultats[Joueur 2],MATCH(Synthèse!$B7&Synthèse!G$2,DataResultats[Clé],0))="",""," / ")&VLOOKUP($B7&G$2,DataResultats[],5,FALSE),"") | H7: =IFERROR(VLOOKUP($B7&H$2,DataResultats[],4,FALSE),"")&IFERROR(IF(INDEX(DataResultats[Joueur 2],MATCH(Synthèse!$B7&Synthèse!H$2,DataResultats[Clé],0))="",""," / ")&VLOOKUP($B7&H$2,DataResultats[],5,FALSE),"") | I7: =IFERROR(VLOOKUP($B7&I$2,DataResultats[],4,FALSE),"")&IFERROR(IF(INDEX(DataResultats[Joueur 2],MATCH(Synthèse!$B7&Synthèse!I$2,DataResultats[Clé],0))="",""," / ")&VLOOKUP($B7&I$2,DataResultats[],5,FALSE),"") | J7: =IFERROR(VLOOKUP($B7&J$2,DataResultats[],4,FALSE),"")&IFERROR(IF(INDEX(DataResultats[Joueur 2],MATCH(Synthèse!$B7&Synthèse!J$2,DataResultats[Clé],0))="",""," / ")&VLOOKUP($B7&J$2,DataResultats[],5,FALSE),"") | K7: =IF(COUNTIF(DataResultats[Journée],Synthèse!B7)>=1,IF(COUNTIFS(DataResultats[Journée],Synthèse!B7,DataResultats[Résultat],"Victoire")>COUNTIFS(DataResultats[Journée],Synthèse!B7,DataResultats[Résultat],"Défaite"),"Victoire",IF(COUNTIFS(DataResultats[Journée],Synthèse!B7,DataResultats[Résultat],"Défaite")>COUNTIFS(DataResultats[Journée],Synthèse!B7,DataResultats[Résultat],"Victoire"),"Défaite","Egalité")),"")
B8: 6 | C8: =IFERROR(VLOOKUP($B8&C$2,DataResultats[],4,FALSE),"")&IFERROR(IF(INDEX(DataResultats[Joueur 2],MATCH(Synthèse!$B8&Synthèse!C$2,DataResultats[Clé],0))="",""," / ")&VLOOKUP($B8&C$2,DataResultats[],5,FALSE),"") | D8: =IFERROR(VLOOKUP($B8&D$2,DataResultats[],4,FALSE),"")&IFERROR(IF(INDEX(DataResultats[Joueur 2],MATCH(Synthèse!$B8&Synthèse!D$2,DataResultats[Clé],0))="",""," / ")&VLOOKUP($B8&D$2,DataResultats[],5,FALSE),"") | E8: =IFERROR(VLOOKUP($B8&E$2,DataResultats[],4,FALSE),"")&IFERROR(IF(INDEX(DataResultats[Joueur 2],MATCH(Synthèse!$B8&Synthèse!E$2,DataResultats[Clé],0))="",""," / ")&VLOOKUP($B8&E$2,DataResultats[],5,FALSE),"") | F8: =IFERROR(VLOOKUP($B8&F$2,DataResultats[],4,FALSE),"")&IFERROR(IF(INDEX(DataResultats[Joueur 2],MATCH(Synthèse!$B8&Synthèse!F$2,DataResultats[Clé],0))="",""," / ")&VLOOKUP($B8&F$2,DataResultats[],5,FALSE),"") | G8: =IFERROR(VLOOKUP($B8&G$2,DataResultats[],4,FALSE),"")&IFERROR(IF(INDEX(DataResultats[Joueur 2],MATCH(Synthèse!$B8&Synthèse!G$2,DataResultats[Clé],0))="",""," / ")&VLOOKUP($B8&G$2,DataResultats[],5,FALSE),"") | H8: =IFERROR(VLOOKUP($B8&H$2,DataResultats[],4,FALSE),"")&IFERROR(IF(INDEX(DataResultats[Joueur 2],MATCH(Synthèse!$B8&Synthèse!H$2,DataResultats[Clé],0))="",""," / ")&VLOOKUP($B8&H$2,DataResultats[],5,FALSE),"") | I8: =IFERROR(VLOOKUP($B8&I$2,DataResultats[],4,FALSE),"")&IFERROR(IF(INDEX(DataResultats[Joueur 2],MATCH(Synthèse!$B8&Synthèse!I$2,DataResultats[Clé],0))="",""," / ")&VLOOKUP($B8&I$2,DataResultats[],5,FALSE),"") | J8: =IFERROR(VLOOKUP($B8&J$2,DataResultats[],4,FALSE),"")&IFERROR(IF(INDEX(DataResultats[Joueur 2],MATCH(Synthèse!$B8&Synthèse!J$2,DataResultats[Clé],0))="",""," / ")&VLOOKUP($B8&J$2,DataResultats[],5,FALSE),"") | K8: =IF(COUNTIF(DataResultats[Journée],Synthèse!B8)>=1,IF(COUNTIFS(DataResultats[Journée],Synthèse!B8,DataResultats[Résultat],"Victoire")>COUNTIFS(DataResultats[Journée],Synthèse!B8,DataResultats[Résultat],"Défaite"),"Victoire",IF(COUNTIFS(DataResultats[Journée],Synthèse!B8,DataResultats[Résultat],"Défaite")>COUNTIFS(DataResultats[Journée],Synthèse!B8,DataResultats[Résultat],"Victoire"),"Défaite","Egalité")),"")
B9: 7 | C9: =IFERROR(VLOOKUP($B9&C$2,DataResultats[],4,FALSE),"")&IFERROR(IF(INDEX(DataResultats[Joueur 2],MATCH(Synthèse!$B9&Synthèse!C$2,DataResultats[Clé],0))="",""," / ")&VLOOKUP($B9&C$2,DataResultats[],5,FALSE),"") | D9: =IFERROR(VLOOKUP($B9&D$2,DataResultats[],4,FALSE),"")&IFERROR(IF(INDEX(DataResultats[Joueur 2],MATCH(Synthèse!$B9&Synthèse!D$2,DataResultats[Clé],0))="",""," / ")&VLOOKUP($B9&D$2,DataResultats[],5,FALSE),"") | E9: =IFERROR(VLOOKUP($B9&E$2,DataResultats[],4,FALSE),"")&IFERROR(IF(INDEX(DataResultats[Joueur 2],MATCH(Synthèse!$B9&Synthèse!E$2,DataResultats[Clé],0))="",""," / ")&VLOOKUP($B9&E$2,DataResultats[],5,FALSE),"") | F9: =IFERROR(VLOOKUP($B9&F$2,DataResultats[],4,FALSE),"")&IFERROR(IF(INDEX(DataResultats[Joueur 2],MATCH(Synthèse!$B9&Synthèse!F$2,DataResultats[Clé],0))="",""," / ")&VLOOKUP($B9&F$2,DataResultats[],5,FALSE),"") | G9: =IFERROR(VLOOKUP($B9&G$2,DataResultats[],4,FALSE),"")&IFERROR(IF(INDEX(DataResultats[Joueur 2],MATCH(Synthèse!$B9&Synthèse!G$2,DataResultats[Clé],0))="",""," / ")&VLOOKUP($B9&G$2,DataResultats[],5,FALSE),"") | H9: =IFERROR(VLOOKUP($B9&H$2,DataResultats[],4,FALSE),"")&IFERROR(IF(INDEX(DataResultats[Joueur 2],MATCH(Synthèse!$B9&Synthèse!H$2,DataResultats[Clé],0))="",""," / ")&VLOOKUP($B9&H$2,DataResultats[],5,FALSE),"") | I9: =IFERROR(VLOOKUP($B9&I$2,DataResultats[],4,FALSE),"")&IFERROR(IF(INDEX(DataResultats[Joueur 2],MATCH(Synthèse!$B9&Synthèse!I$2,DataResultats[Clé],0))="",""," / ")&VLOOKUP($B9&I$2,DataResultats[],5,FALSE),"") | J9: =IFERROR(VLOOKUP($B9&J$2,DataResultats[],4,FALSE),"")&IFERROR(IF(INDEX(DataResultats[Joueur 2],MATCH(Synthèse!$B9&Synthèse!J$2,DataResultats[Clé],0))="",""," / ")&VLOOKUP($B9&J$2,DataResultats[],5,FALSE),"") | K9: =IF(COUNTIF(DataResultats[Journée],Synthèse!B9)>=1,IF(COUNTIFS(DataResultats[Journée],Synthèse!B9,DataResultats[Résultat],"Victoire")>COUNTIFS(DataResultats[Journée],Synthèse!B9,DataResultats[Résultat],"Défaite"),"Victoire",IF(COUNTIFS(DataResultats[Journée],Synthèse!B9,DataResultats[Résultat],"Défaite")>COUNTIFS(DataResultats[Journée],Synthèse!B9,DataResultats[Résultat],"Victoire"),"Défaite","Egalité")),"")
B10: 8 | C10: =IFERROR(VLOOKUP($B10&C$2,DataResultats[],4,FALSE),"")&IFERROR(IF(INDEX(DataResultats[Joueur 2],MATCH(Synthèse!$B10&Synthèse!C$2,DataResultats[Clé],0))="",""," / ")&VLOOKUP($B10&C$2,DataResultats[],5,FALSE),"") | D10: =IFERROR(VLOOKUP($B10&D$2,DataResultats[],4,FALSE),"")&IFERROR(IF(INDEX(DataResultats[Joueur 2],MATCH(Synthèse!$B10&Synthèse!D$2,DataResultats[Clé],0))="",""," / ")&VLOOKUP($B10&D$2,DataResultats[],5,FALSE),"") | E10: =IFERROR(VLOOKUP($B10&E$2,DataResultats[],4,FALSE),"")&IFERROR(IF(INDEX(DataResultats[Joueur 2],MATCH(Synthèse!$B10&Synthèse!E$2,DataResultats[Clé],0))="",""," / ")&VLOOKUP($B10&E$2,DataResultats[],5,FALSE),"") | F10: =IFERROR(VLOOKUP($B10&F$2,DataResultats[],4,FALSE),"")&IFERROR(IF(INDEX(DataResultats[Joueur 2],MATCH(Synthèse!$B10&Synthèse!F$2,DataResultats[Clé],0))="",""," / ")&VLOOKUP($B10&F$2,DataResultats[],5,FALSE),"") | G10: =IFERROR(VLOOKUP($B10&G$2,DataResultats[],4,FALSE),"")&IFERROR(IF(INDEX(DataResultats[Joueur 2],MATCH(Synthèse!$B10&Synthèse!G$2,DataResultats[Clé],0))="",""," / ")&VLOOKUP($B10&G$2,DataResultats[],5,FALSE),"") | H10: =IFERROR(VLOOKUP($B10&H$2,DataResultats[],4,FALSE),"")&IFERROR(IF(INDEX(DataResultats[Joueur 2],MATCH(Synthèse!$B10&Synthèse!H$2,DataResultats[Clé],0))="",""," / ")&VLOOKUP($B10&H$2,DataResultats[],5,FALSE),"") | I10: =IFERROR(VLOOKUP($B10&I$2,DataResultats[],4,FALSE),"")&IFERROR(IF(INDEX(DataResultats[Joueur 2],MATCH(Synthèse!$B10&Synthèse!I$2,DataResultats[Clé],0))="",""," / ")&VLOOKUP($B10&I$2,DataResultats[],5,FALSE),"") | J10: =IFERROR(VLOOKUP($B10&J$2,DataResultats[],4,FALSE),"")&IFERROR(IF(INDEX(DataResultats[Joueur 2],MATCH(Synthèse!$B10&Synthèse!J$2,DataResultats[Clé],0))="",""," / ")&VLOOKUP($B10&J$2,DataResultats[],5,FALSE),"") | K10: =IF(COUNTIF(DataResultats[Journée],Synthèse!B10)>=1,IF(COUNTIFS(DataResultats[Journée],Synthèse!B10,DataResultats[Résultat],"Victoire")>COUNTIFS(DataResultats[Journée],Synthèse!B10,DataResultats[Résultat],"Défaite"),"Victoire",IF(COUNTIFS(DataResultats[Journée],Synthèse!B10,DataResultats[Résultat],"Défaite")>COUNTIFS(DataResultats[Journée],Synthèse!B10,DataResultats[Résultat],"Victoire"),"Défaite","Egalité")),"")
B11: 9 | C11: =IFERROR(VLOOKUP($B11&C$2,DataResultats[],4,FALSE),"")&IFERROR(IF(INDEX(DataResultats[Joueur 2],MATCH(Synthèse!$B11&Synthèse!C$2,DataResultats[Clé],0))="",""," / ")&VLOOKUP($B11&C$2,DataResultats[],5,FALSE),"") | D11: =IFERROR(VLOOKUP($B11&D$2,DataResultats[],4,FALSE),"")&IFERROR(IF(INDEX(DataResultats[Joueur 2],MATCH(Synthèse!$B11&Synthèse!D$2,DataResultats[Clé],0))="",""," / ")&VLOOKUP($B11&D$2,DataResultats[],5,FALSE),"") | E11: =IFERROR(VLOOKUP($B11&E$2,DataResultats[],4,FALSE),"")&IFERROR(IF(INDEX(DataResultats[Joueur 2],MATCH(Synthèse!$B11&Synthèse!E$2,DataResultats[Clé],0))="",""," / ")&VLOOKUP($B11&E$2,DataResultats[],5,FALSE),"") | F11: =IFERROR(VLOOKUP($B11&F$2,DataResultats[],4,FALSE),"")&IFERROR(IF(INDEX(DataResultats[Joueur 2],MATCH(Synthèse!$B11&Synthèse!F$2,DataResultats[Clé],0))="",""," / ")&VLOOKUP($B11&F$2,DataResultats[],5,FALSE),"") | G11: =IFERROR(VLOOKUP($B11&G$2,DataResultats[],4,FALSE),"")&IFERROR(IF(INDEX(DataResultats[Joueur 2],MATCH(Synthèse!$B11&Synthèse!G$2,DataResultats[Clé],0))="",""," / ")&VLOOKUP($B11&G$2,DataResultats[],5,FALSE),"") | H11: =IFERROR(VLOOKUP($B11&H$2,DataResultats[],4,FALSE),"")&IFERROR(IF(INDEX(DataResultats[Joueur 2],MATCH(Synthèse!$B11&Synthèse!H$2,DataResultats[Clé],0))="",""," / ")&VLOOKUP($B11&H$2,DataResultats[],5,FALSE),"") | I11: =IFERROR(VLOOKUP($B11&I$2,DataResultats[],4,FALSE),"")&IFERROR(IF(INDEX(DataResultats[Joueur 2],MATCH(Synthèse!$B11&Synthèse!I$2,DataResultats[Clé],0))="",""," / ")&VLOOKUP($B11&I$2,DataResultats[],5,FALSE),"") | J11: =IFERROR(VLOOKUP($B11&J$2,DataResultats[],4,FALSE),"")&IFERROR(IF(INDEX(DataResultats[Joueur 2],MATCH(Synthèse!$B11&Synthèse!J$2,DataResultats[Clé],0))="",""," / ")&VLOOKUP($B11&J$2,DataResultats[],5,FALSE),"") | K11: =IF(COUNTIF(DataResultats[Journée],Synthèse!B11)>=1,IF(COUNTIFS(DataResultats[Journée],Synthèse!B11,DataResultats[Résultat],"Victoire")>COUNTIFS(DataResultats[Journée],Synthèse!B11,DataResultats[Résultat],"Défaite"),"Victoire",IF(COUNTIFS(DataResultats[Journée],Synthèse!B11,DataResultats[Résultat],"Défaite")>COUNTIFS(DataResultats[Journée],Synthèse!B11,DataResultats[Résultat],"Victoire"),"Défaite","Egalité")),"")
B12: 10 | C12: =IFERROR(VLOOKUP($B12&C$2,DataResultats[],4,FALSE),"")&IFERROR(IF(INDEX(DataResultats[Joueur 2],MATCH(Synthèse!$B12&Synthèse!C$2,DataResultats[Clé],0))="",""," / ")&VLOOKUP($B12&C$2,DataResultats[],5,FALSE),"") | D12: =IFERROR(VLOOKUP($B12&D$2,DataResultats[],4,FALSE),"")&IFERROR(IF(INDEX(DataResultats[Joueur 2],MATCH(Synthèse!$B12&Synthèse!D$2,DataResultats[Clé],0))="",""," / ")&VLOOKUP($B12&D$2,DataResultats[],5,FALSE),"") | E12: =IFERROR(VLOOKUP($B12&E$2,DataResultats[],4,FALSE),"")&IFERROR(IF(INDEX(DataResultats[Joueur 2],MATCH(Synthèse!$B12&Synthèse!E$2,DataResultats[Clé],0))="",""," / ")&VLOOKUP($B12&E$2,DataResultats[],5,FALSE),"") | F12: =IFERROR(VLOOKUP($B12&F$2,DataResultats[],4,FALSE),"")&IFERROR(IF(INDEX(DataResultats[Joueur 2],MATCH(Synthèse!$B12&Synthèse!F$2,DataResultats[Clé],0))="",""," / ")&VLOOKUP($B12&F$2,DataResultats[],5,FALSE),"") | G12: =IFERROR(VLOOKUP($B12&G$2,DataResultats[],4,FALSE),"")&IFERROR(IF(INDEX(DataResultats[Joueur 2],MATCH(Synthèse!$B12&Synthèse!G$2,DataResultats[Clé],0))="",""," / ")&VLOOKUP($B12&G$2,DataResultats[],5,FALSE),"") | H12: =IFERROR(VLOOKUP($B12&H$2,DataResultats[],4,FALSE),"")&IFERROR(IF(INDEX(DataResultats[Joueur 2],MATCH(Synthèse!$B12&Synthèse!H$2,DataResultats[Clé],0))="",""," / ")&VLOOKUP($B12&H$2,DataResultats[],5,FALSE),"") | I12: =IFERROR(VLOOKUP($B12&I$2,DataResultats[],4,FALSE),"")&IFERROR(IF(INDEX(DataResultats[Joueur 2],MATCH(Synthèse!$B12&Synthèse!I$2,DataResultats[Clé],0))="",""," / ")&VLOOKUP($B12&I$2,DataResultats[],5,FALSE),"") | J12: =IFERROR(VLOOKUP($B12&J$2,DataResultats[],4,FALSE),"")&IFERROR(IF(INDEX(DataResultats[Joueur 2],MATCH(Synthèse!$B12&Synthèse!J$2,DataResultats[Clé],0))="",""," / ")&VLOOKUP($B12&J$2,DataResultats[],5,FALSE),"") | K12: =IF(COUNTIF(DataResultats[Journée],Synthèse!B12)>=1,IF(COUNTIFS(DataResultats[Journée],Synthèse!B12,DataResultats[Résultat],"Victoire")>COUNTIFS(DataResultats[Journée],Synthèse!B12,DataResultats[Résultat],"Défaite"),"Victoire",IF(COUNTIFS(DataResultats[Journée],Synthèse!B12,DataResultats[Résultat],"Défaite")>COUNTIFS(DataResultats[Journée],Synthèse!B12,DataResultats[Résultat],"Victoire"),"Défaite","Egalité")),"")
B13: 11 | C13: =IFERROR(VLOOKUP($B13&C$2,DataResultats[],4,FALSE),"")&IFERROR(IF(INDEX(DataResultats[Joueur 2],MATCH(Synthèse!$B13&Synthèse!C$2,DataResultats[Clé],0))="",""," / ")&VLOOKUP($B13&C$2,DataResultats[],5,FALSE),"") | D13: =IFERROR(VLOOKUP($B13&D$2,DataResultats[],4,FALSE),"")&IFERROR(IF(INDEX(DataResultats[Joueur 2],MATCH(Synthèse!$B13&Synthèse!D$2,DataResultats[Clé],0))="",""," / ")&VLOOKUP($B13&D$2,DataResultats[],5,FALSE),"") | E13: =IFERROR(VLOOKUP($B13&E$2,DataResultats[],4,FALSE),"")&IFERROR(IF(INDEX(DataResultats[Joueur 2],MATCH(Synthèse!$B13&Synthèse!E$2,DataResultats[Clé],0))="",""," / ")&VLOOKUP($B13&E$2,DataResultats[],5,FALSE),"") | F13: =IFERROR(VLOOKUP($B13&F$2,DataResultats[],4,FALSE),"")&IFERROR(IF(INDEX(DataResultats[Joueur 2],MATCH(Synthèse!$B13&Synthèse!F$2,DataResultats[Clé],0))="",""," / ")&VLOOKUP($B13&F$2,DataResultats[],5,FALSE),"") | G13: =IFERROR(VLOOKUP($B13&G$2,DataResultats[],4,FALSE),"")&IFERROR(IF(INDEX(DataResultats[Joueur 2],MATCH(Synthèse!$B13&Synthèse!G$2,DataResultats[Clé],0))="",""," / ")&VLOOKUP($B13&G$2,DataResultats[],5,FALSE),"") | H13: =IFERROR(VLOOKUP($B13&H$2,DataResultats[],4,FALSE),"")&IFERROR(IF(INDEX(DataResultats[Joueur 2],MATCH(Synthèse!$B13&Synthèse!H$2,DataResultats[Clé],0))="",""," / ")&VLOOKUP($B13&H$2,DataResultats[],5,FALSE),"") | I13: =IFERROR(VLOOKUP($B13&I$2,DataResultats[],4,FALSE),"")&IFERROR(IF(INDEX(DataResultats[Joueur 2],MATCH(Synthèse!$B13&Synthèse!I$2,DataResultats[Clé],0))="",""," / ")&VLOOKUP($B13&I$2,DataResultats[],5,FALSE),"") | J13: =IFERROR(VLOOKUP($B13&J$2,DataResultats[],4,FALSE),"")&IFERROR(IF(INDEX(DataResultats[Joueur 2],MATCH(Synthèse!$B13&Synthèse!J$2,DataResultats[Clé],0))="",""," / ")&VLOOKUP($B13&J$2,DataResultats[],5,FALSE),"") | K13: =IF(COUNTIF(DataResultats[Journée],Synthèse!B13)>=1,IF(COUNTIFS(DataResultats[Journée],Synthèse!B13,DataResultats[Résultat],"Victoire")>COUNTIFS(DataResultats[Journée],Synthèse!B13,DataResultats[Résultat],"Défaite"),"Victoire",IF(COUNTIFS(DataResultats[Journée],Synthèse!B13,DataResultats[Résultat],"Défaite")>COUNTIFS(DataResultats[Journée],Synthèse!B13,DataResultats[Résultat],"Victoire"),"Défaite","Egalité")),"")
B14: 12 | C14: =IFERROR(VLOOKUP($B14&C$2,DataResultats[],4,FALSE),"")&IFERROR(IF(INDEX(DataResultats[Joueur 2],MATCH(Synthèse!$B14&Synthèse!C$2,DataResultats[Clé],0))="",""," / ")&VLOOKUP($B14&C$2,DataResultats[],5,FALSE),"") | D14: =IFERROR(VLOOKUP($B14&D$2,DataResultats[],4,FALSE),"")&IFERROR(IF(INDEX(DataResultats[Joueur 2],MATCH(Synthèse!$B14&Synthèse!D$2,DataResultats[Clé],0))="",""," / ")&VLOOKUP($B14&D$2,DataResultats[],5,FALSE),"") | E14: =IFERROR(VLOOKUP($B14&E$2,DataResultats[],4,FALSE),"")&IFERROR(IF(INDEX(DataResultats[Joueur 2],MATCH(Synthèse!$B14&Synthèse!E$2,DataResultats[Clé],0))="",""," / ")&VLOOKUP($B14&E$2,DataResultats[],5,FALSE),"") | F14: =IFERROR(VLOOKUP($B14&F$2,DataResultats[],4,FALSE),"")&IFERROR(IF(INDEX(DataResultats[Joueur 2],MATCH(Synthèse!$B14&Synthèse!F$2,DataResultats[Clé],0))="",""," / ")&VLOOKUP($B14&F$2,DataResultats[],5,FALSE),"") | G14: =IFERROR(VLOOKUP($B14&G$2,DataResultats[],4,FALSE),"")&IFERROR(IF(INDEX(DataResultats[Joueur 2],MATCH(Synthèse!$B14&Synthèse!G$2,DataResultats[Clé],0))="",""," / ")&VLOOKUP($B14&G$2,DataResultats[],5,FALSE),"") | H14: =IFERROR(VLOOKUP($B14&H$2,DataResultats[],4,FALSE),"")&IFERROR(IF(INDEX(DataResultats[Joueur 2],MATCH(Synthèse!$B14&Synthèse!H$2,DataResultats[Clé],0))="",""," / ")&VLOOKUP($B14&H$2,DataResultats[],5,FALSE),"") | I14: =IFERROR(VLOOKUP($B14&I$2,DataResultats[],4,FALSE),"")&IFERROR(IF(INDEX(DataResultats[Joueur 2],MATCH(Synthèse!$B14&Synthèse!I$2,DataResultats[Clé],0))="",""," / ")&VLOOKUP($B14&I$2,DataResultats[],5,FALSE),"") | J14: =IFERROR(VLOOKUP($B14&J$2,DataResultats[],4,FALSE),"")&IFERROR(IF(INDEX(DataResultats[Joueur 2],MATCH(Synthèse!$B14&Synthèse!J$2,DataResultats[Clé],0))="",""," / ")&VLOOKUP($B14&J$2,DataResultats[],5,FALSE),"") | K14: =IF(COUNTIF(DataResultats[Journée],Synthèse!B14)>=1,IF(COUNTIFS(DataResultats[Journée],Synthèse!B14,DataResultats[Résultat],"Victoire")>COUNTIFS(DataResultats[Journée],Synthèse!B14,DataResultats[Résultat],"Défaite"),"Victoire",IF(COUNTIFS(DataResultats[Journée],Synthèse!B14,DataResultats[Résultat],"Défaite")>COUNTIFS(DataResultats[Journée],Synthèse!B14,DataResultats[Résultat],"Victoire"),"Défaite","Egalité")),"")
... B20: 18 | C20: =IFERROR(VLOOKUP($B20&C$2,DataResultats[],4,FALSE),"")&IFERROR(IF(INDEX(DataResultats[Joueur 2],MATCH(Synthèse!$B20&Synthèse!C$2,DataResultats[Clé],0))="",""," / ")&VLOOKUP($B20&C$2,DataResultats[],5,FALSE),"") | D20: =IFERROR(VLOOKUP($B20&D$2,DataResultats[],4,FALSE),"")&IFERROR(IF(INDEX(DataResultats[Joueur 2],MATCH(Synthèse!$B20&Synthèse!D$2,DataResultats[Clé],0))="",""," / ")&VLOOKUP($B20&D$2,DataResultats[],5,FALSE),"") | E20: =IFERROR(VLOOKUP($B20&E$2,DataResultats[],4,FALSE),"")&IFERROR(IF(INDEX(DataResultats[Joueur 2],MATCH(Synthèse!$B20&Synthèse!E$2,DataResultats[Clé],0))="",""," / ")&VLOOKUP($B20&E$2,DataResultats[],5,FALSE),"") | F20: =IFERROR(VLOOKUP($B20&F$2,DataResultats[],4,FALSE),"")&IFERROR(IF(INDEX(DataResultats[Joueur 2],MATCH(Synthèse!$B20&Synthèse!F$2,DataResultats[Clé],0))="",""," / ")&VLOOKUP($B20&F$2,DataResultats[],5,FALSE),"") | G20: =IFERROR(VLOOKUP($B20&G$2,DataResultats[],4,FALSE),"")&IFERROR(IF(INDEX(DataResultats[Joueur 2],MATCH(Synthèse!$B20&Synthèse!G$2,DataResultats[Clé],0))="",""," / ")&VLOOKUP($B20&G$2,DataResultats[],5,FALSE),"") | H20: =IFERROR(VLOOKUP($B20&H$2,DataResultats[],4,FALSE),"")&IFERROR(IF(INDEX(DataResultats[Joueur 2],MATCH(Synthèse!$B20&Synthèse!H$2,DataResultats[Clé],0))="",""," / ")&VLOOKUP($B20&H$2,DataResultats[],5,FALSE),"") | I20: =IFERROR(VLOOKUP($B20&I$2,DataResultats[],4,FALSE),"")&IFERROR(IF(INDEX(DataResultats[Joueur 2],MATCH(Synthèse!$B20&Synthèse!I$2,DataResultats[Clé],0))="",""," / ")&VLOOKUP($B20&I$2,DataResultats[],5,FALSE),"") | J20: =IFERROR(VLOOKUP($B20&J$2,DataResultats[],4,FALSE),"")&IFERROR(IF(INDEX(DataResultats[Joueur 2],MATCH(Synthèse!$B20&Synthèse!J$2,DataResultats[Clé],0))="",""," / ")&VLOOKUP($B20&J$2,DataResultats[],5,FALSE),"") | K20: =IF(COUNTIF(DataResultats[Journée],Synthèse!B20)>=1,IF(COUNTIFS(DataResultats[Journée],Synthèse!B20,DataResultats[Résultat],"Victoire")>COUNTIFS(DataResultats[Journée],Synthèse!B20,DataResultats[Résultat],"Défaite"),"Victoire",IF(COUNTIFS(DataResultats[Journée],Synthèse!B20,DataResultats[Résultat],"Défaite")>COUNTIFS(DataResultats[Journée],Synthèse!B20,DataResultats[Résultat],"Victoire"),"Défaite","Egalité")),"")
