Workbook

Sheet totaux
B1: Adele | C1: Albert | D1: Brendon | E1: Celine | F1: Denis | G1: Jean | H1: Leon | I1: Marc | J1: Patrick | K1: Samy | L1: Sia | M1: Taylor | N1: Ulysse
A2: 1 | B2: {=_xlfn.LET(_xlpm.nbNotes,SUMPRODUCT((notes!$A$1:$A$200=B$1)*(notes!$B$1:$J$200=$A2)),IF(_xlpm.nbNotes>0,_xlpm.nbNotes,""))} -> 2 | C2: {=_xlfn.LET(_xlpm.nbNotes,SUMPRODUCT((notes!$A$1:$A$200=C$1)*(notes!$B$1:$J$200=$A2)),IF(_xlpm.nbNotes>0,_xlpm.nbNotes,""))} -> 3 | D2: {=_xlfn.LET(_xlpm.nbNotes,SUMPRODUCT((notes!$A$1:$A$200=D$1)*(notes!$B$1:$J$200=$A2)),IF(_xlpm.nbNotes>0,_xlpm.nbNotes,""))} -> 4 | E2: {=_xlfn.LET(_xlpm.nbNotes,SUMPRODUCT((notes!$A$1:$A$200=E$1)*(notes!$B$1:$J$200=$A2)),IF(_xlpm.nbNotes>0,_xlpm.nbNotes,""))} -> 2 | F2: {=_xlfn.LET(_xlpm.nbNotes,SUMPRODUCT((notes!$A$1:$A$200=F$1)*(notes!$B$1:$J$200=$A2)),IF(_xlpm.nbNotes>0,_xlpm.nbNotes,""))} -> 4 | G2: {=_xlfn.LET(_xlpm.nbNotes,SUMPRODUCT((notes!$A$1:$A$200=G$1)*(notes!$B$1:$J$200=$A2)),IF(_xlpm.nbNotes>0,_xlpm.nbNotes,""))} -> 4 | H2: {=_xlfn.LET(_xlpm.nbNotes,SUMPRODUCT((notes!$A$1:$A$200=H$1)*(notes!$B$1:$J$200=$A2)),IF(_xlpm.nbNotes>0,_xlpm.nbNotes,""))} -> 2 | I2: {=_xlfn.LET(_xlpm.nbNotes,SUMPRODUCT((notes!$A$1:$A$200=I$1)*(notes!$B$1:$J$200=$A2)),IF(_xlpm.nbNotes>0,_xlpm.nbNotes,""))} -> 3 | ... N2: {=_xlfn.LET(_xlpm.nbNotes,SUMPRODUCT((notes!$A$1:$A$200=N$1)*(notes!$B$1:$J$200=$A2)),IF(_xlpm.nbNotes>0,_xlpm.nbNotes,""))} -> 2
A3: 2 | B3: {=_xlfn.LET(_xlpm.nbNotes,SUMPRODUCT((notes!$A$1:$A$200=B$1)*(notes!$B$1:$J$200=$A3)),IF(_xlpm.nbNotes>0,_xlpm.nbNotes,""))} -> 1 | C3: {=_xlfn.LET(_xlpm.nbNotes,SUMPRODUCT((notes!$A$1:$A$200=C$1)*(notes!$B$1:$J$200=$A3)),IF(_xlpm.nbNotes>0,_xlpm.nbNotes,""))} -> 2 | D3: {=_xlfn.LET(_xlpm.nbNotes,SUMPRODUCT((notes!$A$1:$A$200=D$1)*(notes!$B$1:$J$200=$A3)),IF(_xlpm.nbNotes>0,_xlpm.nbNotes,""))} -> 1 | E3: {=_xlfn.LET(_xlpm.nbNotes,SUMPRODUCT((notes!$A$1:$A$200=E$1)*(notes!$B$1:$J$200=$A3)),IF(_xlpm.nbNotes>0,_xlpm.nbNotes,""))} -> 1 | F3: {=_xlfn.LET(_xlpm.nbNotes,SUMPRODUCT((notes!$A$1:$A$200=F$1)*(notes!$B$1:$J$200=$A3)),IF(_xlpm.nbNotes>0,_xlpm.nbNotes,""))} -> 1 | G3: {=_xlfn.LET(_xlpm.nbNotes,SUMPRODUCT((notes!$A$1:$A$200=G$1)*(notes!$B$1:$J$200=$A3)),IF(_xlpm.nbNotes>0,_xlpm.nbNotes,""))} -> 1 | H3: {=_xlfn.LET(_xlpm.nbNotes,SUMPRODUCT((notes!$A$1:$A$200=H$1)*(notes!$B$1:$J$200=$A3)),IF(_xlpm.nbNotes>0,_xlpm.nbNotes,""))} -> 1 | I3: {=_xlfn.LET(_xlpm.nbNotes,SUMPRODUCT((notes!$A$1:$A$200=I$1)*(notes!$B$1:$J$200=$A3)),IF(_xlpm.nbNotes>0,_xlpm.nbNotes,""))} -> 1 | ... N3: {=_xlfn.LET(_xlpm.nbNotes,SUMPRODUCT((notes!$A$1:$A$200=N$1)*(notes!$B$1:$J$200=$A3)),IF(_xlpm.nbNotes>0,_xlpm.nbNotes,""))} -> 1
A4: 3 | B4: {=_xlfn.LET(_xlpm.nbNotes,SUMPRODUCT((notes!$A$1:$A$200=B$1)*(notes!$B$1:$J$200=$A4)),IF(_xlpm.nbNotes>0,_xlpm.nbNotes,""))} -> 1 | C4: {=_xlfn.LET(_xlpm.nbNotes,SUMPRODUCT((notes!$A$1:$A$200=C$1)*(notes!$B$1:$J$200=$A4)),IF(_xlpm.nbNotes>0,_xlpm.nbNotes,""))} | D4: {=_xlfn.LET(_xlpm.nbNotes,SUMPRODUCT((notes!$A$1:$A$200=D$1)*(notes!$B$1:$J$200=$A4)),IF(_xlpm.nbNotes>0,_xlpm.nbNotes,""))} -> 1 | E4: {=_xlfn.LET(_xlpm.nbNotes,SUMPRODUCT((notes!$A$1:$A$200=E$1)*(notes!$B$1:$J$200=$A4)),IF(_xlpm.nbNotes>0,_xlpm.nbNotes,""))} | F4: {=_xlfn.LET(_xlpm.nbNotes,SUMPRODUCT((notes!$A$1:$A$200=F$1)*(notes!$B$1:$J$200=$A4)),IF(_xlpm.nbNotes>0,_xlpm.nbNotes,""))} -> 1 | G4: {=_xlfn.LET(_xlpm.nbNotes,SUMPRODUCT((notes!$A$1:$A$200=G$1)*(notes!$B$1:$J$200=$A4)),IF(_xlpm.nbNotes>0,_xlpm.nbNotes,""))} -> 1 | H4: {=_xlfn.LET(_xlpm.nbNotes,SUMPRODUCT((notes!$A$1:$A$200=H$1)*(notes!$B$1:$J$200=$A4)),IF(_xlpm.nbNotes>0,_xlpm.nbNotes,""))} | I4: {=_xlfn.LET(_xlpm.nbNotes,SUMPRODUCT((notes!$A$1:$A$200=I$1)*(notes!$B$1:$J$200=$A4)),IF(_xlpm.nbNotes>0,_xlpm.nbNotes,""))} -> 1 | ... N4: {=_xlfn.LET(_xlpm.nbNotes,SUMPRODUCT((notes!$A$1:$A$200=N$1)*(notes!$B$1:$J$200=$A4)),IF(_xlpm.nbNotes>0,_xlpm.nbNotes,""))} -> 1
A5: 4 | B5: {=_xlfn.LET(_xlpm.nbNotes,SUMPRODUCT((notes!$A$1:$A$200=B$1)*(notes!$B$1:$J$200=$A5)),IF(_xlpm.nbNotes>0,_xlpm.nbNotes,""))} | C5: {=_xlfn.LET(_xlpm.nbNotes,SUMPRODUCT((notes!$A$1:$A$200=C$1)*(notes!$B$1:$J$200=$A5)),IF(_xlpm.nbNotes>0,_xlpm.nbNotes,""))} | D5: {=_xlfn.LET(_xlpm.nbNotes,SUMPRODUCT((notes!$A$1:$A$200=D$1)*(notes!$B$1:$J$200=$A5)),IF(_xlpm.nbNotes>0,_xlpm.nbNotes,""))} | E5: {=_xlfn.LET(_xlpm.nbNotes,SUMPRODUCT((notes!$A$1:$A$200=E$1)*(notes!$B$1:$J$200=$A5)),IF(_xlpm.nbNotes>0,_xlpm.nbNotes,""))} | F5: {=_xlfn.LET(_xlpm.nbNotes,SUMPRODUCT((notes!$A$1:$A$200=F$1)*(notes!$B$1:$J$200=$A5)),IF(_xlpm.nbNotes>0,_xlpm.nbNotes,""))} | G5: {=_xlfn.LET(_xlpm.nbNotes,SUMPRODUCT((notes!$A$1:$A$200=G$1)*(notes!$B$1:$J$200=$A5)),IF(_xlpm.nbNotes>0,_xlpm.nbNotes,""))} | H5: {=_xlfn.LET(_xlpm.nbNotes,SUMPRODUCT((notes!$A$1:$A$200=H$1)*(notes!$B$1:$J$200=$A5)),IF(_xlpm.nbNotes>0,_xlpm.nbNotes,""))} | I5: {=_xlfn.LET(_xlpm.nbNotes,SUMPRODUCT((notes!$A$1:$A$200=I$1)*(notes!$B$1:$J$200=$A5)),IF(_xlpm.nbNotes>0,_xlpm.nbNotes,""))} | ... N5: {=_xlfn.LET(_xlpm.nbNotes,SUMPRODUCT((notes!$A$1:$A$200=N$1)*(notes!$B$1:$J$200=$A5)),IF(_xlpm.nbNotes>0,_xlpm.nbNotes,""))}
A6: 5 | B6: {=_xlfn.LET(_xlpm.nbNotes,SUMPRODUCT((notes!$A$1:$A$200=B$1)*(notes!$B$1:$J$200=$A6)),IF(_xlpm.nbNotes>0,_xlpm.nbNotes,""))} -> 1 | C6: {=_xlfn.LET(_xlpm.nbNotes,SUMPRODUCT((notes!$A$1:$A$200=C$1)*(notes!$B$1:$J$200=$A6)),IF(_xlpm.nbNotes>0,_xlpm.nbNotes,""))} | D6: {=_xlfn.LET(_xlpm.nbNotes,SUMPRODUCT((notes!$A$1:$A$200=D$1)*(notes!$B$1:$J$200=$A6)),IF(_xlpm.nbNotes>0,_xlpm.nbNotes,""))} | E6: {=_xlfn.LET(_xlpm.nbNotes,SUMPRODUCT((notes!$A$1:$A$200=E$1)*(notes!$B$1:$J$200=$A6)),IF(_xlpm.nbNotes>0,_xlpm.nbNotes,""))} | F6: {=_xlfn.LET(_xlpm.nbNotes,SUMPRODUCT((notes!$A$1:$A$200=F$1)*(notes!$B$1:$J$200=$A6)),IF(_xlpm.nbNotes>0,_xlpm.nbNotes,""))} | G6: {=_xlfn.LET(_xlpm.nbNotes,SUMPRODUCT((notes!$A$1:$A$200=G$1)*(notes!$B$1:$J$200=$A6)),IF(_xlpm.nbNotes>0,_xlpm.nbNotes,""))} | H6: {=_xlfn.LET(_xlpm.nbNotes,SUMPRODUCT((notes!$A$1:$A$200=H$1)*(notes!$B$1:$J$200=$A6)),IF(_xlpm.nbNotes>0,_xlpm.nbNotes,""))} -> 1 | I6: {=_xlfn.LET(_xlpm.nbNotes,SUMPRODUCT((notes!$A$1:$A$200=I$1)*(notes!$B$1:$J$200=$A6)),IF(_xlpm.nbNotes>0,_xlpm.nbNotes,""))} -> 1 | ... N6: {=_xlfn.LET(_xlpm.nbNotes,SUMPRODUCT((notes!$A$1:$A$200=N$1)*(notes!$B$1:$J$200=$A6)),IF(_xlpm.nbNotes>0,_xlpm.nbNotes,""))} -> 1
A7: 6 | B7: {=_xlfn.LET(_xlpm.nbNotes,SUMPRODUCT((notes!$A$1:$A$200=B$1)*(notes!$B$1:$J$200=$A7)),IF(_xlpm.nbNotes>0,_xlpm.nbNotes,""))} -> 1 | C7: {=_xlfn.LET(_xlpm.nbNotes,SUMPRODUCT((notes!$A$1:$A$200=C$1)*(notes!$B$1:$J$200=$A7)),IF(_xlpm.nbNotes>0,_xlpm.nbNotes,""))} | D7: {=_xlfn.LET(_xlpm.nbNotes,SUMPRODUCT((notes!$A$1:$A$200=D$1)*(notes!$B$1:$J$200=$A7)),IF(_xlpm.nbNotes>0,_xlpm.nbNotes,""))} -> 1 | E7: {=_xlfn.LET(_xlpm.nbNotes,SUMPRODUCT((notes!$A$1:$A$200=E$1)*(notes!$B$1:$J$200=$A7)),IF(_xlpm.nbNotes>0,_xlpm.nbNotes,""))} | F7: {=_xlfn.LET(_xlpm.nbNotes,SUMPRODUCT((notes!$A$1:$A$200=F$1)*(notes!$B$1:$J$200=$A7)),IF(_xlpm.nbNotes>0,_xlpm.nbNotes,""))} -> 1 | G7: {=_xlfn.LET(_xlpm.nbNotes,SUMPRODUCT((notes!$A$1:$A$200=G$1)*(notes!$B$1:$J$200=$A7)),IF(_xlpm.nbNotes>0,_xlpm.nbNotes,""))} -> 1 | H7: {=_xlfn.LET(_xlpm.nbNotes,SUMPRODUCT((notes!$A$1:$A$200=H$1)*(notes!$B$1:$J$200=$A7)),IF(_xlpm.nbNotes>0,_xlpm.nbNotes,""))} | I7: {=_xlfn.LET(_xlpm.nbNotes,SUMPRODUCT((notes!$A$1:$A$200=I$1)*(notes!$B$1:$J$200=$A7)),IF(_xlpm.nbNotes>0,_xlpm.nbNotes,""))} -> 1 | ... N7: {=_xlfn.LET(_xlpm.nbNotes,SUMPRODUCT((notes!$A$1:$A$200=N$1)*(notes!$B$1:$J$200=$A7)),IF(_xlpm.nbNotes>0,_xlpm.nbNotes,""))} -> 1
A8: 7 | B8: {=_xlfn.LET(_xlpm.nbNotes,SUMPRODUCT((notes!$A$1:$A$200=B$1)*(notes!$B$1:$J$200=$A8)),IF(_xlpm.nbNotes>0,_xlpm.nbNotes,""))} -> 1 | C8: {=_xlfn.LET(_xlpm.nbNotes,SUMPRODUCT((notes!$A$1:$A$200=C$1)*(notes!$B$1:$J$200=$A8)),IF(_xlpm.nbNotes>0,_xlpm.nbNotes,""))} -> 1 | D8: {=_xlfn.LET(_xlpm.nbNotes,SUMPRODUCT((notes!$A$1:$A$200=D$1)*(notes!$B$1:$J$200=$A8)),IF(_xlpm.nbNotes>0,_xlpm.nbNotes,""))} | E8: {=_xlfn.LET(_xlpm.nbNotes,SUMPRODUCT((notes!$A$1:$A$200=E$1)*(notes!$B$1:$J$200=$A8)),IF(_xlpm.nbNotes>0,_xlpm.nbNotes,""))} -> 1 | F8: {=_xlfn.LET(_xlpm.nbNotes,SUMPRODUCT((notes!$A$1:$A$200=F$1)*(notes!$B$1:$J$200=$A8)),IF(_xlpm.nbNotes>0,_xlpm.nbNotes,""))} | G8: {=_xlfn.LET(_xlpm.nbNotes,SUMPRODUCT((notes!$A$1:$A$200=G$1)*(notes!$B$1:$J$200=$A8)),IF(_xlpm.nbNotes>0,_xlpm.nbNotes,""))} | H8: {=_xlfn.LET(_xlpm.nbNotes,SUMPRODUCT((notes!$A$1:$A$200=H$1)*(notes!$B$1:$J$200=$A8)),IF(_xlpm.nbNotes>0,_xlpm.nbNotes,""))} -> 1 | I8: {=_xlfn.LET(_xlpm.nbNotes,SUMPRODUCT((notes!$A$1:$A$200=I$1)*(notes!$B$1:$J$200=$A8)),IF(_xlpm.nbNotes>0,_xlpm.nbNotes,""))} | ... N8: {=_xlfn.LET(_xlpm.nbNotes,SUMPRODUCT((notes!$A$1:$A$200=N$1)*(notes!$B$1:$J$200=$A8)),IF(_xlpm.nbNotes>0,_xlpm.nbNotes,""))} -> 1
A9: 8 | B9: {=_xlfn.LET(_xlpm.nbNotes,SUMPRODUCT((notes!$A$1:$A$200=B$1)*(notes!$B$1:$J$200=$A9)),IF(_xlpm.nbNotes>0,_xlpm.nbNotes,""))} -> 2 | C9: {=_xlfn.LET(_xlpm.nbNotes,SUMPRODUCT((notes!$A$1:$A$200=C$1)*(notes!$B$1:$J$200=$A9)),IF(_xlpm.nbNotes>0,_xlpm.nbNotes,""))} -> 2 | D9: {=_xlfn.LET(_xlpm.nbNotes,SUMPRODUCT((notes!$A$1:$A$200=D$1)*(notes!$B$1:$J$200=$A9)),IF(_xlpm.nbNotes>0,_xlpm.nbNotes,""))} -> 1 | E9: {=_xlfn.LET(_xlpm.nbNotes,SUMPRODUCT((notes!$A$1:$A$200=E$1)*(notes!$B$1:$J$200=$A9)),IF(_xlpm.nbNotes>0,_xlpm.nbNotes,""))} -> 2 | F9: {=_xlfn.LET(_xlpm.nbNotes,SUMPRODUCT((notes!$A$1:$A$200=F$1)*(notes!$B$1:$J$200=$A9)),IF(_xlpm.nbNotes>0,_xlpm.nbNotes,""))} -> 2 | G9: {=_xlfn.LET(_xlpm.nbNotes,SUMPRODUCT((notes!$A$1:$A$200=G$1)*(notes!$B$1:$J$200=$A9)),IF(_xlpm.nbNotes>0,_xlpm.nbNotes,""))} -> 1 | H9: {=_xlfn.LET(_xlpm.nbNotes,SUMPRODUCT((notes!$A$1:$A$200=H$1)*(notes!$B$1:$J$200=$A9)),IF(_xlpm.nbNotes>0,_xlpm.nbNotes,""))} -> 3 | I9: {=_xlfn.LET(_xlpm.nbNotes,SUMPRODUCT((notes!$A$1:$A$200=I$1)*(notes!$B$1:$J$200=$A9)),IF(_xlpm.nbNotes>0,_xlpm.nbNotes,""))} -> 2 | ... N9: {=_xlfn.LET(_xlpm.nbNotes,SUMPRODUCT((notes!$A$1:$A$200=N$1)*(notes!$B$1:$J$200=$A9)),IF(_xlpm.nbNotes>0,_xlpm.nbNotes,""))} -> 2
A10: 9 | B10: {=_xlfn.LET(_xlpm.nbNotes,SUMPRODUCT((notes!$A$1:$A$200=B$1)*(notes!$B$1:$J$200=$A10)),IF(_xlpm.nbNotes>0,_xlpm.nbNotes,""))} -> 1 | C10: {=_xlfn.LET(_xlpm.nbNotes,SUMPRODUCT((notes!$A$1:$A$200=C$1)*(notes!$B$1:$J$200=$A10)),IF(_xlpm.nbNotes>0,_xlpm.nbNotes,""))} -> 1 | D10: {=_xlfn.LET(_xlpm.nbNotes,SUMPRODUCT((notes!$A$1:$A$200=D$1)*(notes!$B$1:$J$200=$A10)),IF(_xlpm.nbNotes>0,_xlpm.nbNotes,""))} -> 1 | E10: {=_xlfn.LET(_xlpm.nbNotes,SUMPRODUCT((notes!$A$1:$A$200=E$1)*(notes!$B$1:$J$200=$A10)),IF(_xlpm.nbNotes>0,_xlpm.nbNotes,""))} | F10: {=_xlfn.LET(_xlpm.nbNotes,SUMPRODUCT((notes!$A$1:$A$200=F$1)*(notes!$B$1:$J$200=$A10)),IF(_xlpm.nbNotes>0,_xlpm.nbNotes,""))} -> 1 | G10: {=_xlfn.LET(_xlpm.nbNotes,SUMPRODUCT((notes!$A$1:$A$200=G$1)*(notes!$B$1:$J$200=$A10)),IF(_xlpm.nbNotes>0,_xlpm.nbNotes,""))} -> 1 | H10: {=_xlfn.LET(_xlpm.nbNotes,SUMPRODUCT((notes!$A$1:$A$200=H$1)*(notes!$B$1:$J$200=$A10)),IF(_xlpm.nbNotes>0,_xlpm.nbNotes,""))} -> 1 | I10: {=_xlfn.LET(_xlpm.nbNotes,SUMPRODUCT((notes!$A$1:$A$200=I$1)*(notes!$B$1:$J$200=$A10)),IF(_xlpm.nbNotes>0,_xlpm.nbNotes,""))} -> 2 | ... N10: {=_xlfn.LET(_xlpm.nbNotes,SUMPRODUCT((notes!$A$1:$A$200=N$1)*(notes!$B$1:$J$200=$A10)),IF(_xlpm.nbNotes>0,_xlpm.nbNotes,""))} -> 1
A11: 10 | B11: {=_xlfn.LET(_xlpm.nbNotes,SUMPRODUCT((notes!$A$1:$A$200=B$1)*(notes!$B$1:$J$200=$A11)),IF(_xlpm.nbNotes>0,_xlpm.nbNotes,""))} -> 2 | C11: {=_xlfn.LET(_xlpm.nbNotes,SUMPRODUCT((notes!$A$1:$A$200=C$1)*(notes!$B$1:$J$200=$A11)),IF(_xlpm.nbNotes>0,_xlpm.nbNotes,""))} | D11: {=_xlfn.LET(_xlpm.nbNotes,SUMPRODUCT((notes!$A$1:$A$200=D$1)*(notes!$B$1:$J$200=$A11)),IF(_xlpm.nbNotes>0,_xlpm.nbNotes,""))} -> 1 | E11: {=_xlfn.LET(_xlpm.nbNotes,SUMPRODUCT((notes!$A$1:$A$200=E$1)*(notes!$B$1:$J$200=$A11)),IF(_xlpm.nbNotes>0,_xlpm.nbNotes,""))} | F11: {=_xlfn.LET(_xlpm.nbNotes,SUMPRODUCT((notes!$A$1:$A$200=F$1)*(notes!$B$1:$J$200=$A11)),IF(_xlpm.nbNotes>0,_xlpm.nbNotes,""))} -> 1 | G11: {=_xlfn.LET(_xlpm.nbNotes,SUMPRODUCT((notes!$A$1:$A$200=G$1)*(notes!$B$1:$J$200=$A11)),IF(_xlpm.nbNotes>0,_xlpm.nbNotes,""))} -> 1 | H11: {=_xlfn.LET(_xlpm.nbNotes,SUMPRODUCT((notes!$A$1:$A$200=H$1)*(notes!$B$1:$J$200=$A11)),IF(_xlpm.nbNotes>0,_xlpm.nbNotes,""))} -> 1 | I11: {=_xlfn.LET(_xlpm.nbNotes,SUMPRODUCT((notes!$A$1:$A$200=I$1)*(notes!$B$1:$J$200=$A11)),IF(_xlpm.nbNotes>0,_xlpm.nbNotes,""))} -> 2 | ... N11: {=_xlfn.LET(_xlpm.nbNotes,SUMPRODUCT((notes!$A$1:$A$200=N$1)*(notes!$B$1:$J$200=$A11)),IF(_xlpm.nbNotes>0,_xlpm.nbNotes,""))} -> 2
A12: 11 | B12: {=_xlfn.LET(_xlpm.nbNotes,SUMPRODUCT((notes!$A$1:$A$200=B$1)*(notes!$B$1:$J$200=$A12)),IF(_xlpm.nbNotes>0,_xlpm.nbNotes,""))} | C12: {=_xlfn.LET(_xlpm.nbNotes,SUMPRODUCT((notes!$A$1:$A$200=C$1)*(notes!$B$1:$J$200=$A12)),IF(_xlpm.nbNotes>0,_xlpm.nbNotes,""))} | D12: {=_xlfn.LET(_xlpm.nbNotes,SUMPRODUCT((notes!$A$1:$A$200=D$1)*(notes!$B$1:$J$200=$A12)),IF(_xlpm.nbNotes>0,_xlpm.nbNotes,""))} | E12: {=_xlfn.LET(_xlpm.nbNotes,SUMPRODUCT((notes!$A$1:$A$200=E$1)*(notes!$B$1:$J$200=$A12)),IF(_xlpm.nbNotes>0,_xlpm.nbNotes,""))} | F12: {=_xlfn.LET(_xlpm.nbNotes,SUMPRODUCT((notes!$A$1:$A$200=F$1)*(notes!$B$1:$J$200=$A12)),IF(_xlpm.nbNotes>0,_xlpm.nbNotes,""))} | G12: {=_xlfn.LET(_xlpm.nbNotes,SUMPRODUCT((notes!$A$1:$A$200=G$1)*(notes!$B$1:$J$200=$A12)),IF(_xlpm.nbNotes>0,_xlpm.nbNotes,""))} | H12: {=_xlfn.LET(_xlpm.nbNotes,SUMPRODUCT((notes!$A$1:$A$200=H$1)*(notes!$B$1:$J$200=$A12)),IF(_xlpm.nbNotes>0,_xlpm.nbNotes,""))} | I12: {=_xlfn.LET(_xlpm.nbNotes,SUMPRODUCT((notes!$A$1:$A$200=I$1)*(notes!$B$1:$J$200=$A12)),IF(_xlpm.nbNotes>0,_xlpm.nbNotes,""))} | ... N12: {=_xlfn.LET(_xlpm.nbNotes,SUMPRODUCT((notes!$A$1:$A$200=N$1)*(notes!$B$1:$J$200=$A12)),IF(_xlpm.nbNotes>0,_xlpm.nbNotes,""))}
A13: 12 | B13: {=_xlfn.LET(_xlpm.nbNotes,SUMPRODUCT((notes!$A$1:$A$200=B$1)*(notes!$B$1:$J$200=$A13)),IF(_xlpm.nbNotes>0,_xlpm.nbNotes,""))} -> 1 | C13: {=_xlfn.LET(_xlpm.nbNotes,SUMPRODUCT((notes!$A$1:$A$200=C$1)*(notes!$B$1:$J$200=$A13)),IF(_xlpm.nbNotes>0,_xlpm.nbNotes,""))} | D13: {=_xlfn.LET(_xlpm.nbNotes,SUMPRODUCT((notes!$A$1:$A$200=D$1)*(notes!$B$1:$J$200=$A13)),IF(_xlpm.nbNotes>0,_xlpm.nbNotes,""))} -> 1 | E13: {=_xlfn.LET(_xlpm.nbNotes,SUMPRODUCT((notes!$A$1:$A$200=E$1)*(notes!$B$1:$J$200=$A13)),IF(_xlpm.nbNotes>0,_xlpm.nbNotes,""))} | F13: {=_xlfn.LET(_xlpm.nbNotes,SUMPRODUCT((notes!$A$1:$A$200=F$1)*(notes!$B$1:$J$200=$A13)),IF(_xlpm.nbNotes>0,_xlpm.nbNotes,""))} | G13: {=_xlfn.LET(_xlpm.nbNotes,SUMPRODUCT((notes!$A$1:$A$200=G$1)*(notes!$B$1:$J$200=$A13)),IF(_xlpm.nbNotes>0,_xlpm.nbNotes,""))} -> 1 | H13: {=_xlfn.LET(_xlpm.nbNotes,SUMPRODUCT((notes!$A$1:$A$200=H$1)*(notes!$B$1:$J$200=$A13)),IF(_xlpm.nbNotes>0,_xlpm.nbNotes,""))} | I13: {=_xlfn.LET(_xlpm.nbNotes,SUMPRODUCT((notes!$A$1:$A$200=I$1)*(notes!$B$1:$J$200=$A13)),IF(_xlpm.nbNotes>0,_xlpm.nbNotes,""))} -> 1 | ... N13: {=_xlfn.LET(_xlpm.nbNotes,SUMPRODUCT((notes!$A$1:$A$200=N$1)*(notes!$B$1:$J$200=$A13)),IF(_xlpm.nbNotes>0,_xlpm.nbNotes,""))} -> 1
... A101: 100 | B101: {=_xlfn.LET(_xlpm.nbNotes,SUMPRODUCT((notes!$A$1:$A$200=B$1)*(notes!$B$1:$J$200=$A101)),IF(_xlpm.nbNotes>0,_xlpm.nbNotes,""))} | C101: {=_xlfn.LET(_xlpm.nbNotes,SUMPRODUCT((notes!$A$1:$A$200=C$1)*(notes!$B$1:$J$200=$A101)),IF(_xlpm.nbNotes>0,_xlpm.nbNotes,""))} | D101: {=_xlfn.LET(_xlpm.nbNotes,SUMPRODUCT((notes!$A$1:$A$200=D$1)*(notes!$B$1:$J$200=$A101)),IF(_xlpm.nbNotes>0,_xlpm.nbNotes,""))} | E101: {=_xlfn.LET(_xlpm.nbNotes,SUMPRODUCT((notes!$A$1:$A$200=E$1)*(notes!$B$1:$J$200=$A101)),IF(_xlpm.nbNotes>0,_xlpm.nbNotes,""))} | F101: {=_xlfn.LET(_xlpm.nbNotes,SUMPRODUCT((notes!$A$1:$A$200=F$1)*(notes!$B$1:$J$200=$A101)),IF(_xlpm.nbNotes>0,_xlpm.nbNotes,""))} | G101: {=_xlfn.LET(_xlpm.nbNotes,SUMPRODUCT((notes!$A$1:$A$200=G$1)*(notes!$B$1:$J$200=$A101)),IF(_xlpm.nbNotes>0,_xlpm.nbNotes,""))} | H101: {=_xlfn.LET(_xlpm.nbNotes,SUMPRODUCT((notes!$A$1:$A$200=H$1)*(notes!$B$1:$J$200=$A101)),IF(_xlpm.nbNotes>0,_xlpm.nbNotes,""))} | I101: {=_xlfn.LET(_xlpm.nbNotes,SUMPRODUCT((notes!$A$1:$A$200=I$1)*(notes!$B$1:$J$200=$A101)),IF(_xlpm.nbNotes>0,_xlpm.nbNotes,""))} | ... N101: {=_xlfn.LET(_xlpm.nbNotes,SUMPRODUCT((notes!$A$1:$A$200=N$1)*(notes!$B$1:$J$200=$A101)),IF(_xlpm.nbNotes>0,_xlpm.nbNotes,""))}

Sheet notes
A1: Jean | B1: 12 | C1: 22 | D1: 48 | E1: 60 | F1: 1 | G1: 22 | H1: 8 | I1: 32 | J1: 20
A2: Marc | B2: 13 | C2: 8 | D2: 31 | E2: 15 | F2: 5 | G2: 20 | H2: 9 | I2: 45 | J2: 10
A3: Adele | B3: 31 | C3: 15 | D3: 29 | E3: 21 | F3: 2 | G3: 22 | H3: 48 | I3: 60 | J3: 7
A4: Samy | B4: 29 | C4: 21 | D4: 1 | E4: 24 | F4: 8 | G4: 8 | H4: 31 | I4: 15 | J4: 16
A5: Leon | B5: 1 | C5: 24 | D5: 21 | E5: 31 | F5: 13 | G5: 15 | H5: 29 | I5: 21 | J5: 55
A6: Albert | B6: 21 | C6: 31 | D6: 20 | E6: 59 | F6: 9 | G6: 21 | H6: 1 | I6: 24 | J6: 2
A7: Denis | B7: 10 | C7: 40 | D7: 48 | E7: 3 | F7: 19 | G7: 34 | H7: 25 | I7: 6 | J7: 1
A8: Brendon | B8: 12 | C8: 22 | D8: 48 | E8: 60 | F8: 1 | G8: 22 | H8: 8 | I8: 32 | J8: 20
A9: Sia | B9: 13 | C9: 8 | D9: 31 | E9: 15 | F9: 5 | G9: 20 | H9: 9 | I9: 45 | J9: 10
A10: Ulysse | B10: 31 | C10: 15 | D10: 29 | E10: 21 | F10: 2 | G10: 22 | H10: 48 | I10: 60 | J10: 7
A11: Taylor | B11: 29 | C11: 21 | D11: 1 | E11: 24 | F11: 8 | G11: 8 | H11: 31 | I11: 15 | J11: 16
A12: Celine | B12: 1 | C12: 24 | D12: 21 | E12: 31 | F12: 13 | G12: 15 | H12: 29 | I12: 21 | J12: 55
... A50: Taylor | B50: 12 | C50: 22 | D50: 48 | E50: 60 | F50: 1 | G50: 22 | H50: 8 | I50: 32 | J50: 20
