Workbook
Name A_CSR_1: Tables!$F$18:$H$21
Name A_CSR_2: Tables!$L$18:$N$21
Name CompNum: Scores!$H$5
Name E_CSR_1: Tables!$F$7:$H$10
Name E_CSR_2: Tables!$L$7:$N$10
Name ElemNum: Scores!$H$7
Name Fed_Comp: #REF!
Name FedCode: Tables!$T$6:$T$214
Name Federations: Tables!$T$6:$U$214
Name FedName: Tables!$U$6:$U$214
Name Judge_1: Scores!$J$13
Name Judge_2: Scores!$J$14
Name Judge_3: Scores!$J$15
Name Judge_4: Scores!$J$16
Name Judge_5: Scores!$J$17
Name Qualif: Tables!$D$31:$R$41

Sheet Scores
C1: SCORES INPUT | J1: Instructions:
J2: 1. Clear all score entry tables
C3: Competition: | J3: 2. Input scores
J4: 3. Correct any fields which are not in NUMBER format
C5: Event: | G5: # Competitors: | H5: 30
K6: # of lines required = | L6: =H5*(H7+3) -> 360 | M6: ="("&TEXT(H5*H7,"0")&" Elem + "&TEXT(H5*3,"0")&" Impr)" -> (270 Elem + 90 Impr)
C7: Date: | G7: # Elements: | H7: 9 | I7: =IF(H7>11,"11 MAX","-") -> - | K7: # of lines with valid data = | L7: =COUNTIF(J38:J934,"ok") -> 0 | M7: =COUNTIF(J38:J934,"ok")+COUNTIF(J38:J934,".")+COUNTIF(J38:J934,"-") -> 340 | N7: =COUNT(P38:P934) -> 700
K8: # of lines with invalid data = | L8: =N7-M7 -> 360 | M8: =IF(L8>0,"Please check input!",IF(L7=L6,"Done!", IF(L7<L6,"Please input data","CLEAR excess lines"))) -> Please check input!
J9: =IF(COUNTIF(E36:E934,"- Please choose a Federation code")<>0,"Competitor Federation codes incomplete. Please check input","Competitor Federation codes ok") -> Competitor Federation codes incomplete. Please check input
C12: Elements Judges - input Federation codes | J12: Elements Judge name
C13: Judge 1 | D13: FRA | E13: =IF(ISBLANK(D13),"-",VLOOKUP(D13,Federations,2)) -> France-FRA | I13: Judge 1 | J13: XX1 | L13: =VLOOKUP(J13,'Clubs-Juges'!B:C,2,0) -> OFFICIEL---------A
C14: Judge 2 | D14: FRA | E14: =IF(ISBLANK(D14),"-",VLOOKUP(D14,Federations,2)) -> France-FRA | I14: Judge 2 | J14: XX2 | L14: =VLOOKUP(J14,'Clubs-Juges'!B:C,2,0) -> OFFICIEL---------B
C15: Judge 3 | D15: FRA | E15: =IF(ISBLANK(D15),"-",VLOOKUP(D15,Federations,2)) -> France-FRA | I15: Judge 3 | J15: XX3 | L15: =VLOOKUP(J15,'Clubs-Juges'!B:C,2,0) -> OFFICIEL---------C
C16: Judge 4 | D16: FRA | E16: =IF(ISBLANK(D16),"-",VLOOKUP(D16,Federations,2)) -> France-FRA | I16: Judge 4 | J16: XX4 | L16: =VLOOKUP(J16,'Clubs-Juges'!B:C,2,0) -> OFFICIEL---------D
C17: Judge 5 | D17: FRA | E17: =IF(ISBLANK(D17),"-",VLOOKUP(D17,Federations,2)) -> France-FRA | I17: Judge 5 | J17: XX5 | L17: =VLOOKUP(J17,'Clubs-Juges'!B:C,2,0) -> OFFICIEL---------A
C19: Sh. Judge 1 | D19: FRA | E19: =IF(ISBLANK(D19),"-",VLOOKUP(D19,Federations,2)) -> France-FRA | I19: Sh. Judge 1 | J19: YY1 | L19: =VLOOKUP(J19,'Clubs-Juges'!B:C,2,0) -> OFFICIEL---------B
C20: Sh. Judge 2 | D20: FRA | E20: =IF(ISBLANK(D20),"-",VLOOKUP(D20,Federations,2)) -> France-FRA | I20: Sh. Judge 2 | J20: YY2 | L20: =VLOOKUP(J20,'Clubs-Juges'!B:C,2,0) -> OFFICIEL---------C
C21: Sh. Judge 3 | D21: FRA | E21: =IF(ISBLANK(D21),"-",VLOOKUP(D21,Federations,2)) -> France-FRA | I21: Sh. Judge 3 | J21: YY3 | L21: =VLOOKUP(J21,'Clubs-Juges'!B:C,2,0) -> OFFICIEL---------D
I22: Sh. Judge 4 | J22: YY4 | L22: =VLOOKUP(J22,'Clubs-Juges'!B:C,2,0) -> OFFICIEL---------A
C23: Artistic impressions Judges - input Federation codes | J23: Artistic Impression Judge name
C24: Judge 1a | D24: FRA | E24: =IF(ISBLANK(D24),"-",VLOOKUP(D24,Federations,2)) -> France-FRA | I24: Judge 1a | J24: ZZ1 | L24: =VLOOKUP(J24,'Clubs-Juges'!B:C,2,0) -> OFFICIEL---------A
C25: Judge 2a | D25: FRA | E25: =IF(ISBLANK(D25),"-",VLOOKUP(D25,Federations,2)) -> France-FRA | I25: Judge 2a | J25: ZZ2 | L25: =VLOOKUP(J25,'Clubs-Juges'!B:C,2,0) -> OFFICIEL---------A
C26: Judge 3a | D26: FRA | E26: =IF(ISBLANK(D26),"-",VLOOKUP(D26,Federations,2)) -> France-FRA | I26: Judge 3a | J26: ZZ3 | L26: =VLOOKUP(J26,'Clubs-Juges'!B:C,2,0) -> OFFICIEL---------C
C27: Judge 4a | D27: FRA | E27: =IF(ISBLANK(D27),"-",VLOOKUP(D27,Federations,2)) -> France-FRA | I27: Judge 4a | J27: ZZ4 | L27: =VLOOKUP(J27,'Clubs-Juges'!B:C,2,0) -> OFFICIEL---------C
C28: Judge 5a | D28: FRA | E28: =IF(ISBLANK(D28),"-",VLOOKUP(D28,Federations,2)) -> France-FRA | I28: Judge 5a | J28: ZZ5 | L28: =VLOOKUP(J28,'Clubs-Juges'!B:C,2,0) -> OFFICIEL---------C
C30: Sh. Judge 1a | D30: FRA | E30: =IF(ISBLANK(D30),"-",VLOOKUP(D30,Federations,2)) -> France-FRA | I30: Sh. Judge 1a | J30: WW1 | L30: =VLOOKUP(J30,'Clubs-Juges'!B:C,2,0) -> OFFICIEL---------D
C31: Sh. Judge 2a | D31: FRA | E31: =IF(ISBLANK(D31),"-",VLOOKUP(D31,Federations,2)) -> France-FRA | I31: Sh. Judge 2a | J31: WW2 | L31: =VLOOKUP(J31,'Clubs-Juges'!B:C,2,0) -> OFFICIEL---------D
C32: Sh. Judge 3a | D32: FRA | E32: =IF(ISBLANK(D32),"-",VLOOKUP(D32,Federations,2)) -> France-FRA | I32: Sh. Judge 3a | J32: WW3 | L32: =VLOOKUP(J32,'Clubs-Juges'!B:C,2,0) -> OFFICIEL---------D | R32: Please clear table of shadow judges
I33: Sh. Judge 4a | J33: WW3 | L33: =VLOOKUP(J33,'Clubs-Juges'!B:C,2,0) -> OFFICIEL---------D | R33: prior to entering new data
C34: RANKING | D34: Input Federation Code and scores for each competitor BY RANKING
A36: 1 | C36: =TEXT(A36,"0")&" - Club:" -> 1 - Club: | D36: Flaxieu | I36: . | J36: =IF(A36>$H$5,"Please leave scores blank","Please input "&TEXT($H$7,"0")&" lines for Elements and 3 for Impressions") -> Please input 9 lines for Elements and 3 for Impressions | R36: Shadow Judges
D37: {=Judge_1} -> XX1 | E37: =Judge_2 -> XX2 | F37: =Judge_3 -> XX3 | G37: =Judge_4 -> XX4 | H37: =Judge_5 -> XX5 | R37: Sh. Judge 1 | S37: Sh. Judge 2 | T37: Sh. Judge 3 | U37: Sh. Judge 4
A38: =A36 -> 1 | C38: E1 | J38: =IF(A38>$H$5,IF(COUNTA(D38:H38)=0,"-","<= Please clear inputs"),IF(P38<=$H$7, IF(AND(COUNTA(D38:H38)=5,ISNUMBER(H38+G38+F38+E38+D38)),IF(AND(D38>=0,D38<=10,E38>=0,E38<=10,F38>=0,F38<=10,G38>=0,G38<=10,H38>=0,H38<=10),"ok","<= scores must be numbers from 0 to 10"),"<= Please input 5 scores as numbers"), IF(COUNTA(D38:H38)=0,".","Please clear excess line"))) -> <= Please input 5 scores as numbers | P38: 1 | V38: =IF(A38>$H$5,IF(COUNTA(R38:T38)=0,"-","Please clear excess line"),".") -> .
A39: =A38 -> 1 | C39: E2 | J39: =IF(A39>$H$5,IF(COUNTA(D39:H39)=0,"-","<= Please clear inputs"),IF(P39<=$H$7, IF(AND(COUNTA(D39:H39)=5,ISNUMBER(H39+G39+F39+E39+D39)),IF(AND(D39>=0,D39<=10,E39>=0,E39<=10,F39>=0,F39<=10,G39>=0,G39<=10,H39>=0,H39<=10),"ok","<= scores must be numbers from 0 to 10"),"<= Please input 5 scores as numbers"), IF(COUNTA(D39:H39)=0,".","Please clear excess line"))) -> <= Please input 5 scores as numbers | P39: 2 | V39: =IF(A39>$H$5,IF(COUNTA(R39:T39)=0,"-","Please clear excess line"),".") -> .
A40: =A39 -> 1 | C40: E3 | J40: =IF(A40>$H$5,IF(COUNTA(D40:H40)=0,"-","<= Please clear inputs"),IF(P40<=$H$7, IF(AND(COUNTA(D40:H40)=5,ISNUMBER(H40+G40+F40+E40+D40)),IF(AND(D40>=0,D40<=10,E40>=0,E40<=10,F40>=0,F40<=10,G40>=0,G40<=10,H40>=0,H40<=10),"ok","<= scores must be numbers from 0 to 10"),"<= Please input 5 scores as numbers"), IF(COUNTA(D40:H40)=0,".","Please clear excess line"))) -> <= Please input 5 scores as numbers | P40: 3 | V40: =IF(A40>$H$5,IF(COUNTA(R40:T40)=0,"-","Please clear excess line"),".") -> .
A41: =A40 -> 1 | C41: E4 | J41: =IF(A41>$H$5,IF(COUNTA(D41:H41)=0,"-","<= Please clear inputs"),IF(P41<=$H$7, IF(AND(COUNTA(D41:H41)=5,ISNUMBER(H41+G41+F41+E41+D41)),IF(AND(D41>=0,D41<=10,E41>=0,E41<=10,F41>=0,F41<=10,G41>=0,G41<=10,H41>=0,H41<=10),"ok","<= scores must be numbers from 0 to 10"),"<= Please input 5 scores as numbers"), IF(COUNTA(D41:H41)=0,".","Please clear excess line"))) -> <= Please input 5 scores as numbers | P41: 4 | V41: =IF(A41>$H$5,IF(COUNTA(R41:T41)=0,"-","Please clear excess line"),".") -> .
A42: =A41 -> 1 | C42: E5 | J42: =IF(A42>$H$5,IF(COUNTA(D42:H42)=0,"-","<= Please clear inputs"),IF(P42<=$H$7, IF(AND(COUNTA(D42:H42)=5,ISNUMBER(H42+G42+F42+E42+D42)),IF(AND(D42>=0,D42<=10,E42>=0,E42<=10,F42>=0,F42<=10,G42>=0,G42<=10,H42>=0,H42<=10),"ok","<= scores must be numbers from 0 to 10"),"<= Please input 5 scores as numbers"), IF(COUNTA(D42:H42)=0,".","Please clear excess line"))) -> <= Please input 5 scores as numbers | P42: 5 | V42: =IF(A42>$H$5,IF(COUNTA(R42:T42)=0,"-","Please clear excess line"),".") -> .
A43: =A42 -> 1 | C43: E6 | J43: =IF(A43>$H$5,IF(COUNTA(D43:H43)=0,"-","<= Please clear inputs"),IF(P43<=$H$7, IF(AND(COUNTA(D43:H43)=5,ISNUMBER(H43+G43+F43+E43+D43)),IF(AND(D43>=0,D43<=10,E43>=0,E43<=10,F43>=0,F43<=10,G43>=0,G43<=10,H43>=0,H43<=10),"ok","<= scores must be numbers from 0 to 10"),"<= Please input 5 scores as numbers"), IF(COUNTA(D43:H43)=0,".","Please clear excess line"))) -> <= Please input 5 scores as numbers | P43: 6 | V43: =IF(A43>$H$5,IF(COUNTA(R43:T43)=0,"-","Please clear excess line"),".") -> .
A44: =A43 -> 1 | C44: E7 | J44: =IF(A44>$H$5,IF(COUNTA(D44:H44)=0,"-","<= Please clear inputs"),IF(P44<=$H$7, IF(AND(COUNTA(D44:H44)=5,ISNUMBER(H44+G44+F44+E44+D44)),IF(AND(D44>=0,D44<=10,E44>=0,E44<=10,F44>=0,F44<=10,G44>=0,G44<=10,H44>=0,H44<=10),"ok","<= scores must be numbers from 0 to 10"),"<= Please input 5 scores as numbers"), IF(COUNTA(D44:H44)=0,".","Please clear excess line"))) -> <= Please input 5 scores as numbers | P44: 7 | V44: =IF(A44>$H$5,IF(COUNTA(R44:T44)=0,"-","Please clear excess line"),".") -> .
A45: =A44 -> 1 | C45: E8 | J45: =IF(A45>$H$5,IF(COUNTA(D45:H45)=0,"-","<= Please clear inputs"),IF(P45<=$H$7, IF(AND(COUNTA(D45:H45)=5,ISNUMBER(H45+G45+F45+E45+D45)),IF(AND(D45>=0,D45<=10,E45>=0,E45<=10,F45>=0,F45<=10,G45>=0,G45<=10,H45>=0,H45<=10),"ok","<= scores must be numbers from 0 to 10"),"<= Please input 5 scores as numbers"), IF(COUNTA(D45:H45)=0,".","Please clear excess line"))) -> <= Please input 5 scores as numbers | P45: 8 | V45: =IF(A45>$H$5,IF(COUNTA(R45:T45)=0,"-","Please clear excess line"),".") -> .
...

Sheet Clubs-Juges
A11: Abergement-Clémenciat | B11: XX1 | C11: OFFICIEL---------A
A12: Abergement-de-Varey | B12: XX2 | C12: OFFICIEL---------B
A13: Ambérieu-en-Bugey | B13: XX3 | C13: OFFICIEL---------C
A14: Ambérieux-en-Dombes | B14: XX4 | C14: OFFICIEL---------D
A15: Ambléon | B15: XX5 | C15: OFFICIEL---------A
A16: Ambronay | B16: YY1 | C16: OFFICIEL---------B
A17: Ambutrix | B17: YY2 | C17: OFFICIEL---------C
A18: Andert-et-Condon | B18: YY3 | C18: OFFICIEL---------D
A19: Anglefort | B19: YY4 | C19: OFFICIEL---------A
A20: Apremont | B20: YY5 | C20: OFFICIEL---------A
A21: Aranc | B21: ZZ1 | C21: OFFICIEL---------A
A22: Arandas | B22: ZZ2 | C22: OFFICIEL---------A
... A30: Artemare | B30: WW5 | C30: OFFICIEL---------B
A31: Asnières-sur-Saône
A32: Attignat
A33: Bâgé-Dommartin
A34: Bâgé-la-Ville
A35: Bâgé-le-Châtel
A36: Balan
A37: Baneins
A38: Beaupont
A39: Beauregard
A40: Bellignat
A41: Béligneux
A42: Valserhône
... A291: Plantay

Sheet Tables
B1: TABLES
B3: Federations sorted by country name | D3: Elements - CSR Table 1 | J3: Elements - CSR Table 2 | U3: Federations
B4: (for reference only) | T4: Col 1 | U4: Col 2
F5: Number of Competitors up to: | G5: 12 | L5: Number of Competitors from: | M5: =G5+1 -> 13 | T5: FedCode | U5: FedName
B6: Afghanistan - AFG | E6: Deviation | F6: From | G6: Up to | H6: Points | K6: Deviation | L6: From | M6: Up to | N6: Points | T6: AFG | U6: Afghanistan - AFG
B7: Albania - ALB | F7: 0 | G7: 0.5 | H7: 0 | L7: 0 | M7: 0.5 | N7: 0 | T7: AGU | U7: Anguilla - AGU
B8: Algeria - ALG | F8: =G7+0.01 -> 0.51 | G8: =G7+0.2 -> 0.7 | H8: 1 | L8: =M7+0.01 -> 0.51 | M8: =0.3+M7 -> 0.8 | N8: 1 | T8: ALB | U8: Albania - ALB
B9: American Samoa - ASA | F9: =G8+0.01 -> 0.71 | G9: =G8+0.2 -> 0.9 | H9: 2 | L9: =M8+0.01 -> 0.81 | M9: =0.3+M8 -> 1.1 | N9: 2 | T9: ALG | U9: Algeria - ALG
B10: Andorra - AND | F10: =G9+0.01 -> 0.91 | G10: 999 | H10: 3 | L10: =M9+0.01 -> 1.11 | M10: 999 | N10: 3 | T10: AND | U10: Andorra - AND
B11: Angola - ANG | T11: ANG | U11: Angola - ANG
B12: Anguilla - AGU | T12: ANT | U12: Antigua and Barbuda - ANT
B13: Antigua and Barbuda - ANT | D13: Artistic Impression - CSR Table 1 | J13: Artistic Impression - CSR Table 2 | T13: ARG | U13: Argentina - ARG
B14: Argentina - ARG | T14: ARM | U14: Armenia - ARM
B15: Armenia - ARM | F15: Number of Competitors up to: | G15: 12 | L15: Number of Competitors from: | M15: =G15+1 -> 13 | T15: ARU | U15: Aruba - ARU
B16: Aruba - ARU | G16: Deviation | M16: Deviation | T16: ASA | U16: American Samoa - ASA
B17: Australia - AUS | F17: From | G17: Up to | H17: Points | L17: From | M17: Up to | N17: Points | T17: AUS | U17: Australia - AUS
B18: Austria - AUT | F18: 0 | G18: 0.5 | H18: 0 | L18: 0 | M18: 0.5 | N18: 0 | T18: AUT | U18: Austria - AUT
B19: Azerbaijan - AZE | F19: =G18+0.01 -> 0.51 | G19: =G18+0.2 -> 0.7 | H19: 1 | L19: =M18+0.01 -> 0.51 | M19: =0.3+M18 -> 0.8 | N19: 1 | T19: AZE | U19: Azerbaijan - AZE
B20: Bahamas - BAH | F20: =G19+0.01 -> 0.71 | G20: =G19+0.2 -> 0.9 | H20: 2 | L20: =M19+0.01 -> 0.81 | M20: =0.3+M19 -> 1.1 | N20: 2 | T20: BAH | U20: Bahamas - BAH
B21: Bahrain - BRN | F21: =G20+0.01 -> 0.91 | G21: 999 | H21: 3 | L21: =M20+0.01 -> 1.11 | M21: 99 | N21: 3 | T21: BAN | U21: Bangladesh - BAN
B22: Bangladesh - BAN | T22: BAR | U22: Barbados - BAR
B23: Barbados - BAR | T23: BDI | U23: Burundi - BDI
B24: Belarus - BLR | T24: BEL | U24: Belgium - BEL
B25: Belgium - BEL | T25: BEN | U25: Benin - BEN
B26: Belize - BIZ | T26: BER | U26: Bermuda - BER
B27: Benin - BEN | T27: BHU | U27: Bhutan - BHU
B28: Bermuda - BER | D28: Qualification Table | T28: BIH | U28: Bosnia and Herzegovina - BIH
B29: Bhutan - BHU | G29: Number of error points | T29: BIZ | U29: Belize - BIZ
B30: Bolivia - BOL | D30: # of Entries | F30: Row | G30: 0 | H30: 1 | I30: 2 | J30: 3 | K30: 4 | L30: 5 | M30: 6 | N30: 7 | O30: 8 | P30: 9 | Q30: 10 | R30: 11 | T30: BLR | U30: Belarus - BLR
B31: Bosnia and Herzegovina - BIH | D31: 0 | E31: 3 | F31: a | G31: 5 | H31: 3 | I31: 2 | J31: 1 | K31: 1 | L31: 1 | M31: 1 | N31: 1 | O31: 1 | P31: 1 | Q31: 1 | R31: 1 | T31: BOL | U31: Bolivia - BOL
B32: Botswana - BOT | D32: 4 | E32: 5 | F32: b | G32: 5 | H32: 4 | I32: 3 | J32: 2 | K32: 1 | L32: 1 | M32: 1 | N32: 1 | O32: 1 | P32: 1 | Q32: 1 | R32: 1 | T32: BOT | U32: Botswana - BOT
B33: Brazil - BRA | D33: 6 | E33: 9 | F33: c | G33: 5 | H33: 5 | I33: 4 | J33: 3 | K33: 2 | L33: 1 | M33: 1 | N33: 1 | O33: 1 | P33: 1 | Q33: 1 | R33: 1 | T33: BRA | U33: Brazil - BRA
B34: British Virgin Islands - IVB | D34: 10 | E34: 12 | F34: d | G34: 5 | H34: 5 | I34: 4 | J34: 3 | K34: 3 | L34: 2 | M34: 1 | N34: 1 | O34: 1 | P34: 1 | Q34: 1 | R34: 1 | T34: BRN | U34: Bahrain - BRN
B35: Brunei Darussalam - BRU | D35: 13 | E35: 16 | F35: e | G35: 5 | H35: 5 | I35: 4 | J35: 3 | K35: 3 | L35: 2 | M35: 2 | N35: 1 | O35: 1 | P35: 1 | Q35: 1 | R35: 1 | T35: BRU | U35: Brunei Darussalam - BRU
B36: Bulgaria - BUL | D36: =1+E35 -> 17 | E36: 20 | F36: f | G36: 5 | H36: 5 | I36: 5 | J36: 4 | K36: 3 | L36: 2 | M36: 2 | N36: 1 | O36: 1 | P36: 1 | Q36: 1 | R36: 1 | T36: BUL | U36: Bulgaria - BUL
B37: Burkina Faso - BUR | D37: =1+E36 -> 21 | E37: 25 | F37: g | G37: 5 | H37: 5 | I37: 5 | J37: 4 | K37: 4 | L37: 3 | M37: 2 | N37: 2 | O37: 1 | P37: 1 | Q37: 1 | R37: 1 | T37: BUR | U37: Burkina Faso - BUR
B38: Burundi - BDI | D38: =1+E37 -> 26 | E38: 30 | F38: h | G38: 5 | H38: 5 | I38: 5 | J38: 5 | K38: 4 | L38: 4 | M38: 3 | N38: 2 | O38: 2 | P38: 1 | Q38: 1 | R38: 1 | T38: CAF | U38: Central African Republic - CAF
B39: Cambodia - CAM | D39: =1+E38 -> 31 | E39: 35 | F39: i | G39: 5 | H39: 5 | I39: 5 | J39: 5 | K39: 5 | L39: 4 | M39: 3 | N39: 3 | O39: 2 | P39: 2 | Q39: 1 | R39: 1 | T39: CAM | U39: Cambodia - CAM
B40: Cameroon - CMR | D40: =1+E39 -> 36 | E40: 40 | F40: j | G40: 5 | H40: 5 | I40: 5 | J40: 5 | K40: 5 | L40: 4 | M40: 4 | N40: 3 | O40: 2 | P40: 2 | Q40: 1 | R40: 1 | T40: CAN | U40: Canada - CAN
B41: Canada - CAN | D41: =1+E40 -> 41 | E41: 99 | F41: k | G41: 5 | H41: 5 | I41: 5 | J41: 5 | K41: 5 | L41: 5 | M41: 4 | N41: 4 | O41: 3 | P41: 2 | Q41: 2 | R41: 1 | T41: CAY | U41: Cayman Islands - CAY
...
