Workbook
Name A_CSR_1: Tables!$F$18:$H$21
Name A_CSR_2: Tables!$L$18:$N$21
Name CompNum: Scores!$H$5
Name E_CSR_1: Tables!$F$7:$H$10
Name E_CSR_2: Tables!$L$7:$N$10
Name ElemNum: Scores!$H$7
Name Fed_Comp: #REF!
Name FedCode: Tables!$T$6:$T$214
Name Federations: Tables!$T$6:$U$214
Name FedName: Tables!$U$6:$U$214
Name Judge_1: Scores!$J$13
Name Judge_2: Scores!$J$14
Name Judge_3: Scores!$J$15
Name Judge_4: Scores!$J$16
Name Judge_5: Scores!$J$17
Name Qualif: Tables!$D$31:$R$41

Sheet Scores
C1: SCORES INPUT | J1: Instructions:
J2: 1. Clear all score entry tables
C3: Competition: | J3: 2. Input scores
J4: 3. Correct any fields which are not in NUMBER format
C5: Event: | G5: # Competitors: | H5: 30
K6: # of lines required = | L6: =H5*(H7+3) -> 360 | M6: ="("&TEXT(H5*H7,"0")&" Elem + "&TEXT(H5*3,"0")&" Impr)" -> (270 Elem + 90 Impr)
C7: Date: | G7: # Elements: | H7: 9 | I7: =IF(H7>11,"11 MAX","-") -> - | K7: # of lines with valid data = | L7: =COUNTIF(J38:J934,"ok") -> 0 | M7: =COUNTIF(J38:J934,"ok")+COUNTIF(J38:J934,".")+COUNTIF(J38:J934,"-") -> 340 | N7: =COUNT(P38:P934) -> 700
K8: # of lines with invalid data = | L8: =N7-M7 -> 360 | M8: =IF(L8>0,"Please check input!",IF(L7=L6,"Done!", IF(L7<L6,"Please input data","CLEAR excess lines"))) -> Please check input!
J9: =IF(COUNTIF(E36:E934,"- Please choose a Federation code")<>0,"Competitor Federation codes incomplete. Please check input","Competitor Federation codes ok") -> Competitor Federation codes incomplete. Please check input
C12: Elements Judges - input Federation codes | J12: Elements Judge name
C13: Judge 1 | D13: FRA | E13: =IF(ISBLANK(D13),"-",VLOOKUP(D13,Federations,2)) -> France-FRA | I13: Judge 1 | J13: XX1 | L13: =VLOOKUP(J13,'Clubs-Juges'!B:C,2,0) -> OFFICIEL---------A
C14: Judge 2 | D14: FRA | E14: =IF(ISBLANK(D14),"-",VLOOKUP(D14,Federations,2)) -> France-FRA | I14: Judge 2 | J14: XX2 | L14: =VLOOKUP(J14,'Clubs-Juges'!B:C,2,0) -> OFFICIEL---------B
C15: Judge 3 | D15: FRA | E15: =IF(ISBLANK(D15),"-",VLOOKUP(D15,Federations,2)) -> France-FRA | I15: Judge 3 | J15: XX3 | L15: =VLOOKUP(J15,'Clubs-Juges'!B:C,2,0) -> OFFICIEL---------C
C16: Judge 4 | D16: FRA | E16: =IF(ISBLANK(D16),"-",VLOOKUP(D16,Federations,2)) -> France-FRA | I16: Judge 4 | J16: XX4 | L16: =VLOOKUP(J16,'Clubs-Juges'!B:C,2,0) -> OFFICIEL---------D
C17: Judge 5 | D17: FRA | E17: =IF(ISBLANK(D17),"-",VLOOKUP(D17,Federations,2)) -> France-FRA | I17: Judge 5 | J17: XX5 | L17: =VLOOKUP(J17,'Clubs-Juges'!B:C,2,0) -> OFFICIEL---------A
C19: Sh. Judge 1 | D19: FRA | E19: =IF(ISBLANK(D19),"-",VLOOKUP(D19,Federations,2)) -> France-FRA | I19: Sh. Judge 1 | J19: YY1 | L19: =VLOOKUP(J19,'Clubs-Juges'!B:C,2,0) -> OFFICIEL---------B
C20: Sh. Judge 2 | D20: FRA | E20: =IF(ISBLANK(D20),"-",VLOOKUP(D20,Federations,2)) -> France-FRA | I20: Sh. Judge 2 | J20: YY2 | L20: =VLOOKUP(J20,'Clubs-Juges'!B:C,2,0) -> OFFICIEL---------C
C21: Sh. Judge 3 | D21: FRA | E21: =IF(ISBLANK(D21),"-",VLOOKUP(D21,Federations,2)) -> France-FRA | I21: Sh. Judge 3 | J21: YY3 | L21: =VLOOKUP(J21,'Clubs-Juges'!B:C,2,0) -> OFFICIEL---------D
I22: Sh. Judge 4 | J22: YY4 | L22: =VLOOKUP(J22,'Clubs-Juges'!B:C,2,0) -> OFFICIEL---------A
C23: Artistic impressions Judges - input Federation codes | J23: Artistic Impression Judge name
C24: Judge 1a | D24: FRA | E24: =IF(ISBLANK(D24),"-",VLOOKUP(D24,Federations,2)) -> France-FRA | I24: Judge 1a | J24: ZZ1 | L24: =VLOOKUP(J24,'Clubs-Juges'!B:C,2,0) -> OFFICIEL---------A
C25: Judge 2a | D25: FRA | E25: =IF(ISBLANK(D25),"-",VLOOKUP(D25,Federations,2)) -> France-FRA | I25: Judge 2a | J25: ZZ2 | L25: =VLOOKUP(J25,'Clubs-Juges'!B:C,2,0) -> OFFICIEL---------A
C26: Judge 3a | D26: FRA | E26: =IF(ISBLANK(D26),"-",VLOOKUP(D26,Federations,2)) -> France-FRA | I26: Judge 3a | J26: ZZ3 | L26: =VLOOKUP(J26,'Clubs-Juges'!B:C,2,0) -> OFFICIEL---------C
C27: Judge 4a | D27: FRA | E27: =IF(ISBLANK(D27),"-",VLOOKUP(D27,Federations,2)) -> France-FRA | I27: Judge 4a | J27: ZZ4 | L27: =VLOOKUP(J27,'Clubs-Juges'!B:C,2,0) -> OFFICIEL---------C
C28: Judge 5a | D28: FRA | E28: =IF(ISBLANK(D28),"-",VLOOKUP(D28,Federations,2)) -> France-FRA | I28: Judge 5a | J28: ZZ5 | L28: =VLOOKUP(J28,'Clubs-Juges'!B:C,2,0) -> OFFICIEL---------C
C30: Sh. Judge 1a | D30: FRA | E30: =IF(ISBLANK(D30),"-",VLOOKUP(D30,Federations,2)) -> France-FRA | I30: Sh. Judge 1a | J30: WW1 | L30: =VLOOKUP(J30,'Clubs-Juges'!B:C,2,0) -> OFFICIEL---------D
C31: Sh. Judge 2a | D31: FRA | E31: =IF(ISBLANK(D31),"-",VLOOKUP(D31,Federations,2)) -> France-FRA | I31: Sh. Judge 2a | J31: WW2 | L31: =VLOOKUP(J31,'Clubs-Juges'!B:C,2,0) -> OFFICIEL---------D
C32: Sh. Judge 3a | D32: FRA | E32: =IF(ISBLANK(D32),"-",VLOOKUP(D32,Federations,2)) -> France-FRA | I32: Sh. Judge 3a | J32: WW3 | L32: =VLOOKUP(J32,'Clubs-Juges'!B:C,2,0) -> OFFICIEL---------D | R32: Please clear table of shadow judges
I33: Sh. Judge 4a | J33: WW3 | L33: =VLOOKUP(J33,'Clubs-Juges'!B:C,2,0) -> OFFICIEL---------D | R33: prior to entering new data
C34: RANKING | D34: Input Federation Code and scores for each competitor BY RANKING
A36: 1 | C36: =TEXT(A36,"0")&" - Club:" -> 1 - Club: | D36: Flaxieu | I36: . | J36: =IF(A36>$H$5,"Please leave scores blank","Please input "&TEXT($H$7,"0")&" lines for Elements and 3 for Impressions") -> Please input 9 lines for Elements and 3 for Impressions | R36: Shadow Judges
D37: {=Judge_1} -> XX1 | E37: =Judge_2 -> XX2 | F37: =Judge_3 -> XX3 | G37: =Judge_4 -> XX4 | H37: =Judge_5 -> XX5 | R37: Sh. Judge 1 | S37: Sh. Judge 2 | T37: Sh. Judge 3 | U37: Sh. Judge 4
A38: =A36 -> 1 | C38: E1 | J38: =IF(A38>$H$5,IF(COUNTA(D38:H38)=0,"-","<= Please clear inputs"),IF(P38<=$H$7, IF(AND(COUNTA(D38:H38)=5,ISNUMBER(H38+G38+F38+E38+D38)),IF(AND(D38>=0,D38<=10,E38>=0,E38<=10,F38>=0,F38<=10,G38>=0,G38<=10,H38>=0,H38<=10),"ok","<= scores must be numbers from 0 to 10"),"<= Please input 5 scores as numbers"), IF(COUNTA(D38:H38)=0,".","Please clear excess line"))) -> <= Please input 5 scores as numbers | P38: 1 | V38: =IF(A38>$H$5,IF(COUNTA(R38:T38)=0,"-","Please clear excess line"),".") -> .
A39: =A38 -> 1 | C39: E2 | J39: =IF(A39>$H$5,IF(COUNTA(D39:H39)=0,"-","<= Please clear inputs"),IF(P39<=$H$7, IF(AND(COUNTA(D39:H39)=5,ISNUMBER(H39+G39+F39+E39+D39)),IF(AND(D39>=0,D39<=10,E39>=0,E39<=10,F39>=0,F39<=10,G39>=0,G39<=10,H39>=0,H39<=10),"ok","<= scores must be numbers from 0 to 10"),"<= Please input 5 scores as numbers"), IF(COUNTA(D39:H39)=0,".","Please clear excess line"))) -> <= Please input 5 scores as numbers | P39: 2 | V39: =IF(A39>$H$5,IF(COUNTA(R39:T39)=0,"-","Please clear excess line"),".") -> .
A40: =A39 -> 1 | C40: E3 | J40: =IF(A40>$H$5,IF(COUNTA(D40:H40)=0,"-","<= Please clear inputs"),IF(P40<=$H$7, IF(AND(COUNTA(D40:H40)=5,ISNUMBER(H40+G40+F40+E40+D40)),IF(AND(D40>=0,D40<=10,E40>=0,E40<=10,F40>=0,F40<=10,G40>=0,G40<=10,H40>=0,H40<=10),"ok","<= scores must be numbers from 0 to 10"),"<= Please input 5 scores as numbers"), IF(COUNTA(D40:H40)=0,".","Please clear excess line"))) -> <= Please input 5 scores as numbers | P40: 3 | V40: =IF(A40>$H$5,IF(COUNTA(R40:T40)=0,"-","Please clear excess line"),".") -> .
A41: =A40 -> 1 | C41: E4 | J41: =IF(A41>$H$5,IF(COUNTA(D41:H41)=0,"-","<= Please clear inputs"),IF(P41<=$H$7, IF(AND(COUNTA(D41:H41)=5,ISNUMBER(H41+G41+F41+E41+D41)),IF(AND(D41>=0,D41<=10,E41>=0,E41<=10,F41>=0,F41<=10,G41>=0,G41<=10,H41>=0,H41<=10),"ok","<= scores must be numbers from 0 to 10"),"<= Please input 5 scores as numbers"), IF(COUNTA(D41:H41)=0,".","Please clear excess line"))) -> <= Please input 5 scores as numbers | P41: 4 | V41: =IF(A41>$H$5,IF(COUNTA(R41:T41)=0,"-","Please clear excess line"),".") -> .
A42: =A41 -> 1 | C42: E5 | J42: =IF(A42>$H$5,IF(COUNTA(D42:H42)=0,"-","<= Please clear inputs"),IF(P42<=$H$7, IF(AND(COUNTA(D42:H42)=5,ISNUMBER(H42+G42+F42+E42+D42)),IF(AND(D42>=0,D42<=10,E42>=0,E42<=10,F42>=0,F42<=10,G42>=0,G42<=10,H42>=0,H42<=10),"ok","<= scores must be numbers from 0 to 10"),"<= Please input 5 scores as numbers"), IF(COUNTA(D42:H42)=0,".","Please clear excess line"))) -> <= Please input 5 scores as numbers | P42: 5 | V42: =IF(A42>$H$5,IF(COUNTA(R42:T42)=0,"-","Please clear excess line"),".") -> .
A43: =A42 -> 1 | C43: E6 | J43: =IF(A43>$H$5,IF(COUNTA(D43:H43)=0,"-","<= Please clear inputs"),IF(P43<=$H$7, IF(AND(COUNTA(D43:H43)=5,ISNUMBER(H43+G43+F43+E43+D43)),IF(AND(D43>=0,D43<=10,E43>=0,E43<=10,F43>=0,F43<=10,G43>=0,G43<=10,H43>=0,H43<=10),"ok","<= scores must be numbers from 0 to 10"),"<= Please input 5 scores as numbers"), IF(COUNTA(D43:H43)=0,".","Please clear excess line"))) -> <= Please input 5 scores as numbers | P43: 6 | V43: =IF(A43>$H$5,IF(COUNTA(R43:T43)=0,"-","Please clear excess line"),".") -> .
A44: =A43 -> 1 | C44: E7 | J44: =IF(A44>$H$5,IF(COUNTA(D44:H44)=0,"-","<= Please clear inputs"),IF(P44<=$H$7, IF(AND(COUNTA(D44:H44)=5,ISNUMBER(H44+G44+F44+E44+D44)),IF(AND(D44>=0,D44<=10,E44>=0,E44<=10,F44>=0,F44<=10,G44>=0,G44<=10,H44>=0,H44<=10),"ok","<= scores must be numbers from 0 to 10"),"<= Please input 5 scores as numbers"), IF(COUNTA(D44:H44)=0,".","Please clear excess line"))) -> <= Please input 5 scores as numbers | P44: 7 | V44: =IF(A44>$H$5,IF(COUNTA(R44:T44)=0,"-","Please clear excess line"),".") -> .
A45: =A44 -> 1 | C45: E8 | J45: =IF(A45>$H$5,IF(COUNTA(D45:H45)=0,"-","<= Please clear inputs"),IF(P45<=$H$7, IF(AND(COUNTA(D45:H45)=5,ISNUMBER(H45+G45+F45+E45+D45)),IF(AND(D45>=0,D45<=10,E45>=0,E45<=10,F45>=0,F45<=10,G45>=0,G45<=10,H45>=0,H45<=10),"ok","<= scores must be numbers from 0 to 10"),"<= Please input 5 scores as numbers"), IF(COUNTA(D45:H45)=0,".","Please clear excess line"))) -> <= Please input 5 scores as numbers | P45: 8 | V45: =IF(A45>$H$5,IF(COUNTA(R45:T45)=0,"-","Please clear excess line"),".") -> .
A46: =A45 -> 1 | C46: E9 | J46: =IF(A46>$H$5,IF(COUNTA(D46:H46)=0,"-","<= Please clear inputs"),IF(P46<=$H$7, IF(AND(COUNTA(D46:H46)=5,ISNUMBER(H46+G46+F46+E46+D46)),IF(AND(D46>=0,D46<=10,E46>=0,E46<=10,F46>=0,F46<=10,G46>=0,G46<=10,H46>=0,H46<=10),"ok","<= scores must be numbers from 0 to 10"),"<= Please input 5 scores as numbers"), IF(COUNTA(D46:H46)=0,".","Please clear excess line"))) -> <= Please input 5 scores as numbers | P46: 9 | V46: =IF(A46>$H$5,IF(COUNTA(R46:T46)=0,"-","Please clear excess line"),".") -> .
A47: =A46 -> 1 | C47: E10 | J47: =IF(A47>$H$5,IF(COUNTA(D47:H47)=0,"-","<= Please clear inputs"),IF(P47<=$H$7, IF(AND(COUNTA(D47:H47)=5,ISNUMBER(H47+G47+F47+E47+D47)),IF(AND(D47>=0,D47<=10,E47>=0,E47<=10,F47>=0,F47<=10,G47>=0,G47<=10,H47>=0,H47<=10),"ok","<= scores must be numbers from 0 to 10"),"<= Please input 5 scores as numbers"), IF(COUNTA(D47:H47)=0,".","Please clear excess line"))) -> . | P47: 10 | V47: =IF(A47>$H$5,IF(COUNTA(R47:T47)=0,"-","Please clear excess line"),".") -> .
A48: =A47 -> 1 | C48: E11 | J48: =IF(A48>$H$5,IF(COUNTA(D48:H48)=0,"-","<= Please clear inputs"),IF(P48<=$H$7, IF(AND(COUNTA(D48:H48)=5,ISNUMBER(H48+G48+F48+E48+D48)),IF(AND(D48>=0,D48<=10,E48>=0,E48<=10,F48>=0,F48<=10,G48>=0,G48<=10,H48>=0,H48<=10),"ok","<= scores must be numbers from 0 to 10"),"<= Please input 5 scores as numbers"), IF(COUNTA(D48:H48)=0,".","Please clear excess line"))) -> . | P48: 11 | V48: =IF(A48>$H$5,IF(COUNTA(R48:T48)=0,"-","Please clear excess line"),".") -> .
D49: Judge 1a | E49: Judge 2a | F49: Judge 3a | G49: Judge 4a | H49: Judge 5a | R49: Sh. Judge 1a | S49: Sh. Judge 2a | T49: Sh. Judge 3a | U49: Sh. Judge 4a
A50: =A48 -> 1 | C50: Coreo | J50: =IF(A50>$H$5,IF(COUNTA(D50:H50)=0,"-","<= Please clear inputs"),IF(P50<=$H$7, IF(AND(COUNTA(D50:H50)=5,ISNUMBER(H50+G50+F50+E50+D50)),IF(AND(D50>=0,D50<=10,E50>=0,E50<=10,F50>=0,F50<=10,G50>=0,G50<=10,H50>=0,H50<=10),"ok","<= scores must be numbers from 0 to 10"),"<= Please input 5 scores as numbers"), IF(COUNTA(D50:H50)=0,".","Please clear excess line"))) -> <= Please input 5 scores as numbers | P50: 1 | V50: =IF(A50>$H$5,IF(COUNTA(R50:T50)=0,"-","Please clear excess line"),".") -> .
A51: =A50 -> 1 | C51: Perform | J51: =IF(A51>$H$5,IF(COUNTA(D51:H51)=0,"-","<= Please clear inputs"),IF(P51<=$H$7, IF(AND(COUNTA(D51:H51)=5,ISNUMBER(H51+G51+F51+E51+D51)),IF(AND(D51>=0,D51<=10,E51>=0,E51<=10,F51>=0,F51<=10,G51>=0,G51<=10,H51>=0,H51<=10),"ok","<= scores must be numbers from 0 to 10"),"<= Please input 5 scores as numbers"), IF(COUNTA(D51:H51)=0,".","Please clear excess line"))) -> <= Please input 5 scores as numbers | P51: 2 | V51: =IF(A51>$H$5,IF(COUNTA(R51:T51)=0,"-","Please clear excess line"),".") -> .
A52: =A51 -> 1 | C52: Trans | J52: =IF(A52>$H$5,IF(COUNTA(D52:H52)=0,"-","<= Please clear inputs"),IF(P52<=$H$7, IF(AND(COUNTA(D52:H52)=5,ISNUMBER(H52+G52+F52+E52+D52)),IF(AND(D52>=0,D52<=10,E52>=0,E52<=10,F52>=0,F52<=10,G52>=0,G52<=10,H52>=0,H52<=10),"ok","<= scores must be numbers from 0 to 10"),"<= Please input 5 scores as numbers"), IF(COUNTA(D52:H52)=0,".","Please clear excess line"))) -> <= Please input 5 scores as numbers | P52: 3 | V52: =IF(A52>$H$5,IF(COUNTA(R52:T52)=0,"-","Please clear excess line"),".") -> .
A54: =1+A36 -> 2 | C54: =TEXT(A54,"0")&" - Club:" -> 2 - Club: | D54: Ambérieux-en-Dombes | I54: . | J54: =IF(A54>$H$5,"Please leave scores blank","Please input "&TEXT($H$7,"0")&" lines for Elements and 3 for Impressions") -> Please input 9 lines for Elements and 3 for Impressions | R54: Shadow Judges
D55: Judge 1 | E55: Judge 2 | F55: Judge 3 | G55: Judge 4 | H55: Judge 5 | R55: Sh. Judge 1 | S55: Sh. Judge 2 | T55: Sh. Judge 3 | U55: Sh. Judge 4
A56: =A54 -> 2 | C56: E1 | J56: =IF(A56>$H$5,IF(COUNTA(D56:H56)=0,"-","<= Please clear inputs"),IF(P56<=$H$7, IF(AND(COUNTA(D56:H56)=5,ISNUMBER(H56+G56+F56+E56+D56)),IF(AND(D56>=0,D56<=10,E56>=0,E56<=10,F56>=0,F56<=10,G56>=0,G56<=10,H56>=0,H56<=10),"ok","<= scores must be numbers from 0 to 10"),"<= Please input 5 scores as numbers"), IF(COUNTA(D56:H56)=0,".","Please clear excess line"))) -> <= Please input 5 scores as numbers | P56: 1 | V56: =IF(A56>$H$5,IF(COUNTA(R56:T56)=0,"-","Please clear excess line"),".") -> .
A57: =A56 -> 2 | C57: E2 | J57: =IF(A57>$H$5,IF(COUNTA(D57:H57)=0,"-","<= Please clear inputs"),IF(P57<=$H$7, IF(AND(COUNTA(D57:H57)=5,ISNUMBER(H57+G57+F57+E57+D57)),IF(AND(D57>=0,D57<=10,E57>=0,E57<=10,F57>=0,F57<=10,G57>=0,G57<=10,H57>=0,H57<=10),"ok","<= scores must be numbers from 0 to 10"),"<= Please input 5 scores as numbers"), IF(COUNTA(D57:H57)=0,".","Please clear excess line"))) -> <= Please input 5 scores as numbers | P57: 2 | V57: =IF(A57>$H$5,IF(COUNTA(R57:T57)=0,"-","Please clear excess line"),".") -> .
A58: =A57 -> 2 | C58: E3 | J58: =IF(A58>$H$5,IF(COUNTA(D58:H58)=0,"-","<= Please clear inputs"),IF(P58<=$H$7, IF(AND(COUNTA(D58:H58)=5,ISNUMBER(H58+G58+F58+E58+D58)),IF(AND(D58>=0,D58<=10,E58>=0,E58<=10,F58>=0,F58<=10,G58>=0,G58<=10,H58>=0,H58<=10),"ok","<= scores must be numbers from 0 to 10"),"<= Please input 5 scores as numbers"), IF(COUNTA(D58:H58)=0,".","Please clear excess line"))) -> <= Please input 5 scores as numbers | P58: 3 | V58: =IF(A58>$H$5,IF(COUNTA(R58:T58)=0,"-","Please clear excess line"),".") -> .
A59: =A58 -> 2 | C59: E4 | J59: =IF(A59>$H$5,IF(COUNTA(D59:H59)=0,"-","<= Please clear inputs"),IF(P59<=$H$7, IF(AND(COUNTA(D59:H59)=5,ISNUMBER(H59+G59+F59+E59+D59)),IF(AND(D59>=0,D59<=10,E59>=0,E59<=10,F59>=0,F59<=10,G59>=0,G59<=10,H59>=0,H59<=10),"ok","<= scores must be numbers from 0 to 10"),"<= Please input 5 scores as numbers"), IF(COUNTA(D59:H59)=0,".","Please clear excess line"))) -> <= Please input 5 scores as numbers | P59: 4 | V59: =IF(A59>$H$5,IF(COUNTA(R59:T59)=0,"-","Please clear excess line"),".") -> .
A60: =A59 -> 2 | C60: E5 | J60: =IF(A60>$H$5,IF(COUNTA(D60:H60)=0,"-","<= Please clear inputs"),IF(P60<=$H$7, IF(AND(COUNTA(D60:H60)=5,ISNUMBER(H60+G60+F60+E60+D60)),IF(AND(D60>=0,D60<=10,E60>=0,E60<=10,F60>=0,F60<=10,G60>=0,G60<=10,H60>=0,H60<=10),"ok","<= scores must be numbers from 0 to 10"),"<= Please input 5 scores as numbers"), IF(COUNTA(D60:H60)=0,".","Please clear excess line"))) -> <= Please input 5 scores as numbers | P60: 5 | V60: =IF(A60>$H$5,IF(COUNTA(R60:T60)=0,"-","Please clear excess line"),".") -> .
A61: =A60 -> 2 | C61: E6 | J61: =IF(A61>$H$5,IF(COUNTA(D61:H61)=0,"-","<= Please clear inputs"),IF(P61<=$H$7, IF(AND(COUNTA(D61:H61)=5,ISNUMBER(H61+G61+F61+E61+D61)),IF(AND(D61>=0,D61<=10,E61>=0,E61<=10,F61>=0,F61<=10,G61>=0,G61<=10,H61>=0,H61<=10),"ok","<= scores must be numbers from 0 to 10"),"<= Please input 5 scores as numbers"), IF(COUNTA(D61:H61)=0,".","Please clear excess line"))) -> <= Please input 5 scores as numbers | P61: 6 | V61: =IF(A61>$H$5,IF(COUNTA(R61:T61)=0,"-","Please clear excess line"),".") -> .
A62: =A61 -> 2 | C62: E7 | J62: =IF(A62>$H$5,IF(COUNTA(D62:H62)=0,"-","<= Please clear inputs"),IF(P62<=$H$7, IF(AND(COUNTA(D62:H62)=5,ISNUMBER(H62+G62+F62+E62+D62)),IF(AND(D62>=0,D62<=10,E62>=0,E62<=10,F62>=0,F62<=10,G62>=0,G62<=10,H62>=0,H62<=10),"ok","<= scores must be numbers from 0 to 10"),"<= Please input 5 scores as numbers"), IF(COUNTA(D62:H62)=0,".","Please clear excess line"))) -> <= Please input 5 scores as numbers | P62: 7 | V62: =IF(A62>$H$5,IF(COUNTA(R62:T62)=0,"-","Please clear excess line"),".") -> .
A63: =A62 -> 2 | C63: E8 | J63: =IF(A63>$H$5,IF(COUNTA(D63:H63)=0,"-","<= Please clear inputs"),IF(P63<=$H$7, IF(AND(COUNTA(D63:H63)=5,ISNUMBER(H63+G63+F63+E63+D63)),IF(AND(D63>=0,D63<=10,E63>=0,E63<=10,F63>=0,F63<=10,G63>=0,G63<=10,H63>=0,H63<=10),"ok","<= scores must be numbers from 0 to 10"),"<= Please input 5 scores as numbers"), IF(COUNTA(D63:H63)=0,".","Please clear excess line"))) -> <= Please input 5 scores as numbers | P63: 8 | V63: =IF(A63>$H$5,IF(COUNTA(R63:T63)=0,"-","Please clear excess line"),".") -> .
A64: =A63 -> 2 | C64: E9 | J64: =IF(A64>$H$5,IF(COUNTA(D64:H64)=0,"-","<= Please clear inputs"),IF(P64<=$H$7, IF(AND(COUNTA(D64:H64)=5,ISNUMBER(H64+G64+F64+E64+D64)),IF(AND(D64>=0,D64<=10,E64>=0,E64<=10,F64>=0,F64<=10,G64>=0,G64<=10,H64>=0,H64<=10),"ok","<= scores must be numbers from 0 to 10"),"<= Please input 5 scores as numbers"), IF(COUNTA(D64:H64)=0,".","Please clear excess line"))) -> <= Please input 5 scores as numbers | P64: 9 | V64: =IF(A64>$H$5,IF(COUNTA(R64:T64)=0,"-","Please clear excess line"),".") -> .
A65: =A64 -> 2 | C65: E10 | J65: =IF(A65>$H$5,IF(COUNTA(D65:H65)=0,"-","<= Please clear inputs"),IF(P65<=$H$7, IF(AND(COUNTA(D65:H65)=5,ISNUMBER(H65+G65+F65+E65+D65)),IF(AND(D65>=0,D65<=10,E65>=0,E65<=10,F65>=0,F65<=10,G65>=0,G65<=10,H65>=0,H65<=10),"ok","<= scores must be numbers from 0 to 10"),"<= Please input 5 scores as numbers"), IF(COUNTA(D65:H65)=0,".","Please clear excess line"))) -> . | P65: 10 | V65: =IF(A65>$H$5,IF(COUNTA(R65:T65)=0,"-","Please clear excess line"),".") -> .
A66: =A65 -> 2 | C66: E11 | J66: =IF(A66>$H$5,IF(COUNTA(D66:H66)=0,"-","<= Please clear inputs"),IF(P66<=$H$7, IF(AND(COUNTA(D66:H66)=5,ISNUMBER(H66+G66+F66+E66+D66)),IF(AND(D66>=0,D66<=10,E66>=0,E66<=10,F66>=0,F66<=10,G66>=0,G66<=10,H66>=0,H66<=10),"ok","<= scores must be numbers from 0 to 10"),"<= Please input 5 scores as numbers"), IF(COUNTA(D66:H66)=0,".","Please clear excess line"))) -> . | P66: 11 | V66: =IF(A66>$H$5,IF(COUNTA(R66:T66)=0,"-","Please clear excess line"),".") -> .
D67: Judge 1a | E67: Judge 2a | F67: Judge 3a | G67: Judge 4a | H67: Judge 5a | R67: Sh. Judge 1a | S67: Sh. Judge 2a | T67: Sh. Judge 3a | U67: Sh. Judge 4a
A68: =A66 -> 2 | C68: Coreo | J68: =IF(A68>$H$5,IF(COUNTA(D68:H68)=0,"-","<= Please clear inputs"),IF(P68<=$H$7, IF(AND(COUNTA(D68:H68)=5,ISNUMBER(H68+G68+F68+E68+D68)),IF(AND(D68>=0,D68<=10,E68>=0,E68<=10,F68>=0,F68<=10,G68>=0,G68<=10,H68>=0,H68<=10),"ok","<= scores must be numbers from 0 to 10"),"<= Please input 5 scores as numbers"), IF(COUNTA(D68:H68)=0,".","Please clear excess line"))) -> <= Please input 5 scores as numbers | P68: 1 | V68: =IF(A68>$H$5,IF(COUNTA(R68:T68)=0,"-","Please clear excess line"),".") -> .
A69: =A68 -> 2 | C69: Perform | J69: =IF(A69>$H$5,IF(COUNTA(D69:H69)=0,"-","<= Please clear inputs"),IF(P69<=$H$7, IF(AND(COUNTA(D69:H69)=5,ISNUMBER(H69+G69+F69+E69+D69)),IF(AND(D69>=0,D69<=10,E69>=0,E69<=10,F69>=0,F69<=10,G69>=0,G69<=10,H69>=0,H69<=10),"ok","<= scores must be numbers from 0 to 10"),"<= Please input 5 scores as numbers"), IF(COUNTA(D69:H69)=0,".","Please clear excess line"))) -> <= Please input 5 scores as numbers | P69: 2 | V69: =IF(A69>$H$5,IF(COUNTA(R69:T69)=0,"-","Please clear excess line"),".") -> .
A70: =A69 -> 2 | C70: Trans | J70: =IF(A70>$H$5,IF(COUNTA(D70:H70)=0,"-","<= Please clear inputs"),IF(P70<=$H$7, IF(AND(COUNTA(D70:H70)=5,ISNUMBER(H70+G70+F70+E70+D70)),IF(AND(D70>=0,D70<=10,E70>=0,E70<=10,F70>=0,F70<=10,G70>=0,G70<=10,H70>=0,H70<=10),"ok","<= scores must be numbers from 0 to 10"),"<= Please input 5 scores as numbers"), IF(COUNTA(D70:H70)=0,".","Please clear excess line"))) -> <= Please input 5 scores as numbers | P70: 3 | V70: =IF(A70>$H$5,IF(COUNTA(R70:T70)=0,"-","Please clear excess line"),".") -> .
A72: =1+A54 -> 3 | C72: =TEXT(A72,"0")&" - Club:" -> 3 - Club: | I72: . | J72: =IF(A72>$H$5,"Please leave scores blank","Please input "&TEXT($H$7,"0")&" lines for Elements and 3 for Impressions") -> Please input 9 lines for Elements and 3 for Impressions | R72: Shadow Judges
D73: Judge 1 | E73: Judge 2 | F73: Judge 3 | G73: Judge 4 | H73: Judge 5 | R73: Sh. Judge 1 | S73: Sh. Judge 2 | T73: Sh. Judge 3
A74: =A72 -> 3 | C74: E1 | J74: =IF(A74>$H$5,IF(COUNTA(D74:H74)=0,"-","<= Please clear inputs"),IF(P74<=$H$7, IF(AND(COUNTA(D74:H74)=5,ISNUMBER(H74+G74+F74+E74+D74)),IF(AND(D74>=0,D74<=10,E74>=0,E74<=10,F74>=0,F74<=10,G74>=0,G74<=10,H74>=0,H74<=10),"ok","<= scores must be numbers from 0 to 10"),"<= Please input 5 scores as numbers"), IF(COUNTA(D74:H74)=0,".","Please clear excess line"))) -> <= Please input 5 scores as numbers | P74: 1 | V74: =IF(A74>$H$5,IF(COUNTA(R74:T74)=0,"-","Please clear excess line"),".") -> .
A75: =A74 -> 3 | C75: E2 | J75: =IF(A75>$H$5,IF(COUNTA(D75:H75)=0,"-","<= Please clear inputs"),IF(P75<=$H$7, IF(AND(COUNTA(D75:H75)=5,ISNUMBER(H75+G75+F75+E75+D75)),IF(AND(D75>=0,D75<=10,E75>=0,E75<=10,F75>=0,F75<=10,G75>=0,G75<=10,H75>=0,H75<=10),"ok","<= scores must be numbers from 0 to 10"),"<= Please input 5 scores as numbers"), IF(COUNTA(D75:H75)=0,".","Please clear excess line"))) -> <= Please input 5 scores as numbers | P75: 2 | V75: =IF(A75>$H$5,IF(COUNTA(R75:T75)=0,"-","Please clear excess line"),".") -> .
A76: =A75 -> 3 | C76: E3 | J76: =IF(A76>$H$5,IF(COUNTA(D76:H76)=0,"-","<= Please clear inputs"),IF(P76<=$H$7, IF(AND(COUNTA(D76:H76)=5,ISNUMBER(H76+G76+F76+E76+D76)),IF(AND(D76>=0,D76<=10,E76>=0,E76<=10,F76>=0,F76<=10,G76>=0,G76<=10,H76>=0,H76<=10),"ok","<= scores must be numbers from 0 to 10"),"<= Please input 5 scores as numbers"), IF(COUNTA(D76:H76)=0,".","Please clear excess line"))) -> <= Please input 5 scores as numbers | P76: 3 | V76: =IF(A76>$H$5,IF(COUNTA(R76:T76)=0,"-","Please clear excess line"),".") -> .
A77: =A76 -> 3 | C77: E4 | J77: =IF(A77>$H$5,IF(COUNTA(D77:H77)=0,"-","<= Please clear inputs"),IF(P77<=$H$7, IF(AND(COUNTA(D77:H77)=5,ISNUMBER(H77+G77+F77+E77+D77)),IF(AND(D77>=0,D77<=10,E77>=0,E77<=10,F77>=0,F77<=10,G77>=0,G77<=10,H77>=0,H77<=10),"ok","<= scores must be numbers from 0 to 10"),"<= Please input 5 scores as numbers"), IF(COUNTA(D77:H77)=0,".","Please clear excess line"))) -> <= Please input 5 scores as numbers | P77: 4 | V77: =IF(A77>$H$5,IF(COUNTA(R77:T77)=0,"-","Please clear excess line"),".") -> .
A78: =A77 -> 3 | C78: E5 | J78: =IF(A78>$H$5,IF(COUNTA(D78:H78)=0,"-","<= Please clear inputs"),IF(P78<=$H$7, IF(AND(COUNTA(D78:H78)=5,ISNUMBER(H78+G78+F78+E78+D78)),IF(AND(D78>=0,D78<=10,E78>=0,E78<=10,F78>=0,F78<=10,G78>=0,G78<=10,H78>=0,H78<=10),"ok","<= scores must be numbers from 0 to 10"),"<= Please input 5 scores as numbers"), IF(COUNTA(D78:H78)=0,".","Please clear excess line"))) -> <= Please input 5 scores as numbers | P78: 5 | V78: =IF(A78>$H$5,IF(COUNTA(R78:T78)=0,"-","Please clear excess line"),".") -> .
A79: =A78 -> 3 | C79: E6 | J79: =IF(A79>$H$5,IF(COUNTA(D79:H79)=0,"-","<= Please clear inputs"),IF(P79<=$H$7, IF(AND(COUNTA(D79:H79)=5,ISNUMBER(H79+G79+F79+E79+D79)),IF(AND(D79>=0,D79<=10,E79>=0,E79<=10,F79>=0,F79<=10,G79>=0,G79<=10,H79>=0,H79<=10),"ok","<= scores must be numbers from 0 to 10"),"<= Please input 5 scores as numbers"), IF(COUNTA(D79:H79)=0,".","Please clear excess line"))) -> <= Please input 5 scores as numbers | P79: 6 | V79: =IF(A79>$H$5,IF(COUNTA(R79:T79)=0,"-","Please clear excess line"),".") -> .
A80: =A79 -> 3 | C80: E7 | J80: =IF(A80>$H$5,IF(COUNTA(D80:H80)=0,"-","<= Please clear inputs"),IF(P80<=$H$7, IF(AND(COUNTA(D80:H80)=5,ISNUMBER(H80+G80+F80+E80+D80)),IF(AND(D80>=0,D80<=10,E80>=0,E80<=10,F80>=0,F80<=10,G80>=0,G80<=10,H80>=0,H80<=10),"ok","<= scores must be numbers from 0 to 10"),"<= Please input 5 scores as numbers"), IF(COUNTA(D80:H80)=0,".","Please clear excess line"))) -> <= Please input 5 scores as numbers | P80: 7 | V80: =IF(A80>$H$5,IF(COUNTA(R80:T80)=0,"-","Please clear excess line"),".") -> .
A81: =A80 -> 3 | C81: E8 | J81: =IF(A81>$H$5,IF(COUNTA(D81:H81)=0,"-","<= Please clear inputs"),IF(P81<=$H$7, IF(AND(COUNTA(D81:H81)=5,ISNUMBER(H81+G81+F81+E81+D81)),IF(AND(D81>=0,D81<=10,E81>=0,E81<=10,F81>=0,F81<=10,G81>=0,G81<=10,H81>=0,H81<=10),"ok","<= scores must be numbers from 0 to 10"),"<= Please input 5 scores as numbers"), IF(COUNTA(D81:H81)=0,".","Please clear excess line"))) -> <= Please input 5 scores as numbers | P81: 8 | V81: =IF(A81>$H$5,IF(COUNTA(R81:T81)=0,"-","Please clear excess line"),".") -> .
A82: =A81 -> 3 | C82: E9 | J82: =IF(A82>$H$5,IF(COUNTA(D82:H82)=0,"-","<= Please clear inputs"),IF(P82<=$H$7, IF(AND(COUNTA(D82:H82)=5,ISNUMBER(H82+G82+F82+E82+D82)),IF(AND(D82>=0,D82<=10,E82>=0,E82<=10,F82>=0,F82<=10,G82>=0,G82<=10,H82>=0,H82<=10),"ok","<= scores must be numbers from 0 to 10"),"<= Please input 5 scores as numbers"), IF(COUNTA(D82:H82)=0,".","Please clear excess line"))) -> <= Please input 5 scores as numbers | P82: 9 | V82: =IF(A82>$H$5,IF(COUNTA(R82:T82)=0,"-","Please clear excess line"),".") -> .
A83: =A82 -> 3 | C83: E10 | J83: =IF(A83>$H$5,IF(COUNTA(D83:H83)=0,"-","<= Please clear inputs"),IF(P83<=$H$7, IF(AND(COUNTA(D83:H83)=5,ISNUMBER(H83+G83+F83+E83+D83)),IF(AND(D83>=0,D83<=10,E83>=0,E83<=10,F83>=0,F83<=10,G83>=0,G83<=10,H83>=0,H83<=10),"ok","<= scores must be numbers from 0 to 10"),"<= Please input 5 scores as numbers"), IF(COUNTA(D83:H83)=0,".","Please clear excess line"))) -> . | P83: 10 | V83: =IF(A83>$H$5,IF(COUNTA(R83:T83)=0,"-","Please clear excess line"),".") -> .
A84: =A83 -> 3 | C84: E11 | J84: =IF(A84>$H$5,IF(COUNTA(D84:H84)=0,"-","<= Please clear inputs"),IF(P84<=$H$7, IF(AND(COUNTA(D84:H84)=5,ISNUMBER(H84+G84+F84+E84+D84)),IF(AND(D84>=0,D84<=10,E84>=0,E84<=10,F84>=0,F84<=10,G84>=0,G84<=10,H84>=0,H84<=10),"ok","<= scores must be numbers from 0 to 10"),"<= Please input 5 scores as numbers"), IF(COUNTA(D84:H84)=0,".","Please clear excess line"))) -> . | P84: 11 | V84: =IF(A84>$H$5,IF(COUNTA(R84:T84)=0,"-","Please clear excess line"),".") -> .
D85: Judge 1a | E85: Judge 2a | F85: Judge 3a | G85: Judge 4a | H85: Judge 5a | R85: Sh. Judge 1a | S85: Sh. Judge 2a | T85: Sh. Judge 3a
A86: =A84 -> 3 | C86: Coreo | J86: =IF(A86>$H$5,IF(COUNTA(D86:H86)=0,"-","<= Please clear inputs"),IF(P86<=$H$7, IF(AND(COUNTA(D86:H86)=5,ISNUMBER(H86+G86+F86+E86+D86)),IF(AND(D86>=0,D86<=10,E86>=0,E86<=10,F86>=0,F86<=10,G86>=0,G86<=10,H86>=0,H86<=10),"ok","<= scores must be numbers from 0 to 10"),"<= Please input 5 scores as numbers"), IF(COUNTA(D86:H86)=0,".","Please clear excess line"))) -> <= Please input 5 scores as numbers | P86: 1 | V86: =IF(A86>$H$5,IF(COUNTA(R86:T86)=0,"-","Please clear excess line"),".") -> .
A87: =A86 -> 3 | C87: Perform | J87: =IF(A87>$H$5,IF(COUNTA(D87:H87)=0,"-","<= Please clear inputs"),IF(P87<=$H$7, IF(AND(COUNTA(D87:H87)=5,ISNUMBER(H87+G87+F87+E87+D87)),IF(AND(D87>=0,D87<=10,E87>=0,E87<=10,F87>=0,F87<=10,G87>=0,G87<=10,H87>=0,H87<=10),"ok","<= scores must be numbers from 0 to 10"),"<= Please input 5 scores as numbers"), IF(COUNTA(D87:H87)=0,".","Please clear excess line"))) -> <= Please input 5 scores as numbers | P87: 2 | V87: =IF(A87>$H$5,IF(COUNTA(R87:T87)=0,"-","Please clear excess line"),".") -> .
A88: =A87 -> 3 | C88: Trans | J88: =IF(A88>$H$5,IF(COUNTA(D88:H88)=0,"-","<= Please clear inputs"),IF(P88<=$H$7, IF(AND(COUNTA(D88:H88)=5,ISNUMBER(H88+G88+F88+E88+D88)),IF(AND(D88>=0,D88<=10,E88>=0,E88<=10,F88>=0,F88<=10,G88>=0,G88<=10,H88>=0,H88<=10),"ok","<= scores must be numbers from 0 to 10"),"<= Please input 5 scores as numbers"), IF(COUNTA(D88:H88)=0,".","Please clear excess line"))) -> <= Please input 5 scores as numbers | P88: 3 | V88: =IF(A88>$H$5,IF(COUNTA(R88:T88)=0,"-","Please clear excess line"),".") -> .
A90: =1+A72 -> 4 | C90: =TEXT(A90,"0")&" - Club:" -> 4 - Club: | I90: . | J90: =IF(A90>$H$5,"Please leave scores blank","Please input "&TEXT($H$7,"0")&" lines for Elements and 3 for Impressions") -> Please input 9 lines for Elements and 3 for Impressions | R90: Shadow Judges
D91: Judge 1 | E91: Judge 2 | F91: Judge 3 | G91: Judge 4 | H91: Judge 5 | R91: Sh. Judge 1 | S91: Sh. Judge 2 | T91: Sh. Judge 3
A92: =A90 -> 4 | C92: E1 | J92: =IF(A92>$H$5,IF(COUNTA(D92:H92)=0,"-","<= Please clear inputs"),IF(P92<=$H$7, IF(AND(COUNTA(D92:H92)=5,ISNUMBER(H92+G92+F92+E92+D92)),IF(AND(D92>=0,D92<=10,E92>=0,E92<=10,F92>=0,F92<=10,G92>=0,G92<=10,H92>=0,H92<=10),"ok","<= scores must be numbers from 0 to 10"),"<= Please input 5 scores as numbers"), IF(COUNTA(D92:H92)=0,".","Please clear excess line"))) -> <= Please input 5 scores as numbers | P92: 1 | V92: =IF(A92>$H$5,IF(COUNTA(R92:T92)=0,"-","Please clear excess line"),".") -> .
A93: =A92 -> 4 | C93: E2 | J93: =IF(A93>$H$5,IF(COUNTA(D93:H93)=0,"-","<= Please clear inputs"),IF(P93<=$H$7, IF(AND(COUNTA(D93:H93)=5,ISNUMBER(H93+G93+F93+E93+D93)),IF(AND(D93>=0,D93<=10,E93>=0,E93<=10,F93>=0,F93<=10,G93>=0,G93<=10,H93>=0,H93<=10),"ok","<= scores must be numbers from 0 to 10"),"<= Please input 5 scores as numbers"), IF(COUNTA(D93:H93)=0,".","Please clear excess line"))) -> <= Please input 5 scores as numbers | P93: 2 | V93: =IF(A93>$H$5,IF(COUNTA(R93:T93)=0,"-","Please clear excess line"),".") -> .
A94: =A93 -> 4 | C94: E3 | J94: =IF(A94>$H$5,IF(COUNTA(D94:H94)=0,"-","<= Please clear inputs"),IF(P94<=$H$7, IF(AND(COUNTA(D94:H94)=5,ISNUMBER(H94+G94+F94+E94+D94)),IF(AND(D94>=0,D94<=10,E94>=0,E94<=10,F94>=0,F94<=10,G94>=0,G94<=10,H94>=0,H94<=10),"ok","<= scores must be numbers from 0 to 10"),"<= Please input 5 scores as numbers"), IF(COUNTA(D94:H94)=0,".","Please clear excess line"))) -> <= Please input 5 scores as numbers | P94: 3 | V94: =IF(A94>$H$5,IF(COUNTA(R94:T94)=0,"-","Please clear excess line"),".") -> .
A95: =A94 -> 4 | C95: E4 | J95: =IF(A95>$H$5,IF(COUNTA(D95:H95)=0,"-","<= Please clear inputs"),IF(P95<=$H$7, IF(AND(COUNTA(D95:H95)=5,ISNUMBER(H95+G95+F95+E95+D95)),IF(AND(D95>=0,D95<=10,E95>=0,E95<=10,F95>=0,F95<=10,G95>=0,G95<=10,H95>=0,H95<=10),"ok","<= scores must be numbers from 0 to 10"),"<= Please input 5 scores as numbers"), IF(COUNTA(D95:H95)=0,".","Please clear excess line"))) -> <= Please input 5 scores as numbers | P95: 4 | V95: =IF(A95>$H$5,IF(COUNTA(R95:T95)=0,"-","Please clear excess line"),".") -> .
A96: =A95 -> 4 | C96: E5 | J96: =IF(A96>$H$5,IF(COUNTA(D96:H96)=0,"-","<= Please clear inputs"),IF(P96<=$H$7, IF(AND(COUNTA(D96:H96)=5,ISNUMBER(H96+G96+F96+E96+D96)),IF(AND(D96>=0,D96<=10,E96>=0,E96<=10,F96>=0,F96<=10,G96>=0,G96<=10,H96>=0,H96<=10),"ok","<= scores must be numbers from 0 to 10"),"<= Please input 5 scores as numbers"), IF(COUNTA(D96:H96)=0,".","Please clear excess line"))) -> <= Please input 5 scores as numbers | P96: 5 | V96: =IF(A96>$H$5,IF(COUNTA(R96:T96)=0,"-","Please clear excess line"),".") -> .
A97: =A96 -> 4 | C97: E6 | J97: =IF(A97>$H$5,IF(COUNTA(D97:H97)=0,"-","<= Please clear inputs"),IF(P97<=$H$7, IF(AND(COUNTA(D97:H97)=5,ISNUMBER(H97+G97+F97+E97+D97)),IF(AND(D97>=0,D97<=10,E97>=0,E97<=10,F97>=0,F97<=10,G97>=0,G97<=10,H97>=0,H97<=10),"ok","<= scores must be numbers from 0 to 10"),"<= Please input 5 scores as numbers"), IF(COUNTA(D97:H97)=0,".","Please clear excess line"))) -> <= Please input 5 scores as numbers | P97: 6 | V97: =IF(A97>$H$5,IF(COUNTA(R97:T97)=0,"-","Please clear excess line"),".") -> .
A98: =A97 -> 4 | C98: E7 | J98: =IF(A98>$H$5,IF(COUNTA(D98:H98)=0,"-","<= Please clear inputs"),IF(P98<=$H$7, IF(AND(COUNTA(D98:H98)=5,ISNUMBER(H98+G98+F98+E98+D98)),IF(AND(D98>=0,D98<=10,E98>=0,E98<=10,F98>=0,F98<=10,G98>=0,G98<=10,H98>=0,H98<=10),"ok","<= scores must be numbers from 0 to 10"),"<= Please input 5 scores as numbers"), IF(COUNTA(D98:H98)=0,".","Please clear excess line"))) -> <= Please input 5 scores as numbers | P98: 7 | V98: =IF(A98>$H$5,IF(COUNTA(R98:T98)=0,"-","Please clear excess line"),".") -> .
A99: =A98 -> 4 | C99: E8 | J99: =IF(A99>$H$5,IF(COUNTA(D99:H99)=0,"-","<= Please clear inputs"),IF(P99<=$H$7, IF(AND(COUNTA(D99:H99)=5,ISNUMBER(H99+G99+F99+E99+D99)),IF(AND(D99>=0,D99<=10,E99>=0,E99<=10,F99>=0,F99<=10,G99>=0,G99<=10,H99>=0,H99<=10),"ok","<= scores must be numbers from 0 to 10"),"<= Please input 5 scores as numbers"), IF(COUNTA(D99:H99)=0,".","Please clear excess line"))) -> <= Please input 5 scores as numbers | P99: 8 | V99: =IF(A99>$H$5,IF(COUNTA(R99:T99)=0,"-","Please clear excess line"),".") -> .
A100: =A99 -> 4 | C100: E9 | J100: =IF(A100>$H$5,IF(COUNTA(D100:H100)=0,"-","<= Please clear inputs"),IF(P100<=$H$7, IF(AND(COUNTA(D100:H100)=5,ISNUMBER(H100+G100+F100+E100+D100)),IF(AND(D100>=0,D100<=10,E100>=0,E100<=10,F100>=0,F100<=10,G100>=0,G100<=10,H100>=0,H100<=10),"ok","<= scores must be numbers from 0 to 10"),"<= Please input 5 scores as numbers"), IF(COUNTA(D100:H100)=0,".","Please clear excess line"))) -> <= Please input 5 scores as numbers | P100: 9 | V100: =IF(A100>$H$5,IF(COUNTA(R100:T100)=0,"-","Please clear excess line"),".") -> .
A101: =A100 -> 4 | C101: E10 | J101: =IF(A101>$H$5,IF(COUNTA(D101:H101)=0,"-","<= Please clear inputs"),IF(P101<=$H$7, IF(AND(COUNTA(D101:H101)=5,ISNUMBER(H101+G101+F101+E101+D101)),IF(AND(D101>=0,D101<=10,E101>=0,E101<=10,F101>=0,F101<=10,G101>=0,G101<=10,H101>=0,H101<=10),"ok","<= scores must be numbers from 0 to 10"),"<= Please input 5 scores as numbers"), IF(COUNTA(D101:H101)=0,".","Please clear excess line"))) -> . | P101: 10 | V101: =IF(A101>$H$5,IF(COUNTA(R101:T101)=0,"-","Please clear excess line"),".") -> .
A102: =A101 -> 4 | C102: E11 | J102: =IF(A102>$H$5,IF(COUNTA(D102:H102)=0,"-","<= Please clear inputs"),IF(P102<=$H$7, IF(AND(COUNTA(D102:H102)=5,ISNUMBER(H102+G102+F102+E102+D102)),IF(AND(D102>=0,D102<=10,E102>=0,E102<=10,F102>=0,F102<=10,G102>=0,G102<=10,H102>=0,H102<=10),"ok","<= scores must be numbers from 0 to 10"),"<= Please input 5 scores as numbers"), IF(COUNTA(D102:H102)=0,".","Please clear excess line"))) -> . | P102: 11 | V102: =IF(A102>$H$5,IF(COUNTA(R102:T102)=0,"-","Please clear excess line"),".") -> .
D103: Judge 1a | E103: Judge 2a | F103: Judge 3a | G103: Judge 4a | H103: Judge 5a | R103: Sh. Judge 1a | S103: Sh. Judge 2a | T103: Sh. Judge 3a
A104: =A102 -> 4 | C104: Coreo | J104: =IF(A104>$H$5,IF(COUNTA(D104:H104)=0,"-","<= Please clear inputs"),IF(P104<=$H$7, IF(AND(COUNTA(D104:H104)=5,ISNUMBER(H104+G104+F104+E104+D104)),IF(AND(D104>=0,D104<=10,E104>=0,E104<=10,F104>=0,F104<=10,G104>=0,G104<=10,H104>=0,H104<=10),"ok","<= scores must be numbers from 0 to 10"),"<= Please input 5 scores as numbers"), IF(COUNTA(D104:H104)=0,".","Please clear excess line"))) -> <= Please input 5 scores as numbers | P104: 1 | V104: =IF(A104>$H$5,IF(COUNTA(R104:T104)=0,"-","Please clear excess line"),".") -> .
A105: =A104 -> 4 | C105: Perform | J105: =IF(A105>$H$5,IF(COUNTA(D105:H105)=0,"-","<= Please clear inputs"),IF(P105<=$H$7, IF(AND(COUNTA(D105:H105)=5,ISNUMBER(H105+G105+F105+E105+D105)),IF(AND(D105>=0,D105<=10,E105>=0,E105<=10,F105>=0,F105<=10,G105>=0,G105<=10,H105>=0,H105<=10),"ok","<= scores must be numbers from 0 to 10"),"<= Please input 5 scores as numbers"), IF(COUNTA(D105:H105)=0,".","Please clear excess line"))) -> <= Please input 5 scores as numbers | P105: 2 | V105: =IF(A105>$H$5,IF(COUNTA(R105:T105)=0,"-","Please clear excess line"),".") -> .
A106: =A105 -> 4 | C106: Trans | J106: =IF(A106>$H$5,IF(COUNTA(D106:H106)=0,"-","<= Please clear inputs"),IF(P106<=$H$7, IF(AND(COUNTA(D106:H106)=5,ISNUMBER(H106+G106+F106+E106+D106)),IF(AND(D106>=0,D106<=10,E106>=0,E106<=10,F106>=0,F106<=10,G106>=0,G106<=10,H106>=0,H106<=10),"ok","<= scores must be numbers from 0 to 10"),"<= Please input 5 scores as numbers"), IF(COUNTA(D106:H106)=0,".","Please clear excess line"))) -> <= Please input 5 scores as numbers | P106: 3 | V106: =IF(A106>$H$5,IF(COUNTA(R106:T106)=0,"-","Please clear excess line"),".") -> .
A108: =1+A90 -> 5 | C108: =TEXT(A108,"0")&" - Club:" -> 5 - Club: | I108: . | J108: =IF(A108>$H$5,"Please leave scores blank","Please input "&TEXT($H$7,"0")&" lines for Elements and 3 for Impressions") -> Please input 9 lines for Elements and 3 for Impressions | R108: Shadow Judges
D109: Judge 1 | E109: Judge 2 | F109: Judge 3 | G109: Judge 4 | H109: Judge 5 | R109: Sh. Judge 1 | S109: Sh. Judge 2 | T109: Sh. Judge 3
...

Sheet Clubs-Juges
A11: Abergement-Clémenciat | B11: XX1 | C11: OFFICIEL---------A
A12: Abergement-de-Varey | B12: XX2 | C12: OFFICIEL---------B
A13: Ambérieu-en-Bugey | B13: XX3 | C13: OFFICIEL---------C
A14: Ambérieux-en-Dombes | B14: XX4 | C14: OFFICIEL---------D
A15: Ambléon | B15: XX5 | C15: OFFICIEL---------A
A16: Ambronay | B16: YY1 | C16: OFFICIEL---------B
A17: Ambutrix | B17: YY2 | C17: OFFICIEL---------C
A18: Andert-et-Condon | B18: YY3 | C18: OFFICIEL---------D
A19: Anglefort | B19: YY4 | C19: OFFICIEL---------A
A20: Apremont | B20: YY5 | C20: OFFICIEL---------A
A21: Aranc | B21: ZZ1 | C21: OFFICIEL---------A
A22: Arandas | B22: ZZ2 | C22: OFFICIEL---------A
... A30: Artemare | B30: WW5 | C30: OFFICIEL---------B
A31: Asnières-sur-Saône
A32: Attignat
A33: Bâgé-Dommartin
A34: Bâgé-la-Ville
A35: Bâgé-le-Châtel
A36: Balan
A37: Baneins
A38: Beaupont
A39: Beauregard
A40: Bellignat
A41: Béligneux
A42: Valserhône
... A291: Plantay

Sheet Tables
B1: TABLES
B3: Federations sorted by country name | D3: Elements - CSR Table 1 | J3: Elements - CSR Table 2 | U3: Federations
B4: (for reference only) | T4: Col 1 | U4: Col 2
F5: Number of Competitors up to: | G5: 12 | L5: Number of Competitors from: | M5: =G5+1 -> 13 | T5: FedCode | U5: FedName
B6: Afghanistan - AFG | E6: Deviation | F6: From | G6: Up to | H6: Points | K6: Deviation | L6: From | M6: Up to | N6: Points | T6: AFG | U6: Afghanistan - AFG
B7: Albania - ALB | F7: 0 | G7: 0.5 | H7: 0 | L7: 0 | M7: 0.5 | N7: 0 | T7: AGU | U7: Anguilla - AGU
B8: Algeria - ALG | F8: =G7+0.01 -> 0.51 | G8: =G7+0.2 -> 0.7 | H8: 1 | L8: =M7+0.01 -> 0.51 | M8: =0.3+M7 -> 0.8 | N8: 1 | T8: ALB | U8: Albania - ALB
B9: American Samoa - ASA | F9: =G8+0.01 -> 0.71 | G9: =G8+0.2 -> 0.9 | H9: 2 | L9: =M8+0.01 -> 0.81 | M9: =0.3+M8 -> 1.1 | N9: 2 | T9: ALG | U9: Algeria - ALG
B10: Andorra - AND | F10: =G9+0.01 -> 0.91 | G10: 999 | H10: 3 | L10: =M9+0.01 -> 1.11 | M10: 999 | N10: 3 | T10: AND | U10: Andorra - AND
B11: Angola - ANG | T11: ANG | U11: Angola - ANG
B12: Anguilla - AGU | T12: ANT | U12: Antigua and Barbuda - ANT
B13: Antigua and Barbuda - ANT | D13: Artistic Impression - CSR Table 1 | J13: Artistic Impression - CSR Table 2 | T13: ARG | U13: Argentina - ARG
B14: Argentina - ARG | T14: ARM | U14: Armenia - ARM
B15: Armenia - ARM | F15: Number of Competitors up to: | G15: 12 | L15: Number of Competitors from: | M15: =G15+1 -> 13 | T15: ARU | U15: Aruba - ARU
B16: Aruba - ARU | G16: Deviation | M16: Deviation | T16: ASA | U16: American Samoa - ASA
B17: Australia - AUS | F17: From | G17: Up to | H17: Points | L17: From | M17: Up to | N17: Points | T17: AUS | U17: Australia - AUS
B18: Austria - AUT | F18: 0 | G18: 0.5 | H18: 0 | L18: 0 | M18: 0.5 | N18: 0 | T18: AUT | U18: Austria - AUT
B19: Azerbaijan - AZE | F19: =G18+0.01 -> 0.51 | G19: =G18+0.2 -> 0.7 | H19: 1 | L19: =M18+0.01 -> 0.51 | M19: =0.3+M18 -> 0.8 | N19: 1 | T19: AZE | U19: Azerbaijan - AZE
B20: Bahamas - BAH | F20: =G19+0.01 -> 0.71 | G20: =G19+0.2 -> 0.9 | H20: 2 | L20: =M19+0.01 -> 0.81 | M20: =0.3+M19 -> 1.1 | N20: 2 | T20: BAH | U20: Bahamas - BAH
B21: Bahrain - BRN | F21: =G20+0.01 -> 0.91 | G21: 999 | H21: 3 | L21: =M20+0.01 -> 1.11 | M21: 99 | N21: 3 | T21: BAN | U21: Bangladesh - BAN
B22: Bangladesh - BAN | T22: BAR | U22: Barbados - BAR
B23: Barbados - BAR | T23: BDI | U23: Burundi - BDI
B24: Belarus - BLR | T24: BEL | U24: Belgium - BEL
B25: Belgium - BEL | T25: BEN | U25: Benin - BEN
B26: Belize - BIZ | T26: BER | U26: Bermuda - BER
B27: Benin - BEN | T27: BHU | U27: Bhutan - BHU
B28: Bermuda - BER | D28: Qualification Table | T28: BIH | U28: Bosnia and Herzegovina - BIH
B29: Bhutan - BHU | G29: Number of error points | T29: BIZ | U29: Belize - BIZ
B30: Bolivia - BOL | D30: # of Entries | F30: Row | G30: 0 | H30: 1 | I30: 2 | J30: 3 | K30: 4 | L30: 5 | M30: 6 | N30: 7 | O30: 8 | P30: 9 | Q30: 10 | R30: 11 | T30: BLR | U30: Belarus - BLR
B31: Bosnia and Herzegovina - BIH | D31: 0 | E31: 3 | F31: a | G31: 5 | H31: 3 | I31: 2 | J31: 1 | K31: 1 | L31: 1 | M31: 1 | N31: 1 | O31: 1 | P31: 1 | Q31: 1 | R31: 1 | T31: BOL | U31: Bolivia - BOL
B32: Botswana - BOT | D32: 4 | E32: 5 | F32: b | G32: 5 | H32: 4 | I32: 3 | J32: 2 | K32: 1 | L32: 1 | M32: 1 | N32: 1 | O32: 1 | P32: 1 | Q32: 1 | R32: 1 | T32: BOT | U32: Botswana - BOT
B33: Brazil - BRA | D33: 6 | E33: 9 | F33: c | G33: 5 | H33: 5 | I33: 4 | J33: 3 | K33: 2 | L33: 1 | M33: 1 | N33: 1 | O33: 1 | P33: 1 | Q33: 1 | R33: 1 | T33: BRA | U33: Brazil - BRA
B34: British Virgin Islands - IVB | D34: 10 | E34: 12 | F34: d | G34: 5 | H34: 5 | I34: 4 | J34: 3 | K34: 3 | L34: 2 | M34: 1 | N34: 1 | O34: 1 | P34: 1 | Q34: 1 | R34: 1 | T34: BRN | U34: Bahrain - BRN
B35: Brunei Darussalam - BRU | D35: 13 | E35: 16 | F35: e | G35: 5 | H35: 5 | I35: 4 | J35: 3 | K35: 3 | L35: 2 | M35: 2 | N35: 1 | O35: 1 | P35: 1 | Q35: 1 | R35: 1 | T35: BRU | U35: Brunei Darussalam - BRU
B36: Bulgaria - BUL | D36: =1+E35 -> 17 | E36: 20 | F36: f | G36: 5 | H36: 5 | I36: 5 | J36: 4 | K36: 3 | L36: 2 | M36: 2 | N36: 1 | O36: 1 | P36: 1 | Q36: 1 | R36: 1 | T36: BUL | U36: Bulgaria - BUL
B37: Burkina Faso - BUR | D37: =1+E36 -> 21 | E37: 25 | F37: g | G37: 5 | H37: 5 | I37: 5 | J37: 4 | K37: 4 | L37: 3 | M37: 2 | N37: 2 | O37: 1 | P37: 1 | Q37: 1 | R37: 1 | T37: BUR | U37: Burkina Faso - BUR
B38: Burundi - BDI | D38: =1+E37 -> 26 | E38: 30 | F38: h | G38: 5 | H38: 5 | I38: 5 | J38: 5 | K38: 4 | L38: 4 | M38: 3 | N38: 2 | O38: 2 | P38: 1 | Q38: 1 | R38: 1 | T38: CAF | U38: Central African Republic - CAF
B39: Cambodia - CAM | D39: =1+E38 -> 31 | E39: 35 | F39: i | G39: 5 | H39: 5 | I39: 5 | J39: 5 | K39: 5 | L39: 4 | M39: 3 | N39: 3 | O39: 2 | P39: 2 | Q39: 1 | R39: 1 | T39: CAM | U39: Cambodia - CAM
B40: Cameroon - CMR | D40: =1+E39 -> 36 | E40: 40 | F40: j | G40: 5 | H40: 5 | I40: 5 | J40: 5 | K40: 5 | L40: 4 | M40: 4 | N40: 3 | O40: 2 | P40: 2 | Q40: 1 | R40: 1 | T40: CAN | U40: Canada - CAN
B41: Canada - CAN | D41: =1+E40 -> 41 | E41: 99 | F41: k | G41: 5 | H41: 5 | I41: 5 | J41: 5 | K41: 5 | L41: 5 | M41: 4 | N41: 4 | O41: 3 | P41: 2 | Q41: 2 | R41: 1 | T41: CAY | U41: Cayman Islands - CAY
B42: Cape Verde - CPV | T42: CGO | U42: Congo - CGO
B43: Cayman Islands - CAY | C43: Row | D43: 1 | E43: 2 | F43: 3 | G43: 4 | H43: 5 | I43: 6 | J43: 7 | K43: 8 | L43: 9 | M43: 10 | N43: 11 | O43: 12 | P43: 13 | Q43: 14 | R43: 15 | T43: CHA | U43: Chad - CHA
B44: Central African Republic - CAF | T44: CHI | U44: Chile - CHI
B45: Chad - CHA | T45: CHN | U45: China - CHN
B46: Chile - CHI | T46: CIV | U46: Côte d'Ivoire - CIV
B47: China - CHN | T47: CMR | U47: Cameroon - CMR
B48: Chinese Taipei - TPE | T48: COD | U48: Democratic Republic of the Congo - COD
B49: Colombia - COL | T49: COK | U49: Cook Islands - COK
B50: Comoros - COM | T50: COL | U50: Colombia - COL
B51: Congo - CGO | T51: COM | U51: Comoros - COM
B52: Cook Islands - COK | T52: CPV | U52: Cape Verde - CPV
B53: Costa Rica - CRC | T53: CRC | U53: Costa Rica - CRC
B54: Côte d'Ivoire - CIV | T54: CRO | U54: Croatia - CRO
B55: Croatia - CRO | T55: CUB | U55: Cuba - CUB
... B214: Zimbabwe - ZIM | T214: ZIM | U214: Zimbabwe - ZIM
