Workbook

Sheet RecapMois
A1: Date | B1: CAC ET RECHARGE | C1: Montant total | D1: Encaissement | E1: Ecart Moins/Plus | F1: TOTAL RECETTE ENVOYE | G1: Retard encaissement | H1: Ecart Caisse
A2: 45627 | B2: =SUM(B3:B33) -> 0 | C2: =SUM(C3:C33) -> 88383 | D2: =SUM(D3:D33) -> 87814 | E2: =D2-C2 -> -569 | F2: =SUM(F3:F33) -> 0 | G2: =SUM(G3:G33) -> 0 | H2: =SUM(H3:H33) -> 0
A3: =DATE(YEAR($A$2),ROW()-2,1) -> 45292 | C3: =SUMIF(tblSaisies[MoisAnnee],MONTH(RecapMois!$A3)&YEAR(RecapMois!$A3),tblSaisies[Recettes]) -> 0 | D3: =SUMIF(tblSaisies[MoisAnnee],MONTH(RecapMois!$A3)&YEAR(RecapMois!$A3),tblSaisies[Encaissement]) -> 0 | E3: =D3-C3 -> 0
A4: =DATE(YEAR($A$2),ROW()-2,1) -> 45323 | C4: =SUMIF(tblSaisies[MoisAnnee],MONTH(RecapMois!A4)&YEAR(RecapMois!A4),tblSaisies[Recettes]) -> 0 | D4: =SUMIF(tblSaisies[MoisAnnee],MONTH(RecapMois!$A4)&YEAR(RecapMois!$A4),tblSaisies[Encaissement]) -> 0 | E4: =D4-C4 -> 0
A5: =DATE(YEAR($A$2),ROW()-2,1) -> 45352 | C5: =SUMIF(tblSaisies[MoisAnnee],MONTH(RecapMois!A5)&YEAR(RecapMois!A5),tblSaisies[Recettes]) -> 0 | D5: =SUMIF(tblSaisies[MoisAnnee],MONTH(RecapMois!$A5)&YEAR(RecapMois!$A5),tblSaisies[Encaissement]) -> 0 | E5: =D5-C5 -> 0
A6: =DATE(YEAR($A$2),ROW()-2,1) -> 45383 | C6: =SUMIF(tblSaisies[MoisAnnee],MONTH(RecapMois!A6)&YEAR(RecapMois!A6),tblSaisies[Recettes]) -> 0 | D6: =SUMIF(tblSaisies[MoisAnnee],MONTH(RecapMois!$A6)&YEAR(RecapMois!$A6),tblSaisies[Encaissement]) -> 0 | E6: =D6-C6 -> 0
A7: =DATE(YEAR($A$2),ROW()-2,1) -> 45413 | C7: =SUMIF(tblSaisies[MoisAnnee],MONTH(RecapMois!A7)&YEAR(RecapMois!A7),tblSaisies[Recettes]) -> 0 | D7: =SUMIF(tblSaisies[MoisAnnee],MONTH(RecapMois!$A7)&YEAR(RecapMois!$A7),tblSaisies[Encaissement]) -> 0 | E7: =D7-C7 -> 0
A8: =DATE(YEAR($A$2),ROW()-2,1) -> 45444 | C8: =SUMIF(tblSaisies[MoisAnnee],MONTH(RecapMois!A8)&YEAR(RecapMois!A8),tblSaisies[Recettes]) -> 0 | D8: =SUMIF(tblSaisies[MoisAnnee],MONTH(RecapMois!$A8)&YEAR(RecapMois!$A8),tblSaisies[Encaissement]) -> 0 | E8: =D8-C8 -> 0
A9: =DATE(YEAR($A$2),ROW()-2,1) -> 45474 | C9: =SUMIF(tblSaisies[MoisAnnee],MONTH(RecapMois!A9)&YEAR(RecapMois!A9),tblSaisies[Recettes]) -> 0 | D9: =SUMIF(tblSaisies[MoisAnnee],MONTH(RecapMois!$A9)&YEAR(RecapMois!$A9),tblSaisies[Encaissement]) -> 0 | E9: =D9-C9 -> 0
A10: =DATE(YEAR($A$2),ROW()-2,1) -> 45505 | C10: =SUMIF(tblSaisies[MoisAnnee],MONTH(RecapMois!A10)&YEAR(RecapMois!A10),tblSaisies[Recettes]) -> 0 | D10: =SUMIF(tblSaisies[MoisAnnee],MONTH(RecapMois!$A10)&YEAR(RecapMois!$A10),tblSaisies[Encaissement]) -> 0 | E10: =D10-C10 -> 0
A11: =DATE(YEAR($A$2),ROW()-2,1) -> 45536 | C11: =SUMIF(tblSaisies[MoisAnnee],MONTH(RecapMois!A11)&YEAR(RecapMois!A11),tblSaisies[Recettes]) -> 0 | D11: =SUMIF(tblSaisies[MoisAnnee],MONTH(RecapMois!$A11)&YEAR(RecapMois!$A11),tblSaisies[Encaissement]) -> 0 | E11: =D11-C11 -> 0
A12: =DATE(YEAR($A$2),ROW()-2,1) -> 45566 | C12: =SUMIF(tblSaisies[MoisAnnee],MONTH(RecapMois!A12)&YEAR(RecapMois!A12),tblSaisies[Recettes]) -> 0 | D12: =SUMIF(tblSaisies[MoisAnnee],MONTH(RecapMois!$A12)&YEAR(RecapMois!$A12),tblSaisies[Encaissement]) -> 0 | E12: =D12-C12 -> 0
A13: =DATE(YEAR($A$2),ROW()-2,1) -> 45597 | C13: =SUMIF(tblSaisies[MoisAnnee],MONTH(RecapMois!A13)&YEAR(RecapMois!A13),tblSaisies[Recettes]) -> 0 | D13: =SUMIF(tblSaisies[MoisAnnee],MONTH(RecapMois!$A13)&YEAR(RecapMois!$A13),tblSaisies[Encaissement]) -> 0 | E13: =D13-C13 -> 0
A14: =DATE(YEAR($A$2),ROW()-2,1) -> 45627 | C14: =SUMIF(tblSaisies[MoisAnnee],MONTH(RecapMois!A14)&YEAR(RecapMois!A14),tblSaisies[Recettes]) -> 88383 | D14: =SUMIF(tblSaisies[MoisAnnee],MONTH(RecapMois!$A14)&YEAR(RecapMois!$A14),tblSaisies[Encaissement]) -> 87814 | E14: =D14-C14 -> -569

Sheet RecapJour
A1: Date | B1: CAC ET RECHARGE | C1: Montant total | D1: Encaissement | E1: Ecart Moins/Plus | F1: TOTAL RECETTE ENVOYE | G1: Retard encaissement | H1: Ecart Caisse
A2: 45627 | B2: =SUM(B3:B33) -> 0 | C2: =SUM(C3:C33) -> 88383 | D2: =SUM(D3:D33) -> 87814 | E2: =SUM(E3:E33) -> -569 | F2: =SUM(F3:F33) -> 0 | G2: =SUM(G3:G33) -> 0 | H2: =SUM(H3:H33) -> -87814
A3: =DATE(YEAR(A2),MONTH(A2),ROW()-2) -> 45627 | C3: =SUMIF(tblSaisies[Date],A3,tblSaisies[Recettes]) -> 88383 | D3: =SUMIF(tblSaisies[Date],A3,tblSaisies[Encaissement]) -> 87814 | E3: =D3-C3 -> -569 | G3: 0 | H3: =F3-D3 -> -87814
A4: =A3+1 -> 45628 | C4: =SUMIF(tblSaisies[Date],A4,tblSaisies[Recettes]) -> 0 | D4: =SUMIF(tblSaisies[Date],A4,tblSaisies[Encaissement]) -> 0 | E4: =D4-C4 -> 0 | G4: =COUNT(#REF!) -> 0 | H4: =F4-D4 -> 0
A5: =A4+1 -> 45629 | C5: =SUMIF(tblSaisies[Date],A5,tblSaisies[Recettes]) -> 0 | D5: =SUMIF(tblSaisies[Date],A5,tblSaisies[Encaissement]) -> 0 | E5: =D5-C5 -> 0 | G5: =COUNT(#REF!) -> 0 | H5: =F5-D5 -> 0
A6: =A5+1 -> 45630 | C6: =SUMIF(tblSaisies[Date],A6,tblSaisies[Recettes]) -> 0 | D6: =SUMIF(tblSaisies[Date],A6,tblSaisies[Encaissement]) -> 0 | E6: =D6-C6 -> 0 | G6: =COUNT(#REF!) -> 0 | H6: =F6-D6 -> 0
A7: =A6+1 -> 45631 | C7: =SUMIF(tblSaisies[Date],A7,tblSaisies[Recettes]) -> 0 | D7: =SUMIF(tblSaisies[Date],A7,tblSaisies[Encaissement]) -> 0 | E7: =D7-C7 -> 0 | G7: =COUNT(#REF!) -> 0 | H7: =F7-D7 -> 0
A8: =A7+1 -> 45632 | C8: =SUMIF(tblSaisies[Date],A8,tblSaisies[Recettes]) -> 0 | D8: =SUMIF(tblSaisies[Date],A8,tblSaisies[Encaissement]) -> 0 | E8: =D8-C8 -> 0 | G8: =COUNT(#REF!) -> 0 | H8: =F8-D8 -> 0
A9: =A8+1 -> 45633 | C9: =SUMIF(tblSaisies[Date],A9,tblSaisies[Recettes]) -> 0 | D9: =SUMIF(tblSaisies[Date],A9,tblSaisies[Encaissement]) -> 0 | E9: =D9-C9 -> 0 | G9: =COUNT(#REF!) -> 0 | H9: =F9-D9 -> 0
A10: =A9+1 -> 45634 | C10: =SUMIF(tblSaisies[Date],A10,tblSaisies[Recettes]) -> 0 | D10: =SUMIF(tblSaisies[Date],A10,tblSaisies[Encaissement]) -> 0 | E10: =D10-C10 -> 0 | G10: =COUNT(#REF!) -> 0 | H10: =F10-D10 -> 0
A11: =A10+1 -> 45635 | C11: =SUMIF(tblSaisies[Date],A11,tblSaisies[Recettes]) -> 0 | D11: =SUMIF(tblSaisies[Date],A11,tblSaisies[Encaissement]) -> 0 | E11: =D11-C11 -> 0 | G11: =COUNT(#REF!) -> 0 | H11: =F11-D11 -> 0
A12: =A11+1 -> 45636 | C12: =SUMIF(tblSaisies[Date],A12,tblSaisies[Recettes]) -> 0 | D12: =SUMIF(tblSaisies[Date],A12,tblSaisies[Encaissement]) -> 0 | E12: =D12-C12 -> 0 | G12: =COUNT(#REF!) -> 0 | H12: =F12-D12 -> 0
A13: =A12+1 -> 45637 | C13: =SUMIF(tblSaisies[Date],A13,tblSaisies[Recettes]) -> 0 | D13: =SUMIF(tblSaisies[Date],A13,tblSaisies[Encaissement]) -> 0 | E13: =D13-C13 -> 0 | G13: =COUNT(#REF!) -> 0 | H13: =F13-D13 -> 0
A14: =A13+1 -> 45638 | C14: =SUMIF(tblSaisies[Date],A14,tblSaisies[Recettes]) -> 0 | D14: =SUMIF(tblSaisies[Date],A14,tblSaisies[Encaissement]) -> 0 | E14: =D14-C14 -> 0 | G14: =COUNT(#REF!) -> 0 | H14: =F14-D14 -> 0
A15: =A14+1 -> 45639 | C15: =SUMIF(tblSaisies[Date],A15,tblSaisies[Recettes]) -> 0 | D15: =SUMIF(tblSaisies[Date],A15,tblSaisies[Encaissement]) -> 0 | E15: =D15-C15 -> 0 | G15: =COUNT(#REF!) -> 0 | H15: =F15-D15 -> 0
... A19: =A18+1 -> 45643 | C19: =SUMIF(tblSaisies[Date],A19,tblSaisies[Recettes]) -> 0 | D19: =SUMIF(tblSaisies[Date],A19,tblSaisies[Encaissement]) -> 0 | E19: =D19-C19 -> 0 | G19: =COUNT(#REF!) -> 0 | H19: =F19-D19 -> 0
A20: =A19+1 -> 45644 | C20: =SUMIF(tblSaisies[Date],A20,tblSaisies[Recettes]) -> 0 | D20: =SUMIF(tblSaisies[Date],A20,tblSaisies[Encaissement]) -> 0 | E20: =D20-C20 -> 0 | H20: =F20-D20 -> 0
A21: =A20+1 -> 45645 | C21: =SUMIF(tblSaisies[Date],A21,tblSaisies[Recettes]) -> 0 | D21: =SUMIF(tblSaisies[Date],A21,tblSaisies[Encaissement]) -> 0 | E21: =D21-C21 -> 0 | G21: =COUNT(#REF!) -> 0 | H21: =F21-D21 -> 0
A22: =A21+1 -> 45646 | C22: =SUMIF(tblSaisies[Date],A22,tblSaisies[Recettes]) -> 0 | D22: =SUMIF(tblSaisies[Date],A22,tblSaisies[Encaissement]) -> 0 | E22: =D22-C22 -> 0 | G22: =COUNT(#REF!) -> 0 | H22: =F22-D22 -> 0
A23: =A22+1 -> 45647 | C23: =SUMIF(tblSaisies[Date],A23,tblSaisies[Recettes]) -> 0 | D23: =SUMIF(tblSaisies[Date],A23,tblSaisies[Encaissement]) -> 0 | E23: =D23-C23 -> 0 | G23: =COUNT(#REF!) -> 0 | H23: =F23-D23 -> 0
A24: =A23+1 -> 45648 | C24: =SUMIF(tblSaisies[Date],A24,tblSaisies[Recettes]) -> 0 | D24: =SUMIF(tblSaisies[Date],A24,tblSaisies[Encaissement]) -> 0 | E24: =D24-C24 -> 0 | G24: =COUNT(#REF!) -> 0 | H24: =F24-D24 -> 0
A25: =A24+1 -> 45649 | C25: =SUMIF(tblSaisies[Date],A25,tblSaisies[Recettes]) -> 0 | D25: =SUMIF(tblSaisies[Date],A25,tblSaisies[Encaissement]) -> 0 | E25: =D25-C25 -> 0 | G25: =COUNT(#REF!) -> 0 | H25: =F25-D25 -> 0
A26: =A25+1 -> 45650 | C26: =SUMIF(tblSaisies[Date],A26,tblSaisies[Recettes]) -> 0 | D26: =SUMIF(tblSaisies[Date],A26,tblSaisies[Encaissement]) -> 0 | E26: =D26-C26 -> 0 | G26: =COUNT(#REF!) -> 0 | H26: =F26-D26 -> 0
A27: =A26+1 -> 45651 | C27: =SUMIF(tblSaisies[Date],A27,tblSaisies[Recettes]) -> 0 | D27: =SUMIF(tblSaisies[Date],A27,tblSaisies[Encaissement]) -> 0 | E27: =D27-C27 -> 0 | G27: =COUNT(#REF!) -> 0 | H27: =F27-D27 -> 0
A28: =A27+1 -> 45652 | C28: =SUMIF(tblSaisies[Date],A28,tblSaisies[Recettes]) -> 0 | D28: =SUMIF(tblSaisies[Date],A28,tblSaisies[Encaissement]) -> 0 | E28: =D28-C28 -> 0 | G28: =COUNT(#REF!) -> 0 | H28: =F28-D28 -> 0
A29: =A28+1 -> 45653 | C29: =SUMIF(tblSaisies[Date],A29,tblSaisies[Recettes]) -> 0 | D29: =SUMIF(tblSaisies[Date],A29,tblSaisies[Encaissement]) -> 0 | E29: =D29-C29 -> 0 | G29: =COUNT(#REF!) -> 0 | H29: =F29-D29 -> 0
A30: =A29+1 -> 45654 | C30: =SUMIF(tblSaisies[Date],A30,tblSaisies[Recettes]) -> 0 | D30: =SUMIF(tblSaisies[Date],A30,tblSaisies[Encaissement]) -> 0 | E30: =D30-C30 -> 0 | G30: =COUNT(#REF!) -> 0 | H30: =F30-D30 -> 0
A31: =IF(A30<>"",IF(MONTH(A30+1)=MONTH(A30),A30+1,""),"") -> 45655 | C31: =SUMIF(tblSaisies[Date],A31,tblSaisies[Recettes]) -> 0 | D31: =SUMIF(tblSaisies[Date],A31,tblSaisies[Encaissement]) -> 0 | E31: =D31-C31 -> 0 | G31: =COUNT(#REF!) -> 0 | H31: =F31-D31 -> 0
A32: =IF(A31<>"",IF(MONTH(A31+1)=MONTH(A31),A31+1,""),"") -> 45656 | C32: =SUMIF(tblSaisies[Date],A32,tblSaisies[Recettes]) -> 0 | D32: =SUMIF(tblSaisies[Date],A32,tblSaisies[Encaissement]) -> 0 | E32: =D32-C32 -> 0 | G32: =COUNT(#REF!) -> 0 | H32: =F32-D32 -> 0
A33: =IF(A32<>"",IF(MONTH(A32+1)=MONTH(A32),A32+1,""),"") -> 45657 | C33: =SUMIF(tblSaisies[Date],A33,tblSaisies[Recettes]) -> 0 | D33: =SUMIF(tblSaisies[Date],A33,tblSaisies[Encaissement]) -> 0 | E33: =D33-C33 -> 0 | G33: =COUNT(#REF!) -> 0 | H33: =F33-D33 -> 0

Sheet SyntheseJour
A1: Date | D1: 45627
B3: id Employé | C3: Recettes | D3: Encaissement | E3: Différence | F3: Commentaires
C4: =SUM(_xlfn.ANCHORARRAY(C5)) -> 88383 | D4: =SUM(_xlfn.ANCHORARRAY(D5)) -> 87814 | E4: =D4-C4 -> -569
B5: {=_xlfn._xlws.FILTER(tblChauffeurs[id],tblChauffeurs[Actif]="Actif")} -> 36 | C5: {=IFERROR(INDEX(tblSaisies[Recettes],MATCH($D$1&_xlfn.ANCHORARRAY(B5),tblSaisies[Clé],0)),"-")} -> 852 | D5: {=IFERROR(INDEX(tblSaisies[Encaissement],MATCH($D$1&_xlfn.ANCHORARRAY(B5),tblSaisies[Clé],0)),"-")} -> 0 | E5: {=IFERROR(_xlfn.ANCHORARRAY(D5)-_xlfn.ANCHORARRAY(C5),"-")} -> -852 | F5: {=IF(_xlfn.ANCHORARRAY(D5)=0,"Retard de paiement",IF(COUNTIF(tblSaisies[Clé],$D$1&_xlfn.ANCHORARRAY(B5))=0,"Pas d'encodage",""))} -> Retard de paiement
B6: 37 | C6: 456 | D6: 456 | E6: 0
B7: 38 | C7: 1596 | D7: 1596 | E7: 0
B8: 40 | C8: 548 | D8: 548 | E8: 0
B9: 41 | C9: 612 | D9: 612 | E9: 0
B10: 42 | C10: 604 | D10: 604 | E10: 0
B11: 43 | C11: 1820 | D11: 1820 | E11: 0
B12: 44 | C12: - | D12: - | E12: - | F12: Pas d'encodage
B13: 45 | C13: 1421 | D13: 1421 | E13: 0
B14: 46 | C14: 1869 | D14: 1870 | E14: 1
B15: 47 | C15: 1148 | D15: 1128 | E15: -20
B16: 48 | C16: 1554 | D16: 1555.5 | E16: 1.5
B17: 49 | C17: - | D17: - | E17: - | F17: Pas d'encodage
B18: 50 | C18: 1416 | D18: 1433 | E18: 17
B19: 51 | C19: 828 | D19: 828 | E19: 0
B20: 52 | C20: - | D20: - | E20: - | F20: Pas d'encodage
B21: 53 | C21: - | D21: - | E21: - | F21: Pas d'encodage
B22: 54 | C22: 1324 | D22: 1323 | E22: -1
B23: 55 | C23: 736 | D23: 736 | E23: 0
B24: 56 | C24: - | D24: - | E24: - | F24: Pas d'encodage
B25: 57 | C25: 1160 | D25: 1160 | E25: 0
B26: 58 | C26: 804 | D26: 804 | E26: 0
B27: 59 | C27: 616 | D27: 616 | E27: 0
B28: 60 | C28: 2072 | D28: 2072 | E28: 0
B29: 61 | C29: - | D29: - | E29: - | F29: Pas d'encodage
B30: 62 | C30: - | D30: - | E30: - | F30: Pas d'encodage
B31: 63 | C31: - | D31: - | E31: - | F31: Pas d'encodage
B32: 64 | C32: 780 | D32: 780 | E32: 0
B33: 65 | C33: - | D33: - | E33: - | F33: Pas d'encodage
B34: 66 | C34: - | D34: - | E34: - | F34: Pas d'encodage
B35: 67 | C35: 1148 | D35: 1143 | E35: -5
B36: 68 | C36: - | D36: - | E36: - | F36: Pas d'encodage
B37: 69 | C37: 1228 | D37: 1228 | E37: 0
B38: 70 | C38: - | D38: - | E38: - | F38: Pas d'encodage
B39: 71 | C39: 656 | D39: 656 | E39: 0
B40: 72 | C40: 1016 | D40: 1016 | E40: 0
B41: 73 | C41: 1012 | D41: 1002 | E41: -10
...

Sheet dataSaisie
A1: Date | B1: Chauffeur | C1: Recettes | D1: Encaissement | E1: Clé | F1: MoisAnnee
A2: 45627 | B2: 36 | C2: 852 | D2: 0 | E2: =tblSaisies[[#This Row],[Date]]&tblSaisies[[#This Row],[Chauffeur]] -> 4562736 | F2: =MONTH(tblSaisies[[#This Row],[Date]])&YEAR(tblSaisies[[#This Row],[Date]]) -> 122024
A3: 45627 | B3: 37 | C3: 456 | D3: 456 | E3: =tblSaisies[[#This Row],[Date]]&tblSaisies[[#This Row],[Chauffeur]] -> 4562737 | F3: =MONTH(tblSaisies[[#This Row],[Date]])&YEAR(tblSaisies[[#This Row],[Date]]) -> 122024
A4: 45627 | B4: 38 | C4: 1596 | D4: 1596 | E4: =tblSaisies[[#This Row],[Date]]&tblSaisies[[#This Row],[Chauffeur]] -> 4562738 | F4: =MONTH(tblSaisies[[#This Row],[Date]])&YEAR(tblSaisies[[#This Row],[Date]]) -> 122024
A5: 45627 | B5: 40 | C5: 548 | D5: 548 | E5: =tblSaisies[[#This Row],[Date]]&tblSaisies[[#This Row],[Chauffeur]] -> 4562740 | F5: =MONTH(tblSaisies[[#This Row],[Date]])&YEAR(tblSaisies[[#This Row],[Date]]) -> 122024
A6: 45627 | B6: 41 | C6: 612 | D6: 612 | E6: =tblSaisies[[#This Row],[Date]]&tblSaisies[[#This Row],[Chauffeur]] -> 4562741 | F6: =MONTH(tblSaisies[[#This Row],[Date]])&YEAR(tblSaisies[[#This Row],[Date]]) -> 122024
A7: 45627 | B7: 42 | C7: 604 | D7: 604 | E7: =tblSaisies[[#This Row],[Date]]&tblSaisies[[#This Row],[Chauffeur]] -> 4562742 | F7: =MONTH(tblSaisies[[#This Row],[Date]])&YEAR(tblSaisies[[#This Row],[Date]]) -> 122024
A8: 45627 | B8: 43 | C8: 1820 | D8: 1820 | E8: =tblSaisies[[#This Row],[Date]]&tblSaisies[[#This Row],[Chauffeur]] -> 4562743 | F8: =MONTH(tblSaisies[[#This Row],[Date]])&YEAR(tblSaisies[[#This Row],[Date]]) -> 122024
A9: 45627 | B9: 45 | C9: 1421 | D9: 1421 | E9: =tblSaisies[[#This Row],[Date]]&tblSaisies[[#This Row],[Chauffeur]] -> 4562745 | F9: =MONTH(tblSaisies[[#This Row],[Date]])&YEAR(tblSaisies[[#This Row],[Date]]) -> 122024
A10: 45627 | B10: 46 | C10: 1869 | D10: 1870 | E10: =tblSaisies[[#This Row],[Date]]&tblSaisies[[#This Row],[Chauffeur]] -> 4562746 | F10: =MONTH(tblSaisies[[#This Row],[Date]])&YEAR(tblSaisies[[#This Row],[Date]]) -> 122024
A11: 45627 | B11: 47 | C11: 1148 | D11: 1128 | E11: =tblSaisies[[#This Row],[Date]]&tblSaisies[[#This Row],[Chauffeur]] -> 4562747 | F11: =MONTH(tblSaisies[[#This Row],[Date]])&YEAR(tblSaisies[[#This Row],[Date]]) -> 122024
A12: 45627 | B12: 48 | C12: 1554 | D12: 1555.5 | E12: =tblSaisies[[#This Row],[Date]]&tblSaisies[[#This Row],[Chauffeur]] -> 4562748 | F12: =MONTH(tblSaisies[[#This Row],[Date]])&YEAR(tblSaisies[[#This Row],[Date]]) -> 122024
A13: 45627 | B13: 50 | C13: 1416 | D13: 1433 | E13: =tblSaisies[[#This Row],[Date]]&tblSaisies[[#This Row],[Chauffeur]] -> 4562750 | F13: =MONTH(tblSaisies[[#This Row],[Date]])&YEAR(tblSaisies[[#This Row],[Date]]) -> 122024
... A77: 45627 | B77: 161 | C77: 1532 | D77: 1531.5 | E77: =tblSaisies[[#This Row],[Date]]&tblSaisies[[#This Row],[Chauffeur]] -> 45627161 | F77: =MONTH(tblSaisies[[#This Row],[Date]])&YEAR(tblSaisies[[#This Row],[Date]]) -> 122024

Sheet dataChauffeurs
A1: id | B1: Nom et prénom | C1: date d'entrée | D1: date de sortie | E1: Actif | H1: id | I1: Nom et prénom | J1: Début absence | K1: Fin absence | L1: Présent
A2: 36 | C2: 45261 | E2: =IF(COUNTIFS(tblAbsences[Présent],"Absent",tblAbsences[id],tblChauffeurs[[#This Row],[id]])=1,"Inactif",IF(tblChauffeurs[[#This Row],[date de sortie]]>0,IF(AND(SyntheseJour!$D$1>=tblChauffeurs[[#This Row],[date d''entrée]],SyntheseJour!$D$1<=tblChauffeurs[[#This Row],[date de sortie]]),"Actif","Inactif"),IF(SyntheseJour!$D$1>=tblChauffeurs[[#This Row],[date d''entrée]],"Actif","Inactif"))) -> Actif | H2: 39 | J2: 45507 | K2: 45507 | L2: =IF(AND(tblAbsences[[#This Row],[Début absence]]<=SyntheseJour!$D$1,tblAbsences[[#This Row],[Fin absence]]>=SyntheseJour!$D$1),"Absent","")
A3: 37 | C3: 45627 | E3: =IF(COUNTIFS(tblAbsences[Présent],"Absent",tblAbsences[id],tblChauffeurs[[#This Row],[id]])=1,"Inactif",IF(tblChauffeurs[[#This Row],[date de sortie]]>0,IF(AND(SyntheseJour!$D$1>=tblChauffeurs[[#This Row],[date d''entrée]],SyntheseJour!$D$1<=tblChauffeurs[[#This Row],[date de sortie]]),"Actif","Inactif"),IF(SyntheseJour!$D$1>=tblChauffeurs[[#This Row],[date d''entrée]],"Actif","Inactif"))) -> Actif | H3: 39 | J3: 45611 | K3: 45641 | L3: =IF(AND(tblAbsences[[#This Row],[Début absence]]<=SyntheseJour!$D$1,tblAbsences[[#This Row],[Fin absence]]>=SyntheseJour!$D$1),"Absent","") -> Absent
A4: 38 | C4: 45627 | E4: =IF(COUNTIFS(tblAbsences[Présent],"Absent",tblAbsences[id],tblChauffeurs[[#This Row],[id]])=1,"Inactif",IF(tblChauffeurs[[#This Row],[date de sortie]]>0,IF(AND(SyntheseJour!$D$1>=tblChauffeurs[[#This Row],[date d''entrée]],SyntheseJour!$D$1<=tblChauffeurs[[#This Row],[date de sortie]]),"Actif","Inactif"),IF(SyntheseJour!$D$1>=tblChauffeurs[[#This Row],[date d''entrée]],"Actif","Inactif"))) -> Actif
A5: 39 | C5: 45627 | E5: =IF(COUNTIFS(tblAbsences[Présent],"Absent",tblAbsences[id],tblChauffeurs[[#This Row],[id]])=1,"Inactif",IF(tblChauffeurs[[#This Row],[date de sortie]]>0,IF(AND(SyntheseJour!$D$1>=tblChauffeurs[[#This Row],[date d''entrée]],SyntheseJour!$D$1<=tblChauffeurs[[#This Row],[date de sortie]]),"Actif","Inactif"),IF(SyntheseJour!$D$1>=tblChauffeurs[[#This Row],[date d''entrée]],"Actif","Inactif"))) -> Inactif
A6: 40 | C6: 45627 | E6: =IF(COUNTIFS(tblAbsences[Présent],"Absent",tblAbsences[id],tblChauffeurs[[#This Row],[id]])=1,"Inactif",IF(tblChauffeurs[[#This Row],[date de sortie]]>0,IF(AND(SyntheseJour!$D$1>=tblChauffeurs[[#This Row],[date d''entrée]],SyntheseJour!$D$1<=tblChauffeurs[[#This Row],[date de sortie]]),"Actif","Inactif"),IF(SyntheseJour!$D$1>=tblChauffeurs[[#This Row],[date d''entrée]],"Actif","Inactif"))) -> Actif
A7: 41 | C7: 45627 | E7: =IF(COUNTIFS(tblAbsences[Présent],"Absent",tblAbsences[id],tblChauffeurs[[#This Row],[id]])=1,"Inactif",IF(tblChauffeurs[[#This Row],[date de sortie]]>0,IF(AND(SyntheseJour!$D$1>=tblChauffeurs[[#This Row],[date d''entrée]],SyntheseJour!$D$1<=tblChauffeurs[[#This Row],[date de sortie]]),"Actif","Inactif"),IF(SyntheseJour!$D$1>=tblChauffeurs[[#This Row],[date d''entrée]],"Actif","Inactif"))) -> Actif
A8: 42 | C8: 45627 | E8: =IF(COUNTIFS(tblAbsences[Présent],"Absent",tblAbsences[id],tblChauffeurs[[#This Row],[id]])=1,"Inactif",IF(tblChauffeurs[[#This Row],[date de sortie]]>0,IF(AND(SyntheseJour!$D$1>=tblChauffeurs[[#This Row],[date d''entrée]],SyntheseJour!$D$1<=tblChauffeurs[[#This Row],[date de sortie]]),"Actif","Inactif"),IF(SyntheseJour!$D$1>=tblChauffeurs[[#This Row],[date d''entrée]],"Actif","Inactif"))) -> Actif
A9: 43 | C9: 45627 | E9: =IF(COUNTIFS(tblAbsences[Présent],"Absent",tblAbsences[id],tblChauffeurs[[#This Row],[id]])=1,"Inactif",IF(tblChauffeurs[[#This Row],[date de sortie]]>0,IF(AND(SyntheseJour!$D$1>=tblChauffeurs[[#This Row],[date d''entrée]],SyntheseJour!$D$1<=tblChauffeurs[[#This Row],[date de sortie]]),"Actif","Inactif"),IF(SyntheseJour!$D$1>=tblChauffeurs[[#This Row],[date d''entrée]],"Actif","Inactif"))) -> Actif
A10: 44 | C10: 45627 | E10: =IF(COUNTIFS(tblAbsences[Présent],"Absent",tblAbsences[id],tblChauffeurs[[#This Row],[id]])=1,"Inactif",IF(tblChauffeurs[[#This Row],[date de sortie]]>0,IF(AND(SyntheseJour!$D$1>=tblChauffeurs[[#This Row],[date d''entrée]],SyntheseJour!$D$1<=tblChauffeurs[[#This Row],[date de sortie]]),"Actif","Inactif"),IF(SyntheseJour!$D$1>=tblChauffeurs[[#This Row],[date d''entrée]],"Actif","Inactif"))) -> Actif
A11: 45 | C11: 45627 | E11: =IF(COUNTIFS(tblAbsences[Présent],"Absent",tblAbsences[id],tblChauffeurs[[#This Row],[id]])=1,"Inactif",IF(tblChauffeurs[[#This Row],[date de sortie]]>0,IF(AND(SyntheseJour!$D$1>=tblChauffeurs[[#This Row],[date d''entrée]],SyntheseJour!$D$1<=tblChauffeurs[[#This Row],[date de sortie]]),"Actif","Inactif"),IF(SyntheseJour!$D$1>=tblChauffeurs[[#This Row],[date d''entrée]],"Actif","Inactif"))) -> Actif
A12: 46 | C12: 45627 | E12: =IF(COUNTIFS(tblAbsences[Présent],"Absent",tblAbsences[id],tblChauffeurs[[#This Row],[id]])=1,"Inactif",IF(tblChauffeurs[[#This Row],[date de sortie]]>0,IF(AND(SyntheseJour!$D$1>=tblChauffeurs[[#This Row],[date d''entrée]],SyntheseJour!$D$1<=tblChauffeurs[[#This Row],[date de sortie]]),"Actif","Inactif"),IF(SyntheseJour!$D$1>=tblChauffeurs[[#This Row],[date d''entrée]],"Actif","Inactif"))) -> Actif
A13: 47 | C13: 45627 | E13: =IF(COUNTIFS(tblAbsences[Présent],"Absent",tblAbsences[id],tblChauffeurs[[#This Row],[id]])=1,"Inactif",IF(tblChauffeurs[[#This Row],[date de sortie]]>0,IF(AND(SyntheseJour!$D$1>=tblChauffeurs[[#This Row],[date d''entrée]],SyntheseJour!$D$1<=tblChauffeurs[[#This Row],[date de sortie]]),"Actif","Inactif"),IF(SyntheseJour!$D$1>=tblChauffeurs[[#This Row],[date d''entrée]],"Actif","Inactif"))) -> Actif
A14: 48 | C14: 45627 | E14: =IF(COUNTIFS(tblAbsences[Présent],"Absent",tblAbsences[id],tblChauffeurs[[#This Row],[id]])=1,"Inactif",IF(tblChauffeurs[[#This Row],[date de sortie]]>0,IF(AND(SyntheseJour!$D$1>=tblChauffeurs[[#This Row],[date d''entrée]],SyntheseJour!$D$1<=tblChauffeurs[[#This Row],[date de sortie]]),"Actif","Inactif"),IF(SyntheseJour!$D$1>=tblChauffeurs[[#This Row],[date d''entrée]],"Actif","Inactif"))) -> Actif
A15: 49 | C15: 45627 | E15: =IF(COUNTIFS(tblAbsences[Présent],"Absent",tblAbsences[id],tblChauffeurs[[#This Row],[id]])=1,"Inactif",IF(tblChauffeurs[[#This Row],[date de sortie]]>0,IF(AND(SyntheseJour!$D$1>=tblChauffeurs[[#This Row],[date d''entrée]],SyntheseJour!$D$1<=tblChauffeurs[[#This Row],[date de sortie]]),"Actif","Inactif"),IF(SyntheseJour!$D$1>=tblChauffeurs[[#This Row],[date d''entrée]],"Actif","Inactif"))) -> Actif
... A127: 161 | C127: 45627 | E127: =IF(COUNTIFS(tblAbsences[Présent],"Absent",tblAbsences[id],tblChauffeurs[[#This Row],[id]])=1,"Inactif",IF(tblChauffeurs[[#This Row],[date de sortie]]>0,IF(AND(SyntheseJour!$D$1>=tblChauffeurs[[#This Row],[date d''entrée]],SyntheseJour!$D$1<=tblChauffeurs[[#This Row],[date de sortie]]),"Actif","Inactif"),IF(SyntheseJour!$D$1>=tblChauffeurs[[#This Row],[date d''entrée]],"Actif","Inactif"))) -> Actif
