Workbook

Sheet SPX supplies file
A1: SaPCode | B1: Active Supplier | C1: Description | D1: VMN | E1: Status | F1: CAT referentie
A2: 246987 | B2: 25542 | C2: /DS2 TONER VOOR MINOLTA EP1052 | D2: 1201035 | E2: tab 2 | F2: =IFERROR(VLOOKUP(VALUE(D2),'Cat Bijbel'!D:E,2,FALSE),"")
A3: 256058 | B3: 25542 | C3: /EPSON LX300 LINT KLEUR EPSSO15073 | D3: 1010491 | F3: =IFERROR(VLOOKUP(VALUE(D3),'Cat Bijbel'!D:E,2,FALSE),"")
A4: 265221 | B4: 25542 | C4: /DIGITAL LA600 LINT LA60RKA | D4: 2329970 | F4: =IFERROR(VLOOKUP(VALUE(D4),'Cat Bijbel'!D:E,2,FALSE),"")
A5: 290444 | B5: 25542 | C5: /LEXMARK 12A1980 INKJET CART COLOR | D5: 2334279 | F5: =IFERROR(VLOOKUP(VALUE(D5),'Cat Bijbel'!D:E,2,FALSE),"")
A6: 295623 | B6: 25542 | C6: /DS4 MINOLTA EP1030/1031 TONER | D6: 1900585 | F6: =IFERROR(VLOOKUP(VALUE(D6),'Cat Bijbel'!D:E,2,FALSE),"")
A7: 324783 | B7: 25542 | C7: /CARTRIGE EPSON STYLUS COLOR GEEL | D7: 1010386 | F7: =IFERROR(VLOOKUP(VALUE(D7),'Cat Bijbel'!D:E,2,FALSE),"")
A8: 324794 | B8: 25542 | C8: /CARTRIGE EPSON STYLUS COLOR ROOD | D8: 1010384 | F8: =IFERROR(VLOOKUP(VALUE(D8),'Cat Bijbel'!D:E,2,FALSE),"")
A9: 324828 | B9: 25542 | C9: /CARTRIGE EPSON STYLUS COLOR ZWART | D9: 1010372 | F9: =IFERROR(VLOOKUP(VALUE(D9),'Cat Bijbel'!D:E,2,FALSE),"")
A10: 397306 | B10: 25542 | C10: /DS2 TONER CANON NP6010 | D10: 1240652 | F10: =IFERROR(VLOOKUP(VALUE(D10),'Cat Bijbel'!D:E,2,FALSE),"")
A11: 795723 | B11: 25542 | C11: /DS2 MITA 2556-2557-3055 TONER | D11: 1808324 | F11: =IFERROR(VLOOKUP(VALUE(D11),'Cat Bijbel'!D:E,2,FALSE),"")
A12: 855264 | B12: 25542 | C12: /KYOCERA TK30 TONER | D12: 1207968 | F12: =IFERROR(VLOOKUP(VALUE(D12),'Cat Bijbel'!D:E,2,FALSE),"")
A13: 1184455 | B13: 25542 | C13: /EPSON FX 980 LINT SO15091 | D13: 1010457 | F13: =IFERROR(VLOOKUP(VALUE(D13),'Cat Bijbel'!D:E,2,FALSE),"")
A14: 1241841 | B14: 25542 | C14: /XEROX 735 PRO DRUM 113R438 | D14: 1012095 | F14: =IFERROR(VLOOKUP(VALUE(D14),'Cat Bijbel'!D:E,2,FALSE),"")
... A38: 2165467 | B38: 25542 | C38: /TONER IBM 1130-40 | D38: 2333330 | F38: =IFERROR(VLOOKUP(VALUE(D38),'Cat Bijbel'!D:E,2,FALSE),"")
A39: 2168308 | B39: 25542 | C39: /LEXMARK Z55 CARTRIDGE ZWART 18L0032 | F39: =IFERROR(VLOOKUP(VALUE(D39),'Cat Bijbel'!D:E,2,FALSE),"") -> 4934082
A40: 2175768 | B40: 25542 | C40: /INKTCART.HP N°81 ZWART HPC4930A | D40: 1025609 | F40: =IFERROR(VLOOKUP(VALUE(D40),'Cat Bijbel'!D:E,2,FALSE),"")
A41: 2175779 | B41: 25542 | C41: /INKTCART. HP N°81 CYAN HPC4931A | D41: 1025633 | F41: =IFERROR(VLOOKUP(VALUE(D41),'Cat Bijbel'!D:E,2,FALSE),"")
A42: 2175781 | B42: 25542 | C42: /INKTCART. HP N░81 MAGENTA HPC4932A | D42: 1025637 | F42: =IFERROR(VLOOKUP(VALUE(D42),'Cat Bijbel'!D:E,2,FALSE),"")
A43: 2175792 | B43: 25542 | C43: /INKTCART. HP N°81 GEEL HPC4933A | D43: 1025660 | F43: =IFERROR(VLOOKUP(VALUE(D43),'Cat Bijbel'!D:E,2,FALSE),"")
A44: 2175804 | B44: 25542 | C44: /INKTCART. HP N░81LT CYAN HPC4934A | D44: 1025665 | F44: =IFERROR(VLOOKUP(VALUE(D44),'Cat Bijbel'!D:E,2,FALSE),"")
A45: 2175826 | B45: 25542 | C45: /INKTCART. HP N░ 81LT MAGENTA HPC4935A | D45: 1025669 | F45: =IFERROR(VLOOKUP(VALUE(D45),'Cat Bijbel'!D:E,2,FALSE),"")
A46: 2181508 | B46: 25542 | C46: /MINOLTA/QMS 9100 TONER ZWART QMS20171 | D46: 1424467 | F46: =IFERROR(VLOOKUP(VALUE(D46),'Cat Bijbel'!D:E,2,FALSE),"")
A47: 2181656 | B47: 25542 | C47: /RICOH AFICIO 1080 TYPE 1220D ZWART | D47: 1808367 | F47: =IFERROR(VLOOKUP(VALUE(D47),'Cat Bijbel'!D:E,2,FALSE),"")
A48: 2196214 | B48: 25542 | C48: /OKI C9000 TONER ZWART | D48: 1027950 | F48: =IFERROR(VLOOKUP(VALUE(D48),'Cat Bijbel'!D:E,2,FALSE),"")
A49: 2202182 | B49: 25542 | C49: /TONERKIT TK70 KYOCERA FS9100DN FS9500DN | D49: 1208010 | F49: =IFERROR(VLOOKUP(VALUE(D49),'Cat Bijbel'!D:E,2,FALSE),"")
A50: 2214651 | B50: 25542 | C50: /DS5 COLORSTIX PHASER 8200 CYAN | D50: 1067929 | F50: =IFERROR(VLOOKUP(VALUE(D50),'Cat Bijbel'!D:E,2,FALSE),"")
A51: 2214662 | B51: 25542 | C51: /DS5 COLORSTIX PHASER 8200 MAGENTA | D51: 1067940 | F51: =IFERROR(VLOOKUP(VALUE(D51),'Cat Bijbel'!D:E,2,FALSE),"")
... A766: 4087313 | B766: 25542 | C766: /XEROX PHASER 6130 106R01281 ZWART | D766: 1533078 | F766: =IFERROR(VLOOKUP(VALUE(D766),'Cat Bijbel'!D:E,2,FALSE),"")
A767: 4087357 | B767: 25542 | C767: /OLIVETTI D-COPIA 300/400/500MF TONER ZW | D767: 125045440053 | F767: =IFERROR(VLOOKUP(VALUE(D767),'Cat Bijbel'!D:E,2,FALSE),"")
A768: 4090405 | B768: 25542 | C768: /EPSON STYLUS PHOTO 1900 GLOSSY OPTIMIZE | D768: 1383799 | F768: =IFERROR(VLOOKUP(VALUE(D768),'Cat Bijbel'!D:E,2,FALSE),"")
A769: 4090416 | B769: 25542 | C769: /EPSON STYLUS PHOTO 1900 PHOTO ZWART | D769: 1383810 | F769: =IFERROR(VLOOKUP(VALUE(D769),'Cat Bijbel'!D:E,2,FALSE),"")
A770: 4090427 | B770: 25542 | C770: /EPSON STYLUS PHOTO 1900 T087240 CYAN | D770: 1383811 | F770: =IFERROR(VLOOKUP(VALUE(D770),'Cat Bijbel'!D:E,2,FALSE),"")
A771: 4090449 | B771: 25542 | C771: /EPSON STYLUS PHOTO 1900 T087340 MAGENTA | D771: 1383812 | F771: =IFERROR(VLOOKUP(VALUE(D771),'Cat Bijbel'!D:E,2,FALSE),"")
A772: 4090507 | B772: 25542 | C772: /EPSON STYLUS PHOTO 1900 T087440 GEEL | D772: 1383813 | F772: =IFERROR(VLOOKUP(VALUE(D772),'Cat Bijbel'!D:E,2,FALSE),"")
A773: 4090531 | B773: 25542 | C773: /EPSON STYLUS PHOTO 1900 T08774010 ROOD | D773: 1383814 | F773: =IFERROR(VLOOKUP(VALUE(D773),'Cat Bijbel'!D:E,2,FALSE),"")
A774: 4090564 | B774: 25542 | C774: /EPSON STYLUS PHOTO 1900 T087840 MAT ZWA | D774: 1383815 | F774: =IFERROR(VLOOKUP(VALUE(D774),'Cat Bijbel'!D:E,2,FALSE),"")
A775: 4090575 | B775: 25542 | C775: /EPSON STYLUS PHOTO 1900 T087940 ORANJE | D775: 1383816 | F775: =IFERROR(VLOOKUP(VALUE(D775),'Cat Bijbel'!D:E,2,FALSE),"")
A776: 4094909 | B776: 25542 | C776: /CANON IR2100 C-EXV2 TONER CYAN | D776: 1549821 | F776: =IFERROR(VLOOKUP(VALUE(D776),'Cat Bijbel'!D:E,2,FALSE),"")
A777: 4094911 | B777: 25542 | C777: /CANON IR2100 C-EXV2 TONER MAGENTA | D777: 1549822 | F777: =IFERROR(VLOOKUP(VALUE(D777),'Cat Bijbel'!D:E,2,FALSE),"")
A778: 4094933 | B778: 25542 | C778: /CANON IR2100 C-EXV2 TONER GEEL | D778: 1549823 | F778: =IFERROR(VLOOKUP(VALUE(D778),'Cat Bijbel'!D:E,2,FALSE),"")
A779: 4095867 | B779: 25542 | C779: /RICOH 3228/3235/3245 R2 TONER GEEL 10K | D779: 1808392 | F779: =IFERROR(VLOOKUP(VALUE(D779),'Cat Bijbel'!D:E,2,FALSE),"")
... A1385: 4970383 | B1385: 25542 | C1385: /EPSON ACULASER C3800 S053025 FUSER UNIT | D1385: 1330357 | F1385: =IFERROR(VLOOKUP(VALUE(D1385),'Cat Bijbel'!D:E,2,FALSE),"")
A1386: 5500546 | B1386: 25542 | C1386: /LEXMARK TONER 64440XW T644 CITCO | F1386: =IFERROR(VLOOKUP(VALUE(D1386),'Cat Bijbel'!D:E,2,FALSE),"") -> 4934082
A1387: 4973315 | B1387: 25542 | C1387: /XEROX PHASER 3100 MFP TONER ZWART 4K | D1387: 1634134 | F1387: =IFERROR(VLOOKUP(VALUE(D1387),'Cat Bijbel'!D:E,2,FALSE),"")
A1388: 4975788 | B1388: 25542 | C1388: /OKI C610 44315105 DRUM GEEL | D1388: 1540275 | F1388: =IFERROR(VLOOKUP(VALUE(D1388),'Cat Bijbel'!D:E,2,FALSE),"")
A1389: 4975799 | B1389: 25542 | C1389: /OKI C610 44315106 DRUM MAGENTA | D1389: 1540276 | F1389: =IFERROR(VLOOKUP(VALUE(D1389),'Cat Bijbel'!D:E,2,FALSE),"")
A1390: 4975802 | B1390: 25542 | C1390: /OKI C610 44315107 DRUM CYAN | D1390: 1540277 | F1390: =IFERROR(VLOOKUP(VALUE(D1390),'Cat Bijbel'!D:E,2,FALSE),"")
A1391: 4975813 | B1391: 25542 | C1391: /OKI C610 44315108 DRUM ZWART | D1391: 1540278 | F1391: =IFERROR(VLOOKUP(VALUE(D1391),'Cat Bijbel'!D:E,2,FALSE),"")
A1392: 4975824 | B1392: 25542 | C1392: /OKI C610 44315305 TONER GEEL | D1392: 1540267 | F1392: =IFERROR(VLOOKUP(VALUE(D1392),'Cat Bijbel'!D:E,2,FALSE),"") -> 4851449
A1393: 4975835 | B1393: 25542 | C1393: /OKI C610 44315306 TONER MAGENTA | D1393: 1540268 | F1393: =IFERROR(VLOOKUP(VALUE(D1393),'Cat Bijbel'!D:E,2,FALSE),"") -> 4851451
A1394: 4975846 | B1394: 25542 | C1394: /OKI C610 44315307 TONER CYAN | D1394: 1540269 | F1394: =IFERROR(VLOOKUP(VALUE(D1394),'Cat Bijbel'!D:E,2,FALSE),"") -> 4851462
A1395: 4975857 | B1395: 25542 | C1395: /OKI C610 44315308 TONER ZWART | D1395: 1540270 | F1395: =IFERROR(VLOOKUP(VALUE(D1395),'Cat Bijbel'!D:E,2,FALSE),"") -> 4851473
A1396: 4976554 | B1396: 25542 | C1396: /EPSON C800 S053024 TRANSFER BELT | D1396: 1330356 | F1396: =IFERROR(VLOOKUP(VALUE(D1396),'Cat Bijbel'!D:E,2,FALSE),"")
A1397: 4981209 | B1397: 25542 | C1397: /MINOLTA MC1600W1680/1690MF TONER ZWART | D1397: 1466386 | F1397: =IFERROR(VLOOKUP(VALUE(D1397),'Cat Bijbel'!D:E,2,FALSE),"")
A1398: 4981222 | B1398: 25542 | C1398: /MINOLTA MC1600W1680/1690MF TONER GEEL | D1398: 1466390 | F1398: =IFERROR(VLOOKUP(VALUE(D1398),'Cat Bijbel'!D:E,2,FALSE),"")
... A1547: 5198789 | B1547: 25542 | C1547: /CANON IP4850 MG51/52/618150 CARTR CMY | D1547: 1700430 | F1547: =IFERROR(VLOOKUP(VALUE(D1547),'Cat Bijbel'!D:E,2,FALSE),"") -> 5094564
A1548: 5199453 | B1548: 25542 | C1548: /RICOH GX E3300 INK COLLECTOR 405700 | D1548: 405700 | F1548: =IFERROR(VLOOKUP(VALUE(D1548),'Cat Bijbel'!D:E,2,FALSE),"")
A1549: 5204257 | B1549: 25542 | C1549: /IBM 41U2235 LINT ZWART | D1549: 1675403 | F1549: =IFERROR(VLOOKUP(VALUE(D1549),'Cat Bijbel'!D:E,2,FALSE),"")
A1550: 5204304 | B1550: 25542 | C1550: /LEXMARK OPTRA T610 RECON.CART. 12A5140 | D1550: 1286647 | F1550: =IFERROR(VLOOKUP(VALUE(D1550),'Cat Bijbel'!D:E,2,FALSE),"")
A1551: 5207417 | B1551: 25542 | C1551: /LEXMARK 10NX217 INKJET CART ZWART | D1551: 1374582 | F1551: =IFERROR(VLOOKUP(VALUE(D1551),'Cat Bijbel'!D:E,2,FALSE),"") -> 2228363
A1552: 5207428 | B1552: 25542 | C1552: /LEXMARK 10NX227 INKJET CART KLEUR | D1552: 1374584 | F1552: =IFERROR(VLOOKUP(VALUE(D1552),'Cat Bijbel'!D:E,2,FALSE),"") -> 2228374
A1553: 5208637 | B1553: 25542 | C1553: /DELL 2145CN HC TONER 593-10371 GEEL | D1553: 2329720 | F1553: =IFERROR(VLOOKUP(VALUE(D1553),'Cat Bijbel'!D:E,2,FALSE),"")
A1554: 5208648 | B1554: 25542 | C1554: /DELL 2145CN HC TONER 593-10370 MAGENTA | D1554: 2329725 | F1554: =IFERROR(VLOOKUP(VALUE(D1554),'Cat Bijbel'!D:E,2,FALSE),"")
A1555: 5208659 | B1555: 25542 | C1555: /DELL 2145CN HC TONER 593-10369 CYAN | D1555: 2329731 | F1555: =IFERROR(VLOOKUP(VALUE(D1555),'Cat Bijbel'!D:E,2,FALSE),"")
A1556: 5208661 | B1556: 25542 | C1556: /DELL 2145CN HC TONER 593-10368 ZWART | D1556: 2329733 | F1556: =IFERROR(VLOOKUP(VALUE(D1556),'Cat Bijbel'!D:E,2,FALSE),"")
A1557: 5211104 | B1557: 25542 | C1557: /XEROX COLORQUBE 8570 TONER ZWART | D1557: 1628486 | F1557: =IFERROR(VLOOKUP(VALUE(D1557),'Cat Bijbel'!D:E,2,FALSE),"") -> 5190613
A1558: 5211126 | B1558: 25542 | C1558: /XEROX COLORQUBE 8570 TONER CYAAN | D1558: 1628483 | F1558: =IFERROR(VLOOKUP(VALUE(D1558),'Cat Bijbel'!D:E,2,FALSE),"") -> 5190668
A1559: 5211172 | B1559: 25542 | C1559: /XEROX COLORQUBE 8570 TONER MAGENTA | D1559: 1628484 | F1559: =IFERROR(VLOOKUP(VALUE(D1559),'Cat Bijbel'!D:E,2,FALSE),"") -> 5190635
A1560: 5211183 | B1560: 25542 | C1560: /XEROX COLORQUBE 8570 TONER GEEL | D1560: 1628485 | F1560: =IFERROR(VLOOKUP(VALUE(D1560),'Cat Bijbel'!D:E,2,FALSE),"") -> 5190624
... A1688: 5341956 | B1688: 25542 | C1688: /CANON IPF 6300/8300 TONER HC GRIJS | D1688: 1885823 | F1688: =IFERROR(VLOOKUP(VALUE(D1688),'Cat Bijbel'!D:E,2,FALSE),"")
A1689: 5341978 | B1689: 25542 | C1689: /CANON IPF 6300/8300 TONER HC ROOD | D1689: 31CANPFI704R | F1689: =IFERROR(VLOOKUP(VALUE(D1689),'Cat Bijbel'!D:E,2,FALSE),"")
A1690: 5341989 | B1690: 25542 | C1690: /CANON IPF 810/820 INK TANK HC ZWART | D1690: 1446614 | F1690: =IFERROR(VLOOKUP(VALUE(D1690),'Cat Bijbel'!D:E,2,FALSE),"")
A1691: 5341991 | B1691: 25542 | C1691: /CANON IPF 810/820 INK TANK HC MATTE ZWA | D1691: 1446613 | F1691: =IFERROR(VLOOKUP(VALUE(D1691),'Cat Bijbel'!D:E,2,FALSE),"")
A1692: 5342004 | B1692: 25542 | C1692: /CANON IPF 810/820 INK TANK HC CYN | D1692: 1446615 | F1692: =IFERROR(VLOOKUP(VALUE(D1692),'Cat Bijbel'!D:E,2,FALSE),"")
A1693: 5342015 | B1693: 25542 | C1693: /CANON IPF 810/820 INK TANK HC MAGENTA | D1693: 1446616 | F1693: =IFERROR(VLOOKUP(VALUE(D1693),'Cat Bijbel'!D:E,2,FALSE),"")
A1694: 5342026 | B1694: 25542 | C1694: /CANON IPF 810/820 INK TANK HC GEEL | D1694: 1446617 | F1694: =IFERROR(VLOOKUP(VALUE(D1694),'Cat Bijbel'!D:E,2,FALSE),"")
A1695: 5342048 | B1695: 25542 | C1695: /PK3 CANON IPF 810/820 INK TANK HC ZWART | D1695: 1497403 | F1695: =IFERROR(VLOOKUP(VALUE(D1695),'Cat Bijbel'!D:E,2,FALSE),"")
A1696: 5342072 | B1696: 25542 | C1696: /PK3 CANON IPF 810/820 INK TANK HC MATTE | D1696: 1497402 | F1696: =IFERROR(VLOOKUP(VALUE(D1696),'Cat Bijbel'!D:E,2,FALSE),"")
A1697: 5342094 | B1697: 25542 | C1697: /PK3 CANON IPF 810/820 INK TANK HC CYN | D1697: 1497404 | F1697: =IFERROR(VLOOKUP(VALUE(D1697),'Cat Bijbel'!D:E,2,FALSE),"")
A1698: 5342117 | B1698: 25542 | C1698: /PK3 CANON IPF 810/820 INK TANK HC MAGEN | D1698: 1497405 | F1698: =IFERROR(VLOOKUP(VALUE(D1698),'Cat Bijbel'!D:E,2,FALSE),"")
A1699: 5342128 | B1699: 25542 | C1699: /PK3 CANON IPF 810/820 INK TANK HC GEEL | D1699: 1497406 | F1699: =IFERROR(VLOOKUP(VALUE(D1699),'Cat Bijbel'!D:E,2,FALSE),"")
A1700: 5349565 | B1700: 25542 | C1700: /XEROX 106R01411 TONER ZWART | D1700: 1634107 | F1700: =IFERROR(VLOOKUP(VALUE(D1700),'Cat Bijbel'!D:E,2,FALSE),"")
A1701: 5354211 | B1701: 25542 | C1701: /MINOLTA TN216K TONER ZWART | D1701: 1900646 | F1701: =IFERROR(VLOOKUP(VALUE(D1701),'Cat Bijbel'!D:E,2,FALSE),"")
... A1994: 6040689 | B1994: 25542 | C1994: /SHARP MX36GTBA TONER ZWART | D1994: 2330400 | F1994: =IFERROR(VLOOKUP(VALUE(D1994),'Cat Bijbel'!D:E,2,FALSE),"")
A1995: 6040691 | B1995: 25542 | C1995: /SHARP MX36GTCA TONER CYAN | F1995: =IFERROR(VLOOKUP(VALUE(D1995),'Cat Bijbel'!D:E,2,FALSE),"") -> 4934082
A1996: 6040703 | B1996: 25542 | C1996: /SHARP MX36GTMA TONER MAGENTA | F1996: =IFERROR(VLOOKUP(VALUE(D1996),'Cat Bijbel'!D:E,2,FALSE),"") -> 4934082
A1997: 6040714 | B1997: 25542 | C1997: /SHARP MX36GTYA TONER GEEL | F1997: =IFERROR(VLOOKUP(VALUE(D1997),'Cat Bijbel'!D:E,2,FALSE),"") -> 4934082
A1998: 6040771 | B1998: 25542 | C1998: /SHARP MX36GUSA DRUM ZWART | F1998: =IFERROR(VLOOKUP(VALUE(D1998),'Cat Bijbel'!D:E,2,FALSE),"") -> 4934082
A1999: 6068732 | B1999: 25542 | C1999: /XEROX 3550 TONER 106R01528 ZWART | D1999: 1628475 | F1999: =IFERROR(VLOOKUP(VALUE(D1999),'Cat Bijbel'!D:E,2,FALSE),"")
A2000: 6068743 | B2000: 25542 | C2000: /XEROX 3550 TONER HC 106R01530 ZWART | D2000: 1628476 | F2000: =IFERROR(VLOOKUP(VALUE(D2000),'Cat Bijbel'!D:E,2,FALSE),"")
A2001: 6077152 | B2001: 25542 | C2001: /OKI TONER C831/841 44844508 ZWART | D2001: 1784191 | F2001: =IFERROR(VLOOKUP(VALUE(D2001),'Cat Bijbel'!D:E,2,FALSE),"")
A2002: 6077174 | B2002: 25542 | C2002: /OKI TONER C831/841 44844507 CYAN | D2002: 1784190 | F2002: =IFERROR(VLOOKUP(VALUE(D2002),'Cat Bijbel'!D:E,2,FALSE),"")
A2003: 6077185 | B2003: 25542 | C2003: /OKI TONER C831/841 44844506 MAGENTA | D2003: 1784179 | F2003: =IFERROR(VLOOKUP(VALUE(D2003),'Cat Bijbel'!D:E,2,FALSE),"")
A2004: 6077196 | B2004: 25542 | C2004: /OKI TONER C831/841 44844505 GEEL | D2004: 1784178 | F2004: =IFERROR(VLOOKUP(VALUE(D2004),'Cat Bijbel'!D:E,2,FALSE),"")
A2005: 6078417 | B2005: 25542 | C2005: /DELL 593-10316 SC TONER 2130CN ZWART | D2005: 2329599 | F2005: =IFERROR(VLOOKUP(VALUE(D2005),'Cat Bijbel'!D:E,2,FALSE),"")
A2006: 6078439 | B2006: 25542 | C2006: /DELL 593-10319 SC TONER 2130CN MAGENTA | D2006: 2329692 | F2006: =IFERROR(VLOOKUP(VALUE(D2006),'Cat Bijbel'!D:E,2,FALSE),"")
A2007: 6078441 | B2007: 25542 | C2007: /DELL 593-10318 SC TONER 2130CN GEEL | D2007: 2329691 | F2007: =IFERROR(VLOOKUP(VALUE(D2007),'Cat Bijbel'!D:E,2,FALSE),"")
A2008: 6078452 | B2008: 25542 | C2008: /DELL 593-10317 SC TONER 2130CN CYAN | D2008: 2329690 | F2008: =IFERROR(VLOOKUP(VALUE(D2008),'Cat Bijbel'!D:E,2,FALSE),"")
A2009: 6079843 | B2009: 25542 | C2009: /LEXMARK C746/C748 TONER C746H1KG ZWART | D2009: 1785860 | F2009: =IFERROR(VLOOKUP(VALUE(D2009),'Cat Bijbel'!D:E,2,FALSE),"")
...

Sheet Cat Bijbel
B1: Supplier 2016 | C1: Product Description (webtitle 80 EN) | D1: Vendor's Material Number | E1: SAP code
B3: Alpha International | C3: 0 | D3: 2433616 | E3: 8196486
B4: Alpha International | C4: 0 | D4: 2433617 | E4: 8196497
B5: Alpha International | C5: 0 | D5: 2433773 | E5: 8196533
B6: Alpha International | C6: 0 | D6: 2433772 | E6: 8196522
B7: Alpha International | C7: 0 | D7: 2433775 | E7: 8196544
B8: Alpha International | C8: 0 | D8: 2433778 | E8: 8196566
B9: Alpha International | C9: 0 | D9: 2433801 | E9: 8196588
B10: Alpha International | C10: 0 | D10: 2433776 | E10: 8196555
B11: Alpha International | C11: 0 | D11: 2433779 | E11: 8196577
B12: Alpha International | C12: 0 | D12: 2433802 | E12: 8196599
B13: ALPHA | C13: 0 | D13: 0 | E13: 4934082
B14: ALPHA | C14: Canon PG-545 ink cartridge black [8ml] | D14: CAN64014 | E14: 6702893
B15: ALPHA | C15: Canon PG-545XL ink cartridge black high capacity [15ml] | D15: CAN64016 | E15: 6702916
B16: ALPHA | C16: Canon CL-546 ink cartridge colors [8ml] | D16: CAN64015 | E16: 6702927
B17: ALPHA | C17: Canon CL-546XL ink cartridge colors high capacity [13ml] | D17: CAN64017 | E17: 6702938
B18: ALPHA | C18: LEXMARK C925 laser cartridge black high capacity [8.500 pages] | D18: 1661743 | E18: 3752235
B19: ALPHA | C19: Canon PFI-102Y dye inkjet cartridge yellow [130 ml] | D19: 1401743 | E19: 4304804
B20: ALPHA | C20: Canon PFI-102C dye inkjet cartridge blue [130 ml] | D20: 1401741 | E20: 4304781
B21: ALPHA | C21: Canon PFI-102M dye inkjet cartridge red [130 ml] | D21: 1401742 | E21: 4304779
B22: ALPHA | C22: Canon PGI-570XLBK inkjet cartridge high capacity black [22 ml] | D22: 2429921 | E22: 8201042
B23: ALPHA | C23: Canon CLI-571XLBK inkjet cartridge high capacity black [11 ml] | D23: 2429915 | E23: 8201053
B24: ALPHA | C24: Canon CLI-571XL C inkjet cartridge blue high capacity [11 ml] | D24: 2429916 | E24: 8201064
B25: ALPHA | C25: Canon CLI-571XL M intcartridge red high capacity [11 ml] | D25: 2429918 | E25: 8201075
B26: ALPHA | C26: Canon CLI-571XL Y yellow high capacity [11 ml] | D26: 2429919 | E26: 8201086
B27: ALPHA | C27: Canon PGI-570 PGBK inkjet cartridge black [15 ml] | D27: 2429920 | E27: 8201109
B28: ALPHA | C28: Canon CLI-571 BK inkjet cartridge black [7 ml] | D28: 2429910 | E28: 8201111
B29: ALPHA | C29: Canon CLI-571 C inkjet cartridge blue [7 ml] | D29: 2429911 | E29: 8201122
... B71: ALPHA | C71: Epson C13T26364010 inkjet cartridge black and three colors HC [12,2 + 3 x 9,7 ml] | D71: 1865038 | E71: 8406381
B72: ALPHA | C72: Epson C13T29814010 inkjet cartridge black [5,3 ml] | D72: C13T29814010 | E72: 8406517
B73: ALPHA | C73: Epson C13T29824010 inkjet cartridge blue [3,2 ml] | D73: C13T29824010 | E73: 8406528
B74: ALPHA | C74: Epson C13T29834010 inkjet cartridge red [3,2 ml] | D74: C13T29834010 | E74: 8406539
B75: ALPHA | C75: Epson C13T29844010 inkjet cartridge yellow [3,2 ml] | D75: C13T29844010 | E75: 8406541
B76: ALPHA | C76: Epson C13T29864010 inkjet cartridge black+ colors [5,3 + 3 x 3,2 ml] | D76: C13T29864010 | E76: 8406552
B77: ALPHA | C77: Epson C13T29914010 inkjet cartridge HC black [11,3 ml] | D77: C13T29914010 | E77: 8406563
B78: ALPHA | C78: Epson C13T29924010 inkjet cartridge HC blue [6,4ml] | D78: C13T29924010 | E78: 8406574
B79: ALPHA | C79: Epson C13T29934010 inkjet cartridge HC red [6,4 ml] | D79: C13T29934010 | E79: 8406585
B80: ALPHA | C80: Epson C13T29944010 inkjet cartridge HC yellow [6,4 ml] | D80: C13T29944010 | E80: 8406596
B81: ALPHA | C81: Epson C13T29944010 inkjet cartridge HC black+color [6,4 ml] | D81: C13T29964010 | E81: 8406608
B82: ALPHA | C82: Epson C13T33314010 inkjet cartridge black [6,4 ml] | D82: C13T33314010 | E82: 8406392
B83: ALPHA | C83: Epson C13T33414010 inkjet cartridge foto black [4,5 ml] | D83: C13T33414010 | E83: 8406404
... B93: ALPHA | C93: Epson C13T33574010 inkjet cartridge 2x black + kleur [2x12,2 + 3 x 8,9 ml] | D93: C13T33574010 | E93: 8406506
B94: ALPHA | C94: Epson T541 inkjet cartridge black [202 ml] | E94: 8435541
B95: ALPHA | C95: Epson T7542 inkjet cartridge blue [69 ml] | E95: 8435552
B96: ALPHA | C96: Epson T7543 inkjet cartridge red [69 ml] | E96: 8435563
B97: ALPHA | C97: Epson T7544 inkjet cartridge yellow [69 ml] | E97: 8435574
B98: ALPHA | C98: Espon T7561 inkjet catridge black [50ml] | E98: 8424508
B99: ALPHA | C99: Epson T7562 inkjet cartridge blue [14,0 ml] | E99: 8424519
B100: ALPHA | C100: Epson T7563 inkjet cartridge red [14,0 ml] | E100: 8424521
B101: ALPHA | C101: Epson T7564 inkjet cartridge yellow [14,0 ml ] | E101: 8424532
B102: ALPHA | C102: EPSON 79XL inkjet cartridge black high capacity 41.8ml [2.600 pages] | E102: 6476765
B103: ALPHA | C103: EPSON 79 inkjet cartridge black [14.4ml -9.00 pages] | E103: 8424463
B104: ALPHA | C104: EPSON 79 inkjet cartridge blue [6.5ml -8.00 pages] | E104: 8424474
B105: ALPHA | C105: EPSON 79 inkjet cartridge red [6.5ml -8.00 pages] | E105: 8424485
... B110: ALPHA | C110: Epson T7554 inkjet cartridge high capacity yellow [39ml] | E110: 7196274
B111: ALPHA | C111: LEXMARK 100 inkjet cartridge black [170 pages] | D111: 1508686 | E111: 5369848
B112: ALPHA | C112: LEXMARK 100 inkjet cartridge blue [200 pages] | D112: 1508687 | E112: 5369883
B113: ALPHA | C113: LEXMARK 100 inkjet cartridge red [200 pages] | D113: 1508688 | E113: 5369894
B114: ALPHA | C114: LEXMARK 100 inkjet cartridge yellow[200 pages] | D114: 1508689 | E114: 5369906
B115: ALPHA | C115: LEXMARK 14 inkjet cartridge black high capacity [175 pages] | D115: 1405687 | E115: 4679364
B116: ALPHA | C116: LEXMARK 15 inkjet cartridge colors [150 pages] | D116: 1405688 | E116: 4679375
B117: ALPHA | C117: LEXMARK 16 inkjet cartridge black high capacity 14ml [410 pages] | D117: 1033663 | E117: 1863601
B118: ALPHA | C118: LEXMARK 17 inkjet cartridge black [7.4ml-210 pages] | D118: 1374582 | E118: 2228363
B119: ALPHA | C119: LEXMARK 23A inkjet cartridge black [215 pages] | D119: 1351850 | E119: 4299485
B120: ALPHA | C120: LEXMARK 28 inkjet cartridge black [175 pages] | D120: 1311349 | E120: 3861276
B121: ALPHA | C121: SAMSUNG INK-C210 ink cartridge couleur [250 pages] | D121: SAMC210 | E121: 7189931
B122: ALPHA | C122: SAMSUNG INK-M210 ink cartridge black [225 pages] | D122: SAMM210 | E122: 7189942
B123: ALPHA | C123: LEXMARK 29 inkjet cartridge three colors [150 pages] | D123: 1311360 | E123: 3919298
B124: ALPHA | C124: LEXMARK 36A inkjet cartridge black [175 pages] | D124: 1405703 | E124: 8205739
B125: ALPHA | C125: LEXMARK 36XL inkjet cartridge black high capacity [475 pages] | D125: 1405705 | E125: 4290064
B126: ALPHA | C126: LEXMARK 37 inkjet cartridge colors [150 pages] | D126: 1405702 | E126: 4964757
B127: ALPHA | C127: LEXMARK 27 inkjet cartridge three colors [9.2ml -175 pages] | D127: 1374584 | E127: 2228374
B128: ALPHA | C128: HP 15 inkt cartridge black [270 pages] | D128: 1018711 | E128: 1963721
B129: ALPHA | C129: HP 21/22 inkjet cartridge black +three colors [bl/co:190-165pag] | D129: 1390381 | E129: 4464269
B130: ALPHA | C130: HP 38 inkjet cartridge en matte black 27ml [3.200 pages] | D130: 1295045 | E130: 3478009
B131: ALPHA | C131: HP 38 inkjet cartridge photo black 27ml [1.340 pages] | D131: 1295046 | E131: 3478022
B132: ALPHA | C132: HP 38 inkjet cartridge light grey 27ml [320 foto's] | D132: 1295047 | E132: 3478113
B133: ALPHA | C133: HP 38 inkjet cartridge blue 27ml [4.500 foto's] | D133: 1295048 | E133: 3478135
B134: ALPHA | C134: HP 38 inkjet cartridge red 27ml [5.000 foto's] | D134: 1295049 | E134: 3478146
... B198: ALPHA | C198: HP 508X laser cartridge red high capacity [9.500 pages] | D198: 2367224 | E198: 7790984
B199: ALPHA | C199: HP CF380A laser cartridge black [2.400 pages] | D199: HPCF380A | E199: 6556911
B200: ALPHA | C200: HP CF380X laser cartridge black high capacity [4.400 pages] | D200: HPCF380X | E200: 6556933
B201: ALPHA | C201: HP CF381A laser cartridge blue [2.700 pages] | D201: HPCF381A | E201: 6556944
B202: ALPHA | C202: HP CF382A laser cartridge yellow [2.700 pages] | D202: HPCF382A | E202: 6556955
B203: ALPHA | C203: HP CF383A laser cartridge red [2.700 pages] | D203: HPCF383A | E203: 6556966
B204: ALPHA | C204: Kyocera TK-1130 laser cartridge black [3.000 pages] | D204: TK1130 | E204: 6619144
B205: ALPHA | C205: Kyocera TK-1140 laser cartridge black [7.200 pages] | D205: 1730372 | E205: 6258476
B206: ALPHA | C206: Kyocera TK-160 laser cartridge black [2.500 pages] | D206: 1583013 | E206: 5060009
B207: ALPHA | C207: Kyocera TK-3100 laser cartridge black [12.500 pages] | D207: TK3100 | E207: 6488276
B208: ALPHA | C208: Kyocera TK-3110 laser cartridge black [15.500 pages] | D208: TK3110 | E208: 6488298
B209: ALPHA | C209: Kyocera TK-350B laser cartridge black [15.000 pages] | D209: 1468243 | E209: 4485843
B210: ALPHA | C210: Kyocera TK-580M laser cartridge red [2.800 pages] | D210: 1637102 | E210: 5418256
B211: ALPHA | C211: Kyocera TK-580C laser cartridge blue [2.800 pages] | D211: 1637101 | E211: 5418245
B212: ALPHA | C212: Kyocera TK-580K laser cartridge black [ 3.500 pages] | D212: 1637100 | E212: 5418212
B213: ALPHA | C213: Kyocera TK-580Y laser cartridge yellow [2.800 pages] | D213: 1637103 | E213: 5418234
B214: ALPHA | C214: Kyocera TK-710 laser cartridge black [40.000 pages] | D214: TK710 | E214: 3629992
B215: ALPHA | C215: Kyocera TK-895 laser cartridge red [6.000 pages] | D215: 1643395 | E215: 5450428
B216: ALPHA | C216: Kyocera TK-895 laser cartridge blue [6.000 pages] | D216: 1643394 | E216: 5450406
B217: ALPHA | C217: Kyocera TK-895 laser cartridge black [12.000 pages] | D217: 1643393 | E217: 5450441
B218: ALPHA | C218: Kyocera TK-895 laser cartridge yellow [6.000 pages] | D218: 1643396 | E218: 5450417
...
