Workbook

Sheet SPX supplies file
A1: SaPCode | B1: Active Supplier | C1: Description | D1: VMN | E1: Status | F1: CAT referentie
A2: 246987 | B2: 25542 | C2: /DS2 TONER VOOR MINOLTA EP1052 | D2: 1201035 | E2: tab 2 | F2: =IFERROR(VLOOKUP(VALUE(D2),'Cat Bijbel'!D:E,2,FALSE),"")
A3: 256058 | B3: 25542 | C3: /EPSON LX300 LINT KLEUR EPSSO15073 | D3: 1010491 | F3: =IFERROR(VLOOKUP(VALUE(D3),'Cat Bijbel'!D:E,2,FALSE),"")
A4: 265221 | B4: 25542 | C4: /DIGITAL LA600 LINT LA60RKA | D4: 2329970 | F4: =IFERROR(VLOOKUP(VALUE(D4),'Cat Bijbel'!D:E,2,FALSE),"")
A5: 290444 | B5: 25542 | C5: /LEXMARK 12A1980 INKJET CART COLOR | D5: 2334279 | F5: =IFERROR(VLOOKUP(VALUE(D5),'Cat Bijbel'!D:E,2,FALSE),"")
A6: 295623 | B6: 25542 | C6: /DS4 MINOLTA EP1030/1031 TONER | D6: 1900585 | F6: =IFERROR(VLOOKUP(VALUE(D6),'Cat Bijbel'!D:E,2,FALSE),"")
A7: 324783 | B7: 25542 | C7: /CARTRIGE EPSON STYLUS COLOR GEEL | D7: 1010386 | F7: =IFERROR(VLOOKUP(VALUE(D7),'Cat Bijbel'!D:E,2,FALSE),"")
A8: 324794 | B8: 25542 | C8: /CARTRIGE EPSON STYLUS COLOR ROOD | D8: 1010384 | F8: =IFERROR(VLOOKUP(VALUE(D8),'Cat Bijbel'!D:E,2,FALSE),"")
A9: 324828 | B9: 25542 | C9: /CARTRIGE EPSON STYLUS COLOR ZWART | D9: 1010372 | F9: =IFERROR(VLOOKUP(VALUE(D9),'Cat Bijbel'!D:E,2,FALSE),"")
A10: 397306 | B10: 25542 | C10: /DS2 TONER CANON NP6010 | D10: 1240652 | F10: =IFERROR(VLOOKUP(VALUE(D10),'Cat Bijbel'!D:E,2,FALSE),"")
A11: 795723 | B11: 25542 | C11: /DS2 MITA 2556-2557-3055 TONER | D11: 1808324 | F11: =IFERROR(VLOOKUP(VALUE(D11),'Cat Bijbel'!D:E,2,FALSE),"")
A12: 855264 | B12: 25542 | C12: /KYOCERA TK30 TONER | D12: 1207968 | F12: =IFERROR(VLOOKUP(VALUE(D12),'Cat Bijbel'!D:E,2,FALSE),"")
A13: 1184455 | B13: 25542 | C13: /EPSON FX 980 LINT SO15091 | D13: 1010457 | F13: =IFERROR(VLOOKUP(VALUE(D13),'Cat Bijbel'!D:E,2,FALSE),"")
A14: 1241841 | B14: 25542 | C14: /XEROX 735 PRO DRUM 113R438 | D14: 1012095 | F14: =IFERROR(VLOOKUP(VALUE(D14),'Cat Bijbel'!D:E,2,FALSE),"")
... A38: 2165467 | B38: 25542 | C38: /TONER IBM 1130-40 | D38: 2333330 | F38: =IFERROR(VLOOKUP(VALUE(D38),'Cat Bijbel'!D:E,2,FALSE),"")
A39: 2168308 | B39: 25542 | C39: /LEXMARK Z55 CARTRIDGE ZWART 18L0032 | F39: =IFERROR(VLOOKUP(VALUE(D39),'Cat Bijbel'!D:E,2,FALSE),"") -> 4934082
A40: 2175768 | B40: 25542 | C40: /INKTCART.HP N°81 ZWART HPC4930A | D40: 1025609 | F40: =IFERROR(VLOOKUP(VALUE(D40),'Cat Bijbel'!D:E,2,FALSE),"")
A41: 2175779 | B41: 25542 | C41: /INKTCART. HP N°81 CYAN HPC4931A | D41: 1025633 | F41: =IFERROR(VLOOKUP(VALUE(D41),'Cat Bijbel'!D:E,2,FALSE),"")
A42: 2175781 | B42: 25542 | C42: /INKTCART. HP N░81 MAGENTA HPC4932A | D42: 1025637 | F42: =IFERROR(VLOOKUP(VALUE(D42),'Cat Bijbel'!D:E,2,FALSE),"")
A43: 2175792 | B43: 25542 | C43: /INKTCART. HP N°81 GEEL HPC4933A | D43: 1025660 | F43: =IFERROR(VLOOKUP(VALUE(D43),'Cat Bijbel'!D:E,2,FALSE),"")
A44: 2175804 | B44: 25542 | C44: /INKTCART. HP N░81LT CYAN HPC4934A | D44: 1025665 | F44: =IFERROR(VLOOKUP(VALUE(D44),'Cat Bijbel'!D:E,2,FALSE),"")
A45: 2175826 | B45: 25542 | C45: /INKTCART. HP N░ 81LT MAGENTA HPC4935A | D45: 1025669 | F45: =IFERROR(VLOOKUP(VALUE(D45),'Cat Bijbel'!D:E,2,FALSE),"")
A46: 2181508 | B46: 25542 | C46: /MINOLTA/QMS 9100 TONER ZWART QMS20171 | D46: 1424467 | F46: =IFERROR(VLOOKUP(VALUE(D46),'Cat Bijbel'!D:E,2,FALSE),"")
A47: 2181656 | B47: 25542 | C47: /RICOH AFICIO 1080 TYPE 1220D ZWART | D47: 1808367 | F47: =IFERROR(VLOOKUP(VALUE(D47),'Cat Bijbel'!D:E,2,FALSE),"")
A48: 2196214 | B48: 25542 | C48: /OKI C9000 TONER ZWART | D48: 1027950 | F48: =IFERROR(VLOOKUP(VALUE(D48),'Cat Bijbel'!D:E,2,FALSE),"")
A49: 2202182 | B49: 25542 | C49: /TONERKIT TK70 KYOCERA FS9100DN FS9500DN | D49: 1208010 | F49: =IFERROR(VLOOKUP(VALUE(D49),'Cat Bijbel'!D:E,2,FALSE),"")
A50: 2214651 | B50: 25542 | C50: /DS5 COLORSTIX PHASER 8200 CYAN | D50: 1067929 | F50: =IFERROR(VLOOKUP(VALUE(D50),'Cat Bijbel'!D:E,2,FALSE),"")
A51: 2214662 | B51: 25542 | C51: /DS5 COLORSTIX PHASER 8200 MAGENTA | D51: 1067940 | F51: =IFERROR(VLOOKUP(VALUE(D51),'Cat Bijbel'!D:E,2,FALSE),"")
... A766: 4087313 | B766: 25542 | C766: /XEROX PHASER 6130 106R01281 ZWART | D766: 1533078 | F766: =IFERROR(VLOOKUP(VALUE(D766),'Cat Bijbel'!D:E,2,FALSE),"")
A767: 4087357 | B767: 25542 | C767: /OLIVETTI D-COPIA 300/400/500MF TONER ZW | D767: 125045440053 | F767: =IFERROR(VLOOKUP(VALUE(D767),'Cat Bijbel'!D:E,2,FALSE),"")
A768: 4090405 | B768: 25542 | C768: /EPSON STYLUS PHOTO 1900 GLOSSY OPTIMIZE | D768: 1383799 | F768: =IFERROR(VLOOKUP(VALUE(D768),'Cat Bijbel'!D:E,2,FALSE),"")
A769: 4090416 | B769: 25542 | C769: /EPSON STYLUS PHOTO 1900 PHOTO ZWART | D769: 1383810 | F769: =IFERROR(VLOOKUP(VALUE(D769),'Cat Bijbel'!D:E,2,FALSE),"")
A770: 4090427 | B770: 25542 | C770: /EPSON STYLUS PHOTO 1900 T087240 CYAN | D770: 1383811 | F770: =IFERROR(VLOOKUP(VALUE(D770),'Cat Bijbel'!D:E,2,FALSE),"")
A771: 4090449 | B771: 25542 | C771: /EPSON STYLUS PHOTO 1900 T087340 MAGENTA | D771: 1383812 | F771: =IFERROR(VLOOKUP(VALUE(D771),'Cat Bijbel'!D:E,2,FALSE),"")
A772: 4090507 | B772: 25542 | C772: /EPSON STYLUS PHOTO 1900 T087440 GEEL | D772: 1383813 | F772: =IFERROR(VLOOKUP(VALUE(D772),'Cat Bijbel'!D:E,2,FALSE),"")
A773: 4090531 | B773: 25542 | C773: /EPSON STYLUS PHOTO 1900 T08774010 ROOD | D773: 1383814 | F773: =IFERROR(VLOOKUP(VALUE(D773),'Cat Bijbel'!D:E,2,FALSE),"")
A774: 4090564 | B774: 25542 | C774: /EPSON STYLUS PHOTO 1900 T087840 MAT ZWA | D774: 1383815 | F774: =IFERROR(VLOOKUP(VALUE(D774),'Cat Bijbel'!D:E,2,FALSE),"")
A775: 4090575 | B775: 25542 | C775: /EPSON STYLUS PHOTO 1900 T087940 ORANJE | D775: 1383816 | F775: =IFERROR(VLOOKUP(VALUE(D775),'Cat Bijbel'!D:E,2,FALSE),"")
A776: 4094909 | B776: 25542 | C776: /CANON IR2100 C-EXV2 TONER CYAN | D776: 1549821 | F776: =IFERROR(VLOOKUP(VALUE(D776),'Cat Bijbel'!D:E,2,FALSE),"")
A777: 4094911 | B777: 25542 | C777: /CANON IR2100 C-EXV2 TONER MAGENTA | D777: 1549822 | F777: =IFERROR(VLOOKUP(VALUE(D777),'Cat Bijbel'!D:E,2,FALSE),"")
...

Sheet Cat Bijbel
B1: Supplier 2016 | C1: Product Description (webtitle 80 EN) | D1: Vendor's Material Number | E1: SAP code
B3: Alpha International | C3: 0 | D3: 2433616 | E3: 8196486
B4: Alpha International | C4: 0 | D4: 2433617 | E4: 8196497
B5: Alpha International | C5: 0 | D5: 2433773 | E5: 8196533
B6: Alpha International | C6: 0 | D6: 2433772 | E6: 8196522
B7: Alpha International | C7: 0 | D7: 2433775 | E7: 8196544
B8: Alpha International | C8: 0 | D8: 2433778 | E8: 8196566
B9: Alpha International | C9: 0 | D9: 2433801 | E9: 8196588
B10: Alpha International | C10: 0 | D10: 2433776 | E10: 8196555
B11: Alpha International | C11: 0 | D11: 2433779 | E11: 8196577
B12: Alpha International | C12: 0 | D12: 2433802 | E12: 8196599
B13: ALPHA | C13: 0 | D13: 0 | E13: 4934082
B14: ALPHA | C14: Canon PG-545 ink cartridge black [8ml] | D14: CAN64014 | E14: 6702893
B15: ALPHA | C15: Canon PG-545XL ink cartridge black high capacity [15ml] | D15: CAN64016 | E15: 6702916
B16: ALPHA | C16: Canon CL-546 ink cartridge colors [8ml] | D16: CAN64015 | E16: 6702927
B17: ALPHA | C17: Canon CL-546XL ink cartridge colors high capacity [13ml] | D17: CAN64017 | E17: 6702938
B18: ALPHA | C18: LEXMARK C925 laser cartridge black high capacity [8.500 pages] | D18: 1661743 | E18: 3752235
B19: ALPHA | C19: Canon PFI-102Y dye inkjet cartridge yellow [130 ml] | D19: 1401743 | E19: 4304804
B20: ALPHA | C20: Canon PFI-102C dye inkjet cartridge blue [130 ml] | D20: 1401741 | E20: 4304781
B21: ALPHA | C21: Canon PFI-102M dye inkjet cartridge red [130 ml] | D21: 1401742 | E21: 4304779
B22: ALPHA | C22: Canon PGI-570XLBK inkjet cartridge high capacity black [22 ml] | D22: 2429921 | E22: 8201042
B23: ALPHA | C23: Canon CLI-571XLBK inkjet cartridge high capacity black [11 ml] | D23: 2429915 | E23: 8201053
B24: ALPHA | C24: Canon CLI-571XL C inkjet cartridge blue high capacity [11 ml] | D24: 2429916 | E24: 8201064
B25: ALPHA | C25: Canon CLI-571XL M intcartridge red high capacity [11 ml] | D25: 2429918 | E25: 8201075
B26: ALPHA | C26: Canon CLI-571XL Y yellow high capacity [11 ml] | D26: 2429919 | E26: 8201086
B27: ALPHA | C27: Canon PGI-570 PGBK inkjet cartridge black [15 ml] | D27: 2429920 | E27: 8201109
B28: ALPHA | C28: Canon CLI-571 BK inkjet cartridge black [7 ml] | D28: 2429910 | E28: 8201111
B29: ALPHA | C29: Canon CLI-571 C inkjet cartridge blue [7 ml] | D29: 2429911 | E29: 8201122
... B71: ALPHA | C71: Epson C13T26364010 inkjet cartridge black and three colors HC [12,2 + 3 x 9,7 ml] | D71: 1865038 | E71: 8406381
B72: ALPHA | C72: Epson C13T29814010 inkjet cartridge black [5,3 ml] | D72: C13T29814010 | E72: 8406517
B73: ALPHA | C73: Epson C13T29824010 inkjet cartridge blue [3,2 ml] | D73: C13T29824010 | E73: 8406528
B74: ALPHA | C74: Epson C13T29834010 inkjet cartridge red [3,2 ml] | D74: C13T29834010 | E74: 8406539
B75: ALPHA | C75: Epson C13T29844010 inkjet cartridge yellow [3,2 ml] | D75: C13T29844010 | E75: 8406541
B76: ALPHA | C76: Epson C13T29864010 inkjet cartridge black+ colors [5,3 + 3 x 3,2 ml] | D76: C13T29864010 | E76: 8406552
B77: ALPHA | C77: Epson C13T29914010 inkjet cartridge HC black [11,3 ml] | D77: C13T29914010 | E77: 8406563
B78: ALPHA | C78: Epson C13T29924010 inkjet cartridge HC blue [6,4ml] | D78: C13T29924010 | E78: 8406574
B79: ALPHA | C79: Epson C13T29934010 inkjet cartridge HC red [6,4 ml] | D79: C13T29934010 | E79: 8406585
B80: ALPHA | C80: Epson C13T29944010 inkjet cartridge HC yellow [6,4 ml] | D80: C13T29944010 | E80: 8406596
B81: ALPHA | C81: Epson C13T29944010 inkjet cartridge HC black+color [6,4 ml] | D81: C13T29964010 | E81: 8406608
B82: ALPHA | C82: Epson C13T33314010 inkjet cartridge black [6,4 ml] | D82: C13T33314010 | E82: 8406392
...
