Workbook

Sheet COFFRE
B2: 1 | C2: Nom | D2: =IF(COUNTIF(ARRIVEE!$I$3,"1"),ARRIVEE!$B$3,IF(COUNTIF(ARRIVEE!$I$4,"1"),ARRIVEE!$B$4,IF(COUNTIF(ARRIVEE!$I$5,"1"),ARRIVEE!$B$5,IF(COUNTIF(ARRIVEE!$I$6,"1"),)))) -> A | E2: =IF(COUNTIF(ARRIVEE!$I$3,"2"),ARRIVEE!$B$3,IF(COUNTIF(ARRIVEE!$I$4,"2"),ARRIVEE!$B$4,IF(COUNTIF(ARRIVEE!$I$5,"2"),ARRIVEE!$B$5,IF(COUNTIF(ARRIVEE!$I$6,"2"),)))) -> C | F2: =IF(COUNTIF(ARRIVEE!$I$3,"3"),ARRIVEE!$B$3,IF(COUNTIF(ARRIVEE!$I$4,"3"),ARRIVEE!$B$4,IF(COUNTIF(ARRIVEE!$I$5,"3"),ARRIVEE!$B$5,IF(COUNTIF(ARRIVEE!$I$6,"3"),ARRIVEE!$B$6)))) -> D | G2: =IF(COUNTIF(ARRIVEE!$I$3,"4"),ARRIVEE!$B$3,IF(COUNTIF(ARRIVEE!$I$4,"4"),ARRIVEE!$B$4,IF(COUNTIF(ARRIVEE!$I$5,"4"),ARRIVEE!$B$5,IF(COUNTIF(ARRIVEE!$I$6,"4"),ARRIVEE!$B$6)))) -> FALSE
C3: APPT | D3: =IF(COUNTIF(ARRIVEE!$I$3,"1"),ARRIVEE!$E$3,IF(COUNTIF(ARRIVEE!$I$4,"1"),ARRIVEE!$B$4,IF(COUNTIF(ARRIVEE!$I$5,"1"),ARRIVEE!$B$5,IF(COUNTIF(ARRIVEE!$I$6,"1"),ARRIVEE!$B$6)))) -> 12 | E3: =IF(COUNTIF(ARRIVEE!$I$3,"2"),ARRIVEE!$E$3,IF(COUNTIF(ARRIVEE!$I$4,"2"),ARRIVEE!$E$4,IF(COUNTIF(ARRIVEE!$I$5,"2"),ARRIVEE!$E$5,IF(COUNTIF(ARRIVEE!$I$6,"2"),ARRIVEE!$E$6)))) -> 14 | F3: =IF(COUNTIF(ARRIVEE!$I$3,"3"),ARRIVEE!$E$3,IF(COUNTIF(ARRIVEE!$I$4,"3"),ARRIVEE!$E$4,IF(COUNTIF(ARRIVEE!$I$5,"3"),ARRIVEE!$E$5,IF(COUNTIF(ARRIVEE!$I$6,"3"),ARRIVEE!$E$6)))) -> 15 | G3: =IF(COUNTIF(ARRIVEE!$I$3,"4"),ARRIVEE!$E$3,IF(COUNTIF(ARRIVEE!$I$4,"4"),ARRIVEE!$E$4,IF(COUNTIF(ARRIVEE!$I$5,"4"),ARRIVEE!$E$5,IF(COUNTIF(ARRIVEE!$I$6,"4"),ARRIVEE!$E$6)))) -> FALSE
C4: CODE | D4: 1 | E4: 1 | F4: 1 | G4: 1
B5: 2 | C5: Nom
C6: APPT
C7: CODE | D7: 2 | E7: 2 | F7: 2 | G7: 2
B8: 3 | C8: Nom
C9: APPT
C10: CODE | D10: 3 | E10: 3 | F10: 3 | G10: 3
C13: _ | D13: FORMULE COMPLETE :(
D14: =SI(NB.SI(ARRIVEE!$Y$19;"2");ARRIVEE!$B$19;SI(NB.SI(ARRIVEE!$Y$20;"2");ARRIVEE!$B$20;SI(NB.SI(ARRIVEE!$Y$21;"2");ARRIVEE!$B$21;SI(NB.SI(ARRIVEE!$Y$22;"2");ARRIVEE!$B$22;SI(NB.SI(ARRIVEE!$Y$23;"2");ARRIVEE!$B$23;SI(NB.SI(ARRIVEE!$Y$24;"2");ARRIVEE!$B$24;SI(NB.SI(ARRIVEE!$Y$25;"2");ARRIVEE!$B$25;SI(NB.SI(ARRIVEE!$Y$26;"2");ARRIVEE!$B$26;SI(NB.SI(ARRIVEE!$Y$27;"2");ARRIVEE!$B$27;SI(NB.SI(ARRIVEE!$Y$28;"2");ARRIVEE!$B$28;SI(NB.SI(ARRIVEE!$Y$29;"2");ARRIVEE!$B$29;SI(NB.SI(ARRIVEE!$Y$30;"2");ARRIVEE!$B$30;SI(NB.SI(ARRIVEE!$Y$31;"2");ARRIVEE!$B$31;SI(NB.SI(ARRIVEE!$Y$32;"2");ARRIVEE!$B$32;SI(NB.SI(ARRIVEE!$Y$33;"2");ARRIVEE!$B$33;SI(NB.SI(ARRIVEE!$Y$34;"2");ARRIVEE!$B$34;SI(NB.SI(ARRIVEE!$Y$35;"2");ARRIVEE!$B$35;SI(NB.SI(ARRIVEE!$Y$36;"2");ARRIVEE!$B$36;SI(NB.SI(ARRIVEE!$Y$37;"2");ARRIVEE!$B$37;SI(NB.SI(ARRIVEE!$Y$38;"2");ARRIVEE!$B$38;SI(NB.SI(ARRIVEE!$Y$39;"2");ARRIVEE!$B$39;SI(NB.SI(ARRIVEE!$Y$40;"2");ARRIVEE!$B$40;SI(NB.SI(ARRIVEE!$Y$41;"2");ARRIVEE!$B$41;SI(NB.SI(ARRIVEE!$Y$42;"2");ARRIVEE!$B$42;SI(NB.SI(ARRIVEE!$Y$43;"2");ARRIVEE!$B$43;SI(NB.SI(ARRIVEE!$Y$44;"2");ARRIVEE!$B$44;SI(NB.SI(ARRIVEE!$Y$45;"2");ARRIVEE!$B$45;SI(NB.SI(ARRIVEE!$Y$46;"2");ARRIVEE!$B$46;SI(NB.SI(ARRIVEE!$Y$47;"2");ARRIVEE!$B$47;SI(NB.SI(ARRIVEE!$Y$48;"2");ARRIVEE!$B$48;SI(NB.SI(ARRIVEE!$Y$49;"2");ARRIVEE!$B$49;SI(NB.SI(ARRIVEE!$Y$50;"2");ARRIVEE!$B$50;""))))))))))))))))))))))))))))))))

Sheet COFFRE (2)
B2: 1 | C2: Nom | D2: =IFERROR(INDEX(ARRIVEE!$B$3:$B$13,VLOOKUP(ROUNDUP((ROW()-1)/3,0)&"-"&COLUMN()-3,ARRIVEE!$Q$3:$R$14,2,FALSE)),"") -> A | E2: =IFERROR(INDEX(ARRIVEE!$B$3:$B$13,VLOOKUP(ROUNDUP((ROW()-1)/3,0)&"-"&COLUMN()-3,ARRIVEE!$Q$3:$R$14,2,FALSE)),"") -> C | F2: =IFERROR(INDEX(ARRIVEE!$B$3:$B$13,VLOOKUP(ROUNDUP((ROW()-1)/3,0)&"-"&COLUMN()-3,ARRIVEE!$Q$3:$R$14,2,FALSE)),"") -> D | G2: =IFERROR(INDEX(ARRIVEE!$B$3:$B$13,VLOOKUP(ROUNDUP((ROW()-1)/3,0)&"-"&COLUMN()-3,ARRIVEE!$Q$3:$R$14,2,FALSE)),"") -> H
C3: APPT | D3: =IFERROR(INDEX(ARRIVEE!$E$3:$E$13,VLOOKUP(ROUNDUP((ROW()-1)/3,0)&"-"&COLUMN()-3,ARRIVEE!$Q$3:$R$14,2,FALSE)),"") -> 12 | E3: =IFERROR(INDEX(ARRIVEE!$E$3:$E$13,VLOOKUP(ROUNDUP((ROW()-1)/3,0)&"-"&COLUMN()-3,ARRIVEE!$Q$3:$R$14,2,FALSE)),"") -> 14 | F3: =IFERROR(INDEX(ARRIVEE!$E$3:$E$13,VLOOKUP(ROUNDUP((ROW()-1)/3,0)&"-"&COLUMN()-3,ARRIVEE!$Q$3:$R$14,2,FALSE)),"") -> 15 | G3: =IFERROR(INDEX(ARRIVEE!$E$3:$E$13,VLOOKUP(ROUNDUP((ROW()-1)/3,0)&"-"&COLUMN()-3,ARRIVEE!$Q$3:$R$14,2,FALSE)),"") -> 19
C4: CODE | D4: =IFERROR(INDEX(ARRIVEE!$F$3:$F$13,VLOOKUP(ROUNDUP((ROW()-1)/3,0)&"-"&COLUMN()-3,ARRIVEE!$Q$3:$R$14,2,FALSE)),"") -> 1 | E4: =IFERROR(INDEX(ARRIVEE!$F$3:$F$13,VLOOKUP(ROUNDUP((ROW()-1)/3,0)&"-"&COLUMN()-3,ARRIVEE!$Q$3:$R$14,2,FALSE)),"") -> 1 | F4: =IFERROR(INDEX(ARRIVEE!$F$3:$F$13,VLOOKUP(ROUNDUP((ROW()-1)/3,0)&"-"&COLUMN()-3,ARRIVEE!$Q$3:$R$14,2,FALSE)),"") -> 1 | G4: =IFERROR(INDEX(ARRIVEE!$F$3:$F$13,VLOOKUP(ROUNDUP((ROW()-1)/3,0)&"-"&COLUMN()-3,ARRIVEE!$Q$3:$R$14,2,FALSE)),"") -> 1
B5: 2 | C5: Nom | D5: =IFERROR(INDEX(ARRIVEE!$B$3:$B$13,VLOOKUP(ROUNDUP((ROW()-1)/3,0)&"-"&COLUMN()-3,ARRIVEE!$Q$3:$R$14,2,FALSE)),"") -> B | E5: =IFERROR(INDEX(ARRIVEE!$B$3:$B$13,VLOOKUP(ROUNDUP((ROW()-1)/3,0)&"-"&COLUMN()-3,ARRIVEE!$Q$3:$R$14,2,FALSE)),"") -> E | F5: =IFERROR(INDEX(ARRIVEE!$B$3:$B$13,VLOOKUP(ROUNDUP((ROW()-1)/3,0)&"-"&COLUMN()-3,ARRIVEE!$Q$3:$R$14,2,FALSE)),"") -> F | G5: =IFERROR(INDEX(ARRIVEE!$B$3:$B$13,VLOOKUP(ROUNDUP((ROW()-1)/3,0)&"-"&COLUMN()-3,ARRIVEE!$Q$3:$R$14,2,FALSE)),"")
C6: APPT | D6: =IFERROR(INDEX(ARRIVEE!$E$3:$E$13,VLOOKUP(ROUNDUP((ROW()-1)/3,0)&"-"&COLUMN()-3,ARRIVEE!$Q$3:$R$14,2,FALSE)),"") -> 13 | E6: =IFERROR(INDEX(ARRIVEE!$E$3:$E$13,VLOOKUP(ROUNDUP((ROW()-1)/3,0)&"-"&COLUMN()-3,ARRIVEE!$Q$3:$R$14,2,FALSE)),"") -> 16 | F6: =IFERROR(INDEX(ARRIVEE!$E$3:$E$13,VLOOKUP(ROUNDUP((ROW()-1)/3,0)&"-"&COLUMN()-3,ARRIVEE!$Q$3:$R$14,2,FALSE)),"") -> 17 | G6: =IFERROR(INDEX(ARRIVEE!$E$3:$E$13,VLOOKUP(ROUNDUP((ROW()-1)/3,0)&"-"&COLUMN()-3,ARRIVEE!$Q$3:$R$14,2,FALSE)),"")
C7: CODE | D7: =IFERROR(INDEX(ARRIVEE!$F$3:$F$13,VLOOKUP(ROUNDUP((ROW()-1)/3,0)&"-"&COLUMN()-3,ARRIVEE!$Q$3:$R$14,2,FALSE)),"") -> 2 | E7: =IFERROR(INDEX(ARRIVEE!$F$3:$F$13,VLOOKUP(ROUNDUP((ROW()-1)/3,0)&"-"&COLUMN()-3,ARRIVEE!$Q$3:$R$14,2,FALSE)),"") -> 2 | F7: =IFERROR(INDEX(ARRIVEE!$F$3:$F$13,VLOOKUP(ROUNDUP((ROW()-1)/3,0)&"-"&COLUMN()-3,ARRIVEE!$Q$3:$R$14,2,FALSE)),"") -> 2 | G7: =IFERROR(INDEX(ARRIVEE!$F$3:$F$13,VLOOKUP(ROUNDUP((ROW()-1)/3,0)&"-"&COLUMN()-3,ARRIVEE!$Q$3:$R$14,2,FALSE)),"")
B8: 3 | C8: Nom | D8: =IFERROR(INDEX(ARRIVEE!$B$3:$B$13,VLOOKUP(ROUNDUP((ROW()-1)/3,0)&"-"&COLUMN()-3,ARRIVEE!$Q$3:$R$14,2,FALSE)),"") -> G | E8: =IFERROR(INDEX(ARRIVEE!$B$3:$B$13,VLOOKUP(ROUNDUP((ROW()-1)/3,0)&"-"&COLUMN()-3,ARRIVEE!$Q$3:$R$14,2,FALSE)),"") -> I | F8: =IFERROR(INDEX(ARRIVEE!$B$3:$B$13,VLOOKUP(ROUNDUP((ROW()-1)/3,0)&"-"&COLUMN()-3,ARRIVEE!$Q$3:$R$14,2,FALSE)),"") -> J | G8: =IFERROR(INDEX(ARRIVEE!$B$3:$B$13,VLOOKUP(ROUNDUP((ROW()-1)/3,0)&"-"&COLUMN()-3,ARRIVEE!$Q$3:$R$14,2,FALSE)),"") -> K
C9: APPT | D9: =IFERROR(INDEX(ARRIVEE!$E$3:$E$13,VLOOKUP(ROUNDUP((ROW()-1)/3,0)&"-"&COLUMN()-3,ARRIVEE!$Q$3:$R$14,2,FALSE)),"") -> 18 | E9: =IFERROR(INDEX(ARRIVEE!$E$3:$E$13,VLOOKUP(ROUNDUP((ROW()-1)/3,0)&"-"&COLUMN()-3,ARRIVEE!$Q$3:$R$14,2,FALSE)),"") -> 20 | F9: =IFERROR(INDEX(ARRIVEE!$E$3:$E$13,VLOOKUP(ROUNDUP((ROW()-1)/3,0)&"-"&COLUMN()-3,ARRIVEE!$Q$3:$R$14,2,FALSE)),"") -> 21 | G9: =IFERROR(INDEX(ARRIVEE!$E$3:$E$13,VLOOKUP(ROUNDUP((ROW()-1)/3,0)&"-"&COLUMN()-3,ARRIVEE!$Q$3:$R$14,2,FALSE)),"") -> 22
C10: CODE | D10: =IFERROR(INDEX(ARRIVEE!$F$3:$F$13,VLOOKUP(ROUNDUP((ROW()-1)/3,0)&"-"&COLUMN()-3,ARRIVEE!$Q$3:$R$14,2,FALSE)),"") -> 3 | E10: =IFERROR(INDEX(ARRIVEE!$F$3:$F$13,VLOOKUP(ROUNDUP((ROW()-1)/3,0)&"-"&COLUMN()-3,ARRIVEE!$Q$3:$R$14,2,FALSE)),"") -> 3 | F10: =IFERROR(INDEX(ARRIVEE!$F$3:$F$13,VLOOKUP(ROUNDUP((ROW()-1)/3,0)&"-"&COLUMN()-3,ARRIVEE!$Q$3:$R$14,2,FALSE)),"") -> 3 | G10: =IFERROR(INDEX(ARRIVEE!$F$3:$F$13,VLOOKUP(ROUNDUP((ROW()-1)/3,0)&"-"&COLUMN()-3,ARRIVEE!$Q$3:$R$14,2,FALSE)),"") -> 3
C13: _ | D13: FORMULE COMPLETE :(
D14: =SI(NB.SI(ARRIVEE!$Y$19;"2");ARRIVEE!$B$19;SI(NB.SI(ARRIVEE!$Y$20;"2");ARRIVEE!$B$20;SI(NB.SI(ARRIVEE!$Y$21;"2");ARRIVEE!$B$21;SI(NB.SI(ARRIVEE!$Y$22;"2");ARRIVEE!$B$22;SI(NB.SI(ARRIVEE!$Y$23;"2");ARRIVEE!$B$23;SI(NB.SI(ARRIVEE!$Y$24;"2");ARRIVEE!$B$24;SI(NB.SI(ARRIVEE!$Y$25;"2");ARRIVEE!$B$25;SI(NB.SI(ARRIVEE!$Y$26;"2");ARRIVEE!$B$26;SI(NB.SI(ARRIVEE!$Y$27;"2");ARRIVEE!$B$27;SI(NB.SI(ARRIVEE!$Y$28;"2");ARRIVEE!$B$28;SI(NB.SI(ARRIVEE!$Y$29;"2");ARRIVEE!$B$29;SI(NB.SI(ARRIVEE!$Y$30;"2");ARRIVEE!$B$30;SI(NB.SI(ARRIVEE!$Y$31;"2");ARRIVEE!$B$31;SI(NB.SI(ARRIVEE!$Y$32;"2");ARRIVEE!$B$32;SI(NB.SI(ARRIVEE!$Y$33;"2");ARRIVEE!$B$33;SI(NB.SI(ARRIVEE!$Y$34;"2");ARRIVEE!$B$34;SI(NB.SI(ARRIVEE!$Y$35;"2");ARRIVEE!$B$35;SI(NB.SI(ARRIVEE!$Y$36;"2");ARRIVEE!$B$36;SI(NB.SI(ARRIVEE!$Y$37;"2");ARRIVEE!$B$37;SI(NB.SI(ARRIVEE!$Y$38;"2");ARRIVEE!$B$38;SI(NB.SI(ARRIVEE!$Y$39;"2");ARRIVEE!$B$39;SI(NB.SI(ARRIVEE!$Y$40;"2");ARRIVEE!$B$40;SI(NB.SI(ARRIVEE!$Y$41;"2");ARRIVEE!$B$41;SI(NB.SI(ARRIVEE!$Y$42;"2");ARRIVEE!$B$42;SI(NB.SI(ARRIVEE!$Y$43;"2");ARRIVEE!$B$43;SI(NB.SI(ARRIVEE!$Y$44;"2");ARRIVEE!$B$44;SI(NB.SI(ARRIVEE!$Y$45;"2");ARRIVEE!$B$45;SI(NB.SI(ARRIVEE!$Y$46;"2");ARRIVEE!$B$46;SI(NB.SI(ARRIVEE!$Y$47;"2");ARRIVEE!$B$47;SI(NB.SI(ARRIVEE!$Y$48;"2");ARRIVEE!$B$48;SI(NB.SI(ARRIVEE!$Y$49;"2");ARRIVEE!$B$49;SI(NB.SI(ARRIVEE!$Y$50;"2");ARRIVEE!$B$50;""))))))))))))))))))))))))))))))))

Sheet ARRIVEE
B2: NOM | C2: DATE ARRIVEE | D2: DATE DEPART | E2: APPT | F2: CODE | H2: 1 | J2: 2 | L2: 3 | N2: 4
B3: A | C3: 43878 | D3: 43881 | E3: 12 | F3: 1 | H3: =COUNTIF($F$3:$F$3,H2) -> 1 | I3: =SUM(H3) -> 1 | J3: =COUNTIF($F$3:$F$3,J2) -> 0 | K3: =SUM(J3) -> 0 | L3: =COUNTIF($F$3:$F$3,L2) -> 0 | M3: =SUM(L3) -> 0 | N3: =COUNTIF($F$3:$F$3,N2) -> 0 | O3: =SUM(N3) -> 0 | Q3: =F3&"-"&COUNTIF($F$3:F3,F3) -> 1-1 | R3: =ROW()-2 -> 1
B4: B | C4: 43878 | D4: 43882 | E4: 13 | F4: 2 | H4: =COUNTIF($F4,H$2) -> 0 | I4: =SUM(H3:H4) -> 1 | J4: =COUNTIF($F4,J$2) -> 1 | K4: =SUM(J3:J4) -> 1 | L4: =COUNTIF($F4,L$2) -> 0 | M4: =SUM(L3:L4) -> 0 | N4: =COUNTIF($F4,N$2) -> 0 | O4: =SUM(N3:N4) -> 0 | Q4: =F4&"-"&COUNTIF($F$3:F4,F4) -> 2-1 | R4: =ROW()-2 -> 2
B5: C | C5: 43878 | D5: 43882 | E5: 14 | F5: 1 | H5: =COUNTIF($F5,H$2) -> 1 | I5: =SUM(H3:H5) -> 2 | J5: =COUNTIF($F5,J$2) -> 0 | K5: =SUM(J3:J5) -> 1 | L5: =COUNTIF($F5,L$2) -> 0 | M5: =SUM(L3:L5) -> 0 | N5: =COUNTIF($F5,N$2) -> 0 | O5: =SUM(N3:N5) -> 0 | Q5: =F5&"-"&COUNTIF($F$3:F5,F5) -> 1-2 | R5: =ROW()-2 -> 3
B6: D | C6: 43878 | D6: 43882 | E6: 15 | F6: 1 | H6: =COUNTIF($F6,H$2) -> 1 | I6: =SUM(H3:H6) -> 3 | J6: =COUNTIF($F6,J$2) -> 0 | K6: =SUM(J3:J6) -> 1 | L6: =COUNTIF($F6,L$2) -> 0 | M6: =SUM(L3:L6) -> 0 | N6: =COUNTIF($F6,N$2) -> 0 | O6: =SUM(N3:N6) -> 0 | Q6: =F6&"-"&COUNTIF($F$3:F6,F6) -> 1-3 | R6: =ROW()-2 -> 4
B7: E | C7: 43878 | D7: 43881 | E7: 16 | F7: 2 | Q7: =F7&"-"&COUNTIF($F$3:F7,F7) -> 2-2 | R7: =ROW()-2 -> 5
B8: F | C8: 43878 | D8: 43882 | E8: 17 | F8: 2 | Q8: =F8&"-"&COUNTIF($F$3:F8,F8) -> 2-3 | R8: =ROW()-2 -> 6
B9: G | C9: 43878 | D9: 43882 | E9: 18 | F9: 3 | Q9: =F9&"-"&COUNTIF($F$3:F9,F9) -> 3-1 | R9: =ROW()-2 -> 7
B10: H | C10: 43878 | D10: 43882 | E10: 19 | F10: 1 | Q10: =F10&"-"&COUNTIF($F$3:F10,F10) -> 1-4 | R10: =ROW()-2 -> 8
B11: I | C11: 43878 | D11: 43881 | E11: 20 | F11: 3 | Q11: =F11&"-"&COUNTIF($F$3:F11,F11) -> 3-2 | R11: =ROW()-2 -> 9
B12: J | C12: 43878 | D12: 43882 | E12: 21 | F12: 3 | Q12: =F12&"-"&COUNTIF($F$3:F12,F12) -> 3-3 | R12: =ROW()-2 -> 10
B13: K | C13: 43878 | D13: 43882 | E13: 22 | F13: 3 | Q13: =F13&"-"&COUNTIF($F$3:F13,F13) -> 3-4 | R13: =ROW()-2 -> 11
