Workbook
Name efsg: #REF!
Name ENT: #REF!
Name info: #REF!
Name SURF: #REF!
Name ZONE: #REF!
Name ZONEID: #REF!

Sheet Feuil7
A1: CITY | B1: Code activité | C1: ZONENAME | E1: TYPES D ACTIVITES | F1: Numéros correspondants | G1: test fonction SI
A2: ARGENTEUIL | B2: 01 | C2: Z.A. DES BORDS DE SEINE | D2: =VLOOKUP(VALUE(B2),Feuil1!$A$2:$B$21,2,TRUE) -> AGRICULTURE, SYLVICULTURE ET PÊCHE | E2: AGRICULTURE, SYLVICULTURE ET PÊCHE | F2: 1à 4 | G2: =IF(B2:B4547>=95,E20,IF(B2:B4547>=90,E19,IF(B2:B4547>=86,E18,IF(B2:B4547>=85,E17,IF(B2:B4547>=84,E16,IF(B2:B4547>=77,E15,IF(B2:B4547>=69,E14,IF(B2:B4547>=68,E13,IF(B2:B4547>=64,E12,IF(B2:B4547>=58,E11,IF(B2:B4547>=55,E10,IF(B2:B4547>=49,E9,IF(B2:B4547>=45,E8,IF(B2:B4547>=41,E7,IF(B2:B4547>=36,E6,IF(B2:B4547>=35,E5,IF(B2:B4547>=10,E4,IF(B2:B4547>=5,E3,IF(B2:B4547>=1,E2,0))))))))))))))))))) -> AUTRES ACTIVITÉS DE SERVICES | H2: =VLOOKUP(B2:B4547,1:1048576,E2:E22,1) -> #N/A
A3: ARGENTEUIL | B3: 01 | C3: Z.A. DES BORDS DE SEINE | D3: =VLOOKUP(VALUE(B3),Feuil1!$A$2:$B$21,2,TRUE) -> AGRICULTURE, SYLVICULTURE ET PÊCHE | E3: INDUSTRIES EXTRACTIVES | F3: 5à 9 | G3: =IF(B3:B4548>=95,E21,IF(B3:B4548>=90,E20,IF(B3:B4548>=86,E19,IF(B3:B4548>=85,E18,IF(B3:B4548>=84,E17,IF(B3:B4548>=77,E16,IF(B3:B4548>=69,E15,IF(B3:B4548>=68,E14,IF(B3:B4548>=64,E13,IF(B3:B4548>=58,E12,IF(B3:B4548>=55,E11,IF(B3:B4548>=49,E10,IF(B3:B4548>=45,E9,IF(B3:B4548>=41,E8,IF(B3:B4548>=36,E7,IF(B3:B4548>=35,E6,IF(B3:B4548>=10,E5,IF(B3:B4548>=5,E4,IF(B3:B4548>=1,E3,0))))))))))))))))))) -> 0 | H3: =VLOOKUP(B3:B4548,#REF!,E3:E23,0) -> #REF!
A4: MONTESSON | B4: 01 | C4: Z.A. DES RABAUX | D4: =VLOOKUP(VALUE(B4),Feuil1!$A$2:$B$21,2,TRUE) -> AGRICULTURE, SYLVICULTURE ET PÊCHE | E4: INDUSTRIE MANUFACTURIÈRE | F4: 10à 34 | G4: =IF(B4:B4549>=95,E22,IF(B4:B4549>=90,E21,IF(B4:B4549>=86,E20,IF(B4:B4549>=85,E19,IF(B4:B4549>=84,E18,IF(B4:B4549>=77,E17,IF(B4:B4549>=69,E16,IF(B4:B4549>=68,E15,IF(B4:B4549>=64,E14,IF(B4:B4549>=58,E13,IF(B4:B4549>=55,E12,IF(B4:B4549>=49,E11,IF(B4:B4549>=45,E10,IF(B4:B4549>=41,E9,IF(B4:B4549>=36,E8,IF(B4:B4549>=35,E7,IF(B4:B4549>=10,E6,IF(B4:B4549>=5,E5,IF(B4:B4549>=1,E4,0))))))))))))))))))) -> 0 | H4: =VLOOKUP(B4:B4549,#REF!,E4:E24,0) -> #REF!
A5: BOULOGNE BILLANCOURT | B5: 02 | C5: Z.A.C. DU CENTRE VILLE | D5: =VLOOKUP(VALUE(B5),Feuil1!$A$2:$B$21,2,TRUE) -> AGRICULTURE, SYLVICULTURE ET PÊCHE | E5: PRODUCTION ET DISTRIBUTION D'ÉLECTRICITÉ, DE GAZ, DE VAPEUR ET D'AIR CONDITIONNÉ | F5: 35 | G5: =IF(B5:B4550>=95,E23,IF(B5:B4550>=90,E22,IF(B5:B4550>=86,E21,IF(B5:B4550>=85,E20,IF(B5:B4550>=84,E19,IF(B5:B4550>=77,E18,IF(B5:B4550>=69,E17,IF(B5:B4550>=68,E16,IF(B5:B4550>=64,E15,IF(B5:B4550>=58,E14,IF(B5:B4550>=55,E13,IF(B5:B4550>=49,E12,IF(B5:B4550>=45,E11,IF(B5:B4550>=41,E10,IF(B5:B4550>=36,E9,IF(B5:B4550>=35,E8,IF(B5:B4550>=10,E7,IF(B5:B4550>=5,E6,IF(B5:B4550>=1,E5,0))))))))))))))))))) -> 0 | H5: =VLOOKUP(B5:B4550,#REF!,E5:E25,0) -> #REF!
A6: PARIS | B6: 02 | C6: GARE D'AUSTERLITZ | D6: =VLOOKUP(VALUE(B6),Feuil1!$A$2:$B$21,2,TRUE) -> AGRICULTURE, SYLVICULTURE ET PÊCHE | E6: PRODUCTION ET DISTRIBUTION D'EAU ; ASSAINISSEMENT, GESTION DES DÉCHETS ET DÉPOLLUTION | F6: 36à 40 | G6: =IF(B6:B4551>=95,E24,IF(B6:B4551>=90,E23,IF(B6:B4551>=86,E22,IF(B6:B4551>=85,E21,IF(B6:B4551>=84,E20,IF(B6:B4551>=77,E19,IF(B6:B4551>=69,E18,IF(B6:B4551>=68,E17,IF(B6:B4551>=64,E16,IF(B6:B4551>=58,E15,IF(B6:B4551>=55,E14,IF(B6:B4551>=49,E13,IF(B6:B4551>=45,E12,IF(B6:B4551>=41,E11,IF(B6:B4551>=36,E10,IF(B6:B4551>=35,E9,IF(B6:B4551>=10,E8,IF(B6:B4551>=5,E7,IF(B6:B4551>=1,E6,0))))))))))))))))))) -> 0 | H6: =VLOOKUP(B6:B4551,#REF!,E6:E26,0) -> #REF!
A7: PARIS | B7: 02 | C7: GARE DE LYON | D7: =VLOOKUP(VALUE(B7),Feuil1!$A$2:$B$21,2,TRUE) -> AGRICULTURE, SYLVICULTURE ET PÊCHE | E7: CONSTRUCTION | F7: 41 44 | G7: =IF(B7:B4552>=95,E25,IF(B7:B4552>=90,E24,IF(B7:B4552>=86,E23,IF(B7:B4552>=85,E22,IF(B7:B4552>=84,E21,IF(B7:B4552>=77,E20,IF(B7:B4552>=69,E19,IF(B7:B4552>=68,E18,IF(B7:B4552>=64,E17,IF(B7:B4552>=58,E16,IF(B7:B4552>=55,E15,IF(B7:B4552>=49,E14,IF(B7:B4552>=45,E13,IF(B7:B4552>=41,E12,IF(B7:B4552>=36,E11,IF(B7:B4552>=35,E10,IF(B7:B4552>=10,E9,IF(B7:B4552>=5,E8,IF(B7:B4552>=1,E7,0))))))))))))))))))) -> 0 | H7: =VLOOKUP(B7:B4552,#REF!,E7:E27,0) -> #REF!
A8: PARIS | B8: 02 | C8: PARIS EXPO | D8: =VLOOKUP(VALUE(B8),Feuil1!$A$2:$B$21,2,TRUE) -> AGRICULTURE, SYLVICULTURE ET PÊCHE | E8: COMMERCE ; RÉPARATION D'AUTOMOBILES ET DE MOTOCYCLES | F8: 45 à 49 | G8: =IF(B8:B4553>=95,E26,IF(B8:B4553>=90,E25,IF(B8:B4553>=86,E24,IF(B8:B4553>=85,E23,IF(B8:B4553>=84,E22,IF(B8:B4553>=77,E21,IF(B8:B4553>=69,E20,IF(B8:B4553>=68,E19,IF(B8:B4553>=64,E18,IF(B8:B4553>=58,E17,IF(B8:B4553>=55,E16,IF(B8:B4553>=49,E15,IF(B8:B4553>=45,E14,IF(B8:B4553>=41,E13,IF(B8:B4553>=36,E12,IF(B8:B4553>=35,E11,IF(B8:B4553>=10,E10,IF(B8:B4553>=5,E9,IF(B8:B4553>=1,E8,0))))))))))))))))))) -> 0 | H8: =VLOOKUP(B8:B4553,#REF!,E8:E28,0) -> #REF!
A9: PARIS | B9: 02 | C9: Z.A.C. MONTGALLET | D9: =VLOOKUP(VALUE(B9),Feuil1!$A$2:$B$21,2,TRUE) -> AGRICULTURE, SYLVICULTURE ET PÊCHE | E9: TRANSPORTS ET ENTREPOSAGE | F9: 45 à 55 | G9: =IF(B9:B4554>=95,E27,IF(B9:B4554>=90,E26,IF(B9:B4554>=86,E25,IF(B9:B4554>=85,E24,IF(B9:B4554>=84,E23,IF(B9:B4554>=77,E22,IF(B9:B4554>=69,E21,IF(B9:B4554>=68,E20,IF(B9:B4554>=64,E19,IF(B9:B4554>=58,E18,IF(B9:B4554>=55,E17,IF(B9:B4554>=49,E16,IF(B9:B4554>=45,E15,IF(B9:B4554>=41,E14,IF(B9:B4554>=36,E13,IF(B9:B4554>=35,E12,IF(B9:B4554>=10,E11,IF(B9:B4554>=5,E10,IF(B9:B4554>=1,E9,0))))))))))))))))))) -> 0 | H9: =VLOOKUP(B9:B4554,#REF!,E9:E29,0) -> #REF!
A10: ROMAINVILLE | B10: 02 | C10: Z.I. | D10: =VLOOKUP(VALUE(B10),Feuil1!$A$2:$B$21,2,TRUE) -> AGRICULTURE, SYLVICULTURE ET PÊCHE | E10: HÉBERGEMENT ET RESTAURATION | F10: 55 à 57 | G10: =IF(B10:B4555>=95,E28,IF(B10:B4555>=90,E27,IF(B10:B4555>=86,E26,IF(B10:B4555>=85,E25,IF(B10:B4555>=84,E24,IF(B10:B4555>=77,E23,IF(B10:B4555>=69,E22,IF(B10:B4555>=68,E21,IF(B10:B4555>=64,E20,IF(B10:B4555>=58,E19,IF(B10:B4555>=55,E18,IF(B10:B4555>=49,E17,IF(B10:B4555>=45,E16,IF(B10:B4555>=41,E15,IF(B10:B4555>=36,E14,IF(B10:B4555>=35,E13,IF(B10:B4555>=10,E12,IF(B10:B4555>=5,E11,IF(B10:B4555>=1,E10,0))))))))))))))))))) -> 0 | H10: =VLOOKUP(B10:B4555,#REF!,E10:E30,0) -> #REF!
A11: ST DENIS | B11: 02 | C11: Z.A. PLEYEL NORD | D11: =VLOOKUP(VALUE(B11),Feuil1!$A$2:$B$21,2,TRUE) -> AGRICULTURE, SYLVICULTURE ET PÊCHE | E11: INFORMATION ET COMMUNICATION | F11: 58 à 63 | G11: =IF(B11:B4556>=95,E29,IF(B11:B4556>=90,E28,IF(B11:B4556>=86,E27,IF(B11:B4556>=85,E26,IF(B11:B4556>=84,E25,IF(B11:B4556>=77,E24,IF(B11:B4556>=69,E23,IF(B11:B4556>=68,E22,IF(B11:B4556>=64,E21,IF(B11:B4556>=58,E20,IF(B11:B4556>=55,E19,IF(B11:B4556>=49,E18,IF(B11:B4556>=45,E17,IF(B11:B4556>=41,E16,IF(B11:B4556>=36,E15,IF(B11:B4556>=35,E14,IF(B11:B4556>=10,E13,IF(B11:B4556>=5,E12,IF(B11:B4556>=1,E11,0))))))))))))))))))) -> 0 | H11: =VLOOKUP(B11:B4556,#REF!,E11:E31,0) -> #REF!
A12: ARGENTEUIL | B12: 10 | C12: Z.A. DES BORDS DE SEINE | D12: =VLOOKUP(VALUE(B12),Feuil1!$A$2:$B$21,2,TRUE) -> INDUSTRIE MANUFACTURIÈRE | E12: ACTIVITÉS FINANCIÈRES ET D'ASSURANCE | F12: 64 à 67 | G12: =IF(B12:B4557>=95,E30,IF(B12:B4557>=90,E29,IF(B12:B4557>=86,E28,IF(B12:B4557>=85,E27,IF(B12:B4557>=84,E26,IF(B12:B4557>=77,E25,IF(B12:B4557>=69,E24,IF(B12:B4557>=68,E23,IF(B12:B4557>=64,E22,IF(B12:B4557>=58,E21,IF(B12:B4557>=55,E20,IF(B12:B4557>=49,E19,IF(B12:B4557>=45,E18,IF(B12:B4557>=41,E17,IF(B12:B4557>=36,E16,IF(B12:B4557>=35,E15,IF(B12:B4557>=10,E14,IF(B12:B4557>=5,E13,IF(B12:B4557>=1,E12,0))))))))))))))))))) -> 0 | H12: =VLOOKUP(B12:B4557,#REF!,E12:E32,0) -> #REF!
A13: ARGENTEUIL | B13: 10 | C13: Z.A. DES BORDS DE SEINE | D13: =VLOOKUP(VALUE(B13),Feuil1!$A$2:$B$21,2,TRUE) -> INDUSTRIE MANUFACTURIÈRE | E13: ACTIVITÉS IMMOBILIÈRES | F13: 68 | G13: =IF(B13:B4558>=95,E31,IF(B13:B4558>=90,E30,IF(B13:B4558>=86,E29,IF(B13:B4558>=85,E28,IF(B13:B4558>=84,E27,IF(B13:B4558>=77,E26,IF(B13:B4558>=69,E25,IF(B13:B4558>=68,E24,IF(B13:B4558>=64,E23,IF(B13:B4558>=58,E22,IF(B13:B4558>=55,E21,IF(B13:B4558>=49,E20,IF(B13:B4558>=45,E19,IF(B13:B4558>=41,E18,IF(B13:B4558>=36,E17,IF(B13:B4558>=35,E16,IF(B13:B4558>=10,E15,IF(B13:B4558>=5,E14,IF(B13:B4558>=1,E13,0))))))))))))))))))) -> 0 | H13: =VLOOKUP(B13:B4558,#REF!,E13:E33,0) -> #REF!
A14: ARGENTEUIL | B14: 10 | C14: Z.A. DES BORDS DE SEINE | D14: =VLOOKUP(VALUE(B14),Feuil1!$A$2:$B$21,2,TRUE) -> INDUSTRIE MANUFACTURIÈRE | E14: ACTIVITÉS SPÉCIALISÉES, SCIENTIFIQUES ET TECHNIQUES | F14: 69 à 76 | G14: =IF(B14:B4559>=95,E32,IF(B14:B4559>=90,E31,IF(B14:B4559>=86,E30,IF(B14:B4559>=85,E29,IF(B14:B4559>=84,E28,IF(B14:B4559>=77,E27,IF(B14:B4559>=69,E26,IF(B14:B4559>=68,E25,IF(B14:B4559>=64,E24,IF(B14:B4559>=58,E23,IF(B14:B4559>=55,E22,IF(B14:B4559>=49,E21,IF(B14:B4559>=45,E20,IF(B14:B4559>=41,E19,IF(B14:B4559>=36,E18,IF(B14:B4559>=35,E17,IF(B14:B4559>=10,E16,IF(B14:B4559>=5,E15,IF(B14:B4559>=1,E14,0))))))))))))))))))) -> 0 | H14: =VLOOKUP(B14:B4559,#REF!,E14:E34,0) -> #REF!
A15: ARGENTEUIL | B15: 10 | C15: Z.A. DES BORDS DE SEINE | D15: =VLOOKUP(VALUE(B15),Feuil1!$A$2:$B$21,2,TRUE) -> INDUSTRIE MANUFACTURIÈRE | E15: ACTIVITÉS DE SERVICES ADMINISTRATIFS ET DE SOUTIEN | F15: 77 à 83 | G15: =IF(B15:B4560>=95,E33,IF(B15:B4560>=90,E32,IF(B15:B4560>=86,E31,IF(B15:B4560>=85,E30,IF(B15:B4560>=84,E29,IF(B15:B4560>=77,E28,IF(B15:B4560>=69,E27,IF(B15:B4560>=68,E26,IF(B15:B4560>=64,E25,IF(B15:B4560>=58,E24,IF(B15:B4560>=55,E23,IF(B15:B4560>=49,E22,IF(B15:B4560>=45,E21,IF(B15:B4560>=41,E20,IF(B15:B4560>=36,E19,IF(B15:B4560>=35,E18,IF(B15:B4560>=10,E17,IF(B15:B4560>=5,E16,IF(B15:B4560>=1,E15,0))))))))))))))))))) -> 0 | H15: =VLOOKUP(B15:B4560,#REF!,E15:E35,0) -> #REF!
A16: ARGENTEUIL | B16: 10 | C16: Z.A. DES BORDS DE SEINE | D16: =VLOOKUP(VALUE(B16),Feuil1!$A$2:$B$21,2,TRUE) -> INDUSTRIE MANUFACTURIÈRE | E16: ADMINISTRATION PUBLIQUE | F16: 84 | G16: =IF(B16:B4561>=95,E34,IF(B16:B4561>=90,E33,IF(B16:B4561>=86,E32,IF(B16:B4561>=85,E31,IF(B16:B4561>=84,E30,IF(B16:B4561>=77,E29,IF(B16:B4561>=69,E28,IF(B16:B4561>=68,E27,IF(B16:B4561>=64,E26,IF(B16:B4561>=58,E25,IF(B16:B4561>=55,E24,IF(B16:B4561>=49,E23,IF(B16:B4561>=45,E22,IF(B16:B4561>=41,E21,IF(B16:B4561>=36,E20,IF(B16:B4561>=35,E19,IF(B16:B4561>=10,E18,IF(B16:B4561>=5,E17,IF(B16:B4561>=1,E16,0))))))))))))))))))) -> 0 | H16: =VLOOKUP(B16:B4561,#REF!,E16:E36,0) -> #REF!
A17: ARGENTEUIL | B17: 10 | C17: Z.A. DES BORDS DE SEINE | D17: =VLOOKUP(VALUE(B17),Feuil1!$A$2:$B$21,2,TRUE) -> INDUSTRIE MANUFACTURIÈRE | E17: ENSEIGNEMENT | F17: 85 | G17: =IF(B17:B4562>=95,E35,IF(B17:B4562>=90,E34,IF(B17:B4562>=86,E33,IF(B17:B4562>=85,E32,IF(B17:B4562>=84,E31,IF(B17:B4562>=77,E30,IF(B17:B4562>=69,E29,IF(B17:B4562>=68,E28,IF(B17:B4562>=64,E27,IF(B17:B4562>=58,E26,IF(B17:B4562>=55,E25,IF(B17:B4562>=49,E24,IF(B17:B4562>=45,E23,IF(B17:B4562>=41,E22,IF(B17:B4562>=36,E21,IF(B17:B4562>=35,E20,IF(B17:B4562>=10,E19,IF(B17:B4562>=5,E18,IF(B17:B4562>=1,E17,0))))))))))))))))))) -> 0 | H17: =VLOOKUP(B17:B4562,#REF!,E17:E37,0) -> #REF!
A18: ARGENTEUIL | B18: 10 | C18: Z.I. DU VAL D'ARGENT | D18: =VLOOKUP(VALUE(B18),Feuil1!$A$2:$B$21,2,TRUE) -> INDUSTRIE MANUFACTURIÈRE | E18: SANTÉ HUMAINE ET ACTION SOCIALE | F18: 86 à89 | G18: =IF(B18:B4563>=95,E36,IF(B18:B4563>=90,E35,IF(B18:B4563>=86,E34,IF(B18:B4563>=85,E33,IF(B18:B4563>=84,E32,IF(B18:B4563>=77,E31,IF(B18:B4563>=69,E30,IF(B18:B4563>=68,E29,IF(B18:B4563>=64,E28,IF(B18:B4563>=58,E27,IF(B18:B4563>=55,E26,IF(B18:B4563>=49,E25,IF(B18:B4563>=45,E24,IF(B18:B4563>=41,E23,IF(B18:B4563>=36,E22,IF(B18:B4563>=35,E21,IF(B18:B4563>=10,E20,IF(B18:B4563>=5,E19,IF(B18:B4563>=1,E18,0))))))))))))))))))) -> 0 | H18: =VLOOKUP(B18:B4563,#REF!,E18:E38,0) -> #REF!
A19: ARGENTEUIL | B19: 10 | C19: Z.I. DU VAL D'ARGENT | D19: =VLOOKUP(VALUE(B19),Feuil1!$A$2:$B$21,2,TRUE) -> INDUSTRIE MANUFACTURIÈRE | E19: ARTS, SPECTACLES ET ACTIVITÉS RÉCRÉATIVES | F19: 90 à 94 | G19: =IF(B19:B4564>=95,E37,IF(B19:B4564>=90,E36,IF(B19:B4564>=86,E35,IF(B19:B4564>=85,E34,IF(B19:B4564>=84,E33,IF(B19:B4564>=77,E32,IF(B19:B4564>=69,E31,IF(B19:B4564>=68,E30,IF(B19:B4564>=64,E29,IF(B19:B4564>=58,E28,IF(B19:B4564>=55,E27,IF(B19:B4564>=49,E26,IF(B19:B4564>=45,E25,IF(B19:B4564>=41,E24,IF(B19:B4564>=36,E23,IF(B19:B4564>=35,E22,IF(B19:B4564>=10,E21,IF(B19:B4564>=5,E20,IF(B19:B4564>=1,E19,0))))))))))))))))))) -> 0 | H19: =VLOOKUP(B19:B4564,#REF!,E19:E39,0) -> #REF!
A20: ARGENTEUIL | B20: 10 | C20: Z.I. DU VAL D'ARGENT | D20: =VLOOKUP(VALUE(B20),Feuil1!$A$2:$B$21,2,TRUE) -> INDUSTRIE MANUFACTURIÈRE | E20: AUTRES ACTIVITÉS DE SERVICES | F20: 95 | G20: =IF(B20:B4565>=95,E38,IF(B20:B4565>=90,E37,IF(B20:B4565>=86,E36,IF(B20:B4565>=85,E35,IF(B20:B4565>=84,E34,IF(B20:B4565>=77,E33,IF(B20:B4565>=69,E32,IF(B20:B4565>=68,E31,IF(B20:B4565>=64,E30,IF(B20:B4565>=58,E29,IF(B20:B4565>=55,E28,IF(B20:B4565>=49,E27,IF(B20:B4565>=45,E26,IF(B20:B4565>=41,E25,IF(B20:B4565>=36,E24,IF(B20:B4565>=35,E23,IF(B20:B4565>=10,E22,IF(B20:B4565>=5,E21,IF(B20:B4565>=1,E20,0))))))))))))))))))) -> 0 | H20: =VLOOKUP(B20:B4565,#REF!,E20:E40,0) -> #REF!
A21: ARGENTEUIL | B21: 10 | C21: Z.I. DU VAL D'ARGENT | D21: =VLOOKUP(VALUE(B21),Feuil1!$A$2:$B$21,2,TRUE) -> INDUSTRIE MANUFACTURIÈRE | G21: =IF(B21:B4566>=95,E39,IF(B21:B4566>=90,E38,IF(B21:B4566>=86,E37,IF(B21:B4566>=85,E36,IF(B21:B4566>=84,E35,IF(B21:B4566>=77,E34,IF(B21:B4566>=69,E33,IF(B21:B4566>=68,E32,IF(B21:B4566>=64,E31,IF(B21:B4566>=58,E30,IF(B21:B4566>=55,E29,IF(B21:B4566>=49,E28,IF(B21:B4566>=45,E27,IF(B21:B4566>=41,E26,IF(B21:B4566>=36,E25,IF(B21:B4566>=35,E24,IF(B21:B4566>=10,E23,IF(B21:B4566>=5,E22,IF(B21:B4566>=1,E21,0))))))))))))))))))) -> 0
A22: BEZONS | B22: 10 | C22: Z.I. OUEST | D22: =VLOOKUP(VALUE(B22),Feuil1!$A$2:$B$21,2,TRUE) -> INDUSTRIE MANUFACTURIÈRE | G22: =IF(B22:B4567>=95,E40,IF(B22:B4567>=90,E39,IF(B22:B4567>=86,E38,IF(B22:B4567>=85,E37,IF(B22:B4567>=84,E36,IF(B22:B4567>=77,E35,IF(B22:B4567>=69,E34,IF(B22:B4567>=68,E33,IF(B22:B4567>=64,E32,IF(B22:B4567>=58,E31,IF(B22:B4567>=55,E30,IF(B22:B4567>=49,E29,IF(B22:B4567>=45,E28,IF(B22:B4567>=41,E27,IF(B22:B4567>=36,E26,IF(B22:B4567>=35,E25,IF(B22:B4567>=10,E24,IF(B22:B4567>=5,E23,IF(B22:B4567>=1,E22,0))))))))))))))))))) -> 0
A23: BOULOGNE BILLANCOURT | B23: 10 | C23: Z.A.C. DU CENTRE VILLE | D23: =VLOOKUP(VALUE(B23),Feuil1!$A$2:$B$21,2,TRUE) -> INDUSTRIE MANUFACTURIÈRE
A24: BOULOGNE BILLANCOURT | B24: 10 | C24: Z.A.C. SEGUIN - RIVES DE SEINE | D24: =VLOOKUP(VALUE(B24),Feuil1!$A$2:$B$21,2,TRUE) -> INDUSTRIE MANUFACTURIÈRE
A25: BOULOGNE BILLANCOURT | B25: 10 | C25: Z.A.C. SEGUIN - RIVES DE SEINE | D25: =VLOOKUP(VALUE(B25),Feuil1!$A$2:$B$21,2,TRUE) -> INDUSTRIE MANUFACTURIÈRE
A26: CHATILLON | B26: 10 | C26: ZONE DES ARUES | D26: =VLOOKUP(VALUE(B26),Feuil1!$A$2:$B$21,2,TRUE) -> INDUSTRIE MANUFACTURIÈRE
A27: CHATILLON | B27: 10 | C27: ZONE PORTE NORD | D27: =VLOOKUP(VALUE(B27),Feuil1!$A$2:$B$21,2,TRUE) -> INDUSTRIE MANUFACTURIÈRE
A28: CLICHY | B28: 10 | C28: Z.A.C. CENTRE VILLE | D28: =VLOOKUP(VALUE(B28),Feuil1!$A$2:$B$21,2,TRUE) -> INDUSTRIE MANUFACTURIÈRE
A29: CLICHY | B29: 10 | C29: Z.A.C. CENTRE VILLE | D29: =VLOOKUP(VALUE(B29),Feuil1!$A$2:$B$21,2,TRUE) -> INDUSTRIE MANUFACTURIÈRE
A30: CLICHY | B30: 10 | C30: Z.A.C. ENTRÉE DE VILLE | D30: =VLOOKUP(VALUE(B30),Feuil1!$A$2:$B$21,2,TRUE) -> INDUSTRIE MANUFACTURIÈRE
A31: CLICHY | B31: 10 | C31: Z.A.C. ENTRÉE DE VILLE | D31: =VLOOKUP(VALUE(B31),Feuil1!$A$2:$B$21,2,TRUE) -> INDUSTRIE MANUFACTURIÈRE
A32: CLICHY | B32: 10 | C32: Z.A.C. ESPACE CLICHY | D32: =VLOOKUP(VALUE(B32),Feuil1!$A$2:$B$21,2,TRUE) -> INDUSTRIE MANUFACTURIÈRE
A33: CLICHY | B33: 10 | C33: Z.A.C. MOREUIL | D33: =VLOOKUP(VALUE(B33),Feuil1!$A$2:$B$21,2,TRUE) -> INDUSTRIE MANUFACTURIÈRE
A34: CLICHY | B34: 10 | C34: Z.A.C. TROUILLET FOUQUET | D34: =VLOOKUP(VALUE(B34),Feuil1!$A$2:$B$21,2,TRUE) -> INDUSTRIE MANUFACTURIÈRE
... A4547: SANNOIS | B4547: 96 | C4547: CENTRE COMMERCIAL CARREFOUR | D4547: =VLOOKUP(VALUE(B4547),Feuil1!$A$2:$B$21,2,TRUE) -> AUTRES ACTIVITÉS DE SERVICES

Sheet Feuil1
A1: Numéros correspondants | B1: TYPES D ACTIVITES
A2: 0 | B2: Inconnu
A3: 1 | B3: AGRICULTURE, SYLVICULTURE ET PÊCHE
A4: 5 | B4: INDUSTRIES EXTRACTIVES
A5: 10 | B5: INDUSTRIE MANUFACTURIÈRE
A6: 35 | B6: PRODUCTION ET DISTRIBUTION D'ÉLECTRICITÉ, DE GAZ, DE VAPEUR ET D'AIR CONDITIONNÉ
A7: 36 | B7: PRODUCTION ET DISTRIBUTION D'EAU ; ASSAINISSEMENT, GESTION DES DÉCHETS ET DÉPOLLUTION
A8: 41 | B8: CONSTRUCTION
A9: 45 | B9: COMMERCE ; RÉPARATION D'AUTOMOBILES ET DE MOTOCYCLES
A10: 50 | B10: TRANSPORTS ET ENTREPOSAGE
A11: 55 | B11: HÉBERGEMENT ET RESTAURATION
A12: 58 | B12: INFORMATION ET COMMUNICATION
A13: 64 | B13: ACTIVITÉS FINANCIÈRES ET D'ASSURANCE
... A21: 95 | B21: AUTRES ACTIVITÉS DE SERVICES
