Workbook
Name AKOU: #REF!

Sheet graphique test v1
C1: budget
D4: Oct. | E4: Nov. | F4: Déc. | G4: Janv. | H4: Févr. | I4: Mars | J4: Avr. | K4: Mai | L4: Juin | M4: Juil. | N4: Août | O4: Cumul annuel
A5: REGIONS | B5: BRANCHE | C5: OBJECTIF | D5: 3050 | E5: 4600 | F5: 6100 | G5: 3260 | H5: 1650 | I5: 1530 | J5: 1005 | K5: 955 | L5: 867.5 | M5: 767.5 | O5: =SUM(C5:N5) -> 23785
A6: EST | B6: PMO | C6: 670 | D6: 1142394.3 | E6: 1006000 | F6: 1409061 | G6: 606000 | H6: 406853.66 | I6: 431000 | J6: 401000 | K6: 406853.66 | L6: 451000 | M6: 391000 | N6: 359333.33 | O6: =SUM(D6:N6) -> 7010495.9
B7: VIL | C7: 700 | D7: 1212235.8 | E7: 1083000 | F7: 1478902.4 | G7: 583000 | H7: 607634.15 | I7: 633000 | J7: 603000 | K7: 482634.15 | L7: 465500 | M7: 405500 | N7: 871333.33 | O7: =SUM(D7:N7) -> 8425739.8
B8: HUE | C8: 900 | D8: 999869.92 | E8: 982000 | F8: 1656536.6 | G8: 607000 | H8: 636512.2 | I8: 657000 | J8: 492000 | K8: 501512.2 | L8: 417000 | M8: 482000 | N8: 878833.33 | O8: =SUM(D8:N8) -> 8310264.2
B9: CHEF REGION EST | C9: 2270 | D9: 750000 | E9: 750000 | F9: 750000 | G9: 750000 | H9: 750000 | I9: 750000 | J9: 750000 | K9: 750000 | L9: 750000 | M9: 750000 | N9: 750000 | O9: =SUM(C9:N9) -> 8252270
A10: TOTAL | B10: 3 | C10: 2270 | D10: =+D9+D8+D7+D6 -> 4104500 | E10: =+E9+E8+E7+E6 -> 3821000 | F10: =+F9+F8+F7+F6 -> 5294500 | G10: =+G9+G8+G7+G6 -> 2546000 | H10: =+H9+H8+H7+H6 -> 2401000 | I10: =+I9+I8+I7+I6 -> 2471000 | J10: =+J9+J8+J7+J6 -> 2246000 | K10: =+K9+K8+K7+K6 -> 2141000 | ... N10: =+N9+N8+N7+N6 -> 2859500 | O10: =SUM(C10:N10) -> 31998770
A11: CENTRE | B11: GOH | C11: 1500 | D11: 5232260 | E11: 3864360 | F11: 4339860 | G11: 3164360 | H11: 2573360 | I11: 1792860 | J11: 2478360 | K11: 2794860 | L11: 2494360 | M11: 2403360 | N11: 1282840 | O11: =SUM(D11:N11) -> 32420840
B12: BIE | C12: 1225 | D12: 1860100 | E12: 2175100 | F12: 2844100 | G12: 2225100 | H12: 1150100 | I12: 1265100 | J12: 855100 | K12: 1225100 | L12: 865100 | M12: 930100 | N12: 555100 | O12: =SUM(D12:N12) -> 15950100
B13: GER | C13: 725 | D13: 1256000 | E13: 1460000 | F13: 1451000 | G13: 951000 | H13: 821000 | I13: 576000 | J13: 596000 | K13: 576000 | L13: 596000 | M13: 576000 | N13: 471000 | O13: =SUM(D13:N13) -> 9330000
B14: GRI | C14: 725 | D14: 1206000 | E14: 1049450 | F14: 1457500 | G14: 879000 | H14: 733500 | I14: 687500 | J14: 684500 | K14: 447500 | L14: 582500 | M14: 514000 | N14: 372500 | O14: =SUM(D14:N14) -> 8613950
B15: BRG | C15: 670 | D15: 1865100 | E15: 1667100 | F15: 1732100 | G15: 1032100 | H15: 948100 | I15: 787100 | J15: 687100 | K15: 677100 | L15: 547100 | M15: 547100 | N15: 307100 | O15: =SUM(D15:N15) -> 10797100
B16: DER | C16: 1200 | D16: 1200000 | E16: 1908500 | F16: 2781250 | G16: 1855000 | H16: 1104500 | I16: 1209000 | J16: 1184500 | K16: 862500 | L16: 714750 | M16: 416250 | N16: 856250 | O16: =SUM(D16:N16) -> 14092500
B17: DAS | C17: 1000 | D17: 1299400 | E17: 1951600 | F17: 1962100 | G17: 962100 | H17: 1396700 | I17: 1186600 | J17: 951600 | K17: 810700 | L17: 805700 | M17: 1151500 | N17: 1000100 | O17: =SUM(D17:N17) -> 13478100
B18: GUR | C18: 2000 | D18: 3124750 | E18: 3712750 | F18: 4094750 | G18: 3959750 | H18: 1113000 | I18: 1858250 | J18: 1176750 | K18: 925000 | L18: 786750 | M18: 753250 | N18: 388000 | O18: =SUM(D18:N18) -> 21893000
B19: DEZ | C19: 2000 | D19: 4142650 | E19: 6372062 | F19: 6841750 | G19: 3672962 | H19: 1818550 | I19: 2073862 | J19: 3841750 | K19: 1424087 | L19: 1243775 | M19: 1149199.5 | N19: 1043887.5 | O19: =SUM(D19:N19) -> 33624535
B20: CHEF REGION CENTRE | C20: 11045 | D20: 750000 | E20: 750000 | F20: 750000 | G20: 750000 | H20: 750000 | I20: 750000 | J20: 750000 | K20: 750000 | L20: 750000 | M20: 750000 | N20: 750000 | O20: =SUM(C20:N20) -> 8261045
A21: TOTAL | B21: 9 | C21: 11045 | D21: =+SUM(D11:D20) -> 21936260 | E21: =+SUM(E11:E20) -> 24910922 | F21: =+SUM(F11:F20) -> 28254410 | G21: =+SUM(G11:G20) -> 19451372 | H21: =+SUM(H11:H20) -> 12408810 | I21: =+SUM(I11:I20) -> 12186272 | J21: =+SUM(J11:J20) -> 13205660 | K21: =+SUM(K11:K20) -> 10492847 | ... O21: =+SUM(O11:O20) -> 168461170
A22: OUEST | B22: NUR | C22: 1300 | D22: 2691700 | E22: 2491200 | F22: 2716700 | G22: 2517200 | H22: 1716700 | I22: 1741200 | J22: 1448300 | K22: 1234800 | L22: 1210300 | M22: 1320800 | N22: 960300 | O22: =SUM(D22:N22) -> 20049200
B23: MAR | C23: 725 | D23: 500000 | E23: 500000 | F23: 1000000 | G23: 500000 | H23: 250000 | I23: 250000 | J23: 250000 | K23: 125000 | L23: 125000 | M23: 125000 | N23: 0 | O23: =SUM(D23:N23) -> 3625000
B24: DUR | C24: 3900 | D24: 7787900 | E24: 5192900 | F24: 5442900 | G24: 7447900 | H24: 2942900 | I24: 2692900 | J24: 2989400 | K24: 1850900 | L24: 1850900 | M24: 3136900 | N24: 786900 | O24: =SUM(D24:N24) -> 42122400
B25: DEQ | C25: 900 | D25: 1618000 | E25: 1542000 | F25: 2042000 | G25: 1167000 | H25: 1167000 | I25: 1167000 | J25: 1042000 | K25: 1042000 | L25: 125000 | M25: 250000 | N25: 0 | O25: =SUM(D25:N25) -> 11162000
B26: CAK | C26: 1475 | D26: 1000000 | E26: 1500000 | F26: 2000000 | G26: 1000000 | H26: 500000 | I26: 375000 | J26: 250000 | K26: 250000 | L26: 250000 | M26: 250000 | N26: 0 | O26: =SUM(D26:N26) -> 7375000
B27: BAQ | C27: 750 | D27: 1431000 | E27: 1038500 | F27: 1363500 | G27: 1553500 | H27: 946500 | I27: 786500 | J27: 1164000 | K27: 1103500 | L27: 819500 | M27: 647500 | N27: 667500 | O27: =SUM(D27:N27) -> 11521500
B28: GPO | C28: 670 | D28: 3600626 | E28: 3720626 | F28: 4145626 | G28: 3470626 | H28: 3095626 | I28: 3400626 | J28: 3095626 | K28: 3095626 | L28: 3400626 | M28: 3095626 | N28: 2970626 | O28: =SUM(D28:N28) -> 37091886
B29: SOU | C29: 750 | D29: 1257740 | E29: 1689150 | F29: 1937740 | G29: 1613700 | H29: 825740 | I29: 742200 | J29: 717240 | K29: 619700 | L29: 755240 | M29: 556200 | N29: 422140 | O29: =SUM(D29:N29) -> 11136790
B30: CHEF REGION OUEST | C30: 10470 | D30: 750000 | E30: 750000 | F30: 750000 | G30: 750000 | H30: 750000 | I30: 750000 | J30: 750000 | K30: 750000 | L30: 750000 | M30: 750000 | N30: 750000 | O30: =SUM(C30:N30) -> 8260470
A31: TOTAL | B31: 8 | C31: 10470 | D31: =+SUM(D22:D30) -> 20636966 | E31: =+SUM(E22:E30) -> 18424376 | F31: =+SUM(F22:F30) -> 21398466 | G31: =+SUM(G22:G30) -> 20019926 | H31: =+SUM(H22:H30) -> 12194466 | I31: =+SUM(I22:I30) -> 11905426 | J31: =+SUM(J22:J30) -> 11706566 | K31: =+SUM(K22:K30) -> 10071526 | ... N31: =+SUM(N22:N30) -> 6557466 | O31: =SUM(C31:N31) -> 152344246
A32: SIEGE | B32: DF | O32: =SUM(C32:N32) -> 0
B33: RH | O33: =SUM(C33:N33) -> 0
A34: TOTAL | C34: =+SUM(C32:C33) -> 0 | D34: =+SUM(D32:D33) -> 0 | E34: =+SUM(E32:E33) -> 0 | F34: =+SUM(F32:F33) -> 0 | G34: =+SUM(G32:G33) -> 0 | H34: =+SUM(H32:H33) -> 0 | I34: =+SUM(I32:I33) -> 0 | J34: =+SUM(J32:J33) -> 0 | ... O34: =+SUM(O32:O33) -> 0
B36: TOTAL | C36: =+C34+C31+C21+C10 -> 23785 | D36: =+D34+D31+D21+D10 -> 46677726 | E36: =+E34+E31+E21+E10 -> 47156298 | F36: =+F34+F31+F21+F10 -> 54947376 | G36: =+G34+G31+G21+G10 -> 42017298 | H36: =+H34+H31+H21+H10 -> 27004276 | I36: =+I34+I31+I21+I10 -> 26562698 | J36: =+J34+J31+J21+J10 -> 27158226 | ... O36: =+O34+O31+O21+O10 -> 352804186

Sheet Feuil1
A1: Régions | C1: Branche_Est | E1: Branche_Centre | G1: Branche_Ouest
A2: Est | C2: PMO | E2: GOH | G2: NUR | I2: Région | J2: Centre | L2: Région | M2: Centre | O2: Région | P2: Ouest
A3: Centre | C3: VIL | E3: BIE | G3: MAR | I3: Branche | J3: GER | L3: Branche | M3: BRG | O3: Branche | P3: CAK
A4: Ouest | C4: HUE | E4: GER | G4: DUR | I4: Mois | J4: Janv. | L4: Mois | M4: Janv. | O4: Mois | P4: Janv.
C5: CHEF REGION EST | E5: GRI | G5: DEQ
E6: BRG | G6: CAK | I6: Description | J6: Objectif | K6: Budget
E7: DER | G7: BAQ | I7: =J2&" - " &J3& " - " &J4 -> Centre - GER - Janv. | J7: =INDEX('graphique test v1'!$C$6:$C$30,MATCH($J$3,'graphique test v1'!$B$6:$B$30,0),1)*1000 -> 725000 | K7: =INDEX('graphique test v1'!$C$6:$N$30,MATCH($J$3,'graphique test v1'!$B$6:$B$30,0),MATCH($J$4,'graphique test v1'!$A$4:$N$4,0)-2) -> 951000
E8: DAS | G8: GPO | I8: =M2&" - " &M3& " - " &M4 -> Centre - BRG - Janv. | J8: =INDEX('graphique test v1'!$C$6:$C$30,MATCH($M$3,'graphique test v1'!$B$6:$B$30,0),1)*1000 -> 670000 | K8: =INDEX('graphique test v1'!$C$6:$N$30,MATCH($M$3,'graphique test v1'!$B$6:$B$30,0),MATCH($M$4,'graphique test v1'!$A$4:$N$4,0)-2) -> 1032100
E9: GUR | G9: SOU | I9: =M3&" - " &M4& " - " &M5 -> BRG - Janv. - | J9: =INDEX('graphique test v1'!$C$6:$C$30,MATCH($P$3,'graphique test v1'!$B$6:$B$30,0),1)*1000 -> 1475000 | K9: =INDEX('graphique test v1'!$C$6:$N$30,MATCH($P$3,'graphique test v1'!$B$6:$B$30,0),MATCH($P$4,'graphique test v1'!$A$4:$N$4,0)-2) -> 1000000
E10: DEZ | G10: CHEF REGION OUEST
E11: CHEF REGION CENTRE
