Workbook

Sheet Résultats
A1: GROUPE A | F1: GROUPE B | K1: GROUPE C
A3: FRANCE | B3: 2 | C3: 1 | D3: ROUMANIE | F3: GALLES | G3: 2 | H3: 1 | I3: SLOVAQUIE | K3: POLOGNE | L3: 1 | M3: 0 | N3: IRL DU NORD
A4: ALBANIE | B4: 0 | C4: 1 | D4: SUISSE | F4: ANGLETERRE | G4: 1 | H4: 1 | I4: RUSSIE | K4: Allemagne | L4: 2 | M4: 0 | N4: UKRAINE
A5: ROUMANIE | B5: 1 | C5: 1 | D5: SUISSE | F5: RUSSIE | I5: SLOVAQUIE | K5: UKRAINE | N5: IRL DU NORD
A6: FRANCE | D6: ALBANIE | F6: ANGLETERRE | I6: GALLES | K6: Allemagne | N6: POLOGNE
A7: ROUMANIE | D7: ALBANIE | F7: RUSSIE | I7: GALLES | K7: UKRAINE | N7: POLOGNE
A8: SUISSE | D8: FRANCE | F8: SLOVAQUIE | I8: ANGLETERRE | K8: IRL DU NORD | N8: Allemagne
A10: GROUPE D | F10: GROUPE E | K10: GROUPE F
A12: TURQUIE | B12: 0 | C12: 1 | D12: CROATIE | F12: Irlande | G12: 1 | H12: 1 | I12: SUEDE | K12: Autriche | N12: HONGRIE
A13: Espagne | B13: 1 | C13: 0 | D13: REP. TCHEQUE | F13: Belgique | G13: 0 | H13: 2 | I13: Italie | K13: Portugal | N13: ISLANDE
A14: REP. TCHEQUE | D14: CROATIE | F14: Italie | I14: SUEDE | K14: ISLANDE | N14: HONGRIE
A15: ESPAGNE | D15: TURQUIE | F15: Belgique | I15: Irlande | K15: Portugal | N15: Autriche
A16: REP. TCHEQUE | D16: TURQUIE | F16: Italie | I16: Irlande | K16: ISLANDE | N16: Autriche
A17: CROATIE | D17: Espagne | F17: SUEDE | I17: Belgique | K17: HONGRIE | N17: Portugal

Sheet BEN
A1: GROUPE A | F1: GROUPE B | K1: GROUPE C
A3: FRANCE | B3: 2 | C3: 0 | D3: ROUMANIE | F3: GALLES | G3: 1 | H3: 1 | I3: SLOVAQUIE | K3: POLOGNE | L3: 2 | M3: 1 | N3: IRL DU NORD
A4: ALBANIE | B4: 1 | C4: 2 | D4: SUISSE | F4: ANGLETERRE | G4: 3 | H4: 1 | I4: RUSSIE | K4: Allemagne | L4: 2 | M4: 0 | N4: UKRAINE
A5: ROUMANIE | B5: 1 | C5: 1 | D5: SUISSE | F5: RUSSIE | G5: 1 | H5: 0 | I5: SLOVAQUIE | K5: UKRAINE | L5: 1 | M5: 1 | N5: IRL DU NORD
A6: FRANCE | B6: 3 | C6: 0 | D6: ALBANIE | F6: ANGLETERRE | G6: 2 | H6: 0 | I6: GALLES | K6: Allemagne | L6: 3 | M6: 1 | N6: POLOGNE
A7: ROUMANIE | B7: 1 | C7: 1 | D7: ALBANIE | F7: RUSSIE | G7: 1 | H7: 0 | I7: GALLES | K7: UKRAINE | L7: 1 | M7: 1 | N7: POLOGNE
A8: SUISSE | B8: 1 | C8: 3 | D8: FRANCE | F8: SLOVAQUIE | G8: 0 | H8: 3 | I8: ANGLETERRE | K8: IRL DU NORD | L8: 0 | M8: 2 | N8: Allemagne
A10: GROUPE D | F10: GROUPE E | K10: GROUPE F
A12: TURQUIE | B12: 1 | C12: 2 | D12: CROATIE | F12: Irlande | G12: 1 | H12: 1 | I12: SUEDE | K12: Autriche | L12: 0 | M12: 0 | N12: HONGRIE
A13: Espagne | B13: 2 | C13: 0 | D13: REP. TCHEQUE | F13: Belgique | G13: 2 | H13: 1 | I13: Italie | K13: Portugal | L13: 2 | M13: 0 | N13: ISLANDE
A14: REP. TCHEQUE | B14: 1 | C14: 2 | D14: CROATIE | F14: Italie | G14: 2 | H14: 1 | I14: SUEDE | K14: ISLANDE | L14: 0 | M14: 1 | N14: HONGRIE
A15: ESPAGNE | B15: 2 | C15: 1 | D15: TURQUIE | F15: Belgique | G15: 2 | H15: 0 | I15: Irlande | K15: Portugal | L15: 2 | M15: 1 | N15: Autriche
A16: REP. TCHEQUE | B16: 1 | C16: 1 | D16: TURQUIE | F16: Italie | G16: 1 | H16: 0 | I16: Irlande | K16: ISLANDE | L16: 0 | M16: 1 | N16: Autriche
A17: CROATIE | B17: 1 | C17: 2 | D17: Espagne | F17: SUEDE | G17: 1 | H17: 3 | I17: Belgique | K17: HONGRIE | L17: 0 | M17: 1 | N17: Portugal

Sheet ALEX
A1: GROUPE A | F1: GROUPE B | K1: GROUPE C
A3: FRANCE | B3: 2 | C3: 1 | D3: ROUMANIE | F3: GALLES | G3: 1 | H3: 2 | I3: SLOVAQUIE | K3: POLOGNE | L3: 1 | M3: 0 | N3: IRL DU NORD
A4: ALBANIE | B4: 0 | C4: 2 | D4: SUISSE | F4: ANGLETERRE | G4: 1 | H4: 0 | I4: RUSSIE | K4: Allemagne | L4: 3 | M4: 1 | N4: UKRAINE
A5: ROUMANIE | B5: 1 | C5: 1 | D5: SUISSE | F5: RUSSIE | G5: 1 | H5: 1 | I5: SLOVAQUIE | K5: UKRAINE | L5: 3 | M5: 1 | N5: IRL DU NORD
A6: FRANCE | B6: 3 | C6: 0 | D6: ALBANIE | F6: ANGLETERRE | G6: 3 | H6: 1 | I6: GALLES | K6: Allemagne | L6: 2 | M6: 0 | N6: POLOGNE
A7: ROUMANIE | B7: 1 | C7: 0 | D7: ALBANIE | F7: RUSSIE | G7: 2 | H7: 0 | I7: GALLES | K7: UKRAINE | L7: 1 | M7: 0 | N7: POLOGNE
A8: SUISSE | B8: 0 | C8: 1 | D8: FRANCE | F8: SLOVAQUIE | G8: 0 | H8: 1 | I8: ANGLETERRE | K8: IRL DU NORD | L8: 0 | M8: 5 | N8: Allemagne
A10: GROUPE D | F10: GROUPE E | K10: GROUPE F
A12: TURQUIE | B12: 2 | C12: 2 | D12: CROATIE | F12: Irlande | G12: 1 | H12: 2 | I12: SUEDE | K12: Autriche | L12: 1 | M12: 0 | N12: HONGRIE
A13: Espagne | B13: 1 | C13: 0 | D13: REP. TCHEQUE | F13: Belgique | G13: 1 | H13: 1 | I13: Italie | K13: Portugal | L13: 3 | M13: 0 | N13: ISLANDE
A14: REP. TCHEQUE | B14: 1 | C14: 3 | D14: CROATIE | F14: Italie | G14: 3 | H14: 2 | I14: SUEDE | K14: ISLANDE | L14: 1 | M14: 2 | N14: HONGRIE
A15: ESPAGNE | B15: 1 | C15: 1 | D15: TURQUIE | F15: Belgique | G15: 1 | H15: 0 | I15: Irlande | K15: Portugal | L15: 0 | M15: 0 | N15: Autriche
A16: REP. TCHEQUE | B16: 0 | C16: 0 | D16: TURQUIE | F16: Italie | G16: 2 | H16: 0 | I16: Irlande | K16: ISLANDE | L16: 0 | M16: 2 | N16: Autriche
A17: CROATIE | B17: 2 | C17: 1 | D17: Espagne | F17: SUEDE | G17: 2 | H17: 1 | I17: Belgique | K17: HONGRIE | L17: 0 | M17: 1 | N17: Portugal

Sheet NICO
A1: GROUPE A | F1: GROUPE B | K1: GROUPE C
A3: FRANCE | B3: 2 | C3: 1 | D3: ROUMANIE | F3: GALLES | G3: 1 | H3: 0 | I3: SLOVAQUIE | K3: POLOGNE | L3: 1 | M3: 0 | N3: IRL DU NORD
A4: ALBANIE | B4: 1 | C4: 2 | D4: SUISSE | F4: ANGLETERRE | G4: 2 | H4: 0 | I4: RUSSIE | K4: Allemagne | L4: 2 | M4: 1 | N4: UKRAINE
A5: ROUMANIE | B5: 1 | C5: 1 | D5: SUISSE | F5: RUSSIE | G5: 1 | H5: 0 | I5: SLOVAQUIE | K5: UKRAINE | L5: 1 | M5: 0 | N5: IRL DU NORD
A6: FRANCE | B6: 2 | C6: 0 | D6: ALBANIE | F6: ANGLETERRE | G6: 2 | H6: 1 | I6: GALLES | K6: Allemagne | L6: 2 | M6: 1 | N6: POLOGNE
A7: ROUMANIE | B7: 1 | C7: 0 | D7: ALBANIE | F7: RUSSIE | G7: 1 | H7: 1 | I7: GALLES | K7: UKRAINE | L7: 1 | M7: 1 | N7: POLOGNE
A8: SUISSE | B8: 1 | C8: 2 | D8: FRANCE | F8: SLOVAQUIE | G8: 0 | H8: 2 | I8: ANGLETERRE | K8: IRL DU NORD | L8: 0 | M8: 2 | N8: Allemagne
A10: GROUPE D | F10: GROUPE E | K10: GROUPE F
A12: TURQUIE | B12: 1 | C12: 1 | D12: CROATIE | F12: Irlande | G12: 0 | H12: 1 | I12: SUEDE | K12: Autriche | L12: 1 | M12: 0 | N12: HONGRIE
A13: Espagne | B13: 2 | C13: 0 | D13: REP. TCHEQUE | F13: Belgique | G13: 2 | H13: 1 | I13: Italie | K13: Portugal | L13: 2 | M13: 0 | N13: ISLANDE
A14: REP. TCHEQUE | B14: 1 | C14: 1 | D14: CROATIE | F14: Italie | G14: 1 | H14: 1 | I14: SUEDE | K14: ISLANDE | L14: 1 | M14: 1 | N14: HONGRIE
A15: ESPAGNE | B15: 2 | C15: 1 | D15: TURQUIE | F15: Belgique | G15: 2 | H15: 0 | I15: Irlande | K15: Portugal | L15: 2 | M15: 1 | N15: Autriche
A16: REP. TCHEQUE | B16: 0 | C16: 1 | D16: TURQUIE | F16: Italie | G16: 2 | H16: 0 | I16: Irlande | K16: ISLANDE | L16: 0 | M16: 1 | N16: Autriche
A17: CROATIE | B17: 1 | C17: 3 | D17: Espagne | F17: SUEDE | G17: 0 | H17: 1 | I17: Belgique | K17: HONGRIE | L17: 0 | M17: 2 | N17: Portugal

Sheet STEPH
A1: GROUPE A | F1: GROUPE B | K1: GROUPE C
A3: FRANCE | B3: 1 | C3: 0 | D3: ROUMANIE | F3: GALLES | G3: 0 | H3: 0 | I3: SLOVAQUIE | K3: POLOGNE | L3: 2 | M3: 0 | N3: IRL DU NORD
A4: ALBANIE | B4: 0 | C4: 0 | D4: SUISSE | F4: ANGLETERRE | G4: 2 | H4: 0 | I4: RUSSIE | K4: Allemagne | L4: 2 | M4: 0 | N4: UKRAINE
A5: ROUMANIE | B5: 1 | C5: 1 | D5: SUISSE | F5: RUSSIE | G5: 2 | H5: 0 | I5: SLOVAQUIE | K5: UKRAINE | L5: 1 | M5: 0 | N5: IRL DU NORD
A6: FRANCE | B6: 4 | C6: 0 | D6: ALBANIE | F6: ANGLETERRE | G6: 1 | H6: 1 | I6: GALLES | K6: Allemagne | L6: 2 | M6: 0 | N6: POLOGNE
A7: ROUMANIE | B7: 2 | C7: 0 | D7: ALBANIE | F7: RUSSIE | G7: 2 | H7: 1 | I7: GALLES | K7: UKRAINE | L7: 2 | M7: 0 | N7: POLOGNE
A8: SUISSE | B8: 1 | C8: 3 | D8: FRANCE | F8: SLOVAQUIE | G8: 0 | H8: 3 | I8: ANGLETERRE | K8: IRL DU NORD | L8: 0 | M8: 3 | N8: Allemagne
A10: GROUPE D | F10: GROUPE E | K10: GROUPE F
A12: TURQUIE | B12: 0 | C12: 3 | D12: CROATIE | F12: Irlande | G12: 0 | H12: 2 | I12: SUEDE | K12: Autriche | L12: 1 | M12: 0 | N12: HONGRIE
A13: Espagne | B13: 2 | C13: 0 | D13: REP. TCHEQUE | F13: Belgique | G13: 2 | H13: 1 | I13: Italie | K13: Portugal | L13: 2 | M13: 0 | N13: ISLANDE
A14: REP. TCHEQUE | B14: 1 | C14: 2 | D14: CROATIE | F14: Italie | G14: 2 | H14: 2 | I14: SUEDE | K14: ISLANDE | L14: 1 | M14: 2 | N14: HONGRIE
A15: ESPAGNE | B15: 2 | C15: 0 | D15: TURQUIE | F15: Belgique | G15: 1 | H15: 0 | I15: Irlande | K15: Portugal | L15: 3 | M15: 1 | N15: Autriche
A16: REP. TCHEQUE | B16: 1 | C16: 1 | D16: TURQUIE | F16: Italie | G16: 3 | H16: 2 | I16: Irlande | K16: ISLANDE | L16: 1 | M16: 2 | N16: Autriche
A17: CROATIE | B17: 1 | C17: 1 | D17: Espagne | F17: SUEDE | G17: 1 | H17: 1 | I17: Belgique | K17: HONGRIE | L17: 1 | M17: 1 | N17: Portugal

Sheet Points Groupes
A1: Points Groupes
A3: Groupe A | E3: BEN | G3: Alex | I3: Steph | K3: Nico | P3: Points
A4: Equipe 1 | B4: Résultats | D4: Equipe 2 | P4: BEN | Q4: Alex | R4: Steph | S4: Nico
A5: France | B5: =Résultats!B3 -> 2 | C5: =Résultats!C3 -> 1 | D5: ROUMANIE | E5: =BEN!B3 -> 2 | F5: =BEN!C3 -> 0 | G5: =ALEX!B3 -> 2 | H5: =ALEX!C3 -> 1 | I5: =STEPH!B3 -> 1 | J5: =STEPH!C3 -> 0 | K5: =NICO!B3 -> 2 | L5: =NICO!C3 -> 1 | P5: =IF(AND($B5=E5,$C5=F5),3,IF($B5-$C5=E5-F5,2,IF(AND($B5=$C5,E5=F5),1,IF(AND($B5>$C5,E5>F5),1,IF(E5<F5,1,0))))) -> 1 | Q5: =IF(AND($B5=G5,$C5=H5),3,IF($B5-$C5=G5-H5,2,IF(AND($B5=$C5,G5=H5),1,IF(AND($B5>$C5,G5>H5),1,IF(G5<H5,1,0))))) -> 3 | R5: =IF(AND($B5=I5,$C5=J5),3,IF($B5-$C5=I5-J5,2,IF(AND($B5=$C5,I5=J5),1,IF(AND($B5>$C5,I5>J5),1,IF(H5<J5,1,0))))) -> 2 | S5: =IF(AND($B5=K5,$C5=L5),3,IF($B5-$C5=K5-L5,2,IF(AND($B5=$C5,K5=L5),1,IF(AND($B5>$C5,K5>L5),1,IF(K5<L5,1,0))))) -> 3
A6: ALBANIE | B6: =Résultats!B4 -> 0 | C6: =Résultats!C4 -> 1 | D6: SUISSE | E6: =BEN!B4 -> 1 | F6: =BEN!C4 -> 2 | G6: =ALEX!B4 -> 0 | H6: =ALEX!C4 -> 2 | I6: =STEPH!B4 -> 0 | J6: =STEPH!C4 -> 0 | K6: =NICO!B4 -> 1 | L6: =NICO!C4 -> 2 | P6: =IF(AND(B6=E6,C6=F6),3,IF(B6-C6=E6-F6,2,IF(AND(B6=C6,E6=F6),1,IF(AND(B6>C6,E6>F6),1,IF(E6<F6,1,0))))) -> 2 | Q6: =IF(AND($B6=G6,$C6=H6),3,IF($B6-$C6=G6-H6,2,IF(AND($B6=$C6,G6=H6),1,IF(AND($B6>$C6,G6>H6),1,IF(G6<H6,1,0))))) -> 1 | R6: =IF(AND($B6=I6,$C6=J6),3,IF($B6-$C6=I6-J6,2,IF(AND($B6=$C6,I6=J6),1,IF(AND($B6>$C6,I6>J6),1,IF(H6<J6,1,0))))) -> 0 | S6: =IF(AND($B6=K6,$C6=L6),3,IF($B6-$C6=K6-L6,2,IF(AND($B6=$C6,K6=L6),1,IF(AND($B6>$C6,K6>L6),1,IF(K6<L6,1,0))))) -> 2
A7: ROUMANIE | B7: =Résultats!B5 -> 1 | C7: =Résultats!C5 -> 1 | D7: SUISSE | E7: =BEN!B5 -> 1 | F7: =BEN!C5 -> 1 | G7: =ALEX!B5 -> 1 | H7: =ALEX!C5 -> 1 | I7: =STEPH!B5 -> 1 | J7: =STEPH!C5 -> 1 | K7: =NICO!B5 -> 1 | L7: =NICO!C5 -> 1 | P7: =IF(AND(B7=E7,C7=F7),3,IF(B7-C7=E7-F7,2,IF(AND(B7=C7,E7=F7),1,IF(AND(B7>C7,E7>F7),1,IF(E7<F7,1,0))))) -> 3 | Q7: =IF(AND($B7=G7,$C7=H7),3,IF($B7-$C7=G7-H7,2,IF(AND($B7=$C7,G7=H7),1,IF(AND($B7>$C7,G7>H7),1,IF(G7<H7,1,0))))) -> 3 | R7: =IF(AND($B7=I7,$C7=J7),3,IF($B7-$C7=I7-J7,2,IF(AND($B7=$C7,I7=J7),1,IF(AND($B7>$C7,I7>J7),1,IF(H7<J7,1,0))))) -> 3 | S7: =IF(AND($B7=K7,$C7=L7),3,IF($B7-$C7=K7-L7,2,IF(AND($B7=$C7,K7=L7),1,IF(AND($B7>$C7,K7>L7),1,IF(K7<L7,1,0))))) -> 3
A8: France | B8: =Résultats!B6 -> 0 | C8: =Résultats!C6 -> 0 | D8: ALBANIE | E8: =BEN!B6 -> 3 | F8: =BEN!C6 -> 0 | G8: =ALEX!B6 -> 3 | H8: =ALEX!C6 -> 0 | I8: =STEPH!B6 -> 4 | J8: =STEPH!C6 -> 0 | K8: =NICO!B6 -> 2 | L8: =NICO!C6 -> 0 | P8: =IF(AND(B8=E8,C8=F8),3,IF(B8-C8=E8-F8,2,IF(AND(B8=C8,E8=F8),1,IF(AND(B8>C8,E8>F8),1,IF(E8<F8,1,0))))) -> 0 | Q8: =IF(AND($B8=G8,$C8=H8),3,IF($B8-$C8=G8-H8,2,IF(AND($B8=$C8,G8=H8),1,IF(AND($B8>$C8,G8>H8),1,IF(G8<H8,1,0))))) -> 0 | R8: =IF(AND($B8=I8,$C8=J8),3,IF($B8-$C8=I8-J8,2,IF(AND($B8=$C8,I8=J8),1,IF(AND($B8>$C8,I8>J8),1,IF(H8<J8,1,0))))) -> 0 | S8: =IF(AND($B8=K8,$C8=L8),3,IF($B8-$C8=K8-L8,2,IF(AND($B8=$C8,K8=L8),1,IF(AND($B8>$C8,K8>L8),1,IF(K8<L8,1,0))))) -> 0
A9: ROUMANIE | B9: =Résultats!B7 -> 0 | C9: =Résultats!C7 -> 0 | D9: ALBANIE | E9: =BEN!B7 -> 1 | F9: =BEN!C7 -> 1 | G9: =ALEX!B7 -> 1 | H9: =ALEX!C7 -> 0 | I9: =STEPH!B7 -> 2 | J9: =STEPH!C7 -> 0 | K9: =NICO!B7 -> 1 | L9: =NICO!C7 -> 0 | P9: =IF(AND(B9=E9,C9=F9),3,IF(B9-C9=E9-F9,2,IF(AND(B9=C9,E9=F9),1,IF(AND(B9>C9,E9>F9),1,IF(E9<F9,1,0))))) -> 2 | Q9: =IF(AND($B9=G9,$C9=H9),3,IF($B9-$C9=G9-H9,2,IF(AND($B9=$C9,G9=H9),1,IF(AND($B9>$C9,G9>H9),1,IF(G9<H9,1,0))))) -> 0 | R9: =IF(AND($B9=I9,$C9=J9),3,IF($B9-$C9=I9-J9,2,IF(AND($B9=$C9,I9=J9),1,IF(AND($B9>$C9,I9>J9),1,IF(H9<J9,1,0))))) -> 0 | S9: =IF(AND($B9=K9,$C9=L9),3,IF($B9-$C9=K9-L9,2,IF(AND($B9=$C9,K9=L9),1,IF(AND($B9>$C9,K9>L9),1,IF(K9<L9,1,0))))) -> 0
A10: SUISSE | B10: =Résultats!B8 -> 0 | C10: =Résultats!C8 -> 0 | D10: France | E10: =BEN!B8 -> 1 | F10: =BEN!C8 -> 3 | G10: =ALEX!B8 -> 0 | H10: =ALEX!C8 -> 1 | I10: =STEPH!B8 -> 1 | J10: =STEPH!C8 -> 3 | K10: =NICO!B8 -> 1 | L10: =NICO!C8 -> 2 | P10: =IF(AND(B10=E10,C10=F10),3,IF(B10-C10=E10-F10,2,IF(AND(B10=C10,E10=F10),1,IF(AND(B10>C10,E10>F10),1,IF(E10<F10,1,0))))) -> 1 | Q10: =IF(AND($B10=G10,$C10=H10),3,IF($B10-$C10=G10-H10,2,IF(AND($B10=$C10,G10=H10),1,IF(AND($B10>$C10,G10>H10),1,IF(G10<H10,1,0))))) -> 1 | R10: =IF(AND($B10=I10,$C10=J10),3,IF($B10-$C10=I10-J10,2,IF(AND($B10=$C10,I10=J10),1,IF(AND($B10>$C10,I10>J10),1,IF(H10<J10,1,0))))) -> 1 | S10: =IF(AND($B10=K10,$C10=L10),3,IF($B10-$C10=K10-L10,2,IF(AND($B10=$C10,K10=L10),1,IF(AND($B10>$C10,K10>L10),1,IF(K10<L10,1,0))))) -> 1
N11: Total | P11: =SUM(P5:P10) -> 9 | Q11: =SUM(Q5:Q10) -> 8 | R11: =SUM(R5:R10) -> 6 | S11: =SUM(S5:S10) -> 9
A16: Groupe B | I16: Résultats | K16: BEN | M16: Alex | O16: Steph | Q16: Nico | V16: Points
A17: Equipe 1 | B17: 1 | C17: 2 | G17: 3 | H17: Equipe 2 | V17: BEN | W17: Alex | X17: Steph | Y17: Nico | AC17: Règlement
A18: Espagne | B18: =IF(AND(I18>J18),AD18,IF(AND(I18=J18),AD21,(IF(AND(I18<J18),AD21)))) -> 0 | C18: =(IF(AND(I18>J18),AD21,(IF(AND(I18=J18),AD20,(IF(AND(I18<J18),AD21)))))) -> 2 | G18: =(IF(AND(I18>J18),AD21,(IF(AND(I18=J18),AD21,IF(AND(I18<J18),AD19))))) -> 0 | H18: Pays Bas | I18: =[1]Résultats!E15 -> 0 | J18: =[1]Résultats!F15 -> 0 | V18: =IF(AND(#REF!=K18,#REF!=L18),3,IF(#REF!-#REF!=K18-L18,2,IF(AND(#REF!=#REF!,K18=L18),1,IF(AND(#REF!>#REF!,K18>L18),1,IF(K18<L18,1,0))))) -> #REF! | W18: =IF(AND(#REF!=M18,#REF!=N18),3,IF(#REF!-#REF!=M18-N18,2,IF(AND(#REF!=#REF!,M18=N18),1,IF(AND(#REF!>#REF!,M18>N18),1,IF(M18<N18,1,0))))) -> #REF! | X18: =IF(AND(#REF!=O18,#REF!=P18),3,IF(#REF!-#REF!=O18-P18,2,IF(AND(#REF!=#REF!,O18=P18),1,IF(AND(#REF!>#REF!,O18>P18),1,IF(O18<P18,1,0))))) -> #REF! | Y18: =IF(AND(#REF!=Q18,#REF!=R18),3,IF(#REF!-#REF!=Q18-R18,2,IF(AND(#REF!=#REF!,Q18=R18),1,IF(AND(#REF!>#REF!,Q18>R18),1,IF(Q18<R18,1,0))))) -> #REF! | AC18: Victoire 1 | AD18: 1
A19: Chili | B19: =IF(AND(I19>J19),AD18,IF(AND(I19=J19),AD21,(IF(AND(I19<J19),AD21)))) -> 0 | C19: =(IF(AND(I19>J19),AD21,(IF(AND(I19=J19),AD20,(IF(AND(I19<J19),AD21)))))) -> 2 | G19: =(IF(AND(I19>J19),AD21,(IF(AND(I19=J19),AD21,IF(AND(I19<J19),AD19))))) -> 0 | H19: Australie | I19: =[1]Résultats!E16 -> 0 | J19: =[1]Résultats!F16 -> 0 | V19: =IF(AND(#REF!=K19,#REF!=L19),3,IF(#REF!-#REF!=K19-L19,2,IF(AND(#REF!=#REF!,K19=L19),1,IF(AND(#REF!>#REF!,K19>L19),1,IF(K19<L19,1,0))))) -> #REF! | W19: =IF(AND(#REF!=M19,#REF!=N19),3,IF(#REF!-#REF!=M19-N19,2,IF(AND(#REF!=#REF!,M19=N19),1,IF(AND(#REF!>#REF!,M19>N19),1,IF(M19<N19,1,0))))) -> #REF! | X19: =IF(AND(#REF!=O19,#REF!=P19),3,IF(#REF!-#REF!=O19-P19,2,IF(AND(#REF!=#REF!,O19=P19),1,IF(AND(#REF!>#REF!,O19>P19),1,IF(O19<P19,1,0))))) -> #REF! | Y19: =IF(AND(#REF!=Q19,#REF!=R19),3,IF(#REF!-#REF!=Q19-R19,2,IF(AND(#REF!=#REF!,Q19=R19),1,IF(AND(#REF!>#REF!,Q19>R19),1,IF(Q19<R19,1,0))))) -> #REF! | AC19: Victoire 2 | AD19: 3
A20: Australie | B20: =IF(AND(I20>J20),AD18,IF(AND(I20=J20),AD21,(IF(AND(I20<J20),AD21)))) -> 0 | C20: =(IF(AND(I20>J20),AD21,(IF(AND(I20=J20),AD20,(IF(AND(I20<J20),AD21)))))) -> 2 | G20: =(IF(AND(I20>J20),AD21,(IF(AND(I20=J20),AD21,IF(AND(I20<J20),AD19))))) -> 0 | H20: Pays Bas | I20: =[1]Résultats!E17 -> 0 | J20: =[1]Résultats!F17 -> 0 | V20: =IF(AND(#REF!=K20,#REF!=L20),3,IF(#REF!-#REF!=K20-L20,2,IF(AND(#REF!=#REF!,K20=L20),1,IF(AND(#REF!>#REF!,K20>L20),1,IF(K20<L20,1,0))))) -> #REF! | W20: =IF(AND(#REF!=M20,#REF!=N20),3,IF(#REF!-#REF!=M20-N20,2,IF(AND(#REF!=#REF!,M20=N20),1,IF(AND(#REF!>#REF!,M20>N20),1,IF(M20<N20,1,0))))) -> #REF! | X20: =IF(AND(#REF!=O20,#REF!=P20),3,IF(#REF!-#REF!=O20-P20,2,IF(AND(#REF!=#REF!,O20=P20),1,IF(AND(#REF!>#REF!,O20>P20),1,IF(O20<P20,1,0))))) -> #REF! | Y20: =IF(AND(#REF!=Q20,#REF!=R20),3,IF(#REF!-#REF!=Q20-R20,2,IF(AND(#REF!=#REF!,Q20=R20),1,IF(AND(#REF!>#REF!,Q20>R20),1,IF(Q20<R20,1,0))))) -> #REF! | AC20: Nul | AD20: 2
A21: Espagne | B21: =IF(AND(I21>J21),AD18,IF(AND(I21=J21),AD21,(IF(AND(I21<J21),AD21)))) -> 0 | C21: =(IF(AND(I21>J21),AD21,(IF(AND(I21=J21),AD20,(IF(AND(I21<J21),AD21)))))) -> 2 | G21: =(IF(AND(I21>J21),AD21,(IF(AND(I21=J21),AD21,IF(AND(I21<J21),AD19))))) -> 0 | H21: Chili | I21: =[1]Résultats!E18 -> 0 | J21: =[1]Résultats!F18 -> 0 | V21: =IF(AND(#REF!=K21,#REF!=L21),3,IF(#REF!-#REF!=K21-L21,2,IF(AND(#REF!=#REF!,K21=L21),1,IF(AND(#REF!>#REF!,K21>L21),1,IF(K21<L21,1,0))))) -> #REF! | W21: =IF(AND(#REF!=M21,#REF!=N21),3,IF(#REF!-#REF!=M21-N21,2,IF(AND(#REF!=#REF!,M21=N21),1,IF(AND(#REF!>#REF!,M21>N21),1,IF(M21<N21,1,0))))) -> #REF! | X21: =IF(AND(#REF!=O21,#REF!=P21),3,IF(#REF!-#REF!=O21-P21,2,IF(AND(#REF!=#REF!,O21=P21),1,IF(AND(#REF!>#REF!,O21>P21),1,IF(O21<P21,1,0))))) -> #REF! | Y21: =IF(AND(#REF!=Q21,#REF!=R21),3,IF(#REF!-#REF!=Q21-R21,2,IF(AND(#REF!=#REF!,Q21=R21),1,IF(AND(#REF!>#REF!,Q21>R21),1,IF(Q21<R21,1,0))))) -> #REF! | AC21: Rien
A22: Australie | B22: =IF(AND(I22>J22),AD18,IF(AND(I22=J22),AD21,(IF(AND(I22<J22),AD21)))) -> 0 | C22: =(IF(AND(I22>J22),AD21,(IF(AND(I22=J22),AD20,(IF(AND(I22<J22),AD21)))))) -> 2 | G22: =(IF(AND(I22>J22),AD21,(IF(AND(I22=J22),AD21,IF(AND(I22<J22),AD19))))) -> 0 | H22: Espagne | I22: =[1]Résultats!E19 -> 0 | J22: =[1]Résultats!F19 -> 0 | V22: =IF(AND(#REF!=K22,#REF!=L22),3,IF(#REF!-#REF!=K22-L22,2,IF(AND(#REF!=#REF!,K22=L22),1,IF(AND(#REF!>#REF!,K22>L22),1,IF(K22<L22,1,0))))) -> #REF! | W22: =IF(AND(#REF!=M22,#REF!=N22),3,IF(#REF!-#REF!=M22-N22,2,IF(AND(#REF!=#REF!,M22=N22),1,IF(AND(#REF!>#REF!,M22>N22),1,IF(M22<N22,1,0))))) -> #REF! | X22: =IF(AND(#REF!=O22,#REF!=P22),3,IF(#REF!-#REF!=O22-P22,2,IF(AND(#REF!=#REF!,O22=P22),1,IF(AND(#REF!>#REF!,O22>P22),1,IF(O22<P22,1,0))))) -> #REF! | Y22: =IF(AND(#REF!=Q22,#REF!=R22),3,IF(#REF!-#REF!=Q22-R22,2,IF(AND(#REF!=#REF!,Q22=R22),1,IF(AND(#REF!>#REF!,Q22>R22),1,IF(Q22<R22,1,0))))) -> #REF! | AC22: TRUE | AD22: 1
A23: Pays Bas | B23: =IF(AND(I23>J23),AD18,IF(AND(I23=J23),AD21,(IF(AND(I23<J23),AD21)))) -> 0 | C23: =(IF(AND(I23>J23),AD21,(IF(AND(I23=J23),AD20,(IF(AND(I23<J23),AD21)))))) -> 2 | G23: =(IF(AND(I23>J23),AD21,(IF(AND(I23=J23),AD21,IF(AND(I23<J23),AD19))))) -> 0 | H23: Chili | I23: =[1]Résultats!E20 -> 0 | J23: =[1]Résultats!F20 -> 0 | U23: Total | V23: =SUM(V18:V22) -> #REF! | W23: =SUM(W18:W22) -> #REF! | X23: =SUM(X18:X22) -> #REF! | Y23: =SUM(Y18:Y22) -> #REF! | AC23: FALSE | AD23: 0
V24: =#REF!+V23 -> #REF! | W24: =#REF!+W23 -> #REF! | X24: =#REF!+X23 -> #REF! | Y24: =#REF!+Y23 -> #REF!
A27: Groupe C | I27: Résultats | K27: BEN | M27: Alex | O27: Steph | Q27: Nico | V27: Points
A28: Equipe 1 | B28: 1 | C28: 2 | G28: 3 | H28: Equipe 2 | V28: BEN | W28: Alex | X28: Steph | Y28: Nico | AC28: Règlement
A29: Colombie | B29: =IF(AND(I29>J29),AD29,IF(AND(I29=J29),AD32,(IF(AND(I29<J29),AD32)))) -> 0 | C29: =(IF(AND(I29>J29),AD32,(IF(AND(I29=J29),AD31,(IF(AND(I29<J29),AD32)))))) -> 2 | G29: =(IF(AND(I29>J29),AD32,(IF(AND(I29=J29),AD32,IF(AND(I29<J29),AD30))))) -> 0 | H29: Grèce | I29: =[1]Résultats!E26 -> 0 | J29: =[1]Résultats!F26 -> 0 | V29: =IF(AND(#REF!=K29,#REF!=L29),3,IF(#REF!-#REF!=K29-L29,2,IF(AND(#REF!=#REF!,K29=L29),1,IF(AND(#REF!>#REF!,K29>L29),1,IF(K29<L29,1,0))))) -> #REF! | W29: =IF(AND(#REF!=M29,#REF!=N29),3,IF(#REF!-#REF!=M29-N29,2,IF(AND(#REF!=#REF!,M29=N29),1,IF(AND(#REF!>#REF!,M29>N29),1,IF(M29<N29,1,0))))) -> #REF! | X29: =IF(AND(#REF!=O29,#REF!=P29),3,IF(#REF!-#REF!=O29-P29,2,IF(AND(#REF!=#REF!,O29=P29),1,IF(AND(#REF!>#REF!,O29>P29),1,IF(O29<P29,1,0))))) -> #REF! | Y29: =IF(AND(#REF!=Q29,#REF!=R29),3,IF(#REF!-#REF!=Q29-R29,2,IF(AND(#REF!=#REF!,Q29=R29),1,IF(AND(#REF!>#REF!,Q29>R29),1,IF(Q29<R29,1,0))))) -> #REF! | AC29: Victoire 1 | AD29: 1
A30: Côte d'Ivoire | B30: =IF(AND(I30>J30),AD29,IF(AND(I30=J30),AD32,(IF(AND(I30<J30),AD32)))) -> 0 | C30: =(IF(AND(I30>J30),AD32,(IF(AND(I30=J30),AD31,(IF(AND(I30<J30),AD32)))))) -> 2 | G30: =(IF(AND(I30>J30),AD32,(IF(AND(I30=J30),AD32,IF(AND(I30<J30),AD30))))) -> 0 | H30: Japon | I30: =[1]Résultats!E27 -> 0 | J30: =[1]Résultats!F27 -> 0 | V30: =IF(AND(#REF!=K30,#REF!=L30),3,IF(#REF!-#REF!=K30-L30,2,IF(AND(#REF!=#REF!,K30=L30),1,IF(AND(#REF!>#REF!,K30>L30),1,IF(K30<L30,1,0))))) -> #REF! | W30: =IF(AND(#REF!=M30,#REF!=N30),3,IF(#REF!-#REF!=M30-N30,2,IF(AND(#REF!=#REF!,M30=N30),1,IF(AND(#REF!>#REF!,M30>N30),1,IF(M30<N30,1,0))))) -> #REF! | X30: =IF(AND(#REF!=O30,#REF!=P30),3,IF(#REF!-#REF!=O30-P30,2,IF(AND(#REF!=#REF!,O30=P30),1,IF(AND(#REF!>#REF!,O30>P30),1,IF(O30<P30,1,0))))) -> #REF! | Y30: =IF(AND(#REF!=Q30,#REF!=R30),3,IF(#REF!-#REF!=Q30-R30,2,IF(AND(#REF!=#REF!,Q30=R30),1,IF(AND(#REF!>#REF!,Q30>R30),1,IF(Q30<R30,1,0))))) -> #REF! | AC30: Victoire 2 | AD30: 3
A31: Colombie | B31: =IF(AND(I31>J31),AD29,IF(AND(I31=J31),AD32,(IF(AND(I31<J31),AD32)))) -> 0 | C31: =(IF(AND(I31>J31),AD32,(IF(AND(I31=J31),AD31,(IF(AND(I31<J31),AD32)))))) -> 2 | G31: =(IF(AND(I31>J31),AD32,(IF(AND(I31=J31),AD32,IF(AND(I31<J31),AD30))))) -> 0 | H31: Côte d'Ivoire | I31: =[1]Résultats!E28 -> 0 | J31: =[1]Résultats!F28 -> 0 | V31: =IF(AND(#REF!=K31,#REF!=L31),3,IF(#REF!-#REF!=K31-L31,2,IF(AND(#REF!=#REF!,K31=L31),1,IF(AND(#REF!>#REF!,K31>L31),1,IF(K31<L31,1,0))))) -> #REF! | W31: =IF(AND(#REF!=M31,#REF!=N31),3,IF(#REF!-#REF!=M31-N31,2,IF(AND(#REF!=#REF!,M31=N31),1,IF(AND(#REF!>#REF!,M31>N31),1,IF(M31<N31,1,0))))) -> #REF! | X31: =IF(AND(#REF!=O31,#REF!=P31),3,IF(#REF!-#REF!=O31-P31,2,IF(AND(#REF!=#REF!,O31=P31),1,IF(AND(#REF!>#REF!,O31>P31),1,IF(O31<P31,1,0))))) -> #REF! | Y31: =IF(AND(#REF!=Q31,#REF!=R31),3,IF(#REF!-#REF!=Q31-R31,2,IF(AND(#REF!=#REF!,Q31=R31),1,IF(AND(#REF!>#REF!,Q31>R31),1,IF(Q31<R31,1,0))))) -> #REF! | AC31: Nul | AD31: 2
A32: Japon | B32: =IF(AND(I32>J32),AD29,IF(AND(I32=J32),AD32,(IF(AND(I32<J32),AD32)))) -> 0 | C32: =(IF(AND(I32>J32),AD32,(IF(AND(I32=J32),AD31,(IF(AND(I32<J32),AD32)))))) -> 2 | G32: =(IF(AND(I32>J32),AD32,(IF(AND(I32=J32),AD32,IF(AND(I32<J32),AD30))))) -> 0 | H32: Grèce | I32: =[1]Résultats!E29 -> 0 | J32: =[1]Résultats!F29 -> 0 | V32: =IF(AND(#REF!=K32,#REF!=L32),3,IF(#REF!-#REF!=K32-L32,2,IF(AND(#REF!=#REF!,K32=L32),1,IF(AND(#REF!>#REF!,K32>L32),1,IF(K32<L32,1,0))))) -> #REF! | W32: =IF(AND(#REF!=M32,#REF!=N32),3,IF(#REF!-#REF!=M32-N32,2,IF(AND(#REF!=#REF!,M32=N32),1,IF(AND(#REF!>#REF!,M32>N32),1,IF(M32<N32,1,0))))) -> #REF! | X32: =IF(AND(#REF!=O32,#REF!=P32),3,IF(#REF!-#REF!=O32-P32,2,IF(AND(#REF!=#REF!,O32=P32),1,IF(AND(#REF!>#REF!,O32>P32),1,IF(O32<P32,1,0))))) -> #REF! | Y32: =IF(AND(#REF!=Q32,#REF!=R32),3,IF(#REF!-#REF!=Q32-R32,2,IF(AND(#REF!=#REF!,Q32=R32),1,IF(AND(#REF!>#REF!,Q32>R32),1,IF(Q32<R32,1,0))))) -> #REF! | AC32: Rien
A33: Japon | B33: =IF(AND(I33>J33),AD29,IF(AND(I33=J33),AD32,(IF(AND(I33<J33),AD32)))) -> 0 | C33: =(IF(AND(I33>J33),AD32,(IF(AND(I33=J33),AD31,(IF(AND(I33<J33),AD32)))))) -> 2 | G33: =(IF(AND(I33>J33),AD32,(IF(AND(I33=J33),AD32,IF(AND(I33<J33),AD30))))) -> 0 | H33: Colombie | I33: =[1]Résultats!E30 -> 0 | J33: =[1]Résultats!F30 -> 0 | V33: =IF(AND(#REF!=K33,#REF!=L33),3,IF(#REF!-#REF!=K33-L33,2,IF(AND(#REF!=#REF!,K33=L33),1,IF(AND(#REF!>#REF!,K33>L33),1,IF(K33<L33,1,0))))) -> #REF! | W33: =IF(AND(#REF!=M33,#REF!=N33),3,IF(#REF!-#REF!=M33-N33,2,IF(AND(#REF!=#REF!,M33=N33),1,IF(AND(#REF!>#REF!,M33>N33),1,IF(M33<N33,1,0))))) -> #REF! | X33: =IF(AND(#REF!=O33,#REF!=P33),3,IF(#REF!-#REF!=O33-P33,2,IF(AND(#REF!=#REF!,O33=P33),1,IF(AND(#REF!>#REF!,O33>P33),1,IF(O33<P33,1,0))))) -> #REF! | Y33: =IF(AND(#REF!=Q33,#REF!=R33),3,IF(#REF!-#REF!=Q33-R33,2,IF(AND(#REF!=#REF!,Q33=R33),1,IF(AND(#REF!>#REF!,Q33>R33),1,IF(Q33<R33,1,0))))) -> #REF! | AC33: TRUE | AD33: 1
A34: Grèce | B34: =IF(AND(I34>J34),AD29,IF(AND(I34=J34),AD32,(IF(AND(I34<J34),AD32)))) -> 0 | C34: =(IF(AND(I34>J34),AD32,(IF(AND(I34=J34),AD31,(IF(AND(I34<J34),AD32)))))) -> 2 | G34: =(IF(AND(I34>J34),AD32,(IF(AND(I34=J34),AD32,IF(AND(I34<J34),AD30))))) -> 0 | H34: Côte d'Ivoire | I34: =[1]Résultats!E31 -> 0 | J34: =[1]Résultats!F31 -> 0 | U34: Total | V34: =SUM(V29:V33) -> #REF! | W34: =SUM(W29:W33) -> #REF! | X34: =SUM(X29:X33) -> #REF! | Y34: =SUM(Y29:Y33) -> #REF! | AC34: FALSE | AD34: 0
V35: =V24+V34 -> #REF! | W35: =W24+W34 -> #REF! | X35: =X24+X34 -> #REF! | Y35: =Y24+Y34 -> #REF!
A38: Groupe D | I38: Résultats | K38: BEN | M38: Alex | O38: Steph | Q38: Nico | V38: Points
A39: Equipe 1 | B39: 1 | C39: 2 | G39: 3 | H39: Equipe 2 | V39: BEN | W39: Alex | X39: Steph | Y39: Nico | AC39: Règlement
A40: Uruguay | B40: =IF(AND(I40>J40),AD40,IF(AND(I40=J40),AD43,(IF(AND(I40<J40),AD43)))) -> 0 | C40: =(IF(AND(I40>J40),AD43,(IF(AND(I40=J40),AD42,(IF(AND(I40<J40),AD43)))))) -> 2 | G40: =(IF(AND(I40>J40),AD43,(IF(AND(I40=J40),AD43,IF(AND(I40<J40),AD41))))) -> 0 | H40: Costa Rica | I40: =[1]Résultats!E37 -> 0 | J40: =[1]Résultats!F37 -> 0 | V40: =IF(AND(#REF!=K40,#REF!=L40),3,IF(#REF!-#REF!=K40-L40,2,IF(AND(#REF!=#REF!,K40=L40),1,IF(AND(#REF!>#REF!,K40>L40),1,IF(K40<L40,1,0))))) -> #REF! | W40: =IF(AND(#REF!=M40,#REF!=N40),3,IF(#REF!-#REF!=M40-N40,2,IF(AND(#REF!=#REF!,M40=N40),1,IF(AND(#REF!>#REF!,M40>N40),1,IF(M40<N40,1,0))))) -> #REF! | X40: =IF(AND(#REF!=O40,#REF!=P40),3,IF(#REF!-#REF!=O40-P40,2,IF(AND(#REF!=#REF!,O40=P40),1,IF(AND(#REF!>#REF!,O40>P40),1,IF(O40<P40,1,0))))) -> #REF! | Y40: =IF(AND(#REF!=Q40,#REF!=R40),3,IF(#REF!-#REF!=Q40-R40,2,IF(AND(#REF!=#REF!,Q40=R40),1,IF(AND(#REF!>#REF!,Q40>R40),1,IF(Q40<R40,1,0))))) -> #REF! | AC40: Victoire 1 | AD40: 1
A41: Angleterre | B41: =IF(AND(I41>J41),AD40,IF(AND(I41=J41),AD43,(IF(AND(I41<J41),AD43)))) -> 0 | C41: =(IF(AND(I41>J41),AD43,(IF(AND(I41=J41),AD42,(IF(AND(I41<J41),AD43)))))) -> 2 | G41: =(IF(AND(I41>J41),AD43,(IF(AND(I41=J41),AD43,IF(AND(I41<J41),AD41))))) -> 0 | H41: Italie | I41: =[1]Résultats!E38 -> 0 | J41: =[1]Résultats!F38 -> 0 | V41: =IF(AND(#REF!=K41,#REF!=L41),3,IF(#REF!-#REF!=K41-L41,2,IF(AND(#REF!=#REF!,K41=L41),1,IF(AND(#REF!>#REF!,K41>L41),1,IF(K41<L41,1,0))))) -> #REF! | W41: =IF(AND(#REF!=M41,#REF!=N41),3,IF(#REF!-#REF!=M41-N41,2,IF(AND(#REF!=#REF!,M41=N41),1,IF(AND(#REF!>#REF!,M41>N41),1,IF(M41<N41,1,0))))) -> #REF! | X41: =IF(AND(#REF!=O41,#REF!=P41),3,IF(#REF!-#REF!=O41-P41,2,IF(AND(#REF!=#REF!,O41=P41),1,IF(AND(#REF!>#REF!,O41>P41),1,IF(O41<P41,1,0))))) -> #REF! | Y41: =IF(AND(#REF!=Q41,#REF!=R41),3,IF(#REF!-#REF!=Q41-R41,2,IF(AND(#REF!=#REF!,Q41=R41),1,IF(AND(#REF!>#REF!,Q41>R41),1,IF(Q41<R41,1,0))))) -> #REF! | AC41: Victoire 2 | AD41: 3
A42: Uruguay | B42: =IF(AND(I42>J42),AD40,IF(AND(I42=J42),AD43,(IF(AND(I42<J42),AD43)))) -> 0 | C42: =(IF(AND(I42>J42),AD43,(IF(AND(I42=J42),AD42,(IF(AND(I42<J42),AD43)))))) -> 2 | G42: =(IF(AND(I42>J42),AD43,(IF(AND(I42=J42),AD43,IF(AND(I42<J42),AD41))))) -> 0 | H42: Angleterre | I42: =[1]Résultats!E39 -> 0 | J42: =[1]Résultats!F39 -> 0 | V42: =IF(AND(#REF!=K42,#REF!=L42),3,IF(#REF!-#REF!=K42-L42,2,IF(AND(#REF!=#REF!,K42=L42),1,IF(AND(#REF!>#REF!,K42>L42),1,IF(K42<L42,1,0))))) -> #REF! | W42: =IF(AND(#REF!=M42,#REF!=N42),3,IF(#REF!-#REF!=M42-N42,2,IF(AND(#REF!=#REF!,M42=N42),1,IF(AND(#REF!>#REF!,M42>N42),1,IF(M42<N42,1,0))))) -> #REF! | X42: =IF(AND(#REF!=O42,#REF!=P42),3,IF(#REF!-#REF!=O42-P42,2,IF(AND(#REF!=#REF!,O42=P42),1,IF(AND(#REF!>#REF!,O42>P42),1,IF(O42<P42,1,0))))) -> #REF! | Y42: =IF(AND(#REF!=Q42,#REF!=R42),3,IF(#REF!-#REF!=Q42-R42,2,IF(AND(#REF!=#REF!,Q42=R42),1,IF(AND(#REF!>#REF!,Q42>R42),1,IF(Q42<R42,1,0))))) -> #REF! | AC42: Nul | AD42: 2
A43: Italie | B43: =IF(AND(I43>J43),AD40,IF(AND(I43=J43),AD43,(IF(AND(I43<J43),AD43)))) -> 0 | C43: =(IF(AND(I43>J43),AD43,(IF(AND(I43=J43),AD42,(IF(AND(I43<J43),AD43)))))) -> 2 | G43: =(IF(AND(I43>J43),AD43,(IF(AND(I43=J43),AD43,IF(AND(I43<J43),AD41))))) -> 0 | H43: Costa Rica | I43: =[1]Résultats!E40 -> 0 | J43: =[1]Résultats!F40 -> 0 | V43: =IF(AND(#REF!=K43,#REF!=L43),3,IF(#REF!-#REF!=K43-L43,2,IF(AND(#REF!=#REF!,K43=L43),1,IF(AND(#REF!>#REF!,K43>L43),1,IF(K43<L43,1,0))))) -> #REF! | W43: =IF(AND(#REF!=M43,#REF!=N43),3,IF(#REF!-#REF!=M43-N43,2,IF(AND(#REF!=#REF!,M43=N43),1,IF(AND(#REF!>#REF!,M43>N43),1,IF(M43<N43,1,0))))) -> #REF! | X43: =IF(AND(#REF!=O43,#REF!=P43),3,IF(#REF!-#REF!=O43-P43,2,IF(AND(#REF!=#REF!,O43=P43),1,IF(AND(#REF!>#REF!,O43>P43),1,IF(O43<P43,1,0))))) -> #REF! | Y43: =IF(AND(#REF!=Q43,#REF!=R43),3,IF(#REF!-#REF!=Q43-R43,2,IF(AND(#REF!=#REF!,Q43=R43),1,IF(AND(#REF!>#REF!,Q43>R43),1,IF(Q43<R43,1,0))))) -> #REF! | AC43: Rien
A44: Italie | B44: =IF(AND(I44>J44),AD40,IF(AND(I44=J44),AD43,(IF(AND(I44<J44),AD43)))) -> 0 | C44: =(IF(AND(I44>J44),AD43,(IF(AND(I44=J44),AD42,(IF(AND(I44<J44),AD43)))))) -> 2 | G44: =(IF(AND(I44>J44),AD43,(IF(AND(I44=J44),AD43,IF(AND(I44<J44),AD41))))) -> 0 | H44: Uruguay | I44: =[1]Résultats!E41 -> 0 | J44: =[1]Résultats!F41 -> 0 | V44: =IF(AND(#REF!=K44,#REF!=L44),3,IF(#REF!-#REF!=K44-L44,2,IF(AND(#REF!=#REF!,K44=L44),1,IF(AND(#REF!>#REF!,K44>L44),1,IF(K44<L44,1,0))))) -> #REF! | W44: =IF(AND(#REF!=M44,#REF!=N44),3,IF(#REF!-#REF!=M44-N44,2,IF(AND(#REF!=#REF!,M44=N44),1,IF(AND(#REF!>#REF!,M44>N44),1,IF(M44<N44,1,0))))) -> #REF! | X44: =IF(AND(#REF!=O44,#REF!=P44),3,IF(#REF!-#REF!=O44-P44,2,IF(AND(#REF!=#REF!,O44=P44),1,IF(AND(#REF!>#REF!,O44>P44),1,IF(O44<P44,1,0))))) -> #REF! | Y44: =IF(AND(#REF!=Q44,#REF!=R44),3,IF(#REF!-#REF!=Q44-R44,2,IF(AND(#REF!=#REF!,Q44=R44),1,IF(AND(#REF!>#REF!,Q44>R44),1,IF(Q44<R44,1,0))))) -> #REF! | AC44: TRUE | AD44: 1
A45: Costa Rica | B45: =IF(AND(I45>J45),AD40,IF(AND(I45=J45),AD43,(IF(AND(I45<J45),AD43)))) -> 0 | C45: =(IF(AND(I45>J45),AD43,(IF(AND(I45=J45),AD42,(IF(AND(I45<J45),AD43)))))) -> 2 | G45: =(IF(AND(I45>J45),AD43,(IF(AND(I45=J45),AD43,IF(AND(I45<J45),AD41))))) -> 0 | H45: Angleterre | I45: =[1]Résultats!E42 -> 0 | J45: =[1]Résultats!F42 -> 0 | U45: Total | V45: =SUM(V40:V44) -> #REF! | W45: =SUM(W40:W44) -> #REF! | X45: =SUM(X40:X44) -> #REF! | Y45: =SUM(Y40:Y44) -> #REF! | AC45: FALSE | AD45: 0
V46: =V35+V45 -> #REF! | W46: =W35+W45 -> #REF! | X46: =X35+X45 -> #REF! | Y46: =Y35+Y45 -> #REF!
A49: Groupe E | I49: Résultats | K49: BEN | M49: Alex | O49: Steph | Q49: Nico | V49: Points
A50: Equipe 1 | B50: 1 | C50: 2 | G50: 3 | H50: Equipe 2 | V50: BEN | W50: Alex | X50: Steph | Y50: Nico | AC50: Règlement
A51: Suisse | B51: =IF(AND(I51>J51),AD51,IF(AND(I51=J51),AD54,(IF(AND(I51<J51),AD54)))) -> 0 | C51: =(IF(AND(I51>J51),AD54,(IF(AND(I51=J51),AD53,(IF(AND(I51<J51),AD54)))))) -> 2 | G51: =(IF(AND(I51>J51),AD54,(IF(AND(I51=J51),AD54,IF(AND(I51<J51),AD52))))) -> 0 | H51: Equateur | I51: =[1]Résultats!E48 -> 0 | J51: =[1]Résultats!F48 -> 0 | V51: =IF(AND(#REF!=K51,#REF!=L51),3,IF(#REF!-#REF!=K51-L51,2,IF(AND(#REF!=#REF!,K51=L51),1,IF(AND(#REF!>#REF!,K51>L51),1,IF(K51<L51,1,0))))) -> #REF! | W51: =IF(AND(#REF!=M51,#REF!=N51),3,IF(#REF!-#REF!=M51-N51,2,IF(AND(#REF!=#REF!,M51=N51),1,IF(AND(#REF!>#REF!,M51>N51),1,IF(M51<N51,1,0))))) -> #REF! | X51: =IF(AND(#REF!=O51,#REF!=P51),3,IF(#REF!-#REF!=O51-P51,2,IF(AND(#REF!=#REF!,O51=P51),1,IF(AND(#REF!>#REF!,O51>P51),1,IF(O51<P51,1,0))))) -> #REF! | Y51: =IF(AND(#REF!=Q51,#REF!=R51),3,IF(#REF!-#REF!=Q51-R51,2,IF(AND(#REF!=#REF!,Q51=R51),1,IF(AND(#REF!>#REF!,Q51>R51),1,IF(Q51<R51,1,0))))) -> #REF! | AC51: Victoire 1 | AD51: 1
A52: France | B52: =IF(AND(I52>J52),AD51,IF(AND(I52=J52),AD54,(IF(AND(I52<J52),AD54)))) -> 0 | C52: =(IF(AND(I52>J52),AD54,(IF(AND(I52=J52),AD53,(IF(AND(I52<J52),AD54)))))) -> 2 | G52: =(IF(AND(I52>J52),AD54,(IF(AND(I52=J52),AD54,IF(AND(I52<J52),AD52))))) -> 0 | H52: Honduras | I52: =[1]Résultats!E49 -> 0 | J52: =[1]Résultats!F49 -> 0 | V52: =IF(AND(#REF!=K52,#REF!=L52),3,IF(#REF!-#REF!=K52-L52,2,IF(AND(#REF!=#REF!,K52=L52),1,IF(AND(#REF!>#REF!,K52>L52),1,IF(K52<L52,1,0))))) -> #REF! | W52: =IF(AND(#REF!=M52,#REF!=N52),3,IF(#REF!-#REF!=M52-N52,2,IF(AND(#REF!=#REF!,M52=N52),1,IF(AND(#REF!>#REF!,M52>N52),1,IF(M52<N52,1,0))))) -> #REF! | X52: =IF(AND(#REF!=O52,#REF!=P52),3,IF(#REF!-#REF!=O52-P52,2,IF(AND(#REF!=#REF!,O52=P52),1,IF(AND(#REF!>#REF!,O52>P52),1,IF(O52<P52,1,0))))) -> #REF! | Y52: =IF(AND(#REF!=Q52,#REF!=R52),3,IF(#REF!-#REF!=Q52-R52,2,IF(AND(#REF!=#REF!,Q52=R52),1,IF(AND(#REF!>#REF!,Q52>R52),1,IF(Q52<R52,1,0))))) -> #REF! | AC52: Victoire 2 | AD52: 3
A53: Suisse | B53: =IF(AND(I53>J53),AD51,IF(AND(I53=J53),AD54,(IF(AND(I53<J53),AD54)))) -> 0 | C53: =(IF(AND(I53>J53),AD54,(IF(AND(I53=J53),AD53,(IF(AND(I53<J53),AD54)))))) -> 2 | G53: =(IF(AND(I53>J53),AD54,(IF(AND(I53=J53),AD54,IF(AND(I53<J53),AD52))))) -> 0 | H53: France | I53: =[1]Résultats!E50 -> 0 | J53: =[1]Résultats!F50 -> 0 | V53: =IF(AND(#REF!=K53,#REF!=L53),3,IF(#REF!-#REF!=K53-L53,2,IF(AND(#REF!=#REF!,K53=L53),1,IF(AND(#REF!>#REF!,K53>L53),1,IF(K53<L53,1,0))))) -> #REF! | W53: =IF(AND(#REF!=M53,#REF!=N53),3,IF(#REF!-#REF!=M53-N53,2,IF(AND(#REF!=#REF!,M53=N53),1,IF(AND(#REF!>#REF!,M53>N53),1,IF(M53<N53,1,0))))) -> #REF! | X53: =IF(AND(#REF!=O53,#REF!=P53),3,IF(#REF!-#REF!=O53-P53,2,IF(AND(#REF!=#REF!,O53=P53),1,IF(AND(#REF!>#REF!,O53>P53),1,IF(O53<P53,1,0))))) -> #REF! | Y53: =IF(AND(#REF!=Q53,#REF!=R53),3,IF(#REF!-#REF!=Q53-R53,2,IF(AND(#REF!=#REF!,Q53=R53),1,IF(AND(#REF!>#REF!,Q53>R53),1,IF(Q53<R53,1,0))))) -> #REF! | AC53: Nul | AD53: 2
A54: Honduras | B54: =IF(AND(I54>J54),AD51,IF(AND(I54=J54),AD54,(IF(AND(I54<J54),AD54)))) -> 0 | C54: =(IF(AND(I54>J54),AD54,(IF(AND(I54=J54),AD53,(IF(AND(I54<J54),AD54)))))) -> 2 | G54: =(IF(AND(I54>J54),AD54,(IF(AND(I54=J54),AD54,IF(AND(I54<J54),AD52))))) -> 0 | H54: Equateur | I54: =[1]Résultats!E51 -> 0 | J54: =[1]Résultats!F51 -> 0 | V54: =IF(AND(#REF!=K54,#REF!=L54),3,IF(#REF!-#REF!=K54-L54,2,IF(AND(#REF!=#REF!,K54=L54),1,IF(AND(#REF!>#REF!,K54>L54),1,IF(K54<L54,1,0))))) -> #REF! | W54: =IF(AND(#REF!=M54,#REF!=N54),3,IF(#REF!-#REF!=M54-N54,2,IF(AND(#REF!=#REF!,M54=N54),1,IF(AND(#REF!>#REF!,M54>N54),1,IF(M54<N54,1,0))))) -> #REF! | X54: =IF(AND(#REF!=O54,#REF!=P54),3,IF(#REF!-#REF!=O54-P54,2,IF(AND(#REF!=#REF!,O54=P54),1,IF(AND(#REF!>#REF!,O54>P54),1,IF(O54<P54,1,0))))) -> #REF! | Y54: =IF(AND(#REF!=Q54,#REF!=R54),3,IF(#REF!-#REF!=Q54-R54,2,IF(AND(#REF!=#REF!,Q54=R54),1,IF(AND(#REF!>#REF!,Q54>R54),1,IF(Q54<R54,1,0))))) -> #REF! | AC54: Rien
A55: Honduras | B55: =IF(AND(I55>J55),AD51,IF(AND(I55=J55),AD54,(IF(AND(I55<J55),AD54)))) -> 0 | C55: =(IF(AND(I55>J55),AD54,(IF(AND(I55=J55),AD53,(IF(AND(I55<J55),AD54)))))) -> 2 | G55: =(IF(AND(I55>J55),AD54,(IF(AND(I55=J55),AD54,IF(AND(I55<J55),AD52))))) -> 0 | H55: Suisse | I55: =[1]Résultats!E52 -> 0 | J55: =[1]Résultats!F52 -> 0 | V55: =IF(AND(#REF!=K55,#REF!=L55),3,IF(#REF!-#REF!=K55-L55,2,IF(AND(#REF!=#REF!,K55=L55),1,IF(AND(#REF!>#REF!,K55>L55),1,IF(K55<L55,1,0))))) -> #REF! | W55: =IF(AND(#REF!=M55,#REF!=N55),3,IF(#REF!-#REF!=M55-N55,2,IF(AND(#REF!=#REF!,M55=N55),1,IF(AND(#REF!>#REF!,M55>N55),1,IF(M55<N55,1,0))))) -> #REF! | X55: =IF(AND(#REF!=O55,#REF!=P55),3,IF(#REF!-#REF!=O55-P55,2,IF(AND(#REF!=#REF!,O55=P55),1,IF(AND(#REF!>#REF!,O55>P55),1,IF(O55<P55,1,0))))) -> #REF! | Y55: =IF(AND(#REF!=Q55,#REF!=R55),3,IF(#REF!-#REF!=Q55-R55,2,IF(AND(#REF!=#REF!,Q55=R55),1,IF(AND(#REF!>#REF!,Q55>R55),1,IF(Q55<R55,1,0))))) -> #REF! | AC55: TRUE | AD55: 1
A56: Equateur | B56: =IF(AND(I56>J56),AD51,IF(AND(I56=J56),AD54,(IF(AND(I56<J56),AD54)))) -> 0 | C56: =(IF(AND(I56>J56),AD54,(IF(AND(I56=J56),AD53,(IF(AND(I56<J56),AD54)))))) -> 2 | G56: =(IF(AND(I56>J56),AD54,(IF(AND(I56=J56),AD54,IF(AND(I56<J56),AD52))))) -> 0 | H56: France | I56: =[1]Résultats!E53 -> 0 | J56: =[1]Résultats!F53 -> 0 | U56: Total | V56: =SUM(V51:V55) -> #REF! | W56: =SUM(W51:W55) -> #REF! | X56: =SUM(X51:X55) -> #REF! | Y56: =SUM(Y51:Y55) -> #REF! | AC56: FALSE | AD56: 0
V57: =V46+V56 -> #REF! | W57: =W46+W56 -> #REF! | X57: =X46+X56 -> #REF! | Y57: =Y46+Y56 -> #REF!
A60: Groupe F | I60: Résultats | K60: BEN | M60: Steph | O60: Alex | Q60: Nico | V60: Points
A61: Equipe 1 | B61: 1 | C61: 2 | G61: 3 | H61: Equipe 2 | V61: BEN | W61: Alex | X61: Steph | Y61: Nico | AC61: Règlement
A62: Argentine | B62: =IF(AND(I62>J62),AD62,IF(AND(I62=J62),AD65,(IF(AND(I62<J62),AD65)))) -> 0 | C62: =(IF(AND(I62>J62),AD65,(IF(AND(I62=J62),AD64,(IF(AND(I62<J62),AD65)))))) -> 2 | G62: =(IF(AND(I62>J62),AD65,(IF(AND(I62=J62),AD65,IF(AND(I62<J62),AD63))))) -> 0 | H62: Bosnie | I62: =[1]Résultats!E47 -> 0 | J62: =[1]Résultats!F47 -> 0 | K62: =IF(AND([1]Ben!E53=[1]Ben!E$7),1,IF(AND([1]Ben!F53=[1]Ben!F$7),2,IF(AND([1]Ben!G53=[1]Ben!G$7),3))) -> FALSE | M62: =IF(AND([1]Steph!E53=[1]Steph!E$7),1,IF(AND([1]Steph!F53=[1]Steph!F$7),2,IF(AND([1]Steph!G53=[1]Steph!G$7),3))) -> FALSE | O62: =IF(AND([1]Alex!E53=[1]Alex!E$7),1,IF(AND([1]Alex!F53=[1]Alex!F$7),2,IF(AND([1]Alex!G53=[1]Alex!G$7),3))) -> FALSE | Q62: =IF(AND([1]Nico!E53=[1]Nico!E$7),1,IF(AND([1]Nico!F53=[1]Nico!F$7),2,IF(AND([1]Nico!G53=[1]Nico!G$7),3))) -> FALSE | V62: =IF(AND(#REF!=K62,#REF!=L62),3,IF(#REF!-#REF!=K62-L62,2,IF(AND(#REF!=#REF!,K62=L62),1,IF(AND(#REF!>#REF!,K62>L62),1,IF(K62<L62,1,0))))) -> #REF! | W62: =IF(AND(#REF!=M62,#REF!=N62),3,IF(#REF!-#REF!=M62-N62,2,IF(AND(#REF!=#REF!,M62=N62),1,IF(AND(#REF!>#REF!,M62>N62),1,IF(M62<N62,1,0))))) -> #REF! | X62: =IF(AND(#REF!=O62,#REF!=P62),3,IF(#REF!-#REF!=O62-P62,2,IF(AND(#REF!=#REF!,O62=P62),1,IF(AND(#REF!>#REF!,O62>P62),1,IF(O62<P62,1,0))))) -> #REF! | Y62: =IF(AND(#REF!=Q62,#REF!=R62),3,IF(#REF!-#REF!=Q62-R62,2,IF(AND(#REF!=#REF!,Q62=R62),1,IF(AND(#REF!>#REF!,Q62>R62),1,IF(Q62<R62,1,0))))) -> #REF! | AC62: Victoire 1 | AD62: 1
A63: Iran | B63: =IF(AND(I63>J63),AD62,IF(AND(I63=J63),AD65,(IF(AND(I63<J63),AD65)))) -> 0 | C63: =(IF(AND(I63>J63),AD65,(IF(AND(I63=J63),AD64,(IF(AND(I63<J63),AD65)))))) -> 2 | G63: =(IF(AND(I63>J63),AD65,(IF(AND(I63=J63),AD65,IF(AND(I63<J63),AD63))))) -> 0 | H63: Nigeria | I63: =[1]Résultats!E48 -> 0 | J63: =[1]Résultats!F48 -> 0 | K63: =IF(AND([1]Ben!E54=[1]Ben!E$7),1,IF(AND([1]Ben!F54=[1]Ben!F$7),2,IF(AND([1]Ben!G54=[1]Ben!G$7),3))) -> FALSE | M63: =IF(AND([1]Steph!E54=[1]Steph!E$7),1,IF(AND([1]Steph!F54=[1]Steph!F$7),2,IF(AND([1]Steph!G54=[1]Steph!G$7),3))) -> FALSE | O63: =IF(AND([1]Alex!E54=[1]Alex!E$7),1,IF(AND([1]Alex!F54=[1]Alex!F$7),2,IF(AND([1]Alex!G54=[1]Alex!G$7),3))) -> FALSE | Q63: =IF(AND([1]Nico!E54=[1]Nico!E$7),1,IF(AND([1]Nico!F54=[1]Nico!F$7),2,IF(AND([1]Nico!G54=[1]Nico!G$7),3))) -> FALSE | V63: =IF(AND(#REF!=K63,#REF!=L63),3,IF(#REF!-#REF!=K63-L63,2,IF(AND(#REF!=#REF!,K63=L63),1,IF(AND(#REF!>#REF!,K63>L63),1,IF(K63<L63,1,0))))) -> #REF! | W63: =IF(AND(#REF!=M63,#REF!=N63),3,IF(#REF!-#REF!=M63-N63,2,IF(AND(#REF!=#REF!,M63=N63),1,IF(AND(#REF!>#REF!,M63>N63),1,IF(M63<N63,1,0))))) -> #REF! | X63: =IF(AND(#REF!=O63,#REF!=P63),3,IF(#REF!-#REF!=O63-P63,2,IF(AND(#REF!=#REF!,O63=P63),1,IF(AND(#REF!>#REF!,O63>P63),1,IF(O63<P63,1,0))))) -> #REF! | Y63: =IF(AND(#REF!=Q63,#REF!=R63),3,IF(#REF!-#REF!=Q63-R63,2,IF(AND(#REF!=#REF!,Q63=R63),1,IF(AND(#REF!>#REF!,Q63>R63),1,IF(Q63<R63,1,0))))) -> #REF! | AC63: Victoire 2 | AD63: 3
A64: Argentine | B64: =IF(AND(I64>J64),AD62,IF(AND(I64=J64),AD65,(IF(AND(I64<J64),AD65)))) -> 0 | C64: =(IF(AND(I64>J64),AD65,(IF(AND(I64=J64),AD64,(IF(AND(I64<J64),AD65)))))) -> 2 | G64: =(IF(AND(I64>J64),AD65,(IF(AND(I64=J64),AD65,IF(AND(I64<J64),AD63))))) -> 0 | H64: Iran | I64: =[1]Résultats!E49 -> 0 | J64: =[1]Résultats!F49 -> 0 | K64: =IF(AND([1]Ben!E55=[1]Ben!E$7),1,IF(AND([1]Ben!F54=[1]Ben!F$7),2,IF(AND([1]Ben!G55=[1]Ben!G$7),3))) -> FALSE | M64: =IF(AND([1]Steph!E55=[1]Steph!E$7),1,IF(AND([1]Steph!F55=[1]Steph!F$7),2,IF(AND([1]Steph!G55=[1]Steph!G$7),3))) -> FALSE | O64: =IF(AND([1]Alex!E55=[1]Alex!E$7),1,IF(AND([1]Alex!F55=[1]Alex!F$7),2,IF(AND([1]Alex!G55=[1]Alex!G$7),3))) -> FALSE | Q64: =IF(AND([1]Nico!E55=[1]Nico!E$7),1,IF(AND([1]Nico!F55=[1]Nico!F$7),2,IF(AND([1]Nico!G55=[1]Nico!G$7),3))) -> FALSE | V64: =IF(AND(#REF!=K64,#REF!=L64),3,IF(#REF!-#REF!=K64-L64,2,IF(AND(#REF!=#REF!,K64=L64),1,IF(AND(#REF!>#REF!,K64>L64),1,IF(K64<L64,1,0))))) -> #REF! | W64: =IF(AND(#REF!=M64,#REF!=N64),3,IF(#REF!-#REF!=M64-N64,2,IF(AND(#REF!=#REF!,M64=N64),1,IF(AND(#REF!>#REF!,M64>N64),1,IF(M64<N64,1,0))))) -> #REF! | X64: =IF(AND(#REF!=O64,#REF!=P64),3,IF(#REF!-#REF!=O64-P64,2,IF(AND(#REF!=#REF!,O64=P64),1,IF(AND(#REF!>#REF!,O64>P64),1,IF(O64<P64,1,0))))) -> #REF! | Y64: =IF(AND(#REF!=Q64,#REF!=R64),3,IF(#REF!-#REF!=Q64-R64,2,IF(AND(#REF!=#REF!,Q64=R64),1,IF(AND(#REF!>#REF!,Q64>R64),1,IF(Q64<R64,1,0))))) -> #REF! | AC64: Nul | AD64: 2
A65: Nigeria | B65: =IF(AND(I65>J65),AD62,IF(AND(I65=J65),AD65,(IF(AND(I65<J65),AD65)))) -> 0 | C65: =(IF(AND(I65>J65),AD65,(IF(AND(I65=J65),AD64,(IF(AND(I65<J65),AD65)))))) -> 2 | G65: =(IF(AND(I65>J65),AD65,(IF(AND(I65=J65),AD65,IF(AND(I65<J65),AD63))))) -> 0 | H65: Bosnie | I65: =[1]Résultats!E50 -> 0 | J65: =[1]Résultats!F50 -> 0 | K65: =IF(AND([1]Ben!E56=[1]Ben!E$7),1,IF(AND([1]Ben!F56=[1]Ben!F$7),2,IF(AND([1]Ben!G56=[1]Ben!G$7),3))) -> FALSE | M65: =IF(AND([1]Steph!E56=[1]Steph!E$7),1,IF(AND([1]Steph!F56=[1]Steph!F$7),2,IF(AND([1]Steph!G56=[1]Steph!G$7),3))) -> FALSE | O65: =IF(AND([1]Alex!E56=[1]Alex!E$7),1,IF(AND([1]Alex!F56=[1]Alex!F$7),2,IF(AND([1]Alex!G56=[1]Alex!G$7),3))) -> FALSE | Q65: =IF(AND([1]Nico!E56=[1]Nico!E$7),1,IF(AND([1]Nico!F56=[1]Nico!F$7),2,IF(AND([1]Nico!G56=[1]Nico!G$7),3))) -> FALSE | V65: =IF(AND(#REF!=K65,#REF!=L65),3,IF(#REF!-#REF!=K65-L65,2,IF(AND(#REF!=#REF!,K65=L65),1,IF(AND(#REF!>#REF!,K65>L65),1,IF(K65<L65,1,0))))) -> #REF! | W65: =IF(AND(#REF!=M65,#REF!=N65),3,IF(#REF!-#REF!=M65-N65,2,IF(AND(#REF!=#REF!,M65=N65),1,IF(AND(#REF!>#REF!,M65>N65),1,IF(M65<N65,1,0))))) -> #REF! | X65: =IF(AND(#REF!=O65,#REF!=P65),3,IF(#REF!-#REF!=O65-P65,2,IF(AND(#REF!=#REF!,O65=P65),1,IF(AND(#REF!>#REF!,O65>P65),1,IF(O65<P65,1,0))))) -> #REF! | Y65: =IF(AND(#REF!=Q65,#REF!=R65),3,IF(#REF!-#REF!=Q65-R65,2,IF(AND(#REF!=#REF!,Q65=R65),1,IF(AND(#REF!>#REF!,Q65>R65),1,IF(Q65<R65,1,0))))) -> #REF! | AC65: Rien
A66: Nigeria | B66: =IF(AND(I66>J66),AD62,IF(AND(I66=J66),AD65,(IF(AND(I66<J66),AD65)))) -> 0 | C66: =(IF(AND(I66>J66),AD65,(IF(AND(I66=J66),AD64,(IF(AND(I66<J66),AD65)))))) -> 2 | G66: =(IF(AND(I66>J66),AD65,(IF(AND(I66=J66),AD65,IF(AND(I66<J66),AD63))))) -> 0 | H66: Argentine | I66: =[1]Résultats!E51 -> 0 | J66: =[1]Résultats!F51 -> 0 | K66: =IF(AND([1]Ben!E57=[1]Ben!E$7),1,IF(AND([1]Ben!F57=[1]Ben!F$7),2,IF(AND([1]Ben!G57=[1]Ben!G$7),3))) -> FALSE | M66: =IF(AND([1]Steph!E57=[1]Steph!E$7),1,IF(AND([1]Steph!F57=[1]Steph!F$7),2,IF(AND([1]Steph!G57=[1]Steph!G$7),3))) -> FALSE | O66: =IF(AND([1]Alex!E57=[1]Alex!E$7),1,IF(AND([1]Alex!F57=[1]Alex!F$7),2,IF(AND([1]Alex!G57=[1]Alex!G$7),3))) -> FALSE | Q66: =IF(AND([1]Nico!E57=[1]Nico!E$7),1,IF(AND([1]Nico!F57=[1]Nico!F$7),2,IF(AND([1]Nico!G57=[1]Nico!G$7),3))) -> FALSE | V66: =IF(AND(#REF!=K66,#REF!=L66),3,IF(#REF!-#REF!=K66-L66,2,IF(AND(#REF!=#REF!,K66=L66),1,IF(AND(#REF!>#REF!,K66>L66),1,IF(K66<L66,1,0))))) -> #REF! | W66: =IF(AND(#REF!=M66,#REF!=N66),3,IF(#REF!-#REF!=M66-N66,2,IF(AND(#REF!=#REF!,M66=N66),1,IF(AND(#REF!>#REF!,M66>N66),1,IF(M66<N66,1,0))))) -> #REF! | X66: =IF(AND(#REF!=O66,#REF!=P66),3,IF(#REF!-#REF!=O66-P66,2,IF(AND(#REF!=#REF!,O66=P66),1,IF(AND(#REF!>#REF!,O66>P66),1,IF(O66<P66,1,0))))) -> #REF! | Y66: =IF(AND(#REF!=Q66,#REF!=R66),3,IF(#REF!-#REF!=Q66-R66,2,IF(AND(#REF!=#REF!,Q66=R66),1,IF(AND(#REF!>#REF!,Q66>R66),1,IF(Q66<R66,1,0))))) -> #REF! | AC66: TRUE | AD66: 1
A67: Bosnie | B67: =IF(AND(I67>J67),AD62,IF(AND(I67=J67),AD65,(IF(AND(I67<J67),AD65)))) -> 0 | C67: =(IF(AND(I67>J67),AD65,(IF(AND(I67=J67),AD64,(IF(AND(I67<J67),AD65)))))) -> 2 | G67: =(IF(AND(I67>J67),AD65,(IF(AND(I67=J67),AD65,IF(AND(I67<J67),AD63))))) -> 0 | H67: Iran | I67: =[1]Résultats!E52 -> 0 | J67: =[1]Résultats!F52 -> 0 | K67: =IF(AND([1]Ben!E58=[1]Ben!E$7),1,IF(AND([1]Ben!F58=[1]Ben!F$7),2,IF(AND([1]Ben!G58=[1]Ben!G$7),3))) -> FALSE | M67: =IF(AND([1]Steph!E58=[1]Steph!E$7),1,IF(AND([1]Steph!F58=[1]Steph!F$7),2,IF(AND([1]Steph!G58=[1]Steph!G$7),3))) -> FALSE | O67: =IF(AND([1]Alex!E58=[1]Alex!E$7),1,IF(AND([1]Alex!F58=[1]Alex!F$7),2,IF(AND([1]Alex!G58=[1]Alex!G$7),3))) -> FALSE | Q67: =IF(AND([1]Nico!E58=[1]Nico!E$7),1,IF(AND([1]Nico!F58=[1]Nico!F$7),2,IF(AND([1]Nico!G58=[1]Nico!G$7),3))) -> FALSE | U67: Total | V67: =SUM(V62:V66) -> #REF! | W67: =SUM(W62:W66) -> #REF! | X67: =SUM(X62:X66) -> #REF! | Y67: =SUM(Y62:Y66) -> #REF! | AC67: FALSE | AD67: 0
V68: =V57+V67 -> #REF! | W68: =W57+W67 -> #REF! | X68: =X57+X67 -> #REF! | Y68: =Y57+Y67 -> #REF!
A71: Groupe G | I71: Résultats | K71: BEN | M71: Steph | O71: Alex | Q71: Nico | V71: Points
A72: Equipe 1 | B72: 1 | C72: 2 | G72: 3 | H72: Equipe 2 | V72: BEN | W72: Alex | X72: Steph | Y72: Nico | AC72: Règlement
A73: Allemagne | B73: =IF(AND(I73>J73),AD73,IF(AND(I73=J73),AD76,(IF(AND(I73<J73),AD76)))) -> 0 | C73: =(IF(AND(I73>J73),AD76,(IF(AND(I73=J73),AD75,(IF(AND(I73<J73),AD76)))))) -> 2 | G73: =(IF(AND(I73>J73),AD76,(IF(AND(I73=J73),AD76,IF(AND(I73<J73),AD74))))) -> 0 | H73: Portugal | I73: =[1]Résultats!E55 -> 0 | J73: =[1]Résultats!F55 -> 0 | K73: =IF(AND([1]Ben!E62=[1]Ben!E$7),1,IF(AND([1]Ben!F62=[1]Ben!F$7),2,IF(AND([1]Ben!G62=[1]Ben!G$7),3))) -> FALSE | M73: =IF(AND([1]Steph!E62=[1]Steph!E$7),1,IF(AND([1]Steph!F62=[1]Steph!F$7),2,IF(AND([1]Steph!G62=[1]Steph!G$7),3))) -> FALSE | O73: =IF(AND([1]Alex!E62=[1]Alex!E$7),1,IF(AND([1]Alex!F62=[1]Alex!F$7),2,IF(AND([1]Alex!G62=[1]Alex!G$7),3))) -> FALSE | Q73: =IF(AND([1]Nico!E62=[1]Nico!E$7),1,IF(AND([1]Nico!F62=[1]Nico!F$7),2,IF(AND([1]Nico!G62=[1]Nico!G$7),3))) -> FALSE | V73: =IF(AND(#REF!=K73,#REF!=L73),3,IF(#REF!-#REF!=K73-L73,2,IF(AND(#REF!=#REF!,K73=L73),1,IF(AND(#REF!>#REF!,K73>L73),1,IF(K73<L73,1,0))))) -> #REF! | W73: =IF(AND(#REF!=M73,#REF!=N73),3,IF(#REF!-#REF!=M73-N73,2,IF(AND(#REF!=#REF!,M73=N73),1,IF(AND(#REF!>#REF!,M73>N73),1,IF(M73<N73,1,0))))) -> #REF! | X73: =IF(AND(#REF!=O73,#REF!=P73),3,IF(#REF!-#REF!=O73-P73,2,IF(AND(#REF!=#REF!,O73=P73),1,IF(AND(#REF!>#REF!,O73>P73),1,IF(O73<P73,1,0))))) -> #REF! | Y73: =IF(AND(#REF!=Q73,#REF!=R73),3,IF(#REF!-#REF!=Q73-R73,2,IF(AND(#REF!=#REF!,Q73=R73),1,IF(AND(#REF!>#REF!,Q73>R73),1,IF(Q73<R73,1,0))))) -> #REF! | AC73: Victoire 1 | AD73: 1
A74: Ghana | B74: =IF(AND(I74>J74),AD73,IF(AND(I74=J74),AD76,(IF(AND(I74<J74),AD76)))) -> 0 | C74: =(IF(AND(I74>J74),AD76,(IF(AND(I74=J74),AD75,(IF(AND(I74<J74),AD76)))))) -> 2 | G74: =(IF(AND(I74>J74),AD76,(IF(AND(I74=J74),AD76,IF(AND(I74<J74),AD74))))) -> 0 | H74: Etats-unis | I74: =[1]Résultats!E56 -> 0 | J74: =[1]Résultats!F56 -> 0 | K74: =IF(AND([1]Ben!E63=[1]Ben!E$7),1,IF(AND([1]Ben!F63=[1]Ben!F$7),2,IF(AND([1]Ben!G63=[1]Ben!G$7),3))) -> FALSE | M74: =IF(AND([1]Steph!E63=[1]Steph!E$7),1,IF(AND([1]Steph!F63=[1]Steph!F$7),2,IF(AND([1]Steph!G63=[1]Steph!G$7),3))) -> FALSE | O74: =IF(AND([1]Alex!E63=[1]Alex!E$7),1,IF(AND([1]Alex!F63=[1]Alex!F$7),2,IF(AND([1]Alex!G63=[1]Alex!G$7),3))) -> FALSE | Q74: =IF(AND([1]Nico!E63=[1]Nico!E$7),1,IF(AND([1]Nico!F63=[1]Nico!F$7),2,IF(AND([1]Nico!G63=[1]Nico!G$7),3))) -> FALSE | V74: =IF(AND(#REF!=K74,#REF!=L74),3,IF(#REF!-#REF!=K74-L74,2,IF(AND(#REF!=#REF!,K74=L74),1,IF(AND(#REF!>#REF!,K74>L74),1,IF(K74<L74,1,0))))) -> #REF! | W74: =IF(AND(#REF!=M74,#REF!=N74),3,IF(#REF!-#REF!=M74-N74,2,IF(AND(#REF!=#REF!,M74=N74),1,IF(AND(#REF!>#REF!,M74>N74),1,IF(M74<N74,1,0))))) -> #REF! | X74: =IF(AND(#REF!=O74,#REF!=P74),3,IF(#REF!-#REF!=O74-P74,2,IF(AND(#REF!=#REF!,O74=P74),1,IF(AND(#REF!>#REF!,O74>P74),1,IF(O74<P74,1,0))))) -> #REF! | Y74: =IF(AND(#REF!=Q74,#REF!=R74),3,IF(#REF!-#REF!=Q74-R74,2,IF(AND(#REF!=#REF!,Q74=R74),1,IF(AND(#REF!>#REF!,Q74>R74),1,IF(Q74<R74,1,0))))) -> #REF! | AC74: Victoire 2 | AD74: 3
A75: Allemagne | B75: =IF(AND(I75>J75),AD73,IF(AND(I75=J75),AD76,(IF(AND(I75<J75),AD76)))) -> 0 | C75: =(IF(AND(I75>J75),AD76,(IF(AND(I75=J75),AD75,(IF(AND(I75<J75),AD76)))))) -> 2 | G75: =(IF(AND(I75>J75),AD76,(IF(AND(I75=J75),AD76,IF(AND(I75<J75),AD74))))) -> 0 | H75: Ghana | I75: =[1]Résultats!E57 -> 0 | J75: =[1]Résultats!F57 -> 0 | K75: =IF(AND([1]Ben!E64=[1]Ben!E$7),1,IF(AND([1]Ben!F64=[1]Ben!F$7),2,IF(AND([1]Ben!G64=[1]Ben!G$7),3))) -> FALSE | M75: =IF(AND([1]Steph!E64=[1]Steph!E$7),1,IF(AND([1]Steph!F64=[1]Steph!F$7),2,IF(AND([1]Steph!G64=[1]Steph!G$7),3))) -> FALSE | O75: =IF(AND([1]Alex!E64=[1]Alex!E$7),1,IF(AND([1]Alex!F64=[1]Alex!F$7),2,IF(AND([1]Alex!G64=[1]Alex!G$7),3))) -> FALSE | Q75: =IF(AND([1]Nico!E64=[1]Nico!E$7),1,IF(AND([1]Nico!F64=[1]Nico!F$7),2,IF(AND([1]Nico!G64=[1]Nico!G$7),3))) -> FALSE | V75: =IF(AND(#REF!=K75,#REF!=L75),3,IF(#REF!-#REF!=K75-L75,2,IF(AND(#REF!=#REF!,K75=L75),1,IF(AND(#REF!>#REF!,K75>L75),1,IF(K75<L75,1,0))))) -> #REF! | W75: =IF(AND(#REF!=M75,#REF!=N75),3,IF(#REF!-#REF!=M75-N75,2,IF(AND(#REF!=#REF!,M75=N75),1,IF(AND(#REF!>#REF!,M75>N75),1,IF(M75<N75,1,0))))) -> #REF! | X75: =IF(AND(#REF!=O75,#REF!=P75),3,IF(#REF!-#REF!=O75-P75,2,IF(AND(#REF!=#REF!,O75=P75),1,IF(AND(#REF!>#REF!,O75>P75),1,IF(O75<P75,1,0))))) -> #REF! | Y75: =IF(AND(#REF!=Q75,#REF!=R75),3,IF(#REF!-#REF!=Q75-R75,2,IF(AND(#REF!=#REF!,Q75=R75),1,IF(AND(#REF!>#REF!,Q75>R75),1,IF(Q75<R75,1,0))))) -> #REF! | AC75: Nul | AD75: 2
A76: Etats-unis | B76: =IF(AND(I76>J76),AD73,IF(AND(I76=J76),AD76,(IF(AND(I76<J76),AD76)))) -> 0 | C76: =(IF(AND(I76>J76),AD76,(IF(AND(I76=J76),AD75,(IF(AND(I76<J76),AD76)))))) -> 2 | G76: =(IF(AND(I76>J76),AD76,(IF(AND(I76=J76),AD76,IF(AND(I76<J76),AD74))))) -> 0 | H76: Portugal | I76: =[1]Résultats!E58 -> 0 | J76: =[1]Résultats!F58 -> 0 | K76: =IF(AND([1]Ben!E65=[1]Ben!E$7),1,IF(AND([1]Ben!F65=[1]Ben!F$7),2,IF(AND([1]Ben!G65=[1]Ben!G$7),3))) -> FALSE | M76: =IF(AND([1]Steph!E65=[1]Steph!E$7),1,IF(AND([1]Steph!F65=[1]Steph!F$7),2,IF(AND([1]Steph!G65=[1]Steph!G$7),3))) -> FALSE | O76: =IF(AND([1]Alex!E65=[1]Alex!E$7),1,IF(AND([1]Alex!F65=[1]Alex!F$7),2,IF(AND([1]Alex!G65=[1]Alex!G$7),3))) -> FALSE | Q76: =IF(AND([1]Nico!E65=[1]Nico!E$7),1,IF(AND([1]Nico!F65=[1]Nico!F$7),2,IF(AND([1]Nico!G65=[1]Nico!G$7),3))) -> FALSE | V76: =IF(AND(#REF!=K76,#REF!=L76),3,IF(#REF!-#REF!=K76-L76,2,IF(AND(#REF!=#REF!,K76=L76),1,IF(AND(#REF!>#REF!,K76>L76),1,IF(K76<L76,1,0))))) -> #REF! | W76: =IF(AND(#REF!=M76,#REF!=N76),3,IF(#REF!-#REF!=M76-N76,2,IF(AND(#REF!=#REF!,M76=N76),1,IF(AND(#REF!>#REF!,M76>N76),1,IF(M76<N76,1,0))))) -> #REF! | X76: =IF(AND(#REF!=O76,#REF!=P76),3,IF(#REF!-#REF!=O76-P76,2,IF(AND(#REF!=#REF!,O76=P76),1,IF(AND(#REF!>#REF!,O76>P76),1,IF(O76<P76,1,0))))) -> #REF! | Y76: =IF(AND(#REF!=Q76,#REF!=R76),3,IF(#REF!-#REF!=Q76-R76,2,IF(AND(#REF!=#REF!,Q76=R76),1,IF(AND(#REF!>#REF!,Q76>R76),1,IF(Q76<R76,1,0))))) -> #REF! | AC76: Rien
A77: Etats-unis | B77: =IF(AND(I77>J77),AD73,IF(AND(I77=J77),AD76,(IF(AND(I77<J77),AD76)))) -> 0 | C77: =(IF(AND(I77>J77),AD76,(IF(AND(I77=J77),AD75,(IF(AND(I77<J77),AD76)))))) -> 2 | G77: =(IF(AND(I77>J77),AD76,(IF(AND(I77=J77),AD76,IF(AND(I77<J77),AD74))))) -> 0 | H77: Allemagne | I77: =[1]Résultats!E59 -> 0 | J77: =[1]Résultats!F59 -> 0 | K77: =IF(AND([1]Ben!E66=[1]Ben!E$7),1,IF(AND([1]Ben!F66=[1]Ben!F$7),2,IF(AND([1]Ben!G66=[1]Ben!G$7),3))) -> FALSE | M77: =IF(AND([1]Steph!E66=[1]Steph!E$7),1,IF(AND([1]Steph!F66=[1]Steph!F$7),2,IF(AND([1]Steph!G66=[1]Steph!G$7),3))) -> FALSE | O77: =IF(AND([1]Alex!E66=[1]Alex!E$7),1,IF(AND([1]Alex!F66=[1]Alex!F$7),2,IF(AND([1]Alex!G66=[1]Alex!G$7),3))) -> FALSE | Q77: =IF(AND([1]Nico!E66=[1]Nico!E$7),1,IF(AND([1]Nico!F66=[1]Nico!F$7),2,IF(AND([1]Nico!G66=[1]Nico!G$7),3))) -> FALSE | V77: =IF(AND(#REF!=K77,#REF!=L77),3,IF(#REF!-#REF!=K77-L77,2,IF(AND(#REF!=#REF!,K77=L77),1,IF(AND(#REF!>#REF!,K77>L77),1,IF(K77<L77,1,0))))) -> #REF! | W77: =IF(AND(#REF!=M77,#REF!=N77),3,IF(#REF!-#REF!=M77-N77,2,IF(AND(#REF!=#REF!,M77=N77),1,IF(AND(#REF!>#REF!,M77>N77),1,IF(M77<N77,1,0))))) -> #REF! | X77: =IF(AND(#REF!=O77,#REF!=P77),3,IF(#REF!-#REF!=O77-P77,2,IF(AND(#REF!=#REF!,O77=P77),1,IF(AND(#REF!>#REF!,O77>P77),1,IF(O77<P77,1,0))))) -> #REF! | Y77: =IF(AND(#REF!=Q77,#REF!=R77),3,IF(#REF!-#REF!=Q77-R77,2,IF(AND(#REF!=#REF!,Q77=R77),1,IF(AND(#REF!>#REF!,Q77>R77),1,IF(Q77<R77,1,0))))) -> #REF! | AC77: TRUE | AD77: 1
A78: Portugal | B78: =IF(AND(I78>J78),AD73,IF(AND(I78=J78),AD76,(IF(AND(I78<J78),AD76)))) -> 0 | C78: =(IF(AND(I78>J78),AD76,(IF(AND(I78=J78),AD75,(IF(AND(I78<J78),AD76)))))) -> 2 | G78: =(IF(AND(I78>J78),AD76,(IF(AND(I78=J78),AD76,IF(AND(I78<J78),AD74))))) -> 0 | H78: Ghana | I78: =[1]Résultats!E60 -> 0 | J78: =[1]Résultats!F60 -> 0 | K78: =IF(AND([1]Ben!E67=[1]Ben!E$7),1,IF(AND([1]Ben!F67=[1]Ben!F$7),2,IF(AND([1]Ben!G67=[1]Ben!G$7),3))) -> FALSE | M78: =IF(AND([1]Steph!E67=[1]Steph!E$7),1,IF(AND([1]Steph!F67=[1]Steph!F$7),2,IF(AND([1]Steph!G67=[1]Steph!G$7),3))) -> FALSE | O78: =IF(AND([1]Alex!E67=[1]Alex!E$7),1,IF(AND([1]Alex!F67=[1]Alex!F$7),2,IF(AND([1]Alex!G67=[1]Alex!G$7),3))) -> FALSE | Q78: =IF(AND([1]Nico!E67=[1]Nico!E$7),1,IF(AND([1]Nico!F67=[1]Nico!F$7),2,IF(AND([1]Nico!G67=[1]Nico!G$7),3))) -> FALSE | U78: Total | V78: =SUM(V73:V77) -> #REF! | W78: =SUM(W73:W77) -> #REF! | X78: =SUM(X73:X77) -> #REF! | Y78: =SUM(Y73:Y77) -> #REF! | AC78: FALSE | AD78: 0
V79: =V68+V78 -> #REF! | W79: =W68+W78 -> #REF! | X79: =X68+X78 -> #REF! | Y79: =Y68+Y78 -> #REF!
A82: Groupe H | I82: Résultats | K82: BEN | M82: Steph | O82: Alex | Q82: Nico | V82: Points
A83: Equipe 1 | B83: 1 | C83: 2 | G83: 3 | H83: Equipe 2 | V83: BEN | W83: Alex | X83: Steph | Y83: Nico | AC83: Règlement
A84: Belgique | B84: =IF(AND(I84>J84),AD84,IF(AND(I84=J84),AD87,(IF(AND(I84<J84),AD87)))) -> 0 | C84: =(IF(AND(I84>J84),AD87,(IF(AND(I84=J84),AD86,(IF(AND(I84<J84),AD87)))))) -> 2 | G84: =(IF(AND(I84>J84),AD87,(IF(AND(I84=J84),AD87,IF(AND(I84<J84),AD85))))) -> 0 | H84: Algérie | I84: =[1]Résultats!E63 -> 0 | J84: =[1]Résultats!F63 -> 0 | K84: =IF(AND([1]Ben!E71=[1]Ben!E$7),1,IF(AND([1]Ben!F71=[1]Ben!F$7),2,IF(AND([1]Ben!G71=[1]Ben!G$7),3))) -> FALSE | M84: =IF(AND([1]Steph!E71=[1]Steph!E$7),1,IF(AND([1]Steph!F71=[1]Steph!F$7),2,IF(AND([1]Steph!G71=[1]Steph!G$7),3))) -> FALSE | O84: =IF(AND([1]Alex!E71=[1]Alex!E$7),1,IF(AND([1]Alex!F71=[1]Alex!F$7),2,IF(AND([1]Alex!G71=[1]Alex!G$7),3))) -> FALSE | Q84: =IF(AND([1]Nico!E71=[1]Nico!E$7),1,IF(AND([1]Nico!F71=[1]Nico!F$7),2,IF(AND([1]Nico!G71=[1]Nico!G$7),3))) -> FALSE | V84: =IF(AND(#REF!=K84,#REF!=L84),3,IF(#REF!-#REF!=K84-L84,2,IF(AND(#REF!=#REF!,K84=L84),1,IF(AND(#REF!>#REF!,K84>L84),1,IF(K84<L84,1,0))))) -> #REF! | W84: =IF(AND(#REF!=M84,#REF!=N84),3,IF(#REF!-#REF!=M84-N84,2,IF(AND(#REF!=#REF!,M84=N84),1,IF(AND(#REF!>#REF!,M84>N84),1,IF(M84<N84,1,0))))) -> #REF! | X84: =IF(AND(#REF!=O84,#REF!=P84),3,IF(#REF!-#REF!=O84-P84,2,IF(AND(#REF!=#REF!,O84=P84),1,IF(AND(#REF!>#REF!,O84>P84),1,IF(O84<P84,1,0))))) -> #REF! | Y84: =IF(AND(#REF!=Q84,#REF!=R84),3,IF(#REF!-#REF!=Q84-R84,2,IF(AND(#REF!=#REF!,Q84=R84),1,IF(AND(#REF!>#REF!,Q84>R84),1,IF(Q84<R84,1,0))))) -> #REF! | AC84: Victoire 1 | AD84: 1
A85: Russie | B85: =IF(AND(I85>J85),AD84,IF(AND(I85=J85),AD87,(IF(AND(I85<J85),AD87)))) -> 0 | C85: =(IF(AND(I85>J85),AD87,(IF(AND(I85=J85),AD86,(IF(AND(I85<J85),AD87)))))) -> 2 | G85: =(IF(AND(I85>J85),AD87,(IF(AND(I85=J85),AD87,IF(AND(I85<J85),AD85))))) -> 0 | H85: Corée Du Sud | I85: =[1]Résultats!E64 -> 0 | J85: =[1]Résultats!F64 -> 0 | K85: =IF(AND([1]Ben!E72=[1]Ben!E$7),1,IF(AND([1]Ben!F72=[1]Ben!F$7),2,IF(AND([1]Ben!G72=[1]Ben!G$7),3))) -> FALSE | M85: =IF(AND([1]Steph!E72=[1]Steph!E$7),1,IF(AND([1]Steph!F72=[1]Steph!F$7),2,IF(AND([1]Steph!G72=[1]Steph!G$7),3))) -> FALSE | O85: =IF(AND([1]Alex!E72=[1]Alex!E$7),1,IF(AND([1]Alex!F72=[1]Alex!F$7),2,IF(AND([1]Alex!G72=[1]Alex!G$7),3))) -> FALSE | Q85: =IF(AND([1]Nico!E72=[1]Nico!E$7),1,IF(AND([1]Nico!F72=[1]Nico!F$7),2,IF(AND([1]Nico!G72=[1]Nico!G$7),3))) -> FALSE | V85: =IF(AND(#REF!=K85,#REF!=L85),3,IF(#REF!-#REF!=K85-L85,2,IF(AND(#REF!=#REF!,K85=L85),1,IF(AND(#REF!>#REF!,K85>L85),1,IF(K85<L85,1,0))))) -> #REF! | W85: =IF(AND(#REF!=M85,#REF!=N85),3,IF(#REF!-#REF!=M85-N85,2,IF(AND(#REF!=#REF!,M85=N85),1,IF(AND(#REF!>#REF!,M85>N85),1,IF(M85<N85,1,0))))) -> #REF! | X85: =IF(AND(#REF!=O85,#REF!=P85),3,IF(#REF!-#REF!=O85-P85,2,IF(AND(#REF!=#REF!,O85=P85),1,IF(AND(#REF!>#REF!,O85>P85),1,IF(O85<P85,1,0))))) -> #REF! | Y85: =IF(AND(#REF!=Q85,#REF!=R85),3,IF(#REF!-#REF!=Q85-R85,2,IF(AND(#REF!=#REF!,Q85=R85),1,IF(AND(#REF!>#REF!,Q85>R85),1,IF(Q85<R85,1,0))))) -> #REF! | AC85: Victoire 2 | AD85: 3
A86: Belgique | B86: =IF(AND(I86>J86),AD84,IF(AND(I86=J86),AD87,(IF(AND(I86<J86),AD87)))) -> 0 | C86: =(IF(AND(I86>J86),AD87,(IF(AND(I86=J86),AD86,(IF(AND(I86<J86),AD87)))))) -> 2 | G86: =(IF(AND(I86>J86),AD87,(IF(AND(I86=J86),AD87,IF(AND(I86<J86),AD85))))) -> 0 | H86: Russie | I86: =[1]Résultats!E65 -> 0 | J86: =[1]Résultats!F65 -> 0 | K86: =IF(AND([1]Ben!E73=[1]Ben!E$7),1,IF(AND([1]Ben!F73=[1]Ben!F$7),2,IF(AND([1]Ben!G73=[1]Ben!G$7),3))) -> FALSE | M86: =IF(AND([1]Steph!E73=[1]Steph!E$7),1,IF(AND([1]Steph!F73=[1]Steph!F$7),2,IF(AND([1]Steph!G73=[1]Steph!G$7),3))) -> FALSE | O86: =IF(AND([1]Alex!E73=[1]Alex!E$7),1,IF(AND([1]Alex!F73=[1]Alex!F$7),2,IF(AND([1]Alex!G73=[1]Alex!G$7),3))) -> FALSE | Q86: =IF(AND([1]Nico!E73=[1]Nico!E$7),1,IF(AND([1]Nico!F73=[1]Nico!F$7),2,IF(AND([1]Nico!G73=[1]Nico!G$7),3))) -> FALSE | V86: =IF(AND(#REF!=K86,#REF!=L86),3,IF(#REF!-#REF!=K86-L86,2,IF(AND(#REF!=#REF!,K86=L86),1,IF(AND(#REF!>#REF!,K86>L86),1,IF(K86<L86,1,0))))) -> #REF! | W86: =IF(AND(#REF!=M86,#REF!=N86),3,IF(#REF!-#REF!=M86-N86,2,IF(AND(#REF!=#REF!,M86=N86),1,IF(AND(#REF!>#REF!,M86>N86),1,IF(M86<N86,1,0))))) -> #REF! | X86: =IF(AND(#REF!=O86,#REF!=P86),3,IF(#REF!-#REF!=O86-P86,2,IF(AND(#REF!=#REF!,O86=P86),1,IF(AND(#REF!>#REF!,O86>P86),1,IF(O86<P86,1,0))))) -> #REF! | Y86: =IF(AND(#REF!=Q86,#REF!=R86),3,IF(#REF!-#REF!=Q86-R86,2,IF(AND(#REF!=#REF!,Q86=R86),1,IF(AND(#REF!>#REF!,Q86>R86),1,IF(Q86<R86,1,0))))) -> #REF! | AC86: Nul | AD86: 2
A87: Corée du Sud | B87: =IF(AND(I87>J87),AD84,IF(AND(I87=J87),AD87,(IF(AND(I87<J87),AD87)))) -> 0 | C87: =(IF(AND(I87>J87),AD87,(IF(AND(I87=J87),AD86,(IF(AND(I87<J87),AD87)))))) -> 2 | G87: =(IF(AND(I87>J87),AD87,(IF(AND(I87=J87),AD87,IF(AND(I87<J87),AD85))))) -> 0 | H87: Algérie | I87: =[1]Résultats!E66 -> 0 | J87: =[1]Résultats!F66 -> 0 | K87: =IF(AND([1]Ben!E74=[1]Ben!E$7),1,IF(AND([1]Ben!F74=[1]Ben!F$7),2,IF(AND([1]Ben!G74=[1]Ben!G$7),3))) -> FALSE | M87: =IF(AND([1]Steph!E74=[1]Steph!E$7),1,IF(AND([1]Steph!F74=[1]Steph!F$7),2,IF(AND([1]Steph!G74=[1]Steph!G$7),3))) -> FALSE | O87: =IF(AND([1]Alex!E74=[1]Alex!E$7),1,IF(AND([1]Alex!F74=[1]Alex!F$7),2,IF(AND([1]Alex!G74=[1]Alex!G$7),3))) -> FALSE | Q87: =IF(AND([1]Nico!E74=[1]Nico!E$7),1,IF(AND([1]Nico!F74=[1]Nico!F$7),2,IF(AND([1]Nico!G74=[1]Nico!G$7),3))) -> FALSE | V87: =IF(AND(#REF!=K87,#REF!=L87),3,IF(#REF!-#REF!=K87-L87,2,IF(AND(#REF!=#REF!,K87=L87),1,IF(AND(#REF!>#REF!,K87>L87),1,IF(K87<L87,1,0))))) -> #REF! | W87: =IF(AND(#REF!=M87,#REF!=N87),3,IF(#REF!-#REF!=M87-N87,2,IF(AND(#REF!=#REF!,M87=N87),1,IF(AND(#REF!>#REF!,M87>N87),1,IF(M87<N87,1,0))))) -> #REF! | X87: =IF(AND(#REF!=O87,#REF!=P87),3,IF(#REF!-#REF!=O87-P87,2,IF(AND(#REF!=#REF!,O87=P87),1,IF(AND(#REF!>#REF!,O87>P87),1,IF(O87<P87,1,0))))) -> #REF! | Y87: =IF(AND(#REF!=Q87,#REF!=R87),3,IF(#REF!-#REF!=Q87-R87,2,IF(AND(#REF!=#REF!,Q87=R87),1,IF(AND(#REF!>#REF!,Q87>R87),1,IF(Q87<R87,1,0))))) -> #REF! | AC87: Rien
A88: Corée du Sud | B88: =IF(AND(I88>J88),AD84,IF(AND(I88=J88),AD87,(IF(AND(I88<J88),AD87)))) -> 0 | C88: =(IF(AND(I88>J88),AD87,(IF(AND(I88=J88),AD86,(IF(AND(I88<J88),AD87)))))) -> 2 | G88: =(IF(AND(I88>J88),AD87,(IF(AND(I88=J88),AD87,IF(AND(I88<J88),AD85))))) -> 0 | H88: Belgique | I88: =[1]Résultats!E67 -> 0 | J88: =[1]Résultats!F67 -> 0 | K88: =IF(AND([1]Ben!E75=[1]Ben!E$7),1,IF(AND([1]Ben!F75=[1]Ben!F$7),2,IF(AND([1]Ben!G75=[1]Ben!G$7),3))) -> FALSE | M88: =IF(AND([1]Steph!E75=[1]Steph!E$7),1,IF(AND([1]Steph!F75=[1]Steph!F$7),2,IF(AND([1]Steph!G75=[1]Steph!G$7),3))) -> FALSE | O88: =IF(AND([1]Alex!E75=[1]Alex!E$7),1,IF(AND([1]Alex!F75=[1]Alex!F$7),2,IF(AND([1]Alex!G75=[1]Alex!G$7),3))) -> FALSE | Q88: =IF(AND([1]Nico!E75=[1]Nico!E$7),1,IF(AND([1]Nico!F75=[1]Nico!F$7),2,IF(AND([1]Nico!G75=[1]Nico!G$7),3))) -> FALSE | V88: =IF(AND(#REF!=K88,#REF!=L88),3,IF(#REF!-#REF!=K88-L88,2,IF(AND(#REF!=#REF!,K88=L88),1,IF(AND(#REF!>#REF!,K88>L88),1,IF(K88<L88,1,0))))) -> #REF! | W88: =IF(AND(#REF!=M88,#REF!=N88),3,IF(#REF!-#REF!=M88-N88,2,IF(AND(#REF!=#REF!,M88=N88),1,IF(AND(#REF!>#REF!,M88>N88),1,IF(M88<N88,1,0))))) -> #REF! | X88: =IF(AND(#REF!=O88,#REF!=P88),3,IF(#REF!-#REF!=O88-P88,2,IF(AND(#REF!=#REF!,O88=P88),1,IF(AND(#REF!>#REF!,O88>P88),1,IF(O88<P88,1,0))))) -> #REF! | Y88: =IF(AND(#REF!=Q88,#REF!=R88),3,IF(#REF!-#REF!=Q88-R88,2,IF(AND(#REF!=#REF!,Q88=R88),1,IF(AND(#REF!>#REF!,Q88>R88),1,IF(Q88<R88,1,0))))) -> #REF! | AC88: TRUE | AD88: 1
A89: Algérie | B89: =IF(AND(I89>J89),AD84,IF(AND(I89=J89),AD87,(IF(AND(I89<J89),AD87)))) -> 0 | C89: =(IF(AND(I89>J89),AD87,(IF(AND(I89=J89),AD86,(IF(AND(I89<J89),AD87)))))) -> 2 | G89: =(IF(AND(I89>J89),AD87,(IF(AND(I89=J89),AD87,IF(AND(I89<J89),AD85))))) -> 0 | H89: Russie | I89: =[1]Résultats!E68 -> 0 | J89: =[1]Résultats!F68 -> 0 | K89: =IF(AND([1]Ben!E76=[1]Ben!E$7),1,IF(AND([1]Ben!F76=[1]Ben!F$7),2,IF(AND([1]Ben!G76=[1]Ben!G$7),3))) -> FALSE | M89: =IF(AND([1]Steph!E76=[1]Steph!E$7),1,IF(AND([1]Steph!F76=[1]Steph!F$7),2,IF(AND([1]Steph!G76=[1]Steph!G$7),3))) -> FALSE | O89: =IF(AND([1]Alex!E76=[1]Alex!E$7),1,IF(AND([1]Alex!F76=[1]Alex!F$7),2,IF(AND([1]Alex!G76=[1]Alex!G$7),3))) -> FALSE | Q89: =IF(AND([1]Nico!E76=[1]Nico!E$7),1,IF(AND([1]Nico!F76=[1]Nico!F$7),2,IF(AND([1]Nico!G76=[1]Nico!G$7),3))) -> FALSE | U89: Total | V89: =SUM(V84:V88) -> #REF! | W89: =SUM(W84:W88) -> #REF! | X89: =SUM(X84:X88) -> #REF! | Y89: =SUM(Y84:Y88) -> #REF! | AC89: FALSE | AD89: 0
V90: =V79+V89 -> #REF! | W90: =W79+W89 -> #REF! | X90: =X79+X89 -> #REF! | Y90: =Y79+Y89 -> #REF!

Sheet Feuil3
