Workbook
Name QA: 'Reference Tables'!$K:$K
Name QB: 'Reference Tables'!$L:$L
Name QC: 'Reference Tables'!$M:$M
Name QD: 'Reference Tables'!$N:$N
Name QE: 'Reference Tables'!$O:$O
Name QF: 'Reference Tables'!$P:$P
Name QG: 'Reference Tables'!$Q:$Q
Name QH: 'Reference Tables'!$R:$R
Name QJ: 'Reference Tables'!$S:$S
Name QK: 'Reference Tables'!$T:$T
Name QL: 'Reference Tables'!$U:$U
Name QM: 'Reference Tables'!$V:$V
Name QN: 'Reference Tables'!$W:$W
Name QP: 'Reference Tables'!$X:$X
Name QQ: 'Reference Tables'!$Y:$Y
Name QR: 'Reference Tables'!$Z:$Z
Name QS: 'Reference Tables'!$AA:$AA
Name QT: 'Reference Tables'!$AB:$AB
Name QU: 'Reference Tables'!$AC:$AC
Name QV: 'Reference Tables'!$AD:$AD
Name QW: 'Reference Tables'!$AE:$AE
Name QX: 'Reference Tables'!$AF:$AF
Name QY: 'Reference Tables'!$AG:$AG
Name QZ: 'Reference Tables'!$AH:$AH

Sheet Telecom Template File
A1: Area | B1: UNIT | C1: Tel_Equip_Tag | D1: Tel_Equip_Code | E1: Tel_Equip_Desc | F1: Telecom_System | G1: Tel_Cabinet_Tag | H1: Tel_System_Code | I1: Tel_Equip_Location | J1: Tel_Equip_Sub_Loc | K1: Scope | L1: Remaks
B2: 960 | C2: LQ9600QX0001 | D2: =MID(C2,7,2) -> QX | E2: =IF(D2="","",VLOOKUP(D2,'Reference Tables'!E1:F25,2,TRUE)) -> Door Furniture | H2: =MID(G2,7,2)
B3: 960 | D3: =MID(C3,7,2) | E3: =IF(D3="","",VLOOKUP(D3,'Reference Tables'!E2:F26,2,TRUE)) | H3: =MID(G3,7,2)
B4: 960 | D4: =MID(C4,7,2) | E4: =IF(D4="","",VLOOKUP(D4,'Reference Tables'!E3:F27,2,TRUE)) | H4: =MID(G4,7,2)
B5: 960 | D5: =MID(C5,7,2) | E5: =IF(D5="","",VLOOKUP(D5,'Reference Tables'!E4:F28,2,TRUE)) | H5: =MID(G5,7,2)
B6: 960 | D6: =MID(C6,7,2) | E6: =IF(D6="","",VLOOKUP(D6,'Reference Tables'!E5:F29,2,TRUE)) | H6: =MID(G6,7,2)
B7: 960 | D7: =MID(C7,7,2) | E7: =IF(D7="","",VLOOKUP(D7,'Reference Tables'!E6:F30,2,TRUE)) | H7: =MID(G7,7,2)
B8: 960 | D8: =MID(C8,7,2) | E8: =IF(D8="","",VLOOKUP(D8,'Reference Tables'!E7:F31,2,TRUE)) | H8: =MID(G8,7,2)
B9: 960 | D9: =MID(C9,7,2) | E9: =IF(D9="","",VLOOKUP(D9,'Reference Tables'!E8:F32,2,TRUE)) | H9: =MID(G9,7,2)
B10: 960 | D10: =MID(C10,7,2) | E10: =IF(D10="","",VLOOKUP(D10,'Reference Tables'!E9:F33,2,TRUE)) | H10: =MID(G10,7,2)
B11: 960 | D11: =MID(C11,7,2) | E11: =IF(D11="","",VLOOKUP(D11,'Reference Tables'!E10:F34,2,TRUE)) | H11: =MID(G11,7,2)
B12: 960 | D12: =MID(C12,7,2) | E12: =IF(D12="","",VLOOKUP(D12,'Reference Tables'!E11:F35,2,TRUE)) | H12: =MID(G12,7,2)
B13: 960 | D13: =MID(C13,7,2) | E13: =IF(D13="","",VLOOKUP(D13,'Reference Tables'!E12:F36,2,TRUE)) | H13: =MID(G13,7,2)
B14: 960 | D14: =MID(C14,7,2) | E14: =IF(D14="","",VLOOKUP(D14,'Reference Tables'!E13:F37,2,TRUE)) | H14: =MID(G14,7,2)
... B436: 960 | D436: =MID(C436,7,2) | E436: =IF(D436="","",VLOOKUP(D436,'Reference Tables'!E435:F459,2,TRUE)) | H436: =MID(G436,7,2)

Sheet Reference Tables
A1: Area | B1: Scope | C1: Tel_Syst_Code | D1: Tel_Syst_desc | E1: Tel_Equip_Code | F1: Tel_Equip Desc | G1: Location | H1: Loc_Desc | I1: Sub_Loc | J1: Sub_Loc_Desc | K1: QA | L1: QB | M1: QC | N1: QD | O1: QE | P1: QF | Q1: QG | R1: QH | S1: QJ | T1: QK | U1: QL | V1: QM | W1: QN | X1: QP | Y1: QQ | Z1: QR | AA1: QS | AB1: QT | AC1: QU | AD1: QV | AE1: QW | AF1: QX | AG1: QY | AH1: QZ
A2: HH | B2: POC | C2: AA | D2: LOS System : Line Of Sight / PMP / ROV | E2: QA | F2: Communication Antenna, Tranceiver | G2: AER | H2: Aft Electrical Room | I2: - | J2: Not Applicable | AF2: PAGA
A3: LQ | B3: YOC | C3: AB | D3: Non Directional Beacon, RACON, Gyro, DGPS | E3: QB | F3: Equipment Rack | G3: AIR | H3: Aft Instrument Room | I3: AFT | J3: Aft Machinery Space | AF3: ACS
A4: TM | B4: SHI | C4: AC | D4: TERRESTRIAL TRUNKED RADIO (TETRA) SYSTEM | E4: QC | F4: Telephones Console, External Telephone and Set | G4: AS | H4: Analyzer Shelter | I4: FWD | J4: Forward Machinery Space | AF4: TELEPHONE
A5: TT | C5: AD | D5: VHF-FM SYSTEM MARINE RADIO SYSTEM | E5: QD | F5: Marine Mobile Radio | G5: CCR | H5: Central Control Room | I5: HD1 | J5: Hull Deck Section 1 (See Drawing)
A6: TR | C6: AE | D6: VHF-AM SYSTEM AERONAUTICAL RADIO SYSTEM | E6: QE | F6: Aeronautical Mobile Radio Equipment | G6: ECC | H6: Emergency Control Centre | I6: HD2 | J6: Hull Deck Section 2 (See Drawing)
A7: UU | C7: AF | D7: Berthing Aids System (BAS) | E7: QF | F7: Elect/Opt.Converters, Patch Panel, Pigtails, | G7: FER | H7: Forward Electrical Room | I7: HD3 | J7: Hull Deck Section 3 (See Drawing)
C8: AG | D8: GLOBAL POSITION SYSTEM (GPS) | E8: QG | F8: Telecommunication Equipment | G8: FIR | H8: Forward Instrument Room | I8: HD4 | J8: Hull Deck Section 4 (See Drawing)
C9: AH | D9: Entertainment / TVRO | E9: QH | F9: Distrib.Panel (MDF, IDF) & Frame Panel | G9: LAB | H9: Laboratory | I9: HD5 | J9: Hull Deck Section 5 (See Drawing)
C10: AJ | D10: Telecom Supervision System (TSS) | E10: QJ | F10: Mobile Radio | G10: OTR | H10: Offshore Training Room | I10: CEN | J10: Center Hull
C11: AK | D11: GDMSS / SSAS | E11: QK | F11: Printers | G11: PIR | H11: Portside Process Instrument room | I11: LAB | J11: Laboratory
C12: AL | D12: LAN / WAN SYSTEM (LOCAL AREA NETWORK / WIDE AREA | E12: QL | F12: Converter E1-Ethernet | G12: QCR | H12: LQ Computer room | I12: LD1 | J12: Laydown Area
C13: AM | D13: Process CCTV SYSTEM: (CLOSED CIRCUIT TV) | E13: QM | F13: Cameras | G13: QER | H13: LQ Engineering Room | I13: LD2 | J13: Laydown Area
C14: AN | D14: PA/GA A SYSTEM :( PUBLIC ANNOUNCE / GENERAL ALARM) | E14: QN | F14: Loudspeakers, Amplifier | G14: QIR | H14: LQ Instrument room | I14: LLA | J14: LNG Loading Arm
C15: AP | D15: TelecomSystem Private Automatic Branch Exchange (PABX, IPBX) | E15: QP | F15: Tel.Equipment Set, Telecom Socket | G15: RDR | H15: Radio Room | I15: LQO | J15: LQ Overall
C16: AQ | D16: PA/GA B SYSTEM :( PUBLIC ANNOUNCE / GENERAL ALARM) | E16: QQ | F16: Flashing Beacons | G16: RR | H16: Radar (Equipment) Room | I16: LQH | J16: LQ Hull Deck
C17: AR | D17: RADAR | E17: QR | F17: Modem Multiplexer | G17: SIR | H17: Starboard Process Instrument Room | I17: LQA | J17: LQ A Deck
C18: AS | D18: SATELLITE COMMUNICATION SYSTEM, VSAT, Inmersat, Wordphone, Master Clock | E18: QS | F18: Servers, Workstation PC, TV Monitors or PC | G18: TRG | H18: Telecommunications Equipment Room Deck G (TER1) | I18: LQB | J18: LQ B Deck
C19: AT | D19: Security CCTV, Intrusion Detection System (IDS) | E19: QT | F19: Grounding Kit | G19: TRH | H19: Telecommunications Equipment Room Hull Deck (TER2) | I19: LQC | J19: LQ C Deck
... C22: AW | D22: METEOROLOGICAL SYSTEM, Weather, Faxsimile | E22: QW | F22: Badge Readers, Badges, Turnstiles | G22: UIR | H22: Utility Instrument room | I22: LQF | J22: LQ F Deck
C23: AX | D23: ACS SYSTEM (ACCESS CONTROL SYSTEM) / POB | E23: QX | F23: Door Furniture | I23: LQG | J23: LQ G Deck
C24: AY | D24: Sound Powered Telephone / Hotline / VCR | E24: QY | F24: WIFI Access Point | I24: LQT | J24: LQ TOP Deck
C25: AZ | D25: MISCELLANEOUS | E25: QZ | F25: Miscellaneous Equipment | I25: LQM | J25: LQ Telecom Mast
I26: LQR | J26: LQ Roof
I27: HLD | J27: Helideck
I28: P01 | J28: Flare
I29: P02 | J29: Refrigerant MR2 Train A & ITR1
I30: P03 | J30: Cryogenic Exchangers
I31: P04 | J31: Refrigerant MR1 Train A
I32: P05 | J32: Dryers & Oil Recirculation Pumps
I33: P06 | J33: Inlet Stabilization & AGRU Absorber
I34: P07 | J34: Power Generation, Produced Water & Utility
I35: PC1 | J35: Safety corridor
I36: PC2 | J36: Safety corridor
I37: R01 | J37: Pipe Rack
... I56: US | J56: Utility Space
