Workbook
Name AGENT_FORMATION: 'Codes - Agents'!$B$3:$B$12
Name CONDUCTEUR: 'Codes - Agents'!$D$3:$D$4
Name CONVOI_TRAFIC: 'Codes - Machines'!$G$4:$G$5
Name DESTINATION: 'Codes - Machines'!$N$4:$N$15
Name INDICE_COMPOSITION: 'Codes - Machines'!$I$4:$I$16
Name LONGUEUR: Relevé!$F$6:$F$15
Name LONGUEUR_1: 'Bulletin de freinage'!$G$19:$G$22
Name MACHINE: 'Codes - Machines'!$B$4:$B$10
Name MASSE: 'Bulletin de freinage'!$G$24:$G$27
Name MASSE_FREINEE: Relevé!$H$6:$H$15
Name MASSE_REMORQUEE: Relevé!$G$6:$G$15
Name Masse_totale_du_train: 'Bulletin de freinage'!$L$1:$M$163
Name NOMBRE: 'Bulletin de freinage'!$G$14:$G$17
Name REALISEE: 'Bulletin de freinage'!$G$33:$G$37
Name REALISER: 'Bulletin de freinage'!$M$2:$M$163
Name TABLEAU_MACHINE: 'Codes - Machines'!$B$4:$E$10
Name TABLEAU_TRAIN: 'Codes - Machines'!$K$4:$L$59
Name TABLEAU_VOITURE: 'Codes - Voitures'!$B$4:$E$11
Name TOTALE: 'Bulletin de freinage'!$L$2:$L$163
Name TRAIN: 'Codes - Machines'!$K$4:$K$59
Name VEHICULE: Relevé!$E$6:$E$15
Name VOITURE: 'Codes - Voitures'!$B$4:$B$11

Sheet Codes - Agents
B2: Agent formation | D2: Conducteur
B3: A | D3: A
B4: B | D4: B
B5: C
B6: D
B7: E
B8: F
B9: G
B10: H
B11: I
B12: J

Sheet Codes - Machines
B2: 1 | C2: 2 | D2: 3 | E2: 4
B3: Série machine | C3: Longueur | D3: Masse remorquée | E3: Masse freinée | G3: Type de convoi trafic | I3: Indice de composition | K3: Trains | L3: Destination | N3: Destination
B4: 22200 | C4: 18 | D4: 90 | E4: 50 | G4: RCK | I4: MA 100 | K4: 96501 | L4: GENEVE | N4: ANNECY
B5: 25500 | C5: 16 | D5: 80 | E5: 50 | G5: SCK | I5: MA 80 | K5: 96505 | L5: GENEVE | N5: ANNEMASSE
B6: 26000 | C6: 18 | D6: 90 | E6: 50 | I6: MA 90 | K6: 96507 | L6: GENEVE | N6: BELLEGARDE
B7: 27000 | C7: 20 | D7: 90 | E7: 50 | I7: ME 100 | K7: 96509 | L7: GENEVE | N7: CHAMBERY
B8: 36000 | C8: 20 | D8: 90 | E8: 50 | I8: ME 120 | K8: 96511 | L8: GENEVE | N8: EVIAN
B9: 37000 | C9: 20 | D9: 89 | E9: 50 | I9: ME 140 | K9: 96515 | L9: GENEVE | N9: GENEVE
B10: - | C10: 0 | D10: 0 | E10: 0 | I10: MV 160 | K10: 96519 | L10: GENEVE | N10: GRENOBLE
I11: R 160 | K11: 96521 | L11: GENEVE | N11: LYON PART DIEU
I12: R 200 | K12: 96523 | L12: GENEVE | N12: LYON PERRACHE
I13: V 120 | K13: 96531 | L13: GENEVE | N13: PARIS GARE DE LYON
I14: V 140 | K14: 96550 | L14: LYON PART DIEU | N14: SAINT GERVAIS
I15: V 160 | K15: 96552 | L15: LYON PART DIEU | N15: VALENCE VILLE
I16: V 200 | K16: 96554 | L16: LYON PART DIEU
K17: 96558 | L17: LYON PART DIEU
K18: 96562 | L18: LYON PART DIEU
K19: 96564 | L19: LYON PART DIEU
K20: 96566 | L20: LYON PART DIEU
K21: 96570 | L21: LYON PART DIEU
K22: 96574 | L22: LYON PART DIEU
K23: 96578 | L23: LYON PART DIEU
K24: 96601 | L24: GENEVE
K25: 96605 | L25: GENEVE
K26: 96609 | L26: GENEVE
K27: 96613 | L27: GENEVE
K28: 96615 | L28: GENEVE
K29: 96617
K30: 96634
K31: 96638 | L31: GRENOBLE
K32: 96646 | L32: VALENCE VILLE
K33: 96648
K34: 96714
K35: 96720
K36: 96721
K37: 96723
K38: 96727
K39: 96742
K40: 96749
K41: 96752
K42: 96754
K43: 96755
K44: 96756
... K57: 884531
K58: 884539 | L58: EVIAN
K59: 884543 | L59: EVIAN
K68: 884605
K69: 884609
K70: 884613
K71: 884625
K72: 884629
K73: 884633

Sheet Codes - Voitures
B2: 1 | C2: 2 | D2: 3 | E2: 4
B3: Numéro de voiture | C3: Longueur | D3: Masse remorquée | E3: Masse freinée
B4: 31 87 354 2345-7 | C4: 26 | D4: 48 | E4: 64
B5: 31 87 354 2624-5 | C5: 26 | D5: 48 | E5: 64
B6: 31 87 354 3461-1 | C6: 26 | D6: 48 | E6: 64
B7: 31 87 354 3798-6 | C7: 26 | D7: 48 | E7: 64
B8: 31 87 354 4769-6 | C8: 26 | D8: 48 | E8: 64
B9: 31 87 354 6388-3 | C9: 26 | D9: 48 | E9: 64
B10: 81 87 353 8117-5 | C10: 26 | D10: 48 | E10: 64
B11: 81 87 353 8732-1 | C11: 26 | D11: 48 | E11: 64

Sheet Relevé
B2: Composition | D2: N° de série | E2: Nombre | F2: Longueur | G2: Masse remorquée | H2: Masse freinée
B3: Tête | C3: Machine de remorque (sauf pousse) | D3: 22200 | E3: =IF($D3="","",IF($D3="-",0,1)) -> 1 | F3: =IF($D3="","",VLOOKUP($D3,TABLEAU_MACHINE,2,0)) -> 18 | G3: =IF($D3="","",VLOOKUP($D3,TABLEAU_MACHINE,3,0)) -> 90 | H3: =IF($D3="","",VLOOKUP($D3,TABLEAU_MACHINE,4,0)) -> 50
C4: Machine en véhicule | D4: - | E4: =IF($D4="","",IF($D4="-",0,1)) -> 0 | F4: =IF($D4="","",VLOOKUP($D4,TABLEAU_MACHINE,2,0)) -> 0 | G4: =IF($D4="","",VLOOKUP($D4,TABLEAU_MACHINE,3,0)) -> 0 | H4: =IF($D4="","",VLOOKUP($D4,TABLEAU_MACHINE,4,0)) -> 0
C5: Machine de pousse | D5: - | E5: =IF($D5="","",IF($D5="-",0,1)) -> 0 | F5: =IF($D5="","",VLOOKUP($D5,TABLEAU_MACHINE,2,0)) -> 0 | G5: =IF($D5="","",VLOOKUP($D5,TABLEAU_MACHINE,3,0)) -> 0 | H5: =IF($D5="","",VLOOKUP($D5,TABLEAU_MACHINE,4,0)) -> 0
C6: Véhicule 1 | D6: 31 87 354 2345-7 | E6: =IF($D6="","",1) -> 1 | F6: =IF($D6="","",VLOOKUP($D6,TABLEAU_VOITURE,2,0)) -> 26 | G6: =IF($D6="","",VLOOKUP($D6,TABLEAU_VOITURE,3,0)) -> 48 | H6: =IF($D6="","",VLOOKUP($D6,TABLEAU_VOITURE,4,0)) -> 64
C7: Véhicule 2 | D7: 31 87 354 2624-5 | E7: =IF($D7="","",1) -> 1 | F7: =IF($D7="","",VLOOKUP($D7,TABLEAU_VOITURE,2,0)) -> 26 | G7: =IF($D7="","",VLOOKUP($D7,TABLEAU_VOITURE,3,0)) -> 48 | H7: =IF($D7="","",VLOOKUP($D7,TABLEAU_VOITURE,4,0)) -> 64
C8: Véhicule 3 | D8: 31 87 354 3461-1 | E8: =IF($D8="","",1) -> 1 | F8: =IF($D8="","",VLOOKUP($D8,TABLEAU_VOITURE,2,0)) -> 26 | G8: =IF($D8="","",VLOOKUP($D8,TABLEAU_VOITURE,3,0)) -> 48 | H8: =IF($D8="","",VLOOKUP($D8,TABLEAU_VOITURE,4,0)) -> 64
C9: Véhicule 4 | D9: 31 87 354 3798-6 | E9: =IF($D9="","",1) -> 1 | F9: =IF($D9="","",VLOOKUP($D9,TABLEAU_VOITURE,2,0)) -> 26 | G9: =IF($D9="","",VLOOKUP($D9,TABLEAU_VOITURE,3,0)) -> 48 | H9: =IF($D9="","",VLOOKUP($D9,TABLEAU_VOITURE,4,0)) -> 64
C10: Véhicule 5 | D10: 31 87 354 4769-6 | E10: =IF($D10="","",1) -> 1 | F10: =IF($D10="","",VLOOKUP($D10,TABLEAU_VOITURE,2,0)) -> 26 | G10: =IF($D10="","",VLOOKUP($D10,TABLEAU_VOITURE,3,0)) -> 48 | H10: =IF($D10="","",VLOOKUP($D10,TABLEAU_VOITURE,4,0)) -> 64
C11: Véhicule 6 | D11: 31 87 354 6388-3 | E11: =IF($D11="","",1) -> 1 | F11: =IF($D11="","",VLOOKUP($D11,TABLEAU_VOITURE,2,0)) -> 26 | G11: =IF($D11="","",VLOOKUP($D11,TABLEAU_VOITURE,3,0)) -> 48 | H11: =IF($D11="","",VLOOKUP($D11,TABLEAU_VOITURE,4,0)) -> 64
C12: Véhicule 7 | D12: 81 87 353 8117-5 | E12: =IF($D12="","",1) -> 1 | F12: =IF($D12="","",VLOOKUP($D12,TABLEAU_VOITURE,2,0)) -> 26 | G12: =IF($D12="","",VLOOKUP($D12,TABLEAU_VOITURE,3,0)) -> 48 | H12: =IF($D12="","",VLOOKUP($D12,TABLEAU_VOITURE,4,0)) -> 64
C13: Véhicule 8 | D13: 81 87 353 8732-1 | E13: =IF($D13="","",1) -> 1 | F13: =IF($D13="","",VLOOKUP($D13,TABLEAU_VOITURE,2,0)) -> 26 | G13: =IF($D13="","",VLOOKUP($D13,TABLEAU_VOITURE,3,0)) -> 48 | H13: =IF($D13="","",VLOOKUP($D13,TABLEAU_VOITURE,4,0)) -> 64
C14: Véhicule 9 | E14: =IF($D14="","",1) | F14: =IF($D14="","",VLOOKUP($D14,TABLEAU_VOITURE,2,0)) | G14: =IF($D14="","",VLOOKUP($D14,TABLEAU_VOITURE,3,0)) | H14: =IF($D14="","",VLOOKUP($D14,TABLEAU_VOITURE,4,0))
B15: Queue | C15: Véhicule 10 | E15: =IF($D15="","",1) | F15: =IF($D15="","",VLOOKUP($D15,TABLEAU_VOITURE,2,0)) | G15: =IF($D15="","",VLOOKUP($D15,TABLEAU_VOITURE,3,0)) | H15: =IF($D15="","",VLOOKUP($D15,TABLEAU_VOITURE,4,0))
B16: Nombre total de véhicules | E16: =IF(SUM(VEHICULE)>0,SUM(VEHICULE),"") -> 8 | F16: =IF(SUM(LONGUEUR)>0,SUM(LONGUEUR),"") -> 208 | G16: =IF(SUM(MASSE_REMORQUEE)>0,SUM(MASSE_REMORQUEE),"") -> 384 | H16: =IF(SUM(MASSE_FREINEE)>0,SUM(MASSE_FREINEE),"") -> 512
B17: TOTAL TRAIN | E17: =SUM($E$3+$E$4+$E$5+$E$16) -> 9 | F17: =SUM($F$3+$F$4+$F$5+$F$16) -> 226 | G17: =SUM($G$3+$G$4+$G$5+$G$16) -> 474 | H17: =SUM($H$3+$H$4+$H$5+$H$16) -> 562

Sheet Bulletin de freinage
B1: Bulletin de freinage | L1: Masse totale du train | M1: Masse freinée à réaliser
L2: 40 | M2: 45
B3: Indice (ou code) de composition | E3: Train | F3: Date | G3: Destination | I3: Type Convoi Trafic | L3: 50 | M3: 56
L4: 60 | M4: 67
B5: MA 100 | E5: 96501 | F5: =IF($E$5="","",TODAY()) -> 45015 | G5: =IF($E$5="","",VLOOKUP($E$5,TABLEAU_TRAIN,2,0)) -> GENEVE | I5: RCK | L5: 70 | M5: 78
L6: 80 | M6: 90
B7: Observations - Cas exceptionnels - Incidents | L7: 90 | M7: 101
L8: 100 | M8: 112
L9: 110 | M9: 123
L10: 120 | M10: 134
L11: 130 | M11: 146
B12: Composition - Freinage | L12: 140 | M12: 157
B13: Au départ de | G13: LYON PART DIEU | L13: 150 | M13: 168
B14: NOMBRE | D14: Véhicules | G14: =Relevé!$E$16 -> 8 | L14: 160 | M14: 179
D15: Machine de remorque (sauf pousse) | G15: =Relevé!$E$3 -> 1 | L15: 170 | M15: 190
D16: Machine en véhicule | G16: =Relevé!$E$4 -> 0 | L16: 180 | M16: 202
D17: Machine de pousse | G17: =Relevé!$E$5 -> 0 | L17: 190 | M17: 213
D18: Total | G18: =IF(SUM(NOMBRE)>0,SUM(NOMBRE),"") -> 9 | L18: 200 | M18: 224
B19: LONGUEUR | D19: Véhicules | G19: =Relevé!$F$16 -> 208 | L19: 210 | M19: 235
D20: Machine de remorque (sauf pousse) | G20: =Relevé!$F$3 -> 18 | L20: 220 | M20: 246
D21: Machine en véhicule | G21: =Relevé!$F$4 -> 0 | L21: 230 | M21: 258
D22: Machine de pousse | G22: =Relevé!$F$5 -> 0 | L22: 240 | M22: 269
D23: Total | G23: =IF(SUM(LONGUEUR_1)>0,SUM(LONGUEUR_1),"") -> 226 | L23: 250 | M23: 280
B24: MASSE TOTALE DU TRAIN | D24: Véhicules | G24: =Relevé!$G$16 -> 384 | L24: 260 | M24: 291
D25: Machine de remorque (sauf pousse) | G25: =Relevé!$G$3 -> 90 | L25: 270 | M25: 302
D26: Machine en véhicule | G26: =Relevé!$G$4 -> 0 | L26: 280 | M26: 314
D27: Machine de pousse | G27: =Relevé!$G$5 -> 0 | L27: 290 | M27: 325
D28: Total | G28: =IF(SUM(MASSE)>0,SUM(MASSE),"") -> 474 | L28: 300 | M28: 336
B29: MASSE FREINEE | C29: NECESSAIRE | D29: Freinage forfaitaire | G29: =VLOOKUP(ROUNDUP(G28/10,0)*10,Masse_totale_du_train,2) -> 538 | L29: 310 | M29: 347
D30: Freinage d'arrêt | L30: 320 | M30: 358
D31: Freinage de dérive (FD) | L31: 330 | M31: 370
D32: FD de la 2ème moitié du train | L32: 340 | M32: 381
C33: REALISEE | D33: Véhicules | G33: =Relevé!$H$16 -> 512 | L33: 350 | M33: 392
D34: Machine de remorque (sauf pousse) | G34: =Relevé!$H$3 -> 50 | L34: 360 | M34: 403
D35: Machine en véhicule | G35: =Relevé!$H$4 -> 0 | L35: 370 | M35: 414
D36: Machine de pousse | G36: =Relevé!$H$5 -> 0 | L36: 380 | M36: 426
D37: FD de la 2ème moitié du train | L37: 390 | M37: 437
D38: Total | G38: =IF(SUM(REALISEE)>0,SUM(REALISEE),"") -> 562 | L38: 400 | M38: 448
L39: 410 | M39: 459
B40: SIGNATURES | E40: Agent formation | F40: Conducteurs | L40: 420 | M40: 470
E41: A | F41: B | L41: 430 | M41: 482
L42: 440 | M42: 493
L43: 450 | M43: 504
L44: 460 | M44: 515
L45: 470 | M45: 526
L46: 480 | M46: 538
L47: 490 | M47: 549
L48: 500 | M48: 560
L49: 510 | M49: 571
L50: 520 | M50: 582
L51: 530 | M51: 594
L52: 540 | M52: 605
L53: 550 | M53: 616
... L163: 1650 | M163: 1848
