Workbook

Sheet janvier 
A1: Date
A2: janvier | C2: matin | E2: après midi | G2: Total heures | H2: dont heures nuit
C3: emb | D3: deb | E3: emb | F3: deb
A4: LUNDI | B4: 1 | G4: =(D4-C4)+(F4-E4) -> 0 | I4: =IF(G4=0,"repos","") -> repos
A5: MARDI | B5: 2 | G5: =(D5-C5)+(F5-E5) -> 0 | I5: =IF(G5=0,"repos","") -> repos
A6: MERCREDI | B6: 3 | G6: =(D6-C6)+(F6-E6) -> 0 | I6: =IF(G6=0,"repos","") -> repos
A7: JEUDI | B7: 4 | G7: =(D7-C7)+(F7-E7) -> 0 | I7: =IF(G7=0,"repos","") -> repos
A8: VENDREDI | B8: 5 | G8: =(D8-C8)+(F8-E8) -> 0 | I8: =IF(G8=0,"repos","") -> repos
A9: SAMEDI | B9: 6 | G9: =(D9-C9)+(F9-E9) -> 0 | I9: =IF(G9=0,"repos","") -> repos
A10: DIMANCHE | B10: 7 | G10: =(D10-C10)+(F10-E10) -> 0 | I10: =IF(G10=0,"repos","") -> repos
A11: LUNDI | B11: 8 | G11: =(D11-C11)+(F11-E11) -> 0 | I11: =IF(G11=0,"repos","") -> repos
A12: MARDI | B12: 9 | G12: =(D12-C12)+(F12-E12) -> 0 | I12: =IF(G12=0,"repos","") -> repos
A13: MERCREDI | B13: 10 | G13: =(D13-C13)+(F13-E13) -> 0 | I13: =IF(G13=0,"repos","") -> repos
A14: JEUDI | B14: 11 | G14: =(D14-C14)+(F14-E14) -> 0 | I14: =IF(G14=0,"repos","") -> repos
A15: VENDREDI | B15: 12 | G15: =(D15-C15)+(F15-E15) -> 0 | I15: =IF(G15=0,"repos","") -> repos
... A34: MERCREDI | B34: 31 | G34: =(D34-C34)+(F34-E34) -> 0 | I34: =IF(G34=0,"repos","") -> repos
A35: Total heures | G35: =SUM(G4:G34) -> 0
A36: dont heures dimanche | G36: =G10+G17+G24+G31 -> 0
A37: dont heures jours fériés
A38: dont heures de nuit | G38: =SUM(H4:H34) -> 0

Sheet déclaration 01
H1: POLE TOURISME
H2: ETAT DES HEURES DU MOIS DE : JANVIER 2017
H4: Nom et prénom de l'agent :
B10: Jour | C10: Nb d'heures effectuées | D10: Heures complémentaires/ heures supplémentaires (à entourer en fonction) | F10: Total heures | G10: Heures de dimanche et jours fériés | I10: Total heures Dim et JF | J10: Heures de nuit | L10: Contrat de droit privé
D11: matin | E11: après midi | G11: matin | H11: après midi | J11: Heures de nuit | K11: Total des heures de nuit | L11: repas midi | M11: repas soir
D12: de à | E12: de à | G12: de à | H12: de à | J12: de à | L12: Case à cocher | M12: Case à cocher
A13: ='janvier '!A4 -> LUNDI | B13: ='janvier '!B4 -> 1 | C13: ='janvier '!G4 -> 0
A14: ='janvier '!A5 -> MARDI | B14: ='janvier '!B5 -> 2 | C14: ='janvier '!G5 -> 0
A15: ='janvier '!A6 -> MERCREDI | B15: ='janvier '!B6 -> 3 | C15: ='janvier '!G6 -> 0
A16: ='janvier '!A7 -> JEUDI | B16: ='janvier '!B7 -> 4 | C16: ='janvier '!G7 -> 0
A17: ='janvier '!A8 -> VENDREDI | B17: ='janvier '!B8 -> 5 | C17: ='janvier '!G8 -> 0
A18: ='janvier '!A9 -> SAMEDI | B18: ='janvier '!B9 -> 6 | C18: ='janvier '!G9 -> 0
A19: ='janvier '!A10 -> DIMANCHE | B19: ='janvier '!B10 -> 7 | C19: ='janvier '!G10 -> 0
A20: ='janvier '!A11 -> LUNDI | B20: ='janvier '!B11 -> 8 | C20: ='janvier '!G11 -> 0
A21: ='janvier '!A12 -> MARDI | B21: ='janvier '!B12 -> 9 | C21: ='janvier '!G12 -> 0
A22: ='janvier '!A13 -> MERCREDI | B22: ='janvier '!B13 -> 10 | C22: ='janvier '!G13 -> 0
A23: ='janvier '!A14 -> JEUDI | B23: ='janvier '!B14 -> 11 | C23: ='janvier '!G14 -> 0
A24: ='janvier '!A15 -> VENDREDI | B24: ='janvier '!B15 -> 12 | C24: ='janvier '!G15 -> 0
... A43: ='janvier '!A34 -> MERCREDI | B43: ='janvier '!B34 -> 31 | C43: ='janvier '!G34 -> 0
B44: TOTAL | C44: =SUM(C13:C43) -> 0
B45: Signature et certifié exact | H45: Nom et visa du chef de service
B46: L'agent

Sheet février
A1: Date
A2: février | C2: matin | E2: après midi | I2: Total heures | J2: dont heures nuit
C3: emb | D3: deb | E3: emb | F3: deb | G3: emb | H3: deb
A4: JEUDI | B4: 1 | I4: =(D4-C4)+(F4-E4)+(H4-G4) -> 0 | K4: =IF(I4=0,"repos","") -> repos
A5: VENDREDI | B5: 2 | I5: =(D5-C5)+(F5-E5)+(H5-G5) -> 0 | K5: =IF(I5=0,"repos","") -> repos
A6: SAMEDI | B6: 3 | I6: =(D6-C6)+(F6-E6)+(H6-G6) -> 0 | K6: =IF(I6=0,"repos","") -> repos
A7: DIMANCHE | B7: 4 | I7: =(D7-C7)+(F7-E7)+(H7-G7) -> 0 | K7: =IF(I7=0,"repos","") -> repos
A8: LUNDI | B8: 5 | I8: =(D8-C8)+(F8-E8)+(H8-G8) -> 0 | K8: =IF(I8=0,"repos","") -> repos
A9: MARDI | B9: 6 | I9: =(D9-C9)+(F9-E9)+(H9-G9) -> 0 | K9: =IF(I9=0,"repos","") -> repos
A10: MERCREDI | B10: 7 | I10: =(D10-C10)+(F10-E10)+(H10-G10) -> 0 | K10: =IF(I10=0,"repos","") -> repos
A11: JEUDI | B11: 8 | I11: =(D11-C11)+(F11-E11)+(H11-G11) -> 0 | K11: =IF(I11=0,"repos","") -> repos
A12: VENDREDI | B12: 9 | I12: =(D12-C12)+(F12-E12)+(H12-G12) -> 0 | K12: =IF(I12=0,"repos","") -> repos
A13: SAMEDI | B13: 10 | I13: =(D13-C13)+(F13-E13)+(H13-G13) -> 0 | K13: =IF(I13=0,"repos","") -> repos
A14: DIMANCHE | B14: 11 | I14: =(D14-C14)+(F14-E14)+(H14-G14) -> 0 | K14: =IF(I14=0,"repos","") -> repos
A15: LUNDI | B15: 12 | I15: =(D15-C15)+(F15-E15)+(H15-G15) -> 0 | K15: =IF(I15=0,"repos","") -> repos
... A31: MERCREDI | B31: 28 | I31: =(D31-C31)+(F31-E31)+(H31-G31) -> 0 | K31: =IF(I31=0,"repos","") -> repos
A32: Total heures | I32: =SUM(I4:I31) -> 0 | L32: ='janvier '!J35-février!I32 -> 0 | M32: =novembre!J34-décembre!G35 -> 0
A33: dont heures dimanche | I33: =I7+I14+I21+I28 -> 0
A34: dont heures jours fériés
A35: dont heures de nuit

Sheet déclaration 02
H1: POLE TOURISME
H2: ETAT DES HEURES DU MOIS DE : Février 2017
H4: Nom et prénom de l'agent :
B10: Jour | C10: Nb d'heures effectuées | D10: Heures complémentaires/ heures supplémentaires (à entourer en fonction) | F10: Total heures | G10: Heures de dimanche et jours fériés | I10: Total heures Dim et JF | J10: Heures de nuit | L10: Contrat de droit privé
D11: matin | E11: après midi | G11: matin | H11: après midi | J11: Heures de nuit | K11: Total des heures de nuit | L11: repas midi | M11: repas soir
D12: de à | E12: de à | G12: de à | H12: de à | J12: de à | L12: Case à cocher | M12: Case à cocher
A13: Mercredi | B13: ='janvier '!B4 -> 1 | C13: =février!I4 -> 0
A14: Jeudi | B14: ='janvier '!B5 -> 2 | C14: =février!I5 -> 0
A15: Vendredi | B15: ='janvier '!B6 -> 3 | C15: =février!I6 -> 0
A16: Samedi | B16: ='janvier '!B7 -> 4 | C16: =février!I7 -> 0
A17: Dimanche | B17: ='janvier '!B8 -> 5 | C17: =février!I8 -> 0
A18: Lundi | B18: ='janvier '!B9 -> 6 | C18: =février!I9 -> 0
A19: Mardi | B19: ='janvier '!B10 -> 7 | C19: =février!I10 -> 0
A20: Mercredi | B20: ='janvier '!B11 -> 8 | C20: =février!I11 -> 0
A21: Jeudi | B21: ='janvier '!B12 -> 9 | C21: =février!I12 -> 0
A22: Vendredi | B22: ='janvier '!B13 -> 10 | C22: =février!I13 -> 0
A23: Samedi | B23: ='janvier '!B14 -> 11 | C23: =février!I14 -> 0
A24: Dimanche | B24: ='janvier '!B15 -> 12 | C24: =février!I15 -> 0
... A40: Mardi | B40: ='janvier '!B31 -> 28 | C40: =février!I31 -> 0
B44: TOTAL | C44: =SUM(C13:C43) -> 0
B45: Signature et certifié exact | H45: Nom et visa du chef de service
B46: L'agent

Sheet janvier _2
A1: Date
A2: janvier | C2: matin | E2: après midi | G2: Total heures | H2: dont heures nuit
C3: emb | D3: deb | E3: emb | F3: deb
A4: LUNDI | B4: 1 | G4: =(D4-C4)+(F4-E4) -> 0 | I4: =IF(G4=0,"repos","") -> repos
A5: MARDI | B5: 2 | G5: =(D5-C5)+(F5-E5) -> 0 | I5: =IF(G5=0,"repos","") -> repos
A6: MERCREDI | B6: 3 | G6: =(D6-C6)+(F6-E6) -> 0 | I6: =IF(G6=0,"repos","") -> repos
A7: JEUDI | B7: 4 | G7: =(D7-C7)+(F7-E7) -> 0 | I7: =IF(G7=0,"repos","") -> repos
A8: VENDREDI | B8: 5 | G8: =(D8-C8)+(F8-E8) -> 0 | I8: =IF(G8=0,"repos","") -> repos
A9: SAMEDI | B9: 6 | G9: =(D9-C9)+(F9-E9) -> 0 | I9: =IF(G9=0,"repos","") -> repos
A10: DIMANCHE | B10: 7 | G10: =(D10-C10)+(F10-E10) -> 0 | I10: =IF(G10=0,"repos","") -> repos
A11: LUNDI | B11: 8 | G11: =(D11-C11)+(F11-E11) -> 0 | I11: =IF(G11=0,"repos","") -> repos
A12: MARDI | B12: 9 | G12: =(D12-C12)+(F12-E12) -> 0 | I12: =IF(G12=0,"repos","") -> repos
A13: MERCREDI | B13: 10 | G13: =(D13-C13)+(F13-E13) -> 0 | I13: =IF(G13=0,"repos","") -> repos
A14: JEUDI | B14: 11 | G14: =(D14-C14)+(F14-E14) -> 0 | I14: =IF(G14=0,"repos","") -> repos
A15: VENDREDI | B15: 12 | G15: =(D15-C15)+(F15-E15) -> 0 | I15: =IF(G15=0,"repos","") -> repos
... A34: MERCREDI | B34: 31 | G34: =(D34-C34)+(F34-E34) -> 0 | I34: =IF(G34=0,"repos","") -> repos
A35: Total heures | G35: =SUM(G4:G34) -> 0
A36: dont heures dimanche | G36: =G10+G17+G24+G31 -> 0
A37: dont heures jours fériés
A38: dont heures de nuit | G38: =SUM(H4:H34) -> 0

Sheet déclaration 01_2
H1: POLE TOURISME
H2: ETAT DES HEURES DU MOIS DE : JANVIER 2017
H4: Nom et prénom de l'agent :
B10: Jour | C10: Nb d'heures effectuées | D10: Heures complémentaires/ heures supplémentaires (à entourer en fonction) | F10: Total heures | G10: Heures de dimanche et jours fériés | I10: Total heures Dim et JF | J10: Heures de nuit | L10: Contrat de droit privé
D11: matin | E11: après midi | G11: matin | H11: après midi | J11: Heures de nuit | K11: Total des heures de nuit | L11: repas midi | M11: repas soir
D12: de à | E12: de à | G12: de à | H12: de à | J12: de à | L12: Case à cocher | M12: Case à cocher
A13: ='janvier '!A4 -> LUNDI | B13: ='janvier '!B4 -> 1 | C13: ='janvier '!G4 -> 0
A14: ='janvier '!A5 -> MARDI | B14: ='janvier '!B5 -> 2 | C14: ='janvier '!G5 -> 0
A15: ='janvier '!A6 -> MERCREDI | B15: ='janvier '!B6 -> 3 | C15: ='janvier '!G6 -> 0
A16: ='janvier '!A7 -> JEUDI | B16: ='janvier '!B7 -> 4 | C16: ='janvier '!G7 -> 0
A17: ='janvier '!A8 -> VENDREDI | B17: ='janvier '!B8 -> 5 | C17: ='janvier '!G8 -> 0
A18: ='janvier '!A9 -> SAMEDI | B18: ='janvier '!B9 -> 6 | C18: ='janvier '!G9 -> 0
A19: ='janvier '!A10 -> DIMANCHE | B19: ='janvier '!B10 -> 7 | C19: ='janvier '!G10 -> 0
A20: ='janvier '!A11 -> LUNDI | B20: ='janvier '!B11 -> 8 | C20: ='janvier '!G11 -> 0
A21: ='janvier '!A12 -> MARDI | B21: ='janvier '!B12 -> 9 | C21: ='janvier '!G12 -> 0
A22: ='janvier '!A13 -> MERCREDI | B22: ='janvier '!B13 -> 10 | C22: ='janvier '!G13 -> 0
A23: ='janvier '!A14 -> JEUDI | B23: ='janvier '!B14 -> 11 | C23: ='janvier '!G14 -> 0
A24: ='janvier '!A15 -> VENDREDI | B24: ='janvier '!B15 -> 12 | C24: ='janvier '!G15 -> 0
... A43: ='janvier '!A34 -> MERCREDI | B43: ='janvier '!B34 -> 31 | C43: ='janvier '!G34 -> 0
B44: TOTAL | C44: =SUM(C13:C43) -> 0
B45: Signature et certifié exact | H45: Nom et visa du chef de service
B46: L'agent

Sheet février_2
A1: Date
A2: février | C2: matin | E2: après midi | I2: Total heures | J2: dont heures nuit
C3: emb | D3: deb | E3: emb | F3: deb | G3: emb | H3: deb
A4: JEUDI | B4: 1 | I4: =(D4-C4)+(F4-E4)+(H4-G4) -> 0 | K4: =IF(I4=0,"repos","") -> repos
A5: VENDREDI | B5: 2 | I5: =(D5-C5)+(F5-E5)+(H5-G5) -> 0 | K5: =IF(I5=0,"repos","") -> repos
A6: SAMEDI | B6: 3 | I6: =(D6-C6)+(F6-E6)+(H6-G6) -> 0 | K6: =IF(I6=0,"repos","") -> repos
A7: DIMANCHE | B7: 4 | I7: =(D7-C7)+(F7-E7)+(H7-G7) -> 0 | K7: =IF(I7=0,"repos","") -> repos
A8: LUNDI | B8: 5 | I8: =(D8-C8)+(F8-E8)+(H8-G8) -> 0 | K8: =IF(I8=0,"repos","") -> repos
A9: MARDI | B9: 6 | I9: =(D9-C9)+(F9-E9)+(H9-G9) -> 0 | K9: =IF(I9=0,"repos","") -> repos
A10: MERCREDI | B10: 7 | I10: =(D10-C10)+(F10-E10)+(H10-G10) -> 0 | K10: =IF(I10=0,"repos","") -> repos
A11: JEUDI | B11: 8 | I11: =(D11-C11)+(F11-E11)+(H11-G11) -> 0 | K11: =IF(I11=0,"repos","") -> repos
A12: VENDREDI | B12: 9 | I12: =(D12-C12)+(F12-E12)+(H12-G12) -> 0 | K12: =IF(I12=0,"repos","") -> repos
A13: SAMEDI | B13: 10 | I13: =(D13-C13)+(F13-E13)+(H13-G13) -> 0 | K13: =IF(I13=0,"repos","") -> repos
A14: DIMANCHE | B14: 11 | I14: =(D14-C14)+(F14-E14)+(H14-G14) -> 0 | K14: =IF(I14=0,"repos","") -> repos
A15: LUNDI | B15: 12 | I15: =(D15-C15)+(F15-E15)+(H15-G15) -> 0 | K15: =IF(I15=0,"repos","") -> repos
... A31: MERCREDI | B31: 28 | I31: =(D31-C31)+(F31-E31)+(H31-G31) -> 0 | K31: =IF(I31=0,"repos","") -> repos
A32: Total heures | I32: =SUM(I4:I31) -> 0 | L32: ='janvier '!J35-février!I32 -> 0 | M32: =novembre!J34-décembre!G35 -> 0
A33: dont heures dimanche | I33: =I7+I14+I21+I28 -> 0
A34: dont heures jours fériés
A35: dont heures de nuit

Sheet déclaration 02_2
H1: POLE TOURISME
H2: ETAT DES HEURES DU MOIS DE : Février 2017
H4: Nom et prénom de l'agent :
B10: Jour | C10: Nb d'heures effectuées | D10: Heures complémentaires/ heures supplémentaires (à entourer en fonction) | F10: Total heures | G10: Heures de dimanche et jours fériés | I10: Total heures Dim et JF | J10: Heures de nuit | L10: Contrat de droit privé
D11: matin | E11: après midi | G11: matin | H11: après midi | J11: Heures de nuit | K11: Total des heures de nuit | L11: repas midi | M11: repas soir
D12: de à | E12: de à | G12: de à | H12: de à | J12: de à | L12: Case à cocher | M12: Case à cocher
A13: Mercredi | B13: ='janvier '!B4 -> 1 | C13: =février!I4 -> 0
A14: Jeudi | B14: ='janvier '!B5 -> 2 | C14: =février!I5 -> 0
A15: Vendredi | B15: ='janvier '!B6 -> 3 | C15: =février!I6 -> 0
A16: Samedi | B16: ='janvier '!B7 -> 4 | C16: =février!I7 -> 0
A17: Dimanche | B17: ='janvier '!B8 -> 5 | C17: =février!I8 -> 0
A18: Lundi | B18: ='janvier '!B9 -> 6 | C18: =février!I9 -> 0
A19: Mardi | B19: ='janvier '!B10 -> 7 | C19: =février!I10 -> 0
A20: Mercredi | B20: ='janvier '!B11 -> 8 | C20: =février!I11 -> 0
A21: Jeudi | B21: ='janvier '!B12 -> 9 | C21: =février!I12 -> 0
A22: Vendredi | B22: ='janvier '!B13 -> 10 | C22: =février!I13 -> 0
A23: Samedi | B23: ='janvier '!B14 -> 11 | C23: =février!I14 -> 0
A24: Dimanche | B24: ='janvier '!B15 -> 12 | C24: =février!I15 -> 0
... A40: Mardi | B40: ='janvier '!B31 -> 28 | C40: =février!I31 -> 0
B44: TOTAL | C44: =SUM(C13:C43) -> 0
B45: Signature et certifié exact | H45: Nom et visa du chef de service
B46: L'agent

Sheet mars_2
A1: Date
A2: mars | C2: matin | E2: après midi | G2: Total heures | H2: dont heures nuit
C3: emb | D3: deb | E3: emb | F3: deb
A4: JEUDI | B4: 1 | G4: =(D4-C4)+(F4-E4) -> 0
A5: VENDREDI | B5: 2 | G5: =(D5-C5)+(F5-E5) -> 0
A6: SAMEDI | B6: 3 | G6: =(D6-C6)+(F6-E6) -> 0
A7: DIMANCHE | B7: 4 | G7: =(D7-C7)+(F7-E7) -> 0
A8: LUNDI | B8: 5 | G8: =(D8-C8)+(F8-E8) -> 0
A9: MARDI | B9: 6 | G9: =(D9-C9)+(F9-E9) -> 0
A10: MERCREDI | B10: 7 | G10: =(D10-C10)+(F10-E10) -> 0
A11: JEUDI | B11: 8 | G11: =(D11-C11)+(F11-E11) -> 0
A12: VENDREDI | B12: 9 | G12: =(D12-C12)+(F12-E12) -> 0
A13: SAMEDI | B13: 10 | G13: =(D13-C13)+(F13-E13) -> 0
A14: DIMANCHE | B14: 11 | G14: =(D14-C14)+(F14-E14) -> 0
A15: LUNDI | B15: 12 | G15: =(D15-C15)+(F15-E15) -> 0
... A34: SAMEDI | B34: 31 | G34: =(D34-C34)+(F34-E34) -> 0
A35: Total heures | G35: =SUM(G4:G34) -> 0
A36: dont heures dimanche | G36: =G7+G14+G21+G28 -> 0
A37: dont heures jours fériés
A38: dont heures de nuit | G38: =SUM(H4:H34) -> 0

Sheet mars
A1: Date
A2: mars | C2: matin | E2: après midi | G2: Total heures | H2: dont heures nuit
C3: emb | D3: deb | E3: emb | F3: deb
A4: JEUDI | B4: 1 | G4: =(D4-C4)+(F4-E4) -> 0
A5: VENDREDI | B5: 2 | G5: =(D5-C5)+(F5-E5) -> 0
A6: SAMEDI | B6: 3 | G6: =(D6-C6)+(F6-E6) -> 0
A7: DIMANCHE | B7: 4 | G7: =(D7-C7)+(F7-E7) -> 0
A8: LUNDI | B8: 5 | G8: =(D8-C8)+(F8-E8) -> 0
A9: MARDI | B9: 6 | G9: =(D9-C9)+(F9-E9) -> 0
A10: MERCREDI | B10: 7 | G10: =(D10-C10)+(F10-E10) -> 0
A11: JEUDI | B11: 8 | G11: =(D11-C11)+(F11-E11) -> 0
A12: VENDREDI | B12: 9 | G12: =(D12-C12)+(F12-E12) -> 0
A13: SAMEDI | B13: 10 | G13: =(D13-C13)+(F13-E13) -> 0
A14: DIMANCHE | B14: 11 | G14: =(D14-C14)+(F14-E14) -> 0
A15: LUNDI | B15: 12 | G15: =(D15-C15)+(F15-E15) -> 0
... A34: SAMEDI | B34: 31 | G34: =(D34-C34)+(F34-E34) -> 0
A35: Total heures | G35: =SUM(G4:G34) -> 0
A36: dont heures dimanche | G36: =G7+G14+G21+G28 -> 0
A37: dont heures jours fériés
A38: dont heures de nuit | G38: =SUM(H4:H34) -> 0

Sheet déclaration 03
H1: POLE TOURISME
H2: ETAT DES HEURES DU MOIS DE : Mars 2017
H4: Nom et prénom de l'agent :
B10: Jour | C10: Nb d'heures effectuées | D10: Heures complémentaires/ heures supplémentaires (à entourer en fonction) | F10: Total heures | G10: Heures de dimanche et jours fériés | I10: Total heures Dim et JF | J10: Heures de nuit | L10: Contrat de droit privé
D11: matin | E11: après midi | G11: matin | H11: après midi | J11: Heures de nuit | K11: Total des heures de nuit | L11: repas midi | M11: repas soir
D12: de à | E12: de à | G12: de à | H12: de à | J12: de à | L12: Case à cocher | M12: Case à cocher
A13: MERCREDI | B13: =mars!B4 -> 1 | C13: =mars!G4 -> 0
A14: JEUDI | B14: =mars!B5 -> 2 | C14: =mars!G5 -> 0
A15: VENDREDI | B15: =mars!B6 -> 3 | C15: =mars!G6 -> 0
A16: SAMEDI | B16: =mars!B7 -> 4 | C16: =mars!G7 -> 0
A17: DIMANCHE | B17: =mars!B8 -> 5 | C17: =mars!G8 -> 0
A18: LUNDI | B18: =mars!B9 -> 6 | C18: =mars!G9 -> 0
A19: MARDI | B19: =mars!B10 -> 7 | C19: =mars!G10 -> 0
A20: MERCREDI | B20: =mars!B11 -> 8 | C20: =mars!G11 -> 0
A21: JEUDI | B21: =mars!B12 -> 9 | C21: =mars!G12 -> 0
A22: VENDREDI | B22: =mars!B13 -> 10 | C22: =mars!G13 -> 0
A23: SAMEDI | B23: =mars!B14 -> 11 | C23: =mars!G14 -> 0
A24: DIMANCHE | B24: =mars!B15 -> 12 | C24: =mars!G15 -> 0
... A43: VENDREDI | B43: =mars!B34 -> 31 | C43: =mars!G34 -> 0
B44: TOTAL | C44: =SUM(C13:C43) -> 0
B45: Signature et certifié exact | H45: Nom et visa du chef de service
B46: L'agent

Sheet PARAMETRES
A1: JOURS FERIES
A3: 45658 | B3: JOUR DE L'AN
A4: 45768 | B4: LUNDI DE Pâques
A5: 45778 | B5: FETE DU TRAVAIL
A6: 45785 | B6: ARMISTICE 1945
A7: 45806 | B7: ASCENION
A8: 45817 | B8: LUNDI DE PENTECOTE
A9: 45852 | B9: FETE NATIONALE
A10: 45884 | B10: ASSOMPTION
A11: 45962 | B11: ARMISTICE 1918
A12: 46016 | B12: NOEL

Sheet janvier
A1: Date
A2: 45658 | D2: matin | F2: après midi | H2: Total heures | I2: dont heures nuit
C3: Férié | D3: emb | E3: deb | F3: emb | G3: deb
A4: 45658 | B4: =A4 -> 45658 | C4: =IF(OR(ISNUMBER(MATCH(A4,PARAMETRES!A3:A12,0)),WEEKDAY(A4,2)=7),"F","") -> F | D4: 0.39583333 | E4: 0.5 | H4: =IF(C4="F",((E4-D4)+(G4-F4))*2,(E4-D4)+(G4-F4)) -> 0.20833333 | K4: Les heures de jour férié sont doublées
A5: 45659 | B5: =A5 -> 45659 | C5: =IF(OR(ISNUMBER(MATCH(A5,PARAMETRES!A4:A13,0)),WEEKDAY(A5,2)=7),"F","") | F5: 0.58333333 | G5: 0.70833333 | H5: =IF(C5="F",((E5-D5)+(G5-F5))*2,(E5-D5)+(G5-F5)) -> 0.125 | K5: Le F pour férié se met automatiquement
A6: 45660 | B6: =A6 -> 45660 | C6: =IF(OR(ISNUMBER(MATCH(A6,PARAMETRES!A5:A14,0)),WEEKDAY(A6,2)=7),"F","") | H6: =IF(C6="F",((E6-D6)+(G6-F6))*2,(E6-D6)+(G6-F6)) -> 0 | K6: Pour les dates il faut entrer la date dans la colonne A. Les formats des colonnes A et B sont personnalisés.
A7: 45661 | B7: =A7 -> 45661 | C7: =IF(OR(ISNUMBER(MATCH(A7,PARAMETRES!A6:A15,0)),WEEKDAY(A7,2)=7),"F","") | H7: =IF(C7="F",((E7-D7)+(G7-F7))*2,(E7-D7)+(G7-F7)) -> 0
A8: 45662 | B8: =A8 -> 45662 | C8: =IF(OR(ISNUMBER(MATCH(A8,PARAMETRES!A7:A16,0)),WEEKDAY(A8,2)=7),"F","") -> F | H8: =IF(C8="F",((E8-D8)+(G8-F8))*2,(E8-D8)+(G8-F8)) -> 0
A9: 45663 | B9: =A9 -> 45663 | C9: =IF(OR(ISNUMBER(MATCH(A9,PARAMETRES!A8:A17,0)),WEEKDAY(A9,2)=7),"F","") | H9: =IF(C9="F",((E9-D9)+(G9-F9))*2,(E9-D9)+(G9-F9)) -> 0
A10: 45664 | B10: =A10 -> 45664 | C10: =IF(OR(ISNUMBER(MATCH(A10,PARAMETRES!A9:A18,0)),WEEKDAY(A10,2)=7),"F","") | H10: =IF(C10="F",((E10-D10)+(G10-F10))*2,(E10-D10)+(G10-F10)) -> 0
A11: 45665 | B11: =A11 -> 45665 | C11: =IF(OR(ISNUMBER(MATCH(A11,PARAMETRES!A10:A19,0)),WEEKDAY(A11,2)=7),"F","") | H11: =IF(C11="F",((E11-D11)+(G11-F11))*2,(E11-D11)+(G11-F11)) -> 0
A12: 45666 | B12: =A12 -> 45666 | C12: =IF(OR(ISNUMBER(MATCH(A12,PARAMETRES!A11:A20,0)),WEEKDAY(A12,2)=7),"F","") | H12: =IF(C12="F",((E12-D12)+(G12-F12))*2,(E12-D12)+(G12-F12)) -> 0
A13: 45667 | B13: =A13 -> 45667 | C13: =IF(OR(ISNUMBER(MATCH(A13,PARAMETRES!A12:A21,0)),WEEKDAY(A13,2)=7),"F","") | H13: =IF(C13="F",((E13-D13)+(G13-F13))*2,(E13-D13)+(G13-F13)) -> 0
A14: 45668 | B14: =A14 -> 45668 | C14: =IF(OR(ISNUMBER(MATCH(A14,PARAMETRES!A13:A22,0)),WEEKDAY(A14,2)=7),"F","") | H14: =IF(C14="F",((E14-D14)+(G14-F14))*2,(E14-D14)+(G14-F14)) -> 0
A15: 45669 | B15: =A15 -> 45669 | C15: =IF(OR(ISNUMBER(MATCH(A15,PARAMETRES!A14:A23,0)),WEEKDAY(A15,2)=7),"F","") -> F | H15: =IF(C15="F",((E15-D15)+(G15-F15))*2,(E15-D15)+(G15-F15)) -> 0
A16: 45670 | B16: =A16 -> 45670 | C16: =IF(OR(ISNUMBER(MATCH(A16,PARAMETRES!A15:A24,0)),WEEKDAY(A16,2)=7),"F","") | H16: =IF(C16="F",((E16-D16)+(G16-F16))*2,(E16-D16)+(G16-F16)) -> 0
A17: 45671 | B17: =A17 -> 45671 | C17: =IF(OR(ISNUMBER(MATCH(A17,PARAMETRES!A16:A25,0)),WEEKDAY(A17,2)=7),"F","") | H17: =IF(C17="F",((E17-D17)+(G17-F17))*2,(E17-D17)+(G17-F17)) -> 0
A18: 45672 | B18: =A18 -> 45672 | C18: =IF(OR(ISNUMBER(MATCH(A18,PARAMETRES!A17:A26,0)),WEEKDAY(A18,2)=7),"F","") | H18: =IF(C18="F",((E18-D18)+(G18-F18))*2,(E18-D18)+(G18-F18)) -> 0
... A34: 45688 | B34: =A34 -> 45688 | C34: =IF(OR(ISNUMBER(MATCH(A34,PARAMETRES!A33:A42,0)),WEEKDAY(A34,2)=7),"F","") | H34: =IF(C34="F",((E34-D34)+(G34-F34))*2,(E34-D34)+(G34-F34)) -> 0
A35: Total heures | H35: =SUM(H4:H34) -> 0.33333333
A36: dont heures dimanche | H36: =H9+H16+H23+H30 -> 0
A37: dont heures jours fériés | H37: =SUMIF(C4:C34,"F",H4:H34) -> 0.20833333
A38: dont heures de nuit | H38: =SUM(I4:I34) -> 0
A40: Signature et certifié exact | H40: Gérant ou co-gérant
A41: Employé

Sheet fevrier
A1: Date
A2: 45689 | C2: matin | E2: après midi | G2: Total heures | H2: dont heures nuit
C3: emb | D3: deb | E3: emb | F3: deb
A4: SAMEDI | B4: 1 | G4: =(D4-C4)+(F4-E4) -> 0
A5: DIMANCHE | B5: 2 | G5: =(D5-C5)+(F5-E5) -> 0
A6: LUNDI | B6: 3 | G6: =(D6-C6)+(F6-E6) -> 0
A7: MARDI | B7: 4 | G7: =(D7-C7)+(F7-E7) -> 0
A8: MERCREDI | B8: 5 | G8: =(D8-C8)+(F8-E8) -> 0
A9: JEUDI | B9: 6 | G9: =(D9-C9)+(F9-E9) -> 0
A10: VENDREDI | B10: 7 | G10: =(D10-C10)+(F10-E10) -> 0
A11: SAMEDI | B11: 8 | G11: =(D11-C11)+(F11-E11) -> 0
A12: DIMANCHE | B12: 9 | G12: =(D12-C12)+(F12-E12) -> 0
A13: LUNDI | B13: 10 | G13: =(D13-C13)+(F13-E13) -> 0
A14: MARDI | B14: 11 | G14: =(D14-C14)+(F14-E14) -> 0
A15: MERCREDI | B15: 12 | G15: =(D15-C15)+(F15-E15) -> 0
... A34: SAMEDI | B34: 31 | G34: =(D34-C34)+(F34-E34) -> 0
A35: Total heures | G35: =SUM(G4:G34)+(G4) -> 0
A36: dont heures dimanche | G36: =G9+G16+G23+G30 -> 0
A37: dont heures jours fériés | G37: =G24+G13+G11+G4 -> 0
A38: dont heures de nuit | G38: =SUM(H4:H34) -> 0
A40: Signature et certifié exact | G40: Gérant ou co-gérant
A41: Employé

Sheet mar
A1: Date
A2: 45719 | C2: matin | E2: après midi | G2: Total heures | H2: dont heures nuit
C3: emb | D3: deb | E3: emb | F3: deb
A4: SAMEDI | B4: 1 | G4: =(D4-C4)+(F4-E4) -> 0
A5: DIMANCHE | B5: 2 | G5: =(D5-C5)+(F5-E5) -> 0
A6: LUNDI | B6: 3 | G6: =(D6-C6)+(F6-E6) -> 0
A7: MARDI | B7: 4 | G7: =(D7-C7)+(F7-E7) -> 0
A8: MERCREDI | B8: 5 | G8: =(D8-C8)+(F8-E8) -> 0
A9: JEUDI | B9: 6 | G9: =(D9-C9)+(F9-E9) -> 0
A10: VENDREDI | B10: 7 | G10: =(D10-C10)+(F10-E10) -> 0
A11: SAMEDI | B11: 8 | G11: =(D11-C11)+(F11-E11) -> 0
A12: DIMANCHE | B12: 9 | G12: =(D12-C12)+(F12-E12) -> 0
A13: LUNDI | B13: 10 | G13: =(D13-C13)+(F13-E13) -> 0
A14: MARDI | B14: 11 | G14: =(D14-C14)+(F14-E14) -> 0
A15: MERCREDI | B15: 12 | G15: =(D15-C15)+(F15-E15) -> 0
... A34: LUNDI | B34: 31 | G34: =(D34-C34)+(F34-E34) -> 0
A35: Total heures | G35: =SUM(G4:G34)+(G4) -> 0
A36: dont heures dimanche | G36: =G9+G16+G23+G30 -> 0
A37: dont heures jours fériés | G37: =G24+G13+G11+G4 -> 0
A38: dont heures de nuit | G38: =SUM(H4:H34) -> 0
A40: Signature et certifié exact | G40: Gérant ou co-gérant
A41: Employé

Sheet avril
A1: Date
A2: 45751 | C2: matin | E2: après midi | G2: Total heures | H2: dont heures nuit
C3: emb | D3: deb | E3: emb | F3: deb
A4: MARDI | B4: 1 | G4: =(D4-C4)+(F4-E4) -> 0
A5: MERCREDI | B5: 2 | G5: =(D5-C5)+(F5-E5) -> 0
A6: JEUDI | B6: 3 | G6: =(D6-C6)+(F6-E6) -> 0
A7: VENDREDI | B7: 4 | G7: =(D7-C7)+(F7-E7) -> 0
A8: SAMEDI | B8: 5 | G8: =(D8-C8)+(F8-E8) -> 0
A9: DIMANCHE | B9: 6 | G9: =(D9-C9)+(F9-E9) -> 0
A10: LUNDI | B10: 7 | G10: =(D10-C10)+(F10-E10) -> 0
A11: MARDI | B11: 8 | G11: =(D11-C11)+(F11-E11) -> 0
A12: MERCREDI | B12: 9 | G12: =(D12-C12)+(F12-E12) -> 0
A13: JEUDI | B13: 10 | G13: =(D13-C13)+(F13-E13) -> 0
A14: VENDREDI | B14: 11 | G14: =(D14-C14)+(F14-E14) -> 0
A15: SAMEDI | B15: 12 | G15: =(D15-C15)+(F15-E15) -> 0
... A34: SAMEDI | B34: 31 | G34: =(D34-C34)+(F34-E34) -> 0
A35: Total heures | G35: =SUM(G4:G34)+(G4) -> 0
A36: dont heures dimanche | G36: =G9+G16+G23+G30 -> 0
A37: dont heures jours fériés | G37: =G24+G13+G11+G4 -> 0
A38: dont heures de nuit | G38: =SUM(H4:H34) -> 0
A40: Signature et certifié exact | G40: Gérant ou co-gérant
A41: Employé

Sheet mai
A1: Date
A2: 45778 | C2: matin | E2: après midi | G2: Total heures | H2: dont heures nuit
C3: emb | D3: deb | E3: emb | F3: deb
A4: JEUDI | B4: 1 | G4: =(D4-C4)+(F4-E4) -> 0
A5: VENDREDI | B5: 2 | G5: =(D5-C5)+(F5-E5) -> 0
A6: SAMEDI | B6: 3 | G6: =(D6-C6)+(F6-E6) -> 0
A7: DIMANCHE | B7: 4 | G7: =(D7-C7)+(F7-E7) -> 0
A8: LUNDI | B8: 5 | G8: =(D8-C8)+(F8-E8) -> 0
A9: MARDI | B9: 6 | G9: =(D9-C9)+(F9-E9) -> 0
A10: MERCREDI | B10: 7 | G10: =(D10-C10)+(F10-E10) -> 0
A11: JEUDI | B11: 8 | G11: =(D11-C11)+(F11-E11) -> 0
A12: VENDREDI | B12: 9 | G12: =(D12-C12)+(F12-E12) -> 0
A13: SAMEDI | B13: 10 | G13: =(D13-C13)+(F13-E13) -> 0
A14: DIMANCHE | B14: 11 | G14: =(D14-C14)+(F14-E14) -> 0
A15: LUNDI | B15: 12 | G15: =(D15-C15)+(F15-E15) -> 0
... A34: SAMEDI | B34: 31 | G34: =(D34-C34)+(F34-E34) -> 0
A35: Total heures | G35: =SUM(G4:G34)+(G4) -> 0
A36: dont heures dimanche | G36: =G9+G16+G23+G30 -> 0
A37: dont heures jours fériés | G37: =G24+G13+G11+G4 -> 0
A38: dont heures de nuit | G38: =SUM(H4:H34) -> 0
A40: Signature et certifié exact | G40: Gérant ou co-gérant
A41: Employé

Sheet juin
A1: Date
A2: 45809 | C2: matin | E2: après midi | G2: Total heures | H2: dont heures nuit
C3: emb | D3: deb | E3: emb | F3: deb
A4: DIMANCHE | B4: 1 | G4: =(D4-C4)+(F4-E4) -> 0
A5: LUNDI | B5: 2 | G5: =(D5-C5)+(F5-E5) -> 0
A6: MARDI | B6: 3 | G6: =(D6-C6)+(F6-E6) -> 0
A7: MERCREDI | B7: 4 | G7: =(D7-C7)+(F7-E7) -> 0
A8: JEUDI | B8: 5 | G8: =(D8-C8)+(F8-E8) -> 0
A9: VENDREDI | B9: 6 | G9: =(D9-C9)+(F9-E9) -> 0
A10: SAMEDI | B10: 7 | G10: =(D10-C10)+(F10-E10) -> 0
A11: DIMANCHE | B11: 8 | G11: =(D11-C11)+(F11-E11) -> 0
A12: LUNDI | B12: 9 | G12: =(D12-C12)+(F12-E12) -> 0
A13: MARDI | B13: 10 | G13: =(D13-C13)+(F13-E13) -> 0
A14: MERCREDI | B14: 11 | G14: =(D14-C14)+(F14-E14) -> 0
A15: JEUDI | B15: 12 | G15: =(D15-C15)+(F15-E15) -> 0
... A34: SAMEDI | B34: 31 | G34: =(D34-C34)+(F34-E34) -> 0
A35: Total heures | G35: =SUM(G4:G34)+(G4) -> 0
A36: dont heures dimanche | G36: =G9+G16+G23+G30 -> 0
A37: dont heures jours fériés | G37: =G24+G13+G11+G4 -> 0
A38: dont heures de nuit | G38: =SUM(H4:H34) -> 0
A40: Signature et certifié exact | G40: Gérant ou co-gérant
A41: Employé

Sheet juillet
A1: Date
A2: 45839 | C2: matin | E2: après midi | G2: Total heures | H2: dont heures nuit
C3: emb | D3: deb | E3: emb | F3: deb
A4: MARDI | B4: 1 | G4: =(D4-C4)+(F4-E4) -> 0
A5: MERCREDI | B5: 2 | G5: =(D5-C5)+(F5-E5) -> 0
A6: JEUDI | B6: 3 | G6: =(D6-C6)+(F6-E6) -> 0
A7: VENDREDI | B7: 4 | G7: =(D7-C7)+(F7-E7) -> 0
A8: SAMEDI | B8: 5 | G8: =(D8-C8)+(F8-E8) -> 0
A9: DIMANCHE | B9: 6 | G9: =(D9-C9)+(F9-E9) -> 0
A10: LUNDI | B10: 7 | G10: =(D10-C10)+(F10-E10) -> 0
A11: MARDI | B11: 8 | G11: =(D11-C11)+(F11-E11) -> 0
A12: MERCREDI | B12: 9 | G12: =(D12-C12)+(F12-E12) -> 0
A13: JEUDI | B13: 10 | G13: =(D13-C13)+(F13-E13) -> 0
A14: VENDREDI | B14: 11 | G14: =(D14-C14)+(F14-E14) -> 0
A15: SAMEDI | B15: 12 | G15: =(D15-C15)+(F15-E15) -> 0
... A34: JEUDI | B34: 31 | G34: =(D34-C34)+(F34-E34) -> 0
A35: Total heures | G35: =SUM(G4:G34)+(G4) -> 0
A36: dont heures dimanche | G36: =G9+G16+G23+G30 -> 0
A37: dont heures jours fériés | G37: =G24+G13+G11+G4 -> 0
A38: dont heures de nuit | G38: =SUM(H4:H34) -> 0
A40: Signature et certifié exact | G40: Gérant ou co-gérant
A41: Employé

Sheet aôut
A1: Date
A2: 45870 | C2: matin | E2: après midi | G2: Total heures | H2: dont heures nuit
C3: emb | D3: deb | E3: emb | F3: deb
A4: VENDREDI | B4: 1 | G4: =(D4-C4)+(F4-E4) -> 0
A5: SAMEDI | B5: 2 | G5: =(D5-C5)+(F5-E5) -> 0
A6: DIMANCHE | B6: 3 | G6: =(D6-C6)+(F6-E6) -> 0
A7: LUNDI | B7: 4 | G7: =(D7-C7)+(F7-E7) -> 0
A8: MARDI | B8: 5 | G8: =(D8-C8)+(F8-E8) -> 0
A9: MERCREDI | B9: 6 | G9: =(D9-C9)+(F9-E9) -> 0
A10: JEUDI | B10: 7 | G10: =(D10-C10)+(F10-E10) -> 0
A11: VENDREDI | B11: 8 | G11: =(D11-C11)+(F11-E11) -> 0
A12: SAMEDI | B12: 9 | G12: =(D12-C12)+(F12-E12) -> 0
A13: DIMANCHE | B13: 10 | G13: =(D13-C13)+(F13-E13) -> 0
A14: LUNDI | B14: 11 | G14: =(D14-C14)+(F14-E14) -> 0
A15: MARDI | B15: 12 | G15: =(D15-C15)+(F15-E15) -> 0
... A34: DIMANCHE | B34: 31 | G34: =(D34-C34)+(F34-E34) -> 0
A35: Total heures | G35: =SUM(G4:G34)+(G4) -> 0
A36: dont heures dimanche | G36: =G9+G16+G23+G30 -> 0
A37: dont heures jours fériés | G37: =G24+G13+G11+G4 -> 0
A38: dont heures de nuit | G38: =SUM(H4:H34) -> 0
A40: Signature et certifié exact | G40: Gérant ou co-gérant
A41: Employé

Sheet septembre
A1: Date
A2: 45901 | C2: matin | E2: après midi | G2: Total heures | H2: dont heures nuit
C3: emb | D3: deb | E3: emb | F3: deb
A4: LUNDI | B4: 1 | G4: =(D4-C4)+(F4-E4) -> 0
A5: MARDI | B5: 2 | G5: =(D5-C5)+(F5-E5) -> 0
A6: MERCREDI | B6: 3 | G6: =(D6-C6)+(F6-E6) -> 0
A7: JEUDI | B7: 4 | G7: =(D7-C7)+(F7-E7) -> 0
A8: VENDREDI | B8: 5 | G8: =(D8-C8)+(F8-E8) -> 0
A9: SAMEDI | B9: 6 | G9: =(D9-C9)+(F9-E9) -> 0
A10: DIMANCHE | B10: 7 | G10: =(D10-C10)+(F10-E10) -> 0
A11: LUNDI | B11: 8 | G11: =(D11-C11)+(F11-E11) -> 0
A12: MARDI | B12: 9 | G12: =(D12-C12)+(F12-E12) -> 0
A13: MERCREDI | B13: 10 | G13: =(D13-C13)+(F13-E13) -> 0
A14: JEUDI | B14: 11 | G14: =(D14-C14)+(F14-E14) -> 0
A15: VENDREDI | B15: 12 | G15: =(D15-C15)+(F15-E15) -> 0
... A34: SAMEDI | B34: 31 | G34: =(D34-C34)+(F34-E34) -> 0
A35: Total heures | G35: =SUM(G4:G34)+(G4) -> 0
A36: dont heures dimanche | G36: =G9+G16+G23+G30 -> 0
A37: dont heures jours fériés | G37: =G24+G13+G11+G4 -> 0
A38: dont heures de nuit | G38: =SUM(H4:H34) -> 0
A40: Signature et certifié exact | G40: Gérant ou co-gérant
A41: Employé

Sheet octobre
A1: Date
A2: 45931 | C2: matin | E2: après midi | G2: Total heures | H2: dont heures nuit
C3: emb | D3: deb | E3: emb | F3: deb
A4: MERCREDI | B4: 1 | G4: =(D4-C4)+(F4-E4) -> 0
A5: JEUDI | B5: 2 | G5: =(D5-C5)+(F5-E5) -> 0
A6: VENDREDI | B6: 3 | G6: =(D6-C6)+(F6-E6) -> 0
A7: SAMEDI | B7: 4 | G7: =(D7-C7)+(F7-E7) -> 0
A8: DIMANCHE | B8: 5 | G8: =(D8-C8)+(F8-E8) -> 0
A9: LUNDI | B9: 6 | G9: =(D9-C9)+(F9-E9) -> 0
A10: MARDI | B10: 7 | G10: =(D10-C10)+(F10-E10) -> 0
A11: MERCREDI | B11: 8 | G11: =(D11-C11)+(F11-E11) -> 0
A12: JEUDI | B12: 9 | G12: =(D12-C12)+(F12-E12) -> 0
A13: VENDREDI | B13: 10 | G13: =(D13-C13)+(F13-E13) -> 0
A14: SAMEDI | B14: 11 | G14: =(D14-C14)+(F14-E14) -> 0
A15: DIMANCHE | B15: 12 | G15: =(D15-C15)+(F15-E15) -> 0
... A34: VENDREDI | B34: 31 | G34: =(D34-C34)+(F34-E34) -> 0
A35: Total heures | G35: =SUM(G4:G34)+(G4) -> 0
A36: dont heures dimanche | G36: =G9+G16+G23+G30 -> 0
A37: dont heures jours fériés | G37: =G24+G13+G11+G4 -> 0
A38: dont heures de nuit | G38: =SUM(H4:H34) -> 0
A40: Signature et certifié exact | G40: Gérant ou co-gérant
A41: Employé

Sheet novembre
A1: Date
A2: 45962 | C2: matin | E2: après midi | G2: Total heures | H2: dont heures nuit
C3: emb | D3: deb | E3: emb | F3: deb
A4: SAMEDI | B4: 1 | G4: =(D4-C4)+(F4-E4) -> 0
A5: DIMANCHE | B5: 2 | G5: =(D5-C5)+(F5-E5) -> 0
A6: LUNDI | B6: 3 | G6: =(D6-C6)+(F6-E6) -> 0
A7: MARDI | B7: 4 | G7: =(D7-C7)+(F7-E7) -> 0
A8: MERCREDI | B8: 5 | G8: =(D8-C8)+(F8-E8) -> 0
A9: JEUDI | B9: 6 | G9: =(D9-C9)+(F9-E9) -> 0
A10: VENDREDI | B10: 7 | G10: =(D10-C10)+(F10-E10) -> 0
A11: SAMEDI | B11: 8 | G11: =(D11-C11)+(F11-E11) -> 0
A12: DIMANCHE | B12: 9 | G12: =(D12-C12)+(F12-E12) -> 0
A13: LUNDI | B13: 10 | G13: =(D13-C13)+(F13-E13) -> 0
A14: MARDI | B14: 11 | G14: =(D14-C14)+(F14-E14) -> 0
A15: MERCREDI | B15: 12 | G15: =(D15-C15)+(F15-E15) -> 0
... A34: SAMEDI | B34: 31 | G34: =(D34-C34)+(F34-E34) -> 0
A35: Total heures | G35: =SUM(G4:G34)+(G4) -> 0
A36: dont heures dimanche | G36: =G9+G16+G23+G30 -> 0
A37: dont heures jours fériés | G37: =G24+G13+G11+G4 -> 0
A38: dont heures de nuit | G38: =SUM(H4:H34) -> 0
A40: Signature et certifié exact | G40: Gérant ou co-gérant
A41: Employé

Sheet décembre
A1: Date
A2: 45992 | C2: matin | E2: après midi | G2: Total heures | H2: dont heures nuit
C3: emb | D3: deb | E3: emb | F3: deb
A4: LUNDI | B4: 1 | G4: =(D4-C4)+(F4-E4) -> 0
A5: MARDI | B5: 2 | G5: =(D5-C5)+(F5-E5) -> 0
A6: MERCREDI | B6: 3 | G6: =(D6-C6)+(F6-E6) -> 0
A7: JEUDI | B7: 4 | G7: =(D7-C7)+(F7-E7) -> 0
A8: VENDREDI | B8: 5 | G8: =(D8-C8)+(F8-E8) -> 0
A9: SAMEDI | B9: 6 | G9: =(D9-C9)+(F9-E9) -> 0
A10: DIMANCHE | B10: 7 | G10: =(D10-C10)+(F10-E10) -> 0
A11: LUNDI | B11: 8 | G11: =(D11-C11)+(F11-E11) -> 0
A12: MARDI | B12: 9 | G12: =(D12-C12)+(F12-E12) -> 0
A13: MERCREDI | B13: 10 | G13: =(D13-C13)+(F13-E13) -> 0
A14: JEUDI | B14: 11 | G14: =(D14-C14)+(F14-E14) -> 0
A15: VENDREDI | B15: 12 | G15: =(D15-C15)+(F15-E15) -> 0
... A34: MERCREDI | B34: 31 | G34: =(D34-C34)+(F34-E34) -> 0
A35: Total heures | G35: =SUM(G4:G34)+(G4) -> 0
A36: dont heures dimanche | G36: =G9+G16+G23+G30 -> 0
A37: dont heures jours fériés | G37: =G24+G13+G11+G4 -> 0
A38: dont heures de nuit | G38: =SUM(H4:H34) -> 0
A40: Signature et certifié exact | G40: Gérant ou co-gérant
A41: Employé

Sheet Feuil5
