Workbook
Name DateJourFeries: joursferies[Date]

Sheet Feuil1
L3: On devrait trouver
D4: Début | E4: Pause | F4: Fin | H4: Heures de nuit | I4: Heures de jour | L4: Heures de nuit | M4: Heures de jour
D5: 0.083333333 | E5: 0.041666667 | F5: 0.20833333 | H5: =MOD($F5-$D5,1)-($F5<$D5)*(Data!$Q$2-Data!$R$2)-MEDIAN($F5,Data!$R$2,Data!$Q$2)+MEDIAN($D5,Data!$R$2,Data!$Q$2) -> 0.125 | I5: =IF($F5>$D5,MEDIAN($F5,Data!$Q$2,Data!$R$2)-MEDIAN($D5,Data!$Q$2,Data!$R$2),($F5<$D5)*(Data!$Q$2-Data!$R$2)+MEDIAN($F5,Data!$R$2,Data!$Q$2)-MEDIAN($D5,Data!$R$2,Data!$Q$2)) -> 0 | L5: 0.083333333 | M5: 0
D6: 0.70833333 | E6: 0.020833333 | F6: 1 | H6: =MOD($F6-$D6,1)-($F6<$D6)*(Data!$Q$2-Data!$R$2)-MEDIAN($F6,Data!$R$2,Data!$Q$2)+MEDIAN($D6,Data!$R$2,Data!$Q$2) -> 0.083333333 | I6: =IF($F6>$D6,MEDIAN($F6,Data!$Q$2,Data!$R$2)-MEDIAN($D6,Data!$Q$2,Data!$R$2),($F6<$D6)*(Data!$Q$2-Data!$R$2)+MEDIAN($F6,Data!$R$2,Data!$Q$2)-MEDIAN($D6,Data!$R$2,Data!$Q$2)) -> 0.20833333 | L6: 0.083333333 | M6: 0.1875
D7: 0.083333333 | E7: 0.041666667 | F7: 0.41666667 | H7: =MOD($F7-$D7,1)-($F7<$D7)*(Data!$Q$2-Data!$R$2)-MEDIAN($F7,Data!$R$2,Data!$Q$2)+MEDIAN($D7,Data!$R$2,Data!$Q$2) -> 0.125 | I7: =IF($F7>$D7,MEDIAN($F7,Data!$Q$2,Data!$R$2)-MEDIAN($D7,Data!$Q$2,Data!$R$2),($F7<$D7)*(Data!$Q$2-Data!$R$2)+MEDIAN($F7,Data!$R$2,Data!$Q$2)-MEDIAN($D7,Data!$R$2,Data!$Q$2)) -> 0.20833333 | L7: 0.125 | M7: 0.16666667
G11: S'il n'y a que des heures de nuit j'aimerais que la pause soit défalquée des heures de nuit
G13: Dans tous les autre cas (heures de jour ou heures à cheval) j'aimerais que les pauses soient défalquée des heures de jour.
G15: la fourchette des heures de nuit est située dans Data. Actuellement elle va de 22:00 à 05:00

Sheet Data
A1: Date | B1: Congé | E1: Dimanches | Q1: Fourchette heures de nuit
A2: 45597 | B2: Toussaint | E2: 45662 | Q2: 0.91666667 | R2: 0.20833333
A3: 45599 | E3: =E2+7 -> 45669
A4: 45606 | E4: =E3+7 -> 45676
A5: 45607 | B5: Armistice 1918 | E5: =E4+7 -> 45683
A6: 45613 | E6: =E5+7 -> 45690
A7: 45620 | E7: =E6+7 -> 45697
A8: 45651 | B8: Noël | E8: =E7+7 -> 45704
A9: 45658 | B9: Jour de l’An | E9: =E8+7 -> 45711
A10: 45662 | E10: =E9+7 -> 45718
A11: 45669 | E11: =E10+7 -> 45725
A12: 45676 | E12: =E11+7 -> 45732
A13: 45683 | E13: =E12+7 -> 45739
A14: 45690 | E14: =E13+7 -> 45746
A15: 45697 | E15: =E14+7 -> 45753
A16: 45704 | E16: =E15+7 -> 45760
A17: 45711 | E17: =E16+7 -> 45767
A18: 45718 | E18: =E17+7 -> 45774
A19: 45725 | E19: =E18+7 -> 45781
A20: 45732 | E20: =E19+7 -> 45788
A21: 45739 | E21: =E20+7 -> 45795
... A25: 45767 | E25: =E24+7 -> 45823
A26: 45768 | B26: Lundi de Pâques | E26: =E25+7 -> 45830
A27: 45774 | E27: =E26+7 -> 45837
A28: 45778 | B28: Fête du travail | E28: =E27+7 -> 45844
A29: 45781 | E29: =E28+7 -> 45851
A30: 45785 | B30: Armistice 1945 | E30: =E29+7 -> 45858
A31: 45788 | E31: =E30+7 -> 45865
A32: 45795 | E32: =E31+7 -> 45872
A33: 45802 | E33: =E32+7 -> 45879
A34: 45806 | B34: Ascension | E34: =E33+7 -> 45886
A35: 45809 | E35: =E34+7 -> 45893
A36: 45816 | E36: =E35+7 -> 45900
A37: 45817 | B37: Lundi de Pentecôte | E37: =E36+7 -> 45907
A38: 45823 | E38: =E37+7 -> 45914
A39: 45830 | E39: =E38+7 -> 45921
A40: 45837 | E40: =E39+7 -> 45928
A41: 45844 | E41: =E40+7 -> 45935
A42: 45851 | E42: =E41+7 -> 45942
A43: 45852 | B43: Fête nationale | E43: =E42+7 -> 45949
...
