Workbook
Name Clés: Tableau3[Clés]
Name Fonctions: Data!$G$2:$G$23
Name NomPrenom: Effectif[Nom et Prenom]
Name Noms: Data!$A$2:$A$33
Name Prenoms: Data!$B$2:$B$33
Name Segment_Nom_et_prenom: #N/A

Sheet Tableau général des clés
A1: REMISE DES CLEFS
A2: NOM | B2: PRENOM | C2: FONCTION | D2: CLEF N °1 | E2: Rendue LE | F2: CLEF N° 2 | G2: Rendue LE | H2: CLEF N°3 | I2: Rendue LE | J2: CLEF N° 4 | K2: Rendue LE | L2: CLEF N° 5 | M2: Rendue LE | N2: CLEF N° 6 | O2: Rendue LE | P2: CLEF N° 7 | Q2: Rendue LE | R2: CLEF N°8 | S2: Rendue LE | T2: PERSONNEL SORTI
A3: GIET | B3: Laura | C3: AED | D3: A3 | F3: ASCENSEUR | H3: CASIERS | K3: Rendue le 15/10 | L3: ADMIN
C4: AED | D4: A3 | F4: CASIERS | H4: ASCENSEUR
C5: AED | D5: A3 | F5: ASCENSEUR
C6: AED | D6: A3 | F6: CASIERS | H6: ASCENSEUR
C7: AED | D7: A3 | F7: ASCENSEUR | H7: CASIERS
C8: AED | D8: A3 | F8: ASCENSEUR | H8: CASIERS
C9: AED | D9: A3 | F9: CASIERS | H9: ASCENSEUR
C10: AED | D10: A3 | F10: ASCENSEUR
C11: AED | D11: A3 | F11: ASCENSEUR
C12: AED PREPRO | D12: SCIENCE | F12: TECHNO | H12: BANAL
C13: AESH | D13: BANAL | F13: ASCENSEUR
C14: AESH | D14: ASCENSEUR | F14: BANAL
C15: AESH | D15: ASCENSEUR | F15: UPI4 | H15: PISCINE
C16: AESH | D16: BANAL | F16: ASCENSEUR | H16: UPI4
C17: AESH | D17: BANAL | F17: ASCENSEUR
C18: AESH | D18: UPI2 | F18: BANAL
C19: AESH | D19: UPI2 | F19: UPI4 | H19: ASCENSEUR | J19: A3
C20: AGENT | D20: A1
C21: AGENT | D21: AA | F21: CARRE | H21: ASCENSEUR | J21: Y01713 | L21: J44122 | N21: 10010
C22: AGENT | D22: A2 | F22: ASCENSEUR | H22: FENETRE | J22: FENETRE | L22: FENETRE
C23: AGENT | D23: A2 | F23: ASCENSEUR | H23: FENETRE | J23: FENETRE | L23: FENETRE | N23: DISTRIBUTEUR
C24: AGENT | D24: A2 | F24: ASCENSEUR | H24: FENTRE | J24: FENETRE | L24: FENETRE | N24: ADMIN
C25: AGENT | D25: AA | F25: ZAPETTE | H25: SEC
C26: AGENT | D26: AA | F26: ASCENSEUR
C27: AGENT | D27: AA | F27: ASCENSEUR | H27: FENETRE | J27: FENETRE | L27: FENETRE | N27: MV2 | P27: GARAGE LOGT | R27: OEA
C28: AGENT | D28: A2 | F28: ASCENSEUR | H28: FENETRE | J28: FENETRE | L28: FENETRE | N28: FENETRE
C29: AGENT | D29: A1 | F29: ADMIN | H29: ASCENSEUR | J29: PISCINE | L29: AA | N29: GARAGE | P29: BOIS | R29: FENETRES
C30: AGENT | D30: ADMIN | F30: A2 | H30: ASCENSEUR
C31: AGENT | D31: A2 | F31: ASCENSEUR
C32: APS | D32: VIES
C33: DOCUMENTALISTE | D33: SCIENCE | F33: CDI | H33: BANAL
C34: PSYCHOLOGUE ORIENTATION | D34: BANAL | F34: COP | H34: CDI
C35: CPE | D35: AA | F35: ASCENSEUR | H35: BOIS
C36: DEFI SPORT | D36: PISCINE | F36: PORTAIL PISCINE
C37: EDUCATEUR | D37: BANAL | F37: ASCENSEUR
C38: EDUCATEUR | D38: UPI2
C39: EDUCATEUR | D39: BANAL
C40: EDUCATEUR | D40: BANAL
...

Sheet Data
A1: Nom | B1: Prenom | C1: Nom et Prenom | D1: Fonction | G1: Fonction | I1: Clés
A2: Nom1 | B2: Prenom1 | C2: =Effectif[[#This Row],[Nom]]&" "&Effectif[[#This Row],[Prenom]] -> Nom1 Prenom1 | D2: AGENT | G2: AED | I2: A1
A3: Nom2 | B3: Prenom2 | C3: =Effectif[[#This Row],[Nom]]&" "&Effectif[[#This Row],[Prenom]] -> Nom2 Prenom2 | D3: AESH | G3: AED PREPRO | I3: A2
A4: Nom3 | B4: Prenom3 | C4: =Effectif[[#This Row],[Nom]]&" "&Effectif[[#This Row],[Prenom]] -> Nom3 Prenom3 | D4: AED | G4: AESH | I4: AA
A5: Nom4 | B5: Prenom4 | C5: =Effectif[[#This Row],[Nom]]&" "&Effectif[[#This Row],[Prenom]] -> Nom4 Prenom4 | D5: DOCUMENTALISTE | G5: AGENT | I5: ADMIN
A6: Nom5 | B6: Prenom5 | C6: =Effectif[[#This Row],[Nom]]&" "&Effectif[[#This Row],[Prenom]] -> Nom5 Prenom5 | D6: PSYCHOLOGUE ORIENTATION | G6: AGENT | I6: ARMOIRE
A7: Nom6 | B7: Prenom6 | C7: =Effectif[[#This Row],[Nom]]&" "&Effectif[[#This Row],[Prenom]] -> Nom6 Prenom6 | D7: AED | G7: APS | I7: ARTS
A8: Nom7 | B8: Prenom7 | C8: =Effectif[[#This Row],[Nom]]&" "&Effectif[[#This Row],[Prenom]] -> Nom7 Prenom7 | D8: AED PREPRO | G8: ASSISTANTE LANGUE | I8: AS
A9: Nom8 | B9: Prenom8 | C9: =Effectif[[#This Row],[Nom]]&" "&Effectif[[#This Row],[Prenom]] -> Nom8 Prenom8 | D9: EDUCATRICE SPORTIVE | G9: ASSISTANTE SOCIALE | I9: ASCENSEUR
A10: Nom9 | B10: Prenom9 | C10: =Effectif[[#This Row],[Nom]]&" "&Effectif[[#This Row],[Prenom]] -> Nom9 Prenom9 | D10: AGENT | G10: BANAL | I10: BANAL
A11: Nom10 | B11: Prenom10 | C11: =Effectif[[#This Row],[Nom]]&" "&Effectif[[#This Row],[Prenom]] -> Nom10 Prenom10 | D11: AESH | G11: CPE | I11: BOIS
A12: Nom11 | B12: Prenom11 | C12: =Effectif[[#This Row],[Nom]]&" "&Effectif[[#This Row],[Prenom]] -> Nom11 Prenom11 | D12: AED | G12: DEFI SPORT | I12: CARRE
A13: Nom12 | B13: Prenom12 | C13: =Effectif[[#This Row],[Nom]]&" "&Effectif[[#This Row],[Prenom]] -> Nom12 Prenom12 | D13: DOCUMENTALISTE | G13: DOCUMENTALISTE | I13: CASIER
... A23: Nom22 | B23: Prenom22 | C23: =Effectif[[#This Row],[Nom]]&" "&Effectif[[#This Row],[Prenom]] -> Nom22 Prenom22 | D23: AED | G23: SECRETAIRE | I23: MV2
A24: Nom23 | B24: Prenom23 | C24: =Effectif[[#This Row],[Nom]]&" "&Effectif[[#This Row],[Prenom]] -> Nom23 Prenom23 | D24: AED PREPRO | I24: PISCINE
A25: Nom24 | B25: Prenom24 | C25: =Effectif[[#This Row],[Nom]]&" "&Effectif[[#This Row],[Prenom]] -> Nom24 Prenom24 | D25: EDUCATRICE SPORTIVE | I25: POLY
A26: Nom25 | B26: Prenom25 | C26: =Effectif[[#This Row],[Nom]]&" "&Effectif[[#This Row],[Prenom]] -> Nom25 Prenom25 | D26: AGENT | I26: PORTAIL
A27: Nom26 | B27: Prenom26 | C27: =Effectif[[#This Row],[Nom]]&" "&Effectif[[#This Row],[Prenom]] -> Nom26 Prenom26 | D27: AESH | I27: PORTAIL LOGEMENT
A28: Nom27 | B28: Prenom27 | C28: =Effectif[[#This Row],[Nom]]&" "&Effectif[[#This Row],[Prenom]] -> Nom27 Prenom27 | D28: AED | I28: PORTAIL PISCINE
A29: Nom28 | B29: Prenom28 | C29: =Effectif[[#This Row],[Nom]]&" "&Effectif[[#This Row],[Prenom]] -> Nom28 Prenom28 | D29: DOCUMENTALISTE | I29: SCIENCE
A30: Nom29 | B30: Prenom29 | C30: =Effectif[[#This Row],[Nom]]&" "&Effectif[[#This Row],[Prenom]] -> Nom29 Prenom29 | D30: PSYCHOLOGUE ORIENTATION | I30: SEC
A31: Nom30 | B31: Prenom30 | C31: =Effectif[[#This Row],[Nom]]&" "&Effectif[[#This Row],[Prenom]] -> Nom30 Prenom30 | D31: AED | I31: TECHNO
A32: Nom31 | B32: Prenom31 | C32: =Effectif[[#This Row],[Nom]]&" "&Effectif[[#This Row],[Prenom]] -> Nom31 Prenom31 | D32: AED PREPRO | I32: U35
A33: Nom32 | B33: Prenom32 | C33: =Effectif[[#This Row],[Nom]]&" "&Effectif[[#This Row],[Prenom]] -> Nom32 Prenom32 | D33: EDUCATRICE SPORTIVE | I33: UPI2
I34: UPI4
I35: V35
I36: VIES
I37: Y01713
I38: ZAPETTE

Sheet Essai
A1: Nom et prenom | B1: Fonction | C1: Clé fournie | D1: Rendue
A2: Nom1 Prenom1 | B2: =_xlfn.XLOOKUP(A2,Effectif[Nom et Prenom],Effectif[Fonction],"") -> AGENT | C2: A1 | D2: 45588 | M2: à gauche ce sont des filtres
A3: Nom4 Prenom4 | B3: =_xlfn.XLOOKUP(A3,Effectif[Nom et Prenom],Effectif[Fonction],"") -> DOCUMENTALISTE | C3: ARMOIRE
A4: Nom7 Prenom7 | B4: =_xlfn.XLOOKUP(A4,Effectif[Nom et Prenom],Effectif[Fonction],"") -> AED PREPRO | C4: ARTS
A5: Nom1 Prenom1 | B5: =_xlfn.XLOOKUP(A5,Effectif[Nom et Prenom],Effectif[Fonction],"") -> AGENT | C5: A2
A6: Nom1 Prenom1 | B6: =_xlfn.XLOOKUP(A6,Effectif[Nom et Prenom],Effectif[Fonction],"") -> AGENT | C6: AS
A7: Nom10 Prenom10 | B7: =_xlfn.XLOOKUP(A7,Effectif[Nom et Prenom],Effectif[Fonction],"") -> AESH | C7: ADMIN
A8: Nom10 Prenom10 | B8: =_xlfn.XLOOKUP(A8,Effectif[Nom et Prenom],Effectif[Fonction],"") -> AESH | C8: CARRE
A9: Nom10 Prenom10 | B9: =_xlfn.XLOOKUP(A9,Effectif[Nom et Prenom],Effectif[Fonction],"") -> AESH | C9: ARMOIRE
A10: Nom12 Prenom12 | B10: =_xlfn.XLOOKUP(A10,Effectif[Nom et Prenom],Effectif[Fonction],"") -> DOCUMENTALISTE | C10: ADMIN
A11: Nom8 Prenom8 | B11: =_xlfn.XLOOKUP(A11,Effectif[Nom et Prenom],Effectif[Fonction],"") -> EDUCATRICE SPORTIVE | C11: ASCENSEUR
A12: Nom1 Prenom1 | B12: =_xlfn.XLOOKUP(A12,Effectif[Nom et Prenom],Effectif[Fonction],"") -> AGENT | C12: ASCENSEUR
B13: =_xlfn.XLOOKUP(A13,Effectif[Nom et Prenom],Effectif[Fonction],"")
A14: Total | C14: =SUBTOTAL(103,Tableau5[Clé fournie]) -> 11 | D14: =SUBTOTAL(103,Tableau5[Rendue]) -> 1

Sheet Nb clés par personnel
A1: NOM | B1: PRENOM | C1: FONCTION | D1: BANAL | E1: A1 | F1: A2 | G1: A3 | H1: AA | I1: SCIENCE | J1: TECHNO | K1: EPS | L1: PISCINE | M1: ARTS | N1: CDI | O1: COP | P1: ASCENSEUR | Q1: VIES | R1: AS | S1: UPI2 | T1: UPI4 | U1: ADMIN | V1: CASIERS | W1: Total clés remise
A2: GIET | B2: Laura | C2: AED | D2: =COUNTIF('Tableau général des clés'!3:3,"A1") -> 0 | E2: =COUNTIF('Tableau général des clés'!3:3,"A1") -> 0 | F2: =COUNTIF('Tableau général des clés'!3:3,"A2") -> 0 | G2: =COUNTIF('Tableau général des clés'!3:3,"A3") -> 1 | H2: =COUNTIF('Tableau général des clés'!3:3,"AA") -> 0 | I2: =COUNTIF('Tableau général des clés'!3:3,"SCIENCE") -> 0 | J2: =COUNTIF('Tableau général des clés'!3:3,"TECHNO") -> 0 | K2: =COUNTIF('Tableau général des clés'!3:3,"EPS") -> 0 | L2: =COUNTIF('Tableau général des clés'!3:3,"PISCINE") -> 0 | M2: =COUNTIF('Tableau général des clés'!3:3,"ARTS") -> 0 | N2: =COUNTIF('Tableau général des clés'!3:3,"CDI") -> 0 | O2: =COUNTIF('Tableau général des clés'!3:3,"COP") -> 0 | P2: =COUNTIF('Tableau général des clés'!3:3,"ASCENSEUR") -> 1 | Q2: =COUNTIF('Tableau général des clés'!3:3,"VIES") -> 0 | R2: =COUNTIF('Tableau général des clés'!3:3,"AS") -> 0 | S2: =COUNTIF('Tableau général des clés'!3:3,"UPI2") -> 0 | T2: =COUNTIF('Tableau général des clés'!3:3,"UPI4") -> 0 | U2: =COUNTIF('Tableau général des clés'!3:3,"ADMIN") -> 1 | V2: =COUNTIF('Tableau général des clés'!3:3,"CASIERS") -> 1 | W2: =SUM(D2:V2) -> 4
C3: AED | D3: =COUNTIF('Tableau général des clés'!4:4,"BANAL") -> 0 | E3: =COUNTIF('Tableau général des clés'!4:4,"A1") -> 0 | F3: =COUNTIF('Tableau général des clés'!4:4,"A2") -> 0 | G3: =COUNTIF('Tableau général des clés'!4:4,"A3") -> 1 | H3: =COUNTIF('Tableau général des clés'!4:4,"AA") -> 0 | I3: =COUNTIF('Tableau général des clés'!4:4,"SCIENCE") -> 0 | J3: =COUNTIF('Tableau général des clés'!4:4,"TECHNO") -> 0 | K3: =COUNTIF('Tableau général des clés'!4:4,"EPS") -> 0 | L3: =COUNTIF('Tableau général des clés'!4:4,"PISCINE") -> 0 | M3: =COUNTIF('Tableau général des clés'!4:4,"ARTS") -> 0 | N3: =COUNTIF('Tableau général des clés'!4:4,"CDI") -> 0 | O3: =COUNTIF('Tableau général des clés'!4:4,"COP") -> 0 | P3: =COUNTIF('Tableau général des clés'!4:4,"ASCENSEUR") -> 1 | Q3: =COUNTIF('Tableau général des clés'!4:4,"VIES") -> 0 | R3: =COUNTIF('Tableau général des clés'!4:4,"AS") -> 0 | S3: =COUNTIF('Tableau général des clés'!4:4,"UPI2") -> 0 | T3: =COUNTIF('Tableau général des clés'!4:4,"UPI4") -> 0 | U3: =COUNTIF('Tableau général des clés'!4:4,"ADMIN") -> 0 | V3: =COUNTIF('Tableau général des clés'!4:4,"CASIERS") -> 1 | W3: =SUM(D3:V3) -> 3
C4: AED | D4: =COUNTIF('Tableau général des clés'!5:5,"BANAL") -> 0 | E4: =COUNTIF('Tableau général des clés'!5:5,"A1") -> 0 | F4: =COUNTIF('Tableau général des clés'!5:5,"A2") -> 0 | G4: =COUNTIF('Tableau général des clés'!5:5,"A3") -> 1 | H4: =COUNTIF('Tableau général des clés'!5:5,"AA") -> 0 | I4: =COUNTIF('Tableau général des clés'!5:5,"SCIENCE") -> 0 | J4: =COUNTIF('Tableau général des clés'!5:5,"TECHNO") -> 0 | K4: =COUNTIF('Tableau général des clés'!5:5,"EPS") -> 0 | L4: =COUNTIF('Tableau général des clés'!5:5,"PISCINE") -> 0 | M4: =COUNTIF('Tableau général des clés'!5:5,"ARTS") -> 0 | N4: =COUNTIF('Tableau général des clés'!5:5,"CDI") -> 0 | O4: =COUNTIF('Tableau général des clés'!5:5,"COP") -> 0 | P4: =COUNTIF('Tableau général des clés'!5:5,"ASCENSEUR") -> 1 | Q4: =COUNTIF('Tableau général des clés'!5:5,"VIES") -> 0 | R4: =COUNTIF('Tableau général des clés'!5:5,"AS") -> 0 | S4: =COUNTIF('Tableau général des clés'!5:5,"UPI2") -> 0 | T4: =COUNTIF('Tableau général des clés'!5:5,"UPI4") -> 0 | U4: =COUNTIF('Tableau général des clés'!5:5,"ADMIN") -> 0 | V4: =COUNTIF('Tableau général des clés'!5:5,"CASIERS") -> 0 | W4: =SUM(D4:V4) -> 2
C5: AED | D5: =COUNTIF('Tableau général des clés'!6:6,"BANAL") -> 0 | E5: =COUNTIF('Tableau général des clés'!6:6,"A1") -> 0 | F5: =COUNTIF('Tableau général des clés'!6:6,"A2") -> 0 | G5: =COUNTIF('Tableau général des clés'!6:6,"A3") -> 1 | H5: =COUNTIF('Tableau général des clés'!6:6,"AA") -> 0 | I5: =COUNTIF('Tableau général des clés'!6:6,"SCIENCE") -> 0 | J5: =COUNTIF('Tableau général des clés'!6:6,"TECHNO") -> 0 | K5: =COUNTIF('Tableau général des clés'!6:6,"EPS") -> 0 | L5: =COUNTIF('Tableau général des clés'!6:6,"PISCINE") -> 0 | M5: =COUNTIF('Tableau général des clés'!6:6,"ARTS") -> 0 | N5: =COUNTIF('Tableau général des clés'!6:6,"CDI") -> 0 | O5: =COUNTIF('Tableau général des clés'!6:6,"COP") -> 0 | P5: =COUNTIF('Tableau général des clés'!6:6,"ASCENSEUR") -> 1 | Q5: =COUNTIF('Tableau général des clés'!6:6,"VIES") -> 0 | R5: =COUNTIF('Tableau général des clés'!6:6,"AS") -> 0 | S5: =COUNTIF('Tableau général des clés'!6:6,"UPI2") -> 0 | T5: =COUNTIF('Tableau général des clés'!6:6,"UPI4") -> 0 | U5: =COUNTIF('Tableau général des clés'!6:6,"ADMIN") -> 0 | V5: =COUNTIF('Tableau général des clés'!6:6,"CASIERS") -> 1 | W5: =SUM(D5:V5) -> 3
C6: AED | D6: =COUNTIF('Tableau général des clés'!7:7,"BANAL") -> 0 | E6: =COUNTIF('Tableau général des clés'!7:7,"A1") -> 0 | F6: =COUNTIF('Tableau général des clés'!7:7,"A2") -> 0 | G6: =COUNTIF('Tableau général des clés'!7:7,"A3") -> 1 | H6: =COUNTIF('Tableau général des clés'!7:7,"AA") -> 0 | I6: =COUNTIF('Tableau général des clés'!7:7,"SCIENCE") -> 0 | J6: =COUNTIF('Tableau général des clés'!7:7,"TECHNO") -> 0 | K6: =COUNTIF('Tableau général des clés'!7:7,"EPS") -> 0 | L6: =COUNTIF('Tableau général des clés'!7:7,"PISCINE") -> 0 | M6: =COUNTIF('Tableau général des clés'!7:7,"ARTS") -> 0 | N6: =COUNTIF('Tableau général des clés'!7:7,"CDI") -> 0 | O6: =COUNTIF('Tableau général des clés'!7:7,"COP") -> 0 | P6: =COUNTIF('Tableau général des clés'!7:7,"ASCENSEUR") -> 1 | Q6: =COUNTIF('Tableau général des clés'!7:7,"VIES") -> 0 | R6: =COUNTIF('Tableau général des clés'!7:7,"AS") -> 0 | S6: =COUNTIF('Tableau général des clés'!7:7,"UPI2") -> 0 | T6: =COUNTIF('Tableau général des clés'!7:7,"UPI4") -> 0 | U6: =COUNTIF('Tableau général des clés'!7:7,"ADMIN") -> 0 | V6: =COUNTIF('Tableau général des clés'!7:7,"CASIERS") -> 1 | W6: =SUM(D6:V6) -> 3
C7: AED | D7: =COUNTIF('Tableau général des clés'!8:8,"BANAL") -> 0 | E7: =COUNTIF('Tableau général des clés'!8:8,"A1") -> 0 | F7: =COUNTIF('Tableau général des clés'!8:8,"A2") -> 0 | G7: =COUNTIF('Tableau général des clés'!8:8,"A3") -> 1 | H7: =COUNTIF('Tableau général des clés'!8:8,"AA") -> 0 | I7: =COUNTIF('Tableau général des clés'!8:8,"SCIENCE") -> 0 | J7: =COUNTIF('Tableau général des clés'!8:8,"TECHNO") -> 0 | K7: =COUNTIF('Tableau général des clés'!8:8,"EPS") -> 0 | L7: =COUNTIF('Tableau général des clés'!8:8,"PISCINE") -> 0 | M7: =COUNTIF('Tableau général des clés'!8:8,"ARTS") -> 0 | N7: =COUNTIF('Tableau général des clés'!8:8,"CDI") -> 0 | O7: =COUNTIF('Tableau général des clés'!8:8,"COP") -> 0 | P7: =COUNTIF('Tableau général des clés'!8:8,"ASCENSEUR") -> 1 | Q7: =COUNTIF('Tableau général des clés'!8:8,"VIES") -> 0 | R7: =COUNTIF('Tableau général des clés'!8:8,"AS") -> 0 | S7: =COUNTIF('Tableau général des clés'!8:8,"UPI2") -> 0 | T7: =COUNTIF('Tableau général des clés'!8:8,"UPI4") -> 0 | U7: =COUNTIF('Tableau général des clés'!8:8,"ADMIN") -> 0 | V7: =COUNTIF('Tableau général des clés'!8:8,"CASIERS") -> 1 | W7: =SUM(D7:V7) -> 3
C8: AED | D8: =COUNTIF('Tableau général des clés'!9:9,"BANAL") -> 0 | E8: =COUNTIF('Tableau général des clés'!9:9,"A1") -> 0 | F8: =COUNTIF('Tableau général des clés'!9:9,"A2") -> 0 | G8: =COUNTIF('Tableau général des clés'!9:9,"A3") -> 1 | H8: =COUNTIF('Tableau général des clés'!9:9,"AA") -> 0 | I8: =COUNTIF('Tableau général des clés'!9:9,"SCIENCE") -> 0 | J8: =COUNTIF('Tableau général des clés'!9:9,"TECHNO") -> 0 | K8: =COUNTIF('Tableau général des clés'!9:9,"EPS") -> 0 | L8: =COUNTIF('Tableau général des clés'!9:9,"PISCINE") -> 0 | M8: =COUNTIF('Tableau général des clés'!9:9,"ARTS") -> 0 | N8: =COUNTIF('Tableau général des clés'!9:9,"CDI") -> 0 | O8: =COUNTIF('Tableau général des clés'!9:9,"COP") -> 0 | P8: =COUNTIF('Tableau général des clés'!9:9,"ASCENSEUR") -> 1 | Q8: =COUNTIF('Tableau général des clés'!9:9,"VIES") -> 0 | R8: =COUNTIF('Tableau général des clés'!9:9,"AS") -> 0 | S8: =COUNTIF('Tableau général des clés'!9:9,"UPI2") -> 0 | T8: =COUNTIF('Tableau général des clés'!9:9,"UPI4") -> 0 | U8: =COUNTIF('Tableau général des clés'!9:9,"ADMIN") -> 0 | V8: =COUNTIF('Tableau général des clés'!9:9,"CASIERS") -> 1 | W8: =SUM(D8:V8) -> 3
C9: AED | D9: =COUNTIF('Tableau général des clés'!10:10,"BANAL") -> 0 | E9: =COUNTIF('Tableau général des clés'!10:10,"A1") -> 0 | F9: =COUNTIF('Tableau général des clés'!10:10,"A2") -> 0 | G9: =COUNTIF('Tableau général des clés'!10:10,"A3") -> 1 | H9: =COUNTIF('Tableau général des clés'!10:10,"AA") -> 0 | I9: =COUNTIF('Tableau général des clés'!10:10,"SCIENCE") -> 0 | J9: =COUNTIF('Tableau général des clés'!10:10,"TECHNO") -> 0 | K9: =COUNTIF('Tableau général des clés'!10:10,"EPS") -> 0 | L9: =COUNTIF('Tableau général des clés'!10:10,"PISCINE") -> 0 | M9: =COUNTIF('Tableau général des clés'!10:10,"ARTS") -> 0 | N9: =COUNTIF('Tableau général des clés'!10:10,"CDI") -> 0 | O9: =COUNTIF('Tableau général des clés'!10:10,"COP") -> 0 | P9: =COUNTIF('Tableau général des clés'!10:10,"ASCENSEUR") -> 1 | Q9: =COUNTIF('Tableau général des clés'!10:10,"VIES") -> 0 | R9: =COUNTIF('Tableau général des clés'!10:10,"AS") -> 0 | S9: =COUNTIF('Tableau général des clés'!10:10,"UPI2") -> 0 | T9: =COUNTIF('Tableau général des clés'!10:10,"UPI4") -> 0 | U9: =COUNTIF('Tableau général des clés'!10:10,"ADMIN") -> 0 | V9: =COUNTIF('Tableau général des clés'!10:10,"CASIERS") -> 0 | W9: =SUM(D9:V9) -> 2
C10: AED | D10: =COUNTIF('Tableau général des clés'!11:11,"BANAL") -> 0 | E10: =COUNTIF('Tableau général des clés'!11:11,"A1") -> 0 | F10: =COUNTIF('Tableau général des clés'!11:11,"A2") -> 0 | G10: =COUNTIF('Tableau général des clés'!11:11,"A3") -> 1 | H10: =COUNTIF('Tableau général des clés'!11:11,"AA") -> 0 | I10: =COUNTIF('Tableau général des clés'!11:11,"SCIENCE") -> 0 | J10: =COUNTIF('Tableau général des clés'!11:11,"TECHNO") -> 0 | K10: =COUNTIF('Tableau général des clés'!11:11,"EPS") -> 0 | L10: =COUNTIF('Tableau général des clés'!11:11,"PISCINE") -> 0 | M10: =COUNTIF('Tableau général des clés'!11:11,"ARTS") -> 0 | N10: =COUNTIF('Tableau général des clés'!11:11,"CDI") -> 0 | O10: =COUNTIF('Tableau général des clés'!11:11,"COP") -> 0 | P10: =COUNTIF('Tableau général des clés'!11:11,"ASCENSEUR") -> 1 | Q10: =COUNTIF('Tableau général des clés'!11:11,"VIES") -> 0 | R10: =COUNTIF('Tableau général des clés'!11:11,"AS") -> 0 | S10: =COUNTIF('Tableau général des clés'!11:11,"UPI2") -> 0 | T10: =COUNTIF('Tableau général des clés'!11:11,"UPI4") -> 0 | U10: =COUNTIF('Tableau général des clés'!11:11,"ADMIN") -> 0 | V10: =COUNTIF('Tableau général des clés'!11:11,"CASIERS") -> 0 | W10: =SUM(D10:V10) -> 2
C11: AED PREPRO | D11: =COUNTIF('Tableau général des clés'!12:12,"BANAL") -> 1 | E11: =COUNTIF('Tableau général des clés'!12:12,"A1") -> 0 | F11: =COUNTIF('Tableau général des clés'!12:12,"A2") -> 0 | G11: =COUNTIF('Tableau général des clés'!12:12,"A3") -> 0 | H11: =COUNTIF('Tableau général des clés'!12:12,"AA") -> 0 | I11: =COUNTIF('Tableau général des clés'!12:12,"SCIENCE") -> 1 | J11: =COUNTIF('Tableau général des clés'!12:12,"TECHNO") -> 1 | K11: =COUNTIF('Tableau général des clés'!12:12,"EPS") -> 0 | L11: =COUNTIF('Tableau général des clés'!12:12,"PISCINE") -> 0 | M11: =COUNTIF('Tableau général des clés'!12:12,"ARTS") -> 0 | N11: =COUNTIF('Tableau général des clés'!12:12,"CDI") -> 0 | O11: =COUNTIF('Tableau général des clés'!12:12,"COP") -> 0 | P11: =COUNTIF('Tableau général des clés'!12:12,"ASCENSEUR") -> 0 | Q11: =COUNTIF('Tableau général des clés'!12:12,"VIES") -> 0 | R11: =COUNTIF('Tableau général des clés'!12:12,"AS") -> 0 | S11: =COUNTIF('Tableau général des clés'!12:12,"UPI2") -> 0 | T11: =COUNTIF('Tableau général des clés'!12:12,"UPI4") -> 0 | U11: =COUNTIF('Tableau général des clés'!12:12,"ADMIN") -> 0 | V11: =COUNTIF('Tableau général des clés'!12:12,"CASIERS") -> 0 | W11: =SUM(D11:V11) -> 3
C12: AESH | D12: =COUNTIF('Tableau général des clés'!13:13,"BANAL") -> 1 | E12: =COUNTIF('Tableau général des clés'!13:13,"A1") -> 0 | F12: =COUNTIF('Tableau général des clés'!13:13,"A2") -> 0 | G12: =COUNTIF('Tableau général des clés'!13:13,"A3") -> 0 | H12: =COUNTIF('Tableau général des clés'!13:13,"AA") -> 0 | I12: =COUNTIF('Tableau général des clés'!13:13,"SCIENCE") -> 0 | J12: =COUNTIF('Tableau général des clés'!13:13,"TECHNO") -> 0 | K12: =COUNTIF('Tableau général des clés'!13:13,"EPS") -> 0 | L12: =COUNTIF('Tableau général des clés'!13:13,"PISCINE") -> 0 | M12: =COUNTIF('Tableau général des clés'!13:13,"ARTS") -> 0 | N12: =COUNTIF('Tableau général des clés'!13:13,"CDI") -> 0 | O12: =COUNTIF('Tableau général des clés'!13:13,"COP") -> 0 | P12: =COUNTIF('Tableau général des clés'!13:13,"ASCENSEUR") -> 1 | Q12: =COUNTIF('Tableau général des clés'!13:13,"VIES") -> 0 | R12: =COUNTIF('Tableau général des clés'!13:13,"AS") -> 0 | S12: =COUNTIF('Tableau général des clés'!13:13,"UPI2") -> 0 | T12: =COUNTIF('Tableau général des clés'!13:13,"UPI4") -> 0 | U12: =COUNTIF('Tableau général des clés'!13:13,"ADMIN") -> 0 | V12: =COUNTIF('Tableau général des clés'!13:13,"CASIERS") -> 0 | W12: =SUM(D12:V12) -> 2
C13: AESH | D13: =COUNTIF('Tableau général des clés'!14:14,"BANAL") -> 1 | E13: =COUNTIF('Tableau général des clés'!14:14,"A1") -> 0 | F13: =COUNTIF('Tableau général des clés'!14:14,"A2") -> 0 | G13: =COUNTIF('Tableau général des clés'!14:14,"A3") -> 0 | H13: =COUNTIF('Tableau général des clés'!14:14,"AA") -> 0 | I13: =COUNTIF('Tableau général des clés'!14:14,"SCIENCE") -> 0 | J13: =COUNTIF('Tableau général des clés'!14:14,"TECHNO") -> 0 | K13: =COUNTIF('Tableau général des clés'!14:14,"EPS") -> 0 | L13: =COUNTIF('Tableau général des clés'!14:14,"PISCINE") -> 0 | M13: =COUNTIF('Tableau général des clés'!14:14,"ARTS") -> 0 | N13: =COUNTIF('Tableau général des clés'!14:14,"CDI") -> 0 | O13: =COUNTIF('Tableau général des clés'!14:14,"COP") -> 0 | P13: =COUNTIF('Tableau général des clés'!14:14,"ASCENSEUR") -> 1 | Q13: =COUNTIF('Tableau général des clés'!14:14,"VIES") -> 0 | R13: =COUNTIF('Tableau général des clés'!14:14,"AS") -> 0 | S13: =COUNTIF('Tableau général des clés'!14:14,"UPI2") -> 0 | T13: =COUNTIF('Tableau général des clés'!14:14,"UPI4") -> 0 | U13: =COUNTIF('Tableau général des clés'!14:14,"ADMIN") -> 0 | V13: =COUNTIF('Tableau général des clés'!14:14,"CASIERS") -> 0 | W13: =SUM(D13:V13) -> 2
C14: AESH | D14: =COUNTIF('Tableau général des clés'!15:15,"BANAL") -> 0 | E14: =COUNTIF('Tableau général des clés'!15:15,"A1") -> 0 | F14: =COUNTIF('Tableau général des clés'!15:15,"A2") -> 0 | G14: =COUNTIF('Tableau général des clés'!15:15,"A3") -> 0 | H14: =COUNTIF('Tableau général des clés'!15:15,"AA") -> 0 | I14: =COUNTIF('Tableau général des clés'!15:15,"SCIENCE") -> 0 | J14: =COUNTIF('Tableau général des clés'!15:15,"TECHNO") -> 0 | K14: =COUNTIF('Tableau général des clés'!15:15,"EPS") -> 0 | L14: =COUNTIF('Tableau général des clés'!15:15,"PISCINE") -> 1 | M14: =COUNTIF('Tableau général des clés'!15:15,"ARTS") -> 0 | N14: =COUNTIF('Tableau général des clés'!15:15,"CDI") -> 0 | O14: =COUNTIF('Tableau général des clés'!15:15,"COP") -> 0 | P14: =COUNTIF('Tableau général des clés'!15:15,"ASCENSEUR") -> 1 | Q14: =COUNTIF('Tableau général des clés'!15:15,"VIES") -> 0 | R14: =COUNTIF('Tableau général des clés'!15:15,"AS") -> 0 | S14: =COUNTIF('Tableau général des clés'!15:15,"UPI2") -> 0 | T14: =COUNTIF('Tableau général des clés'!15:15,"UPI4") -> 1 | U14: =COUNTIF('Tableau général des clés'!15:15,"ADMIN") -> 0 | V14: =COUNTIF('Tableau général des clés'!15:15,"CASIERS") -> 0 | W14: =SUM(D14:V14) -> 3
C15: AESH | D15: =COUNTIF('Tableau général des clés'!16:16,"BANAL") -> 1 | E15: =COUNTIF('Tableau général des clés'!16:16,"A1") -> 0 | F15: =COUNTIF('Tableau général des clés'!16:16,"A2") -> 0 | G15: =COUNTIF('Tableau général des clés'!16:16,"A3") -> 0 | H15: =COUNTIF('Tableau général des clés'!16:16,"AA") -> 0 | I15: =COUNTIF('Tableau général des clés'!16:16,"SCIENCE") -> 0 | J15: =COUNTIF('Tableau général des clés'!16:16,"TECHNO") -> 0 | K15: =COUNTIF('Tableau général des clés'!16:16,"EPS") -> 0 | L15: =COUNTIF('Tableau général des clés'!16:16,"PISCINE") -> 0 | M15: =COUNTIF('Tableau général des clés'!16:16,"ARTS") -> 0 | N15: =COUNTIF('Tableau général des clés'!16:16,"CDI") -> 0 | O15: =COUNTIF('Tableau général des clés'!16:16,"COP") -> 0 | P15: =COUNTIF('Tableau général des clés'!16:16,"ASCENSEUR") -> 1 | Q15: =COUNTIF('Tableau général des clés'!16:16,"VIES") -> 0 | R15: =COUNTIF('Tableau général des clés'!16:16,"AS") -> 0 | S15: =COUNTIF('Tableau général des clés'!16:16,"UPI2") -> 0 | T15: =COUNTIF('Tableau général des clés'!16:16,"UPI4") -> 1 | U15: =COUNTIF('Tableau général des clés'!16:16,"ADMIN") -> 0 | V15: =COUNTIF('Tableau général des clés'!16:16,"CASIERS") -> 0 | W15: =SUM(D15:V15) -> 3
C16: AESH | D16: =COUNTIF('Tableau général des clés'!17:17,"BANAL") -> 1 | E16: =COUNTIF('Tableau général des clés'!17:17,"A1") -> 0 | F16: =COUNTIF('Tableau général des clés'!17:17,"A2") -> 0 | G16: =COUNTIF('Tableau général des clés'!17:17,"A3") -> 0 | H16: =COUNTIF('Tableau général des clés'!17:17,"AA") -> 0 | I16: =COUNTIF('Tableau général des clés'!17:17,"SCIENCE") -> 0 | J16: =COUNTIF('Tableau général des clés'!17:17,"TECHNO") -> 0 | K16: =COUNTIF('Tableau général des clés'!17:17,"EPS") -> 0 | L16: =COUNTIF('Tableau général des clés'!17:17,"PISCINE") -> 0 | M16: =COUNTIF('Tableau général des clés'!17:17,"ARTS") -> 0 | N16: =COUNTIF('Tableau général des clés'!17:17,"CDI") -> 0 | O16: =COUNTIF('Tableau général des clés'!17:17,"COP") -> 0 | P16: =COUNTIF('Tableau général des clés'!17:17,"ASCENSEUR") -> 1 | Q16: =COUNTIF('Tableau général des clés'!17:17,"VIES") -> 0 | R16: =COUNTIF('Tableau général des clés'!17:17,"AS") -> 0 | S16: =COUNTIF('Tableau général des clés'!17:17,"UPI2") -> 0 | T16: =COUNTIF('Tableau général des clés'!17:17,"UPI4") -> 0 | U16: =COUNTIF('Tableau général des clés'!17:17,"ADMIN") -> 0 | V16: =COUNTIF('Tableau général des clés'!17:17,"CASIERS") -> 0 | W16: =SUM(D16:V16) -> 2
C17: AESH | D17: =COUNTIF('Tableau général des clés'!18:18,"BANAL") -> 1 | E17: =COUNTIF('Tableau général des clés'!18:18,"A1") -> 0 | F17: =COUNTIF('Tableau général des clés'!18:18,"A2") -> 0 | G17: =COUNTIF('Tableau général des clés'!18:18,"A3") -> 0 | H17: =COUNTIF('Tableau général des clés'!18:18,"AA") -> 0 | I17: =COUNTIF('Tableau général des clés'!18:18,"SCIENCE") -> 0 | J17: =COUNTIF('Tableau général des clés'!18:18,"TECHNO") -> 0 | K17: =COUNTIF('Tableau général des clés'!18:18,"EPS") -> 0 | L17: =COUNTIF('Tableau général des clés'!18:18,"PISCINE") -> 0 | M17: =COUNTIF('Tableau général des clés'!18:18,"ARTS") -> 0 | N17: =COUNTIF('Tableau général des clés'!18:18,"CDI") -> 0 | O17: =COUNTIF('Tableau général des clés'!18:18,"COP") -> 0 | P17: =COUNTIF('Tableau général des clés'!18:18,"ASCENSEUR") -> 0 | Q17: =COUNTIF('Tableau général des clés'!18:18,"VIES") -> 0 | R17: =COUNTIF('Tableau général des clés'!18:18,"AS") -> 0 | S17: =COUNTIF('Tableau général des clés'!18:18,"UPI2") -> 1 | T17: =COUNTIF('Tableau général des clés'!18:18,"UPI4") -> 0 | U17: =COUNTIF('Tableau général des clés'!18:18,"ADMIN") -> 0 | V17: =COUNTIF('Tableau général des clés'!18:18,"CASIERS") -> 0 | W17: =SUM(D17:V17) -> 2
C18: AESH | D18: =COUNTIF('Tableau général des clés'!19:19,"BANAL") -> 0 | E18: =COUNTIF('Tableau général des clés'!19:19,"A1") -> 0 | F18: =COUNTIF('Tableau général des clés'!19:19,"A2") -> 0 | G18: =COUNTIF('Tableau général des clés'!19:19,"A3") -> 1 | H18: =COUNTIF('Tableau général des clés'!19:19,"AA") -> 0 | I18: =COUNTIF('Tableau général des clés'!19:19,"SCIENCE") -> 0 | J18: =COUNTIF('Tableau général des clés'!19:19,"TECHNO") -> 0 | K18: =COUNTIF('Tableau général des clés'!19:19,"EPS") -> 0 | L18: =COUNTIF('Tableau général des clés'!19:19,"PISCINE") -> 0 | M18: =COUNTIF('Tableau général des clés'!19:19,"ARTS") -> 0 | N18: =COUNTIF('Tableau général des clés'!19:19,"CDI") -> 0 | O18: =COUNTIF('Tableau général des clés'!19:19,"COP") -> 0 | P18: =COUNTIF('Tableau général des clés'!19:19,"ASCENSEUR") -> 1 | Q18: =COUNTIF('Tableau général des clés'!19:19,"VIES") -> 0 | R18: =COUNTIF('Tableau général des clés'!19:19,"AS") -> 0 | S18: =COUNTIF('Tableau général des clés'!19:19,"UPI2") -> 1 | T18: =COUNTIF('Tableau général des clés'!19:19,"UPI4") -> 1 | U18: =COUNTIF('Tableau général des clés'!19:19,"ADMIN") -> 0 | V18: =COUNTIF('Tableau général des clés'!19:19,"CASIERS") -> 0 | W18: =SUM(D18:V18) -> 4
C19: AGENT | D19: =COUNTIF('Tableau général des clés'!20:20,"BANAL") -> 0 | E19: =COUNTIF('Tableau général des clés'!20:20,"A1") -> 1 | F19: =COUNTIF('Tableau général des clés'!20:20,"A2") -> 0 | G19: =COUNTIF('Tableau général des clés'!20:20,"A3") -> 0 | H19: =COUNTIF('Tableau général des clés'!20:20,"AA") -> 0 | I19: =COUNTIF('Tableau général des clés'!20:20,"SCIENCE") -> 0 | J19: =COUNTIF('Tableau général des clés'!20:20,"TECHNO") -> 0 | K19: =COUNTIF('Tableau général des clés'!20:20,"EPS") -> 0 | L19: =COUNTIF('Tableau général des clés'!20:20,"PISCINE") -> 0 | M19: =COUNTIF('Tableau général des clés'!20:20,"ARTS") -> 0 | N19: =COUNTIF('Tableau général des clés'!20:20,"CDI") -> 0 | O19: =COUNTIF('Tableau général des clés'!20:20,"COP") -> 0 | P19: =COUNTIF('Tableau général des clés'!20:20,"ASCENSEUR") -> 0 | Q19: =COUNTIF('Tableau général des clés'!20:20,"VIES") -> 0 | R19: =COUNTIF('Tableau général des clés'!20:20,"AS") -> 0 | S19: =COUNTIF('Tableau général des clés'!20:20,"UPI2") -> 0 | T19: =COUNTIF('Tableau général des clés'!20:20,"UPI4") -> 0 | U19: =COUNTIF('Tableau général des clés'!20:20,"ADMIN") -> 0 | V19: =COUNTIF('Tableau général des clés'!20:20,"CASIERS") -> 0 | W19: =SUM(D19:V19) -> 1
C20: AGENT | D20: =COUNTIF('Tableau général des clés'!21:21,"BANAL") -> 0 | E20: =COUNTIF('Tableau général des clés'!21:21,"A1") -> 0 | F20: =COUNTIF('Tableau général des clés'!21:21,"A2") -> 0 | G20: =COUNTIF('Tableau général des clés'!21:21,"A3") -> 0 | H20: =COUNTIF('Tableau général des clés'!21:21,"AA") -> 1 | I20: =COUNTIF('Tableau général des clés'!21:21,"SCIENCE") -> 0 | J20: =COUNTIF('Tableau général des clés'!21:21,"TECHNO") -> 0 | K20: =COUNTIF('Tableau général des clés'!21:21,"EPS") -> 0 | L20: =COUNTIF('Tableau général des clés'!21:21,"PISCINE") -> 0 | M20: =COUNTIF('Tableau général des clés'!21:21,"ARTS") -> 0 | N20: =COUNTIF('Tableau général des clés'!21:21,"CDI") -> 0 | O20: =COUNTIF('Tableau général des clés'!21:21,"COP") -> 0 | P20: =COUNTIF('Tableau général des clés'!21:21,"ASCENSEUR") -> 1 | Q20: =COUNTIF('Tableau général des clés'!21:21,"VIES") -> 0 | R20: =COUNTIF('Tableau général des clés'!21:21,"AS") -> 0 | S20: =COUNTIF('Tableau général des clés'!21:21,"UPI2") -> 0 | T20: =COUNTIF('Tableau général des clés'!21:21,"UPI4") -> 0 | U20: =COUNTIF('Tableau général des clés'!21:21,"ADMIN") -> 0 | V20: =COUNTIF('Tableau général des clés'!21:21,"CASIERS") -> 0 | W20: =SUM(D20:V20) -> 2
C21: AGENT | D21: =COUNTIF('Tableau général des clés'!22:22,"BANAL") -> 0 | E21: =COUNTIF('Tableau général des clés'!22:22,"A1") -> 0 | F21: =COUNTIF('Tableau général des clés'!22:22,"A2") -> 1 | G21: =COUNTIF('Tableau général des clés'!22:22,"A3") -> 0 | H21: =COUNTIF('Tableau général des clés'!22:22,"AA") -> 0 | I21: =COUNTIF('Tableau général des clés'!22:22,"SCIENCE") -> 0 | J21: =COUNTIF('Tableau général des clés'!22:22,"TECHNO") -> 0 | K21: =COUNTIF('Tableau général des clés'!22:22,"EPS") -> 0 | L21: =COUNTIF('Tableau général des clés'!22:22,"PISCINE") -> 0 | M21: =COUNTIF('Tableau général des clés'!22:22,"ARTS") -> 0 | N21: =COUNTIF('Tableau général des clés'!22:22,"CDI") -> 0 | O21: =COUNTIF('Tableau général des clés'!22:22,"COP") -> 0 | P21: =COUNTIF('Tableau général des clés'!22:22,"ASCENSEUR") -> 1 | Q21: =COUNTIF('Tableau général des clés'!22:22,"VIES") -> 0 | R21: =COUNTIF('Tableau général des clés'!22:22,"AS") -> 0 | S21: =COUNTIF('Tableau général des clés'!22:22,"UPI2") -> 0 | T21: =COUNTIF('Tableau général des clés'!22:22,"UPI4") -> 0 | U21: =COUNTIF('Tableau général des clés'!22:22,"ADMIN") -> 0 | V21: =COUNTIF('Tableau général des clés'!22:22,"CASIERS") -> 0 | W21: =SUM(D21:V21) -> 2
C22: AGENT | D22: =COUNTIF('Tableau général des clés'!23:23,"BANAL") -> 0 | E22: =COUNTIF('Tableau général des clés'!23:23,"A1") -> 0 | F22: =COUNTIF('Tableau général des clés'!23:23,"A2") -> 1 | G22: =COUNTIF('Tableau général des clés'!23:23,"A3") -> 0 | H22: =COUNTIF('Tableau général des clés'!23:23,"AA") -> 0 | I22: =COUNTIF('Tableau général des clés'!23:23,"SCIENCE") -> 0 | J22: =COUNTIF('Tableau général des clés'!23:23,"TECHNO") -> 0 | K22: =COUNTIF('Tableau général des clés'!23:23,"EPS") -> 0 | L22: =COUNTIF('Tableau général des clés'!23:23,"PISCINE") -> 0 | M22: =COUNTIF('Tableau général des clés'!23:23,"ARTS") -> 0 | N22: =COUNTIF('Tableau général des clés'!23:23,"CDI") -> 0 | O22: =COUNTIF('Tableau général des clés'!23:23,"COP") -> 0 | P22: =COUNTIF('Tableau général des clés'!23:23,"ASCENSEUR") -> 1 | Q22: =COUNTIF('Tableau général des clés'!23:23,"VIES") -> 0 | R22: =COUNTIF('Tableau général des clés'!23:23,"AS") -> 0 | S22: =COUNTIF('Tableau général des clés'!23:23,"UPI2") -> 0 | T22: =COUNTIF('Tableau général des clés'!23:23,"UPI4") -> 0 | U22: =COUNTIF('Tableau général des clés'!23:23,"ADMIN") -> 0 | V22: =COUNTIF('Tableau général des clés'!23:23,"CASIERS") -> 0 | W22: =SUM(D22:V22) -> 2
C23: AGENT | D23: =COUNTIF('Tableau général des clés'!24:24,"BANAL") -> 0 | E23: =COUNTIF('Tableau général des clés'!24:24,"A1") -> 0 | F23: =COUNTIF('Tableau général des clés'!24:24,"A2") -> 1 | G23: =COUNTIF('Tableau général des clés'!24:24,"A3") -> 0 | H23: =COUNTIF('Tableau général des clés'!24:24,"AA") -> 0 | I23: =COUNTIF('Tableau général des clés'!24:24,"SCIENCE") -> 0 | J23: =COUNTIF('Tableau général des clés'!24:24,"TECHNO") -> 0 | K23: =COUNTIF('Tableau général des clés'!24:24,"EPS") -> 0 | L23: =COUNTIF('Tableau général des clés'!24:24,"PISCINE") -> 0 | M23: =COUNTIF('Tableau général des clés'!24:24,"ARTS") -> 0 | N23: =COUNTIF('Tableau général des clés'!24:24,"CDI") -> 0 | O23: =COUNTIF('Tableau général des clés'!24:24,"COP") -> 0 | P23: =COUNTIF('Tableau général des clés'!24:24,"ASCENSEUR") -> 1 | Q23: =COUNTIF('Tableau général des clés'!24:24,"VIES") -> 0 | R23: =COUNTIF('Tableau général des clés'!24:24,"AS") -> 0 | S23: =COUNTIF('Tableau général des clés'!24:24,"UPI2") -> 0 | T23: =COUNTIF('Tableau général des clés'!24:24,"UPI4") -> 0 | U23: =COUNTIF('Tableau général des clés'!24:24,"ADMIN") -> 1 | V23: =COUNTIF('Tableau général des clés'!24:24,"CASIERS") -> 0 | W23: =SUM(D23:V23) -> 3
C24: AGENT | D24: =COUNTIF('Tableau général des clés'!25:25,"BANAL") -> 0 | E24: =COUNTIF('Tableau général des clés'!25:25,"A1") -> 0 | F24: =COUNTIF('Tableau général des clés'!25:25,"A2") -> 0 | G24: =COUNTIF('Tableau général des clés'!25:25,"A3") -> 0 | H24: =COUNTIF('Tableau général des clés'!25:25,"AA") -> 1 | I24: =COUNTIF('Tableau général des clés'!25:25,"SCIENCE") -> 0 | J24: =COUNTIF('Tableau général des clés'!25:25,"TECHNO") -> 0 | K24: =COUNTIF('Tableau général des clés'!25:25,"EPS") -> 0 | L24: =COUNTIF('Tableau général des clés'!25:25,"PISCINE") -> 0 | M24: =COUNTIF('Tableau général des clés'!25:25,"ARTS") -> 0 | N24: =COUNTIF('Tableau général des clés'!25:25,"CDI") -> 0 | O24: =COUNTIF('Tableau général des clés'!25:25,"COP") -> 0 | P24: =COUNTIF('Tableau général des clés'!25:25,"ASCENSEUR") -> 0 | Q24: =COUNTIF('Tableau général des clés'!25:25,"VIES") -> 0 | R24: =COUNTIF('Tableau général des clés'!25:25,"AS") -> 0 | S24: =COUNTIF('Tableau général des clés'!25:25,"UPI2") -> 0 | T24: =COUNTIF('Tableau général des clés'!25:25,"UPI4") -> 0 | U24: =COUNTIF('Tableau général des clés'!25:25,"ADMIN") -> 0 | V24: =COUNTIF('Tableau général des clés'!25:25,"CASIERS") -> 0 | W24: =SUM(D24:V24) -> 1
C25: AGENT | D25: =COUNTIF('Tableau général des clés'!26:26,"BANAL") -> 0 | E25: =COUNTIF('Tableau général des clés'!26:26,"A1") -> 0 | F25: =COUNTIF('Tableau général des clés'!26:26,"A2") -> 0 | G25: =COUNTIF('Tableau général des clés'!26:26,"A3") -> 0 | H25: =COUNTIF('Tableau général des clés'!26:26,"AA") -> 1 | I25: =COUNTIF('Tableau général des clés'!26:26,"SCIENCE") -> 0 | J25: =COUNTIF('Tableau général des clés'!26:26,"TECHNO") -> 0 | K25: =COUNTIF('Tableau général des clés'!26:26,"EPS") -> 0 | L25: =COUNTIF('Tableau général des clés'!26:26,"PISCINE") -> 0 | M25: =COUNTIF('Tableau général des clés'!26:26,"ARTS") -> 0 | N25: =COUNTIF('Tableau général des clés'!26:26,"CDI") -> 0 | O25: =COUNTIF('Tableau général des clés'!26:26,"COP") -> 0 | P25: =COUNTIF('Tableau général des clés'!26:26,"ASCENSEUR") -> 1 | Q25: =COUNTIF('Tableau général des clés'!26:26,"VIES") -> 0 | R25: =COUNTIF('Tableau général des clés'!26:26,"AS") -> 0 | S25: =COUNTIF('Tableau général des clés'!26:26,"UPI2") -> 0 | T25: =COUNTIF('Tableau général des clés'!26:26,"UPI4") -> 0 | U25: =COUNTIF('Tableau général des clés'!26:26,"ADMIN") -> 0 | V25: =COUNTIF('Tableau général des clés'!26:26,"CASIERS") -> 0 | W25: =SUM(D25:V25) -> 2
C26: AGENT | D26: =COUNTIF('Tableau général des clés'!27:27,"BANAL") -> 0 | E26: =COUNTIF('Tableau général des clés'!27:27,"A1") -> 0 | F26: =COUNTIF('Tableau général des clés'!27:27,"A2") -> 0 | G26: =COUNTIF('Tableau général des clés'!27:27,"A3") -> 0 | H26: =COUNTIF('Tableau général des clés'!27:27,"AA") -> 1 | I26: =COUNTIF('Tableau général des clés'!27:27,"SCIENCE") -> 0 | J26: =COUNTIF('Tableau général des clés'!27:27,"TECHNO") -> 0 | K26: =COUNTIF('Tableau général des clés'!27:27,"EPS") -> 0 | L26: =COUNTIF('Tableau général des clés'!27:27,"PISCINE") -> 0 | M26: =COUNTIF('Tableau général des clés'!27:27,"ARTS") -> 0 | N26: =COUNTIF('Tableau général des clés'!27:27,"CDI") -> 0 | O26: =COUNTIF('Tableau général des clés'!27:27,"COP") -> 0 | P26: =COUNTIF('Tableau général des clés'!27:27,"ASCENSEUR") -> 1 | Q26: =COUNTIF('Tableau général des clés'!27:27,"VIES") -> 0 | R26: =COUNTIF('Tableau général des clés'!27:27,"AS") -> 0 | S26: =COUNTIF('Tableau général des clés'!27:27,"UPI2") -> 0 | T26: =COUNTIF('Tableau général des clés'!27:27,"UPI4") -> 0 | U26: =COUNTIF('Tableau général des clés'!27:27,"ADMIN") -> 0 | V26: =COUNTIF('Tableau général des clés'!27:27,"CASIERS") -> 0 | W26: =SUM(D26:V26) -> 2
C27: AGENT | D27: =COUNTIF('Tableau général des clés'!28:28,"BANAL") -> 0 | E27: =COUNTIF('Tableau général des clés'!28:28,"A1") -> 0 | F27: =COUNTIF('Tableau général des clés'!28:28,"A2") -> 1 | G27: =COUNTIF('Tableau général des clés'!28:28,"A3") -> 0 | H27: =COUNTIF('Tableau général des clés'!28:28,"AA") -> 0 | I27: =COUNTIF('Tableau général des clés'!28:28,"SCIENCE") -> 0 | J27: =COUNTIF('Tableau général des clés'!28:28,"TECHNO") -> 0 | K27: =COUNTIF('Tableau général des clés'!28:28,"EPS") -> 0 | L27: =COUNTIF('Tableau général des clés'!28:28,"PISCINE") -> 0 | M27: =COUNTIF('Tableau général des clés'!28:28,"ARTS") -> 0 | N27: =COUNTIF('Tableau général des clés'!28:28,"CDI") -> 0 | O27: =COUNTIF('Tableau général des clés'!28:28,"COP") -> 0 | P27: =COUNTIF('Tableau général des clés'!28:28,"ASCENSEUR") -> 1 | Q27: =COUNTIF('Tableau général des clés'!28:28,"VIES") -> 0 | R27: =COUNTIF('Tableau général des clés'!28:28,"AS") -> 0 | S27: =COUNTIF('Tableau général des clés'!28:28,"UPI2") -> 0 | T27: =COUNTIF('Tableau général des clés'!28:28,"UPI4") -> 0 | U27: =COUNTIF('Tableau général des clés'!28:28,"ADMIN") -> 0 | V27: =COUNTIF('Tableau général des clés'!28:28,"CASIERS") -> 0 | W27: =SUM(D27:V27) -> 2
C28: AGENT | D28: =COUNTIF('Tableau général des clés'!29:29,"BANAL") -> 0 | E28: =COUNTIF('Tableau général des clés'!29:29,"A1") -> 1 | F28: =COUNTIF('Tableau général des clés'!29:29,"A2") -> 0 | G28: =COUNTIF('Tableau général des clés'!29:29,"A3") -> 0 | H28: =COUNTIF('Tableau général des clés'!29:29,"AA") -> 1 | I28: =COUNTIF('Tableau général des clés'!29:29,"SCIENCE") -> 0 | J28: =COUNTIF('Tableau général des clés'!29:29,"TECHNO") -> 0 | K28: =COUNTIF('Tableau général des clés'!29:29,"EPS") -> 0 | L28: =COUNTIF('Tableau général des clés'!29:29,"PISCINE") -> 1 | M28: =COUNTIF('Tableau général des clés'!29:29,"ARTS") -> 0 | N28: =COUNTIF('Tableau général des clés'!29:29,"CDI") -> 0 | O28: =COUNTIF('Tableau général des clés'!29:29,"COP") -> 0 | P28: =COUNTIF('Tableau général des clés'!29:29,"ASCENSEUR") -> 1 | Q28: =COUNTIF('Tableau général des clés'!29:29,"VIES") -> 0 | R28: =COUNTIF('Tableau général des clés'!29:29,"AS") -> 0 | S28: =COUNTIF('Tableau général des clés'!29:29,"UPI2") -> 0 | T28: =COUNTIF('Tableau général des clés'!29:29,"UPI4") -> 0 | U28: =COUNTIF('Tableau général des clés'!29:29,"ADMIN") -> 1 | V28: =COUNTIF('Tableau général des clés'!29:29,"CASIERS") -> 0 | W28: =SUM(D28:V28) -> 5
C29: AGENT | D29: =COUNTIF('Tableau général des clés'!30:30,"BANAL") -> 0 | E29: =COUNTIF('Tableau général des clés'!30:30,"A1") -> 0 | F29: =COUNTIF('Tableau général des clés'!30:30,"A2") -> 1 | G29: =COUNTIF('Tableau général des clés'!30:30,"A3") -> 0 | H29: =COUNTIF('Tableau général des clés'!30:30,"AA") -> 0 | I29: =COUNTIF('Tableau général des clés'!30:30,"SCIENCE") -> 0 | J29: =COUNTIF('Tableau général des clés'!30:30,"TECHNO") -> 0 | K29: =COUNTIF('Tableau général des clés'!30:30,"EPS") -> 0 | L29: =COUNTIF('Tableau général des clés'!30:30,"PISCINE") -> 0 | M29: =COUNTIF('Tableau général des clés'!30:30,"ARTS") -> 0 | N29: =COUNTIF('Tableau général des clés'!30:30,"CDI") -> 0 | O29: =COUNTIF('Tableau général des clés'!30:30,"COP") -> 0 | P29: =COUNTIF('Tableau général des clés'!30:30,"ASCENSEUR") -> 1 | Q29: =COUNTIF('Tableau général des clés'!30:30,"VIES") -> 0 | R29: =COUNTIF('Tableau général des clés'!30:30,"AS") -> 0 | S29: =COUNTIF('Tableau général des clés'!30:30,"UPI2") -> 0 | T29: =COUNTIF('Tableau général des clés'!30:30,"UPI4") -> 0 | U29: =COUNTIF('Tableau général des clés'!30:30,"ADMIN") -> 1 | V29: =COUNTIF('Tableau général des clés'!30:30,"CASIERS") -> 0 | W29: =SUM(D29:V29) -> 3
C30: AGENT | D30: =COUNTIF('Tableau général des clés'!31:31,"BANAL") -> 0 | E30: =COUNTIF('Tableau général des clés'!31:31,"A1") -> 0 | F30: =COUNTIF('Tableau général des clés'!31:31,"A2") -> 1 | G30: =COUNTIF('Tableau général des clés'!31:31,"A3") -> 0 | H30: =COUNTIF('Tableau général des clés'!31:31,"AA") -> 0 | I30: =COUNTIF('Tableau général des clés'!31:31,"SCIENCE") -> 0 | J30: =COUNTIF('Tableau général des clés'!31:31,"TECHNO") -> 0 | K30: =COUNTIF('Tableau général des clés'!31:31,"EPS") -> 0 | L30: =COUNTIF('Tableau général des clés'!31:31,"PISCINE") -> 0 | M30: =COUNTIF('Tableau général des clés'!31:31,"ARTS") -> 0 | N30: =COUNTIF('Tableau général des clés'!31:31,"CDI") -> 0 | O30: =COUNTIF('Tableau général des clés'!31:31,"COP") -> 0 | P30: =COUNTIF('Tableau général des clés'!31:31,"ASCENSEUR") -> 1 | Q30: =COUNTIF('Tableau général des clés'!31:31,"VIES") -> 0 | R30: =COUNTIF('Tableau général des clés'!31:31,"AS") -> 0 | S30: =COUNTIF('Tableau général des clés'!31:31,"UPI2") -> 0 | T30: =COUNTIF('Tableau général des clés'!31:31,"UPI4") -> 0 | U30: =COUNTIF('Tableau général des clés'!31:31,"ADMIN") -> 0 | V30: =COUNTIF('Tableau général des clés'!31:31,"CASIERS") -> 0 | W30: =SUM(D30:V30) -> 2
C31: APS | D31: =COUNTIF('Tableau général des clés'!32:32,"BANAL") -> 0 | E31: =COUNTIF('Tableau général des clés'!32:32,"A1") -> 0 | F31: =COUNTIF('Tableau général des clés'!32:32,"A2") -> 0 | G31: =COUNTIF('Tableau général des clés'!32:32,"A3") -> 0 | H31: =COUNTIF('Tableau général des clés'!32:32,"AA") -> 0 | I31: =COUNTIF('Tableau général des clés'!32:32,"SCIENCE") -> 0 | J31: =COUNTIF('Tableau général des clés'!32:32,"TECHNO") -> 0 | K31: =COUNTIF('Tableau général des clés'!32:32,"EPS") -> 0 | L31: =COUNTIF('Tableau général des clés'!32:32,"PISCINE") -> 0 | M31: =COUNTIF('Tableau général des clés'!32:32,"ARTS") -> 0 | N31: =COUNTIF('Tableau général des clés'!32:32,"CDI") -> 0 | O31: =COUNTIF('Tableau général des clés'!32:32,"COP") -> 0 | P31: =COUNTIF('Tableau général des clés'!32:32,"ASCENSEUR") -> 0 | Q31: =COUNTIF('Tableau général des clés'!32:32,"VIES") -> 1 | R31: =COUNTIF('Tableau général des clés'!32:32,"AS") -> 0 | S31: =COUNTIF('Tableau général des clés'!32:32,"UPI2") -> 0 | T31: =COUNTIF('Tableau général des clés'!32:32,"UPI4") -> 0 | U31: =COUNTIF('Tableau général des clés'!32:32,"ADMIN") -> 0 | V31: =COUNTIF('Tableau général des clés'!32:32,"CASIERS") -> 0 | W31: =SUM(D31:V31) -> 1
C32: ASSISTANTE SOCIALE | D32: =COUNTIF('ARCHIVE Général '!38:38,"BANAL") -> 0 | E32: =COUNTIF('ARCHIVE Général '!38:38,"A1") -> 0 | F32: =COUNTIF('ARCHIVE Général '!38:38,"A2") -> 0 | G32: =COUNTIF('ARCHIVE Général '!38:38,"A3") -> 0 | H32: =COUNTIF('ARCHIVE Général '!38:38,"AA") -> 0 | I32: =COUNTIF('ARCHIVE Général '!38:38,"SCIENCE") -> 0 | J32: =COUNTIF('ARCHIVE Général '!38:38,"TECHNO") -> 0 | K32: =COUNTIF('ARCHIVE Général '!38:38,"EPS") -> 0 | L32: =COUNTIF('ARCHIVE Général '!38:38,"PISCINE") -> 0 | M32: =COUNTIF('ARCHIVE Général '!38:38,"ARTS") -> 0 | N32: =COUNTIF('ARCHIVE Général '!38:38,"CDI") -> 0 | O32: =COUNTIF('ARCHIVE Général '!38:38,"COP") -> 0 | P32: =COUNTIF('ARCHIVE Général '!38:38,"ASCENSEUR") -> 0 | Q32: =COUNTIF('ARCHIVE Général '!38:38,"VIES") -> 0 | R32: =COUNTIF('ARCHIVE Général '!38:38,"AS") -> 0 | S32: =COUNTIF('ARCHIVE Général '!38:38,"UPI2") -> 0 | T32: =COUNTIF('ARCHIVE Général '!38:38,"UPI4") -> 0 | U32: =COUNTIF('ARCHIVE Général '!38:38,"ADMIN") -> 0 | V32: =COUNTIF('ARCHIVE Général '!38:38,"CASIERS") -> 0 | W32: =SUM(D32:V32) -> 0
C33: CDI | D33: =COUNTIF('Tableau général des clés'!33:33,"BANAL") -> 1 | E33: =COUNTIF('Tableau général des clés'!33:33,"A1") -> 0 | F33: =COUNTIF('Tableau général des clés'!33:33,"A2") -> 0 | G33: =COUNTIF('Tableau général des clés'!33:33,"A3") -> 0 | H33: =COUNTIF('Tableau général des clés'!33:33,"AA") -> 0 | I33: =COUNTIF('Tableau général des clés'!33:33,"SCIENCE") -> 1 | J33: =COUNTIF('Tableau général des clés'!33:33,"TECHNO") -> 0 | K33: =COUNTIF('Tableau général des clés'!33:33,"EPS") -> 0 | L33: =COUNTIF('Tableau général des clés'!33:33,"PISCINE") -> 0 | M33: =COUNTIF('Tableau général des clés'!33:33,"ARTS") -> 0 | N33: =COUNTIF('Tableau général des clés'!33:33,"CDI") -> 1 | O33: =COUNTIF('Tableau général des clés'!33:33,"COP") -> 0 | P33: =COUNTIF('Tableau général des clés'!33:33,"ASCENSEUR") -> 0 | Q33: =COUNTIF('Tableau général des clés'!33:33,"VIES") -> 0 | R33: =COUNTIF('Tableau général des clés'!33:33,"AS") -> 0 | S33: =COUNTIF('Tableau général des clés'!33:33,"UPI2") -> 0 | T33: =COUNTIF('Tableau général des clés'!33:33,"UPI4") -> 0 | U33: =COUNTIF('Tableau général des clés'!33:33,"ADMIN") -> 0 | V33: =COUNTIF('Tableau général des clés'!33:33,"CASIERS") -> 0 | W33: =SUM(D33:V33) -> 3
C34: COP | D34: =COUNTIF('Tableau général des clés'!34:34,"BANAL") -> 1 | E34: =COUNTIF('Tableau général des clés'!34:34,"A1") -> 0 | F34: =COUNTIF('Tableau général des clés'!34:34,"A2") -> 0 | G34: =COUNTIF('Tableau général des clés'!34:34,"A3") -> 0 | H34: =COUNTIF('Tableau général des clés'!34:34,"AA") -> 0 | I34: =COUNTIF('Tableau général des clés'!34:34,"SCIENCE") -> 0 | J34: =COUNTIF('Tableau général des clés'!34:34,"TECHNO") -> 0 | K34: =COUNTIF('Tableau général des clés'!34:34,"EPS") -> 0 | L34: =COUNTIF('Tableau général des clés'!34:34,"PISCINE") -> 0 | M34: =COUNTIF('Tableau général des clés'!34:34,"ARTS") -> 0 | N34: =COUNTIF('Tableau général des clés'!34:34,"CDI") -> 1 | O34: =COUNTIF('Tableau général des clés'!34:34,"COP") -> 1 | P34: =COUNTIF('Tableau général des clés'!34:34,"ASCENSEUR") -> 0 | Q34: =COUNTIF('Tableau général des clés'!34:34,"VIES") -> 0 | R34: =COUNTIF('Tableau général des clés'!34:34,"AS") -> 0 | S34: =COUNTIF('Tableau général des clés'!34:34,"UPI2") -> 0 | T34: =COUNTIF('Tableau général des clés'!34:34,"UPI4") -> 0 | U34: =COUNTIF('Tableau général des clés'!34:34,"ADMIN") -> 0 | V34: =COUNTIF('Tableau général des clés'!34:34,"CASIERS") -> 0 | W34: =SUM(D34:V34) -> 3
C35: CPE | D35: =COUNTIF('Tableau général des clés'!35:35,"BANAL") -> 0 | E35: =COUNTIF('Tableau général des clés'!35:35,"A1") -> 0 | F35: =COUNTIF('Tableau général des clés'!35:35,"A2") -> 0 | G35: =COUNTIF('Tableau général des clés'!35:35,"A3") -> 0 | H35: =COUNTIF('Tableau général des clés'!35:35,"AA") -> 1 | I35: =COUNTIF('Tableau général des clés'!35:35,"SCIENCE") -> 0 | J35: =COUNTIF('Tableau général des clés'!35:35,"TECHNO") -> 0 | K35: =COUNTIF('Tableau général des clés'!35:35,"EPS") -> 0 | L35: =COUNTIF('Tableau général des clés'!35:35,"PISCINE") -> 0 | M35: =COUNTIF('Tableau général des clés'!35:35,"ARTS") -> 0 | N35: =COUNTIF('Tableau général des clés'!35:35,"CDI") -> 0 | O35: =COUNTIF('Tableau général des clés'!35:35,"COP") -> 0 | P35: =COUNTIF('Tableau général des clés'!35:35,"ASCENSEUR") -> 1 | Q35: =COUNTIF('Tableau général des clés'!35:35,"VIES") -> 0 | R35: =COUNTIF('Tableau général des clés'!35:35,"AS") -> 0 | S35: =COUNTIF('Tableau général des clés'!35:35,"UPI2") -> 0 | T35: =COUNTIF('Tableau général des clés'!35:35,"UPI4") -> 0 | U35: =COUNTIF('Tableau général des clés'!35:35,"ADMIN") -> 0 | V35: =COUNTIF('Tableau général des clés'!35:35,"CASIERS") -> 0 | W35: =SUM(D35:V35) -> 2
C36: DEFI SPORT | D36: =COUNTIF('Tableau général des clés'!36:36,"BANAL") -> 0 | E36: =COUNTIF('Tableau général des clés'!36:36,"A1") -> 0 | F36: =COUNTIF('Tableau général des clés'!36:36,"A2") -> 0 | G36: =COUNTIF('Tableau général des clés'!36:36,"A3") -> 0 | H36: =COUNTIF('Tableau général des clés'!36:36,"AA") -> 0 | I36: =COUNTIF('Tableau général des clés'!36:36,"SCIENCE") -> 0 | J36: =COUNTIF('Tableau général des clés'!36:36,"TECHNO") -> 0 | K36: =COUNTIF('Tableau général des clés'!36:36,"EPS") -> 0 | L36: =COUNTIF('Tableau général des clés'!36:36,"PISCINE") -> 1 | M36: =COUNTIF('Tableau général des clés'!36:36,"ARTS") -> 0 | N36: =COUNTIF('Tableau général des clés'!36:36,"CDI") -> 0 | O36: =COUNTIF('Tableau général des clés'!36:36,"COP") -> 0 | P36: =COUNTIF('Tableau général des clés'!36:36,"ASCENSEUR") -> 0 | Q36: =COUNTIF('Tableau général des clés'!36:36,"VIES") -> 0 | R36: =COUNTIF('Tableau général des clés'!36:36,"AS") -> 0 | S36: =COUNTIF('Tableau général des clés'!36:36,"UPI2") -> 0 | T36: =COUNTIF('Tableau général des clés'!36:36,"UPI4") -> 0 | U36: =COUNTIF('Tableau général des clés'!36:36,"ADMIN") -> 0 | V36: =COUNTIF('Tableau général des clés'!36:36,"CASIERS") -> 0 | W36: =SUM(D36:V36) -> 1
C37: EDUCATEUR | D37: =COUNTIF('Tableau général des clés'!37:37,"BANAL") -> 1 | E37: =COUNTIF('Tableau général des clés'!37:37,"A1") -> 0 | F37: =COUNTIF('Tableau général des clés'!37:37,"A2") -> 0 | G37: =COUNTIF('Tableau général des clés'!37:37,"A3") -> 0 | H37: =COUNTIF('Tableau général des clés'!37:37,"AA") -> 0 | I37: =COUNTIF('Tableau général des clés'!37:37,"SCIENCE") -> 0 | J37: =COUNTIF('Tableau général des clés'!37:37,"TECHNO") -> 0 | K37: =COUNTIF('Tableau général des clés'!37:37,"EPS") -> 0 | L37: =COUNTIF('Tableau général des clés'!37:37,"PISCINE") -> 0 | M37: =COUNTIF('Tableau général des clés'!37:37,"ARTS") -> 0 | N37: =COUNTIF('Tableau général des clés'!37:37,"CDI") -> 0 | O37: =COUNTIF('Tableau général des clés'!37:37,"COP") -> 0 | P37: =COUNTIF('Tableau général des clés'!37:37,"ASCENSEUR") -> 1 | Q37: =COUNTIF('Tableau général des clés'!37:37,"VIES") -> 0 | R37: =COUNTIF('Tableau général des clés'!37:37,"AS") -> 0 | S37: =COUNTIF('Tableau général des clés'!37:37,"UPI2") -> 0 | T37: =COUNTIF('Tableau général des clés'!37:37,"UPI4") -> 0 | U37: =COUNTIF('Tableau général des clés'!37:37,"ADMIN") -> 0 | V37: =COUNTIF('Tableau général des clés'!37:37,"CASIERS") -> 0 | W37: =SUM(D37:V37) -> 2
C38: EDUCATEUR | D38: =COUNTIF('Tableau général des clés'!38:38,"BANAL") -> 0 | E38: =COUNTIF('Tableau général des clés'!38:38,"A1") -> 0 | F38: =COUNTIF('Tableau général des clés'!38:38,"A2") -> 0 | G38: =COUNTIF('Tableau général des clés'!38:38,"A3") -> 0 | H38: =COUNTIF('Tableau général des clés'!38:38,"AA") -> 0 | I38: =COUNTIF('Tableau général des clés'!38:38,"SCIENCE") -> 0 | J38: =COUNTIF('Tableau général des clés'!38:38,"TECHNO") -> 0 | K38: =COUNTIF('Tableau général des clés'!38:38,"EPS") -> 0 | L38: =COUNTIF('Tableau général des clés'!38:38,"PISCINE") -> 0 | M38: =COUNTIF('Tableau général des clés'!38:38,"ARTS") -> 0 | N38: =COUNTIF('Tableau général des clés'!38:38,"CDI") -> 0 | O38: =COUNTIF('Tableau général des clés'!38:38,"COP") -> 0 | P38: =COUNTIF('Tableau général des clés'!38:38,"ASCENSEUR") -> 0 | Q38: =COUNTIF('Tableau général des clés'!38:38,"VIES") -> 0 | R38: =COUNTIF('Tableau général des clés'!38:38,"AS") -> 0 | S38: =COUNTIF('Tableau général des clés'!38:38,"UPI2") -> 1 | T38: =COUNTIF('Tableau général des clés'!38:38,"UPI4") -> 0 | U38: =COUNTIF('Tableau général des clés'!38:38,"ADMIN") -> 0 | V38: =COUNTIF('Tableau général des clés'!38:38,"CASIERS") -> 0 | W38: =SUM(D38:V38) -> 1
C39: EDUCATEUR | D39: =COUNTIF('Tableau général des clés'!39:39,"BANAL") -> 1 | E39: =COUNTIF('Tableau général des clés'!39:39,"A1") -> 0 | F39: =COUNTIF('Tableau général des clés'!39:39,"A2") -> 0 | G39: =COUNTIF('Tableau général des clés'!39:39,"A3") -> 0 | H39: =COUNTIF('Tableau général des clés'!39:39,"AA") -> 0 | I39: =COUNTIF('Tableau général des clés'!39:39,"SCIENCE") -> 0 | J39: =COUNTIF('Tableau général des clés'!39:39,"TECHNO") -> 0 | K39: =COUNTIF('Tableau général des clés'!39:39,"EPS") -> 0 | L39: =COUNTIF('Tableau général des clés'!39:39,"PISCINE") -> 0 | M39: =COUNTIF('Tableau général des clés'!39:39,"ARTS") -> 0 | N39: =COUNTIF('Tableau général des clés'!39:39,"CDI") -> 0 | O39: =COUNTIF('Tableau général des clés'!39:39,"COP") -> 0 | P39: =COUNTIF('Tableau général des clés'!39:39,"ASCENSEUR") -> 0 | Q39: =COUNTIF('Tableau général des clés'!39:39,"VIES") -> 0 | R39: =COUNTIF('Tableau général des clés'!39:39,"AS") -> 0 | S39: =COUNTIF('Tableau général des clés'!39:39,"UPI2") -> 0 | T39: =COUNTIF('Tableau général des clés'!39:39,"UPI4") -> 0 | U39: =COUNTIF('Tableau général des clés'!39:39,"ADMIN") -> 0 | V39: =COUNTIF('Tableau général des clés'!39:39,"CASIERS") -> 0 | W39: =SUM(D39:V39) -> 1
C40: EDUCATEUR | D40: =COUNTIF('Tableau général des clés'!40:40,"BANAL") -> 1 | E40: =COUNTIF('Tableau général des clés'!40:40,"A1") -> 0 | F40: =COUNTIF('Tableau général des clés'!40:40,"A2") -> 0 | G40: =COUNTIF('Tableau général des clés'!40:40,"A3") -> 0 | H40: =COUNTIF('Tableau général des clés'!40:40,"AA") -> 0 | I40: =COUNTIF('Tableau général des clés'!40:40,"SCIENCE") -> 0 | J40: =COUNTIF('Tableau général des clés'!40:40,"TECHNO") -> 0 | K40: =COUNTIF('Tableau général des clés'!40:40,"EPS") -> 0 | L40: =COUNTIF('Tableau général des clés'!40:40,"PISCINE") -> 0 | M40: =COUNTIF('Tableau général des clés'!40:40,"ARTS") -> 0 | N40: =COUNTIF('Tableau général des clés'!40:40,"CDI") -> 0 | O40: =COUNTIF('Tableau général des clés'!40:40,"COP") -> 0 | P40: =COUNTIF('Tableau général des clés'!40:40,"ASCENSEUR") -> 0 | Q40: =COUNTIF('Tableau général des clés'!40:40,"VIES") -> 0 | R40: =COUNTIF('Tableau général des clés'!40:40,"AS") -> 0 | S40: =COUNTIF('Tableau général des clés'!40:40,"UPI2") -> 0 | T40: =COUNTIF('Tableau général des clés'!40:40,"UPI4") -> 0 | U40: =COUNTIF('Tableau général des clés'!40:40,"ADMIN") -> 0 | V40: =COUNTIF('Tableau général des clés'!40:40,"CASIERS") -> 0 | W40: =SUM(D40:V40) -> 1
...

Sheet ARCHIVE Général 
A1: REMISE DES CLEFS
A2: NOM | B2: PRENOM | C2: FONCTION | D2: CLEF N °1 | E2: RENDU LE | F2: CLEF N° 2 | G2: RENDU LE | H2: CLEF N°3 | I2: RENDU LE | J2: CLEF N° 4 | K2: RENDU LE | L2: CLEF N° 5 | M2: RENDU LE | N2: CLEF N° 6 | O2: RENDU LE | P2: CLEF N° 7 | Q2: RENDU LE | R2: CLEF N°8 | S2: RENDU LE | T2: ANNEE
C3: AED | E3: Rendu le 27/08/24 | G3: Rendu le 27/08/24 | T3: 2023-2024
C4: AED | E4: A3 Rendue le 05/07 | G4: ASCENSEUR Donné à MME HESIER | I4: CASIERS Rendue le 05/07 | T4: 2023-2024
C5: AED | E5: A3 Rendue le 29/08 | G5: ASCENSEUR Rendue le 29/08 | T5: 2023-2024
C6: AED | E6: Rendu A3 le 12/07 | G6: Rendu ASCENSEUR le 12/07 | I6: CASIERS Rendu le 12/07 | T6: 2023-2024
C7: AED | E7: Rendu A3 le 29/08 | G7: Rendu ASCENSEUR le 29/08 | I7: CASIES Rendu le 29/08 | T7: 2023-2024
C8: AED | E8: A3 Rendue le 05/07 | G8: ASCENSEUR Rendue le 05/07 | I8: CASIERS Rendue le 05/07 | T8: 2023-2024
C9: AED | E9: A3 Rendu le 03/07 | G9: ASCENSEUR Rendu le 03/07 | I9: CASIERS Rendu le 03/07 | T9: 2023-2024
C10: AED | E10: A3 Rendu le 21/06 | T10: 2023-2024
C11: AED PREPRO | E11: BANAL rendu le 27/06 | T11: 2023-2024
C12: ASSISTANT LANGUE | E12: BANAL Rendu | T12: 2023-2024
C13: ENSEIGNANT | E13: SCIENCE Rendu le 05/07 | G13: BANAL Rendu le 05/07 | T13: 2023-2024
C14: ENSEIGNANT | E14: BANAL Rendu 05/07 | T14: 2023-2024
C15: ENSEIGNANT | D15: BANAL | T15: 2023-2024
C16: ENSEIGNANT | E16: Rendu BANAL 18/06 | G16: Rendu Arts 18/06 | T16: 2023-2024
C17: ENSEIGNANT | E17: Rendu BANAL 02/07 | T17: 2023-2024
C18: ENSEIGNANT | E18: Rendu ARTS le 04/07 | G18: Rendu BANAL le 04/07 | T18: 2023-2024
C19: ENSEIGNANT | E19: Rendu TECHNO le11/07 | T19: 2023-2024
C20: ENSEIGNANT | E20: Rendu le 29/08 | G20: Rendu le 29/08 | T20: 2023-2024
C21: ENSEIGNANT | E21: Rendu SCIENCE 28/06 | G21: Rendu MULTIMEDIA 28/06 | T21: 2023-2024
C22: ENSEIGNANT | E22: Rendu le 30/08 | T22: 2023-2024
C23: ENSEIGNANT | E23: Rendu EPS le 02/07 | G23: Rendu PISCINE le 02/07 | T23: 2023-2024
C24: ENSEIGNANT | E24: ARTS Rendu le 04/07 | T24: 2023-2024
C25: ENSEIGNANT | E25: SCIENCE rendu le 02/07 | G25: ARTS rendu le 02/07 | T25: 2023-2024
C26: ENSEIGNANT | E26: SCIENCE Rendu le 04/07 | T26: 2023-2024
C27: ENSEIGNANT | E27: BANAL rendu le 28/06 | T27: 2023-2024
C28: ENSEIGNANT | E28: BANAL rendu le 03/07 | T28: 2023-2024
C29: ENSEIGNANT | E29: POLYR rendu le 14/06 | G29: POLYV rendu le 14/06 | T29: 2023-2024
C30: ENSEIGNANT | E30: BANAL Rendue le 05/07 | T30: 2023-2024
C31: ENSEIGNANT | E31: SCIENCE rendu le 02/07 | G31: BANAL rendu le 02/07 | T31: 2023-2024
C32: ENSEIGNANT DES ECOLES | E32: BANAL Rendu le 26/06 | T32: 2023-2024
C33: MEDECIN SCOLAIRE | D33: A2 | T33: 2023-2024
C34: SERVICE CIVIQUE | D34: UPI2 | G34: BANAL Rendu le 07/06 | T34: 2023-2024
C35: SERVICE CIVIQUE | E35: UPI2 rendu le 07/06 | T35: 2023-2024
C36: ENSEIGNANT | E36: BANAL Rendu le 15/10 | T36: 2024-2025
C37: AED | E37: ASCENCEUR rendue le 8/10 | G37: CASIER Rendue le 8/10 | I37: A3 Rendue le 08/10 | T37: 2024-2026
C38: ASSISTANTE SOCIALE | E38: Rendue VIES | G38: Rendue AS
C39: ENSEIGNANT | E39: Rendue trousseau EPS
C40: AGENT | E40: A2 Rendue | G40: ASCENSEUR Rendue

Sheet ARCHIVE NB Clés 
A1: NOM | B1: PRENOM | C1: FONCTION | D1: BANAL | E1: A1 | F1: A2 | G1: A3 | H1: AA | I1: SCIENCE | J1: TECHNO | K1: EPS | L1: PISCINE | M1: ARTS | N1: CDI | O1: COP | P1: ASCENSEUR | Q1: VIES | R1: AS | S1: UPI2 | T1: UPI4 | U1: ADMIN | V1: CASIERS | W1: Total clés remise
C2: AED | D2: =COUNTIF('ARCHIVE Général '!3:3,"BANAL") -> 0 | E2: =COUNTIF('ARCHIVE Général '!3:3,"A1") -> 0 | F2: =COUNTIF('ARCHIVE Général '!3:3,"A2") -> 0 | G2: =COUNTIF('ARCHIVE Général '!3:3,"A3") -> 0 | H2: =COUNTIF('ARCHIVE Général '!3:3,"AA") -> 0 | I2: =COUNTIF('ARCHIVE Général '!3:3,"SCIENCE") -> 0 | J2: =COUNTIF('ARCHIVE Général '!3:3,"TECHNO") -> 0 | K2: =COUNTIF('ARCHIVE Général '!3:3,"EPS") -> 0 | L2: =COUNTIF('ARCHIVE Général '!3:3,"PISCINE") -> 0 | M2: =COUNTIF('ARCHIVE Général '!3:3,"ARTS") -> 0 | N2: =COUNTIF('ARCHIVE Général '!3:3,"CDI") -> 0 | O2: =COUNTIF('ARCHIVE Général '!3:3,"COP") -> 0 | P2: =COUNTIF('ARCHIVE Général '!3:3,"ASCENSEUR") -> 0 | Q2: =COUNTIF('ARCHIVE Général '!3:3,"VIES") -> 0 | R2: =COUNTIF('ARCHIVE Général '!3:3,"AS") -> 0 | S2: =COUNTIF('ARCHIVE Général '!3:3,"UPI2") -> 0 | T2: =COUNTIF('ARCHIVE Général '!3:3,"UPI4") -> 0 | U2: =COUNTIF('ARCHIVE Général '!3:3,"ADMIN") -> 0 | V2: =COUNTIF('ARCHIVE Général '!3:3,"CASIERS") -> 0 | W2: =SUM(D2:V2) -> 0
C3: AED | D3: 0 | E3: 0 | F3: 0 | G3: 0 | H3: 0 | I3: 0 | J3: 0 | K3: 0 | L3: 0 | M3: 0 | N3: 0 | O3: 0 | P3: 0 | Q3: 0 | R3: 0 | S3: 0 | T3: 0 | U3: 0 | V3: 0 | W3: 0
