Workbook

Sheet Feuil1
A1: Nom | B1: Age
A2: Jean | B2: =IF(A2="","",_xlfn.XLOOKUP(A2,Feuil2!$A$2:$A$3,Feuil2!$B$2:$B$3)) -> 35
B3: =IF(A3="","",_xlfn.XLOOKUP(A3,Feuil2!$A$2:$A$3,Feuil2!$B$2:$B$3))
B4: =IF(A4="","",_xlfn.XLOOKUP(A4,Feuil2!$A$2:$A$3,Feuil2!$B$2:$B$3))
B5: =IF(A5="","",_xlfn.XLOOKUP(A5,Feuil2!$A$2:$A$3,Feuil2!$B$2:$B$3))
B6: =IF(A6="","",_xlfn.XLOOKUP(A6,Feuil2!$A$2:$A$3,Feuil2!$B$2:$B$3))
B7: =IF(A7="","",_xlfn.XLOOKUP(A7,Feuil2!$A$2:$A$3,Feuil2!$B$2:$B$3))
B8: =IF(A8="","",_xlfn.XLOOKUP(A8,Feuil2!$A$2:$A$3,Feuil2!$B$2:$B$3))
B9: =IF(A9="","",_xlfn.XLOOKUP(A9,Feuil2!$A$2:$A$3,Feuil2!$B$2:$B$3))
B10: =IF(A10="","",_xlfn.XLOOKUP(A10,Feuil2!$A$2:$A$3,Feuil2!$B$2:$B$3))
B11: =IF(A11="","",_xlfn.XLOOKUP(A11,Feuil2!$A$2:$A$3,Feuil2!$B$2:$B$3))
B12: =IF(A12="","",_xlfn.XLOOKUP(A12,Feuil2!$A$2:$A$3,Feuil2!$B$2:$B$3))
B13: =IF(A13="","",_xlfn.XLOOKUP(A13,Feuil2!$A$2:$A$3,Feuil2!$B$2:$B$3))
B14: =IF(A14="","",_xlfn.XLOOKUP(A14,Feuil2!$A$2:$A$3,Feuil2!$B$2:$B$3))
... B23: =IF(A23="","",_xlfn.XLOOKUP(A23,Feuil2!$A$2:$A$3,Feuil2!$B$2:$B$3))

Sheet Feuil2
A1: Nom | B1: Age
A2: Jean | B2: 35
A3: Pierre | B3: 45
