Workbook

Sheet S4 février 2023 
G1: jours ou demi journée | L1: jours ou demi journée | Q1: jours ou demi journée
A2: S4 février 2023 du 20/02/2023 au 24/02/2023 | B2: N° projet | C2: Ville chantier | D2: Client prévenu | E2: Sous-traitance | F2: Commentaires | G2: jacques | L2: antoine | Q2: tech SEJ
A3: FEV 2023 | G3: lundi | H3: mardi | I3: mercredi | J3: jeudi | K3: vendredi | L3: lundi | M3: mardi | N3: mercredi | O3: jeudi | P3: vendredi | Q3: lundi | R3: mardi | S3: mercredi | T3: jeudi | U3: vendredi
G4: 20 | H4: =G4+1 -> 21 | I4: =H4+1 -> 22 | J4: =I4+1 -> 23 | K4: =J4+1 -> 24 | L4: =G4 -> 20 | M4: =L4+1 -> 21 | N4: =M4+1 -> 22 | O4: =N4+1 -> 23 | P4: =O4+1 -> 24 | Q4: =G4 -> 20 | R4: =Q4+1 -> 21 | S4: =R4+1 -> 22 | T4: =S4+1 -> 23 | U4: =T4+1 -> 24
A6: INSTALLATION (NOM DE L'ETS)
A7: TTP EXEMPLE | B7: 12345 | C7: NICE | D7: OK | E7: N | G7: 1
A12: SAV (NOM DE L'ETS)
A21: VISITE ENTRETIEN (NOM DE L'ETS)

Sheet CONTRAT 2023  
A1: Nom | B1: Montant Ht | C1: Type contrat | D1: adresse | E1: DATE VE | G1: type client - pro ou particulier - société
A2: 3PER | B2: 475.29 | C2: 17051006 | D2: 75003 PARIS | G2: proDse
A3: ABEILLON | B3: 496.62 | C3: 20010529 | D3: MONTREUIL | G3: proZdsp
A4: ABV | B4: 955.24 | C4: 2017032901 | D4: 93340 LE RAINCY | G4: proZdsp
A5: GEXI | B5: 657.76 | C5: 2021010110 | D5: 93340 LE RAINCY | G5: proZdsp
A6: TTP EXEMPLE | B6: 879 | C6: 9768 | D6: LYON | G6: proZdsp

Sheet Prévi
B2: 44958
B4: Chantier | C4: type travaux | D4: facturation | E4: numéro de devis | F4: temps de pose en jour | H4: Code couleur | I4: CA marché total | J4: % marge brut | K4: marge brut dossier | L4: pourcentage | M4: ca mois | N4: achat mois | O4: marge mois | P4: semaine1 | Q4: semaine2 | R4: semaine3 | S4: semaine4 | T4: semaine5
S5: 1
A6: ES | B6: =_xlfn.XLOOKUP('S4 février 2023 '!A7,'CONTRAT 2023 '!$A$2:$A$6,'CONTRAT 2023 '!$A$2:$A$6,"Valeur non trouvée") -> TTP EXEMPLE | G6: A PLANIFIER 1J | H6: =_xlfn.XLOOKUP('S4 février 2023 '!A7,'CONTRAT 2023 '!$A$2:$A$6,'CONTRAT 2023 '!$B$2:$B$6,"Valeur non trouvée") -> 879 | I6: 2660 | L6: 1 | M6: =L6*I6 -> 2660 | O6: =L6*K6 -> 0
B7: =_xlfn.XLOOKUP('S4 février 2023 '!A8,'CONTRAT 2023 '!$A$2:$A$6,'CONTRAT 2023 '!$A$2:$A$6,"Valeur non trouvée") -> Valeur non trouvée | H7: =_xlfn.XLOOKUP('S4 février 2023 '!A8,'CONTRAT 2023 '!$A$2:$A$6,'CONTRAT 2023 '!$B$2:$B$6,"Valeur non trouvée") -> Valeur non trouvée
B8: =_xlfn.XLOOKUP('S4 février 2023 '!A9,'CONTRAT 2023 '!$A$2:$A$6,'CONTRAT 2023 '!$A$2:$A$6,"Valeur non trouvée") -> Valeur non trouvée | H8: =_xlfn.XLOOKUP('S4 février 2023 '!A9,'CONTRAT 2023 '!$A$2:$A$6,'CONTRAT 2023 '!$B$2:$B$6,"Valeur non trouvée") -> Valeur non trouvée
B9: =_xlfn.XLOOKUP('S4 février 2023 '!A10,'CONTRAT 2023 '!$A$2:$A$6,'CONTRAT 2023 '!$A$2:$A$6,"Valeur non trouvée") -> Valeur non trouvée | H9: =_xlfn.XLOOKUP('S4 février 2023 '!A10,'CONTRAT 2023 '!$A$2:$A$6,'CONTRAT 2023 '!$B$2:$B$6,"Valeur non trouvée") -> Valeur non trouvée
B10: =_xlfn.XLOOKUP('S4 février 2023 '!A11,'CONTRAT 2023 '!$A$2:$A$6,'CONTRAT 2023 '!$A$2:$A$6,"Valeur non trouvée") -> Valeur non trouvée | H10: =_xlfn.XLOOKUP('S4 février 2023 '!A11,'CONTRAT 2023 '!$A$2:$A$6,'CONTRAT 2023 '!$B$2:$B$6,"Valeur non trouvée") -> Valeur non trouvée
B21: contrat d'entretien
B30: Dépannages
I37: =SUMIF($H7:$H37,"1",I7:I37) -> 0 | J37: =SUMIF($H7:$H37,"1",J7:J37) -> 0 | K37: =SUMIF($H7:$H37,"1",K7:K37) -> 0 | M37: =SUMIF($H7:$H37,"1",M7:M37) -> 0 | N37: =SUMIF($H7:$H37,"1",N7:N37) -> 0 | O37: =SUMIF($H7:$H37,"1",O7:O37) -> 0
I74: =SUMIF($H6:$H34,"1",I6:I74) -> 0 | J74: =SUMIF($H6:$H34,"1",J6:J74) -> 0 | K74: =SUMIF($H6:$H34,"1",K6:K74) -> 0 | M74: =SUMIF($H6:$H34,"1",M6:M74) -> 0 | N74: =SUMIF($H6:$H34,"1",N6:N74) -> 0 | O74: =SUMIF($H6:$H34,"1",O6:O74) -> 0
