Workbook

Sheet list jeux
A1: jeux | B1: nom | C1: Etat | D1: code personnel | G1: absent ou present
A2: 3 ans et + | B2: Au feu les pompiers | C2: =IF(ISBLANK(D2),"libre","réservé") -> réservé | D2: 1548 | F2: 123456 | G2: =IFERROR(IF(_xlfn.XLOOKUP(F2,'list jeux 2'!A$1:A$8,'list jeux 2'!B$1:B$8)="vrai","absent","faux"),"présent") -> présent
B3: Au loup | C3: =IF(ISBLANK(D3),"libre","réservé") -> réservé | D3: 1111 | F3: 123457 | G3: =IFERROR(IF(_xlfn.XLOOKUP(F3,'list jeux 2'!A$1:A$8,'list jeux 2'!B$1:B$8)="vrai","absent","présent"),"présent") -> présent
B4: Bahuts malins | C4: =IF(ISBLANK(D4),"libre","réservé") -> libre | F4: 123458 | G4: =IFERROR(IF(_xlfn.XLOOKUP(F4,'list jeux 2'!A$1:A$8,'list jeux 2'!B$1:B$8)="vrai","absent","présent"),"présent") -> absent
B5: ballons | C5: =IF(ISBLANK(D5),"libre","réservé") -> réservé | D5: 1245 | F5: 123459 | G5: =IFERROR(IF(_xlfn.XLOOKUP(F5,'list jeux 2'!A$1:A$8,'list jeux 2'!B$1:B$8)="vrai","absent","présent"),"présent") -> présent
B6: Difference junior | C6: =IF(ISBLANK(D6),"libre","réservé") -> libre | F6: 123460 | G6: =IFERROR(IF(_xlfn.XLOOKUP(F6,'list jeux 2'!A$1:A$8,'list jeux 2'!B$1:B$8)="vrai","absent","présent"),"présent") -> présent
B7: Dobble kids | C7: =IF(ISBLANK(D7),"libre","réservé") -> réservé | D7: 1111 | F7: 123461 | G7: =IFERROR(IF(_xlfn.XLOOKUP(F7,'list jeux 2'!A$1:A$8,'list jeux 2'!B$1:B$8)="vrai","absent","présent"),"présent") -> présent
B8: Empil' puces | C8: =IF(ISBLANK(D8),"libre","réservé") -> libre | F8: 123462 | G8: =IFERROR(IF(_xlfn.XLOOKUP(F8,'list jeux 2'!A$1:A$8,'list jeux 2'!B$1:B$8)="vrai","absent","présent"),"présent") -> présent
B9: Gagne ton papa! | C9: =IF(ISBLANK(D9),"libre","réservé") -> libre | F9: 123463 | G9: =IFERROR(IF(_xlfn.XLOOKUP(F9,'list jeux 2'!A$1:A$8,'list jeux 2'!B$1:B$8)="vrai","absent","présent"),"présent") -> présent
B10: Halli galli | C10: =IF(ISBLANK(D10),"libre","réservé") -> libre
B11: La chasse aux monstres | C11: =IF(ISBLANK(D11),"libre","réservé") -> réservé | D11: 2458
B12: La mare aux grenouilles casse tete | C12: =IF(ISBLANK(D12),"libre","réservé") -> libre
B13: Labyrinth junior | C13: =IF(ISBLANK(D13),"libre","réservé") -> libre
B14: Le cochon qui rit | C14: =IF(ISBLANK(D14),"libre","réservé") -> libre
B15: Le jardin magique casse tete | C15: =IF(ISBLANK(D15),"libre","réservé") -> libre
B16: Le petit chaperon rouge | C16: =IF(ISBLANK(D16),"libre","réservé") -> libre
B17: Le tresor des lutins | C17: =IF(ISBLANK(D17),"libre","réservé") -> libre
B18: Les trois petits cochons | C18: =IF(ISBLANK(D18),"libre","réservé") -> libre
B19: Mon premier carcasonne | C19: =IF(ISBLANK(D19),"libre","réservé") -> libre
B20: Panic poulailler | C20: =IF(ISBLANK(D20),"libre","réservé") -> libre
B21: Perlin pinpin | C21: =IF(ISBLANK(D21),"libre","réservé") -> libre
B22: Quoridor junior | C22: =IF(ISBLANK(D22),"libre","réservé") -> réservé | D22: 1111
B23: Rolit junior | C23: =IF(ISBLANK(D23),"libre","réservé") -> libre
B24: serpentina | C24: =IF(ISBLANK(D24),"libre","réservé") -> libre
B25: Set junior | C25: =IF(ISBLANK(D25),"libre","réservé") -> libre
B26: Vroom vroom | C26: =IF(ISBLANK(D26),"libre","réservé") -> libre
C27: =IF(ISBLANK(D27),"libre","réservé") -> libre
A28: 5 ans et + | B28: 6 qui prend ! Junior | C28: =IF(ISBLANK(D28),"libre","réservé") -> libre
B29: Apres l'orage | C29: =IF(ISBLANK(D29),"libre","réservé") -> libre
B30: Bandido | C30: =IF(ISBLANK(D30),"libre","réservé") -> libre
B31: Chromino | C31: =IF(ISBLANK(D31),"libre","réservé") -> libre
B32: Ciao! | C32: =IF(ISBLANK(D32),"libre","réservé") -> libre
B33: Cluedo junior | C33: =IF(ISBLANK(D33),"libre","réservé") -> libre
B34: Cluedo junior l'affaire des jouets cachés | C34: =IF(ISBLANK(D34),"libre","réservé") -> libre
B35: Difference | C35: =IF(ISBLANK(D35),"libre","réservé") -> libre
B36: Dino park | C36: =IF(ISBLANK(D36),"libre","réservé") -> libre
B37: Droite ou gauche ? | C37: =IF(ISBLANK(D37),"libre","réservé") -> libre
B38: Fantome piégés | C38: =IF(ISBLANK(D38),"libre","réservé") -> libre
B39: Farmini | C39: =IF(ISBLANK(D39),"libre","réservé") -> libre
B40: Fundomino | C40: =IF(ISBLANK(D40),"libre","réservé") -> libre
... B57: Tyrannosaurus rex | C57: =IF(ISBLANK(D57),"libre","réservé") -> libre
C58: =IF(ISBLANK(D58),"libre","réservé") -> libre
A59: 7 ans et + | B59: A dos de chameau ! | C59: =IF(ISBLANK(D59),"libre","réservé") -> libre
B60: Au voleur! | C60: =IF(ISBLANK(D60),"libre","réservé") -> libre
B61: bazar Bizarre | C61: =IF(ISBLANK(D61),"libre","réservé") -> libre
B62: Because potatoes | C62: =IF(ISBLANK(D62),"libre","réservé") -> libre
B63: Cache tomate ! | C63: =IF(ISBLANK(D63),"libre","réservé") -> libre
B64: Carcasonne : Amazonas | C64: =IF(ISBLANK(D64),"libre","réservé") -> libre
B65: Catane junior | C65: =IF(ISBLANK(D65),"libre","réservé") -> libre
B66: Continental express | C66: =IF(ISBLANK(D66),"libre","réservé") -> libre
B67: Crazy cups | C67: =IF(ISBLANK(D67),"libre","réservé") -> libre
B68: Cubeez | C68: =IF(ISBLANK(D68),"libre","réservé") -> libre
B69: Cubissimo | C69: =IF(ISBLANK(D69),"libre","réservé") -> libre
B70: Dicycle Race | C70: =IF(ISBLANK(D70),"libre","réservé") -> libre
B71: Dino park | C71: =IF(ISBLANK(D71),"libre","réservé") -> libre
... B88: Moons-bots | C88: =IF(ISBLANK(D88),"libre","réservé") -> libre
B89: Penny papers adventure the temple of apikhabou | C89: =IF(ISBLANK(D89),"libre","réservé") -> réservé | D89: 2351
B90: Potion magique | C90: =IF(ISBLANK(D90),"libre","réservé") -> libre
B91: Salade d cafards | C91: =IF(ISBLANK(D91),"libre","réservé") -> libre
B92: Santo Domingo | C92: =IF(ISBLANK(D92),"libre","réservé") -> libre
B93: Slide quest | C93: =IF(ISBLANK(D93),"libre","réservé") -> libre
B94: Speed | C94: =IF(ISBLANK(D94),"libre","réservé") -> libre
C95: =IF(ISBLANK(D95),"libre","réservé") -> libre
A96: 8 ans et + | B96: Augustus | C96: =IF(ISBLANK(D96),"libre","réservé") -> libre
B97: Bang! Jeu de dés | C97: =IF(ISBLANK(D97),"libre","réservé") -> libre
B98: Bazar Bizarre ultime | C98: =IF(ISBLANK(D98),"libre","réservé") -> libre
B99: Boggle | C99: =IF(ISBLANK(D99),"libre","réservé") -> libre
B100: Canardage | C100: =IF(ISBLANK(D100),"libre","réservé") -> libre
B101: Coda da Vinci | C101: =IF(ISBLANK(D101),"libre","réservé") -> libre
B102: Crazy circus | C102: =IF(ISBLANK(D102),"libre","réservé") -> libre
B103: Desserts parfaits | C103: =IF(ISBLANK(D103),"libre","réservé") -> libre
B104: Diamant | C104: =IF(ISBLANK(D104),"libre","réservé") -> libre
B105: Escape: La malediction du temple | C105: =IF(ISBLANK(D105),"libre","réservé") -> libre
B106: Harvest dice | C106: =IF(ISBLANK(D106),"libre","réservé") -> libre
B107: Karuba :jeu de cartes | C107: =IF(ISBLANK(D107),"libre","réservé") -> libre
B108: Kero | C108: =IF(ISBLANK(D108),"libre","réservé") -> libre
... B142: Wazabi | C142: =IF(ISBLANK(D142),"libre","réservé") -> libre
C143: =IF(ISBLANK(D143),"libre","réservé") -> libre
A144: 10 ans et + | B144: Andor | C144: =IF(ISBLANK(D144),"libre","réservé") -> libre
B145: Andor chada et thorn | C145: =IF(ISBLANK(D145),"libre","réservé") -> libre
B146: Asante | C146: =IF(ISBLANK(D146),"libre","réservé") -> libre
B147: Break the code | C147: =IF(ISBLANK(D147),"libre","réservé") -> libre
B148: Colt express | C148: =IF(ISBLANK(D148),"libre","réservé") -> libre
B149: Contrario | C149: =IF(ISBLANK(D149),"libre","réservé") -> libre
B150: Intrigues a venise | C150: =IF(ISBLANK(D150),"libre","réservé") -> libre
B151: La guerre des moutons | C151: =IF(ISBLANK(D151),"libre","réservé") -> libre
B152: Les batisseurs :moyen age | C152: =IF(ISBLANK(D152),"libre","réservé") -> libre
B153: Les inventeurs | C153: =IF(ISBLANK(D153),"libre","réservé") -> libre
B154: Little factory | C154: =IF(ISBLANK(D154),"libre","réservé") -> libre
B155: Lost cities : le duel | C155: =IF(ISBLANK(D155),"libre","réservé") -> libre
B156: Mystére a l'abbaye | C156: =IF(ISBLANK(D156),"libre","réservé") -> libre
... B159: Welcome back to the dungeon | C159: =IF(ISBLANK(D159),"libre","réservé") -> libre
C160: =IF(ISBLANK(D160),"libre","réservé") -> libre
C161: =IF(ISBLANK(D161),"libre","réservé") -> libre
A162: 12 ans et + | B162: Journey: la colere des demons | C162: =IF(ISBLANK(D162),"libre","réservé") -> libre
B163: Mission agent secret | C163: =IF(ISBLANK(D163),"libre","réservé") -> libre
B164: Mr Jack Pocket | C164: =IF(ISBLANK(D164),"libre","réservé") -> libre
B165: Pixie Queen | C165: =IF(ISBLANK(D165),"libre","réservé") -> libre
B166: Rush N'Crush | C166: =IF(ISBLANK(D166),"libre","réservé") -> libre
B167: Tikal | C167: =IF(ISBLANK(D167),"libre","réservé") -> libre
...

Sheet list jeux 2
A1: 23459 | B1: =IF(COUNTIF(C:C,A1)>0, "vrai","faux") -> faux | C1: 123456
A2: 123458 | B2: =IF(COUNTIF(C:C,A2)>0, "vrai","faux") -> vrai | C2: 123457
B3: =IF(COUNTIF(C:C,A3)>0, "vrai","faux") -> faux | C3: 123458
B4: =IF(COUNTIF(C:C,A4)>0, "vrai","faux") -> faux | C4: 123459
B5: =IF(COUNTIF(C:C,A5)>0, "vrai","faux") -> faux | C5: 123460
B6: =IF(COUNTIF(C:C,A6)>0, "vrai","faux") -> faux | C6: 123461
B7: =IF(COUNTIF(C:C,A7)>0, "vrai","faux") -> faux | C7: 123462
B8: =IF(COUNTIF(C:C,A8)>0, "vrai","faux") -> faux | C8: 123463
