Workbook

Sheet list jeux
A1: jeux | B1: nom | C1: Etat | D1: code personnel | G1: absent ou present
A2: 3 ans et + | B2: Au feu les pompiers | C2: =IF(ISBLANK(D2),"libre","réservé") -> réservé | D2: 1548 | F2: 123456 | G2: =IFERROR(IF(_xlfn.XLOOKUP(F2,'list jeux 2'!A$1:A$8,'list jeux 2'!B$1:B$8)="vrai","absent","faux"),"présent") -> présent
B3: Au loup | C3: =IF(ISBLANK(D3),"libre","réservé") -> réservé | D3: 1111 | F3: 123457 | G3: =IFERROR(IF(_xlfn.XLOOKUP(F3,'list jeux 2'!A$1:A$8,'list jeux 2'!B$1:B$8)="vrai","absent","présent"),"présent") -> présent
B4: Bahuts malins | C4: =IF(ISBLANK(D4),"libre","réservé") -> libre | F4: 123458 | G4: =IFERROR(IF(_xlfn.XLOOKUP(F4,'list jeux 2'!A$1:A$8,'list jeux 2'!B$1:B$8)="vrai","absent","présent"),"présent") -> absent
B5: ballons | C5: =IF(ISBLANK(D5),"libre","réservé") -> réservé | D5: 1245 | F5: 123459 | G5: =IFERROR(IF(_xlfn.XLOOKUP(F5,'list jeux 2'!A$1:A$8,'list jeux 2'!B$1:B$8)="vrai","absent","présent"),"présent") -> présent
B6: Difference junior | C6: =IF(ISBLANK(D6),"libre","réservé") -> libre | F6: 123460 | G6: =IFERROR(IF(_xlfn.XLOOKUP(F6,'list jeux 2'!A$1:A$8,'list jeux 2'!B$1:B$8)="vrai","absent","présent"),"présent") -> présent
B7: Dobble kids | C7: =IF(ISBLANK(D7),"libre","réservé") -> réservé | D7: 1111 | F7: 123461 | G7: =IFERROR(IF(_xlfn.XLOOKUP(F7,'list jeux 2'!A$1:A$8,'list jeux 2'!B$1:B$8)="vrai","absent","présent"),"présent") -> présent
B8: Empil' puces | C8: =IF(ISBLANK(D8),"libre","réservé") -> libre | F8: 123462 | G8: =IFERROR(IF(_xlfn.XLOOKUP(F8,'list jeux 2'!A$1:A$8,'list jeux 2'!B$1:B$8)="vrai","absent","présent"),"présent") -> présent
B9: Gagne ton papa! | C9: =IF(ISBLANK(D9),"libre","réservé") -> libre | F9: 123463 | G9: =IFERROR(IF(_xlfn.XLOOKUP(F9,'list jeux 2'!A$1:A$8,'list jeux 2'!B$1:B$8)="vrai","absent","présent"),"présent") -> présent
B10: Halli galli | C10: =IF(ISBLANK(D10),"libre","réservé") -> libre
B11: La chasse aux monstres | C11: =IF(ISBLANK(D11),"libre","réservé") -> réservé | D11: 2458
B12: La mare aux grenouilles casse tete | C12: =IF(ISBLANK(D12),"libre","réservé") -> libre
B13: Labyrinth junior | C13: =IF(ISBLANK(D13),"libre","réservé") -> libre
B14: Le cochon qui rit | C14: =IF(ISBLANK(D14),"libre","réservé") -> libre
B15: Le jardin magique casse tete | C15: =IF(ISBLANK(D15),"libre","réservé") -> libre
B16: Le petit chaperon rouge | C16: =IF(ISBLANK(D16),"libre","réservé") -> libre
B17: Le tresor des lutins | C17: =IF(ISBLANK(D17),"libre","réservé") -> libre
B18: Les trois petits cochons | C18: =IF(ISBLANK(D18),"libre","réservé") -> libre
B19: Mon premier carcasonne | C19: =IF(ISBLANK(D19),"libre","réservé") -> libre
B20: Panic poulailler | C20: =IF(ISBLANK(D20),"libre","réservé") -> libre
B21: Perlin pinpin | C21: =IF(ISBLANK(D21),"libre","réservé") -> libre
B22: Quoridor junior | C22: =IF(ISBLANK(D22),"libre","réservé") -> réservé | D22: 1111
B23: Rolit junior | C23: =IF(ISBLANK(D23),"libre","réservé") -> libre
B24: serpentina | C24: =IF(ISBLANK(D24),"libre","réservé") -> libre
B25: Set junior | C25: =IF(ISBLANK(D25),"libre","réservé") -> libre
B26: Vroom vroom | C26: =IF(ISBLANK(D26),"libre","réservé") -> libre
C27: =IF(ISBLANK(D27),"libre","réservé") -> libre
A28: 5 ans et + | B28: 6 qui prend ! Junior | C28: =IF(ISBLANK(D28),"libre","réservé") -> libre
B29: Apres l'orage | C29: =IF(ISBLANK(D29),"libre","réservé") -> libre
B30: Bandido | C30: =IF(ISBLANK(D30),"libre","réservé") -> libre
B31: Chromino | C31: =IF(ISBLANK(D31),"libre","réservé") -> libre
B32: Ciao! | C32: =IF(ISBLANK(D32),"libre","réservé") -> libre
B33: Cluedo junior | C33: =IF(ISBLANK(D33),"libre","réservé") -> libre
B34: Cluedo junior l'affaire des jouets cachés | C34: =IF(ISBLANK(D34),"libre","réservé") -> libre
B35: Difference | C35: =IF(ISBLANK(D35),"libre","réservé") -> libre
B36: Dino park | C36: =IF(ISBLANK(D36),"libre","réservé") -> libre
B37: Droite ou gauche ? | C37: =IF(ISBLANK(D37),"libre","réservé") -> libre
B38: Fantome piégés | C38: =IF(ISBLANK(D38),"libre","réservé") -> libre
B39: Farmini | C39: =IF(ISBLANK(D39),"libre","réservé") -> libre
B40: Fundomino | C40: =IF(ISBLANK(D40),"libre","réservé") -> libre
...

Sheet list jeux 2
A1: 23459 | B1: =IF(COUNTIF(C:C,A1)>0, "vrai","faux") -> faux | C1: 123456
A2: 123458 | B2: =IF(COUNTIF(C:C,A2)>0, "vrai","faux") -> vrai | C2: 123457
B3: =IF(COUNTIF(C:C,A3)>0, "vrai","faux") -> faux | C3: 123458
B4: =IF(COUNTIF(C:C,A4)>0, "vrai","faux") -> faux | C4: 123459
B5: =IF(COUNTIF(C:C,A5)>0, "vrai","faux") -> faux | C5: 123460
B6: =IF(COUNTIF(C:C,A6)>0, "vrai","faux") -> faux | C6: 123461
B7: =IF(COUNTIF(C:C,A7)>0, "vrai","faux") -> faux | C7: 123462
B8: =IF(COUNTIF(C:C,A8)>0, "vrai","faux") -> faux | C8: 123463
