Workbook

Sheet Feuil1
B2: Hypothèses | G2: Cases à modifier
B3: Pondération revenus locatifs | C3: 0.9
B4: Taux moyen | C4: 0.02
B5: Saut de charge limite | C5: 0.3
B7: Scénarii
B8: Cas | C8: 1 | D8: 2 | E8: 3
C9: Résidence principale | D9: Local commercial / Bureaux | E9: Appartement
B10: Durée (mois) | C10: 300 | D10: 180 | E10: 240
B11: Taux | C11: =C4*0.9 -> 0.018 | D11: =C4*1.1 -> 0.022 | E11: =C4 -> 0.02 | I11: Cas (1, 2 ou 3) | J11: 1
B12: Assurance | C12: Oui | D12: Oui | E12: Oui
B13: DSCR / Endettement | C13: 35% Max | D13: 1.2 | E13: 1.2
B14: Apport sur foncier hors frais | C14: 0.1 | D14: 0.2 | E14: 0.2 | G14: Best Case
G15: Prêt acquisition | I15: =J25 -I16 -> 720000
G16: Prêt accompagnement | I16: =H26 -> 0
B17: Inputs | G17: Type de prêt | I17: Amortissable
B18: Revenus fiscal de ref | C18: 90000 | G18: Durée (mois) | I18: =IF($J$11=1,C10,IF($J$11=2,D10,IF($J$11=3,E10,0))) -> 300
B19: Revenus fonciers | C19: 0 | G19: Taux | I19: =IF($J$11=1,C11,IF($J$11=2,D11,IF($J$11=3,E11,0))) -> 0.018
B20: Annuités crédits en cours (hors RP) | C20: 0 | G20: Annuités (Hors assurance) | I20: =IF(I17="Amortissable",-12*PMT(I19/12,I18,I15+I16),(I15+I16)*I19) -> 35785.602
B21: Loyer ou annuité de crédit RP | C21: 24000 | G21: Garantie | I21: HC + CS PM
B22: Taux endettement actuel | C22: =(C20+C21)/(C18+C19*C3) -> 0.26666667 | G22: Assurance | I22: Oui
B23: Non propre (OUI ou NOM) | C23: OUI
B24: Concernant l'acquisition (si 2 ou 3) | G24: EMPLOIS | I24: RESSOURCES
B25: Revenus locatifs actuels | C25: 0 | G25: Acquisition | H25: 800000 | I25: Amortissable | J25: =H31-J26 -> 720000
B26: Revenus locatifs projetés | C26: 0 | G26: Travaux | H26: 0 | I26: Apport | J26: =IF(J11=1,H25*C14,IF(J11=2,H25*D14,IF(J11=3,H25*E14,0)))+H27+H28+H29 -> 165000
B27: Si conservation RP dans le patrimoine (cas 1) | G27: Frais agence | H27: 25000
B28: Revenus locatifs projetés | C28: 0 | G28: Frais garantie
G29: Frais d'enregistrement | H29: =H25*7.5% -> 60000
B30: Ratios a vérifier
B31: Cas 2 et 3 | G31: TOTAL | H31: =SUM(H25:H29) -> 885000 | I31: TOTAL | J31: =SUM(J25:J26) -> 885000
B32: DSCR actuel | C32: =C25/I20 -> 0 | D32: =IF(C32>120%,"OK","DSCR Trop faible, augmenter l'apport") -> DSCR Trop faible, augmenter l'apport
B33: DSCR peojeté | C33: =C26/I20 -> 0 | D33: =IF(C33>120%,"OK","DSCR Trop faible, augmenter l'apport") -> DSCR Trop faible, augmenter l'apport
B34: Cas 1 Si vente RP | G34: Modifiable
B35: Taux endettement | C35: =IF(J11=1,(C20+I20)/(C18+C19),"0") -> 0.3976178 | D35: =IF(C35<=35%,"OK","Taux endettement trop élevé") -> Taux endettement trop élevé | G35: Prêt acquisition | I35: =J45 -I36 -> 885000
B36: Saut de charge | C36: =IF(J11=1,I20-C21,"0") -> 11785.602 | D36: =IF((C36/C21)>C5,"Saut de charge important","OK") -> Saut de charge important | G36: Prêt accompagnement | I36: =H46 -> 0
B37: Cas 1 si conservation de la RP | G37: Type de prêt | I37: Amortissable
B38: Taux endettement | C38: =IF(J11=1,(C20+I20+C21)/(C18+C19+C28),"0") -> 0.66428446 | D38: =IF(C38<=35%,"OK","Taux endettement trop élevé") -> Taux endettement trop élevé | G38: Durée (mois) | I38: =I18 -> 300
B39: Si "Nom Propre = OUI" | G39: Taux | I39: =I19 -> 0.018 | N39: DSCR actuelle | O39: =C25/I40 -> 0
B40: Taux endettement loyers actuels | C40: =IF(C23="OUI",(C20+C21+I20)/(C18+C19+C25*C3),"0") -> 0.66428446 | D40: =IF(C40<=35%,"OK","Taux endettement trop élevé") -> Taux endettement trop élevé | G40: Annuités (Hors assurance) | I40: =IF(I37="Amortissable",-12*PMT(I39/12,I38,I35+I36),(I35+I36)*I39) -> 43986.469 | N40: DSCR projetée | O40: =C26/I40 -> 0
B41: Taux endettement loyers projetés | C41: =IF(C23="OUI",(C20+C21+I20)/(C18+C19+C26*C3),"0") -> 0.66428446 | D41: =IF(C41<=35%,"OK","Taux endettement trop élevé") -> Taux endettement trop élevé | G41: Garantie | I41: HC + CS PM
G42: Assurance | I42: Oui
...

Sheet HYPOTHESES
B7: Inputs
B8: Cas | C8: 1 | D8: 2 | E8: 3 | H8: Résultat Financier
C9: Résidence principale | D9: Local commercial / Bureaux | E9: Appartement | I9: Renta | J9: DSCR | K9: Marge
B10: Durée (mois) | C10: 300 | D10: 180 | E10: 240 | G10: Hypothèse A | H10: Investissement locatif | I10: =M34/M31 -> 0.078631579 | J10: =D31/M35 -> 0 | L10: 0 | O10: Amelioration
B11: Taux | C11: =C4*0.9 -> 0 | D11: =C4*1.1 -> 0 | E11: =C4 -> 0 | G11: Hypothèse B | H11: Exploitation | I11: ? | J11: =F34/F35 -> 1.5013688 | L11: 1 | O11: =O18/M35 -> 0.54029236
B12: Assurance | C12: Oui | D12: Oui | E12: Oui | G12: Hypothèse C | H12: Marchand de biens | I12: KO | J12: KO | K12: =J34/I34 -> 0.2 | L12: 1/2
B13: DSCR / Endettement | C13: 35% Max | D13: 1.2 | E13: 1.2
B14: Apport sur foncier hors frais | C14: 0.1 | D14: 0.2 | E14: 0.2
H15: Inputs
H16: Prix d'acquisition | I16: 950000
H17: Revenus locatif de l'opération | I17: 83000
O18: 35000 | P18: Bail mobilité / airbnb . ….
E21: Hypothèses EXPLOITATION | H21: Hypothèses | L21: Hypothèses LOCATIF
E22: Frais d'agence | F22: 0.03 | H22: Frais d'agence | I22: 0.03 | L22: Frais d'agence | M22: 0.03 | Q22: =950000*14/100 -> 133000
E23: Frais de garanties | F23: 0.01 | H23: Frais de garanties | I23: 0.01 | L23: Frais de garanties | M23: 0.01
E24: Frais de notaire | F24: 0.08 | H24: Frais de notaire | I24: 0.035 | L24: Frais de notaire | M24: 0.08
E25: Pondération revenus locatifs | F25: 1 | H25: Calcul de la marge mini | I25: 0.25 | L25: Pondération revenus locatifs | M25: 0.9
E26: Taux moyen | F26: 0.025 | H26: Taux moyen | I26: 0.047 | L26: Taux moyen | M26: 0.035
E27: Fonds propres | F27: 0.39 | H27: Fonds propres | I27: 0.25 | L27: Fonds Propres | M27: 0.14
P29: Inconnu
E30: Inputs | H30: Inputs | L30: Inputs | P30: =M35*1.2 -> 77735.692
E31: Prix d'acquisition | F31: =I16 -> 950000 | H31: Prix d'acquisition | I31: =I16 -> 950000 | L31: Prix d'acquisition | M31: =I16 -> 950000
E32: Cout total de l'opération | F32: =F31+(F31*F22)+(F36*F23)+(F31*F24) -> 1061409.1 | H32: Cout total de l'opération | L32: Cout total de l'opération | M32: =M31+(M31*M22)+(M36*M23)+(M31*M24) -> 1063808.1 | P32: =I17*0.8 -> 66400
E33: Fonds propres | F33: =F27*F31 -> 370500 | H33: Fonds propres | I33: =I31*I27 -> 237500 | L33: Fonds propres sur l'opération | M33: =M31*M27 -> 133000
E34: Revenus locatifs projetés | F34: =I17 -> 83000 | H34: Prix marché | I34: =I31+(I31*I25) -> 1187500 | J34: =I34-I31 -> 237500 | L34: Revenus locatifs projetés | M34: =I17*M25 -> 74700
E35: Annuités | F35: ='TA EXPLOIT'!D8 -> 55282.887 | H35: Emprunte | I35: =I31-I33 -> 712500 | L35: Annuités | M35: ='TA LOCATIF'!D8 -> 64779.743
E36: Besoin en Financement | F36: =F32-F33 -> 690909.09 | H36: Annuité (inFine) | I36: =I35*I26 -> 33487.5 | L36: Besoin en financement | M36: =M32-M33 -> 930808.08
E38: DSCR | F38: =F34/F35 -> 1.5013688 | L38: DSCR | M38: =M34/M35 -> 1.1531383
E39: Faisabilité | F39: =IF(F38>105%,L11,L10) -> 1 | P39: LOYER CIBLE POUR DSCR POSITIVE
P40: =M35*1.2 -> 77735.692
P41: FONDS PROPRES CIBLE POUR DSCR POSITIVE
G42: PLAN DE FINANCEMENT LOCATIF
G43: Prêt acquisition | I43: =M36 -> 930808.08
G44: Prêt accompagnement | I44: =H54 -> 0 | Q44: dscr | R44: loyer | S44: annuité | T44: prix | U44: dette
G45: Type de prêt | I45: Amortissable | Q45: =R45/S45 -> 1.1531383 | R45: =M34 -> 74700 | S45: =M35 -> 64779.743 | T45: =I16 -> 950000
G46: Durée (mois) | I46: =D10 -> 180
G47: Taux | I47: =M26 -> 0.035
G48: Annuités (Hors assurance) | I48: =M35 -> 64779.743
G49: Garantie | I49: HC + CS PM
G50: Assurance | I50: Oui
...

Sheet TA LOCATIF
C5: Montant emprunté | D5: =HYPOTHESES!M36 -> 930808.08 | I5: Amt | J5: Intérêts | K5: CRD | L5: Mensualité
C6: Durée de l'emprunt | D6: 240 | H6: 1 | I6: =-PPMT($D$7/12,H6,$D$6,$D$5) -> 2683.455 | J6: =-IPMT($D$7/12,H6,$D$6,$D$5) -> 2714.8569 | K6: =D5-I6 -> 928124.63 | L6: =J6+I6 -> 5398.3119
C7: Taux annuel | D7: 0.035 | H7: 2 | I7: =-PPMT($D$7/12,H7,$D$6,$D$5) -> 2691.2818 | J7: =-IPMT($D$7/12,H7,$D$6,$D$5) -> 2707.0302 | K7: =K6-I7 -> 925433.34 | L7: =J7+I7 -> 5398.3119
C8: Annuité | D8: =L6*12 -> 64779.743 | H8: 3 | I8: =-PPMT($D$7/12,H8,$D$6,$D$5) -> 2699.1313 | J8: =-IPMT($D$7/12,H8,$D$6,$D$5) -> 2699.1806 | K8: =K7-I8 -> 922734.21 | L8: =J8+I8 -> 5398.3119
H9: 4 | I9: =-PPMT($D$7/12,H9,$D$6,$D$5) -> 2707.0038 | J9: =-IPMT($D$7/12,H9,$D$6,$D$5) -> 2691.3081 | K9: =K8-I9 -> 920027.21 | L9: =J9+I9 -> 5398.3119
H10: 5 | I10: =-PPMT($D$7/12,H10,$D$6,$D$5) -> 2714.8992 | J10: =-IPMT($D$7/12,H10,$D$6,$D$5) -> 2683.4127 | K10: =K9-I10 -> 917312.31 | L10: =J10+I10 -> 5398.3119
H11: 6 | I11: =-PPMT($D$7/12,H11,$D$6,$D$5) -> 2722.8177 | J11: =-IPMT($D$7/12,H11,$D$6,$D$5) -> 2675.4942 | K11: =K10-I11 -> 914589.49 | L11: =J11+I11 -> 5398.3119
H12: 7 | I12: =-PPMT($D$7/12,H12,$D$6,$D$5) -> 2730.7592 | J12: =-IPMT($D$7/12,H12,$D$6,$D$5) -> 2667.5527 | K12: =K11-I12 -> 911858.73 | L12: =J12+I12 -> 5398.3119
H13: 8 | I13: =-PPMT($D$7/12,H13,$D$6,$D$5) -> 2738.7239 | J13: =-IPMT($D$7/12,H13,$D$6,$D$5) -> 2659.588 | K13: =K12-I13 -> 909120.01 | L13: =J13+I13 -> 5398.3119
H14: 9 | I14: =-PPMT($D$7/12,H14,$D$6,$D$5) -> 2746.7119 | J14: =-IPMT($D$7/12,H14,$D$6,$D$5) -> 2651.6 | K14: =K13-I14 -> 906373.3 | L14: =J14+I14 -> 5398.3119
H15: 10 | I15: =-PPMT($D$7/12,H15,$D$6,$D$5) -> 2754.7231 | J15: =-IPMT($D$7/12,H15,$D$6,$D$5) -> 2643.5888 | K15: =K14-I15 -> 903618.57 | L15: =J15+I15 -> 5398.3119
H16: 11 | I16: =-PPMT($D$7/12,H16,$D$6,$D$5) -> 2762.7577 | J16: =-IPMT($D$7/12,H16,$D$6,$D$5) -> 2635.5542 | K16: =K15-I16 -> 900855.82 | L16: =J16+I16 -> 5398.3119
H17: 12 | I17: =-PPMT($D$7/12,H17,$D$6,$D$5) -> 2770.8158 | J17: =-IPMT($D$7/12,H17,$D$6,$D$5) -> 2627.4961 | K17: =K16-I17 -> 898085 | L17: =J17+I17 -> 5398.3119
H18: 13 | I18: =-PPMT($D$7/12,H18,$D$6,$D$5) -> 2778.8973 | J18: =-IPMT($D$7/12,H18,$D$6,$D$5) -> 2619.4146 | K18: =K17-I18 -> 895306.1 | L18: =J18+I18 -> 5398.3119
H19: 14 | I19: =-PPMT($D$7/12,H19,$D$6,$D$5) -> 2787.0025 | J19: =-IPMT($D$7/12,H19,$D$6,$D$5) -> 2611.3095 | K19: =K18-I19 -> 892519.1 | L19: =J19+I19 -> 5398.3119
H20: 15 | I20: =-PPMT($D$7/12,H20,$D$6,$D$5) -> 2795.1312 | J20: =-IPMT($D$7/12,H20,$D$6,$D$5) -> 2603.1807 | K20: =K19-I20 -> 889723.97 | L20: =J20+I20 -> 5398.3119
... H305: 300 | I305: =-PPMT($D$7/12,H305,$D$6,$D$5) -> #NUM! | J305: =-IPMT($D$7/12,H305,$D$6,$D$5) -> #NUM! | K305: =K304-I305 -> #NUM! | L305: =J305+I305 -> #NUM!

Sheet TA EXPLOIT
C5: Montant emprunté | D5: =HYPOTHESES!F36 -> 690909.09 | I5: Amt | J5: Intérêts | K5: CRD | L5: Mensualité
C6: Durée de l'emprunt | D6: 180 | H6: 1 | I6: =-PPMT($D$7/12,H6,$D$6,$D$5) -> 3167.5133 | J6: =-IPMT($D$7/12,H6,$D$6,$D$5) -> 1439.3939 | K6: =D5-I6 -> 687741.58 | L6: =J6+I6 -> 4606.9073
C7: Taux annuel | D7: =HYPOTHESES!F26 -> 0.025 | H7: 2 | I7: =-PPMT($D$7/12,H7,$D$6,$D$5) -> 3174.1123 | J7: =-IPMT($D$7/12,H7,$D$6,$D$5) -> 1432.795 | K7: =K6-I7 -> 684567.47 | L7: =J7+I7 -> 4606.9073
C8: Annuité | D8: =L6*12 -> 55282.887 | H8: 3 | I8: =-PPMT($D$7/12,H8,$D$6,$D$5) -> 3180.725 | J8: =-IPMT($D$7/12,H8,$D$6,$D$5) -> 1426.1822 | K8: =K7-I8 -> 681386.74 | L8: =J8+I8 -> 4606.9073
H9: 4 | I9: =-PPMT($D$7/12,H9,$D$6,$D$5) -> 3187.3516 | J9: =-IPMT($D$7/12,H9,$D$6,$D$5) -> 1419.5557 | K9: =K8-I9 -> 678199.39 | L9: =J9+I9 -> 4606.9073
H10: 5 | I10: =-PPMT($D$7/12,H10,$D$6,$D$5) -> 3193.9919 | J10: =-IPMT($D$7/12,H10,$D$6,$D$5) -> 1412.9154 | K10: =K9-I10 -> 675005.4 | L10: =J10+I10 -> 4606.9073
H11: 6 | I11: =-PPMT($D$7/12,H11,$D$6,$D$5) -> 3200.646 | J11: =-IPMT($D$7/12,H11,$D$6,$D$5) -> 1406.2612 | K11: =K10-I11 -> 671804.75 | L11: =J11+I11 -> 4606.9073
H12: 7 | I12: =-PPMT($D$7/12,H12,$D$6,$D$5) -> 3207.314 | J12: =-IPMT($D$7/12,H12,$D$6,$D$5) -> 1399.5932 | K12: =K11-I12 -> 668597.44 | L12: =J12+I12 -> 4606.9073
H13: 8 | I13: =-PPMT($D$7/12,H13,$D$6,$D$5) -> 3213.9959 | J13: =-IPMT($D$7/12,H13,$D$6,$D$5) -> 1392.9113 | K13: =K12-I13 -> 665383.44 | L13: =J13+I13 -> 4606.9073
H14: 9 | I14: =-PPMT($D$7/12,H14,$D$6,$D$5) -> 3220.6918 | J14: =-IPMT($D$7/12,H14,$D$6,$D$5) -> 1386.2155 | K14: =K13-I14 -> 662162.75 | L14: =J14+I14 -> 4606.9073
H15: 10 | I15: =-PPMT($D$7/12,H15,$D$6,$D$5) -> 3227.4015 | J15: =-IPMT($D$7/12,H15,$D$6,$D$5) -> 1379.5057 | K15: =K14-I15 -> 658935.35 | L15: =J15+I15 -> 4606.9073
H16: 11 | I16: =-PPMT($D$7/12,H16,$D$6,$D$5) -> 3234.1253 | J16: =-IPMT($D$7/12,H16,$D$6,$D$5) -> 1372.782 | K16: =K15-I16 -> 655701.22 | L16: =J16+I16 -> 4606.9073
H17: 12 | I17: =-PPMT($D$7/12,H17,$D$6,$D$5) -> 3240.863 | J17: =-IPMT($D$7/12,H17,$D$6,$D$5) -> 1366.0442 | K17: =K16-I17 -> 652460.36 | L17: =J17+I17 -> 4606.9073
H18: 13 | I18: =-PPMT($D$7/12,H18,$D$6,$D$5) -> 3247.6148 | J18: =-IPMT($D$7/12,H18,$D$6,$D$5) -> 1359.2924 | K18: =K17-I18 -> 649212.74 | L18: =J18+I18 -> 4606.9073
H19: 14 | I19: =-PPMT($D$7/12,H19,$D$6,$D$5) -> 3254.3807 | J19: =-IPMT($D$7/12,H19,$D$6,$D$5) -> 1352.5266 | K19: =K18-I19 -> 645958.36 | L19: =J19+I19 -> 4606.9073
H20: 15 | I20: =-PPMT($D$7/12,H20,$D$6,$D$5) -> 3261.1607 | J20: =-IPMT($D$7/12,H20,$D$6,$D$5) -> 1345.7466 | K20: =K19-I20 -> 642697.2 | L20: =J20+I20 -> 4606.9073
... H305: 300 | I305: =-PPMT($D$7/12,H305,$D$6,$D$5) -> #NUM! | J305: =-IPMT($D$7/12,H305,$D$6,$D$5) -> #NUM! | K305: =K304-I305 -> #NUM! | L305: =J305+I305 -> #NUM!

Sheet Feuil6
C10: 0.1
C11: 0.11
C12: 0.12
C13: 0.13
C14: 0.14
C15: 0.15
C16: 0.16
C17: 0.17
C18: 0.18
C19: 0.19
C20: 0.2
C21: 0.21
... C61: 0.61
