Workbook

Sheet BCom
A1: BON DE COMMANDE PRIVILEGE 2022
A4: Date de commande
A7: Nom du Client
A10: Code Client
A13: Référence | B13: Classe DM | C13: Code EAN | D13: Code ACL | E13: Désignation | F13: Nbre d'unités/carton | G13: Prix unitaire HT | H13: Eco taxe HT | I13: Quantités | J13: Prix | K13: Unités gratuites | L13: Valorisation | M13: Stock
A14: 024.0101 | B14: =VLOOKUP(A14,[1]Distributeur!$E$4:$L$105,2,FALSE) -> IIa | C14: 444 | E14: =_xlfn.XLOOKUP(BCom!A14&"Disponible",Tableau1[Colonne1],Tableau1[Désignation Article],"Article non référencé") -> Article 198 | F14: =VLOOKUP(A14,[1]Distributeur!$E$4:$L$105,6,FALSE) -> 1 | G14: 10 | J14: =I14*G14 -> 0 | L14: =K14*G14 -> 0 | M14: {=SUMPRODUCT((Stock!E$2:E$843=BCom!A14)*(Stock!C$2:C$843="Disponible")*(Stock!G$2:G$843))} -> 0
A15: 600.0973 | C15: 445 | E15: =_xlfn.XLOOKUP(BCom!A15&"Disponible",Tableau1[Colonne1],Tableau1[Désignation Article],"Article non référencé") -> Article 712 | F15: 1 | G15: 10 | J15: =I15*G15 -> 0 | L15: =K15*G15 -> 0 | M15: {=SUMPRODUCT((Stock!E$2:E$843=BCom!A15)*(Stock!C$2:C$843="Disponible")*(Stock!G$2:G$843))} -> 778
A16: 000.0005 | C16: 446 | E16: =_xlfn.XLOOKUP(BCom!A16&"Disponible",Tableau1[Colonne1],Tableau1[Désignation Article],"Article non référencé") -> Article non référencé | F16: 1 | G16: 10 | J16: =I16*G16 -> 0 | L16: =K16*G16 -> 0 | M16: {=SUMPRODUCT((Stock!E$2:E$843=BCom!A16)*(Stock!C$2:C$843="Disponible")*(Stock!G$2:G$843))} -> 0
A17: 600.0387 | C17: 447 | E17: =_xlfn.XLOOKUP(BCom!A17&"Disponible",Tableau1[Colonne1],Tableau1[Désignation Article],"Article non référencé") -> Article 700 | F17: =VLOOKUP(A17,[1]Distributeur!$E$4:$L$105,6,FALSE) -> 1 | G17: 10 | J17: =I17*G17 -> 0 | L17: =K17*G17 -> 0 | M17: {=SUMPRODUCT((Stock!E$2:E$843=BCom!A17)*(Stock!C$2:C$843="Disponible")*(Stock!G$2:G$843))} -> 15
A18: 074.0017 | B18: =VLOOKUP(A18,[1]Distributeur!$E$4:$L$105,2,FALSE) -> I | C18: 448 | E18: =_xlfn.XLOOKUP(BCom!A18&"Disponible",Tableau1[Colonne1],Tableau1[Désignation Article],"Article non référencé") -> Article 216 | F18: =VLOOKUP(A18,[1]Distributeur!$E$4:$L$105,6,FALSE) -> 1 | G18: 10 | J18: =I18*G18 -> 0 | L18: =K18*G18 -> 0 | M18: {=SUMPRODUCT((Stock!E$2:E$843=BCom!A18)*(Stock!C$2:C$843="Disponible")*(Stock!G$2:G$843))} -> 3
A19: 099.0011 | C19: 449 | E19: =_xlfn.XLOOKUP(BCom!A19&"Disponible",Tableau1[Colonne1],Tableau1[Désignation Article],"Article non référencé") -> Article 384 | F19: 1 | G19: 10 | J19: =I19*G19 -> 0 | L19: =K19*G19 -> 0 | M19: {=SUMPRODUCT((Stock!E$2:E$843=BCom!A19)*(Stock!C$2:C$843="Disponible")*(Stock!G$2:G$843))} -> 45
A20: 008.0423 | B20: =VLOOKUP(A20,[1]Distributeur!$E$4:$L$105,2,FALSE) -> IIa | C20: 450 | E20: =_xlfn.XLOOKUP(BCom!A20&"Disponible",Tableau1[Colonne1],Tableau1[Désignation Article],"Article non référencé") -> Article 109 | F20: 10 | G20: 10 | J20: =I20*G20 -> 0 | L20: =K20*G20 -> 0 | M20: {=SUMPRODUCT((Stock!E$2:E$843=BCom!A20)*(Stock!C$2:C$843="Disponible")*(Stock!G$2:G$843))} -> 1
A21: 008.0424 | B21: =VLOOKUP(A21,[1]Distributeur!$E$4:$L$105,2,FALSE) -> IIa | C21: 451 | E21: =_xlfn.XLOOKUP(BCom!A21&"Disponible",Tableau1[Colonne1],Tableau1[Désignation Article],"Article non référencé") -> Article 112 | F21: 10 | G21: 10 | J21: =I21*G21 -> 0 | L21: =K21*G21 -> 0 | M21: {=SUMPRODUCT((Stock!E$2:E$843=BCom!A21)*(Stock!C$2:C$843="Disponible")*(Stock!G$2:G$843))} -> 836
A22: 008.0429 | B22: =VLOOKUP(A22,[1]Distributeur!$E$4:$L$105,2,FALSE) -> IIa | C22: 452 | E22: =_xlfn.XLOOKUP(BCom!A22&"Disponible",Tableau1[Colonne1],Tableau1[Désignation Article],"Article non référencé") -> Article 115 | F22: 10 | G22: 10 | J22: =I22*G22 -> 0 | L22: =K22*G22 -> 0 | M22: {=SUMPRODUCT((Stock!E$2:E$843=BCom!A22)*(Stock!C$2:C$843="Disponible")*(Stock!G$2:G$843))} -> 422
A23: 008.0430 | B23: =VLOOKUP(A23,[1]Distributeur!$E$4:$L$105,2,FALSE) -> IIa | C23: 453 | E23: =_xlfn.XLOOKUP(BCom!A23&"Disponible",Tableau1[Colonne1],Tableau1[Désignation Article],"Article non référencé") -> Article 119 | F23: 5 | G23: 10 | J23: =I23*G23 -> 0 | L23: =K23*G23 -> 0 | M23: {=SUMPRODUCT((Stock!E$2:E$843=BCom!A23)*(Stock!C$2:C$843="Disponible")*(Stock!G$2:G$843))} -> 7
A24: 008.0431 | B24: =VLOOKUP(A24,[1]Distributeur!$E$4:$L$105,2,FALSE) -> IIa | C24: 454 | E24: =_xlfn.XLOOKUP(BCom!A24&"Disponible",Tableau1[Colonne1],Tableau1[Désignation Article],"Article non référencé") -> Article 124 | F24: 5 | G24: 10 | J24: =I24*G24 -> 0 | L24: =K24*G24 -> 0 | M24: {=SUMPRODUCT((Stock!E$2:E$843=BCom!A24)*(Stock!C$2:C$843="Disponible")*(Stock!G$2:G$843))} -> 8022
A25: 008.0436 | B25: =VLOOKUP(A25,[1]Distributeur!$E$4:$L$105,2,FALSE) -> IIa | C25: 455 | E25: =_xlfn.XLOOKUP(BCom!A25&"Disponible",Tableau1[Colonne1],Tableau1[Désignation Article],"Article non référencé") -> Article 129 | F25: 5 | G25: 10 | J25: =I25*G25 -> 0 | L25: =K25*G25 -> 0 | M25: {=SUMPRODUCT((Stock!E$2:E$843=BCom!A25)*(Stock!C$2:C$843="Disponible")*(Stock!G$2:G$843))} -> 10
A26: 008.0437 | B26: =VLOOKUP(A26,[1]Distributeur!$E$4:$L$105,2,FALSE) -> IIa | C26: 456 | E26: =_xlfn.XLOOKUP(BCom!A26&"Disponible",Tableau1[Colonne1],Tableau1[Désignation Article],"Article non référencé") -> Article 133 | F26: =VLOOKUP(A26,[1]Distributeur!$E$4:$L$105,6,FALSE) -> 10 | G26: 10 | J26: =I26*G26 -> 0 | L26: =K26*G26 -> 0 | M26: {=SUMPRODUCT((Stock!E$2:E$843=BCom!A26)*(Stock!C$2:C$843="Disponible")*(Stock!G$2:G$843))} -> 987
A27: 008.0442 | B27: =VLOOKUP(A27,[1]Distributeur!$E$4:$L$105,2,FALSE) -> IIa | C27: 457 | E27: =_xlfn.XLOOKUP(BCom!A27&"Disponible",Tableau1[Colonne1],Tableau1[Désignation Article],"Article non référencé") -> Article 135 | F27: =VLOOKUP(A27,[1]Distributeur!$E$4:$L$105,6,FALSE) -> 10 | G27: 10 | J27: =I27*G27 -> 0 | L27: =K27*G27 -> 0 | M27: {=SUMPRODUCT((Stock!E$2:E$843=BCom!A27)*(Stock!C$2:C$843="Disponible")*(Stock!G$2:G$843))} -> 429
A28: 008.0447 | B28: =VLOOKUP(A28,[1]Distributeur!$E$4:$L$105,2,FALSE) -> IIa | C28: 458 | E28: =_xlfn.XLOOKUP(BCom!A28&"Disponible",Tableau1[Colonne1],Tableau1[Désignation Article],"Article non référencé") -> Article 138 | F28: =VLOOKUP(A28,[1]Distributeur!$E$4:$L$105,6,FALSE) -> 10 | G28: 10 | J28: =I28*G28 -> 0 | L28: =K28*G28 -> 0 | M28: {=SUMPRODUCT((Stock!E$2:E$843=BCom!A28)*(Stock!C$2:C$843="Disponible")*(Stock!G$2:G$843))} -> 719
A29: 008.0452 | B29: =VLOOKUP(A29,[1]Distributeur!$E$4:$L$105,2,FALSE) -> IIa | C29: 459 | E29: =_xlfn.XLOOKUP(BCom!A29&"Disponible",Tableau1[Colonne1],Tableau1[Désignation Article],"Article non référencé") -> Article 142 | F29: =VLOOKUP(A29,[1]Distributeur!$E$4:$L$105,6,FALSE) -> 10 | G29: 10 | J29: =I29*G29 -> 0 | L29: =K29*G29 -> 0 | M29: {=SUMPRODUCT((Stock!E$2:E$843=BCom!A29)*(Stock!C$2:C$843="Disponible")*(Stock!G$2:G$843))} -> 673
A30: 008.0457 | B30: =VLOOKUP(A30,[1]Distributeur!$E$4:$L$105,2,FALSE) -> IIa | C30: 460 | E30: =_xlfn.XLOOKUP(BCom!A30&"Disponible",Tableau1[Colonne1],Tableau1[Désignation Article],"Article non référencé") -> Article 144 | F30: =VLOOKUP(A30,[1]Distributeur!$E$4:$L$105,6,FALSE) -> 10 | G30: 10 | J30: =I30*G30 -> 0 | L30: =K30*G30 -> 0 | M30: {=SUMPRODUCT((Stock!E$2:E$843=BCom!A30)*(Stock!C$2:C$843="Disponible")*(Stock!G$2:G$843))} -> 160
A31: 101041154 | C31: 461 | E31: =_xlfn.XLOOKUP(BCom!A31&"Disponible",Tableau1[Colonne1],Tableau1[Désignation Article],"Article non référencé") -> Article 541 | F31: 10 | G31: 10 | J31: =I31*G31 -> 0 | L31: =K31*G31 -> 0 | M31: {=SUMPRODUCT((Stock!E$2:E$843=BCom!A31)*(Stock!C$2:C$843="Disponible")*(Stock!G$2:G$843))} -> 1652
A32: 101033773 | C32: 462 | E32: =_xlfn.XLOOKUP(BCom!A32&"Disponible",Tableau1[Colonne1],Tableau1[Désignation Article],"Article non référencé") -> Article 433 | F32: 4 | G32: 10 | H32: 0.08 | J32: =I32*G32 -> 0 | L32: =K32*G32 -> 0 | M32: {=SUMPRODUCT((Stock!E$2:E$843=BCom!A32)*(Stock!C$2:C$843="Disponible")*(Stock!G$2:G$843))} -> 119
A33: 101041610 | C33: 463 | E33: =_xlfn.XLOOKUP(BCom!A33&"Disponible",Tableau1[Colonne1],Tableau1[Désignation Article],"Article non référencé") -> Article 548 | F33: 5 | G33: 10 | H33: 0.08 | J33: =I33*G33 -> 0 | L33: =K33*G33 -> 0 | M33: {=SUMPRODUCT((Stock!E$2:E$843=BCom!A33)*(Stock!C$2:C$843="Disponible")*(Stock!G$2:G$843))} -> 569
A34: 101033817 | C34: 464 | E34: =_xlfn.XLOOKUP(BCom!A34&"Disponible",Tableau1[Colonne1],Tableau1[Désignation Article],"Article non référencé") -> Article 435 | F34: 4 | G34: 10 | H34: 0.08 | J34: =I34*G34 -> 0 | L34: =K34*G34 -> 0 | M34: {=SUMPRODUCT((Stock!E$2:E$843=BCom!A34)*(Stock!C$2:C$843="Disponible")*(Stock!G$2:G$843))} -> 26
A35: 101041611 | C35: 465 | E35: =_xlfn.XLOOKUP(BCom!A35&"Disponible",Tableau1[Colonne1],Tableau1[Désignation Article],"Article non référencé") -> Article 551 | F35: 5 | G35: 10 | H35: 0.08 | J35: =I35*G35 -> 0 | L35: =K35*G35 -> 0 | M35: {=SUMPRODUCT((Stock!E$2:E$843=BCom!A35)*(Stock!C$2:C$843="Disponible")*(Stock!G$2:G$843))} -> 1067
A36: 101037976 | C36: 466 | E36: =_xlfn.XLOOKUP(BCom!A36&"Disponible",Tableau1[Colonne1],Tableau1[Désignation Article],"Article non référencé") -> Article 475 | F36: =VLOOKUP(A36,[1]Distributeur!$E$4:$L$105,6,FALSE) -> 1 | G36: 10 | H36: 0.08 | J36: =I36*G36 -> 0 | L36: =K36*G36 -> 0 | M36: {=SUMPRODUCT((Stock!E$2:E$843=BCom!A36)*(Stock!C$2:C$843="Disponible")*(Stock!G$2:G$843))} -> 7
A37: 101041851 | C37: 467 | E37: =_xlfn.XLOOKUP(BCom!A37&"Disponible",Tableau1[Colonne1],Tableau1[Désignation Article],"Article non référencé") -> Article non référencé | F37: 10 | G37: 10 | J37: =I37*G37 -> 0 | L37: =K37*G37 -> 0 | M37: {=SUMPRODUCT((Stock!E$2:E$843=BCom!A37)*(Stock!C$2:C$843="Disponible")*(Stock!G$2:G$843))} -> 0
A38: 101041852 | C38: 468 | E38: =_xlfn.XLOOKUP(BCom!A38&"Disponible",Tableau1[Colonne1],Tableau1[Désignation Article],"Article non référencé") -> Article 553 | F38: 10 | G38: 10 | J38: =I38*G38 -> 0 | L38: =K38*G38 -> 0 | M38: {=SUMPRODUCT((Stock!E$2:E$843=BCom!A38)*(Stock!C$2:C$843="Disponible")*(Stock!G$2:G$843))} -> 28
A39: 101041853 | C39: 469 | E39: =_xlfn.XLOOKUP(BCom!A39&"Disponible",Tableau1[Colonne1],Tableau1[Désignation Article],"Article non référencé") -> Article 556 | F39: 10 | G39: 10 | J39: =I39*G39 -> 0 | L39: =K39*G39 -> 0 | M39: {=SUMPRODUCT((Stock!E$2:E$843=BCom!A39)*(Stock!C$2:C$843="Disponible")*(Stock!G$2:G$843))} -> 271
A40: 101041854 | C40: 470 | E40: =_xlfn.XLOOKUP(BCom!A40&"Disponible",Tableau1[Colonne1],Tableau1[Désignation Article],"Article non référencé") -> Article 560 | F40: 10 | G40: 10 | J40: =I40*G40 -> 0 | L40: =K40*G40 -> 0 | M40: {=SUMPRODUCT((Stock!E$2:E$843=BCom!A40)*(Stock!C$2:C$843="Disponible")*(Stock!G$2:G$843))} -> 636
A41: 008.0139 | C41: 471 | D41: =VLOOKUP(A41,[1]Distributeur!$E$4:$L$105,4,FALSE) -> 9813992 | E41: =_xlfn.XLOOKUP(BCom!A41&"Disponible",Tableau1[Colonne1],Tableau1[Désignation Article],"Article non référencé") -> Article 32 | F41: =VLOOKUP(A41,[1]Distributeur!$E$4:$L$105,6,FALSE) -> 10 | G41: 10 | J41: =I41*G41 -> 0 | L41: =K41*G41 -> 0 | M41: {=SUMPRODUCT((Stock!E$2:E$843=BCom!A41)*(Stock!C$2:C$843="Disponible")*(Stock!G$2:G$843))} -> 537
A42: 008.0124 | C42: 472 | D42: =VLOOKUP(A42,[1]Distributeur!$E$4:$L$105,4,FALSE) -> 9813986 | E42: =_xlfn.XLOOKUP(BCom!A42&"Disponible",Tableau1[Colonne1],Tableau1[Désignation Article],"Article non référencé") -> Article 29 | F42: =VLOOKUP(A42,[1]Distributeur!$E$4:$L$105,6,FALSE) -> 10 | G42: 10 | J42: =I42*G42 -> 0 | L42: =K42*G42 -> 0 | M42: {=SUMPRODUCT((Stock!E$2:E$843=BCom!A42)*(Stock!C$2:C$843="Disponible")*(Stock!G$2:G$843))} -> 1719
A43: 008.0188 | C43: 473 | D43: =VLOOKUP(A43,[1]Distributeur!$E$4:$L$105,4,FALSE) -> 2103773 | E43: =_xlfn.XLOOKUP(BCom!A43&"Disponible",Tableau1[Colonne1],Tableau1[Désignation Article],"Article non référencé") -> Article 39 | F43: =VLOOKUP(A43,[1]Distributeur!$E$4:$L$105,6,FALSE) -> 10 | G43: 10 | J43: =I43*G43 -> 0 | L43: =K43*G43 -> 0 | M43: {=SUMPRODUCT((Stock!E$2:E$843=BCom!A43)*(Stock!C$2:C$843="Disponible")*(Stock!G$2:G$843))} -> 856
A44: 008.0403 | C44: 474 | E44: =_xlfn.XLOOKUP(BCom!A44&"Disponible",Tableau1[Colonne1],Tableau1[Désignation Article],"Article non référencé") -> Article 100 | F44: =VLOOKUP(A44,[1]Distributeur!$E$4:$L$105,6,FALSE) -> 14 | G44: 10 | J44: =I44*G44 -> 0 | L44: =K44*G44 -> 0 | M44: {=SUMPRODUCT((Stock!E$2:E$843=BCom!A44)*(Stock!C$2:C$843="Disponible")*(Stock!G$2:G$843))} -> 625
A45: 008.0410 | C45: 475 | E45: =_xlfn.XLOOKUP(BCom!A45&"Disponible",Tableau1[Colonne1],Tableau1[Désignation Article],"Article non référencé") -> Article 104 | F45: =VLOOKUP(A45,[1]Distributeur!$E$4:$L$105,6,FALSE) -> 10 | G45: 10 | J45: =I45*G45 -> 0 | L45: =K45*G45 -> 0 | M45: {=SUMPRODUCT((Stock!E$2:E$843=BCom!A45)*(Stock!C$2:C$843="Disponible")*(Stock!G$2:G$843))} -> 6
A46: 800.0796 | C46: 476 | D46: =VLOOKUP(A46,[1]Distributeur!$E$4:$L$105,4,FALSE) -> 4450438 | E46: =_xlfn.XLOOKUP(BCom!A46&"Disponible",Tableau1[Colonne1],Tableau1[Désignation Article],"Article non référencé") -> Article 770 | F46: =VLOOKUP(A46,[1]Distributeur!$E$4:$L$105,6,FALSE) -> 5 | G46: 10 | J46: =I46*G46 -> 0 | L46: =K46*G46 -> 0 | M46: {=SUMPRODUCT((Stock!E$2:E$843=BCom!A46)*(Stock!C$2:C$843="Disponible")*(Stock!G$2:G$843))} -> 6
A47: 200.1659 | C47: 477 | D47: =VLOOKUP(A47,[1]Distributeur!$E$4:$L$105,4,FALSE) -> 6235661 | E47: =_xlfn.XLOOKUP(BCom!A47&"Disponible",Tableau1[Colonne1],Tableau1[Désignation Article],"Article non référencé") -> Article 671 | F47: =VLOOKUP(A47,[1]Distributeur!$E$4:$L$105,6,FALSE) -> 5 | G47: 10 | J47: =I47*G47 -> 0 | L47: =K47*G47 -> 0 | M47: {=SUMPRODUCT((Stock!E$2:E$843=BCom!A47)*(Stock!C$2:C$843="Disponible")*(Stock!G$2:G$843))} -> 206
A48: 200.0597 | C48: 478 | D48: =VLOOKUP(A48,[1]Distributeur!$E$4:$L$105,4,FALSE) -> 4822733 | E48: =_xlfn.XLOOKUP(BCom!A48&"Disponible",Tableau1[Colonne1],Tableau1[Désignation Article],"Article non référencé") -> Article 634 | F48: =VLOOKUP(A48,[1]Distributeur!$E$4:$L$105,6,FALSE) -> 10 | G48: 10 | J48: =I48*G48 -> 0 | L48: =K48*G48 -> 0 | M48: {=SUMPRODUCT((Stock!E$2:E$843=BCom!A48)*(Stock!C$2:C$843="Disponible")*(Stock!G$2:G$843))} -> 152
A49: 200.1658 | C49: 479 | D49: =VLOOKUP(A49,[1]Distributeur!$E$4:$L$105,4,FALSE) -> 6207015 | E49: =_xlfn.XLOOKUP(BCom!A49&"Disponible",Tableau1[Colonne1],Tableau1[Désignation Article],"Article non référencé") -> Article 667 | F49: =VLOOKUP(A49,[1]Distributeur!$E$4:$L$105,6,FALSE) -> 10 | G49: 10 | J49: =I49*G49 -> 0 | L49: =K49*G49 -> 0 | M49: {=SUMPRODUCT((Stock!E$2:E$843=BCom!A49)*(Stock!C$2:C$843="Disponible")*(Stock!G$2:G$843))} -> 142
A50: 200.0601 | C50: 480 | D50: =VLOOKUP(A50,[1]Distributeur!$E$4:$L$105,4,FALSE) -> 4822727 | E50: =_xlfn.XLOOKUP(BCom!A50&"Disponible",Tableau1[Colonne1],Tableau1[Désignation Article],"Article non référencé") -> Article 636 | F50: =VLOOKUP(A50,[1]Distributeur!$E$4:$L$105,6,FALSE) -> 20 | G50: 10 | J50: =I50*G50 -> 0 | L50: =K50*G50 -> 0 | M50: {=SUMPRODUCT((Stock!E$2:E$843=BCom!A50)*(Stock!C$2:C$843="Disponible")*(Stock!G$2:G$843))} -> 257
A51: 200.0603 | C51: 481 | D51: =VLOOKUP(A51,[1]Distributeur!$E$4:$L$105,4,FALSE) -> 4822710 | E51: =_xlfn.XLOOKUP(BCom!A51&"Disponible",Tableau1[Colonne1],Tableau1[Désignation Article],"Article non référencé") -> Article 639 | F51: =VLOOKUP(A51,[1]Distributeur!$E$4:$L$105,6,FALSE) -> 20 | G51: 10 | J51: =I51*G51 -> 0 | L51: =K51*G51 -> 0 | M51: {=SUMPRODUCT((Stock!E$2:E$843=BCom!A51)*(Stock!C$2:C$843="Disponible")*(Stock!G$2:G$843))} -> 84
A52: 101037156 | C52: 482 | E52: =_xlfn.XLOOKUP(BCom!A52&"Disponible",Tableau1[Colonne1],Tableau1[Désignation Article],"Article non référencé") -> Article 471 | F52: 10 | G52: 10 | J52: =I52*G52 -> 0 | L52: =K52*G52 -> 0 | M52: {=SUMPRODUCT((Stock!E$2:E$843=BCom!A52)*(Stock!C$2:C$843="Disponible")*(Stock!G$2:G$843))} -> 0
A53: 008.0040 | C53: 483 | D53: =VLOOKUP(A53,[1]Distributeur!$E$4:$L$105,4,FALSE) -> 4822756 | E53: =_xlfn.XLOOKUP(BCom!A53&"Disponible",Tableau1[Colonne1],Tableau1[Désignation Article],"Article non référencé") -> Article 20 | F53: 10 | G53: 10 | J53: =I53*G53 -> 0 | L53: =K53*G53 -> 0 | M53: {=SUMPRODUCT((Stock!E$2:E$843=BCom!A53)*(Stock!C$2:C$843="Disponible")*(Stock!G$2:G$843))} -> 708
A54: 200.0625 | C54: 484 | D54: =VLOOKUP(A54,[1]Distributeur!$E$4:$L$105,4,FALSE) -> 4822762 | E54: =_xlfn.XLOOKUP(BCom!A54&"Disponible",Tableau1[Colonne1],Tableau1[Désignation Article],"Article non référencé") -> Article 641 | F54: =VLOOKUP(A54,[1]Distributeur!$E$4:$L$105,6,FALSE) -> 3 | G54: 10 | J54: =I54*G54 -> 0 | L54: =K54*G54 -> 0 | M54: {=SUMPRODUCT((Stock!E$2:E$843=BCom!A54)*(Stock!C$2:C$843="Disponible")*(Stock!G$2:G$843))} -> 264
A55: 200.1756 | C55: 485 | E55: =_xlfn.XLOOKUP(BCom!A55&"Disponible",Tableau1[Colonne1],Tableau1[Désignation Article],"Article non référencé") -> Article 679 | F55: 10 | G55: 10 | J55: =I55*G55 -> 0 | L55: =K55*G55 -> 0 | M55: {=SUMPRODUCT((Stock!E$2:E$843=BCom!A55)*(Stock!C$2:C$843="Disponible")*(Stock!G$2:G$843))} -> 10
A56: 101041336 | C56: 486 | E56: =_xlfn.XLOOKUP(BCom!A56&"Disponible",Tableau1[Colonne1],Tableau1[Désignation Article],"Article non référencé") -> Article 546 | F56: 60 | G56: 10 | J56: =I56*G56 -> 0 | L56: =K56*G56 -> 0 | M56: {=SUMPRODUCT((Stock!E$2:E$843=BCom!A56)*(Stock!C$2:C$843="Disponible")*(Stock!G$2:G$843))} -> 5781
A57: 008.0058 | B57: =VLOOKUP(A57,[1]Distributeur!$E$4:$L$105,2,FALSE) -> IIa | C57: 487 | D57: =VLOOKUP(A57,[1]Distributeur!$E$4:$L$105,4,FALSE) -> 6207038 | E57: =_xlfn.XLOOKUP(BCom!A57&"Disponible",Tableau1[Colonne1],Tableau1[Désignation Article],"Article non référencé") -> Article 26 | F57: =VLOOKUP(A57,[1]Distributeur!$E$4:$L$105,6,FALSE) -> 10 | G57: 10 | J57: =I57*G57 -> 0 | L57: =K57*G57 -> 0 | M57: {=SUMPRODUCT((Stock!E$2:E$843=BCom!A57)*(Stock!C$2:C$843="Disponible")*(Stock!G$2:G$843))} -> 2179
A58: 008.0306 | C58: 488 | D58: =VLOOKUP(A58,[1]Distributeur!$E$4:$L$105,4,FALSE) -> 4450450 | E58: =_xlfn.XLOOKUP(BCom!A58&"Disponible",Tableau1[Colonne1],Tableau1[Désignation Article],"Article non référencé") -> Article 68 | F58: =VLOOKUP(A58,[1]Distributeur!$E$4:$L$105,6,FALSE) -> 5 | G58: 10 | J58: =I58*G58 -> 0 | L58: =K58*G58 -> 0 | M58: {=SUMPRODUCT((Stock!E$2:E$843=BCom!A58)*(Stock!C$2:C$843="Disponible")*(Stock!G$2:G$843))} -> 651
A59: 008.0373 | C59: 489 | D59: =VLOOKUP(A59,[1]Distributeur!$E$4:$L$105,4,FALSE) -> 7167128 | E59: =_xlfn.XLOOKUP(BCom!A59&"Disponible",Tableau1[Colonne1],Tableau1[Désignation Article],"Article non référencé") -> Article non référencé | F59: =VLOOKUP(A59,[1]Distributeur!$E$4:$L$105,6,FALSE) -> 3 | G59: 10 | J59: =I59*G59 -> 0 | L59: =K59*G59 -> 0 | M59: {=SUMPRODUCT((Stock!E$2:E$843=BCom!A59)*(Stock!C$2:C$843="Disponible")*(Stock!G$2:G$843))} -> 0
A60: 101037033 | C60: 490 | E60: =_xlfn.XLOOKUP(BCom!A60&"Disponible",Tableau1[Colonne1],Tableau1[Désignation Article],"Article non référencé") -> Article 464 | F60: 6 | G60: 10 | J60: =I60*G60 -> 0 | L60: =K60*G60 -> 0 | M60: {=SUMPRODUCT((Stock!E$2:E$843=BCom!A60)*(Stock!C$2:C$843="Disponible")*(Stock!G$2:G$843))} -> 0
A61: 101037043 | C61: 491 | E61: =_xlfn.XLOOKUP(BCom!A61&"Disponible",Tableau1[Colonne1],Tableau1[Désignation Article],"Article non référencé") -> Article 467 | F61: 6 | G61: 10 | J61: =I61*G61 -> 0 | L61: =K61*G61 -> 0 | M61: {=SUMPRODUCT((Stock!E$2:E$843=BCom!A61)*(Stock!C$2:C$843="Disponible")*(Stock!G$2:G$843))} -> 10
A62: 008.0237 | B62: =VLOOKUP(A62,[1]Distributeur!$E$4:$L$105,2,FALSE) -> I | C62: 492 | D62: =VLOOKUP(A62,[1]Distributeur!$E$4:$L$105,4,FALSE) -> 9707445 | E62: =_xlfn.XLOOKUP(BCom!A62&"Disponible",Tableau1[Colonne1],Tableau1[Désignation Article],"Article non référencé") -> Article non référencé | F62: =VLOOKUP(A62,[1]Distributeur!$E$4:$L$105,6,FALSE) -> 5 | G62: 10 | J62: =I62*G62 -> 0 | L62: =K62*G62 -> 0 | M62: {=SUMPRODUCT((Stock!E$2:E$843=BCom!A62)*(Stock!C$2:C$843="Disponible")*(Stock!G$2:G$843))} -> 0
A63: 008.0239 | B63: =VLOOKUP(A63,[1]Distributeur!$E$4:$L$105,2,FALSE) -> IIa | C63: 493 | D63: =VLOOKUP(A63,[1]Distributeur!$E$4:$L$105,4,FALSE) -> 7889867 | E63: =_xlfn.XLOOKUP(BCom!A63&"Disponible",Tableau1[Colonne1],Tableau1[Désignation Article],"Article non référencé") -> Article 47 | F63: =VLOOKUP(A63,[1]Distributeur!$E$4:$L$105,6,FALSE) -> 5 | G63: 10 | J63: =I63*G63 -> 0 | L63: =K63*G63 -> 0 | M63: {=SUMPRODUCT((Stock!E$2:E$843=BCom!A63)*(Stock!C$2:C$843="Disponible")*(Stock!G$2:G$843))} -> 1986
A64: 008.0228 | B64: =VLOOKUP(A64,[1]Distributeur!$E$4:$L$105,2,FALSE) -> I | C64: 494 | D64: =VLOOKUP(A64,[1]Distributeur!$E$4:$L$105,4,FALSE) -> 7889838 | E64: =_xlfn.XLOOKUP(BCom!A64&"Disponible",Tableau1[Colonne1],Tableau1[Désignation Article],"Article non référencé") -> Article non référencé | F64: 5 | G64: 10 | J64: =I64*G64 -> 0 | L64: =K64*G64 -> 0 | M64: {=SUMPRODUCT((Stock!E$2:E$843=BCom!A64)*(Stock!C$2:C$843="Disponible")*(Stock!G$2:G$843))} -> 0
A65: 008.0230 | B65: =VLOOKUP(A65,[1]Distributeur!$E$4:$L$105,2,FALSE) -> I | C65: 495 | D65: =VLOOKUP(A65,[1]Distributeur!$E$4:$L$105,4,FALSE) -> 7889844 | E65: =_xlfn.XLOOKUP(BCom!A65&"Disponible",Tableau1[Colonne1],Tableau1[Désignation Article],"Article non référencé") -> Article 42 | F65: 5 | G65: 10 | J65: =I65*G65 -> 0 | L65: =K65*G65 -> 0 | M65: {=SUMPRODUCT((Stock!E$2:E$843=BCom!A65)*(Stock!C$2:C$843="Disponible")*(Stock!G$2:G$843))} -> 966
A66: 200.1625 | B66: =VLOOKUP(A66,[1]Distributeur!$E$4:$L$105,2,FALSE) -> IIa | C66: 496 | D66: =VLOOKUP(A66,[1]Distributeur!$E$4:$L$105,4,FALSE) -> 6343712 | E66: =_xlfn.XLOOKUP(BCom!A66&"Disponible",Tableau1[Colonne1],Tableau1[Désignation Article],"Article non référencé") -> Article 662 | F66: =VLOOKUP(A66,[1]Distributeur!$E$4:$L$105,6,FALSE) -> 5 | G66: 10 | J66: =I66*G66 -> 0 | L66: =K66*G66 -> 0 | M66: {=SUMPRODUCT((Stock!E$2:E$843=BCom!A66)*(Stock!C$2:C$843="Disponible")*(Stock!G$2:G$843))} -> 8
A67: 200.1593 | B67: =VLOOKUP(A67,[1]Distributeur!$E$4:$L$105,2,FALSE) -> IIa | C67: 497 | D67: =VLOOKUP(A67,[1]Distributeur!$E$4:$L$105,4,FALSE) -> 6207021 | E67: =_xlfn.XLOOKUP(BCom!A67&"Disponible",Tableau1[Colonne1],Tableau1[Désignation Article],"Article non référencé") -> Article 659 | F67: =VLOOKUP(A67,[1]Distributeur!$E$4:$L$105,6,FALSE) -> 5 | G67: 10 | J67: =I67*G67 -> 0 | L67: =K67*G67 -> 0 | M67: {=SUMPRODUCT((Stock!E$2:E$843=BCom!A67)*(Stock!C$2:C$843="Disponible")*(Stock!G$2:G$843))} -> 1277
A68: 200.1630 | B68: =VLOOKUP(A68,[1]Distributeur!$E$4:$L$105,2,FALSE) -> IIa | C68: 498 | D68: =VLOOKUP(A68,[1]Distributeur!$E$4:$L$105,4,FALSE) -> 6344798 | E68: =_xlfn.XLOOKUP(BCom!A68&"Disponible",Tableau1[Colonne1],Tableau1[Désignation Article],"Article non référencé") -> Article 665 | F68: =VLOOKUP(A68,[1]Distributeur!$E$4:$L$105,6,FALSE) -> 5 | G68: 10 | J68: =I68*G68 -> 0 | L68: =K68*G68 -> 0 | M68: {=SUMPRODUCT((Stock!E$2:E$843=BCom!A68)*(Stock!C$2:C$843="Disponible")*(Stock!G$2:G$843))} -> 1081
A69: 009.0005 | C69: 499 | D69: =VLOOKUP(A69,[1]Distributeur!$E$4:$L$105,4,FALSE) -> 4619707 | E69: =_xlfn.XLOOKUP(BCom!A69&"Disponible",Tableau1[Colonne1],Tableau1[Désignation Article],"Article non référencé") -> Article 164 | F69: 10 | G69: 10 | J69: =I69*G69 -> 0 | L69: =K69*G69 -> 0 | M69: {=SUMPRODUCT((Stock!E$2:E$843=BCom!A69)*(Stock!C$2:C$843="Disponible")*(Stock!G$2:G$843))} -> 83
A70: 800.0399 | C70: 500 | D70: =VLOOKUP(A70,[1]Distributeur!$E$4:$L$105,4,FALSE) -> 7880091 | E70: =_xlfn.XLOOKUP(BCom!A70&"Disponible",Tableau1[Colonne1],Tableau1[Désignation Article],"Article non référencé") -> Article 722 | F70: =VLOOKUP(A70,[1]Distributeur!$E$4:$L$105,6,FALSE) -> 5 | G70: 10 | J70: =I70*G70 -> 0 | L70: =K70*G70 -> 0 | M70: {=SUMPRODUCT((Stock!E$2:E$843=BCom!A70)*(Stock!C$2:C$843="Disponible")*(Stock!G$2:G$843))} -> 597
A71: 008.0112 | B71: =VLOOKUP(A71,[1]Distributeur!$E$4:$L$105,2,FALSE) -> IIa | C71: 501 | D71: =VLOOKUP(A71,[1]Distributeur!$E$4:$L$105,4,FALSE) -> 4619736 | E71: =_xlfn.XLOOKUP(BCom!A71&"Disponible",Tableau1[Colonne1],Tableau1[Désignation Article],"Article non référencé") -> Article non référencé | F71: 5 | G71: 10 | J71: =I71*G71 -> 0 | L71: =K71*G71 -> 0 | M71: {=SUMPRODUCT((Stock!E$2:E$843=BCom!A71)*(Stock!C$2:C$843="Disponible")*(Stock!G$2:G$843))} -> 0
A72: 800.0452 | B72: IIa | C72: 502 | E72: =_xlfn.XLOOKUP(BCom!A72&"Disponible",Tableau1[Colonne1],Tableau1[Désignation Article],"Article non référencé") -> Article 724 | F72: 5 | G72: 10 | J72: =I72*G72 -> 0 | L72: =K72*G72 -> 0 | M72: {=SUMPRODUCT((Stock!E$2:E$843=BCom!A72)*(Stock!C$2:C$843="Disponible")*(Stock!G$2:G$843))} -> 37
A73: 008.0027 | C73: 503 | E73: =_xlfn.XLOOKUP(BCom!A73&"Disponible",Tableau1[Colonne1],Tableau1[Désignation Article],"Article non référencé") -> Article 18 | F73: 10 | G73: 10 | J73: =I73*G73 -> 0 | L73: =K73*G73 -> 0 | M73: {=SUMPRODUCT((Stock!E$2:E$843=BCom!A73)*(Stock!C$2:C$843="Disponible")*(Stock!G$2:G$843))} -> 136
A74: 800.0507 | C74: 504 | E74: =_xlfn.XLOOKUP(BCom!A74&"Disponible",Tableau1[Colonne1],Tableau1[Désignation Article],"Article non référencé") -> Article 725 | F74: 50 | G74: 10 | J74: =I74*G74 -> 0 | L74: =K74*G74 -> 0 | M74: {=SUMPRODUCT((Stock!E$2:E$843=BCom!A74)*(Stock!C$2:C$843="Disponible")*(Stock!G$2:G$843))} -> 70
A75: 101038763 | C75: 505 | E75: =_xlfn.XLOOKUP(BCom!A75&"Disponible",Tableau1[Colonne1],Tableau1[Désignation Article],"Article non référencé") -> Article 479 | F75: 24 | G75: 10 | J75: =I75*G75 -> 0 | L75: =K75*G75 -> 0 | M75: {=SUMPRODUCT((Stock!E$2:E$843=BCom!A75)*(Stock!C$2:C$843="Disponible")*(Stock!G$2:G$843))} -> 704
A76: 101038767 | C76: 506 | E76: =_xlfn.XLOOKUP(BCom!A76&"Disponible",Tableau1[Colonne1],Tableau1[Désignation Article],"Article non référencé") -> Article 481 | F76: 24 | G76: 10 | J76: =I76*G76 -> 0 | L76: =K76*G76 -> 0 | M76: {=SUMPRODUCT((Stock!E$2:E$843=BCom!A76)*(Stock!C$2:C$843="Disponible")*(Stock!G$2:G$843))} -> 1476
A77: 101038769 | C77: 507 | E77: =_xlfn.XLOOKUP(BCom!A77&"Disponible",Tableau1[Colonne1],Tableau1[Désignation Article],"Article non référencé") -> Article 484 | F77: 24 | G77: 10 | J77: =I77*G77 -> 0 | L77: =K77*G77 -> 0 | M77: {=SUMPRODUCT((Stock!E$2:E$843=BCom!A77)*(Stock!C$2:C$843="Disponible")*(Stock!G$2:G$843))} -> 2428
A78: 101038770 | C78: 508 | E78: =_xlfn.XLOOKUP(BCom!A78&"Disponible",Tableau1[Colonne1],Tableau1[Désignation Article],"Article non référencé") -> Article 487 | F78: 24 | G78: 10 | J78: =I78*G78 -> 0 | L78: =K78*G78 -> 0 | M78: {=SUMPRODUCT((Stock!E$2:E$843=BCom!A78)*(Stock!C$2:C$843="Disponible")*(Stock!G$2:G$843))} -> 92
A79: 101038771 | C79: 509 | E79: =_xlfn.XLOOKUP(BCom!A79&"Disponible",Tableau1[Colonne1],Tableau1[Désignation Article],"Article non référencé") -> Article 489 | F79: 24 | G79: 10 | J79: =I79*G79 -> 0 | L79: =K79*G79 -> 0 | M79: {=SUMPRODUCT((Stock!E$2:E$843=BCom!A79)*(Stock!C$2:C$843="Disponible")*(Stock!G$2:G$843))} -> 4
A80: 101038773 | C80: 510 | E80: =_xlfn.XLOOKUP(BCom!A80&"Disponible",Tableau1[Colonne1],Tableau1[Désignation Article],"Article non référencé") -> Article 491 | F80: 24 | G80: 10 | J80: =I80*G80 -> 0 | L80: =K80*G80 -> 0 | M80: {=SUMPRODUCT((Stock!E$2:E$843=BCom!A80)*(Stock!C$2:C$843="Disponible")*(Stock!G$2:G$843))} -> 2
A81: 101038822 | C81: 511 | E81: =_xlfn.XLOOKUP(BCom!A81&"Disponible",Tableau1[Colonne1],Tableau1[Désignation Article],"Article non référencé") -> Article 503 | F81: 24 | G81: 10 | J81: =I81*G81 -> 0 | L81: =K81*G81 -> 0 | M81: {=SUMPRODUCT((Stock!E$2:E$843=BCom!A81)*(Stock!C$2:C$843="Disponible")*(Stock!G$2:G$843))} -> 1106
A82: 101038823 | C82: 512 | E82: =_xlfn.XLOOKUP(BCom!A82&"Disponible",Tableau1[Colonne1],Tableau1[Désignation Article],"Article non référencé") -> Article 506 | F82: 24 | G82: 10 | J82: =I82*G82 -> 0 | L82: =K82*G82 -> 0 | M82: {=SUMPRODUCT((Stock!E$2:E$843=BCom!A82)*(Stock!C$2:C$843="Disponible")*(Stock!G$2:G$843))} -> 1641
A83: 101038824 | C83: 513 | E83: =_xlfn.XLOOKUP(BCom!A83&"Disponible",Tableau1[Colonne1],Tableau1[Désignation Article],"Article non référencé") -> Article 509 | F83: 24 | G83: 10 | J83: =I83*G83 -> 0 | L83: =K83*G83 -> 0 | M83: {=SUMPRODUCT((Stock!E$2:E$843=BCom!A83)*(Stock!C$2:C$843="Disponible")*(Stock!G$2:G$843))} -> 27
A84: 101038825 | C84: 514 | E84: =_xlfn.XLOOKUP(BCom!A84&"Disponible",Tableau1[Colonne1],Tableau1[Désignation Article],"Article non référencé") -> Article 511 | F84: 24 | G84: 10 | J84: =I84*G84 -> 0 | L84: =K84*G84 -> 0 | M84: {=SUMPRODUCT((Stock!E$2:E$843=BCom!A84)*(Stock!C$2:C$843="Disponible")*(Stock!G$2:G$843))} -> 313
... A88: 101038829 | C88: 518 | E88: =_xlfn.XLOOKUP(BCom!A88&"Disponible",Tableau1[Colonne1],Tableau1[Désignation Article],"Article non référencé") -> Article 520 | F88: 24 | G88: 10 | J88: =I88*G88 -> 0 | L88: =K88*G88 -> 0 | M88: {=SUMPRODUCT((Stock!E$2:E$843=BCom!A88)*(Stock!C$2:C$843="Disponible")*(Stock!G$2:G$843))} -> 18
A89: 101038885 | C89: 519 | E89: =_xlfn.XLOOKUP(BCom!A89&"Disponible",Tableau1[Colonne1],Tableau1[Désignation Article],"Article non référencé") -> Article 522 | F89: 24 | G89: 10 | J89: =I89*G89 -> 0 | L89: =K89*G89 -> 0 | M89: {=SUMPRODUCT((Stock!E$2:E$843=BCom!A89)*(Stock!C$2:C$843="Disponible")*(Stock!G$2:G$843))} -> 0
A90: 101038886 | C90: 520 | E90: =_xlfn.XLOOKUP(BCom!A90&"Disponible",Tableau1[Colonne1],Tableau1[Désignation Article],"Article non référencé") -> Article 525 | F90: 24 | G90: 10 | J90: =I90*G90 -> 0 | L90: =K90*G90 -> 0 | M90: {=SUMPRODUCT((Stock!E$2:E$843=BCom!A90)*(Stock!C$2:C$843="Disponible")*(Stock!G$2:G$843))} -> 1407
A91: 101038887 | C91: 521 | E91: =_xlfn.XLOOKUP(BCom!A91&"Disponible",Tableau1[Colonne1],Tableau1[Désignation Article],"Article non référencé") -> Article 526 | F91: 24 | G91: 10 | J91: =I91*G91 -> 0 | L91: =K91*G91 -> 0 | M91: {=SUMPRODUCT((Stock!E$2:E$843=BCom!A91)*(Stock!C$2:C$843="Disponible")*(Stock!G$2:G$843))} -> 579
A92: 101038888 | C92: 522 | E92: =_xlfn.XLOOKUP(BCom!A92&"Disponible",Tableau1[Colonne1],Tableau1[Désignation Article],"Article non référencé") -> Article 529 | F92: 24 | G92: 10 | J92: =I92*G92 -> 0 | L92: =K92*G92 -> 0 | M92: {=SUMPRODUCT((Stock!E$2:E$843=BCom!A92)*(Stock!C$2:C$843="Disponible")*(Stock!G$2:G$843))} -> 1646
A93: 101038889 | C93: 523 | E93: =_xlfn.XLOOKUP(BCom!A93&"Disponible",Tableau1[Colonne1],Tableau1[Désignation Article],"Article non référencé") -> Article 531 | F93: 24 | G93: 10 | J93: =I93*G93 -> 0 | L93: =K93*G93 -> 0 | M93: {=SUMPRODUCT((Stock!E$2:E$843=BCom!A93)*(Stock!C$2:C$843="Disponible")*(Stock!G$2:G$843))} -> 139
A94: 101038890 | C94: 524 | E94: =_xlfn.XLOOKUP(BCom!A94&"Disponible",Tableau1[Colonne1],Tableau1[Désignation Article],"Article non référencé") -> Article 532 | F94: 24 | G94: 10 | J94: =I94*G94 -> 0 | L94: =K94*G94 -> 0 | M94: {=SUMPRODUCT((Stock!E$2:E$843=BCom!A94)*(Stock!C$2:C$843="Disponible")*(Stock!G$2:G$843))} -> 2496
A95: 101038794 | C95: 525 | E95: =_xlfn.XLOOKUP(BCom!A95&"Disponible",Tableau1[Colonne1],Tableau1[Désignation Article],"Article non référencé") -> Article 492 | F95: 24 | G95: 10 | J95: =I95*G95 -> 0 | L95: =K95*G95 -> 0 | M95: {=SUMPRODUCT((Stock!E$2:E$843=BCom!A95)*(Stock!C$2:C$843="Disponible")*(Stock!G$2:G$843))} -> 153
A96: 101038795 | C96: 526 | E96: =_xlfn.XLOOKUP(BCom!A96&"Disponible",Tableau1[Colonne1],Tableau1[Désignation Article],"Article non référencé") -> Article 493 | F96: 24 | G96: 10 | J96: =I96*G96 -> 0 | L96: =K96*G96 -> 0 | M96: {=SUMPRODUCT((Stock!E$2:E$843=BCom!A96)*(Stock!C$2:C$843="Disponible")*(Stock!G$2:G$843))} -> 119
A97: 101038796 | C97: 527 | E97: =_xlfn.XLOOKUP(BCom!A97&"Disponible",Tableau1[Colonne1],Tableau1[Désignation Article],"Article non référencé") -> Article 494 | F97: 24 | G97: 10 | J97: =I97*G97 -> 0 | L97: =K97*G97 -> 0 | M97: {=SUMPRODUCT((Stock!E$2:E$843=BCom!A97)*(Stock!C$2:C$843="Disponible")*(Stock!G$2:G$843))} -> 77
A98: 101038797 | C98: 528 | E98: =_xlfn.XLOOKUP(BCom!A98&"Disponible",Tableau1[Colonne1],Tableau1[Désignation Article],"Article non référencé") -> Article 496 | F98: 24 | G98: 10 | J98: =I98*G98 -> 0 | L98: =K98*G98 -> 0 | M98: {=SUMPRODUCT((Stock!E$2:E$843=BCom!A98)*(Stock!C$2:C$843="Disponible")*(Stock!G$2:G$843))} -> 84
A99: 101038798 | C99: 529 | E99: =_xlfn.XLOOKUP(BCom!A99&"Disponible",Tableau1[Colonne1],Tableau1[Désignation Article],"Article non référencé") -> Article 497 | F99: 24 | G99: 10 | J99: =I99*G99 -> 0 | L99: =K99*G99 -> 0 | M99: {=SUMPRODUCT((Stock!E$2:E$843=BCom!A99)*(Stock!C$2:C$843="Disponible")*(Stock!G$2:G$843))} -> 105
A100: 101038799 | C100: 530 | E100: =_xlfn.XLOOKUP(BCom!A100&"Disponible",Tableau1[Colonne1],Tableau1[Désignation Article],"Article non référencé") -> Article 499 | F100: 24 | G100: 10 | J100: =I100*G100 -> 0 | L100: =K100*G100 -> 0 | M100: {=SUMPRODUCT((Stock!E$2:E$843=BCom!A100)*(Stock!C$2:C$843="Disponible")*(Stock!G$2:G$843))} -> 140
A101: 101038800 | C101: 531 | E101: =_xlfn.XLOOKUP(BCom!A101&"Disponible",Tableau1[Colonne1],Tableau1[Désignation Article],"Article non référencé") -> Article 501 | F101: 24 | G101: 10 | J101: =I101*G101 -> 0 | L101: =K101*G101 -> 0 | M101: {=SUMPRODUCT((Stock!E$2:E$843=BCom!A101)*(Stock!C$2:C$843="Disponible")*(Stock!G$2:G$843))} -> 110
A102: 101038801 | C102: 532 | E102: =_xlfn.XLOOKUP(BCom!A102&"Disponible",Tableau1[Colonne1],Tableau1[Désignation Article],"Article non référencé") -> Article 502 | F102: 24 | G102: 10 | J102: =I102*G102 -> 0 | L102: =K102*G102 -> 0 | M102: {=SUMPRODUCT((Stock!E$2:E$843=BCom!A102)*(Stock!C$2:C$843="Disponible")*(Stock!G$2:G$843))} -> 135
A105: Commentaires | I105: TOTAL COMMANDE HT | K105: =SUM(J14:J102) -> 0
I108: NOMBRE DE LIGNES | K108: =COUNTA(I14:I102) -> 0
I111: UNITES GRATUITES | K111: =SUM(K14:K102) -> 0
I114: VALORISATION UG HT | K114: =SUM(L14:L102) -> 0

Sheet Filtre
A1: Site | B1: Code Mag | C1: Magasin | D1: Code Article Stock | E1: Code Article Laboratoire | F1: Désignation Article | G1: Nouveau Stock | H1: Stock Début | I1: Entrées Fournisseurs (62) | J1: Colonne1 | K1: Entrées Diverses (63) | L1: Entrées Retours Clients (12) | M1: Sorties Ventes (10) | N1: Sorties Spécifiques (65) | O1: Sorties Avaries (67) | P1: Sorties Gratuits (68) | Q1: Sorties Echanges (69) | R1: Entrées Transferts (64) | S1: Sorties Transferts (66) | T1: Ajustements de Stock (71)
A2: {=_xlfn._xlws.FILTER(Tableau1[[Site]:[Ajustements de Stock (71)]],Tableau1[Désignation Article]=BCom!E14,"Non référencé")} -> Amiens | B2: 0 | C2: Disponible | D2: 35410000919 | E2: 024.0101 | F2: Article 198 | G2: 0 | H2: 238 | I2: 0 | J2: 024.0101Disponible | K2: 0 | L2: 1 | M2: 238 | N2: 0 | O2: 0 | P2: 0 | Q2: 0 | R2: 0 | S2: 1 | T2: 0
A3: {=_xlfn._xlws.FILTER(Tableau1[[Site]:[Ajustements de Stock (71)]],Tableau1[Désignation Article]=BCom!E15,"Non référencé")} -> Amiens | B3: 0 | C3: Disponible | D3: 35410004036 | E3: 600.0973 | F3: Article 712 | G3: 778 | H3: 960 | I3: 0 | J3: 600.0973Disponible | K3: 0 | L3: 3 | M3: 182 | N3: 0 | O3: 0 | P3: 0 | Q3: 0 | R3: 0 | S3: 3 | T3: 0
A4: {=_xlfn._xlws.FILTER(Tableau1[[Site]:[Ajustements de Stock (71)]],Tableau1[Désignation Article]=BCom!E16,"Non référencé")} -> Non référencé
A5: {=_xlfn._xlws.FILTER(Tableau1[[Site]:[Ajustements de Stock (71)]],Tableau1[Désignation Article]=BCom!E17,"Non référencé")} -> Amiens | B5: 0 | C5: Disponible | D5: 35410003160 | E5: 600.0387 | F5: Article 700 | G5: 15 | H5: 26 | I5: 0 | J5: 600.0387Disponible | K5: 0 | L5: 0 | M5: 2 | N5: 9 | O5: 0 | P5: 0 | Q5: 0 | R5: 0 | S5: 0 | T5: 0
A6: {=_xlfn._xlws.FILTER(Tableau1[[Site]:[Ajustements de Stock (71)]],Tableau1[Désignation Article]=BCom!E18,"Non référencé")} -> Amiens | B6: 0 | C6: Disponible | D6: 35410001123 | E6: 074.0017 | F6: Article 216 | G6: 3 | H6: 4 | I6: 0 | J6: 074.0017Disponible | K6: 0 | L6: 0 | M6: 1 | N6: 0 | O6: 0 | P6: 0 | Q6: 0 | R6: 0 | S6: 0 | T6: 0
A7: {=_xlfn._xlws.FILTER(Tableau1[[Site]:[Ajustements de Stock (71)]],Tableau1[Désignation Article]=BCom!E19,"Non référencé")} -> Amiens | B7: 0 | C7: Disponible | D7: 35410002287 | E7: 099.0011 | F7: Article 384 | G7: 45 | H7: 69 | I7: 0 | J7: 099.0011Disponible | K7: 0 | L7: 0 | M7: 24 | N7: 0 | O7: 0 | P7: 0 | Q7: 0 | R7: 0 | S7: 0 | T7: 0
A8: {=_xlfn._xlws.FILTER(Tableau1[[Site]:[Ajustements de Stock (71)]],Tableau1[Désignation Article]=BCom!E20,"Non référencé")} -> Amiens | B8: 0 | C8: Disponible | D8: 35410005488 | E8: 008.0423 | F8: Article 109 | G8: 1 | H8: 122 | I8: 0 | J8: 008.0423Disponible | K8: 0 | L8: 1 | M8: 122 | N8: 0 | O8: 0 | P8: 0 | Q8: 0 | R8: 1 | S8: 1 | T8: 0
A9: {=_xlfn._xlws.FILTER(Tableau1[[Site]:[Ajustements de Stock (71)]],Tableau1[Désignation Article]=BCom!E21,"Non référencé")} -> Amiens | B9: 0 | C9: Disponible | D9: 35410005496 | E9: 008.0424 | F9: Article 112 | G9: 836 | H9: 913 | I9: 400 | J9: 008.0424Disponible | K9: 0 | L9: 1 | M9: 478 | N9: 0 | O9: 0 | P9: 0 | Q9: 0 | R9: 401 | S9: 401 | T9: 0
A10: {=_xlfn._xlws.FILTER(Tableau1[[Site]:[Ajustements de Stock (71)]],Tableau1[Désignation Article]=BCom!E22,"Non référencé")} -> Amiens | B10: 0 | C10: Disponible | D10: 35410005504 | E10: 008.0429 | F10: Article 115 | G10: 422 | H10: 531 | I10: 0 | J10: 008.0429Disponible | K10: 0 | L10: 4 | M10: 112 | N10: 0 | O10: 0 | P10: 0 | Q10: 0 | R10: 3 | S10: 4 | T10: 0
A11: {=_xlfn._xlws.FILTER(Tableau1[[Site]:[Ajustements de Stock (71)]],Tableau1[Désignation Article]=BCom!E23,"Non référencé")} -> Amiens | B11: 0 | C11: Disponible | D11: 35410005512 | E11: 008.0430 | F11: Article 119 | G11: 7 | H11: 313 | I11: 0 | J11: 008.0430Disponible | K11: 0 | L11: 7 | M11: 312 | N11: 0 | O11: 0 | P11: 0 | Q11: 0 | R11: 16 | S11: 17 | T11: 0
A12: {=_xlfn._xlws.FILTER(Tableau1[[Site]:[Ajustements de Stock (71)]],Tableau1[Désignation Article]=BCom!E24,"Non référencé")} -> Amiens | B12: 0 | C12: Disponible | D12: 35410005520 | E12: 008.0431 | F12: Article 124 | G12: 8022 | H12: 11747 | I12: 0 | J12: 008.0431Disponible | K12: 0 | L12: 57 | M12: 3746 | N12: 28 | O12: 0 | P12: 0 | Q12: 0 | R12: 49 | S12: 57 | T12: 0
A13: {=_xlfn._xlws.FILTER(Tableau1[[Site]:[Ajustements de Stock (71)]],Tableau1[Désignation Article]=BCom!E25,"Non référencé")} -> Amiens | B13: 0 | C13: Disponible | D13: 35410005538 | E13: 008.0436 | F13: Article 129 | G13: 10 | H13: 1040 | I13: 0 | J13: 008.0436Disponible | K13: 0 | L13: 15 | M13: 1040 | N13: 0 | O13: 0 | P13: 0 | Q13: 0 | R13: 10 | S13: 20 | T13: 5
A14: {=_xlfn._xlws.FILTER(Tableau1[[Site]:[Ajustements de Stock (71)]],Tableau1[Désignation Article]=BCom!E26,"Non référencé")} -> Amiens | B14: 0 | C14: Disponible | D14: 35410005546 | E14: 008.0437 | F14: Article 133 | G14: 987 | H14: 1139 | I14: 0 | J14: 008.0437Disponible | K14: 0 | L14: 1 | M14: 153 | N14: 0 | O14: 0 | P14: 0 | Q14: 0 | R14: 1 | S14: 1 | T14: 0
A15: {=_xlfn._xlws.FILTER(Tableau1[[Site]:[Ajustements de Stock (71)]],Tableau1[Désignation Article]=BCom!E27,"Non référencé")} -> Amiens | B15: 0 | C15: Disponible | D15: 35410005553 | E15: 008.0442 | F15: Article 135 | G15: 429 | H15: 447 | I15: 0 | J15: 008.0442Disponible | K15: 0 | L15: 0 | M15: 18 | N15: 0 | O15: 0 | P15: 0 | Q15: 0 | R15: 0 | S15: 0 | T15: 0
A16: {=_xlfn._xlws.FILTER(Tableau1[[Site]:[Ajustements de Stock (71)]],Tableau1[Désignation Article]=BCom!E28,"Non référencé")} -> Amiens | B16: 0 | C16: Disponible | D16: 35410005561 | E16: 008.0447 | F16: Article 138 | G16: 719 | H16: 382 | I16: 500 | J16: 008.0447Disponible | K16: 0 | L16: 12 | M16: 172 | N16: 0 | O16: 0 | P16: 0 | Q16: 0 | R16: 509 | S16: 512 | T16: 0
... A24: {=_xlfn._xlws.FILTER(Tableau1[[Site]:[Ajustements de Stock (71)]],Tableau1[Désignation Article]=BCom!E36,"Non référencé")} -> Amiens | B24: 0 | C24: Disponible | D24: 35410005744 | E24: 101037976 | F24: Article 475 | G24: 7 | H24: 111 | I24: 0 | J24: 101037976Disponible | K24: 0 | L24: 3 | M24: 107 | N24: 0 | O24: 0 | P24: 0 | Q24: 0 | R24: 3 | S24: 3 | T24: 0
A25: {=_xlfn._xlws.FILTER(Tableau1[[Site]:[Ajustements de Stock (71)]],Tableau1[Désignation Article]=BCom!E37,"Non référencé")} -> Non référencé
A26: {=_xlfn._xlws.FILTER(Tableau1[[Site]:[Ajustements de Stock (71)]],Tableau1[Désignation Article]=BCom!E38,"Non référencé")} -> Amiens | B26: 0 | C26: Disponible | D26: 35410006981 | E26: 101041852 | F26: Article 553 | G26: 28 | H26: 163 | I26: 0 | J26: 101041852Disponible | K26: 0 | L26: 0 | M26: 135 | N26: 0 | O26: 0 | P26: 0 | Q26: 0 | R26: 0 | S26: 0 | T26: 0
A27: {=_xlfn._xlws.FILTER(Tableau1[[Site]:[Ajustements de Stock (71)]],Tableau1[Désignation Article]=BCom!E39,"Non référencé")} -> Amiens | B27: 0 | C27: Disponible | D27: 35410006908 | E27: 101041853 | F27: Article 556 | G27: 271 | H27: 323 | I27: 0 | J27: 101041853Disponible | K27: 0 | L27: 4 | M27: 56 | N27: 0 | O27: 0 | P27: 0 | Q27: 0 | R27: 4 | S27: 4 | T27: 0
A28: {=_xlfn._xlws.FILTER(Tableau1[[Site]:[Ajustements de Stock (71)]],Tableau1[Désignation Article]=BCom!E40,"Non référencé")} -> Amiens | B28: 0 | C28: Disponible | D28: 35410006874 | E28: 101041854 | F28: Article 560 | G28: 636 | H28: 731 | I28: 0 | J28: 101041854Disponible | K28: 0 | L28: 0 | M28: 96 | N28: 0 | O28: 0 | P28: 0 | Q28: 0 | R28: 0 | S28: 0 | T28: 1
A29: {=_xlfn._xlws.FILTER(Tableau1[[Site]:[Ajustements de Stock (71)]],Tableau1[Désignation Article]=BCom!E41,"Non référencé")} -> Amiens | B29: 0 | C29: Disponible | D29: 35410000133 | E29: 008.0139 | F29: Article 32 | G29: 537 | H29: 793 | I29: 0 | J29: 008.0139Disponible | K29: 0 | L29: 68 | M29: 270 | N29: 0 | O29: 0 | P29: 0 | Q29: 0 | R29: 14 | S29: 68 | T29: 0
A30: {=_xlfn._xlws.FILTER(Tableau1[[Site]:[Ajustements de Stock (71)]],Tableau1[Désignation Article]=BCom!E42,"Non référencé")} -> Amiens | B30: 0 | C30: Disponible | D30: 35410000125 | E30: 008.0124 | F30: Article 29 | G30: 1719 | H30: 1865 | I30: 0 | J30: 008.0124Disponible | K30: 0 | L30: 0 | M30: 146 | N30: 0 | O30: 0 | P30: 0 | Q30: 0 | R30: 0 | S30: 0 | T30: 0
A31: {=_xlfn._xlws.FILTER(Tableau1[[Site]:[Ajustements de Stock (71)]],Tableau1[Désignation Article]=BCom!E43,"Non référencé")} -> Amiens | B31: 0 | C31: Disponible | D31: 35410000174 | E31: 008.0188 | F31: Article 39 | G31: 856 | H31: 924 | I31: 0 | J31: 008.0188Disponible | K31: 0 | L31: 4 | M31: 75 | N31: 0 | O31: 0 | P31: 0 | Q31: 0 | R31: 7 | S31: 4 | T31: 0
A32: {=_xlfn._xlws.FILTER(Tableau1[[Site]:[Ajustements de Stock (71)]],Tableau1[Désignation Article]=BCom!E44,"Non référencé")} -> Amiens | B32: 0 | C32: Disponible | D32: 35410000513 | E32: 008.0403 | F32: Article 100 | G32: 625 | H32: 1154 | I32: 0 | J32: 008.0403Disponible | K32: 0 | L32: 30 | M32: 561 | N32: 0 | O32: 0 | P32: 0 | Q32: 0 | R32: 33 | S32: 31 | T32: 0
A33: {=_xlfn._xlws.FILTER(Tableau1[[Site]:[Ajustements de Stock (71)]],Tableau1[Désignation Article]=BCom!E45,"Non référencé")} -> Amiens | B33: 0 | C33: Disponible | D33: 35410005892 | E33: 008.0410 | F33: Article 104 | G33: 6 | H33: 72 | I33: 0 | J33: 008.0410Disponible | K33: 0 | L33: 0 | M33: 86 | N33: 0 | O33: 0 | P33: 0 | Q33: 0 | R33: 20 | S33: 0 | T33: 0
A34: {=_xlfn._xlws.FILTER(Tableau1[[Site]:[Ajustements de Stock (71)]],Tableau1[Désignation Article]=BCom!E46,"Non référencé")} -> Amiens | B34: 0 | C34: Disponible | D34: 35410003640 | E34: 800.0796 | F34: Article 770 | G34: 6 | H34: 15 | I34: 0 | J34: 800.0796Disponible | K34: 0 | L34: 0 | M34: 9 | N34: 0 | O34: 0 | P34: 0 | Q34: 0 | R34: 0 | S34: 0 | T34: 0
A35: {=_xlfn._xlws.FILTER(Tableau1[[Site]:[Ajustements de Stock (71)]],Tableau1[Désignation Article]=BCom!E47,"Non référencé")} -> Amiens | B35: 0 | C35: Disponible | D35: 35410002915 | E35: 200.1659 | F35: Article 671 | G35: 206 | H35: 548 | I35: 0 | J35: 200.1659Disponible | K35: 0 | L35: 3 | M35: 355 | N35: 0 | O35: 0 | P35: 0 | Q35: 0 | R35: 13 | S35: 3 | T35: 0
A36: {=_xlfn._xlws.FILTER(Tableau1[[Site]:[Ajustements de Stock (71)]],Tableau1[Désignation Article]=BCom!E48,"Non référencé")} -> Amiens | B36: 0 | C36: Disponible | D36: 35410002774 | E36: 200.0597 | F36: Article 634 | G36: 152 | H36: 219 | I36: 0 | J36: 200.0597Disponible | K36: 0 | L36: 0 | M36: 67 | N36: 0 | O36: 0 | P36: 0 | Q36: 0 | R36: 0 | S36: 0 | T36: 0
A37: {=_xlfn._xlws.FILTER(Tableau1[[Site]:[Ajustements de Stock (71)]],Tableau1[Désignation Article]=BCom!E49,"Non référencé")} -> Amiens | B37: 0 | C37: Disponible | D37: 35410002907 | E37: 200.1658 | F37: Article 667 | G37: 142 | H37: 156 | I37: 0 | J37: 200.1658Disponible | K37: 0 | L37: 0 | M37: 14 | N37: 0 | O37: 0 | P37: 0 | Q37: 0 | R37: 0 | S37: 0 | T37: 0
... A46: {=_xlfn._xlws.FILTER(Tableau1[[Site]:[Ajustements de Stock (71)]],Tableau1[Désignation Article]=BCom!E58,"Non référencé")} -> Amiens | B46: 0 | C46: Disponible | D46: 35410000372 | E46: 008.0306 | F46: Article 68 | G46: 651 | H46: 840 | I46: 0 | J46: 008.0306Disponible | K46: 0 | L46: 0 | M46: 189 | N46: 0 | O46: 0 | P46: 0 | Q46: 0 | R46: 0 | S46: 0 | T46: 0
A47: {=_xlfn._xlws.FILTER(Tableau1[[Site]:[Ajustements de Stock (71)]],Tableau1[Désignation Article]=BCom!E59,"Non référencé")} -> Non référencé
A48: {=_xlfn._xlws.FILTER(Tableau1[[Site]:[Ajustements de Stock (71)]],Tableau1[Désignation Article]=BCom!E60,"Non référencé")} -> Amiens | B48: 0 | C48: Disponible | D48: 35410004978 | E48: 101037033 | F48: Article 464 | G48: 8 | H48: 0 | I48: 0 | J48: 101037033Disponible | K48: 0 | L48: 3 | M48: 0 | N48: 0 | O48: 0 | P48: 0 | Q48: 0 | R48: 8 | S48: 3 | T48: 0
A49: {=_xlfn._xlws.FILTER(Tableau1[[Site]:[Ajustements de Stock (71)]],Tableau1[Désignation Article]=BCom!E61,"Non référencé")} -> Amiens | B49: 0 | C49: Disponible | D49: 35410004986 | E49: 101037043 | F49: Article 467 | G49: 10 | H49: 4 | I49: 0 | J49: 101037043Disponible | K49: 0 | L49: 7 | M49: 24 | N49: 0 | O49: 0 | P49: 0 | Q49: 0 | R49: 30 | S49: 7 | T49: 0
A50: {=_xlfn._xlws.FILTER(Tableau1[[Site]:[Ajustements de Stock (71)]],Tableau1[Désignation Article]=BCom!E62,"Non référencé")} -> Non référencé
A51: {=_xlfn._xlws.FILTER(Tableau1[[Site]:[Ajustements de Stock (71)]],Tableau1[Désignation Article]=BCom!E63,"Non référencé")} -> Amiens | B51: 0 | C51: Disponible | D51: 35410000224 | E51: 008.0239 | F51: Article 47 | G51: 1986 | H51: 2297 | I51: 0 | J51: 008.0239Disponible | K51: 0 | L51: 0 | M51: 316 | N51: 0 | O51: 0 | P51: 0 | Q51: 0 | R51: 5 | S51: 0 | T51: 0
A52: {=_xlfn._xlws.FILTER(Tableau1[[Site]:[Ajustements de Stock (71)]],Tableau1[Désignation Article]=BCom!E64,"Non référencé")} -> Non référencé
A53: {=_xlfn._xlws.FILTER(Tableau1[[Site]:[Ajustements de Stock (71)]],Tableau1[Désignation Article]=BCom!E65,"Non référencé")} -> Amiens | B53: 0 | C53: Disponible | D53: 35410000208 | E53: 008.0230 | F53: Article 42 | G53: 966 | H53: 1009 | I53: 0 | J53: 008.0230Disponible | K53: 0 | L53: 0 | M53: 43 | N53: 0 | O53: 0 | P53: 0 | Q53: 0 | R53: 0 | S53: 0 | T53: 0
A54: {=_xlfn._xlws.FILTER(Tableau1[[Site]:[Ajustements de Stock (71)]],Tableau1[Désignation Article]=BCom!E66,"Non référencé")} -> Amiens | B54: 0 | C54: Disponible | D54: 35410002881 | E54: 200.1625 | F54: Article 662 | G54: 8 | H54: 751 | I54: 0 | J54: 200.1625Disponible | K54: 0 | L54: 4 | M54: 777 | N54: 0 | O54: 0 | P54: 0 | Q54: 0 | R54: 34 | S54: 4 | T54: 0
A55: {=_xlfn._xlws.FILTER(Tableau1[[Site]:[Ajustements de Stock (71)]],Tableau1[Désignation Article]=BCom!E67,"Non référencé")} -> Amiens | B55: 0 | C55: Disponible | D55: 35410002873 | E55: 200.1593 | F55: Article 659 | G55: 1277 | H55: 3474 | I55: 0 | J55: 200.1593Disponible | K55: 0 | L55: 44 | M55: 2728 | N55: 0 | O55: 0 | P55: 0 | Q55: 0 | R55: 56 | S55: 44 | T55: 475
A56: {=_xlfn._xlws.FILTER(Tableau1[[Site]:[Ajustements de Stock (71)]],Tableau1[Désignation Article]=BCom!E68,"Non référencé")} -> Amiens | B56: 0 | C56: Disponible | D56: 35410002899 | E56: 200.1630 | F56: Article 665 | G56: 1081 | H56: 2162 | I56: 0 | J56: 200.1630Disponible | K56: 0 | L56: 11 | M56: 1086 | N56: 0 | O56: 0 | P56: 0 | Q56: 0 | R56: 6 | S56: 12 | T56: 0
A57: {=_xlfn._xlws.FILTER(Tableau1[[Site]:[Ajustements de Stock (71)]],Tableau1[Désignation Article]=BCom!E69,"Non référencé")} -> Amiens | B57: 0 | C57: Disponible | D57: 35410000521 | E57: 009.0005 | F57: Article 164 | G57: 83 | H57: 216 | I57: 0 | J57: 009.0005Disponible | K57: 0 | L57: 117 | M57: 250 | N57: 0 | O57: 0 | P57: 0 | Q57: 0 | R57: 117 | S57: 117 | T57: 0
A58: {=_xlfn._xlws.FILTER(Tableau1[[Site]:[Ajustements de Stock (71)]],Tableau1[Désignation Article]=BCom!E70,"Non référencé")} -> Amiens | B58: 0 | C58: Disponible | D58: 35410003293 | E58: 800.0399 | F58: Article 722 | G58: 597 | H58: 671 | I58: 0 | J58: 800.0399Disponible | K58: 0 | L58: 0 | M58: 74 | N58: 0 | O58: 0 | P58: 0 | Q58: 0 | R58: 0 | S58: 0 | T58: 0
A59: {=_xlfn._xlws.FILTER(Tableau1[[Site]:[Ajustements de Stock (71)]],Tableau1[Désignation Article]=BCom!E71,"Non référencé")} -> Non référencé
A60: {=_xlfn._xlws.FILTER(Tableau1[[Site]:[Ajustements de Stock (71)]],Tableau1[Désignation Article]=BCom!E72,"Non référencé")} -> Amiens | B60: 0 | C60: Disponible | D60: 35410003301 | E60: 800.0452 | F60: Article 724 | G60: 37 | H60: 41 | I60: 0 | J60: 800.0452Disponible | K60: 0 | L60: 0 | M60: 4 | N60: 0 | O60: 0 | P60: 0 | Q60: 0 | R60: 0 | S60: 0 | T60: 0
A61: {=_xlfn._xlws.FILTER(Tableau1[[Site]:[Ajustements de Stock (71)]],Tableau1[Désignation Article]=BCom!E73,"Non référencé")} -> Amiens | B61: 0 | C61: Disponible | D61: 35410000075 | E61: 008.0027 | F61: Article 18 | G61: 136 | H61: 136 | I61: 0 | J61: 008.0027Disponible | K61: 0 | L61: 0 | M61: 0 | N61: 0 | O61: 0 | P61: 0 | Q61: 0 | R61: 0 | S61: 0 | T61: 0
A62: {=_xlfn._xlws.FILTER(Tableau1[[Site]:[Ajustements de Stock (71)]],Tableau1[Désignation Article]=BCom!E74,"Non référencé")} -> Amiens | B62: 0 | C62: Disponible | D62: 35410003319 | E62: 800.0507 | F62: Article 725 | G62: 70 | H62: 78 | I62: 0 | J62: 800.0507Disponible | K62: 0 | L62: 0 | M62: 8 | N62: 0 | O62: 0 | P62: 0 | Q62: 0 | R62: 0 | S62: 0 | T62: 0
A63: {=_xlfn._xlws.FILTER(Tableau1[[Site]:[Ajustements de Stock (71)]],Tableau1[Désignation Article]=BCom!E75,"Non référencé")} -> Amiens | B63: 0 | C63: Disponible | D63: 35410006049 | E63: 101038763 | F63: Article 479 | G63: 704 | H63: 711 | I63: 0 | J63: 101038763Disponible | K63: 0 | L63: 0 | M63: 7 | N63: 0 | O63: 0 | P63: 0 | Q63: 0 | R63: 0 | S63: 0 | T63: 0
A64: {=_xlfn._xlws.FILTER(Tableau1[[Site]:[Ajustements de Stock (71)]],Tableau1[Désignation Article]=BCom!E76,"Non référencé")} -> Amiens | B64: 0 | C64: Disponible | D64: 35410006031 | E64: 101038767 | F64: Article 481 | G64: 1476 | H64: 1804 | I64: 0 | J64: 101038767Disponible | K64: 0 | L64: 0 | M64: 328 | N64: 0 | O64: 0 | P64: 0 | Q64: 0 | R64: 0 | S64: 0 | T64: 0
A65: {=_xlfn._xlws.FILTER(Tableau1[[Site]:[Ajustements de Stock (71)]],Tableau1[Désignation Article]=BCom!E77,"Non référencé")} -> Amiens | B65: 0 | C65: Disponible | D65: 35410006064 | E65: 101038769 | F65: Article 484 | G65: 2428 | H65: 2631 | I65: 0 | J65: 101038769Disponible | K65: 0 | L65: 24 | M65: 203 | N65: 0 | O65: 0 | P65: 0 | Q65: 0 | R65: 0 | S65: 24 | T65: 0
A66: {=_xlfn._xlws.FILTER(Tableau1[[Site]:[Ajustements de Stock (71)]],Tableau1[Désignation Article]=BCom!E78,"Non référencé")} -> Amiens | B66: 0 | C66: Disponible | D66: 35410005876 | E66: 101038770 | F66: Article 487 | G66: 92 | H66: 142 | I66: 0 | J66: 101038770Disponible | K66: 0 | L66: 0 | M66: 52 | N66: 0 | O66: 0 | P66: 0 | Q66: 0 | R66: 2 | S66: 0 | T66: 0
A67: {=_xlfn._xlws.FILTER(Tableau1[[Site]:[Ajustements de Stock (71)]],Tableau1[Désignation Article]=BCom!E79,"Non référencé")} -> Amiens | B67: 0 | C67: Disponible | D67: 35410005793 | E67: 101038771 | F67: Article 489 | G67: 4 | H67: 4 | I67: 0 | J67: 101038771Disponible | K67: 0 | L67: 0 | M67: 0 | N67: 0 | O67: 0 | P67: 0 | Q67: 0 | R67: 0 | S67: 0 | T67: 0
A68: {=_xlfn._xlws.FILTER(Tableau1[[Site]:[Ajustements de Stock (71)]],Tableau1[Désignation Article]=BCom!E80,"Non référencé")} -> Amiens | B68: 0 | C68: Disponible | D68: 35410005868 | E68: 101038773 | F68: Article 491 | G68: 2 | H68: 2 | I68: 0 | J68: 101038773Disponible | K68: 0 | L68: 0 | M68: 0 | N68: 0 | O68: 0 | P68: 0 | Q68: 0 | R68: 0 | S68: 0 | T68: 0
A69: {=_xlfn._xlws.FILTER(Tableau1[[Site]:[Ajustements de Stock (71)]],Tableau1[Désignation Article]=BCom!E81,"Non référencé")} -> Amiens | B69: 0 | C69: Disponible | D69: 35410006395 | E69: 101038822 | F69: Article 503 | G69: 1106 | H69: 1116 | I69: 0 | J69: 101038822Disponible | K69: 0 | L69: 0 | M69: 10 | N69: 0 | O69: 0 | P69: 0 | Q69: 0 | R69: 0 | S69: 0 | T69: 0
A70: {=_xlfn._xlws.FILTER(Tableau1[[Site]:[Ajustements de Stock (71)]],Tableau1[Désignation Article]=BCom!E82,"Non référencé")} -> Amiens | B70: 0 | C70: Disponible | D70: 35410006015 | E70: 101038823 | F70: Article 506 | G70: 1641 | H70: 1434 | I70: 0 | J70: 101038823Disponible | K70: 0 | L70: 0 | M70: 9 | N70: 0 | O70: 0 | P70: 0 | Q70: 0 | R70: 216 | S70: 0 | T70: 0
A71: {=_xlfn._xlws.FILTER(Tableau1[[Site]:[Ajustements de Stock (71)]],Tableau1[Désignation Article]=BCom!E83,"Non référencé")} -> Amiens | B71: 0 | C71: Disponible | D71: 35410006312 | E71: 101038824 | F71: Article 509 | G71: 27 | H71: 96 | I71: 0 | J71: 101038824Disponible | K71: 0 | L71: 25 | M71: 97 | N71: 0 | O71: 0 | P71: 0 | Q71: 0 | R71: 25 | S71: 25 | T71: 3
... A90: {=_xlfn._xlws.FILTER(Tableau1[[Site]:[Ajustements de Stock (71)]],Tableau1[Désignation Article]=BCom!E102,"Non référencé")} -> Amiens | B90: 0 | C90: Disponible | D90: 35410006460 | E90: 101038801 | F90: Article 502 | G90: 135 | H90: 136 | I90: 0 | J90: 101038801Disponible | K90: 0 | L90: 0 | M90: 1 | N90: 0 | O90: 0 | P90: 0 | Q90: 0 | R90: 0 | S90: 0 | T90: 0
A91: {=_xlfn._xlws.FILTER(Tableau1[[Site]:[Ajustements de Stock (71)]],Tableau1[Désignation Article]=BCom!E103,"Non référencé")} -> Non référencé
A92: {=_xlfn._xlws.FILTER(Tableau1[[Site]:[Ajustements de Stock (71)]],Tableau1[Désignation Article]=BCom!E104,"Non référencé")} -> Non référencé
A93: {=_xlfn._xlws.FILTER(Tableau1[[Site]:[Ajustements de Stock (71)]],Tableau1[Désignation Article]=BCom!E105,"Non référencé")} -> Non référencé
A94: {=_xlfn._xlws.FILTER(Tableau1[[Site]:[Ajustements de Stock (71)]],Tableau1[Désignation Article]=BCom!E106,"Non référencé")} -> Non référencé
A95: {=_xlfn._xlws.FILTER(Tableau1[[Site]:[Ajustements de Stock (71)]],Tableau1[Désignation Article]=BCom!E107,"Non référencé")} -> Non référencé
A96: {=_xlfn._xlws.FILTER(Tableau1[[Site]:[Ajustements de Stock (71)]],Tableau1[Désignation Article]=BCom!E108,"Non référencé")} -> Non référencé
A97: {=_xlfn._xlws.FILTER(Tableau1[[Site]:[Ajustements de Stock (71)]],Tableau1[Désignation Article]=BCom!E109,"Non référencé")} -> Non référencé
A98: {=_xlfn._xlws.FILTER(Tableau1[[Site]:[Ajustements de Stock (71)]],Tableau1[Désignation Article]=BCom!E110,"Non référencé")} -> Non référencé
A99: {=_xlfn._xlws.FILTER(Tableau1[[Site]:[Ajustements de Stock (71)]],Tableau1[Désignation Article]=BCom!E111,"Non référencé")} -> Non référencé
A100: {=_xlfn._xlws.FILTER(Tableau1[[Site]:[Ajustements de Stock (71)]],Tableau1[Désignation Article]=BCom!E112,"Non référencé")} -> Non référencé
A101: {=_xlfn._xlws.FILTER(Tableau1[[Site]:[Ajustements de Stock (71)]],Tableau1[Désignation Article]=BCom!E113,"Non référencé")} -> Non référencé
A102: {=_xlfn._xlws.FILTER(Tableau1[[Site]:[Ajustements de Stock (71)]],Tableau1[Désignation Article]=BCom!E114,"Non référencé")} -> Non référencé
... A300: {=_xlfn._xlws.FILTER(Tableau1[[Site]:[Ajustements de Stock (71)]],Tableau1[Désignation Article]=BCom!E312,"Non référencé")} -> Non référencé

Sheet Stock
A1: Site | B1: Code Mag | C1: Magasin | D1: Code Article Stock | E1: Code Article Laboratoire | F1: Désignation Article | G1: Nouveau Stock | H1: Stock Début | I1: Entrées Fournisseurs (62) | J1: Colonne1 | K1: Entrées Diverses (63) | L1: Entrées Retours Clients (12) | M1: Sorties Ventes (10) | N1: Sorties Spécifiques (65) | O1: Sorties Avaries (67) | P1: Sorties Gratuits (68) | Q1: Sorties Echanges (69) | R1: Entrées Transferts (64) | S1: Sorties Transferts (66) | T1: Ajustements de Stock (71)
A2: Amiens | B2: 0 | C2: Disponible | D2: 35410004309 | E2: 000.0719 | F2: Article 1 | G2: 16 | H2: 16 | I2: 0 | J2: =Tableau1[[#This Row],[Code Article Laboratoire]]&Tableau1[[#This Row],[Magasin]] -> 000.0719Disponible | K2: 0 | L2: 0 | M2: 0 | N2: 0 | O2: 0 | P2: 0 | Q2: 0 | R2: 0 | S2: 0 | T2: 0
A3: Amiens | B3: 52 | C3: Retour Attente Destruction | D3: 35410000042 | E3: 000.0722 | F3: Article 2 | G3: 10 | H3: 10 | I3: 0 | J3: =Tableau1[[#This Row],[Code Article Laboratoire]]&Tableau1[[#This Row],[Magasin]] -> 000.0722Retour Attente Destruction | K3: 0 | L3: 0 | M3: 0 | N3: 0 | O3: 0 | P3: 0 | Q3: 0 | R3: 0 | S3: 0 | T3: 0
A4: Amiens | B4: 52 | C4: Retour Attente Destruction | D4: 35410006643 | E4: 000.9000 | F4: Article 3 | G4: 1 | H4: 1 | I4: 0 | J4: =Tableau1[[#This Row],[Code Article Laboratoire]]&Tableau1[[#This Row],[Magasin]] -> 000.9000Retour Attente Destruction | K4: 0 | L4: 0 | M4: 0 | N4: 0 | O4: 0 | P4: 0 | Q4: 0 | R4: 0 | S4: 0 | T4: 0
A5: Amiens | B5: 0 | C5: Disponible | D5: 35410007294 | E5: 001.111840 | F5: Article 4 | G5: 24 | H5: 24 | I5: 0 | J5: =Tableau1[[#This Row],[Code Article Laboratoire]]&Tableau1[[#This Row],[Magasin]] -> 001.111840Disponible | K5: 0 | L5: 0 | M5: 0 | N5: 0 | O5: 0 | P5: 0 | Q5: 0 | R5: 0 | S5: 0 | T5: 0
A6: Amiens | B6: 0 | C6: Disponible | D6: 35410007252 | E6: 001.111844 | F6: Article 5 | G6: 20 | H6: 20 | I6: 0 | J6: =Tableau1[[#This Row],[Code Article Laboratoire]]&Tableau1[[#This Row],[Magasin]] -> 001.111844Disponible | K6: 0 | L6: 0 | M6: 0 | N6: 0 | O6: 0 | P6: 0 | Q6: 0 | R6: 0 | S6: 0 | T6: 0
A7: Amiens | B7: 0 | C7: Disponible | D7: 35410007278 | E7: 001.111847 | F7: Article 6 | G7: 20 | H7: 20 | I7: 0 | J7: =Tableau1[[#This Row],[Code Article Laboratoire]]&Tableau1[[#This Row],[Magasin]] -> 001.111847Disponible | K7: 0 | L7: 0 | M7: 0 | N7: 0 | O7: 0 | P7: 0 | Q7: 0 | R7: 0 | S7: 0 | T7: 0
A8: Amiens | B8: 0 | C8: Disponible | D8: 35410007286 | E8: 001.111875 | F8: Article 7 | G8: 16 | H8: 16 | I8: 0 | J8: =Tableau1[[#This Row],[Code Article Laboratoire]]&Tableau1[[#This Row],[Magasin]] -> 001.111875Disponible | K8: 0 | L8: 0 | M8: 0 | N8: 0 | O8: 0 | P8: 0 | Q8: 0 | R8: 0 | S8: 0 | T8: 0
A9: Amiens | B9: 0 | C9: Disponible | D9: 35410007229 | E9: 001.112847 | F9: Article 8 | G9: 2 | H9: 2 | I9: 0 | J9: =Tableau1[[#This Row],[Code Article Laboratoire]]&Tableau1[[#This Row],[Magasin]] -> 001.112847Disponible | K9: 0 | L9: 0 | M9: 0 | N9: 0 | O9: 0 | P9: 0 | Q9: 0 | R9: 0 | S9: 0 | T9: 0
A10: Amiens | B10: 0 | C10: Disponible | D10: 35410007237 | E10: 001.121429 | F10: Article 9 | G10: 24 | H10: 24 | I10: 0 | J10: =Tableau1[[#This Row],[Code Article Laboratoire]]&Tableau1[[#This Row],[Magasin]] -> 001.121429Disponible | K10: 0 | L10: 0 | M10: 0 | N10: 0 | O10: 0 | P10: 0 | Q10: 0 | R10: 0 | S10: 0 | T10: 0
A11: Amiens | B11: 0 | C11: Disponible | D11: 35410007245 | E11: 001.121432 | F11: Article 10 | G11: 24 | H11: 24 | I11: 0 | J11: =Tableau1[[#This Row],[Code Article Laboratoire]]&Tableau1[[#This Row],[Magasin]] -> 001.121432Disponible | K11: 0 | L11: 0 | M11: 0 | N11: 0 | O11: 0 | P11: 0 | Q11: 0 | R11: 0 | S11: 0 | T11: 0
A12: Amiens | B12: 0 | C12: Disponible | D12: 35410007260 | E12: 001.121433 | F12: Article 11 | G12: 20 | H12: 20 | I12: 0 | J12: =Tableau1[[#This Row],[Code Article Laboratoire]]&Tableau1[[#This Row],[Magasin]] -> 001.121433Disponible | K12: 0 | L12: 0 | M12: 0 | N12: 0 | O12: 0 | P12: 0 | Q12: 0 | R12: 0 | S12: 0 | T12: 0
A13: Amiens | B13: 52 | C13: Retour Attente Destruction | D13: 35410005884 | E13: 005.2052 | F13: Article 12 | G13: 6 | H13: 6 | I13: 0 | J13: =Tableau1[[#This Row],[Code Article Laboratoire]]&Tableau1[[#This Row],[Magasin]] -> 005.2052Retour Attente Destruction | K13: 0 | L13: 0 | M13: 0 | N13: 0 | O13: 0 | P13: 0 | Q13: 0 | R13: 0 | S13: 0 | T13: 0
... A843: Amiens | B843: 0 | C843: Disponible | D843: 35410007187 | E843: HMT.0082 | F843: Article 842 | G843: 3 | H843: 3 | I843: 0 | J843: =Tableau1[[#This Row],[Code Article Laboratoire]]&Tableau1[[#This Row],[Magasin]] -> HMT.0082Disponible | K843: 0 | L843: 0 | M843: 0 | N843: 0 | O843: 0 | P843: 0 | Q843: 0 | R843: 0 | S843: 0 | T843: 0
