Workbook

Sheet BCom
A1: BON DE COMMANDE PRIVILEGE 2022
A4: Date de commande
A7: Nom du Client
A10: Code Client
A13: Référence | B13: Classe DM | C13: Code EAN | D13: Code ACL | E13: Désignation | F13: Nbre d'unités/carton | G13: Prix unitaire HT | H13: Eco taxe HT | I13: Quantités | J13: Prix | K13: Unités gratuites | L13: Valorisation | M13: Stock
A14: 024.0101 | B14: =VLOOKUP(A14,[1]Distributeur!$E$4:$L$105,2,FALSE) -> IIa | C14: 444 | E14: Article 1 | F14: =VLOOKUP(A14,[1]Distributeur!$E$4:$L$105,6,FALSE) -> 1 | G14: 10 | J14: =I14*G14 -> 0 | L14: =K14*G14 -> 0 | M14: {=SUMPRODUCT((Stock!E$2:E$504=BCom!A14)*(Stock!C$2:C$504="Disponible")*(Stock!G$2:G$504))} -> 0
A15: 600.0973 | C15: 445 | E15: Article 2 | F15: 1 | G15: 10 | J15: =I15*G15 -> 0 | L15: =K15*G15 -> 0 | M15: {=SUMPRODUCT((Stock!E$2:E$504=BCom!A15)*(Stock!C$2:C$504="Disponible")*(Stock!G$2:G$504))} -> 778
A16: 000.0005 | C16: 446 | E16: Article 3 | F16: 1 | G16: 10 | J16: =I16*G16 -> 0 | L16: =K16*G16 -> 0 | M16: {=SUMPRODUCT((Stock!E$2:E$504=BCom!A16)*(Stock!C$2:C$504="Disponible")*(Stock!G$2:G$504))} -> 0
A17: 600.0387 | C17: 447 | E17: Article 4 | F17: =VLOOKUP(A17,[1]Distributeur!$E$4:$L$105,6,FALSE) -> 1 | G17: 10 | J17: =I17*G17 -> 0 | L17: =K17*G17 -> 0 | M17: {=SUMPRODUCT((Stock!E$2:E$504=BCom!A17)*(Stock!C$2:C$504="Disponible")*(Stock!G$2:G$504))} -> 15
A18: 074.0017 | B18: =VLOOKUP(A18,[1]Distributeur!$E$4:$L$105,2,FALSE) -> I | C18: 448 | E18: Article 5 | F18: =VLOOKUP(A18,[1]Distributeur!$E$4:$L$105,6,FALSE) -> 1 | G18: 10 | J18: =I18*G18 -> 0 | L18: =K18*G18 -> 0 | M18: {=SUMPRODUCT((Stock!E$2:E$504=BCom!A18)*(Stock!C$2:C$504="Disponible")*(Stock!G$2:G$504))} -> 3
A19: 099.0011 | C19: 449 | E19: Article 6 | F19: 1 | G19: 10 | J19: =I19*G19 -> 0 | L19: =K19*G19 -> 0 | M19: {=SUMPRODUCT((Stock!E$2:E$504=BCom!A19)*(Stock!C$2:C$504="Disponible")*(Stock!G$2:G$504))} -> 45
A20: 008.0423 | B20: =VLOOKUP(A20,[1]Distributeur!$E$4:$L$105,2,FALSE) -> IIa | C20: 450 | E20: Article 7 | F20: 10 | G20: 10 | J20: =I20*G20 -> 0 | L20: =K20*G20 -> 0 | M20: {=SUMPRODUCT((Stock!E$2:E$504=BCom!A20)*(Stock!C$2:C$504="Disponible")*(Stock!G$2:G$504))} -> 1
A21: 008.0424 | B21: =VLOOKUP(A21,[1]Distributeur!$E$4:$L$105,2,FALSE) -> IIa | C21: 451 | E21: Article 8 | F21: 10 | G21: 10 | J21: =I21*G21 -> 0 | L21: =K21*G21 -> 0 | M21: {=SUMPRODUCT((Stock!E$2:E$504=BCom!A21)*(Stock!C$2:C$504="Disponible")*(Stock!G$2:G$504))} -> 836
A22: 008.0429 | B22: =VLOOKUP(A22,[1]Distributeur!$E$4:$L$105,2,FALSE) -> IIa | C22: 452 | E22: Article 9 | F22: 10 | G22: 10 | J22: =I22*G22 -> 0 | L22: =K22*G22 -> 0 | M22: {=SUMPRODUCT((Stock!E$2:E$504=BCom!A22)*(Stock!C$2:C$504="Disponible")*(Stock!G$2:G$504))} -> 422
A23: 008.0430 | B23: =VLOOKUP(A23,[1]Distributeur!$E$4:$L$105,2,FALSE) -> IIa | C23: 453 | E23: Article 10 | F23: 5 | G23: 10 | J23: =I23*G23 -> 0 | L23: =K23*G23 -> 0 | M23: {=SUMPRODUCT((Stock!E$2:E$504=BCom!A23)*(Stock!C$2:C$504="Disponible")*(Stock!G$2:G$504))} -> 7
A24: 008.0431 | B24: =VLOOKUP(A24,[1]Distributeur!$E$4:$L$105,2,FALSE) -> IIa | C24: 454 | E24: Article 11 | F24: 5 | G24: 10 | J24: =I24*G24 -> 0 | L24: =K24*G24 -> 0 | M24: {=SUMPRODUCT((Stock!E$2:E$504=BCom!A24)*(Stock!C$2:C$504="Disponible")*(Stock!G$2:G$504))} -> 8022
A25: 008.0436 | B25: =VLOOKUP(A25,[1]Distributeur!$E$4:$L$105,2,FALSE) -> IIa | C25: 455 | E25: Article 12 | F25: 5 | G25: 10 | J25: =I25*G25 -> 0 | L25: =K25*G25 -> 0 | M25: {=SUMPRODUCT((Stock!E$2:E$504=BCom!A25)*(Stock!C$2:C$504="Disponible")*(Stock!G$2:G$504))} -> 10
A26: 008.0437 | B26: =VLOOKUP(A26,[1]Distributeur!$E$4:$L$105,2,FALSE) -> IIa | C26: 456 | E26: Article 13 | F26: =VLOOKUP(A26,[1]Distributeur!$E$4:$L$105,6,FALSE) -> 10 | G26: 10 | J26: =I26*G26 -> 0 | L26: =K26*G26 -> 0 | M26: {=SUMPRODUCT((Stock!E$2:E$504=BCom!A26)*(Stock!C$2:C$504="Disponible")*(Stock!G$2:G$504))} -> 987
A27: 008.0442 | B27: =VLOOKUP(A27,[1]Distributeur!$E$4:$L$105,2,FALSE) -> IIa | C27: 457 | E27: Article 14 | F27: =VLOOKUP(A27,[1]Distributeur!$E$4:$L$105,6,FALSE) -> 10 | G27: 10 | J27: =I27*G27 -> 0 | L27: =K27*G27 -> 0 | M27: {=SUMPRODUCT((Stock!E$2:E$504=BCom!A27)*(Stock!C$2:C$504="Disponible")*(Stock!G$2:G$504))} -> 429
A28: 008.0447 | B28: =VLOOKUP(A28,[1]Distributeur!$E$4:$L$105,2,FALSE) -> IIa | C28: 458 | E28: Article 15 | F28: =VLOOKUP(A28,[1]Distributeur!$E$4:$L$105,6,FALSE) -> 10 | G28: 10 | J28: =I28*G28 -> 0 | L28: =K28*G28 -> 0 | M28: {=SUMPRODUCT((Stock!E$2:E$504=BCom!A28)*(Stock!C$2:C$504="Disponible")*(Stock!G$2:G$504))} -> 719
A29: 008.0452 | B29: =VLOOKUP(A29,[1]Distributeur!$E$4:$L$105,2,FALSE) -> IIa | C29: 459 | E29: Article 16 | F29: =VLOOKUP(A29,[1]Distributeur!$E$4:$L$105,6,FALSE) -> 10 | G29: 10 | J29: =I29*G29 -> 0 | L29: =K29*G29 -> 0 | M29: {=SUMPRODUCT((Stock!E$2:E$504=BCom!A29)*(Stock!C$2:C$504="Disponible")*(Stock!G$2:G$504))} -> 673
A30: 008.0457 | B30: =VLOOKUP(A30,[1]Distributeur!$E$4:$L$105,2,FALSE) -> IIa | C30: 460 | E30: Article 17 | F30: =VLOOKUP(A30,[1]Distributeur!$E$4:$L$105,6,FALSE) -> 10 | G30: 10 | J30: =I30*G30 -> 0 | L30: =K30*G30 -> 0 | M30: {=SUMPRODUCT((Stock!E$2:E$504=BCom!A30)*(Stock!C$2:C$504="Disponible")*(Stock!G$2:G$504))} -> 160
A31: 101041154 | C31: 461 | E31: Article 18 | F31: 10 | G31: 10 | J31: =I31*G31 -> 0 | L31: =K31*G31 -> 0 | M31: {=SUMPRODUCT((Stock!E$2:E$504=BCom!A31)*(Stock!C$2:C$504="Disponible")*(Stock!G$2:G$504))} -> 1652
A32: 101033773 | C32: 462 | E32: Article 19 | F32: 4 | G32: 10 | H32: 0.08 | J32: =I32*G32 -> 0 | L32: =K32*G32 -> 0 | M32: {=SUMPRODUCT((Stock!E$2:E$504=BCom!A32)*(Stock!C$2:C$504="Disponible")*(Stock!G$2:G$504))} -> 119
A33: 101041610 | C33: 463 | E33: Article 20 | F33: 5 | G33: 10 | H33: 0.08 | J33: =I33*G33 -> 0 | L33: =K33*G33 -> 0 | M33: {=SUMPRODUCT((Stock!E$2:E$504=BCom!A33)*(Stock!C$2:C$504="Disponible")*(Stock!G$2:G$504))} -> 569
A34: 101033817 | C34: 464 | E34: Article 21 | F34: 4 | G34: 10 | H34: 0.08 | J34: =I34*G34 -> 0 | L34: =K34*G34 -> 0 | M34: {=SUMPRODUCT((Stock!E$2:E$504=BCom!A34)*(Stock!C$2:C$504="Disponible")*(Stock!G$2:G$504))} -> 26
A35: 101041611 | C35: 465 | E35: Article 22 | F35: 5 | G35: 10 | H35: 0.08 | J35: =I35*G35 -> 0 | L35: =K35*G35 -> 0 | M35: {=SUMPRODUCT((Stock!E$2:E$504=BCom!A35)*(Stock!C$2:C$504="Disponible")*(Stock!G$2:G$504))} -> 1067
A36: 101037976 | C36: 466 | E36: Article 23 | F36: =VLOOKUP(A36,[1]Distributeur!$E$4:$L$105,6,FALSE) -> 1 | G36: 10 | H36: 0.08 | J36: =I36*G36 -> 0 | L36: =K36*G36 -> 0 | M36: {=SUMPRODUCT((Stock!E$2:E$504=BCom!A36)*(Stock!C$2:C$504="Disponible")*(Stock!G$2:G$504))} -> 7
A37: 101041851 | C37: 467 | E37: Article 24 | F37: 10 | G37: 10 | J37: =I37*G37 -> 0 | L37: =K37*G37 -> 0 | M37: {=SUMPRODUCT((Stock!E$2:E$504=BCom!A37)*(Stock!C$2:C$504="Disponible")*(Stock!G$2:G$504))} -> 0
A38: 101041852 | C38: 468 | E38: Article 25 | F38: 10 | G38: 10 | J38: =I38*G38 -> 0 | L38: =K38*G38 -> 0 | M38: {=SUMPRODUCT((Stock!E$2:E$504=BCom!A38)*(Stock!C$2:C$504="Disponible")*(Stock!G$2:G$504))} -> 28
A39: 101041853 | C39: 469 | E39: Article 26 | F39: 10 | G39: 10 | J39: =I39*G39 -> 0 | L39: =K39*G39 -> 0 | M39: {=SUMPRODUCT((Stock!E$2:E$504=BCom!A39)*(Stock!C$2:C$504="Disponible")*(Stock!G$2:G$504))} -> 271
A40: 101041854 | C40: 470 | E40: Article 27 | F40: 10 | G40: 10 | J40: =I40*G40 -> 0 | L40: =K40*G40 -> 0 | M40: {=SUMPRODUCT((Stock!E$2:E$504=BCom!A40)*(Stock!C$2:C$504="Disponible")*(Stock!G$2:G$504))} -> 636
A41: 008.0139 | C41: 471 | D41: =VLOOKUP(A41,[1]Distributeur!$E$4:$L$105,4,FALSE) -> 9813992 | E41: Article 28 | F41: =VLOOKUP(A41,[1]Distributeur!$E$4:$L$105,6,FALSE) -> 10 | G41: 10 | J41: =I41*G41 -> 0 | L41: =K41*G41 -> 0 | M41: {=SUMPRODUCT((Stock!E$2:E$504=BCom!A41)*(Stock!C$2:C$504="Disponible")*(Stock!G$2:G$504))} -> 537
A42: 008.0124 | C42: 472 | D42: =VLOOKUP(A42,[1]Distributeur!$E$4:$L$105,4,FALSE) -> 9813986 | E42: Article 29 | F42: =VLOOKUP(A42,[1]Distributeur!$E$4:$L$105,6,FALSE) -> 10 | G42: 10 | J42: =I42*G42 -> 0 | L42: =K42*G42 -> 0 | M42: {=SUMPRODUCT((Stock!E$2:E$504=BCom!A42)*(Stock!C$2:C$504="Disponible")*(Stock!G$2:G$504))} -> 1719
A43: 008.0188 | C43: 473 | D43: =VLOOKUP(A43,[1]Distributeur!$E$4:$L$105,4,FALSE) -> 2103773 | E43: Article 30 | F43: =VLOOKUP(A43,[1]Distributeur!$E$4:$L$105,6,FALSE) -> 10 | G43: 10 | J43: =I43*G43 -> 0 | L43: =K43*G43 -> 0 | M43: {=SUMPRODUCT((Stock!E$2:E$504=BCom!A43)*(Stock!C$2:C$504="Disponible")*(Stock!G$2:G$504))} -> 856
A44: 008.0403 | C44: 474 | E44: Article 31 | F44: =VLOOKUP(A44,[1]Distributeur!$E$4:$L$105,6,FALSE) -> 14 | G44: 10 | J44: =I44*G44 -> 0 | L44: =K44*G44 -> 0 | M44: {=SUMPRODUCT((Stock!E$2:E$504=BCom!A44)*(Stock!C$2:C$504="Disponible")*(Stock!G$2:G$504))} -> 625
A45: 008.0410 | C45: 475 | E45: Article 32 | F45: =VLOOKUP(A45,[1]Distributeur!$E$4:$L$105,6,FALSE) -> 10 | G45: 10 | J45: =I45*G45 -> 0 | L45: =K45*G45 -> 0 | M45: {=SUMPRODUCT((Stock!E$2:E$504=BCom!A45)*(Stock!C$2:C$504="Disponible")*(Stock!G$2:G$504))} -> 6
A46: 800.0796 | C46: 476 | D46: =VLOOKUP(A46,[1]Distributeur!$E$4:$L$105,4,FALSE) -> 4450438 | E46: Article 33 | F46: =VLOOKUP(A46,[1]Distributeur!$E$4:$L$105,6,FALSE) -> 5 | G46: 10 | J46: =I46*G46 -> 0 | L46: =K46*G46 -> 0 | M46: {=SUMPRODUCT((Stock!E$2:E$504=BCom!A46)*(Stock!C$2:C$504="Disponible")*(Stock!G$2:G$504))} -> 6
A47: 200.1659 | C47: 477 | D47: =VLOOKUP(A47,[1]Distributeur!$E$4:$L$105,4,FALSE) -> 6235661 | E47: Article 34 | F47: =VLOOKUP(A47,[1]Distributeur!$E$4:$L$105,6,FALSE) -> 5 | G47: 10 | J47: =I47*G47 -> 0 | L47: =K47*G47 -> 0 | M47: {=SUMPRODUCT((Stock!E$2:E$504=BCom!A47)*(Stock!C$2:C$504="Disponible")*(Stock!G$2:G$504))} -> 206
A48: 200.0597 | C48: 478 | D48: =VLOOKUP(A48,[1]Distributeur!$E$4:$L$105,4,FALSE) -> 4822733 | E48: Article 35 | F48: =VLOOKUP(A48,[1]Distributeur!$E$4:$L$105,6,FALSE) -> 10 | G48: 10 | J48: =I48*G48 -> 0 | L48: =K48*G48 -> 0 | M48: {=SUMPRODUCT((Stock!E$2:E$504=BCom!A48)*(Stock!C$2:C$504="Disponible")*(Stock!G$2:G$504))} -> 152
A49: 200.1658 | C49: 479 | D49: =VLOOKUP(A49,[1]Distributeur!$E$4:$L$105,4,FALSE) -> 6207015 | E49: Article 36 | F49: =VLOOKUP(A49,[1]Distributeur!$E$4:$L$105,6,FALSE) -> 10 | G49: 10 | J49: =I49*G49 -> 0 | L49: =K49*G49 -> 0 | M49: {=SUMPRODUCT((Stock!E$2:E$504=BCom!A49)*(Stock!C$2:C$504="Disponible")*(Stock!G$2:G$504))} -> 142
A50: 200.0601 | C50: 480 | D50: =VLOOKUP(A50,[1]Distributeur!$E$4:$L$105,4,FALSE) -> 4822727 | E50: Article 37 | F50: =VLOOKUP(A50,[1]Distributeur!$E$4:$L$105,6,FALSE) -> 20 | G50: 10 | J50: =I50*G50 -> 0 | L50: =K50*G50 -> 0 | M50: {=SUMPRODUCT((Stock!E$2:E$504=BCom!A50)*(Stock!C$2:C$504="Disponible")*(Stock!G$2:G$504))} -> 257
A51: 200.0603 | C51: 481 | D51: =VLOOKUP(A51,[1]Distributeur!$E$4:$L$105,4,FALSE) -> 4822710 | E51: Article 38 | F51: =VLOOKUP(A51,[1]Distributeur!$E$4:$L$105,6,FALSE) -> 20 | G51: 10 | J51: =I51*G51 -> 0 | L51: =K51*G51 -> 0 | M51: {=SUMPRODUCT((Stock!E$2:E$504=BCom!A51)*(Stock!C$2:C$504="Disponible")*(Stock!G$2:G$504))} -> 84
A52: 101037156 | C52: 482 | E52: Article 39 | F52: 10 | G52: 10 | J52: =I52*G52 -> 0 | L52: =K52*G52 -> 0 | M52: {=SUMPRODUCT((Stock!E$2:E$504=BCom!A52)*(Stock!C$2:C$504="Disponible")*(Stock!G$2:G$504))} -> 0
A53: 008.0040 | C53: 483 | D53: =VLOOKUP(A53,[1]Distributeur!$E$4:$L$105,4,FALSE) -> 4822756 | E53: Article 40 | F53: 10 | G53: 10 | J53: =I53*G53 -> 0 | L53: =K53*G53 -> 0 | M53: {=SUMPRODUCT((Stock!E$2:E$504=BCom!A53)*(Stock!C$2:C$504="Disponible")*(Stock!G$2:G$504))} -> 0
A54: 200.0625 | C54: 484 | D54: =VLOOKUP(A54,[1]Distributeur!$E$4:$L$105,4,FALSE) -> 4822762 | E54: Article 41 | F54: =VLOOKUP(A54,[1]Distributeur!$E$4:$L$105,6,FALSE) -> 3 | G54: 10 | J54: =I54*G54 -> 0 | L54: =K54*G54 -> 0 | M54: {=SUMPRODUCT((Stock!E$2:E$504=BCom!A54)*(Stock!C$2:C$504="Disponible")*(Stock!G$2:G$504))} -> 264
A55: 200.1756 | C55: 485 | E55: Article 42 | F55: 10 | G55: 10 | J55: =I55*G55 -> 0 | L55: =K55*G55 -> 0 | M55: {=SUMPRODUCT((Stock!E$2:E$504=BCom!A55)*(Stock!C$2:C$504="Disponible")*(Stock!G$2:G$504))} -> 10
A56: 101041336 | C56: 486 | E56: Article 43 | F56: 60 | G56: 10 | J56: =I56*G56 -> 0 | L56: =K56*G56 -> 0 | M56: {=SUMPRODUCT((Stock!E$2:E$504=BCom!A56)*(Stock!C$2:C$504="Disponible")*(Stock!G$2:G$504))} -> 5781
A57: 008.0058 | B57: =VLOOKUP(A57,[1]Distributeur!$E$4:$L$105,2,FALSE) -> IIa | C57: 487 | D57: =VLOOKUP(A57,[1]Distributeur!$E$4:$L$105,4,FALSE) -> 6207038 | E57: Article 44 | F57: =VLOOKUP(A57,[1]Distributeur!$E$4:$L$105,6,FALSE) -> 10 | G57: 10 | J57: =I57*G57 -> 0 | L57: =K57*G57 -> 0 | M57: {=SUMPRODUCT((Stock!E$2:E$504=BCom!A57)*(Stock!C$2:C$504="Disponible")*(Stock!G$2:G$504))} -> 2179
A58: 008.0306 | C58: 488 | D58: =VLOOKUP(A58,[1]Distributeur!$E$4:$L$105,4,FALSE) -> 4450450 | E58: Article 45 | F58: =VLOOKUP(A58,[1]Distributeur!$E$4:$L$105,6,FALSE) -> 5 | G58: 10 | J58: =I58*G58 -> 0 | L58: =K58*G58 -> 0 | M58: {=SUMPRODUCT((Stock!E$2:E$504=BCom!A58)*(Stock!C$2:C$504="Disponible")*(Stock!G$2:G$504))} -> 651
A59: 008.0373 | C59: 489 | D59: =VLOOKUP(A59,[1]Distributeur!$E$4:$L$105,4,FALSE) -> 7167128 | E59: Article 46 | F59: =VLOOKUP(A59,[1]Distributeur!$E$4:$L$105,6,FALSE) -> 3 | G59: 10 | J59: =I59*G59 -> 0 | L59: =K59*G59 -> 0 | M59: {=SUMPRODUCT((Stock!E$2:E$504=BCom!A59)*(Stock!C$2:C$504="Disponible")*(Stock!G$2:G$504))} -> 0
A60: 101037033 | C60: 490 | E60: Article 47 | F60: 6 | G60: 10 | J60: =I60*G60 -> 0 | L60: =K60*G60 -> 0 | M60: {=SUMPRODUCT((Stock!E$2:E$504=BCom!A60)*(Stock!C$2:C$504="Disponible")*(Stock!G$2:G$504))} -> 0
A61: 101037043 | C61: 491 | E61: Article 48 | F61: 6 | G61: 10 | J61: =I61*G61 -> 0 | L61: =K61*G61 -> 0 | M61: {=SUMPRODUCT((Stock!E$2:E$504=BCom!A61)*(Stock!C$2:C$504="Disponible")*(Stock!G$2:G$504))} -> 10
A62: 008.0237 | B62: =VLOOKUP(A62,[1]Distributeur!$E$4:$L$105,2,FALSE) -> I | C62: 492 | D62: =VLOOKUP(A62,[1]Distributeur!$E$4:$L$105,4,FALSE) -> 9707445 | E62: Article 49 | F62: =VLOOKUP(A62,[1]Distributeur!$E$4:$L$105,6,FALSE) -> 5 | G62: 10 | J62: =I62*G62 -> 0 | L62: =K62*G62 -> 0 | M62: {=SUMPRODUCT((Stock!E$2:E$504=BCom!A62)*(Stock!C$2:C$504="Disponible")*(Stock!G$2:G$504))} -> 0
A63: 008.0239 | B63: =VLOOKUP(A63,[1]Distributeur!$E$4:$L$105,2,FALSE) -> IIa | C63: 493 | D63: =VLOOKUP(A63,[1]Distributeur!$E$4:$L$105,4,FALSE) -> 7889867 | E63: Article 50 | F63: =VLOOKUP(A63,[1]Distributeur!$E$4:$L$105,6,FALSE) -> 5 | G63: 10 | J63: =I63*G63 -> 0 | L63: =K63*G63 -> 0 | M63: {=SUMPRODUCT((Stock!E$2:E$504=BCom!A63)*(Stock!C$2:C$504="Disponible")*(Stock!G$2:G$504))} -> 1986
A64: 008.0228 | B64: =VLOOKUP(A64,[1]Distributeur!$E$4:$L$105,2,FALSE) -> I | C64: 494 | D64: =VLOOKUP(A64,[1]Distributeur!$E$4:$L$105,4,FALSE) -> 7889838 | E64: Article 51 | F64: 5 | G64: 10 | J64: =I64*G64 -> 0 | L64: =K64*G64 -> 0 | M64: {=SUMPRODUCT((Stock!E$2:E$504=BCom!A64)*(Stock!C$2:C$504="Disponible")*(Stock!G$2:G$504))} -> 0
A65: 008.0230 | B65: =VLOOKUP(A65,[1]Distributeur!$E$4:$L$105,2,FALSE) -> I | C65: 495 | D65: =VLOOKUP(A65,[1]Distributeur!$E$4:$L$105,4,FALSE) -> 7889844 | E65: Article 52 | F65: 5 | G65: 10 | J65: =I65*G65 -> 0 | L65: =K65*G65 -> 0 | M65: {=SUMPRODUCT((Stock!E$2:E$504=BCom!A65)*(Stock!C$2:C$504="Disponible")*(Stock!G$2:G$504))} -> 966
A66: 200.1625 | B66: =VLOOKUP(A66,[1]Distributeur!$E$4:$L$105,2,FALSE) -> IIa | C66: 496 | D66: =VLOOKUP(A66,[1]Distributeur!$E$4:$L$105,4,FALSE) -> 6343712 | E66: Article 53 | F66: =VLOOKUP(A66,[1]Distributeur!$E$4:$L$105,6,FALSE) -> 5 | G66: 10 | J66: =I66*G66 -> 0 | L66: =K66*G66 -> 0 | M66: {=SUMPRODUCT((Stock!E$2:E$504=BCom!A66)*(Stock!C$2:C$504="Disponible")*(Stock!G$2:G$504))} -> 8
A67: 200.1593 | B67: =VLOOKUP(A67,[1]Distributeur!$E$4:$L$105,2,FALSE) -> IIa | C67: 497 | D67: =VLOOKUP(A67,[1]Distributeur!$E$4:$L$105,4,FALSE) -> 6207021 | E67: Article 54 | F67: =VLOOKUP(A67,[1]Distributeur!$E$4:$L$105,6,FALSE) -> 5 | G67: 10 | J67: =I67*G67 -> 0 | L67: =K67*G67 -> 0 | M67: {=SUMPRODUCT((Stock!E$2:E$504=BCom!A67)*(Stock!C$2:C$504="Disponible")*(Stock!G$2:G$504))} -> 1277
A68: 200.1630 | B68: =VLOOKUP(A68,[1]Distributeur!$E$4:$L$105,2,FALSE) -> IIa | C68: 498 | D68: =VLOOKUP(A68,[1]Distributeur!$E$4:$L$105,4,FALSE) -> 6344798 | E68: Article 55 | F68: =VLOOKUP(A68,[1]Distributeur!$E$4:$L$105,6,FALSE) -> 5 | G68: 10 | J68: =I68*G68 -> 0 | L68: =K68*G68 -> 0 | M68: {=SUMPRODUCT((Stock!E$2:E$504=BCom!A68)*(Stock!C$2:C$504="Disponible")*(Stock!G$2:G$504))} -> 1081
A69: 009.0005 | C69: 499 | D69: =VLOOKUP(A69,[1]Distributeur!$E$4:$L$105,4,FALSE) -> 4619707 | E69: Article 56 | F69: 10 | G69: 10 | J69: =I69*G69 -> 0 | L69: =K69*G69 -> 0 | M69: {=SUMPRODUCT((Stock!E$2:E$504=BCom!A69)*(Stock!C$2:C$504="Disponible")*(Stock!G$2:G$504))} -> 83
A70: 800.0399 | C70: 500 | D70: =VLOOKUP(A70,[1]Distributeur!$E$4:$L$105,4,FALSE) -> 7880091 | E70: Article 57 | F70: =VLOOKUP(A70,[1]Distributeur!$E$4:$L$105,6,FALSE) -> 5 | G70: 10 | J70: =I70*G70 -> 0 | L70: =K70*G70 -> 0 | M70: {=SUMPRODUCT((Stock!E$2:E$504=BCom!A70)*(Stock!C$2:C$504="Disponible")*(Stock!G$2:G$504))} -> 597
A71: 008.0112 | B71: =VLOOKUP(A71,[1]Distributeur!$E$4:$L$105,2,FALSE) -> IIa | C71: 501 | D71: =VLOOKUP(A71,[1]Distributeur!$E$4:$L$105,4,FALSE) -> 4619736 | E71: Article 58 | F71: 5 | G71: 10 | J71: =I71*G71 -> 0 | L71: =K71*G71 -> 0 | M71: {=SUMPRODUCT((Stock!E$2:E$504=BCom!A71)*(Stock!C$2:C$504="Disponible")*(Stock!G$2:G$504))} -> 0
A72: 800.0452 | B72: IIa | C72: 502 | E72: Article 59 | F72: 5 | G72: 10 | J72: =I72*G72 -> 0 | L72: =K72*G72 -> 0 | M72: {=SUMPRODUCT((Stock!E$2:E$504=BCom!A72)*(Stock!C$2:C$504="Disponible")*(Stock!G$2:G$504))} -> 37
A73: 008.0027 | C73: 503 | E73: Article 60 | F73: 10 | G73: 10 | J73: =I73*G73 -> 0 | L73: =K73*G73 -> 0 | M73: {=SUMPRODUCT((Stock!E$2:E$504=BCom!A73)*(Stock!C$2:C$504="Disponible")*(Stock!G$2:G$504))} -> 136
A74: 800.0507 | C74: 504 | E74: Article 61 | F74: 50 | G74: 10 | J74: =I74*G74 -> 0 | L74: =K74*G74 -> 0 | M74: {=SUMPRODUCT((Stock!E$2:E$504=BCom!A74)*(Stock!C$2:C$504="Disponible")*(Stock!G$2:G$504))} -> 70
A75: 101038763 | C75: 505 | E75: Article 62 | F75: 24 | G75: 10 | J75: =I75*G75 -> 0 | L75: =K75*G75 -> 0 | M75: {=SUMPRODUCT((Stock!E$2:E$504=BCom!A75)*(Stock!C$2:C$504="Disponible")*(Stock!G$2:G$504))} -> 704
A76: 101038767 | C76: 506 | E76: Article 63 | F76: 24 | G76: 10 | J76: =I76*G76 -> 0 | L76: =K76*G76 -> 0 | M76: {=SUMPRODUCT((Stock!E$2:E$504=BCom!A76)*(Stock!C$2:C$504="Disponible")*(Stock!G$2:G$504))} -> 1476
A77: 101038769 | C77: 507 | E77: Article 64 | F77: 24 | G77: 10 | J77: =I77*G77 -> 0 | L77: =K77*G77 -> 0 | M77: {=SUMPRODUCT((Stock!E$2:E$504=BCom!A77)*(Stock!C$2:C$504="Disponible")*(Stock!G$2:G$504))} -> 2428
A78: 101038770 | C78: 508 | E78: Article 65 | F78: 24 | G78: 10 | J78: =I78*G78 -> 0 | L78: =K78*G78 -> 0 | M78: {=SUMPRODUCT((Stock!E$2:E$504=BCom!A78)*(Stock!C$2:C$504="Disponible")*(Stock!G$2:G$504))} -> 92
A79: 101038771 | C79: 509 | E79: Article 66 | F79: 24 | G79: 10 | J79: =I79*G79 -> 0 | L79: =K79*G79 -> 0 | M79: {=SUMPRODUCT((Stock!E$2:E$504=BCom!A79)*(Stock!C$2:C$504="Disponible")*(Stock!G$2:G$504))} -> 4
A80: 101038773 | C80: 510 | E80: Article 67 | F80: 24 | G80: 10 | J80: =I80*G80 -> 0 | L80: =K80*G80 -> 0 | M80: {=SUMPRODUCT((Stock!E$2:E$504=BCom!A80)*(Stock!C$2:C$504="Disponible")*(Stock!G$2:G$504))} -> 2
A81: 101038822 | C81: 511 | E81: Article 68 | F81: 24 | G81: 10 | J81: =I81*G81 -> 0 | L81: =K81*G81 -> 0 | M81: {=SUMPRODUCT((Stock!E$2:E$504=BCom!A81)*(Stock!C$2:C$504="Disponible")*(Stock!G$2:G$504))} -> 1106
A82: 101038823 | C82: 512 | E82: Article 69 | F82: 24 | G82: 10 | J82: =I82*G82 -> 0 | L82: =K82*G82 -> 0 | M82: {=SUMPRODUCT((Stock!E$2:E$504=BCom!A82)*(Stock!C$2:C$504="Disponible")*(Stock!G$2:G$504))} -> 1641
A83: 101038824 | C83: 513 | E83: Article 70 | F83: 24 | G83: 10 | J83: =I83*G83 -> 0 | L83: =K83*G83 -> 0 | M83: {=SUMPRODUCT((Stock!E$2:E$504=BCom!A83)*(Stock!C$2:C$504="Disponible")*(Stock!G$2:G$504))} -> 27
A84: 101038825 | C84: 514 | E84: Article 71 | F84: 24 | G84: 10 | J84: =I84*G84 -> 0 | L84: =K84*G84 -> 0 | M84: {=SUMPRODUCT((Stock!E$2:E$504=BCom!A84)*(Stock!C$2:C$504="Disponible")*(Stock!G$2:G$504))} -> 313
... A88: 101038829 | C88: 518 | E88: Article 75 | F88: 24 | G88: 10 | J88: =I88*G88 -> 0 | L88: =K88*G88 -> 0 | M88: {=SUMPRODUCT((Stock!E$2:E$504=BCom!A88)*(Stock!C$2:C$504="Disponible")*(Stock!G$2:G$504))} -> 18
A89: 101038885 | C89: 519 | E89: Article 76 | F89: 24 | G89: 10 | J89: =I89*G89 -> 0 | L89: =K89*G89 -> 0 | M89: {=SUMPRODUCT((Stock!E$2:E$504=BCom!A89)*(Stock!C$2:C$504="Disponible")*(Stock!G$2:G$504))} -> 0
A90: 101038886 | C90: 520 | E90: Article 77 | F90: 24 | G90: 10 | J90: =I90*G90 -> 0 | L90: =K90*G90 -> 0 | M90: {=SUMPRODUCT((Stock!E$2:E$504=BCom!A90)*(Stock!C$2:C$504="Disponible")*(Stock!G$2:G$504))} -> 1407
A91: 101038887 | C91: 521 | E91: Article 78 | F91: 24 | G91: 10 | J91: =I91*G91 -> 0 | L91: =K91*G91 -> 0 | M91: {=SUMPRODUCT((Stock!E$2:E$504=BCom!A91)*(Stock!C$2:C$504="Disponible")*(Stock!G$2:G$504))} -> 579
A92: 101038888 | C92: 522 | E92: Article 79 | F92: 24 | G92: 10 | J92: =I92*G92 -> 0 | L92: =K92*G92 -> 0 | M92: {=SUMPRODUCT((Stock!E$2:E$504=BCom!A92)*(Stock!C$2:C$504="Disponible")*(Stock!G$2:G$504))} -> 1646
A93: 101038889 | C93: 523 | E93: Article 80 | F93: 24 | G93: 10 | J93: =I93*G93 -> 0 | L93: =K93*G93 -> 0 | M93: {=SUMPRODUCT((Stock!E$2:E$504=BCom!A93)*(Stock!C$2:C$504="Disponible")*(Stock!G$2:G$504))} -> 139
A94: 101038890 | C94: 524 | E94: Article 81 | F94: 24 | G94: 10 | J94: =I94*G94 -> 0 | L94: =K94*G94 -> 0 | M94: {=SUMPRODUCT((Stock!E$2:E$504=BCom!A94)*(Stock!C$2:C$504="Disponible")*(Stock!G$2:G$504))} -> 2496
A95: 101038794 | C95: 525 | E95: Article 82 | F95: 24 | G95: 10 | J95: =I95*G95 -> 0 | L95: =K95*G95 -> 0 | M95: {=SUMPRODUCT((Stock!E$2:E$504=BCom!A95)*(Stock!C$2:C$504="Disponible")*(Stock!G$2:G$504))} -> 153
A96: 101038795 | C96: 526 | E96: Article 83 | F96: 24 | G96: 10 | J96: =I96*G96 -> 0 | L96: =K96*G96 -> 0 | M96: {=SUMPRODUCT((Stock!E$2:E$504=BCom!A96)*(Stock!C$2:C$504="Disponible")*(Stock!G$2:G$504))} -> 119
A97: 101038796 | C97: 527 | E97: Article 84 | F97: 24 | G97: 10 | J97: =I97*G97 -> 0 | L97: =K97*G97 -> 0 | M97: {=SUMPRODUCT((Stock!E$2:E$504=BCom!A97)*(Stock!C$2:C$504="Disponible")*(Stock!G$2:G$504))} -> 77
A98: 101038797 | C98: 528 | E98: Article 85 | F98: 24 | G98: 10 | J98: =I98*G98 -> 0 | L98: =K98*G98 -> 0 | M98: {=SUMPRODUCT((Stock!E$2:E$504=BCom!A98)*(Stock!C$2:C$504="Disponible")*(Stock!G$2:G$504))} -> 84
A99: 101038798 | C99: 529 | E99: Article 86 | F99: 24 | G99: 10 | J99: =I99*G99 -> 0 | L99: =K99*G99 -> 0 | M99: {=SUMPRODUCT((Stock!E$2:E$504=BCom!A99)*(Stock!C$2:C$504="Disponible")*(Stock!G$2:G$504))} -> 105
A100: 101038799 | C100: 530 | E100: Article 87 | F100: 24 | G100: 10 | J100: =I100*G100 -> 0 | L100: =K100*G100 -> 0 | M100: {=SUMPRODUCT((Stock!E$2:E$504=BCom!A100)*(Stock!C$2:C$504="Disponible")*(Stock!G$2:G$504))} -> 140
A101: 101038800 | C101: 531 | E101: Article 88 | F101: 24 | G101: 10 | J101: =I101*G101 -> 0 | L101: =K101*G101 -> 0 | M101: {=SUMPRODUCT((Stock!E$2:E$504=BCom!A101)*(Stock!C$2:C$504="Disponible")*(Stock!G$2:G$504))} -> 110
A102: 101038801 | C102: 532 | E102: Article 89 | F102: 24 | G102: 10 | J102: =I102*G102 -> 0 | L102: =K102*G102 -> 0 | M102: {=SUMPRODUCT((Stock!E$2:E$504=BCom!A102)*(Stock!C$2:C$504="Disponible")*(Stock!G$2:G$504))} -> 135
A105: Commentaires | I105: TOTAL COMMANDE HT | K105: =SUM(J14:J102) -> 0
I108: NOMBRE DE LIGNES | K108: =COUNTA(I14:I102) -> 0
I111: UNITES GRATUITES | K111: =SUM(K14:K102) -> 0
I114: VALORISATION UG HT | K114: =SUM(L14:L102) -> 0

Sheet Filtre
A1: Site | B1: Code Mag | C1: Magasin | D1: Code Article Stock | E1: Code Article Laboratoire | F1: Désignation Article | G1: Nouveau Stock | H1: Stock Début | I1: Entrées Fournisseurs (62) | J1: Colonne1 | K1: Entrées Diverses (63) | L1: Entrées Retours Clients (12) | M1: Sorties Ventes (10) | N1: Sorties Spécifiques (65) | O1: Sorties Avaries (67) | P1: Sorties Gratuits (68) | Q1: Sorties Echanges (69) | R1: Entrées Transferts (64) | S1: Sorties Transferts (66) | T1: Ajustements de Stock (71)
A2: {=_xlfn._xlws.FILTER(t_stock[],t_stock[Code Article Laboratoire]=BCom!A14)} -> Amiens | B2: 0 | C2: Disponible | D2: 35410000919 | E2: 024.0101 | F2: PRODUIT 87 | G2: 0 | H2: 238 | I2: 0 | J2: 0 | K2: 0 | L2: 1 | M2: 238 | N2: 0 | O2: 0 | P2: 0 | Q2: 0 | R2: 0 | S2: 1 | T2: 0
A3: {=_xlfn._xlws.FILTER(t_stock[],t_stock[Code Article Laboratoire]=BCom!A15)} -> Amiens | B3: 0 | C3: Disponible | D3: 35410004036 | E3: 600.0973 | F3: PRODUIT 435 | G3: 778 | H3: 960 | I3: 0 | J3: 0 | K3: 0 | L3: 3 | M3: 182 | N3: 0 | O3: 0 | P3: 0 | Q3: 0 | R3: 0 | S3: 3 | T3: 0
A4: {=_xlfn._xlws.FILTER(t_stock[],t_stock[Code Article Laboratoire]=BCom!A16)} -> #VALUE!
A5: {=_xlfn._xlws.FILTER(t_stock[],t_stock[Code Article Laboratoire]=BCom!A17)} -> Amiens | B5: 0 | C5: Disponible | D5: 35410003160 | E5: 600.0387 | F5: PRODUIT 427 | G5: 15 | H5: 26 | I5: 0 | J5: 0 | K5: 0 | L5: 0 | M5: 2 | N5: 9 | O5: 0 | P5: 0 | Q5: 0 | R5: 0 | S5: 0 | T5: 0
A6: {=_xlfn._xlws.FILTER(t_stock[],t_stock[Code Article Laboratoire]=BCom!A18)} -> Amiens | B6: 0 | C6: Disponible | D6: 35410001123 | E6: 074.0017 | F6: PRODUIT 101 | G6: 3 | H6: 4 | I6: 0 | J6: 0 | K6: 0 | L6: 0 | M6: 1 | N6: 0 | O6: 0 | P6: 0 | Q6: 0 | R6: 0 | S6: 0 | T6: 0
A7: {=_xlfn._xlws.FILTER(t_stock[],t_stock[Code Article Laboratoire]=BCom!A19)} -> Amiens | B7: 0 | C7: Disponible | D7: 35410002287 | E7: 099.0011 | F7: PRODUIT 223 | G7: 45 | H7: 69 | I7: 0 | J7: 0 | K7: 0 | L7: 0 | M7: 24 | N7: 0 | O7: 0 | P7: 0 | Q7: 0 | R7: 0 | S7: 0 | T7: 0
A8: {=_xlfn._xlws.FILTER(t_stock[],t_stock[Code Article Laboratoire]=BCom!A20)} -> Amiens | B8: 0 | C8: Disponible | D8: 35410005488 | E8: 008.0423 | F8: PRODUIT 45 | G8: 1 | H8: 122 | I8: 0 | J8: 0 | K8: 0 | L8: 1 | M8: 122 | N8: 0 | O8: 0 | P8: 0 | Q8: 0 | R8: 1 | S8: 1 | T8: 0
A9: {=_xlfn._xlws.FILTER(t_stock[],t_stock[Code Article Laboratoire]=BCom!A21)} -> Amiens | B9: 0 | C9: Disponible | D9: 35410005496 | E9: 008.0424 | F9: PRODUIT 46 | G9: 836 | H9: 913 | I9: 400 | J9: 0 | K9: 0 | L9: 1 | M9: 478 | N9: 0 | O9: 0 | P9: 0 | Q9: 0 | R9: 401 | S9: 401 | T9: 0
A10: {=_xlfn._xlws.FILTER(t_stock[],t_stock[Code Article Laboratoire]=BCom!A22)} -> Amiens | B10: 0 | C10: Disponible | D10: 35410005504 | E10: 008.0429 | F10: PRODUIT 47 | G10: 422 | H10: 531 | I10: 0 | J10: 0 | K10: 0 | L10: 4 | M10: 112 | N10: 0 | O10: 0 | P10: 0 | Q10: 0 | R10: 3 | S10: 4 | T10: 0
A11: {=_xlfn._xlws.FILTER(t_stock[],t_stock[Code Article Laboratoire]=BCom!A23)} -> Amiens | B11: 0 | C11: Disponible | D11: 35410005512 | E11: 008.0430 | F11: PRODUIT 48 | G11: 7 | H11: 313 | I11: 0 | J11: 0 | K11: 0 | L11: 7 | M11: 312 | N11: 0 | O11: 0 | P11: 0 | Q11: 0 | R11: 16 | S11: 17 | T11: 0
A12: {=_xlfn._xlws.FILTER(t_stock[],t_stock[Code Article Laboratoire]=BCom!A24)} -> Amiens | B12: 0 | C12: Disponible | D12: 35410005520 | E12: 008.0431 | F12: PRODUIT 49 | G12: 8022 | H12: 11747 | I12: 0 | J12: 0 | K12: 0 | L12: 57 | M12: 3746 | N12: 28 | O12: 0 | P12: 0 | Q12: 0 | R12: 49 | S12: 57 | T12: 0
A13: {=_xlfn._xlws.FILTER(t_stock[],t_stock[Code Article Laboratoire]=BCom!A25)} -> Amiens | B13: 0 | C13: Disponible | D13: 35410005538 | E13: 008.0436 | F13: PRODUIT 50 | G13: 10 | H13: 1040 | I13: 0 | J13: 0 | K13: 0 | L13: 15 | M13: 1040 | N13: 0 | O13: 0 | P13: 0 | Q13: 0 | R13: 10 | S13: 20 | T13: 5
A14: {=_xlfn._xlws.FILTER(t_stock[],t_stock[Code Article Laboratoire]=BCom!A26)} -> Amiens | B14: 0 | C14: Disponible | D14: 35410005546 | E14: 008.0437 | F14: PRODUIT 51 | G14: 987 | H14: 1139 | I14: 0 | J14: 0 | K14: 0 | L14: 1 | M14: 153 | N14: 0 | O14: 0 | P14: 0 | Q14: 0 | R14: 1 | S14: 1 | T14: 0
A15: {=_xlfn._xlws.FILTER(t_stock[],t_stock[Code Article Laboratoire]=BCom!A27)} -> Amiens | B15: 0 | C15: Disponible | D15: 35410005553 | E15: 008.0442 | F15: PRODUIT 52 | G15: 429 | H15: 447 | I15: 0 | J15: 0 | K15: 0 | L15: 0 | M15: 18 | N15: 0 | O15: 0 | P15: 0 | Q15: 0 | R15: 0 | S15: 0 | T15: 0
A16: {=_xlfn._xlws.FILTER(t_stock[],t_stock[Code Article Laboratoire]=BCom!A28)} -> Amiens | B16: 0 | C16: Disponible | D16: 35410005561 | E16: 008.0447 | F16: PRODUIT 53 | G16: 719 | H16: 382 | I16: 500 | J16: 0 | K16: 0 | L16: 12 | M16: 172 | N16: 0 | O16: 0 | P16: 0 | Q16: 0 | R16: 509 | S16: 512 | T16: 0
... A24: {=_xlfn._xlws.FILTER(t_stock[],t_stock[Code Article Laboratoire]=BCom!A36)} -> Amiens | B24: 0 | C24: Disponible | D24: 35410005744 | E24: 101037976 | F24: PRODUIT 287 | G24: 7 | H24: 111 | I24: 0 | J24: 0 | K24: 0 | L24: 3 | M24: 107 | N24: 0 | O24: 0 | P24: 0 | Q24: 0 | R24: 3 | S24: 3 | T24: 0
A25: {=_xlfn._xlws.FILTER(t_stock[],t_stock[Code Article Laboratoire]=BCom!A37)} -> #VALUE!
A26: {=_xlfn._xlws.FILTER(t_stock[],t_stock[Code Article Laboratoire]=BCom!A38)} -> Amiens | B26: 0 | C26: Disponible | D26: 35410006981 | E26: 101041852 | F26: PRODUIT 326 | G26: 28 | H26: 163 | I26: 0 | J26: 0 | K26: 0 | L26: 0 | M26: 135 | N26: 0 | O26: 0 | P26: 0 | Q26: 0 | R26: 0 | S26: 0 | T26: 0
A27: {=_xlfn._xlws.FILTER(t_stock[],t_stock[Code Article Laboratoire]=BCom!A39)} -> Amiens | B27: 0 | C27: Disponible | D27: 35410006908 | E27: 101041853 | F27: PRODUIT 327 | G27: 271 | H27: 323 | I27: 0 | J27: 0 | K27: 0 | L27: 4 | M27: 56 | N27: 0 | O27: 0 | P27: 0 | Q27: 0 | R27: 4 | S27: 4 | T27: 0
A28: {=_xlfn._xlws.FILTER(t_stock[],t_stock[Code Article Laboratoire]=BCom!A40)} -> Amiens | B28: 0 | C28: Disponible | D28: 35410006874 | E28: 101041854 | F28: PRODUIT 328 | G28: 636 | H28: 731 | I28: 0 | J28: 0 | K28: 0 | L28: 0 | M28: 96 | N28: 0 | O28: 0 | P28: 0 | Q28: 0 | R28: 0 | S28: 0 | T28: 1
A29: {=_xlfn._xlws.FILTER(t_stock[],t_stock[Code Article Laboratoire]=BCom!A41)} -> Amiens | B29: 0 | C29: Disponible | D29: 35410000133 | E29: 008.0139 | F29: PRODUIT 23 | G29: 537 | H29: 793 | I29: 0 | J29: 0 | K29: 0 | L29: 68 | M29: 270 | N29: 0 | O29: 0 | P29: 0 | Q29: 0 | R29: 14 | S29: 68 | T29: 0
A30: {=_xlfn._xlws.FILTER(t_stock[],t_stock[Code Article Laboratoire]=BCom!A42)} -> Amiens | B30: 0 | C30: Disponible | D30: 35410000125 | E30: 008.0124 | F30: PRODUIT 22 | G30: 1719 | H30: 1865 | I30: 0 | J30: 0 | K30: 0 | L30: 0 | M30: 146 | N30: 0 | O30: 0 | P30: 0 | Q30: 0 | R30: 0 | S30: 0 | T30: 0
A31: {=_xlfn._xlws.FILTER(t_stock[],t_stock[Code Article Laboratoire]=BCom!A43)} -> Amiens | B31: 0 | C31: Disponible | D31: 35410000174 | E31: 008.0188 | F31: PRODUIT 24 | G31: 856 | H31: 924 | I31: 0 | J31: 0 | K31: 0 | L31: 4 | M31: 75 | N31: 0 | O31: 0 | P31: 0 | Q31: 0 | R31: 7 | S31: 4 | T31: 0
A32: {=_xlfn._xlws.FILTER(t_stock[],t_stock[Code Article Laboratoire]=BCom!A44)} -> Amiens | B32: 0 | C32: Disponible | D32: 35410000513 | E32: 008.0403 | F32: PRODUIT 42 | G32: 625 | H32: 1154 | I32: 0 | J32: 0 | K32: 0 | L32: 30 | M32: 561 | N32: 0 | O32: 0 | P32: 0 | Q32: 0 | R32: 33 | S32: 31 | T32: 0
A33: {=_xlfn._xlws.FILTER(t_stock[],t_stock[Code Article Laboratoire]=BCom!A45)} -> Amiens | B33: 0 | C33: Disponible | D33: 35410005892 | E33: 008.0410 | F33: PRODUIT 43 | G33: 6 | H33: 72 | I33: 0 | J33: 0 | K33: 0 | L33: 0 | M33: 86 | N33: 0 | O33: 0 | P33: 0 | Q33: 0 | R33: 20 | S33: 0 | T33: 0
A34: {=_xlfn._xlws.FILTER(t_stock[],t_stock[Code Article Laboratoire]=BCom!A46)} -> Amiens | B34: 0 | C34: Disponible | D34: 35410003640 | E34: 800.0796 | F34: PRODUIT 464 | G34: 6 | H34: 15 | I34: 0 | J34: 0 | K34: 0 | L34: 0 | M34: 9 | N34: 0 | O34: 0 | P34: 0 | Q34: 0 | R34: 0 | S34: 0 | T34: 0
A35: {=_xlfn._xlws.FILTER(t_stock[],t_stock[Code Article Laboratoire]=BCom!A47)} -> Amiens | B35: 0 | C35: Disponible | D35: 35410002915 | E35: 200.1659 | F35: PRODUIT 408 | G35: 206 | H35: 548 | I35: 0 | J35: 0 | K35: 0 | L35: 3 | M35: 355 | N35: 0 | O35: 0 | P35: 0 | Q35: 0 | R35: 13 | S35: 3 | T35: 0
A36: {=_xlfn._xlws.FILTER(t_stock[],t_stock[Code Article Laboratoire]=BCom!A48)} -> Amiens | B36: 0 | C36: Disponible | D36: 35410002774 | E36: 200.0597 | F36: PRODUIT 388 | G36: 152 | H36: 219 | I36: 0 | J36: 0 | K36: 0 | L36: 0 | M36: 67 | N36: 0 | O36: 0 | P36: 0 | Q36: 0 | R36: 0 | S36: 0 | T36: 0
A37: {=_xlfn._xlws.FILTER(t_stock[],t_stock[Code Article Laboratoire]=BCom!A49)} -> Amiens | B37: 0 | C37: Disponible | D37: 35410002907 | E37: 200.1658 | F37: PRODUIT 407 | G37: 142 | H37: 156 | I37: 0 | J37: 0 | K37: 0 | L37: 0 | M37: 14 | N37: 0 | O37: 0 | P37: 0 | Q37: 0 | R37: 0 | S37: 0 | T37: 0
... A39: {=_xlfn._xlws.FILTER(t_stock[],t_stock[Code Article Laboratoire]=BCom!A51)} -> Amiens | B39: 0 | C39: Disponible | D39: 35410002790 | E39: 200.0603 | F39: PRODUIT 390 | G39: 84 | H39: 225 | I39: 0 | J39: 0 | K39: 0 | L39: 0 | M39: 141 | N39: 0 | O39: 0 | P39: 0 | Q39: 0 | R39: 0 | S39: 0 | T39: 0
A40: {=_xlfn._xlws.FILTER(t_stock[],t_stock[Code Article Laboratoire]=BCom!A52)} -> #VALUE!
A41: {=_xlfn._xlws.FILTER(t_stock[],t_stock[Code Article Laboratoire]=BCom!A53)} -> Amiens | B41: 52 | C41: Retour Attente Destruction | D41: 35410000083 | E41: 008.0040 | F41: PRODUIT 19 | G41: 3 | H41: 3 | I41: 0 | J41: 0 | K41: 0 | L41: 0 | M41: 0 | N41: 0 | O41: 0 | P41: 0 | Q41: 0 | R41: 0 | S41: 0 | T41: 0
A42: {=_xlfn._xlws.FILTER(t_stock[],t_stock[Code Article Laboratoire]=BCom!A54)} -> Amiens | B42: 0 | C42: Disponible | D42: 35410002808 | E42: 200.0625 | F42: PRODUIT 391 | G42: 264 | H42: 282 | I42: 0 | J42: 0 | K42: 0 | L42: 0 | M42: 18 | N42: 0 | O42: 0 | P42: 0 | Q42: 0 | R42: 0 | S42: 0 | T42: 0
A43: {=_xlfn._xlws.FILTER(t_stock[],t_stock[Code Article Laboratoire]=BCom!A55)} -> Amiens | B43: 0 | C43: Disponible | D43: 35410002972 | E43: 200.1756 | F43: PRODUIT 413 | G43: 10 | H43: 0 | I43: 0 | J43: 0 | K43: 0 | L43: 0 | M43: 0 | N43: 0 | O43: 0 | P43: 0 | Q43: 0 | R43: 10 | S43: 0 | T43: 0
A44: {=_xlfn._xlws.FILTER(t_stock[],t_stock[Code Article Laboratoire]=BCom!A56)} -> Amiens | B44: 0 | C44: Disponible | D44: 35410006338 | E44: 101041336 | F44: PRODUIT 323 | G44: 5781 | H44: 7166 | I44: 0 | J44: 0 | K44: 0 | L44: 95 | M44: 1473 | N44: 0 | O44: 0 | P44: 0 | Q44: 0 | R44: 91 | S44: 99 | T44: 1
A45: {=_xlfn._xlws.FILTER(t_stock[],t_stock[Code Article Laboratoire]=BCom!A57)} -> Amiens | B45: 0 | C45: Disponible | D45: 35410000109 | E45: 008.0058 | F45: PRODUIT 21 | G45: 2179 | H45: 2637 | I45: 0 | J45: 0 | K45: 0 | L45: 138 | M45: 592 | N45: 0 | O45: 0 | P45: 0 | Q45: 0 | R45: 134 | S45: 138 | T45: 0
A46: {=_xlfn._xlws.FILTER(t_stock[],t_stock[Code Article Laboratoire]=BCom!A58)} -> Amiens | B46: 0 | C46: Disponible | D46: 35410000372 | E46: 008.0306 | F46: PRODUIT 32 | G46: 651 | H46: 840 | I46: 0 | J46: 0 | K46: 0 | L46: 0 | M46: 189 | N46: 0 | O46: 0 | P46: 0 | Q46: 0 | R46: 0 | S46: 0 | T46: 0
A47: {=_xlfn._xlws.FILTER(t_stock[],t_stock[Code Article Laboratoire]=BCom!A59)} -> #VALUE!
A48: {=_xlfn._xlws.FILTER(t_stock[],t_stock[Code Article Laboratoire]=BCom!A60)} -> #VALUE!
A49: {=_xlfn._xlws.FILTER(t_stock[],t_stock[Code Article Laboratoire]=BCom!A61)} -> Amiens | B49: 0 | C49: Disponible | D49: 35410004986 | E49: 101037043 | F49: PRODUIT 283 | G49: 10 | H49: 4 | I49: 0 | J49: 0 | K49: 0 | L49: 7 | M49: 24 | N49: 0 | O49: 0 | P49: 0 | Q49: 0 | R49: 30 | S49: 7 | T49: 0
A50: {=_xlfn._xlws.FILTER(t_stock[],t_stock[Code Article Laboratoire]=BCom!A62)} -> #VALUE!
A51: {=_xlfn._xlws.FILTER(t_stock[],t_stock[Code Article Laboratoire]=BCom!A63)} -> Amiens | B51: 0 | C51: Disponible | D51: 35410000224 | E51: 008.0239 | F51: PRODUIT 26 | G51: 1986 | H51: 2297 | I51: 0 | J51: 0 | K51: 0 | L51: 0 | M51: 316 | N51: 0 | O51: 0 | P51: 0 | Q51: 0 | R51: 5 | S51: 0 | T51: 0
A52: {=_xlfn._xlws.FILTER(t_stock[],t_stock[Code Article Laboratoire]=BCom!A64)} -> #VALUE!
A53: {=_xlfn._xlws.FILTER(t_stock[],t_stock[Code Article Laboratoire]=BCom!A65)} -> Amiens | B53: 0 | C53: Disponible | D53: 35410000208 | E53: 008.0230 | F53: PRODUIT 25 | G53: 966 | H53: 1009 | I53: 0 | J53: 0 | K53: 0 | L53: 0 | M53: 43 | N53: 0 | O53: 0 | P53: 0 | Q53: 0 | R53: 0 | S53: 0 | T53: 0
A54: {=_xlfn._xlws.FILTER(t_stock[],t_stock[Code Article Laboratoire]=BCom!A66)} -> Amiens | B54: 0 | C54: Disponible | D54: 35410002881 | E54: 200.1625 | F54: PRODUIT 405 | G54: 8 | H54: 751 | I54: 0 | J54: 0 | K54: 0 | L54: 4 | M54: 777 | N54: 0 | O54: 0 | P54: 0 | Q54: 0 | R54: 34 | S54: 4 | T54: 0
A55: {=_xlfn._xlws.FILTER(t_stock[],t_stock[Code Article Laboratoire]=BCom!A67)} -> Amiens | B55: 0 | C55: Disponible | D55: 35410002873 | E55: 200.1593 | F55: PRODUIT 404 | G55: 1277 | H55: 3474 | I55: 0 | J55: 0 | K55: 0 | L55: 44 | M55: 2728 | N55: 0 | O55: 0 | P55: 0 | Q55: 0 | R55: 56 | S55: 44 | T55: 475
A56: {=_xlfn._xlws.FILTER(t_stock[],t_stock[Code Article Laboratoire]=BCom!A68)} -> Amiens | B56: 0 | C56: Disponible | D56: 35410002899 | E56: 200.1630 | F56: PRODUIT 406 | G56: 1081 | H56: 2162 | I56: 0 | J56: 0 | K56: 0 | L56: 11 | M56: 1086 | N56: 0 | O56: 0 | P56: 0 | Q56: 0 | R56: 6 | S56: 12 | T56: 0
A57: {=_xlfn._xlws.FILTER(t_stock[],t_stock[Code Article Laboratoire]=BCom!A69)} -> Amiens | B57: 0 | C57: Disponible | D57: 35410000521 | E57: 009.0005 | F57: PRODUIT 68 | G57: 83 | H57: 216 | I57: 0 | J57: 0 | K57: 0 | L57: 117 | M57: 250 | N57: 0 | O57: 0 | P57: 0 | Q57: 0 | R57: 117 | S57: 117 | T57: 0
A58: {=_xlfn._xlws.FILTER(t_stock[],t_stock[Code Article Laboratoire]=BCom!A70)} -> Amiens | B58: 0 | C58: Disponible | D58: 35410003293 | E58: 800.0399 | F58: PRODUIT 437 | G58: 597 | H58: 671 | I58: 0 | J58: 0 | K58: 0 | L58: 0 | M58: 74 | N58: 0 | O58: 0 | P58: 0 | Q58: 0 | R58: 0 | S58: 0 | T58: 0
A59: {=_xlfn._xlws.FILTER(t_stock[],t_stock[Code Article Laboratoire]=BCom!A71)} -> #VALUE!
A60: {=_xlfn._xlws.FILTER(t_stock[],t_stock[Code Article Laboratoire]=BCom!A72)} -> Amiens | B60: 0 | C60: Disponible | D60: 35410003301 | E60: 800.0452 | F60: PRODUIT 438 | G60: 37 | H60: 41 | I60: 0 | J60: 0 | K60: 0 | L60: 0 | M60: 4 | N60: 0 | O60: 0 | P60: 0 | Q60: 0 | R60: 0 | S60: 0 | T60: 0
A61: {=_xlfn._xlws.FILTER(t_stock[],t_stock[Code Article Laboratoire]=BCom!A73)} -> Amiens | B61: 0 | C61: Disponible | D61: 35410000075 | E61: 008.0027 | F61: PRODUIT 18 | G61: 136 | H61: 136 | I61: 0 | J61: 0 | K61: 0 | L61: 0 | M61: 0 | N61: 0 | O61: 0 | P61: 0 | Q61: 0 | R61: 0 | S61: 0 | T61: 0
A62: {=_xlfn._xlws.FILTER(t_stock[],t_stock[Code Article Laboratoire]=BCom!A74)} -> Amiens | B62: 0 | C62: Disponible | D62: 35410003319 | E62: 800.0507 | F62: PRODUIT 439 | G62: 70 | H62: 78 | I62: 0 | J62: 0 | K62: 0 | L62: 0 | M62: 8 | N62: 0 | O62: 0 | P62: 0 | Q62: 0 | R62: 0 | S62: 0 | T62: 0
A63: {=_xlfn._xlws.FILTER(t_stock[],t_stock[Code Article Laboratoire]=BCom!A75)} -> Amiens | B63: 0 | C63: Disponible | D63: 35410006049 | E63: 101038763 | F63: PRODUIT 289 | G63: 704 | H63: 711 | I63: 0 | J63: 0 | K63: 0 | L63: 0 | M63: 7 | N63: 0 | O63: 0 | P63: 0 | Q63: 0 | R63: 0 | S63: 0 | T63: 0
A64: {=_xlfn._xlws.FILTER(t_stock[],t_stock[Code Article Laboratoire]=BCom!A76)} -> Amiens | B64: 0 | C64: Disponible | D64: 35410006031 | E64: 101038767 | F64: PRODUIT 290 | G64: 1476 | H64: 1804 | I64: 0 | J64: 0 | K64: 0 | L64: 0 | M64: 328 | N64: 0 | O64: 0 | P64: 0 | Q64: 0 | R64: 0 | S64: 0 | T64: 0
A65: {=_xlfn._xlws.FILTER(t_stock[],t_stock[Code Article Laboratoire]=BCom!A77)} -> Amiens | B65: 0 | C65: Disponible | D65: 35410006064 | E65: 101038769 | F65: PRODUIT 291 | G65: 2428 | H65: 2631 | I65: 0 | J65: 0 | K65: 0 | L65: 24 | M65: 203 | N65: 0 | O65: 0 | P65: 0 | Q65: 0 | R65: 0 | S65: 24 | T65: 0
A66: {=_xlfn._xlws.FILTER(t_stock[],t_stock[Code Article Laboratoire]=BCom!A78)} -> Amiens | B66: 0 | C66: Disponible | D66: 35410005876 | E66: 101038770 | F66: PRODUIT 292 | G66: 92 | H66: 142 | I66: 0 | J66: 0 | K66: 0 | L66: 0 | M66: 52 | N66: 0 | O66: 0 | P66: 0 | Q66: 0 | R66: 2 | S66: 0 | T66: 0
A67: {=_xlfn._xlws.FILTER(t_stock[],t_stock[Code Article Laboratoire]=BCom!A79)} -> Amiens | B67: 0 | C67: Disponible | D67: 35410005793 | E67: 101038771 | F67: PRODUIT 293 | G67: 4 | H67: 4 | I67: 0 | J67: 0 | K67: 0 | L67: 0 | M67: 0 | N67: 0 | O67: 0 | P67: 0 | Q67: 0 | R67: 0 | S67: 0 | T67: 0
A68: {=_xlfn._xlws.FILTER(t_stock[],t_stock[Code Article Laboratoire]=BCom!A80)} -> Amiens | B68: 0 | C68: Disponible | D68: 35410005868 | E68: 101038773 | F68: PRODUIT 294 | G68: 2 | H68: 2 | I68: 0 | J68: 0 | K68: 0 | L68: 0 | M68: 0 | N68: 0 | O68: 0 | P68: 0 | Q68: 0 | R68: 0 | S68: 0 | T68: 0
A69: {=_xlfn._xlws.FILTER(t_stock[],t_stock[Code Article Laboratoire]=BCom!A81)} -> Amiens | B69: 0 | C69: Disponible | D69: 35410006395 | E69: 101038822 | F69: PRODUIT 303 | G69: 1106 | H69: 1116 | I69: 0 | J69: 0 | K69: 0 | L69: 0 | M69: 10 | N69: 0 | O69: 0 | P69: 0 | Q69: 0 | R69: 0 | S69: 0 | T69: 0
A70: {=_xlfn._xlws.FILTER(t_stock[],t_stock[Code Article Laboratoire]=BCom!A82)} -> Amiens | B70: 0 | C70: Disponible | D70: 35410006015 | E70: 101038823 | F70: PRODUIT 304 | G70: 1641 | H70: 1434 | I70: 0 | J70: 0 | K70: 0 | L70: 0 | M70: 9 | N70: 0 | O70: 0 | P70: 0 | Q70: 0 | R70: 216 | S70: 0 | T70: 0
A71: {=_xlfn._xlws.FILTER(t_stock[],t_stock[Code Article Laboratoire]=BCom!A83)} -> Amiens | B71: 0 | C71: Disponible | D71: 35410006312 | E71: 101038824 | F71: PRODUIT 305 | G71: 27 | H71: 96 | I71: 0 | J71: 0 | K71: 0 | L71: 25 | M71: 97 | N71: 0 | O71: 0 | P71: 0 | Q71: 0 | R71: 25 | S71: 25 | T71: 3
... A76: {=_xlfn._xlws.FILTER(t_stock[],t_stock[Code Article Laboratoire]=BCom!A88)} -> Amiens | B76: 0 | C76: Disponible | D76: 35410006122 | E76: 101038829 | F76: PRODUIT 310 | G76: 18 | H76: 22 | I76: 0 | J76: 0 | K76: 0 | L76: 1 | M76: 5 | N76: 0 | O76: 0 | P76: 0 | Q76: 0 | R76: 1 | S76: 1 | T76: 0
A77: {=_xlfn._xlws.FILTER(t_stock[],t_stock[Code Article Laboratoire]=BCom!A89)} -> #VALUE!
A78: {=_xlfn._xlws.FILTER(t_stock[],t_stock[Code Article Laboratoire]=BCom!A90)} -> Amiens | B78: 0 | C78: Disponible | D78: 35410006411 | E78: 101038886 | F78: PRODUIT 312 | G78: 1407 | H78: 1413 | I78: 0 | J78: 0 | K78: 0 | L78: 0 | M78: 7 | N78: 0 | O78: 0 | P78: 0 | Q78: 0 | R78: 1 | S78: 0 | T78: 0
A79: {=_xlfn._xlws.FILTER(t_stock[],t_stock[Code Article Laboratoire]=BCom!A91)} -> Amiens | B79: 0 | C79: Disponible | D79: 35410005983 | E79: 101038887 | F79: PRODUIT 313 | G79: 579 | H79: 584 | I79: 0 | J79: 0 | K79: 0 | L79: 0 | M79: 5 | N79: 0 | O79: 0 | P79: 0 | Q79: 0 | R79: 0 | S79: 0 | T79: 0
A80: {=_xlfn._xlws.FILTER(t_stock[],t_stock[Code Article Laboratoire]=BCom!A92)} -> Amiens | B80: 0 | C80: Disponible | D80: 35410006429 | E80: 101038888 | F80: PRODUIT 314 | G80: 1646 | H80: 1732 | I80: 0 | J80: 0 | K80: 0 | L80: 1 | M80: 93 | N80: 0 | O80: 0 | P80: 0 | Q80: 0 | R80: 7 | S80: 1 | T80: 0
A81: {=_xlfn._xlws.FILTER(t_stock[],t_stock[Code Article Laboratoire]=BCom!A93)} -> Amiens | B81: 0 | C81: Disponible | D81: 35410005843 | E81: 101038889 | F81: PRODUIT 315 | G81: 139 | H81: 146 | I81: 0 | J81: 0 | K81: 0 | L81: 0 | M81: 7 | N81: 0 | O81: 0 | P81: 0 | Q81: 0 | R81: 0 | S81: 0 | T81: 0
A82: {=_xlfn._xlws.FILTER(t_stock[],t_stock[Code Article Laboratoire]=BCom!A94)} -> Amiens | B82: 0 | C82: Disponible | D82: 35410005769 | E82: 101038890 | F82: PRODUIT 316 | G82: 2496 | H82: 2554 | I82: 0 | J82: 0 | K82: 0 | L82: 0 | M82: 58 | N82: 0 | O82: 0 | P82: 0 | Q82: 0 | R82: 0 | S82: 0 | T82: 0
A83: {=_xlfn._xlws.FILTER(t_stock[],t_stock[Code Article Laboratoire]=BCom!A95)} -> Amiens | B83: 0 | C83: Disponible | D83: 35410006437 | E83: 101038794 | F83: PRODUIT 295 | G83: 153 | H83: 153 | I83: 0 | J83: 0 | K83: 0 | L83: 0 | M83: 0 | N83: 0 | O83: 0 | P83: 0 | Q83: 0 | R83: 0 | S83: 0 | T83: 0
A84: {=_xlfn._xlws.FILTER(t_stock[],t_stock[Code Article Laboratoire]=BCom!A96)} -> Amiens | B84: 0 | C84: Disponible | D84: 35410006007 | E84: 101038795 | F84: PRODUIT 296 | G84: 119 | H84: 121 | I84: 0 | J84: 0 | K84: 0 | L84: 0 | M84: 2 | N84: 0 | O84: 0 | P84: 0 | Q84: 0 | R84: 0 | S84: 0 | T84: 0
A85: {=_xlfn._xlws.FILTER(t_stock[],t_stock[Code Article Laboratoire]=BCom!A97)} -> Amiens | B85: 0 | C85: Disponible | D85: 35410006445 | E85: 101038796 | F85: PRODUIT 297 | G85: 77 | H85: 80 | I85: 0 | J85: 0 | K85: 0 | L85: 0 | M85: 3 | N85: 0 | O85: 0 | P85: 0 | Q85: 0 | R85: 0 | S85: 0 | T85: 0
A86: {=_xlfn._xlws.FILTER(t_stock[],t_stock[Code Article Laboratoire]=BCom!A98)} -> Amiens | B86: 0 | C86: Disponible | D86: 35410006452 | E86: 101038797 | F86: PRODUIT 298 | G86: 84 | H86: 98 | I86: 0 | J86: 0 | K86: 0 | L86: 6 | M86: 20 | N86: 0 | O86: 0 | P86: 0 | Q86: 0 | R86: 6 | S86: 6 | T86: 0
A87: {=_xlfn._xlws.FILTER(t_stock[],t_stock[Code Article Laboratoire]=BCom!A99)} -> Amiens | B87: 0 | C87: Disponible | D87: 35410005967 | E87: 101038798 | F87: PRODUIT 299 | G87: 105 | H87: 107 | I87: 0 | J87: 0 | K87: 0 | L87: 0 | M87: 2 | N87: 0 | O87: 0 | P87: 0 | Q87: 0 | R87: 0 | S87: 0 | T87: 0
A88: {=_xlfn._xlws.FILTER(t_stock[],t_stock[Code Article Laboratoire]=BCom!A100)} -> Amiens | B88: 0 | C88: Disponible | D88: 35410005975 | E88: 101038799 | F88: PRODUIT 300 | G88: 140 | H88: 149 | I88: 0 | J88: 0 | K88: 0 | L88: 0 | M88: 9 | N88: 0 | O88: 0 | P88: 0 | Q88: 0 | R88: 0 | S88: 0 | T88: 0
A89: {=_xlfn._xlws.FILTER(t_stock[],t_stock[Code Article Laboratoire]=BCom!A101)} -> Amiens | B89: 0 | C89: Disponible | D89: 35410005819 | E89: 101038800 | F89: PRODUIT 301 | G89: 110 | H89: 110 | I89: 0 | J89: 0 | K89: 0 | L89: 1 | M89: 7 | N89: 0 | O89: 0 | P89: 0 | Q89: 0 | R89: 7 | S89: 1 | T89: 0
A90: {=_xlfn._xlws.FILTER(t_stock[],t_stock[Code Article Laboratoire]=BCom!A102)} -> Amiens | B90: 0 | C90: Disponible | D90: 35410006460 | E90: 101038801 | F90: PRODUIT 302 | G90: 135 | H90: 136 | I90: 0 | J90: 0 | K90: 0 | L90: 0 | M90: 1 | N90: 0 | O90: 0 | P90: 0 | Q90: 0 | R90: 0 | S90: 0 | T90: 0
A91: {=_xlfn._xlws.FILTER(t_stock[],t_stock[Code Article Laboratoire]=BCom!A103)} -> #VALUE!
A92: {=_xlfn._xlws.FILTER(t_stock[],t_stock[Code Article Laboratoire]=BCom!A104)} -> #VALUE!
A93: {=_xlfn._xlws.FILTER(t_stock[],t_stock[Code Article Laboratoire]=BCom!A105)} -> #VALUE!
A94: {=_xlfn._xlws.FILTER(t_stock[],t_stock[Code Article Laboratoire]=BCom!A106)} -> #VALUE!
A95: {=_xlfn._xlws.FILTER(t_stock[],t_stock[Code Article Laboratoire]=BCom!A107)} -> #VALUE!
A96: {=_xlfn._xlws.FILTER(t_stock[],t_stock[Code Article Laboratoire]=BCom!A108)} -> #VALUE!
A97: {=_xlfn._xlws.FILTER(t_stock[],t_stock[Code Article Laboratoire]=BCom!A109)} -> #VALUE!
A98: {=_xlfn._xlws.FILTER(t_stock[],t_stock[Code Article Laboratoire]=BCom!A110)} -> #VALUE!
A99: {=_xlfn._xlws.FILTER(t_stock[],t_stock[Code Article Laboratoire]=BCom!A111)} -> #VALUE!
A100: {=_xlfn._xlws.FILTER(t_stock[],t_stock[Code Article Laboratoire]=BCom!A112)} -> #VALUE!
A101: {=_xlfn._xlws.FILTER(t_stock[],t_stock[Code Article Laboratoire]=BCom!A113)} -> #VALUE!
A102: {=_xlfn._xlws.FILTER(t_stock[],t_stock[Code Article Laboratoire]=BCom!A114)} -> #VALUE!
... A424: {=_xlfn._xlws.FILTER(t_stock[],t_stock[Code Article Laboratoire]=BCom!A436)} -> #VALUE!

Sheet Stock
A1: Site | B1: Code Mag | C1: Magasin | D1: Code Article Stock | E1: Code Article Laboratoire | F1: Désignation Article | G1: Nouveau Stock | H1: Stock Début | I1: Entrées Fournisseurs (62) | J1: Colonne1 | K1: Entrées Diverses (63) | L1: Entrées Retours Clients (12) | M1: Sorties Ventes (10) | N1: Sorties Spécifiques (65) | O1: Sorties Avaries (67) | P1: Sorties Gratuits (68) | Q1: Sorties Echanges (69) | R1: Entrées Transferts (64) | S1: Sorties Transferts (66) | T1: Ajustements de Stock (71)
A2: Amiens | B2: 0 | C2: Disponible | D2: 35410004309 | E2: 000.0719 | F2: PRODUIT 1 | G2: 16 | H2: 16 | I2: 0 | K2: 0 | L2: 0 | M2: 0 | N2: 0 | O2: 0 | P2: 0 | Q2: 0 | R2: 0 | S2: 0 | T2: 0
A3: Amiens | B3: 52 | C3: Retour Attente Destruction | D3: 35410000042 | E3: 000.0722 | F3: PRODUIT 2 | G3: 10 | H3: 10 | I3: 0 | K3: 0 | L3: 0 | M3: 0 | N3: 0 | O3: 0 | P3: 0 | Q3: 0 | R3: 0 | S3: 0 | T3: 0
A4: Amiens | B4: 52 | C4: Retour Attente Destruction | D4: 35410006643 | E4: 000.9000 | F4: PRODUIT 3 | G4: 1 | H4: 1 | I4: 0 | K4: 0 | L4: 0 | M4: 0 | N4: 0 | O4: 0 | P4: 0 | Q4: 0 | R4: 0 | S4: 0 | T4: 0
A5: Amiens | B5: 0 | C5: Disponible | D5: 35410007294 | E5: 001.111840 | F5: PRODUIT 4 | G5: 24 | H5: 24 | I5: 0 | K5: 0 | L5: 0 | M5: 0 | N5: 0 | O5: 0 | P5: 0 | Q5: 0 | R5: 0 | S5: 0 | T5: 0
A6: Amiens | B6: 0 | C6: Disponible | D6: 35410007252 | E6: 001.111844 | F6: PRODUIT 5 | G6: 20 | H6: 20 | I6: 0 | K6: 0 | L6: 0 | M6: 0 | N6: 0 | O6: 0 | P6: 0 | Q6: 0 | R6: 0 | S6: 0 | T6: 0
A7: Amiens | B7: 0 | C7: Disponible | D7: 35410007278 | E7: 001.111847 | F7: PRODUIT 6 | G7: 20 | H7: 20 | I7: 0 | K7: 0 | L7: 0 | M7: 0 | N7: 0 | O7: 0 | P7: 0 | Q7: 0 | R7: 0 | S7: 0 | T7: 0
A8: Amiens | B8: 0 | C8: Disponible | D8: 35410007286 | E8: 001.111875 | F8: PRODUIT 7 | G8: 16 | H8: 16 | I8: 0 | K8: 0 | L8: 0 | M8: 0 | N8: 0 | O8: 0 | P8: 0 | Q8: 0 | R8: 0 | S8: 0 | T8: 0
A9: Amiens | B9: 0 | C9: Disponible | D9: 35410007229 | E9: 001.112847 | F9: PRODUIT 8 | G9: 2 | H9: 2 | I9: 0 | K9: 0 | L9: 0 | M9: 0 | N9: 0 | O9: 0 | P9: 0 | Q9: 0 | R9: 0 | S9: 0 | T9: 0
A10: Amiens | B10: 0 | C10: Disponible | D10: 35410007237 | E10: 001.121429 | F10: PRODUIT 9 | G10: 24 | H10: 24 | I10: 0 | K10: 0 | L10: 0 | M10: 0 | N10: 0 | O10: 0 | P10: 0 | Q10: 0 | R10: 0 | S10: 0 | T10: 0
A11: Amiens | B11: 0 | C11: Disponible | D11: 35410007245 | E11: 001.121432 | F11: PRODUIT 10 | G11: 24 | H11: 24 | I11: 0 | K11: 0 | L11: 0 | M11: 0 | N11: 0 | O11: 0 | P11: 0 | Q11: 0 | R11: 0 | S11: 0 | T11: 0
A12: Amiens | B12: 0 | C12: Disponible | D12: 35410007260 | E12: 001.121433 | F12: PRODUIT 11 | G12: 20 | H12: 20 | I12: 0 | K12: 0 | L12: 0 | M12: 0 | N12: 0 | O12: 0 | P12: 0 | Q12: 0 | R12: 0 | S12: 0 | T12: 0
A13: Amiens | B13: 52 | C13: Retour Attente Destruction | D13: 35410005884 | E13: 005.2052 | F13: PRODUIT 12 | G13: 6 | H13: 6 | I13: 0 | K13: 0 | L13: 0 | M13: 0 | N13: 0 | O13: 0 | P13: 0 | Q13: 0 | R13: 0 | S13: 0 | T13: 0
... A504: Amiens | B504: 0 | C504: Disponible | D504: 35410007187 | E504: HMT.0082 | F504: PRODUIT 503 | G504: 3 | H504: 3 | I504: 0 | K504: 0 | L504: 0 | M504: 0 | N504: 0 | O504: 0 | P504: 0 | Q504: 0 | R504: 0 | S504: 0 | T504: 0
