Workbook

Sheet BCom
A1: BON DE COMMANDE PRIVILEGE 2022
A4: Date de commande
A7: Nom du Client
A10: Code Client
A13: Référence | B13: Classe DM | C13: Code EAN | D13: Code ACL | E13: Désignation | F13: Nbre d'unités/carton | G13: Prix unitaire HT | H13: Eco taxe HT | I13: Quantités | J13: Prix | K13: Unités gratuites | L13: Valorisation | M13: Stock
A14: 024.0101 | B14: =VLOOKUP(A14,[1]Distributeur!$E$4:$L$105,2,FALSE) -> IIa | C14: 444 | E14: Article 1 | F14: =VLOOKUP(A14,[1]Distributeur!$E$4:$L$105,6,FALSE) -> 1 | G14: 10 | J14: =I14*G14 -> 0 | L14: =K14*G14 -> 0 | M14: {=SUMPRODUCT((Stock!E$2:E$504=BCom!A14)*(Stock!C$2:C$504="Disponible")*(Stock!G$2:G$504))} -> 0
A15: 600.0973 | C15: 445 | E15: Article 2 | F15: 1 | G15: 10 | J15: =I15*G15 -> 0 | L15: =K15*G15 -> 0 | M15: {=SUMPRODUCT((Stock!E$2:E$504=BCom!A15)*(Stock!C$2:C$504="Disponible")*(Stock!G$2:G$504))} -> 778
A16: 000.0005 | C16: 446 | E16: Article 3 | F16: 1 | G16: 10 | J16: =I16*G16 -> 0 | L16: =K16*G16 -> 0 | M16: {=SUMPRODUCT((Stock!E$2:E$504=BCom!A16)*(Stock!C$2:C$504="Disponible")*(Stock!G$2:G$504))} -> 0
A17: 600.0387 | C17: 447 | E17: Article 4 | F17: =VLOOKUP(A17,[1]Distributeur!$E$4:$L$105,6,FALSE) -> 1 | G17: 10 | J17: =I17*G17 -> 0 | L17: =K17*G17 -> 0 | M17: {=SUMPRODUCT((Stock!E$2:E$504=BCom!A17)*(Stock!C$2:C$504="Disponible")*(Stock!G$2:G$504))} -> 15
A18: 074.0017 | B18: =VLOOKUP(A18,[1]Distributeur!$E$4:$L$105,2,FALSE) -> I | C18: 448 | E18: Article 5 | F18: =VLOOKUP(A18,[1]Distributeur!$E$4:$L$105,6,FALSE) -> 1 | G18: 10 | J18: =I18*G18 -> 0 | L18: =K18*G18 -> 0 | M18: {=SUMPRODUCT((Stock!E$2:E$504=BCom!A18)*(Stock!C$2:C$504="Disponible")*(Stock!G$2:G$504))} -> 3
A19: 099.0011 | C19: 449 | E19: Article 6 | F19: 1 | G19: 10 | J19: =I19*G19 -> 0 | L19: =K19*G19 -> 0 | M19: {=SUMPRODUCT((Stock!E$2:E$504=BCom!A19)*(Stock!C$2:C$504="Disponible")*(Stock!G$2:G$504))} -> 45
A20: 008.0423 | B20: =VLOOKUP(A20,[1]Distributeur!$E$4:$L$105,2,FALSE) -> IIa | C20: 450 | E20: Article 7 | F20: 10 | G20: 10 | J20: =I20*G20 -> 0 | L20: =K20*G20 -> 0 | M20: {=SUMPRODUCT((Stock!E$2:E$504=BCom!A20)*(Stock!C$2:C$504="Disponible")*(Stock!G$2:G$504))} -> 1
A21: 008.0424 | B21: =VLOOKUP(A21,[1]Distributeur!$E$4:$L$105,2,FALSE) -> IIa | C21: 451 | E21: Article 8 | F21: 10 | G21: 10 | J21: =I21*G21 -> 0 | L21: =K21*G21 -> 0 | M21: {=SUMPRODUCT((Stock!E$2:E$504=BCom!A21)*(Stock!C$2:C$504="Disponible")*(Stock!G$2:G$504))} -> 836
A22: 008.0429 | B22: =VLOOKUP(A22,[1]Distributeur!$E$4:$L$105,2,FALSE) -> IIa | C22: 452 | E22: Article 9 | F22: 10 | G22: 10 | J22: =I22*G22 -> 0 | L22: =K22*G22 -> 0 | M22: {=SUMPRODUCT((Stock!E$2:E$504=BCom!A22)*(Stock!C$2:C$504="Disponible")*(Stock!G$2:G$504))} -> 422
A23: 008.0430 | B23: =VLOOKUP(A23,[1]Distributeur!$E$4:$L$105,2,FALSE) -> IIa | C23: 453 | E23: Article 10 | F23: 5 | G23: 10 | J23: =I23*G23 -> 0 | L23: =K23*G23 -> 0 | M23: {=SUMPRODUCT((Stock!E$2:E$504=BCom!A23)*(Stock!C$2:C$504="Disponible")*(Stock!G$2:G$504))} -> 7
A24: 008.0431 | B24: =VLOOKUP(A24,[1]Distributeur!$E$4:$L$105,2,FALSE) -> IIa | C24: 454 | E24: Article 11 | F24: 5 | G24: 10 | J24: =I24*G24 -> 0 | L24: =K24*G24 -> 0 | M24: {=SUMPRODUCT((Stock!E$2:E$504=BCom!A24)*(Stock!C$2:C$504="Disponible")*(Stock!G$2:G$504))} -> 8022
A25: 008.0436 | B25: =VLOOKUP(A25,[1]Distributeur!$E$4:$L$105,2,FALSE) -> IIa | C25: 455 | E25: Article 12 | F25: 5 | G25: 10 | J25: =I25*G25 -> 0 | L25: =K25*G25 -> 0 | M25: {=SUMPRODUCT((Stock!E$2:E$504=BCom!A25)*(Stock!C$2:C$504="Disponible")*(Stock!G$2:G$504))} -> 10
A26: 008.0437 | B26: =VLOOKUP(A26,[1]Distributeur!$E$4:$L$105,2,FALSE) -> IIa | C26: 456 | E26: Article 13 | F26: =VLOOKUP(A26,[1]Distributeur!$E$4:$L$105,6,FALSE) -> 10 | G26: 10 | J26: =I26*G26 -> 0 | L26: =K26*G26 -> 0 | M26: {=SUMPRODUCT((Stock!E$2:E$504=BCom!A26)*(Stock!C$2:C$504="Disponible")*(Stock!G$2:G$504))} -> 987
A27: 008.0442 | B27: =VLOOKUP(A27,[1]Distributeur!$E$4:$L$105,2,FALSE) -> IIa | C27: 457 | E27: Article 14 | F27: =VLOOKUP(A27,[1]Distributeur!$E$4:$L$105,6,FALSE) -> 10 | G27: 10 | J27: =I27*G27 -> 0 | L27: =K27*G27 -> 0 | M27: {=SUMPRODUCT((Stock!E$2:E$504=BCom!A27)*(Stock!C$2:C$504="Disponible")*(Stock!G$2:G$504))} -> 429
A28: 008.0447 | B28: =VLOOKUP(A28,[1]Distributeur!$E$4:$L$105,2,FALSE) -> IIa | C28: 458 | E28: Article 15 | F28: =VLOOKUP(A28,[1]Distributeur!$E$4:$L$105,6,FALSE) -> 10 | G28: 10 | J28: =I28*G28 -> 0 | L28: =K28*G28 -> 0 | M28: {=SUMPRODUCT((Stock!E$2:E$504=BCom!A28)*(Stock!C$2:C$504="Disponible")*(Stock!G$2:G$504))} -> 719
A29: 008.0452 | B29: =VLOOKUP(A29,[1]Distributeur!$E$4:$L$105,2,FALSE) -> IIa | C29: 459 | E29: Article 16 | F29: =VLOOKUP(A29,[1]Distributeur!$E$4:$L$105,6,FALSE) -> 10 | G29: 10 | J29: =I29*G29 -> 0 | L29: =K29*G29 -> 0 | M29: {=SUMPRODUCT((Stock!E$2:E$504=BCom!A29)*(Stock!C$2:C$504="Disponible")*(Stock!G$2:G$504))} -> 673
A30: 008.0457 | B30: =VLOOKUP(A30,[1]Distributeur!$E$4:$L$105,2,FALSE) -> IIa | C30: 460 | E30: Article 17 | F30: =VLOOKUP(A30,[1]Distributeur!$E$4:$L$105,6,FALSE) -> 10 | G30: 10 | J30: =I30*G30 -> 0 | L30: =K30*G30 -> 0 | M30: {=SUMPRODUCT((Stock!E$2:E$504=BCom!A30)*(Stock!C$2:C$504="Disponible")*(Stock!G$2:G$504))} -> 160
A31: 101041154 | C31: 461 | E31: Article 18 | F31: 10 | G31: 10 | J31: =I31*G31 -> 0 | L31: =K31*G31 -> 0 | M31: {=SUMPRODUCT((Stock!E$2:E$504=BCom!A31)*(Stock!C$2:C$504="Disponible")*(Stock!G$2:G$504))} -> 1652
A32: 101033773 | C32: 462 | E32: Article 19 | F32: 4 | G32: 10 | H32: 0.08 | J32: =I32*G32 -> 0 | L32: =K32*G32 -> 0 | M32: {=SUMPRODUCT((Stock!E$2:E$504=BCom!A32)*(Stock!C$2:C$504="Disponible")*(Stock!G$2:G$504))} -> 119
A33: 101041610 | C33: 463 | E33: Article 20 | F33: 5 | G33: 10 | H33: 0.08 | J33: =I33*G33 -> 0 | L33: =K33*G33 -> 0 | M33: {=SUMPRODUCT((Stock!E$2:E$504=BCom!A33)*(Stock!C$2:C$504="Disponible")*(Stock!G$2:G$504))} -> 569
A34: 101033817 | C34: 464 | E34: Article 21 | F34: 4 | G34: 10 | H34: 0.08 | J34: =I34*G34 -> 0 | L34: =K34*G34 -> 0 | M34: {=SUMPRODUCT((Stock!E$2:E$504=BCom!A34)*(Stock!C$2:C$504="Disponible")*(Stock!G$2:G$504))} -> 26
A35: 101041611 | C35: 465 | E35: Article 22 | F35: 5 | G35: 10 | H35: 0.08 | J35: =I35*G35 -> 0 | L35: =K35*G35 -> 0 | M35: {=SUMPRODUCT((Stock!E$2:E$504=BCom!A35)*(Stock!C$2:C$504="Disponible")*(Stock!G$2:G$504))} -> 1067
A36: 101037976 | C36: 466 | E36: Article 23 | F36: =VLOOKUP(A36,[1]Distributeur!$E$4:$L$105,6,FALSE) -> 1 | G36: 10 | H36: 0.08 | J36: =I36*G36 -> 0 | L36: =K36*G36 -> 0 | M36: {=SUMPRODUCT((Stock!E$2:E$504=BCom!A36)*(Stock!C$2:C$504="Disponible")*(Stock!G$2:G$504))} -> 7
A37: 101041851 | C37: 467 | E37: Article 24 | F37: 10 | G37: 10 | J37: =I37*G37 -> 0 | L37: =K37*G37 -> 0 | M37: {=SUMPRODUCT((Stock!E$2:E$504=BCom!A37)*(Stock!C$2:C$504="Disponible")*(Stock!G$2:G$504))} -> 0
A38: 101041852 | C38: 468 | E38: Article 25 | F38: 10 | G38: 10 | J38: =I38*G38 -> 0 | L38: =K38*G38 -> 0 | M38: {=SUMPRODUCT((Stock!E$2:E$504=BCom!A38)*(Stock!C$2:C$504="Disponible")*(Stock!G$2:G$504))} -> 28
A39: 101041853 | C39: 469 | E39: Article 26 | F39: 10 | G39: 10 | J39: =I39*G39 -> 0 | L39: =K39*G39 -> 0 | M39: {=SUMPRODUCT((Stock!E$2:E$504=BCom!A39)*(Stock!C$2:C$504="Disponible")*(Stock!G$2:G$504))} -> 271
A40: 101041854 | C40: 470 | E40: Article 27 | F40: 10 | G40: 10 | J40: =I40*G40 -> 0 | L40: =K40*G40 -> 0 | M40: {=SUMPRODUCT((Stock!E$2:E$504=BCom!A40)*(Stock!C$2:C$504="Disponible")*(Stock!G$2:G$504))} -> 636
A41: 008.0139 | C41: 471 | D41: =VLOOKUP(A41,[1]Distributeur!$E$4:$L$105,4,FALSE) -> 9813992 | E41: Article 28 | F41: =VLOOKUP(A41,[1]Distributeur!$E$4:$L$105,6,FALSE) -> 10 | G41: 10 | J41: =I41*G41 -> 0 | L41: =K41*G41 -> 0 | M41: {=SUMPRODUCT((Stock!E$2:E$504=BCom!A41)*(Stock!C$2:C$504="Disponible")*(Stock!G$2:G$504))} -> 537
A42: 008.0124 | C42: 472 | D42: =VLOOKUP(A42,[1]Distributeur!$E$4:$L$105,4,FALSE) -> 9813986 | E42: Article 29 | F42: =VLOOKUP(A42,[1]Distributeur!$E$4:$L$105,6,FALSE) -> 10 | G42: 10 | J42: =I42*G42 -> 0 | L42: =K42*G42 -> 0 | M42: {=SUMPRODUCT((Stock!E$2:E$504=BCom!A42)*(Stock!C$2:C$504="Disponible")*(Stock!G$2:G$504))} -> 1719
A43: 008.0188 | C43: 473 | D43: =VLOOKUP(A43,[1]Distributeur!$E$4:$L$105,4,FALSE) -> 2103773 | E43: Article 30 | F43: =VLOOKUP(A43,[1]Distributeur!$E$4:$L$105,6,FALSE) -> 10 | G43: 10 | J43: =I43*G43 -> 0 | L43: =K43*G43 -> 0 | M43: {=SUMPRODUCT((Stock!E$2:E$504=BCom!A43)*(Stock!C$2:C$504="Disponible")*(Stock!G$2:G$504))} -> 856
A44: 008.0403 | C44: 474 | E44: Article 31 | F44: =VLOOKUP(A44,[1]Distributeur!$E$4:$L$105,6,FALSE) -> 14 | G44: 10 | J44: =I44*G44 -> 0 | L44: =K44*G44 -> 0 | M44: {=SUMPRODUCT((Stock!E$2:E$504=BCom!A44)*(Stock!C$2:C$504="Disponible")*(Stock!G$2:G$504))} -> 625
A45: 008.0410 | C45: 475 | E45: Article 32 | F45: =VLOOKUP(A45,[1]Distributeur!$E$4:$L$105,6,FALSE) -> 10 | G45: 10 | J45: =I45*G45 -> 0 | L45: =K45*G45 -> 0 | M45: {=SUMPRODUCT((Stock!E$2:E$504=BCom!A45)*(Stock!C$2:C$504="Disponible")*(Stock!G$2:G$504))} -> 6
A46: 800.0796 | C46: 476 | D46: =VLOOKUP(A46,[1]Distributeur!$E$4:$L$105,4,FALSE) -> 4450438 | E46: Article 33 | F46: =VLOOKUP(A46,[1]Distributeur!$E$4:$L$105,6,FALSE) -> 5 | G46: 10 | J46: =I46*G46 -> 0 | L46: =K46*G46 -> 0 | M46: {=SUMPRODUCT((Stock!E$2:E$504=BCom!A46)*(Stock!C$2:C$504="Disponible")*(Stock!G$2:G$504))} -> 6
A47: 200.1659 | C47: 477 | D47: =VLOOKUP(A47,[1]Distributeur!$E$4:$L$105,4,FALSE) -> 6235661 | E47: Article 34 | F47: =VLOOKUP(A47,[1]Distributeur!$E$4:$L$105,6,FALSE) -> 5 | G47: 10 | J47: =I47*G47 -> 0 | L47: =K47*G47 -> 0 | M47: {=SUMPRODUCT((Stock!E$2:E$504=BCom!A47)*(Stock!C$2:C$504="Disponible")*(Stock!G$2:G$504))} -> 206
A48: 200.0597 | C48: 478 | D48: =VLOOKUP(A48,[1]Distributeur!$E$4:$L$105,4,FALSE) -> 4822733 | E48: Article 35 | F48: =VLOOKUP(A48,[1]Distributeur!$E$4:$L$105,6,FALSE) -> 10 | G48: 10 | J48: =I48*G48 -> 0 | L48: =K48*G48 -> 0 | M48: {=SUMPRODUCT((Stock!E$2:E$504=BCom!A48)*(Stock!C$2:C$504="Disponible")*(Stock!G$2:G$504))} -> 152
...

Sheet Filtre
A1: Site | B1: Code Mag | C1: Magasin | D1: Code Article Stock | E1: Code Article Laboratoire | F1: Désignation Article | G1: Nouveau Stock | H1: Stock Début | I1: Entrées Fournisseurs (62) | J1: Colonne1 | K1: Entrées Diverses (63) | L1: Entrées Retours Clients (12) | M1: Sorties Ventes (10) | N1: Sorties Spécifiques (65) | O1: Sorties Avaries (67) | P1: Sorties Gratuits (68) | Q1: Sorties Echanges (69) | R1: Entrées Transferts (64) | S1: Sorties Transferts (66) | T1: Ajustements de Stock (71)
A2: {=_xlfn._xlws.FILTER(t_stock[],t_stock[Code Article Laboratoire]=BCom!A14)} -> Amiens | B2: 0 | C2: Disponible | D2: 35410000919 | E2: 024.0101 | F2: PRODUIT 87 | G2: 0 | H2: 238 | I2: 0 | J2: 0 | K2: 0 | L2: 1 | M2: 238 | N2: 0 | O2: 0 | P2: 0 | Q2: 0 | R2: 0 | S2: 1 | T2: 0
A3: {=_xlfn._xlws.FILTER(t_stock[],t_stock[Code Article Laboratoire]=BCom!A15)} -> Amiens | B3: 0 | C3: Disponible | D3: 35410004036 | E3: 600.0973 | F3: PRODUIT 435 | G3: 778 | H3: 960 | I3: 0 | J3: 0 | K3: 0 | L3: 3 | M3: 182 | N3: 0 | O3: 0 | P3: 0 | Q3: 0 | R3: 0 | S3: 3 | T3: 0
A4: {=_xlfn._xlws.FILTER(t_stock[],t_stock[Code Article Laboratoire]=BCom!A16)} -> #VALUE!
A5: {=_xlfn._xlws.FILTER(t_stock[],t_stock[Code Article Laboratoire]=BCom!A17)} -> Amiens | B5: 0 | C5: Disponible | D5: 35410003160 | E5: 600.0387 | F5: PRODUIT 427 | G5: 15 | H5: 26 | I5: 0 | J5: 0 | K5: 0 | L5: 0 | M5: 2 | N5: 9 | O5: 0 | P5: 0 | Q5: 0 | R5: 0 | S5: 0 | T5: 0
A6: {=_xlfn._xlws.FILTER(t_stock[],t_stock[Code Article Laboratoire]=BCom!A18)} -> Amiens | B6: 0 | C6: Disponible | D6: 35410001123 | E6: 074.0017 | F6: PRODUIT 101 | G6: 3 | H6: 4 | I6: 0 | J6: 0 | K6: 0 | L6: 0 | M6: 1 | N6: 0 | O6: 0 | P6: 0 | Q6: 0 | R6: 0 | S6: 0 | T6: 0
A7: {=_xlfn._xlws.FILTER(t_stock[],t_stock[Code Article Laboratoire]=BCom!A19)} -> Amiens | B7: 0 | C7: Disponible | D7: 35410002287 | E7: 099.0011 | F7: PRODUIT 223 | G7: 45 | H7: 69 | I7: 0 | J7: 0 | K7: 0 | L7: 0 | M7: 24 | N7: 0 | O7: 0 | P7: 0 | Q7: 0 | R7: 0 | S7: 0 | T7: 0
A8: {=_xlfn._xlws.FILTER(t_stock[],t_stock[Code Article Laboratoire]=BCom!A20)} -> Amiens | B8: 0 | C8: Disponible | D8: 35410005488 | E8: 008.0423 | F8: PRODUIT 45 | G8: 1 | H8: 122 | I8: 0 | J8: 0 | K8: 0 | L8: 1 | M8: 122 | N8: 0 | O8: 0 | P8: 0 | Q8: 0 | R8: 1 | S8: 1 | T8: 0
A9: {=_xlfn._xlws.FILTER(t_stock[],t_stock[Code Article Laboratoire]=BCom!A21)} -> Amiens | B9: 0 | C9: Disponible | D9: 35410005496 | E9: 008.0424 | F9: PRODUIT 46 | G9: 836 | H9: 913 | I9: 400 | J9: 0 | K9: 0 | L9: 1 | M9: 478 | N9: 0 | O9: 0 | P9: 0 | Q9: 0 | R9: 401 | S9: 401 | T9: 0
A10: {=_xlfn._xlws.FILTER(t_stock[],t_stock[Code Article Laboratoire]=BCom!A22)} -> Amiens | B10: 0 | C10: Disponible | D10: 35410005504 | E10: 008.0429 | F10: PRODUIT 47 | G10: 422 | H10: 531 | I10: 0 | J10: 0 | K10: 0 | L10: 4 | M10: 112 | N10: 0 | O10: 0 | P10: 0 | Q10: 0 | R10: 3 | S10: 4 | T10: 0
A11: {=_xlfn._xlws.FILTER(t_stock[],t_stock[Code Article Laboratoire]=BCom!A23)} -> Amiens | B11: 0 | C11: Disponible | D11: 35410005512 | E11: 008.0430 | F11: PRODUIT 48 | G11: 7 | H11: 313 | I11: 0 | J11: 0 | K11: 0 | L11: 7 | M11: 312 | N11: 0 | O11: 0 | P11: 0 | Q11: 0 | R11: 16 | S11: 17 | T11: 0
A12: {=_xlfn._xlws.FILTER(t_stock[],t_stock[Code Article Laboratoire]=BCom!A24)} -> Amiens | B12: 0 | C12: Disponible | D12: 35410005520 | E12: 008.0431 | F12: PRODUIT 49 | G12: 8022 | H12: 11747 | I12: 0 | J12: 0 | K12: 0 | L12: 57 | M12: 3746 | N12: 28 | O12: 0 | P12: 0 | Q12: 0 | R12: 49 | S12: 57 | T12: 0
A13: {=_xlfn._xlws.FILTER(t_stock[],t_stock[Code Article Laboratoire]=BCom!A25)} -> Amiens | B13: 0 | C13: Disponible | D13: 35410005538 | E13: 008.0436 | F13: PRODUIT 50 | G13: 10 | H13: 1040 | I13: 0 | J13: 0 | K13: 0 | L13: 15 | M13: 1040 | N13: 0 | O13: 0 | P13: 0 | Q13: 0 | R13: 10 | S13: 20 | T13: 5
A14: {=_xlfn._xlws.FILTER(t_stock[],t_stock[Code Article Laboratoire]=BCom!A26)} -> Amiens | B14: 0 | C14: Disponible | D14: 35410005546 | E14: 008.0437 | F14: PRODUIT 51 | G14: 987 | H14: 1139 | I14: 0 | J14: 0 | K14: 0 | L14: 1 | M14: 153 | N14: 0 | O14: 0 | P14: 0 | Q14: 0 | R14: 1 | S14: 1 | T14: 0
A15: {=_xlfn._xlws.FILTER(t_stock[],t_stock[Code Article Laboratoire]=BCom!A27)} -> Amiens | B15: 0 | C15: Disponible | D15: 35410005553 | E15: 008.0442 | F15: PRODUIT 52 | G15: 429 | H15: 447 | I15: 0 | J15: 0 | K15: 0 | L15: 0 | M15: 18 | N15: 0 | O15: 0 | P15: 0 | Q15: 0 | R15: 0 | S15: 0 | T15: 0
A16: {=_xlfn._xlws.FILTER(t_stock[],t_stock[Code Article Laboratoire]=BCom!A28)} -> Amiens | B16: 0 | C16: Disponible | D16: 35410005561 | E16: 008.0447 | F16: PRODUIT 53 | G16: 719 | H16: 382 | I16: 500 | J16: 0 | K16: 0 | L16: 12 | M16: 172 | N16: 0 | O16: 0 | P16: 0 | Q16: 0 | R16: 509 | S16: 512 | T16: 0
... A24: {=_xlfn._xlws.FILTER(t_stock[],t_stock[Code Article Laboratoire]=BCom!A36)} -> Amiens | B24: 0 | C24: Disponible | D24: 35410005744 | E24: 101037976 | F24: PRODUIT 287 | G24: 7 | H24: 111 | I24: 0 | J24: 0 | K24: 0 | L24: 3 | M24: 107 | N24: 0 | O24: 0 | P24: 0 | Q24: 0 | R24: 3 | S24: 3 | T24: 0
A25: {=_xlfn._xlws.FILTER(t_stock[],t_stock[Code Article Laboratoire]=BCom!A37)} -> #VALUE!
A26: {=_xlfn._xlws.FILTER(t_stock[],t_stock[Code Article Laboratoire]=BCom!A38)} -> Amiens | B26: 0 | C26: Disponible | D26: 35410006981 | E26: 101041852 | F26: PRODUIT 326 | G26: 28 | H26: 163 | I26: 0 | J26: 0 | K26: 0 | L26: 0 | M26: 135 | N26: 0 | O26: 0 | P26: 0 | Q26: 0 | R26: 0 | S26: 0 | T26: 0
A27: {=_xlfn._xlws.FILTER(t_stock[],t_stock[Code Article Laboratoire]=BCom!A39)} -> Amiens | B27: 0 | C27: Disponible | D27: 35410006908 | E27: 101041853 | F27: PRODUIT 327 | G27: 271 | H27: 323 | I27: 0 | J27: 0 | K27: 0 | L27: 4 | M27: 56 | N27: 0 | O27: 0 | P27: 0 | Q27: 0 | R27: 4 | S27: 4 | T27: 0
A28: {=_xlfn._xlws.FILTER(t_stock[],t_stock[Code Article Laboratoire]=BCom!A40)} -> Amiens | B28: 0 | C28: Disponible | D28: 35410006874 | E28: 101041854 | F28: PRODUIT 328 | G28: 636 | H28: 731 | I28: 0 | J28: 0 | K28: 0 | L28: 0 | M28: 96 | N28: 0 | O28: 0 | P28: 0 | Q28: 0 | R28: 0 | S28: 0 | T28: 1
A29: {=_xlfn._xlws.FILTER(t_stock[],t_stock[Code Article Laboratoire]=BCom!A41)} -> Amiens | B29: 0 | C29: Disponible | D29: 35410000133 | E29: 008.0139 | F29: PRODUIT 23 | G29: 537 | H29: 793 | I29: 0 | J29: 0 | K29: 0 | L29: 68 | M29: 270 | N29: 0 | O29: 0 | P29: 0 | Q29: 0 | R29: 14 | S29: 68 | T29: 0
A30: {=_xlfn._xlws.FILTER(t_stock[],t_stock[Code Article Laboratoire]=BCom!A42)} -> Amiens | B30: 0 | C30: Disponible | D30: 35410000125 | E30: 008.0124 | F30: PRODUIT 22 | G30: 1719 | H30: 1865 | I30: 0 | J30: 0 | K30: 0 | L30: 0 | M30: 146 | N30: 0 | O30: 0 | P30: 0 | Q30: 0 | R30: 0 | S30: 0 | T30: 0
A31: {=_xlfn._xlws.FILTER(t_stock[],t_stock[Code Article Laboratoire]=BCom!A43)} -> Amiens | B31: 0 | C31: Disponible | D31: 35410000174 | E31: 008.0188 | F31: PRODUIT 24 | G31: 856 | H31: 924 | I31: 0 | J31: 0 | K31: 0 | L31: 4 | M31: 75 | N31: 0 | O31: 0 | P31: 0 | Q31: 0 | R31: 7 | S31: 4 | T31: 0
A32: {=_xlfn._xlws.FILTER(t_stock[],t_stock[Code Article Laboratoire]=BCom!A44)} -> Amiens | B32: 0 | C32: Disponible | D32: 35410000513 | E32: 008.0403 | F32: PRODUIT 42 | G32: 625 | H32: 1154 | I32: 0 | J32: 0 | K32: 0 | L32: 30 | M32: 561 | N32: 0 | O32: 0 | P32: 0 | Q32: 0 | R32: 33 | S32: 31 | T32: 0
A33: {=_xlfn._xlws.FILTER(t_stock[],t_stock[Code Article Laboratoire]=BCom!A45)} -> Amiens | B33: 0 | C33: Disponible | D33: 35410005892 | E33: 008.0410 | F33: PRODUIT 43 | G33: 6 | H33: 72 | I33: 0 | J33: 0 | K33: 0 | L33: 0 | M33: 86 | N33: 0 | O33: 0 | P33: 0 | Q33: 0 | R33: 20 | S33: 0 | T33: 0
A34: {=_xlfn._xlws.FILTER(t_stock[],t_stock[Code Article Laboratoire]=BCom!A46)} -> Amiens | B34: 0 | C34: Disponible | D34: 35410003640 | E34: 800.0796 | F34: PRODUIT 464 | G34: 6 | H34: 15 | I34: 0 | J34: 0 | K34: 0 | L34: 0 | M34: 9 | N34: 0 | O34: 0 | P34: 0 | Q34: 0 | R34: 0 | S34: 0 | T34: 0
A35: {=_xlfn._xlws.FILTER(t_stock[],t_stock[Code Article Laboratoire]=BCom!A47)} -> Amiens | B35: 0 | C35: Disponible | D35: 35410002915 | E35: 200.1659 | F35: PRODUIT 408 | G35: 206 | H35: 548 | I35: 0 | J35: 0 | K35: 0 | L35: 3 | M35: 355 | N35: 0 | O35: 0 | P35: 0 | Q35: 0 | R35: 13 | S35: 3 | T35: 0
A36: {=_xlfn._xlws.FILTER(t_stock[],t_stock[Code Article Laboratoire]=BCom!A48)} -> Amiens | B36: 0 | C36: Disponible | D36: 35410002774 | E36: 200.0597 | F36: PRODUIT 388 | G36: 152 | H36: 219 | I36: 0 | J36: 0 | K36: 0 | L36: 0 | M36: 67 | N36: 0 | O36: 0 | P36: 0 | Q36: 0 | R36: 0 | S36: 0 | T36: 0
A37: {=_xlfn._xlws.FILTER(t_stock[],t_stock[Code Article Laboratoire]=BCom!A49)} -> Amiens | B37: 0 | C37: Disponible | D37: 35410002907 | E37: 200.1658 | F37: PRODUIT 407 | G37: 142 | H37: 156 | I37: 0 | J37: 0 | K37: 0 | L37: 0 | M37: 14 | N37: 0 | O37: 0 | P37: 0 | Q37: 0 | R37: 0 | S37: 0 | T37: 0
... A39: {=_xlfn._xlws.FILTER(t_stock[],t_stock[Code Article Laboratoire]=BCom!A51)} -> Amiens | B39: 0 | C39: Disponible | D39: 35410002790 | E39: 200.0603 | F39: PRODUIT 390 | G39: 84 | H39: 225 | I39: 0 | J39: 0 | K39: 0 | L39: 0 | M39: 141 | N39: 0 | O39: 0 | P39: 0 | Q39: 0 | R39: 0 | S39: 0 | T39: 0
A40: {=_xlfn._xlws.FILTER(t_stock[],t_stock[Code Article Laboratoire]=BCom!A52)} -> #VALUE!
A41: {=_xlfn._xlws.FILTER(t_stock[],t_stock[Code Article Laboratoire]=BCom!A53)} -> Amiens | B41: 52 | C41: Retour Attente Destruction | D41: 35410000083 | E41: 008.0040 | F41: PRODUIT 19 | G41: 3 | H41: 3 | I41: 0 | J41: 0 | K41: 0 | L41: 0 | M41: 0 | N41: 0 | O41: 0 | P41: 0 | Q41: 0 | R41: 0 | S41: 0 | T41: 0
A42: {=_xlfn._xlws.FILTER(t_stock[],t_stock[Code Article Laboratoire]=BCom!A54)} -> Amiens | B42: 0 | C42: Disponible | D42: 35410002808 | E42: 200.0625 | F42: PRODUIT 391 | G42: 264 | H42: 282 | I42: 0 | J42: 0 | K42: 0 | L42: 0 | M42: 18 | N42: 0 | O42: 0 | P42: 0 | Q42: 0 | R42: 0 | S42: 0 | T42: 0
A43: {=_xlfn._xlws.FILTER(t_stock[],t_stock[Code Article Laboratoire]=BCom!A55)} -> Amiens | B43: 0 | C43: Disponible | D43: 35410002972 | E43: 200.1756 | F43: PRODUIT 413 | G43: 10 | H43: 0 | I43: 0 | J43: 0 | K43: 0 | L43: 0 | M43: 0 | N43: 0 | O43: 0 | P43: 0 | Q43: 0 | R43: 10 | S43: 0 | T43: 0
A44: {=_xlfn._xlws.FILTER(t_stock[],t_stock[Code Article Laboratoire]=BCom!A56)} -> Amiens | B44: 0 | C44: Disponible | D44: 35410006338 | E44: 101041336 | F44: PRODUIT 323 | G44: 5781 | H44: 7166 | I44: 0 | J44: 0 | K44: 0 | L44: 95 | M44: 1473 | N44: 0 | O44: 0 | P44: 0 | Q44: 0 | R44: 91 | S44: 99 | T44: 1
A45: {=_xlfn._xlws.FILTER(t_stock[],t_stock[Code Article Laboratoire]=BCom!A57)} -> Amiens | B45: 0 | C45: Disponible | D45: 35410000109 | E45: 008.0058 | F45: PRODUIT 21 | G45: 2179 | H45: 2637 | I45: 0 | J45: 0 | K45: 0 | L45: 138 | M45: 592 | N45: 0 | O45: 0 | P45: 0 | Q45: 0 | R45: 134 | S45: 138 | T45: 0
A46: {=_xlfn._xlws.FILTER(t_stock[],t_stock[Code Article Laboratoire]=BCom!A58)} -> Amiens | B46: 0 | C46: Disponible | D46: 35410000372 | E46: 008.0306 | F46: PRODUIT 32 | G46: 651 | H46: 840 | I46: 0 | J46: 0 | K46: 0 | L46: 0 | M46: 189 | N46: 0 | O46: 0 | P46: 0 | Q46: 0 | R46: 0 | S46: 0 | T46: 0
A47: {=_xlfn._xlws.FILTER(t_stock[],t_stock[Code Article Laboratoire]=BCom!A59)} -> #VALUE!
A48: {=_xlfn._xlws.FILTER(t_stock[],t_stock[Code Article Laboratoire]=BCom!A60)} -> #VALUE!
...

Sheet Stock
A1: Site | B1: Code Mag | C1: Magasin | D1: Code Article Stock | E1: Code Article Laboratoire | F1: Désignation Article | G1: Nouveau Stock | H1: Stock Début | I1: Entrées Fournisseurs (62) | J1: Colonne1 | K1: Entrées Diverses (63) | L1: Entrées Retours Clients (12) | M1: Sorties Ventes (10) | N1: Sorties Spécifiques (65) | O1: Sorties Avaries (67) | P1: Sorties Gratuits (68) | Q1: Sorties Echanges (69) | R1: Entrées Transferts (64) | S1: Sorties Transferts (66) | T1: Ajustements de Stock (71)
A2: Amiens | B2: 0 | C2: Disponible | D2: 35410004309 | E2: 000.0719 | F2: PRODUIT 1 | G2: 16 | H2: 16 | I2: 0 | K2: 0 | L2: 0 | M2: 0 | N2: 0 | O2: 0 | P2: 0 | Q2: 0 | R2: 0 | S2: 0 | T2: 0
A3: Amiens | B3: 52 | C3: Retour Attente Destruction | D3: 35410000042 | E3: 000.0722 | F3: PRODUIT 2 | G3: 10 | H3: 10 | I3: 0 | K3: 0 | L3: 0 | M3: 0 | N3: 0 | O3: 0 | P3: 0 | Q3: 0 | R3: 0 | S3: 0 | T3: 0
A4: Amiens | B4: 52 | C4: Retour Attente Destruction | D4: 35410006643 | E4: 000.9000 | F4: PRODUIT 3 | G4: 1 | H4: 1 | I4: 0 | K4: 0 | L4: 0 | M4: 0 | N4: 0 | O4: 0 | P4: 0 | Q4: 0 | R4: 0 | S4: 0 | T4: 0
A5: Amiens | B5: 0 | C5: Disponible | D5: 35410007294 | E5: 001.111840 | F5: PRODUIT 4 | G5: 24 | H5: 24 | I5: 0 | K5: 0 | L5: 0 | M5: 0 | N5: 0 | O5: 0 | P5: 0 | Q5: 0 | R5: 0 | S5: 0 | T5: 0
A6: Amiens | B6: 0 | C6: Disponible | D6: 35410007252 | E6: 001.111844 | F6: PRODUIT 5 | G6: 20 | H6: 20 | I6: 0 | K6: 0 | L6: 0 | M6: 0 | N6: 0 | O6: 0 | P6: 0 | Q6: 0 | R6: 0 | S6: 0 | T6: 0
A7: Amiens | B7: 0 | C7: Disponible | D7: 35410007278 | E7: 001.111847 | F7: PRODUIT 6 | G7: 20 | H7: 20 | I7: 0 | K7: 0 | L7: 0 | M7: 0 | N7: 0 | O7: 0 | P7: 0 | Q7: 0 | R7: 0 | S7: 0 | T7: 0
A8: Amiens | B8: 0 | C8: Disponible | D8: 35410007286 | E8: 001.111875 | F8: PRODUIT 7 | G8: 16 | H8: 16 | I8: 0 | K8: 0 | L8: 0 | M8: 0 | N8: 0 | O8: 0 | P8: 0 | Q8: 0 | R8: 0 | S8: 0 | T8: 0
A9: Amiens | B9: 0 | C9: Disponible | D9: 35410007229 | E9: 001.112847 | F9: PRODUIT 8 | G9: 2 | H9: 2 | I9: 0 | K9: 0 | L9: 0 | M9: 0 | N9: 0 | O9: 0 | P9: 0 | Q9: 0 | R9: 0 | S9: 0 | T9: 0
A10: Amiens | B10: 0 | C10: Disponible | D10: 35410007237 | E10: 001.121429 | F10: PRODUIT 9 | G10: 24 | H10: 24 | I10: 0 | K10: 0 | L10: 0 | M10: 0 | N10: 0 | O10: 0 | P10: 0 | Q10: 0 | R10: 0 | S10: 0 | T10: 0
A11: Amiens | B11: 0 | C11: Disponible | D11: 35410007245 | E11: 001.121432 | F11: PRODUIT 10 | G11: 24 | H11: 24 | I11: 0 | K11: 0 | L11: 0 | M11: 0 | N11: 0 | O11: 0 | P11: 0 | Q11: 0 | R11: 0 | S11: 0 | T11: 0
A12: Amiens | B12: 0 | C12: Disponible | D12: 35410007260 | E12: 001.121433 | F12: PRODUIT 11 | G12: 20 | H12: 20 | I12: 0 | K12: 0 | L12: 0 | M12: 0 | N12: 0 | O12: 0 | P12: 0 | Q12: 0 | R12: 0 | S12: 0 | T12: 0
A13: Amiens | B13: 52 | C13: Retour Attente Destruction | D13: 35410005884 | E13: 005.2052 | F13: PRODUIT 12 | G13: 6 | H13: 6 | I13: 0 | K13: 0 | L13: 0 | M13: 0 | N13: 0 | O13: 0 | P13: 0 | Q13: 0 | R13: 0 | S13: 0 | T13: 0
... A504: Amiens | B504: 0 | C504: Disponible | D504: 35410007187 | E504: HMT.0082 | F504: PRODUIT 503 | G504: 3 | H504: 3 | I504: 0 | K504: 0 | L504: 0 | M504: 0 | N504: 0 | O504: 0 | P504: 0 | Q504: 0 | R504: 0 | S504: 0 | T504: 0
