Workbook
Name N_2: 'Pareto_ fournisseurs'!$A$6:$B$16

Sheet Fournisseurs
A1: FOURNISSEURS | B1: Nb Commandes N-2 | C1: CA N-2 | D1: Nb Commandes N-1 | E1: CA N-1 | F1: Nb Commandes N | G1: CA N
A2: 123 | F2: 1 | G2: 1011.88
A3: 3FFI | B3: 1 | E3: 4416.95
A4: A2E | D4: 1 | E4: 1434
A5: ABB1
A6: ABCA | B6: 2 | C6: 1000 | D6: 11 | E6: 44055 | F6: 4 | G6: 3000
A7: ACCF | B7: 5 | C7: 2699 | D7: 1 | E7: 154.77
A8: ACR | B8: 2 | C8: 6896 | D8: 3 | E8: 678 | F8: 3 | G8: 6120
A9: ACRC
A10: ACT | B10: 1 | C10: 120
A11: ACTC | B11: 1 | C11: 1940
A12: ADEI
A13: ADIG
A14: ADSA | B14: 17 | C14: 26631 | D14: 7 | E14: 1567
A15: AEES | B15: 2 | C15: 4500 | F15: 1
A16: AFE | B16: 5 | C16: 196 | D16: 2 | E16: 468 | F16: 2 | G16: 919
A17: AFRA | B17: 1 | C17: 130
A18: AGED
A19: AGEM | B19: 1 | C19: 100

Sheet Pareto_ fournisseurs
A4: Pareto N_2 | D4: Pareto N_1 | G4: Pareto N
A6: Fournisseurs | B6: CA N_2 | D6: Fournisseurs | E6: CA N_1 | G6: Fournisseurs | H6: CA N
A7: {=_xlfn._xlws.FILTER(Fournisseurs!A2:A19,Fournisseurs!C2:C19>0)} -> ABCA | B7: =_xlfn.XLOOKUP(A7,Fournisseurs!A:A,Fournisseurs!C:C) -> 1000 | D7: {=_xlfn._xlws.FILTER(Fournisseurs!A2:A19,Fournisseurs!E2:E19>0)} -> 3FFI | E7: =_xlfn.XLOOKUP(D7,Fournisseurs!A:A,Fournisseurs!E:E) -> 4416.95 | G7: {=_xlfn._xlws.FILTER(Fournisseurs!A2:A19,Fournisseurs!G2:G19>0)} -> 123 | H7: =_xlfn.XLOOKUP(G7,Fournisseurs!A:A,Fournisseurs!G:G) -> 1011.88
A8: ACCF | B8: =_xlfn.XLOOKUP(A8,Fournisseurs!A:A,Fournisseurs!C:C) -> 2699 | D8: A2E | E8: =_xlfn.XLOOKUP(D8,Fournisseurs!A:A,Fournisseurs!E:E) -> 1434 | G8: ABCA | H8: =_xlfn.XLOOKUP(G8,Fournisseurs!A:A,Fournisseurs!G:G) -> 3000
A9: ACR | B9: =_xlfn.XLOOKUP(A9,Fournisseurs!A:A,Fournisseurs!C:C) -> 6896 | D9: ABCA | E9: =_xlfn.XLOOKUP(D9,Fournisseurs!A:A,Fournisseurs!E:E) -> 44055 | G9: ACR | H9: =_xlfn.XLOOKUP(G9,Fournisseurs!A:A,Fournisseurs!G:G) -> 6120
A10: ACT | B10: =_xlfn.XLOOKUP(A10,Fournisseurs!A:A,Fournisseurs!C:C) -> 120 | D10: ACCF | E10: =_xlfn.XLOOKUP(D10,Fournisseurs!A:A,Fournisseurs!E:E) -> 154.77 | G10: AFE | H10: =_xlfn.XLOOKUP(G10,Fournisseurs!A:A,Fournisseurs!G:G) -> 919
A11: ACTC | B11: =_xlfn.XLOOKUP(A11,Fournisseurs!A:A,Fournisseurs!C:C) -> 1940 | D11: ACR | E11: =_xlfn.XLOOKUP(D11,Fournisseurs!A:A,Fournisseurs!E:E) -> 678
A12: ADSA | B12: =_xlfn.XLOOKUP(A12,Fournisseurs!A:A,Fournisseurs!C:C) -> 26631 | D12: ADSA | E12: =_xlfn.XLOOKUP(D12,Fournisseurs!A:A,Fournisseurs!E:E) -> 1567
A13: AEES | B13: =_xlfn.XLOOKUP(A13,Fournisseurs!A:A,Fournisseurs!C:C) -> 4500 | D13: AFE | E13: =_xlfn.XLOOKUP(D13,Fournisseurs!A:A,Fournisseurs!E:E) -> 468
A14: AFE | B14: =_xlfn.XLOOKUP(A14,Fournisseurs!A:A,Fournisseurs!C:C) -> 196
A15: AFRA | B15: =_xlfn.XLOOKUP(A15,Fournisseurs!A:A,Fournisseurs!C:C) -> 130
A16: AGEM | B16: =_xlfn.XLOOKUP(A16,Fournisseurs!A:A,Fournisseurs!C:C) -> 100
