Workbook

Sheet Feuil1
B11: 0.45
B12: 0.45
B68: 0.45

Sheet Feuil2
G9: CERTIFICAT D'ETALONNAGE
F12: N° | G12: =Feuil1!B1 -> 0 | Q12: Suivant ISO 10012
G14: Délivré à | J14: =Feuil1!B66 -> 0
A17: INSTRUMENT ETALONNE
A21: Désignation : | F21: ="Controleur de Couple " & F25 & " Voie " & G35 -> Controleur de Couple 0 Voie N.m
A23: Constructeur :
A25: Type : | F25: =Feuil1!B3 -> 0
A27: N° de série du BC : | F27: =Feuil1!B4 -> 0
A31: IDENTIFICATION DU CAPTEUR
A33: Constructeur :
A34: Capteur N° : | G34: =Feuil1!B67 -> 0
A35: Etendue de mesure : | G35: =Feuil1!B5 & " N.m " -> N.m | N35: Lieu de l'étalonnage :
A37: RESPONSABLE DE L'ETALONNAGE
J39: Date de l'étalonnage | P39: =Feuil1!B6 -> 0
A44: La reproduction de ce certificat n'est autorisée que | O44: Ce certificat est conforme au fascicule
A45: sous la forme d'un fac-similé photographique intégral | O45: de documentation FD X 07-012
U50: Page 1/2
A53: ETALONS UTILISES
A56: Banc de couple à poids morts
A58: Bras étalon : | F58: =Feuil1!B7 -> 0
A60: Masses étalons : | F60: POMO
A63: MODE OPERATOIRE
A75: CONDITIONS D'ETALONNAGE
A77: Pression | H77: =Feuil1!B8 -> 0 | M77: Opérateur : | P77: =Feuil1!B2 -> 0
A78: Température | H78: =Feuil1!B9 -> 0
A79: Hygrométrie | H79: =Feuil1!B10 -> 0
A82: TABLEAU DES MESURES
A84: %EM | B84: Paliers Etalon | E84: Poid Panier | I84: Mesure | M84: Erreur
A85: =Feuil1!B68 -> 0.45 | B85: kgf.m | E85: kg | I85: Kgf.m | M85: %L (Lecture)
A86: =Feuil1!B11 -> 0.45 | B86: =Feuil1!B22 -> 0 | E86: =Feuil1!B33 -> 0 | I86: =Feuil1!B44 -> 0 | M86: ----
A87: =Feuil1!B12 -> 0.45 | B87: =Feuil1!B23 -> 0 | E87: =Feuil1!B34 -> 0 | I87: =Feuil1!B45 -> 0 | M87: =Feuil1!B56 -> 0
A88: =Feuil1!B13 -> 0 | B88: =Feuil1!B24 -> 0 | E88: =Feuil1!B35 -> 0 | I88: =Feuil1!B46 -> 0 | M88: =Feuil1!B57 -> 0
A89: =Feuil1!B14 -> 0 | B89: =Feuil1!B25 -> 0 | E89: =Feuil1!B36 -> 0 | I89: =Feuil1!B47 -> 0 | M89: =Feuil1!B58 -> 0
A90: =Feuil1!B15 -> 0 | B90: =Feuil1!B26 -> 0 | E90: =Feuil1!B37 -> 0 | I90: =Feuil1!B48 -> 0 | M90: =Feuil1!B59 -> 0
A91: =Feuil1!B16 -> 0 | B91: =Feuil1!B27 -> 0 | E91: =Feuil1!B38 -> 0 | I91: =Feuil1!B49 -> 0 | M91: =Feuil1!B60 -> 0
A92: =Feuil1!B17 -> 0 | B92: =Feuil1!B28 -> 0 | E92: =Feuil1!B39 -> 0 | I92: =Feuil1!B50 -> 0 | M92: =Feuil1!B61 -> 0
A93: =Feuil1!B18 -> 0 | B93: =Feuil1!B29 -> 0 | E93: =Feuil1!B40 -> 0 | I93: =Feuil1!B51 -> 0 | M93: =Feuil1!B62 -> 0
A94: =Feuil1!B19 -> 0 | B94: =Feuil1!B30 -> 0 | E94: =Feuil1!B41 -> 0 | I94: =Feuil1!B52 -> 0 | M94: =Feuil1!B63 -> 0
A95: =Feuil1!B20 -> 0 | B95: =Feuil1!B31 -> 0 | E95: =Feuil1!B42 -> 0 | I95: =Feuil1!B53 -> 0 | M95: =Feuil1!B64 -> 0
A96: =Feuil1!B21 -> 0 | B96: =Feuil1!B32 -> 0 | E96: =Feuil1!B43 -> 0 | I96: =Feuil1!B54 -> 0 | M96: =Feuil1!B65 -> 0
A98: RESULTATS
A100: Sensibilité : | D100: =I96 & I92 &" Kgf.m " -> 00 Kgf.m | H100: /EM | J100: Erreur maximale : | P100: =100*MAX(M88:M96) & " %L " -> 0 %L
A102: Tolérance : | D102: ± 1.00 %L
U103: Page 2/2
