Workbook
Name BDD: #REF!

Sheet Caisse
A1: Solde caisse | C1: =0+C7-C16 -> 0 | D1: =TEXT(D2,"jjjj") -> vendredi | E1: =TEXT(E2,"jjjj") -> samedi | F1: =TEXT(F2,"jjjj") -> dimanche | G1: =TEXT(G2,"jjjj") -> lundi | H1: =TEXT(H2,"jjjj") -> mardi | I1: =TEXT(I2,"jjjj") -> mercredi | J1: =TEXT(J2,"jjjj") -> jeudi | K1: =TEXT(K2,"jjjj") -> vendredi | ... NE1: =TEXT(NE2,"jjjj") -> samedi
C2: =+NE19-C19 -> 0 | D2: 44197 | E2: =D2+1 -> 44198 | F2: =E2+1 -> 44199 | G2: =F2+1 -> 44200 | H2: =G2+1 -> 44201 | I2: =H2+1 -> 44202 | J2: =I2+1 -> 44203 | K2: =J2+1 -> 44204 | L2: =K2+1 -> 44205 | ... NE2: =ND2+1 -> 44562
A3: Nombre couverts | D3: 45 | E3: 5 | F3: 5 | G3: 8 | H3: 9 | I3: 10
A4: Panier moyen
A5: Vérification panier | D5: =IF(D4="","",IF(D12/D3-D4<0.01,"OK","Erreur")) | E5: =IF(E4="","",IF(E12/E3-E4<0.01,"OK","Erreur")) | F5: =IF(F4="","",IF(F12/F3-F4<0.01,"OK","Erreur")) | G5: =IF(G4="","",IF(G12/G3-G4<0.01,"OK","Erreur")) | H5: =IF(H4="","",IF(H12/H3-H4<0.01,"OK","Erreur")) | I5: =IF(I4="","",IF(I12/I3-I4<0.01,"OK","Erreur")) | J5: =IF(J4="","",IF(J12/J3-J4<0.01,"OK","Erreur")) | K5: =IF(K4="","",IF(K12/K3-K4<0.01,"OK","Erreur")) | ... NE5: =IF(NE4="","",IF(NE12/NE3-NE4<0.01,"OK","Erreur"))
A6: Nb cvts Refusés | C6: =SUM(D6:ND6) -> 0
A7: Espèces | C7: =SUM(D7:ND7) -> 0
A8: Chèque | C8: =SUM(D8:ND8) -> 0
A9: CB | C9: =SUM(D9:ND9) -> 0
A10: Virement | C10: =SUM(D10:ND10) -> 0
A11: Ticket Rest. | C11: =SUM(D11:ND11) -> 0
A12: Total | C12: =SUM(D12:ND12) -> 0
A13: Vérification Z | D13: =IF(D12="","",IF(D7+D8+D9+D10+D11=D12,"OK","Erreur")) | E13: =IF(E12="","",IF(E7+E8+E9+E10+E11=E12,"OK","Erreur")) | F13: =IF(F12="","",IF(F7+F8+F9+F10+F11=F12,"OK","Erreur")) | G13: =IF(G12="","",IF(G7+G8+G9+G10+G11=G12,"OK","Erreur")) | H13: =IF(H12="","",IF(H7+H8+H9+H10+H11=H12,"OK","Erreur")) | I13: =IF(I12="","",IF(I7+I8+I9+I10+I11=I12,"OK","Erreur")) | J13: =IF(J12="","",IF(J7+J8+J9+J10+J11=J12,"OK","Erreur")) | K13: =IF(K12="","",IF(K7+K8+K9+K10+K11=K12,"OK","Erreur")) | ... NE13: =IF(NE12="","",IF(NE7+NE8+NE9+NE10+NE11=NE12,"OK","Erreur"))
A14: Relevé total CB
A15: Ecart | C15: =SUM(D15:ND15) -> 0 | D15: =IF(D12="","",IF(D9="","",IF(D14-D9<>0,D14-D9,"OK "))) | E15: =IF(E12="","",IF(E9="","",IF(E14-E9<>0,E14-E9,"OK "))) | F15: =IF(F12="","",IF(F9="","",IF(F14-F9<>0,F14-F9,"OK "))) | G15: =IF(G12="","",IF(G9="","",IF(G14-G9<>0,G14-G9,"OK "))) | H15: =IF(H12="","",IF(H9="","",IF(H14-H9<>0,H14-H9,"OK "))) | I15: =IF(I12="","",IF(I9="","",IF(I14-I9<>0,I14-I9,"OK "))) | J15: =IF(J12="","",IF(J9="","",IF(J14-J9<>0,J14-J9,"OK "))) | K15: =IF(K12="","",IF(K9="","",IF(K14-K9<>0,K14-K9,"OK "))) | ... NE15: =IF(NE12="","",IF(NE9="","",IF(NE14-NE9<>0,NE14-NE9,"OK ")))
A16: Dépôt banque | C16: =SUM(D16:ND16) -> 0
A17: Pourboire 1 | C17: =SUM(D17:ND17) -> 0
A18: Pourboire 2 | C18: =SUM(D18:ND18) -> 0
A19: Solde X / Pourboire | C19: =(C18-C17) -> 0 | D19: =A2+D8-D16-D17+D18 -> 0 | E19: =D19+E7-E16-E17+E18 -> 0 | F19: =E19+F7-F16-F17+F18 -> 0 | G19: =F19+G7-G16-G17+G18 -> 0 | H19: =G19+H7-H16-H17+H18 -> 0 | I19: =H19+I7-I16-I17+I18 -> 0 | J19: =I19+J7-J16-J17+J18 -> 0 | K19: =J19+K7-K16-K17+K18 -> 0 | L19: =K19+L7-L16-L17+L18 -> 0 | ... NE19: =ND19+NE7-NE16-NE17+NE18 -> 0
A20: Ecart | D20: =+D35-D19 -> 0 | E20: =+E35-E19 -> 0 | F20: =+F35-F19 -> 0 | G20: =+G35-G19 -> 0 | H20: =+H35-H19 -> 0 | I20: =+I35-I19 -> 0 | J20: =+J35-J19 -> 0 | K20: =+K35-K19 -> 0 | ... NE20: =+NE35-NE19 -> 0
A21: Monnaie | C21: en euros
A22: Pièces | B22: 1 | C22: centimes
B23: 2 | C23: centimes
B24: 5 | C24: centimes
B25: 10 | C25: centimes
B26: 20 | C26: centimes
B27: 50 | C27: centimes
B28: 1 | C28: euros
B29: 2 | C29: euros
A30: Billets | B30: 5 | C30: euros
B31: 10 | C31: euros
B32: 20 | C32: euros
B33: 50 | C33: euros
B34: 100 | C34: euros
A35: Comptage caisse | D35: =+D21+$B$22*D22/100+$B$23*D23/100+$B$24*D24/100+$B$25*D25/100+$B$26*D26/100+$B$27*D27/100+$B$28*D28+$B$29*D29+$B$30*D30+$B$31*D31+$B$32*D32+$B$33*D33+$B$34*D34 -> 0 | E35: =+E21+$B$22*E22/100+$B$23*E23/100+$B$24*E24/100+$B$25*E25/100+$B$26*E26/100+$B$27*E27/100+$B$28*E28+$B$29*E29+$B$30*E30+$B$31*E31+$B$32*E32+$B$33*E33+$B$34*E34 -> 0 | F35: =+F21+$B$22*F22/100+$B$23*F23/100+$B$24*F24/100+$B$25*F25/100+$B$26*F26/100+$B$27*F27/100+$B$28*F28+$B$29*F29+$B$30*F30+$B$31*F31+$B$32*F32+$B$33*F33+$B$34*F34 -> 0 | G35: =+G21+$B$22*G22/100+$B$23*G23/100+$B$24*G24/100+$B$25*G25/100+$B$26*G26/100+$B$27*G27/100+$B$28*G28+$B$29*G29+$B$30*G30+$B$31*G31+$B$32*G32+$B$33*G33+$B$34*G34 -> 0 | H35: =+H21+$B$22*H22/100+$B$23*H23/100+$B$24*H24/100+$B$25*H25/100+$B$26*H26/100+$B$27*H27/100+$B$28*H28+$B$29*H29+$B$30*H30+$B$31*H31+$B$32*H32+$B$33*H33+$B$34*H34 -> 0 | I35: =+I21+$B$22*I22/100+$B$23*I23/100+$B$24*I24/100+$B$25*I25/100+$B$26*I26/100+$B$27*I27/100+$B$28*I28+$B$29*I29+$B$30*I30+$B$31*I31+$B$32*I32+$B$33*I33+$B$34*I34 -> 0 | J35: =+J21+$B$22*J22/100+$B$23*J23/100+$B$24*J24/100+$B$25*J25/100+$B$26*J26/100+$B$27*J27/100+$B$28*J28+$B$29*J29+$B$30*J30+$B$31*J31+$B$32*J32+$B$33*J33+$B$34*J34 -> 0 | K35: =+K21+$B$22*K22/100+$B$23*K23/100+$B$24*K24/100+$B$25*K25/100+$B$26*K26/100+$B$27*K27/100+$B$28*K28+$B$29*K29+$B$30*K30+$B$31*K31+$B$32*K32+$B$33*K33+$B$34*K34 -> 0 | ... NE35: =+NE21+$B$22*NE22/100+$B$23*NE23/100+$B$24*NE24/100+$B$25*NE25/100+$B$26*NE26/100+$B$27*NE27/100+$B$28*NE28+$B$29*NE29+$B$30*NE30+$B$31*NE31+$B$32*NE32+$B$33*NE33+$B$34*NE34 -> 0

Sheet Analyse
D1: Lundi | G1: Mardi | J1: Mercredi | M1: Jeudi | P1: Vendredi | S1: Samedi | V1: Dimanche | Y1: cvts
A2: =+Caisse!D2 -> 44197 | B2: au | C2: =IF(Caisse!D1="lundi",SUM(A2+6),IF(Caisse!D1="mardi",SUM(A2+5),IF(Caisse!D1="mercredi",SUM(A2+4),IF(Caisse!D1="jeudi",SUM(A2+3),IF(Caisse!D1="vendredi",SUM(A2+2),IF(Caisse!D1="samedi",SUM(A2+1),IF(Caisse!D1="dimanche",SUM(A2)))))))) -> 44199 | D2: =Caisse!D3 -> 45 | G2: =OFFSET(INDIRECT("D2"),0,1) -> 0 | J2: =INDIRECT("D2") -> 45 | K2: =Caisse!D$4 -> 0 | L2: =Caisse!D$12 -> 0 | M2: =+Caisse!E3 -> 5 | N2: =+Caisse!E4 -> 0 | O2: =+Caisse!E12 -> 0 | P2: =OFFSET(Caisse!A3,3,MATCH(A2,Caisse!$D$3:$F$3,0)) -> #N/A | Q2: =+Caisse!F4 -> 0 | R2: =+Caisse!F12 -> 0 | S2: =+Caisse!G3 -> 8 | T2: =+Caisse!G4 -> 0 | U2: =+Caisse!G12 -> 0 | V2: =+Caisse!H3 -> 9 | W2: =+Caisse!H4 -> 0 | X2: =+Caisse!H12 -> 0 | Y2: =IF(J2=0,"",SUM(+G2+J2+M2+P2+S2+V2+D2)) -> #N/A | Z2: =IF(AA2=0,"",+AA2/Y2) | AA2: =+I2+L2+O2+R2+U2+X2+F2 -> 0
A3: =C2+1 -> 44200 | B3: au | C3: =A3+6 -> 44206 | D3: =+Caisse!I3 -> 10 | E3: =+Caisse!I4 -> 0 | F3: =+Caisse!I12 -> 0 | G3: =+Caisse!J3 -> 0 | H3: =+Caisse!J4 -> 0 | I3: =+Caisse!J12 -> 0 | J3: =+Caisse!K3 -> 0 | K3: =+Caisse!K4 -> 0 | L3: =+Caisse!K12 -> 0 | M3: =+Caisse!L3 -> 0 | N3: =+Caisse!L4 -> 0 | O3: =+Caisse!L12 -> 0 | P3: =+Caisse!M3 -> 0 | Q3: =+Caisse!M4 -> 0 | R3: =+Caisse!M12 -> 0 | S3: =+Caisse!N3 -> 0 | T3: =+Caisse!N4 -> 0 | U3: =+Caisse!N12 -> 0 | V3: =+Caisse!O3 -> 0 | W3: =+Caisse!O4 -> 0 | X3: =+Caisse!O12 -> 0 | Y3: =IF(J3=0,"",SUM(+G3+J3+M3+P3+S3+V3+D3)) | Z3: =IF(AA3=0,"",+AA3/Y3) | AA3: =+I3+L3+O3+R3+U3+X3+F3 -> 0
A4: =C3+1 -> 44207 | B4: au | C4: =A4+6 -> 44213 | D4: =+Caisse!P3 -> 0 | E4: =+Caisse!P4 -> 0 | F4: =+Caisse!P12 -> 0 | G4: =+Caisse!Q3 -> 0 | H4: =+Caisse!Q4 -> 0 | I4: =+Caisse!Q12 -> 0 | J4: =+Caisse!R3 -> 0 | K4: =+Caisse!R4 -> 0 | L4: =+Caisse!R12 -> 0 | M4: =+Caisse!S3 -> 0 | N4: =+Caisse!S4 -> 0 | O4: =+Caisse!S12 -> 0 | P4: =+Caisse!T3 -> 0 | Q4: =+Caisse!T4 -> 0 | R4: =+Caisse!T12 -> 0 | S4: =+Caisse!U3 -> 0 | T4: =+Caisse!U4 -> 0 | U4: =+Caisse!U12 -> 0 | V4: =+Caisse!V3 -> 0 | W4: =+Caisse!V4 -> 0 | X4: =+Caisse!V12 -> 0 | Y4: =IF(J4=0,"",SUM(+G4+J4+M4+P4+S4+V4+D4)) | Z4: =IF(AA4=0,"",+AA4/Y4) | AA4: =+I4+L4+O4+R4+U4+X4+F4 -> 0
A5: =C4+1 -> 44214 | B5: au | C5: =A5+6 -> 44220 | D5: =+Caisse!W3 -> 0 | E5: =+Caisse!W4 -> 0 | F5: =+Caisse!W12 -> 0 | G5: =+Caisse!X3 -> 0 | H5: =+Caisse!X4 -> 0 | I5: =+Caisse!X12 -> 0 | J5: =+Caisse!Y3 -> 0 | K5: =+Caisse!Y4 -> 0 | L5: =+Caisse!Y12 -> 0 | M5: =+Caisse!Z3 -> 0 | N5: =+Caisse!Z4 -> 0 | O5: =+Caisse!Z12 -> 0 | P5: =+Caisse!AA3 -> 0 | Q5: =+Caisse!AA4 -> 0 | R5: =+Caisse!AA12 -> 0 | S5: =+Caisse!AB3 -> 0 | T5: =+Caisse!AB4 -> 0 | U5: =+Caisse!AB12 -> 0 | V5: =+Caisse!AC3 -> 0 | W5: =+Caisse!AC4 -> 0 | X5: =+Caisse!AC12 -> 0 | Y5: =IF(J5=0,"",SUM(+G5+J5+M5+P5+S5+V5+D5)) | Z5: =IF(AA5=0,"",+AA5/Y5) | AA5: =+I5+L5+O5+R5+U5+X5+F5 -> 0
A6: =C5+1 -> 44221 | B6: au | C6: =A6+6 -> 44227 | D6: =+Caisse!AD3 -> 0 | E6: =+Caisse!AD4 -> 0 | F6: =+Caisse!AD12 -> 0 | G6: =+Caisse!AE3 -> 0 | H6: =+Caisse!AE4 -> 0 | I6: =+Caisse!AE12 -> 0 | J6: =+Caisse!AF3 -> 0 | K6: =+Caisse!AF4 -> 0 | L6: =+Caisse!AF12 -> 0 | M6: =+Caisse!AG3 -> 0 | N6: =+Caisse!AG4 -> 0 | O6: =+Caisse!AG12 -> 0 | P6: =+Caisse!AH3 -> 0 | Q6: =+Caisse!AH4 -> 0 | R6: =+Caisse!AH12 -> 0 | S6: =+Caisse!AI3 -> 0 | T6: =+Caisse!AI4 -> 0 | U6: =+Caisse!AI12 -> 0 | V6: =+Caisse!AJ3 -> 0 | W6: =+Caisse!AJ4 -> 0 | X6: =+Caisse!AJ12 -> 0 | Y6: =IF(J6=0,"",SUM(+G6+J6+M6+P6+S6+V6+D6)) | Z6: =IF(AA6=0,"",+AA6/Y6) | AA6: =+I6+L6+O6+R6+U6+X6+F6 -> 0
A7: =C6+1 -> 44228 | B7: au | C7: =A7+6 -> 44234 | D7: =+Caisse!AK3 -> 0 | E7: =+Caisse!AK4 -> 0 | F7: =+Caisse!AK12 -> 0 | G7: =+Caisse!AL3 -> 0 | H7: =+Caisse!AL4 -> 0 | I7: =+Caisse!AL12 -> 0 | J7: =+Caisse!AM3 -> 0 | K7: =+Caisse!AM4 -> 0 | L7: =+Caisse!AM12 -> 0 | M7: =+Caisse!AN3 -> 0 | N7: =+Caisse!AN4 -> 0 | O7: =+Caisse!AN12 -> 0 | P7: =+Caisse!AO3 -> 0 | Q7: =+Caisse!AO4 -> 0 | R7: =+Caisse!AO12 -> 0 | S7: =+Caisse!AP3 -> 0 | T7: =+Caisse!AP4 -> 0 | U7: =+Caisse!AP12 -> 0 | V7: =+Caisse!AQ3 -> 0 | W7: =+Caisse!AQ4 -> 0 | X7: =+Caisse!AQ12 -> 0 | Y7: =IF(J7=0,"",SUM(+G7+J7+M7+P7+S7+V7+D7)) | Z7: =IF(AA7=0,"",+AA7/Y7) | AA7: =+I7+L7+O7+R7+U7+X7+F7 -> 0
A8: =C7+1 -> 44235 | B8: au | C8: =A8+6 -> 44241 | D8: =+Caisse!AR3 -> 0 | E8: =+Caisse!AR4 -> 0 | F8: =+Caisse!AR12 -> 0 | G8: =+Caisse!AS3 -> 0 | H8: =+Caisse!AS4 -> 0 | I8: =+Caisse!AS12 -> 0 | J8: =+Caisse!AT3 -> 0 | K8: =+Caisse!AT4 -> 0 | L8: =+Caisse!AT12 -> 0 | M8: =+Caisse!AU3 -> 0 | N8: =+Caisse!AU4 -> 0 | O8: =+Caisse!AU12 -> 0 | P8: =+Caisse!AV3 -> 0 | Q8: =+Caisse!AV4 -> 0 | R8: =+Caisse!AV12 -> 0 | S8: =+Caisse!AW3 -> 0 | T8: =+Caisse!AW4 -> 0 | U8: =+Caisse!AW12 -> 0 | V8: =+Caisse!AX3 -> 0 | W8: =+Caisse!AX4 -> 0 | X8: =+Caisse!AX12 -> 0 | Y8: =IF(J8=0,"",SUM(+G8+J8+M8+P8+S8+V8+D8)) | Z8: =IF(AA8=0,"",+AA8/Y8) | AA8: =+I8+L8+O8+R8+U8+X8+F8 -> 0
A9: =C8+1 -> 44242 | B9: au | C9: =A9+6 -> 44248 | D9: =+Caisse!AY3 -> 0 | E9: =+Caisse!AY4 -> 0 | F9: =+Caisse!AY12 -> 0 | G9: =+Caisse!AZ3 -> 0 | H9: =+Caisse!AZ4 -> 0 | I9: =+Caisse!AZ12 -> 0 | J9: =+Caisse!BA3 -> 0 | K9: =+Caisse!BA4 -> 0 | L9: =+Caisse!BA12 -> 0 | M9: =+Caisse!BB3 -> 0 | N9: =+Caisse!BB4 -> 0 | O9: =+Caisse!BB12 -> 0 | P9: =+Caisse!BC3 -> 0 | Q9: =+Caisse!BC4 -> 0 | R9: =+Caisse!BC12 -> 0 | S9: =+Caisse!BD3 -> 0 | T9: =+Caisse!BD4 -> 0 | U9: =+Caisse!BD12 -> 0 | V9: =+Caisse!BE3 -> 0 | W9: =+Caisse!BE4 -> 0 | X9: =+Caisse!BE12 -> 0 | Y9: =IF(J9=0,"",SUM(+G9+J9+M9+P9+S9+V9+D9)) | Z9: =IF(AA9=0,"",+AA9/Y9) | AA9: =+I9+L9+O9+R9+U9+X9+F9 -> 0
A10: =C9+1 -> 44249 | B10: au | C10: =A10+6 -> 44255 | D10: =+Caisse!BF3 -> 0 | E10: =+Caisse!BF4 -> 0 | F10: =+Caisse!BF12 -> 0 | G10: =+Caisse!BG3 -> 0 | H10: =+Caisse!BG4 -> 0 | I10: =+Caisse!BG12 -> 0 | J10: =+Caisse!BH3 -> 0 | K10: =+Caisse!BH4 -> 0 | L10: =+Caisse!BH12 -> 0 | M10: =+Caisse!BI3 -> 0 | N10: =+Caisse!BI4 -> 0 | O10: =+Caisse!BI12 -> 0 | P10: =+Caisse!BJ3 -> 0 | Q10: =+Caisse!BJ4 -> 0 | R10: =+Caisse!BJ12 -> 0 | S10: =+Caisse!BK3 -> 0 | T10: =+Caisse!BK4 -> 0 | U10: =+Caisse!BK12 -> 0 | V10: =+Caisse!BL3 -> 0 | W10: =+Caisse!BL4 -> 0 | X10: =+Caisse!BL12 -> 0 | Y10: =IF(J10=0,"",SUM(+G10+J10+M10+P10+S10+V10+D10)) | Z10: =IF(AA10=0,"",+AA10/Y10) | AA10: =+I10+L10+O10+R10+U10+X10+F10 -> 0
A11: =C10+1 -> 44256 | B11: au | C11: =A11+6 -> 44262 | D11: =+Caisse!BM3 -> 0 | E11: =+Caisse!BM4 -> 0 | F11: =+Caisse!BM12 -> 0 | G11: =+Caisse!BN3 -> 0 | H11: =+Caisse!BN4 -> 0 | I11: =+Caisse!BN12 -> 0 | J11: =+Caisse!BO3 -> 0 | K11: =+Caisse!BO4 -> 0 | L11: =+Caisse!BO12 -> 0 | M11: =+Caisse!BP3 -> 0 | N11: =+Caisse!BP4 -> 0 | O11: =+Caisse!BP12 -> 0 | P11: =+Caisse!BQ3 -> 0 | Q11: =+Caisse!BQ4 -> 0 | R11: =+Caisse!BQ12 -> 0 | S11: =+Caisse!BR3 -> 0 | T11: =+Caisse!BR4 -> 0 | U11: =+Caisse!BR12 -> 0 | V11: =+Caisse!BS3 -> 0 | W11: =+Caisse!BS4 -> 0 | X11: =+Caisse!BS12 -> 0 | Y11: =IF(J11=0,"",SUM(+G11+J11+M11+P11+S11+V11+D11)) | Z11: =IF(AA11=0,"",+AA11/Y11) | AA11: =+I11+L11+O11+R11+U11+X11+F11 -> 0
A12: =C11+1 -> 44263 | B12: au | C12: =A12+6 -> 44269 | D12: =+Caisse!BT3 -> 0 | E12: =+Caisse!BT4 -> 0 | F12: =+Caisse!BT12 -> 0 | G12: =+Caisse!BU3 -> 0 | H12: =+Caisse!BU4 -> 0 | I12: =+Caisse!BU12 -> 0 | J12: =+Caisse!BV3 -> 0 | K12: =+Caisse!BV4 -> 0 | L12: =+Caisse!BV12 -> 0 | M12: =+Caisse!BW3 -> 0 | N12: =+Caisse!BW4 -> 0 | O12: =+Caisse!BW12 -> 0 | P12: =+Caisse!BX3 -> 0 | Q12: =+Caisse!BX4 -> 0 | R12: =+Caisse!BX12 -> 0 | S12: =+Caisse!BY3 -> 0 | T12: =+Caisse!BY4 -> 0 | U12: =+Caisse!BY12 -> 0 | V12: =+Caisse!BZ3 -> 0 | W12: =+Caisse!BZ4 -> 0 | X12: =+Caisse!BZ12 -> 0 | Y12: =IF(J12=0,"",SUM(+G12+J12+M12+P12+S12+V12+D12)) | Z12: =IF(AA12=0,"",+AA12/Y12) | AA12: =+I12+L12+O12+R12+U12+X12+F12 -> 0
A13: =C12+1 -> 44270 | B13: au | C13: =A13+6 -> 44276 | D13: =+Caisse!CA3 -> 0 | E13: =+Caisse!CA4 -> 0 | F13: =+Caisse!CA12 -> 0 | G13: =+Caisse!CB3 -> 0 | H13: =+Caisse!CB4 -> 0 | I13: =+Caisse!CB12 -> 0 | J13: =+Caisse!CC3 -> 0 | K13: =+Caisse!CC4 -> 0 | L13: =+Caisse!CC12 -> 0 | M13: =+Caisse!CD3 -> 0 | N13: =+Caisse!CD4 -> 0 | O13: =+Caisse!CD12 -> 0 | P13: =+Caisse!CE3 -> 0 | Q13: =+Caisse!CE4 -> 0 | R13: =+Caisse!CE12 -> 0 | S13: =+Caisse!CF3 -> 0 | T13: =+Caisse!CF4 -> 0 | U13: =+Caisse!CF12 -> 0 | V13: =+Caisse!CG3 -> 0 | W13: =+Caisse!CG4 -> 0 | X13: =+Caisse!CG12 -> 0 | Y13: =IF(J13=0,"",SUM(+G13+J13+M13+P13+S13+V13+D13)) | Z13: =IF(AA13=0,"",+AA13/Y13) | AA13: =+I13+L13+O13+R13+U13+X13+F13 -> 0
A14: =C13+1 -> 44277 | B14: au | C14: =A14+6 -> 44283 | D14: =+Caisse!CH3 -> 0 | E14: =+Caisse!CH4 -> 0 | F14: =+Caisse!CH12 -> 0 | G14: =+Caisse!CI3 -> 0 | H14: =+Caisse!CI4 -> 0 | I14: =+Caisse!CI12 -> 0 | J14: =+Caisse!CJ3 -> 0 | K14: =+Caisse!CJ4 -> 0 | L14: =+Caisse!CJ12 -> 0 | M14: =+Caisse!CK3 -> 0 | N14: =+Caisse!CK4 -> 0 | O14: =+Caisse!CK12 -> 0 | P14: =+Caisse!CL3 -> 0 | Q14: =+Caisse!CL4 -> 0 | R14: =+Caisse!CL12 -> 0 | S14: =+Caisse!CM3 -> 0 | T14: =+Caisse!CM4 -> 0 | U14: =+Caisse!CM12 -> 0 | V14: =+Caisse!CN3 -> 0 | W14: =+Caisse!CN4 -> 0 | X14: =+Caisse!CN12 -> 0 | Y14: =IF(J14=0,"",SUM(+G14+J14+M14+P14+S14+V14+D14)) | Z14: =IF(AA14=0,"",+AA14/Y14) | AA14: =+I14+L14+O14+R14+U14+X14+F14 -> 0
A15: =C14+1 -> 44284 | B15: au | C15: =A15+6 -> 44290 | D15: =+Caisse!CO3 -> 0 | E15: =+Caisse!CO4 -> 0 | F15: =+Caisse!CO12 -> 0 | G15: =+Caisse!CP3 -> 0 | H15: =+Caisse!CP4 -> 0 | I15: =+Caisse!CP12 -> 0 | J15: =+Caisse!CQ3 -> 0 | K15: =+Caisse!CQ4 -> 0 | L15: =+Caisse!CQ12 -> 0 | M15: =+Caisse!CR3 -> 0 | N15: =+Caisse!CR4 -> 0 | O15: =+Caisse!CR12 -> 0 | P15: =+Caisse!CS3 -> 0 | Q15: =+Caisse!CS4 -> 0 | R15: =+Caisse!CS12 -> 0 | S15: =+Caisse!CT3 -> 0 | T15: =+Caisse!CT4 -> 0 | U15: =+Caisse!CT12 -> 0 | V15: =+Caisse!CU3 -> 0 | W15: =+Caisse!CU4 -> 0 | X15: =+Caisse!CU12 -> 0 | Y15: =IF(J15=0,"",SUM(+G15+J15+M15+P15+S15+V15+D15)) | Z15: =IF(AA15=0,"",+AA15/Y15) | AA15: =+I15+L15+O15+R15+U15+X15+F15 -> 0
A16: =C15+1 -> 44291 | B16: au | C16: =A16+6 -> 44297 | D16: =+Caisse!CV3 -> 0 | E16: =+Caisse!CV4 -> 0 | F16: =+Caisse!CV12 -> 0 | G16: =+Caisse!CW3 -> 0 | H16: =+Caisse!CW4 -> 0 | I16: =+Caisse!CW12 -> 0 | J16: =+Caisse!CX3 -> 0 | K16: =+Caisse!CX4 -> 0 | L16: =+Caisse!CX12 -> 0 | M16: =+Caisse!CY3 -> 0 | N16: =+Caisse!CY4 -> 0 | O16: =+Caisse!CY12 -> 0 | P16: =+Caisse!CZ3 -> 0 | Q16: =+Caisse!CZ4 -> 0 | R16: =+Caisse!CZ12 -> 0 | S16: =+Caisse!DA3 -> 0 | T16: =+Caisse!DA4 -> 0 | U16: =+Caisse!DA12 -> 0 | V16: =+Caisse!DB3 -> 0 | W16: =+Caisse!DB4 -> 0 | X16: =+Caisse!DB12 -> 0 | Y16: =IF(J16=0,"",SUM(+G16+J16+M16+P16+S16+V16+D16)) | Z16: =IF(AA16=0,"",+AA16/Y16) | AA16: =+I16+L16+O16+R16+U16+X16+F16 -> 0
A17: =C16+1 -> 44298 | B17: au | C17: =A17+6 -> 44304 | D17: =+Caisse!DC3 -> 0 | E17: =+Caisse!DC4 -> 0 | F17: =+Caisse!DC12 -> 0 | G17: =+Caisse!DD3 -> 0 | H17: =+Caisse!DD4 -> 0 | I17: =+Caisse!DD12 -> 0 | J17: =+Caisse!DE3 -> 0 | K17: =+Caisse!DE4 -> 0 | L17: =+Caisse!DE12 -> 0 | M17: =+Caisse!DF3 -> 0 | N17: =+Caisse!DF4 -> 0 | O17: =+Caisse!DF12 -> 0 | P17: =+Caisse!DG3 -> 0 | Q17: =+Caisse!DG4 -> 0 | R17: =+Caisse!DG12 -> 0 | S17: =+Caisse!DH3 -> 0 | T17: =+Caisse!DH4 -> 0 | U17: =+Caisse!DH12 -> 0 | V17: =+Caisse!DI3 -> 0 | W17: =+Caisse!DI4 -> 0 | X17: =+Caisse!DI12 -> 0 | Y17: =IF(J17=0,"",SUM(+G17+J17+M17+P17+S17+V17+D17)) | Z17: =IF(AA17=0,"",+AA17/Y17) | AA17: =+I17+L17+O17+R17+U17+X17+F17 -> 0
A18: =C17+1 -> 44305 | B18: au | C18: =A18+6 -> 44311 | D18: =+Caisse!DJ3 -> 0 | E18: =+Caisse!DJ4 -> 0 | F18: =+Caisse!DJ12 -> 0 | G18: =+Caisse!DK3 -> 0 | H18: =+Caisse!DK4 -> 0 | I18: =+Caisse!DK12 -> 0 | J18: =+Caisse!DL3 -> 0 | K18: =+Caisse!DL4 -> 0 | L18: =+Caisse!DL12 -> 0 | M18: =+Caisse!DM3 -> 0 | N18: =+Caisse!DM4 -> 0 | O18: =+Caisse!DM12 -> 0 | P18: =+Caisse!DN3 -> 0 | Q18: =+Caisse!DN4 -> 0 | R18: =+Caisse!DN12 -> 0 | S18: =+Caisse!DO3 -> 0 | T18: =+Caisse!DO4 -> 0 | U18: =+Caisse!DO12 -> 0 | V18: =+Caisse!DP3 -> 0 | W18: =+Caisse!DP4 -> 0 | X18: =+Caisse!DP12 -> 0 | Y18: =IF(J18=0,"",SUM(+G18+J18+M18+P18+S18+V18+D18)) | Z18: =IF(AA18=0,"",+AA18/Y18) | AA18: =+I18+L18+O18+R18+U18+X18+F18 -> 0
A19: =C18+1 -> 44312 | B19: au | C19: =A19+6 -> 44318 | D19: =+Caisse!DQ3 -> 0 | E19: =+Caisse!DQ4 -> 0 | F19: =+Caisse!DQ12 -> 0 | G19: =+Caisse!DR3 -> 0 | H19: =+Caisse!DR4 -> 0 | I19: =+Caisse!DR12 -> 0 | J19: =+Caisse!DS3 -> 0 | K19: =+Caisse!DS4 -> 0 | L19: =+Caisse!DS12 -> 0 | M19: =+Caisse!DT3 -> 0 | N19: =+Caisse!DT4 -> 0 | O19: =+Caisse!DT12 -> 0 | P19: =+Caisse!DU3 -> 0 | Q19: =+Caisse!DU4 -> 0 | R19: =+Caisse!DU12 -> 0 | S19: =+Caisse!DV3 -> 0 | T19: =+Caisse!DV4 -> 0 | U19: =+Caisse!DV12 -> 0 | V19: =+Caisse!DW3 -> 0 | W19: =+Caisse!DW4 -> 0 | X19: =+Caisse!DW12 -> 0 | Y19: =IF(J19=0,"",SUM(+G19+J19+M19+P19+S19+V19+D19)) | Z19: =IF(AA19=0,"",+AA19/Y19) | AA19: =+I19+L19+O19+R19+U19+X19+F19 -> 0
A20: =C19+1 -> 44319 | B20: au | C20: =A20+6 -> 44325 | D20: =+Caisse!DX3 -> 0 | E20: =+Caisse!DX4 -> 0 | F20: =+Caisse!DX12 -> 0 | G20: =+Caisse!DY3 -> 0 | H20: =+Caisse!DY4 -> 0 | I20: =+Caisse!DY12 -> 0 | J20: =+Caisse!DZ3 -> 0 | K20: =+Caisse!DZ4 -> 0 | L20: =+Caisse!DZ12 -> 0 | M20: =+Caisse!EA3 -> 0 | N20: =+Caisse!EA4 -> 0 | O20: =+Caisse!EA12 -> 0 | P20: =+Caisse!EB3 -> 0 | Q20: =+Caisse!EB4 -> 0 | R20: =+Caisse!EB12 -> 0 | S20: =+Caisse!EC3 -> 0 | T20: =+Caisse!EC4 -> 0 | U20: =+Caisse!EC12 -> 0 | V20: =+Caisse!ED3 -> 0 | W20: =+Caisse!ED4 -> 0 | X20: =+Caisse!ED12 -> 0 | Y20: =IF(J20=0,"",SUM(+G20+J20+M20+P20+S20+V20+D20)) | Z20: =IF(AA20=0,"",+AA20/Y20) | AA20: =+I20+L20+O20+R20+U20+X20+F20 -> 0
A21: =C20+1 -> 44326 | B21: au | C21: =A21+6 -> 44332 | D21: =+Caisse!EE3 -> 0 | E21: =+Caisse!EE4 -> 0 | F21: =+Caisse!EE12 -> 0 | G21: =+Caisse!EF3 -> 0 | H21: =+Caisse!EF4 -> 0 | I21: =+Caisse!EF12 -> 0 | J21: =+Caisse!EG3 -> 0 | K21: =+Caisse!EG4 -> 0 | L21: =+Caisse!EG12 -> 0 | M21: =+Caisse!EH3 -> 0 | N21: =+Caisse!EH4 -> 0 | O21: =+Caisse!EH12 -> 0 | P21: =+Caisse!EI3 -> 0 | Q21: =+Caisse!EI4 -> 0 | R21: =+Caisse!EI12 -> 0 | S21: =+Caisse!EJ3 -> 0 | T21: =+Caisse!EJ4 -> 0 | U21: =+Caisse!EJ12 -> 0 | V21: =+Caisse!EK3 -> 0 | W21: =+Caisse!EK4 -> 0 | X21: =+Caisse!EK12 -> 0 | Y21: =IF(J21=0,"",SUM(+G21+J21+M21+P21+S21+V21+D21)) | Z21: =IF(AA21=0,"",+AA21/Y21) | AA21: =+I21+L21+O21+R21+U21+X21+F21 -> 0
A22: =C21+1 -> 44333 | B22: au | C22: =A22+6 -> 44339 | D22: =+Caisse!EL3 -> 0 | E22: =+Caisse!EL4 -> 0 | F22: =+Caisse!EL12 -> 0 | G22: =+Caisse!EM3 -> 0 | H22: =+Caisse!EM4 -> 0 | I22: =+Caisse!EM12 -> 0 | J22: =+Caisse!EN3 -> 0 | K22: =+Caisse!EN4 -> 0 | L22: =+Caisse!EN12 -> 0 | M22: =+Caisse!EO3 -> 0 | N22: =+Caisse!EO4 -> 0 | O22: =+Caisse!EO12 -> 0 | P22: =+Caisse!EP3 -> 0 | Q22: =+Caisse!EP4 -> 0 | R22: =+Caisse!EP12 -> 0 | S22: =+Caisse!EQ3 -> 0 | T22: =+Caisse!EQ4 -> 0 | U22: =+Caisse!EQ12 -> 0 | V22: =+Caisse!ER3 -> 0 | W22: =+Caisse!ER4 -> 0 | X22: =+Caisse!ER12 -> 0 | Y22: =IF(J22=0,"",SUM(+G22+J22+M22+P22+S22+V22+D22)) | Z22: =IF(AA22=0,"",+AA22/Y22) | AA22: =+I22+L22+O22+R22+U22+X22+F22 -> 0
A23: =C22+1 -> 44340 | B23: au | C23: =A23+6 -> 44346 | D23: =+Caisse!ES3 -> 0 | E23: =+Caisse!ES4 -> 0 | F23: =+Caisse!ES12 -> 0 | G23: =+Caisse!ET3 -> 0 | H23: =+Caisse!ET4 -> 0 | I23: =+Caisse!ET12 -> 0 | J23: =+Caisse!EU3 -> 0 | K23: =+Caisse!EU4 -> 0 | L23: =+Caisse!EU12 -> 0 | M23: =+Caisse!EV3 -> 0 | N23: =+Caisse!EV4 -> 0 | O23: =+Caisse!EV12 -> 0 | P23: =+Caisse!EW3 -> 0 | Q23: =+Caisse!EW4 -> 0 | R23: =+Caisse!EW12 -> 0 | S23: =+Caisse!EX3 -> 0 | T23: =+Caisse!EX4 -> 0 | U23: =+Caisse!EX12 -> 0 | V23: =+Caisse!EY3 -> 0 | W23: =+Caisse!EY4 -> 0 | X23: =+Caisse!EY12 -> 0 | Y23: =IF(J23=0,"",SUM(+G23+J23+M23+P23+S23+V23+D23)) | Z23: =IF(AA23=0,"",+AA23/Y23) | AA23: =+I23+L23+O23+R23+U23+X23+F23 -> 0
A24: =C23+1 -> 44347 | B24: au | C24: =A24+6 -> 44353 | D24: =+Caisse!EZ3 -> 0 | E24: =+Caisse!EZ4 -> 0 | F24: =+Caisse!EZ12 -> 0 | G24: =+Caisse!FA3 -> 0 | H24: =+Caisse!FA4 -> 0 | I24: =+Caisse!FA12 -> 0 | J24: =+Caisse!FB3 -> 0 | K24: =+Caisse!FB4 -> 0 | L24: =+Caisse!FB12 -> 0 | M24: =+Caisse!FC3 -> 0 | N24: =+Caisse!FC4 -> 0 | O24: =+Caisse!FC12 -> 0 | P24: =+Caisse!FD3 -> 0 | Q24: =+Caisse!FD4 -> 0 | R24: =+Caisse!FD12 -> 0 | S24: =+Caisse!FE3 -> 0 | T24: =+Caisse!FE4 -> 0 | U24: =+Caisse!FE12 -> 0 | V24: =+Caisse!FF3 -> 0 | W24: =+Caisse!FF4 -> 0 | X24: =+Caisse!FF12 -> 0 | Y24: =IF(J24=0,"",SUM(+G24+J24+M24+P24+S24+V24+D24)) | Z24: =IF(AA24=0,"",+AA24/Y24) | AA24: =+I24+L24+O24+R24+U24+X24+F24 -> 0
A25: =C24+1 -> 44354 | B25: au | C25: =A25+6 -> 44360 | D25: =+Caisse!FG3 -> 0 | E25: =+Caisse!FG4 -> 0 | F25: =+Caisse!FG12 -> 0 | G25: =+Caisse!FH3 -> 0 | H25: =+Caisse!FH4 -> 0 | I25: =+Caisse!FH12 -> 0 | J25: =+Caisse!FI3 -> 0 | K25: =+Caisse!FI4 -> 0 | L25: =+Caisse!FI12 -> 0 | M25: =+Caisse!FJ3 -> 0 | N25: =+Caisse!FJ4 -> 0 | O25: =+Caisse!FJ12 -> 0 | P25: =+Caisse!FK3 -> 0 | Q25: =+Caisse!FK4 -> 0 | R25: =+Caisse!FK12 -> 0 | S25: =+Caisse!FL3 -> 0 | T25: =+Caisse!FL4 -> 0 | U25: =+Caisse!FL12 -> 0 | V25: =+Caisse!FM3 -> 0 | W25: =+Caisse!FM4 -> 0 | X25: =+Caisse!FM12 -> 0 | Y25: =IF(J25=0,"",SUM(+G25+J25+M25+P25+S25+V25+D25)) | Z25: =IF(AA25=0,"",+AA25/Y25) | AA25: =+I25+L25+O25+R25+U25+X25+F25 -> 0
A26: =C25+1 -> 44361 | B26: au | C26: =A26+6 -> 44367 | D26: =+Caisse!FN3 -> 0 | E26: =+Caisse!FN4 -> 0 | F26: =+Caisse!FN12 -> 0 | G26: =+Caisse!FO3 -> 0 | H26: =+Caisse!FO4 -> 0 | I26: =+Caisse!FO12 -> 0 | J26: =+Caisse!FP3 -> 0 | K26: =+Caisse!FP4 -> 0 | L26: =+Caisse!FP12 -> 0 | M26: =+Caisse!FQ3 -> 0 | N26: =+Caisse!FQ4 -> 0 | O26: =+Caisse!FQ12 -> 0 | P26: =+Caisse!FR3 -> 0 | Q26: =+Caisse!FR4 -> 0 | R26: =+Caisse!FR12 -> 0 | S26: =+Caisse!FS3 -> 0 | T26: =+Caisse!FS4 -> 0 | U26: =+Caisse!FS12 -> 0 | V26: =+Caisse!FT3 -> 0 | W26: =+Caisse!FT4 -> 0 | X26: =+Caisse!FT12 -> 0 | Y26: =IF(J26=0,"",SUM(+G26+J26+M26+P26+S26+V26+D26)) | Z26: =IF(AA26=0,"",+AA26/Y26) | AA26: =+I26+L26+O26+R26+U26+X26+F26 -> 0
A27: =C26+1 -> 44368 | B27: au | C27: =A27+6 -> 44374 | D27: =+Caisse!FU3 -> 0 | E27: =+Caisse!FU4 -> 0 | F27: =+Caisse!FU12 -> 0 | G27: =+Caisse!FV3 -> 0 | H27: =+Caisse!FV4 -> 0 | I27: =+Caisse!FV12 -> 0 | J27: =+Caisse!FW3 -> 0 | K27: =+Caisse!FW4 -> 0 | L27: =+Caisse!FW12 -> 0 | M27: =+Caisse!FX3 -> 0 | N27: =+Caisse!FX4 -> 0 | O27: =+Caisse!FX12 -> 0 | P27: =+Caisse!FY3 -> 0 | Q27: =+Caisse!FY4 -> 0 | R27: =+Caisse!FY12 -> 0 | S27: =+Caisse!FZ3 -> 0 | T27: =+Caisse!FZ4 -> 0 | U27: =+Caisse!FZ12 -> 0 | V27: =+Caisse!GA3 -> 0 | W27: =+Caisse!GA4 -> 0 | X27: =+Caisse!GA12 -> 0 | Y27: =IF(J27=0,"",SUM(+G27+J27+M27+P27+S27+V27+D27)) | Z27: =IF(AA27=0,"",+AA27/Y27) | AA27: =+I27+L27+O27+R27+U27+X27+F27 -> 0
A28: =C27+1 -> 44375 | B28: au | C28: =A28+6 -> 44381 | D28: =+Caisse!GB3 -> 0 | E28: =+Caisse!GB4 -> 0 | F28: =+Caisse!GB12 -> 0 | G28: =+Caisse!GC3 -> 0 | H28: =+Caisse!GC4 -> 0 | I28: =+Caisse!GC12 -> 0 | J28: =+Caisse!GD3 -> 0 | K28: =+Caisse!GD4 -> 0 | L28: =+Caisse!GD12 -> 0 | M28: =+Caisse!GE3 -> 0 | N28: =+Caisse!GE4 -> 0 | O28: =+Caisse!GE12 -> 0 | P28: =+Caisse!GF3 -> 0 | Q28: =+Caisse!GF4 -> 0 | R28: =+Caisse!GF12 -> 0 | S28: =+Caisse!GG3 -> 0 | T28: =+Caisse!GG4 -> 0 | U28: =+Caisse!GG12 -> 0 | V28: =+Caisse!GH3 -> 0 | W28: =+Caisse!GH4 -> 0 | X28: =+Caisse!GH12 -> 0 | Y28: =IF(J28=0,"",SUM(+G28+J28+M28+P28+S28+V28+D28)) | Z28: =IF(AA28=0,"",+AA28/Y28) | AA28: =+I28+L28+O28+R28+U28+X28+F28 -> 0
A29: =C28+1 -> 44382 | B29: au | C29: =A29+6 -> 44388 | D29: =+Caisse!GI3 -> 0 | E29: =+Caisse!GI4 -> 0 | F29: =+Caisse!GI12 -> 0 | G29: =+Caisse!GJ3 -> 0 | H29: =+Caisse!GJ4 -> 0 | I29: =+Caisse!GJ12 -> 0 | J29: =+Caisse!GK3 -> 0 | K29: =+Caisse!GK4 -> 0 | L29: =+Caisse!GK12 -> 0 | M29: =+Caisse!GL3 -> 0 | N29: =+Caisse!GL4 -> 0 | O29: =+Caisse!GL12 -> 0 | P29: =+Caisse!GM3 -> 0 | Q29: =+Caisse!GM4 -> 0 | R29: =+Caisse!GM12 -> 0 | S29: =+Caisse!GN3 -> 0 | T29: =+Caisse!GN4 -> 0 | U29: =+Caisse!GN12 -> 0 | V29: =+Caisse!GO3 -> 0 | W29: =+Caisse!GO4 -> 0 | X29: =+Caisse!GO12 -> 0 | Y29: =IF(J29=0,"",SUM(+G29+J29+M29+P29+S29+V29+D29)) | Z29: =IF(AA29=0,"",+AA29/Y29) | AA29: =+I29+L29+O29+R29+U29+X29+F29 -> 0
A30: =C29+1 -> 44389 | B30: au | C30: =A30+6 -> 44395 | D30: =+Caisse!GP3 -> 0 | E30: =+Caisse!GP4 -> 0 | F30: =+Caisse!GP12 -> 0 | G30: =+Caisse!GQ3 -> 0 | H30: =+Caisse!GQ4 -> 0 | I30: =+Caisse!GQ12 -> 0 | J30: =+Caisse!GR3 -> 0 | K30: =+Caisse!GR4 -> 0 | L30: =+Caisse!GR12 -> 0 | M30: =+Caisse!GS3 -> 0 | N30: =+Caisse!GS4 -> 0 | O30: =+Caisse!GS12 -> 0 | P30: =+Caisse!GT3 -> 0 | Q30: =+Caisse!GT4 -> 0 | R30: =+Caisse!GT12 -> 0 | S30: =+Caisse!GU3 -> 0 | T30: =+Caisse!GU4 -> 0 | U30: =+Caisse!GU12 -> 0 | V30: =+Caisse!GV3 -> 0 | W30: =+Caisse!GV4 -> 0 | X30: =+Caisse!GV12 -> 0 | Y30: =IF(J30=0,"",SUM(+G30+J30+M30+P30+S30+V30+D30)) | Z30: =IF(AA30=0,"",+AA30/Y30) | AA30: =+I30+L30+O30+R30+U30+X30+F30 -> 0
A31: =C30+1 -> 44396 | B31: au | C31: =A31+6 -> 44402 | D31: =+Caisse!GW3 -> 0 | E31: =+Caisse!GW4 -> 0 | F31: =+Caisse!GW12 -> 0 | G31: =+Caisse!GX3 -> 0 | H31: =+Caisse!GX4 -> 0 | I31: =+Caisse!GX12 -> 0 | J31: =+Caisse!GY3 -> 0 | K31: =+Caisse!GY4 -> 0 | L31: =+Caisse!GY12 -> 0 | M31: =+Caisse!GZ3 -> 0 | N31: =+Caisse!GZ4 -> 0 | O31: =+Caisse!GZ12 -> 0 | P31: =+Caisse!HA3 -> 0 | Q31: =+Caisse!HA4 -> 0 | R31: =+Caisse!HA12 -> 0 | S31: =+Caisse!HB3 -> 0 | T31: =+Caisse!HB4 -> 0 | U31: =+Caisse!HB12 -> 0 | V31: =+Caisse!HC3 -> 0 | W31: =+Caisse!HC4 -> 0 | X31: =+Caisse!HC12 -> 0 | Y31: =IF(J31=0,"",SUM(+G31+J31+M31+P31+S31+V31+D31)) | Z31: =IF(AA31=0,"",+AA31/Y31) | AA31: =+I31+L31+O31+R31+U31+X31+F31 -> 0
A32: =C31+1 -> 44403 | B32: au | C32: =A32+6 -> 44409 | D32: =+Caisse!HD3 -> 0 | E32: =+Caisse!HD4 -> 0 | F32: =+Caisse!HD12 -> 0 | G32: =+Caisse!HE3 -> 0 | H32: =+Caisse!HE4 -> 0 | I32: =+Caisse!HE12 -> 0 | J32: =+Caisse!HF3 -> 0 | K32: =+Caisse!HF4 -> 0 | L32: =+Caisse!HF12 -> 0 | M32: =+Caisse!HG3 -> 0 | N32: =+Caisse!HG4 -> 0 | O32: =+Caisse!HG12 -> 0 | P32: =+Caisse!HH3 -> 0 | Q32: =+Caisse!HH4 -> 0 | R32: =+Caisse!HH12 -> 0 | S32: =+Caisse!HI3 -> 0 | T32: =+Caisse!HI4 -> 0 | U32: =+Caisse!HI12 -> 0 | V32: =+Caisse!HJ3 -> 0 | W32: =+Caisse!HJ4 -> 0 | X32: =+Caisse!HJ12 -> 0 | Y32: =IF(J32=0,"",SUM(+G32+J32+M32+P32+S32+V32+D32)) | Z32: =IF(AA32=0,"",+AA32/Y32) | AA32: =+I32+L32+O32+R32+U32+X32+F32 -> 0
A33: =C32+1 -> 44410 | B33: au | C33: =A33+6 -> 44416 | D33: =+Caisse!HK3 -> 0 | E33: =+Caisse!HK4 -> 0 | F33: =+Caisse!HK12 -> 0 | G33: =+Caisse!HL3 -> 0 | H33: =+Caisse!HL4 -> 0 | I33: =+Caisse!HL12 -> 0 | J33: =+Caisse!HM3 -> 0 | K33: =+Caisse!HM4 -> 0 | L33: =+Caisse!HM12 -> 0 | M33: =+Caisse!HN3 -> 0 | N33: =+Caisse!HN4 -> 0 | O33: =+Caisse!HN12 -> 0 | P33: =+Caisse!HO3 -> 0 | Q33: =+Caisse!HO4 -> 0 | R33: =+Caisse!HO12 -> 0 | S33: =+Caisse!HP3 -> 0 | T33: =+Caisse!HP4 -> 0 | U33: =+Caisse!HP12 -> 0 | V33: =+Caisse!HQ3 -> 0 | W33: =+Caisse!HQ4 -> 0 | X33: =+Caisse!HQ12 -> 0 | Y33: =IF(J33=0,"",SUM(+G33+J33+M33+P33+S33+V33+D33)) | Z33: =IF(AA33=0,"",+AA33/Y33) | AA33: =+I33+L33+O33+R33+U33+X33+F33 -> 0
A34: =C33+1 -> 44417 | B34: au | C34: =A34+6 -> 44423 | D34: =+Caisse!HR3 -> 0 | E34: =+Caisse!HR4 -> 0 | F34: =+Caisse!HR12 -> 0 | G34: =+Caisse!HS3 -> 0 | H34: =+Caisse!HS4 -> 0 | I34: =+Caisse!HS12 -> 0 | J34: =+Caisse!HT3 -> 0 | K34: =+Caisse!HT4 -> 0 | L34: =+Caisse!HT12 -> 0 | M34: =+Caisse!HU3 -> 0 | N34: =+Caisse!HU4 -> 0 | O34: =+Caisse!HU12 -> 0 | P34: =+Caisse!HV3 -> 0 | Q34: =+Caisse!HV4 -> 0 | R34: =+Caisse!HV12 -> 0 | S34: =+Caisse!HW3 -> 0 | T34: =+Caisse!HW4 -> 0 | U34: =+Caisse!HW12 -> 0 | V34: =+Caisse!HX3 -> 0 | W34: =+Caisse!HX4 -> 0 | X34: =+Caisse!HX12 -> 0 | Y34: =IF(J34=0,"",SUM(+G34+J34+M34+P34+S34+V34+D34)) | Z34: =IF(AA34=0,"",+AA34/Y34) | AA34: =+I34+L34+O34+R34+U34+X34+F34 -> 0
A35: =C34+1 -> 44424 | B35: au | C35: =A35+6 -> 44430 | D35: =+Caisse!HY3 -> 0 | E35: =+Caisse!HY4 -> 0 | F35: =+Caisse!HY12 -> 0 | G35: =+Caisse!HZ3 -> 0 | H35: =+Caisse!HZ4 -> 0 | I35: =+Caisse!HZ12 -> 0 | J35: =+Caisse!IA3 -> 0 | K35: =+Caisse!IA4 -> 0 | L35: =+Caisse!IA12 -> 0 | M35: =+Caisse!IB3 -> 0 | N35: =+Caisse!IB4 -> 0 | O35: =+Caisse!IB12 -> 0 | P35: =+Caisse!IC3 -> 0 | Q35: =+Caisse!IC4 -> 0 | R35: =+Caisse!IC12 -> 0 | S35: =+Caisse!ID3 -> 0 | T35: =+Caisse!ID4 -> 0 | U35: =+Caisse!ID12 -> 0 | V35: =+Caisse!IE3 -> 0 | W35: =+Caisse!IE4 -> 0 | X35: =+Caisse!IE12 -> 0 | Y35: =IF(J35=0,"",SUM(+G35+J35+M35+P35+S35+V35+D35)) | Z35: =IF(AA35=0,"",+AA35/Y35) | AA35: =+I35+L35+O35+R35+U35+X35+F35 -> 0
A36: =C35+1 -> 44431 | B36: au | C36: =A36+6 -> 44437 | D36: =+Caisse!IF3 -> 0 | E36: =+Caisse!IF4 -> 0 | F36: =+Caisse!IF12 -> 0 | G36: =+Caisse!IG3 -> 0 | H36: =+Caisse!IG4 -> 0 | I36: =+Caisse!IG12 -> 0 | J36: =+Caisse!IH3 -> 0 | K36: =+Caisse!IH4 -> 0 | L36: =+Caisse!IH12 -> 0 | M36: =+Caisse!II3 -> 0 | N36: =+Caisse!II4 -> 0 | O36: =+Caisse!II12 -> 0 | P36: =+Caisse!IJ3 -> 0 | Q36: =+Caisse!IJ4 -> 0 | R36: =+Caisse!IJ12 -> 0 | S36: =+Caisse!IK3 -> 0 | T36: =+Caisse!IK4 -> 0 | U36: =+Caisse!IK12 -> 0 | V36: =+Caisse!IL3 -> 0 | W36: =+Caisse!IL4 -> 0 | X36: =+Caisse!IL12 -> 0 | Y36: =IF(J36=0,"",SUM(+G36+J36+M36+P36+S36+V36+D36)) | Z36: =IF(AA36=0,"",+AA36/Y36) | AA36: =+I36+L36+O36+R36+U36+X36+F36 -> 0
A37: =C36+1 -> 44438 | B37: au | C37: =A37+6 -> 44444 | D37: =+Caisse!IM3 -> 0 | E37: =+Caisse!IM4 -> 0 | F37: =+Caisse!IM12 -> 0 | G37: =+Caisse!IN3 -> 0 | H37: =+Caisse!IN4 -> 0 | I37: =+Caisse!IN12 -> 0 | J37: =+Caisse!IO3 -> 0 | K37: =+Caisse!IO4 -> 0 | L37: =+Caisse!IO12 -> 0 | M37: =+Caisse!IP3 -> 0 | N37: =+Caisse!IP4 -> 0 | O37: =+Caisse!IP12 -> 0 | P37: =+Caisse!IQ3 -> 0 | Q37: =+Caisse!IQ4 -> 0 | R37: =+Caisse!IQ12 -> 0 | S37: =+Caisse!IR3 -> 0 | T37: =+Caisse!IR4 -> 0 | U37: =+Caisse!IR12 -> 0 | V37: =+Caisse!IS3 -> 0 | W37: =+Caisse!IS4 -> 0 | X37: =+Caisse!IS12 -> 0 | Y37: =IF(J37=0,"",SUM(+G37+J37+M37+P37+S37+V37+D37)) | Z37: =IF(AA37=0,"",+AA37/Y37) | AA37: =+I37+L37+O37+R37+U37+X37+F37 -> 0
A38: =C37+1 -> 44445 | B38: au | C38: =A38+6 -> 44451 | D38: =+Caisse!IT3 -> 0 | E38: =+Caisse!IT4 -> 0 | F38: =+Caisse!IT12 -> 0 | G38: =+Caisse!IU3 -> 0 | H38: =+Caisse!IU4 -> 0 | I38: =+Caisse!IU12 -> 0 | J38: =+Caisse!IV3 -> 0 | K38: =+Caisse!IV4 -> 0 | L38: =+Caisse!IV12 -> 0 | M38: =+Caisse!IW3 -> 0 | N38: =+Caisse!IW4 -> 0 | O38: =+Caisse!IW12 -> 0 | P38: =+Caisse!IX3 -> 0 | Q38: =+Caisse!IX4 -> 0 | R38: =+Caisse!IX12 -> 0 | S38: =+Caisse!IY3 -> 0 | T38: =+Caisse!IY4 -> 0 | U38: =+Caisse!IY12 -> 0 | V38: =+Caisse!IZ3 -> 0 | W38: =+Caisse!IZ4 -> 0 | X38: =+Caisse!IZ12 -> 0 | Y38: =IF(J38=0,"",SUM(+G38+J38+M38+P38+S38+V38+D38)) | Z38: =IF(AA38=0,"",+AA38/Y38) | AA38: =+I38+L38+O38+R38+U38+X38+F38 -> 0
A39: =C38+1 -> 44452 | B39: au | C39: =A39+6 -> 44458 | D39: =+Caisse!JA3 -> 0 | E39: =+Caisse!JA4 -> 0 | F39: =+Caisse!JA12 -> 0 | G39: =+Caisse!JB3 -> 0 | H39: =+Caisse!JB4 -> 0 | I39: =+Caisse!JB12 -> 0 | J39: =+Caisse!JC3 -> 0 | K39: =+Caisse!JC4 -> 0 | L39: =+Caisse!JC12 -> 0 | M39: =+Caisse!JD3 -> 0 | N39: =+Caisse!JD4 -> 0 | O39: =+Caisse!JD12 -> 0 | P39: =+Caisse!JE3 -> 0 | Q39: =+Caisse!JE4 -> 0 | R39: =+Caisse!JE12 -> 0 | S39: =+Caisse!JF3 -> 0 | T39: =+Caisse!JF4 -> 0 | U39: =+Caisse!JF12 -> 0 | V39: =+Caisse!JG3 -> 0 | W39: =+Caisse!JG4 -> 0 | X39: =+Caisse!JG12 -> 0 | Y39: =IF(J39=0,"",SUM(+G39+J39+M39+P39+S39+V39+D39)) | Z39: =IF(AA39=0,"",+AA39/Y39) | AA39: =+I39+L39+O39+R39+U39+X39+F39 -> 0
A40: =C39+1 -> 44459 | B40: au | C40: =A40+6 -> 44465 | D40: =+Caisse!JH3 -> 0 | E40: =+Caisse!JH4 -> 0 | F40: =+Caisse!JH12 -> 0 | G40: =+Caisse!JI3 -> 0 | H40: =+Caisse!JI4 -> 0 | I40: =+Caisse!JI12 -> 0 | J40: =+Caisse!JJ3 -> 0 | K40: =+Caisse!JJ4 -> 0 | L40: =+Caisse!JJ12 -> 0 | M40: =+Caisse!JK3 -> 0 | N40: =+Caisse!JK4 -> 0 | O40: =+Caisse!JK12 -> 0 | P40: =+Caisse!JL3 -> 0 | Q40: =+Caisse!JL4 -> 0 | R40: =+Caisse!JL12 -> 0 | S40: =+Caisse!JM3 -> 0 | T40: =+Caisse!JM4 -> 0 | U40: =+Caisse!JM12 -> 0 | V40: =+Caisse!JN3 -> 0 | W40: =+Caisse!JN4 -> 0 | X40: =+Caisse!JN12 -> 0 | Y40: =IF(J40=0,"",SUM(+G40+J40+M40+P40+S40+V40+D40)) | Z40: =IF(AA40=0,"",+AA40/Y40) | AA40: =+I40+L40+O40+R40+U40+X40+F40 -> 0
...
