Workbook
Name ColRef: OFFSET('[1]Feuil1 (2)'!$B$1,,,COUNTA('[1]Feuil1 (2)'!$C$1:$C$65536)+1)
Name ColRef: OFFSET('Feuil1 (3)'!$B$1,,,COUNTA('Feuil1 (3)'!$C$1:$C$65536)+1)
Name ColRef: OFFSET('[2]Feuil1 (2)'!$B$1,,,COUNTA('[2]Feuil1 (2)'!$C$1:$C$65536)+1)
Name ColRef: OFFSET('[1]Feuil1 (2)'!$B$1,,,COUNTA('[1]Feuil1 (2)'!$C$1:$C$65536)+1)
Name ColRef: OFFSET('Feuil1 (2)'!$B$1,,,COUNTA('Feuil1 (2)'!$C$1:$C$65536)+1)
Name ColRef2: OFFSET('[1]Feuil1 (2)'!#REF!,,,COUNTA('[1]Feuil1 (2)'!#REF!)+1)
Name ColRef2: OFFSET('Feuil1 (3)'!#REF!,,,COUNTA('Feuil1 (3)'!#REF!)+1)
Name ColRef2: OFFSET('[2]Feuil1 (2)'!#REF!,,,COUNTA('[2]Feuil1 (2)'!#REF!)+1)
Name ColRef2: OFFSET('[1]Feuil1 (2)'!#REF!,,,COUNTA('[1]Feuil1 (2)'!#REF!)+1)
Name ColRef2: OFFSET('Feuil1 (2)'!#REF!,,,COUNTA('Feuil1 (2)'!#REF!)+1)
Name ColRef2: OFFSET('Feuil1 (2)'!#REF!,,,COUNTA('Feuil1 (2)'!#REF!)+1)
Name cond: #REF!
Name dates: [3]Formation!$C$3:$K$500
Name formations: [3]Formation!$C$1:$K$1
Name Nom: OFFSET('[1]Feuil1 (2)'!$C$3,,,COUNTA('[1]Feuil1 (2)'!$C$1:$C$65536)-1)
Name Nom: OFFSET('Feuil1 (3)'!$C$3,,,COUNTA('Feuil1 (3)'!$C$1:$C$65536)-1)
Name Nom: OFFSET('[2]Feuil1 (2)'!$C$3,,,COUNTA('[2]Feuil1 (2)'!$C$1:$C$65536)-1)
Name Nom: OFFSET('[1]Feuil1 (2)'!$C$3,,,COUNTA('[1]Feuil1 (2)'!$C$1:$C$65536)-1)
Name Nom: OFFSET('Feuil1 (2)'!$C$3,,,COUNTA('Feuil1 (2)'!$C$1:$C$65536)-1)
Name NomR: OFFSET('[1]Feuil1 (2)'!#REF!,,,COUNTA('[1]Feuil1 (2)'!#REF!)-1)
Name NomR: OFFSET('Feuil1 (3)'!#REF!,,,COUNTA('Feuil1 (3)'!#REF!)-1)
Name NomR: OFFSET('[2]Feuil1 (2)'!#REF!,,,COUNTA('[2]Feuil1 (2)'!#REF!)-1)
Name NomR: OFFSET('[1]Feuil1 (2)'!#REF!,,,COUNTA('[1]Feuil1 (2)'!#REF!)-1)
Name NomR: OFFSET('Feuil1 (2)'!#REF!,,,COUNTA('Feuil1 (2)'!#REF!)-1)
Name NomR: OFFSET('Feuil1 (2)'!#REF!,,,COUNTA('Feuil1 (2)'!#REF!)-1)
Name noms: #REF!
Name Nos: [3]Formation!$A$3:$A$500
Name Ref: OFFSET('[1]Feuil1 (2)'!$B$3,,,COUNTA('[1]Feuil1 (2)'!$C$1:$C$65536)-1)
Name Ref: OFFSET('Feuil1 (3)'!$B$3,,,COUNTA('Feuil1 (3)'!$C$1:$C$65536)-1)
Name Ref: OFFSET('[2]Feuil1 (2)'!$B$3,,,COUNTA('[2]Feuil1 (2)'!$C$1:$C$65536)-1)
Name Ref: OFFSET('[1]Feuil1 (2)'!$B$3,,,COUNTA('[1]Feuil1 (2)'!$C$1:$C$65536)-1)
Name Ref: OFFSET('Feuil1 (2)'!$B$3,,,COUNTA('Feuil1 (2)'!$C$1:$C$65536)-1)
Name sport: #REF!
Name vide: [3]Formation!$B$3:$B$500

Sheet Tableau de bord
B2: ="TABLEAU DE BORD - PROCESSUS "&Matrice!G1 -> TABLEAU DE BORD - PROCESSUS DI2
B4: Evaluation du risque | H4: Actions de maitrise | O4: Plan d'actions
C6: Nombre de risques | I6: Nombre d'éléments de maîtrise existants | P6: Nombre d'actions
C7: =COUNTA(Matrice!D23:D98) -> 3 | I7: =COUNTIF(Matrice!3:3,"En place") -> 0 | P7: =COUNTIF(Matrice!3:3,"En cours")+COUNTIF(Matrice!3:3,"A initier")&" dont "&COUNTIF(Matrice!3:3,"En attente")&" en attente de réalisation au sein d'un autre processus" -> 0 dont 0 en attente de réalisation au sein d'un autre processus
C9: RISQUE BRUT | I9: RISQUE RESIDUEL | P9: RISQUE PROJETE
C10: Criticité | I10: Criticité | P10: Criticité
C11: Très faible | D11: =COUNTIF(Matrice!$P$23:$P$100,'Tableau de bord'!C11) -> 0 | E11: =IF(D11<>0,D11/SUM($D$11:$D$15),"") | I11: Très faible | J11: =COUNTIF(Matrice!$BZ$23:$BZ$100,'Tableau de bord'!I11) -> 0 | K11: =IF(J11<>0,J11/SUM($J$11:$J$15),"") | P11: Très faible | Q11: =COUNTIF(Matrice!$DE$23:$DE$100,'Tableau de bord'!I11) -> 0 | R11: =IF(Q11<>0,Q11/SUM($J$11:$J$15),"")
C12: Faible | D12: =COUNTIF(Matrice!$P$23:$P$100,'Tableau de bord'!C12) -> 0 | E12: =IF(D12<>0,D12/SUM($D$11:$D$15),"") | I12: Faible | J12: =COUNTIF(Matrice!$BZ$23:$BZ$100,'Tableau de bord'!I12) -> 0 | K12: =IF(J12<>0,J12/SUM($J$11:$J$15),"") | P12: Faible | Q12: =COUNTIF(Matrice!$DE$23:$DE$100,'Tableau de bord'!I12) -> 0 | R12: =IF(Q12<>0,Q12/SUM($J$11:$J$15),"")
C13: Moyenne | D13: =COUNTIF(Matrice!$P$23:$P$100,'Tableau de bord'!C13) -> 0 | E13: =IF(D13<>0,D13/SUM($D$11:$D$15),"") | I13: Moyenne | J13: =COUNTIF(Matrice!$BZ$23:$BZ$100,'Tableau de bord'!I13) -> 0 | K13: =IF(J13<>0,J13/SUM($J$11:$J$15),"") | P13: Moyenne | Q13: =COUNTIF(Matrice!$DE$23:$DE$100,'Tableau de bord'!I13) -> 0 | R13: =IF(Q13<>0,Q13/SUM($J$11:$J$15),"")
C14: Forte | D14: =COUNTIF(Matrice!$P$23:$P$100,'Tableau de bord'!C14) -> 0 | E14: =IF(D14<>0,D14/SUM($D$11:$D$15),"") | I14: Forte | J14: =COUNTIF(Matrice!$BZ$23:$BZ$100,'Tableau de bord'!I14) -> 0 | K14: =IF(J14<>0,J14/SUM($J$11:$J$15),"") | P14: Forte | Q14: =COUNTIF(Matrice!$DE$23:$DE$100,'Tableau de bord'!I14) -> 0 | R14: =IF(Q14<>0,Q14/SUM($J$11:$J$15),"")
C15: Majeure | D15: =COUNTIF(Matrice!$P$23:$P$100,'Tableau de bord'!C15) -> 0 | E15: =IF(D15<>0,D15/SUM($D$11:$D$15),"") | I15: Majeure | J15: =COUNTIF(Matrice!$BZ$23:$BZ$100,'Tableau de bord'!I15) -> 0 | K15: =IF(J15<>0,J15/SUM($J$11:$J$15),"") | P15: Majeure | Q15: =COUNTIF(Matrice!$DE$23:$DE$100,'Tableau de bord'!I15) -> 0 | R15: =IF(Q15<>0,Q15/SUM($J$11:$J$15),"")
C19: Type de risque | I19: Catégories des actions de maîtrise | P19: Répartition des actions par priorité
C20: Stratégique | D20: =COUNTIF(Matrice!$I$23:$I$100,Listes!AA4) -> 0 | E20: =IF(D20<>0,D20/(($D$20+$D$21+$D$22)),"") | I20: Indicateur | J20: =COUNTIFS(Matrice!$T$3:$DP$3,"En place",Matrice!$T$4:$DP$4,"I") -> 0 | K20: =IF(J20<>0,J20/(SUM($J$20:$J$23)),"") | P20: 1 | Q20: =COUNTIF('Plan d''actions détaillé'!$M$6:$M$611,'Tableau de bord'!P20) -> 0 | R20: =IF(Q20<>0,Q20/(COUNTIF(Matrice!$3:$3,"En cours")+COUNTIF(Matrice!$3:$3,"A initier")),"")
C21: Opérationnel | D21: =COUNTIF(Matrice!$I$23:$I$100,Listes!AA5) -> 0 | E21: =IF(D21<>0,D21/(($D$20+$D$21+$D$22)),"") | I21: Contrôle | J21: =COUNTIFS(Matrice!$T$3:$DP$3,"En place",Matrice!$T$4:$DP$4,"C") -> 0 | K21: =IF(J21<>0,J21/(SUM($J$20:$J$23)),"") | P21: 2 | Q21: =COUNTIF('Plan d''actions détaillé'!$M$6:$M$611,'Tableau de bord'!P21) -> 0 | R21: =IF(Q21<>0,Q21/(COUNTIF(Matrice!$3:$3,"En cours")+COUNTIF(Matrice!$3:$3,"A initier")),"")
C22: Technique | D22: =COUNTIF(Matrice!$I$23:$I$100,Listes!AA6) -> 0 | E22: =IF(D22<>0,D22/(($D$20+$D$21+$D$22)),"") | I22: Organisation | J22: =COUNTIFS(Matrice!$T$3:$DP$3,"En place",Matrice!$T$4:$DP$4,"O") -> 0 | K22: =IF(J22<>0,J22/(SUM($J$20:$J$23)),"") | P22: 3 | Q22: =COUNTIF('Plan d''actions détaillé'!$M$6:$M$611,'Tableau de bord'!P22) -> 0 | R22: =IF(Q22<>0,Q22/(COUNTIF(Matrice!$3:$3,"En cours")+COUNTIF(Matrice!$3:$3,"A initier")),"")
I23: Documentation | J23: =COUNTIFS(Matrice!$T$3:$DP$3,"En place",Matrice!$T$4:$DP$4,"D") -> 0 | K23: =IF(J23<>0,J23/(SUM($J$20:$J$23)),"") | P23: 4 | Q23: =COUNTIF('Plan d''actions détaillé'!$M$6:$M$611,'Tableau de bord'!P23) -> 0 | R23: =IF(Q23<>0,Q23/(COUNTIF(Matrice!$3:$3,"En cours")+COUNTIF(Matrice!$3:$3,"A initier")),"")
I25: Niveau de mise en place | P25: Avancement de la réalisation des actions
I26: Diffusion | J26: =COUNTIF('Actions de maîtrise'!L:L,"X") -> 0 | K26: =IF($I$7<>0,J26/$I$7,"") | P26: Non démarré | Q26: =COUNTIF('Plan d''actions détaillé'!$Q$6:$Q$611,'Tableau de bord'!P26) -> 0 | R26: =IF(Q26<>0,Q26/(COUNTIF(Matrice!$3:$3,"En cours")+COUNTIF(Matrice!$3:$3,"A initier")),"")
I27: Formalisation | J27: =COUNTIF('Actions de maîtrise'!M:M,"X") -> 0 | K27: =IF($I$7<>0,J27/$I$7,"") | P27: Démarré | Q27: =COUNTIF('Plan d''actions détaillé'!$Q$6:$Q$611,'Tableau de bord'!P27) -> 0 | R27: =IF(Q27<>0,Q27/(COUNTIF(Matrice!$3:$3,"En cours")+COUNTIF(Matrice!$3:$3,"A initier")),"")
I28: Mise en place | J28: =COUNTIF('Actions de maîtrise'!N:N,"X") -> 0 | K28: =IF($I$7<>0,J28/$I$7,"") | P28: Terminé | Q28: =COUNTIF('Plan d''actions détaillé'!$Q$6:$Q$611,'Tableau de bord'!P28) -> 0 | R28: =IF(Q28<>0,Q28/(COUNTIF(Matrice!$3:$3,"En cours")+COUNTIF(Matrice!$3:$3,"A initier")),"")
P29: Annulé | Q29: =COUNTIF('Plan d''actions détaillé'!$Q$6:$Q$611,'Tableau de bord'!P29) -> 0 | R29: =IF(Q29<>0,Q29/(COUNTIF(Matrice!$3:$3,"En cours")+COUNTIF(Matrice!$3:$3,"A initier")),"")
P30: Refusé | Q30: =COUNTIF('Plan d''actions détaillé'!$Q$6:$Q$611,'Tableau de bord'!P30) -> 0 | R30: =IF(Q30<>0,Q30/(COUNTIF(Matrice!$3:$3,"En cours")+COUNTIF(Matrice!$3:$3,"A initier")),"")

Sheet Risques
C1: ="EVALUATION DES RISQUES PROCESSUS "&Matrice!G1 -> EVALUATION DES RISQUES PROCESSUS DI2
C16: IDENTIFICATION DES RISQUES | T16: RISQUE RESIDUEL | Z16: RISQUE PROJETE
C17: Identification | J17: Mesure | T17: MESURE | Z17: MESURE
K18: Impact brut
C19: n° | D19: Recensement des risques | E19: Chapitre de la norme ISO | F19: Causes Main d 'œuvre (compétences, ressources, communication, formation) Méthodes (Consignes, Planning, Piste d'audit) Matière (Fournitures) Milieu (Environnement, Marché) Moyens (Machines, outils, intervenants) | G19: Risque générique | J19: Probabilité brute | K19: Financier | L19: Image | M19: Conformité | N19: Performance opératinnelle | P19: Criticité brute | R19: Actions de maîtrise | T19: Probabilité résiduelle | U19: Impact résiduel | V19: Criticité résiduelle | X19: Plan d'actions | Z19: Probabilité projetée | AA19: Impact projeté | AB19: Criticité projetée
C21: =Matrice!C23 -> DI2-R1 | D21: =IF(Matrice!D23="","",Matrice!D23) -> AAA | E21: =IF(Matrice!E23="","",Matrice!E23) | F21: =IF(Matrice!F23="","",Matrice!F23) | G21: =IF(Matrice!G23="","",Matrice!G23) | H21: =IF(Matrice!H23="","",Matrice!H23) | I21: =IF(Matrice!I23="","",Matrice!I23) | J21: =IF(Matrice!J23="","",Matrice!J23) | K21: =IF(Matrice!K23="","",Matrice!K23) | ... O21: =IF(Matrice!O23="","",Matrice!O23) | P21: =IF(OR(J21="",O21=""),"",IF((O21+J21)<4,"Très faible",IF((J21+O21)=4,"Faible",IF((O21+J21)=6,"Moyenne",IF((J21+O21)=7,"Forte",IF((O21+J21)>=8,"Majeure",IF(OR(AND(J21=4,O21=1),AND(J21=1,O21=4)),"Faible",IF(OR(AND(J21=3,O21=2),AND(J21=2,O21=3)),"Moyenne","")))))))) | T21: =Matrice!BX23 | U21: =Matrice!BY23 | V21: =IF(OR(T21=0,U21=0),"",IF(OR(T21="",U21=""),"",IF((U21+T21)<4,"Très faible",IF((T21+U21)=4,"Faible",IF((U21+T21)=6,"Moyenne",IF((T21+U21)=7,"Forte",IF((U21+T21)>=8,"Majeure",IF(OR(AND(T21=4,U21=1),AND(T21=1,U21=4)),"Faible",IF(OR(AND(T21=3,U21=2),AND(T21=2,U21=3)),"Moyenne",""))))))))) | W21: =IF(V21="Majeure",2,IF(V21="Forte",1,0)) -> 0 | Z21: =Matrice!DC23 | AA21: =Matrice!DD23 | AB21: =IF(OR(Z21=0,AA21=0),"",IF(OR(Z21="",AA21=""),"",IF((AA21+Z21)<4,"Très faible",IF((Z21+AA21)=4,"Faible",IF((AA21+Z21)=6,"Moyenne",IF((Z21+AA21)=7,"Forte",IF((AA21+Z21)>=8,"Majeure",IF(OR(AND(Z21=4,AA21=1),AND(Z21=1,AA21=4)),"Faible",IF(OR(AND(Z21=3,AA21=2),AND(Z21=2,AA21=3)),"Moyenne","")))))))))
C22: =Matrice!C24 -> DI2-R2 | D22: =IF(Matrice!D24="","",Matrice!D24) -> BBB | E22: =IF(Matrice!E24="","",Matrice!E24) | F22: =IF(Matrice!F24="","",Matrice!F24) | G22: =IF(Matrice!G24="","",Matrice!G24) | H22: =VLOOKUP(G22,Listes!W5:Y52,2,FALSE) -> #N/A | I22: =VLOOKUP(G22,Listes!W5:Y52,3,FALSE) -> #N/A | J22: =IF(Matrice!J24="","",Matrice!J24) | K22: =IF(Matrice!K24="","",Matrice!K24) | L22: =IF(Matrice!L24="","",Matrice!L24) | M22: =IF(Matrice!M24="","",Matrice!M24) | N22: =IF(Matrice!N24="","",Matrice!N24) | O22: =IF(Matrice!O24="","",Matrice!O24) | P22: =IF(OR(J22="",O22=""),"",IF((O22+J22)<4,"Très faible",IF((J22+O22)=4,"Faible",IF((O22+J22)=6,"Moyenne",IF((J22+O22)=7,"Forte",IF((O22+J22)>=8,"Majeure",IF(OR(AND(J22=4,O22=1),AND(J22=1,O22=4)),"Faible",IF(OR(AND(J22=3,O22=2),AND(J22=2,O22=3)),"Moyenne","")))))))) | T22: =Matrice!BX24 | U22: =Matrice!BY24 | V22: =IF(OR(T22=0,U22=0),"",IF(OR(T22="",U22=""),"",IF((U22+T22)<4,"Très faible",IF((T22+U22)=4,"Faible",IF((U22+T22)=6,"Moyenne",IF((T22+U22)=7,"Forte",IF((U22+T22)>=8,"Majeure",IF(OR(AND(T22=4,U22=1),AND(T22=1,U22=4)),"Faible",IF(OR(AND(T22=3,U22=2),AND(T22=2,U22=3)),"Moyenne",""))))))))) | W22: =IF(V22="Majeure",2,IF(V22="Forte",1,0)) -> 0 | Z22: =Matrice!DC24 | AA22: =Matrice!DD24 | AB22: =IF(OR(Z22=0,AA22=0),"",IF(OR(Z22="",AA22=""),"",IF((AA22+Z22)<4,"Très faible",IF((Z22+AA22)=4,"Faible",IF((AA22+Z22)=6,"Moyenne",IF((Z22+AA22)=7,"Forte",IF((AA22+Z22)>=8,"Majeure",IF(OR(AND(Z22=4,AA22=1),AND(Z22=1,AA22=4)),"Faible",IF(OR(AND(Z22=3,AA22=2),AND(Z22=2,AA22=3)),"Moyenne","")))))))))
C23: =Matrice!C25 -> DI2-R3 | D23: =IF(Matrice!D25="","",Matrice!D25) -> CCC | E23: =IF(Matrice!E25="","",Matrice!E25) | F23: =IF(Matrice!F25="","",Matrice!F25) | G23: =IF(Matrice!G25="","",Matrice!G25) | H23: =VLOOKUP(G23,Listes!W6:Y53,2,FALSE) -> #N/A | I23: =VLOOKUP(G23,Listes!W6:Y53,3,FALSE) -> #N/A | J23: =IF(Matrice!J25="","",Matrice!J25) | K23: =IF(Matrice!K25="","",Matrice!K25) | L23: =IF(Matrice!L25="","",Matrice!L25) | M23: =IF(Matrice!M25="","",Matrice!M25) | N23: =IF(Matrice!N25="","",Matrice!N25) | O23: =IF(Matrice!O25="","",Matrice!O25) | P23: =IF(OR(J23="",O23=""),"",IF((O23+J23)<4,"Très faible",IF((J23+O23)=4,"Faible",IF((O23+J23)=6,"Moyenne",IF((J23+O23)=7,"Forte",IF((O23+J23)>=8,"Majeure",IF(OR(AND(J23=4,O23=1),AND(J23=1,O23=4)),"Faible",IF(OR(AND(J23=3,O23=2),AND(J23=2,O23=3)),"Moyenne","")))))))) | T23: =Matrice!BX25 | U23: =Matrice!BY25 | V23: =IF(OR(T23=0,U23=0),"",IF(OR(T23="",U23=""),"",IF((U23+T23)<4,"Très faible",IF((T23+U23)=4,"Faible",IF((U23+T23)=6,"Moyenne",IF((T23+U23)=7,"Forte",IF((U23+T23)>=8,"Majeure",IF(OR(AND(T23=4,U23=1),AND(T23=1,U23=4)),"Faible",IF(OR(AND(T23=3,U23=2),AND(T23=2,U23=3)),"Moyenne",""))))))))) | W23: =IF(V23="Majeure",2,IF(V23="Forte",1,0)) -> 0 | Z23: =Matrice!DC25 | AA23: =Matrice!DD25 | AB23: =IF(OR(Z23=0,AA23=0),"",IF(OR(Z23="",AA23=""),"",IF((AA23+Z23)<4,"Très faible",IF((Z23+AA23)=4,"Faible",IF((AA23+Z23)=6,"Moyenne",IF((Z23+AA23)=7,"Forte",IF((AA23+Z23)>=8,"Majeure",IF(OR(AND(Z23=4,AA23=1),AND(Z23=1,AA23=4)),"Faible",IF(OR(AND(Z23=3,AA23=2),AND(Z23=2,AA23=3)),"Moyenne","")))))))))
C24: =Matrice!C26 | D24: =IF(Matrice!D26="","",Matrice!D26) | E24: =IF(Matrice!E26="","",Matrice!E26) | F24: =IF(Matrice!F26="","",Matrice!F26) | G24: =IF(Matrice!G26="","",Matrice!G26) | H24: =VLOOKUP(G24,Listes!W7:Y54,2,FALSE) -> #N/A | I24: =VLOOKUP(G24,Listes!W7:Y54,3,FALSE) -> #N/A | J24: =IF(Matrice!J26="","",Matrice!J26) | K24: =IF(Matrice!K26="","",Matrice!K26) | L24: =IF(Matrice!L26="","",Matrice!L26) | M24: =IF(Matrice!M26="","",Matrice!M26) | N24: =IF(Matrice!N26="","",Matrice!N26) | O24: =IF(Matrice!O26="","",Matrice!O26) | P24: =IF(OR(J24="",O24=""),"",IF((O24+J24)<4,"Très faible",IF((J24+O24)=4,"Faible",IF((O24+J24)=6,"Moyenne",IF((J24+O24)=7,"Forte",IF((O24+J24)>=8,"Majeure",IF(OR(AND(J24=4,O24=1),AND(J24=1,O24=4)),"Faible",IF(OR(AND(J24=3,O24=2),AND(J24=2,O24=3)),"Moyenne","")))))))) | T24: =Matrice!BX26 | U24: =Matrice!BY26 | V24: =IF(OR(T24=0,U24=0),"",IF(OR(T24="",U24=""),"",IF((U24+T24)<4,"Très faible",IF((T24+U24)=4,"Faible",IF((U24+T24)=6,"Moyenne",IF((T24+U24)=7,"Forte",IF((U24+T24)>=8,"Majeure",IF(OR(AND(T24=4,U24=1),AND(T24=1,U24=4)),"Faible",IF(OR(AND(T24=3,U24=2),AND(T24=2,U24=3)),"Moyenne",""))))))))) | W24: =IF(V24="Majeure",2,IF(V24="Forte",1,0)) -> 0 | Z24: =Matrice!DC26 | AA24: =Matrice!DD26 | AB24: =IF(OR(Z24=0,AA24=0),"",IF(OR(Z24="",AA24=""),"",IF((AA24+Z24)<4,"Très faible",IF((Z24+AA24)=4,"Faible",IF((AA24+Z24)=6,"Moyenne",IF((Z24+AA24)=7,"Forte",IF((AA24+Z24)>=8,"Majeure",IF(OR(AND(Z24=4,AA24=1),AND(Z24=1,AA24=4)),"Faible",IF(OR(AND(Z24=3,AA24=2),AND(Z24=2,AA24=3)),"Moyenne","")))))))))
C25: =Matrice!C27 | D25: =IF(Matrice!D27="","",Matrice!D27) | E25: =IF(Matrice!E27="","",Matrice!E27) | F25: =IF(Matrice!F27="","",Matrice!F27) | G25: =IF(Matrice!G27="","",Matrice!G27) | H25: =VLOOKUP(G25,Listes!W8:Y55,2,FALSE) -> #N/A | I25: =VLOOKUP(G25,Listes!W8:Y55,3,FALSE) -> #N/A | J25: =IF(Matrice!J27="","",Matrice!J27) | K25: =IF(Matrice!K27="","",Matrice!K27) | L25: =IF(Matrice!L27="","",Matrice!L27) | M25: =IF(Matrice!M27="","",Matrice!M27) | N25: =IF(Matrice!N27="","",Matrice!N27) | O25: =IF(Matrice!O27="","",Matrice!O27) | P25: =IF(OR(J25="",O25=""),"",IF((O25+J25)<4,"Très faible",IF((J25+O25)=4,"Faible",IF((O25+J25)=6,"Moyenne",IF((J25+O25)=7,"Forte",IF((O25+J25)>=8,"Majeure",IF(OR(AND(J25=4,O25=1),AND(J25=1,O25=4)),"Faible",IF(OR(AND(J25=3,O25=2),AND(J25=2,O25=3)),"Moyenne","")))))))) | T25: =Matrice!BX27 | U25: =Matrice!BY27 | V25: =IF(OR(T25=0,U25=0),"",IF(OR(T25="",U25=""),"",IF((U25+T25)<4,"Très faible",IF((T25+U25)=4,"Faible",IF((U25+T25)=6,"Moyenne",IF((T25+U25)=7,"Forte",IF((U25+T25)>=8,"Majeure",IF(OR(AND(T25=4,U25=1),AND(T25=1,U25=4)),"Faible",IF(OR(AND(T25=3,U25=2),AND(T25=2,U25=3)),"Moyenne",""))))))))) | W25: =IF(V25="Majeure",2,IF(V25="Forte",1,0)) -> 0 | Z25: =Matrice!DC27 | AA25: =Matrice!DD27 | AB25: =IF(OR(Z25=0,AA25=0),"",IF(OR(Z25="",AA25=""),"",IF((AA25+Z25)<4,"Très faible",IF((Z25+AA25)=4,"Faible",IF((AA25+Z25)=6,"Moyenne",IF((Z25+AA25)=7,"Forte",IF((AA25+Z25)>=8,"Majeure",IF(OR(AND(Z25=4,AA25=1),AND(Z25=1,AA25=4)),"Faible",IF(OR(AND(Z25=3,AA25=2),AND(Z25=2,AA25=3)),"Moyenne","")))))))))
C26: =Matrice!C28 | D26: =IF(Matrice!D28="","",Matrice!D28) | E26: =IF(Matrice!E28="","",Matrice!E28) | F26: =IF(Matrice!F28="","",Matrice!F28) | G26: =IF(Matrice!G28="","",Matrice!G28) | H26: =VLOOKUP(G26,Listes!W9:Y56,2,FALSE) -> #N/A | I26: =VLOOKUP(G26,Listes!W9:Y56,3,FALSE) -> #N/A | J26: =IF(Matrice!J28="","",Matrice!J28) | K26: =IF(Matrice!K28="","",Matrice!K28) | L26: =IF(Matrice!L28="","",Matrice!L28) | M26: =IF(Matrice!M28="","",Matrice!M28) | N26: =IF(Matrice!N28="","",Matrice!N28) | O26: =IF(Matrice!O28="","",Matrice!O28) | P26: =IF(OR(J26="",O26=""),"",IF((O26+J26)<4,"Très faible",IF((J26+O26)=4,"Faible",IF((O26+J26)=6,"Moyenne",IF((J26+O26)=7,"Forte",IF((O26+J26)>=8,"Majeure",IF(OR(AND(J26=4,O26=1),AND(J26=1,O26=4)),"Faible",IF(OR(AND(J26=3,O26=2),AND(J26=2,O26=3)),"Moyenne","")))))))) | T26: =Matrice!BX28 | U26: =Matrice!BY28 | V26: =IF(OR(T26=0,U26=0),"",IF(OR(T26="",U26=""),"",IF((U26+T26)<4,"Très faible",IF((T26+U26)=4,"Faible",IF((U26+T26)=6,"Moyenne",IF((T26+U26)=7,"Forte",IF((U26+T26)>=8,"Majeure",IF(OR(AND(T26=4,U26=1),AND(T26=1,U26=4)),"Faible",IF(OR(AND(T26=3,U26=2),AND(T26=2,U26=3)),"Moyenne",""))))))))) | W26: =IF(V26="Majeure",2,IF(V26="Forte",1,0)) -> 0 | Z26: =Matrice!DC28 | AA26: =Matrice!DD28 | AB26: =IF(OR(Z26=0,AA26=0),"",IF(OR(Z26="",AA26=""),"",IF((AA26+Z26)<4,"Très faible",IF((Z26+AA26)=4,"Faible",IF((AA26+Z26)=6,"Moyenne",IF((Z26+AA26)=7,"Forte",IF((AA26+Z26)>=8,"Majeure",IF(OR(AND(Z26=4,AA26=1),AND(Z26=1,AA26=4)),"Faible",IF(OR(AND(Z26=3,AA26=2),AND(Z26=2,AA26=3)),"Moyenne","")))))))))
C27: =Matrice!C29 | D27: =IF(Matrice!D29="","",Matrice!D29) | E27: =IF(Matrice!E29="","",Matrice!E29) | F27: =IF(Matrice!F29="","",Matrice!F29) | G27: =IF(Matrice!G29="","",Matrice!G29) | H27: =VLOOKUP(G27,Listes!W10:Y57,2,FALSE) -> #N/A | I27: =VLOOKUP(G27,Listes!W10:Y57,3,FALSE) -> #N/A | J27: =IF(Matrice!J29="","",Matrice!J29) | K27: =IF(Matrice!K29="","",Matrice!K29) | L27: =IF(Matrice!L29="","",Matrice!L29) | M27: =IF(Matrice!M29="","",Matrice!M29) | N27: =IF(Matrice!N29="","",Matrice!N29) | O27: =IF(Matrice!O29="","",Matrice!O29) | P27: =IF(OR(J27="",O27=""),"",IF((O27+J27)<4,"Très faible",IF((J27+O27)=4,"Faible",IF((O27+J27)=6,"Moyenne",IF((J27+O27)=7,"Forte",IF((O27+J27)>=8,"Majeure",IF(OR(AND(J27=4,O27=1),AND(J27=1,O27=4)),"Faible",IF(OR(AND(J27=3,O27=2),AND(J27=2,O27=3)),"Moyenne","")))))))) | T27: =Matrice!BX29 | U27: =Matrice!BY29 | V27: =IF(OR(T27=0,U27=0),"",IF(OR(T27="",U27=""),"",IF((U27+T27)<4,"Très faible",IF((T27+U27)=4,"Faible",IF((U27+T27)=6,"Moyenne",IF((T27+U27)=7,"Forte",IF((U27+T27)>=8,"Majeure",IF(OR(AND(T27=4,U27=1),AND(T27=1,U27=4)),"Faible",IF(OR(AND(T27=3,U27=2),AND(T27=2,U27=3)),"Moyenne",""))))))))) | W27: =IF(V27="Majeure",2,IF(V27="Forte",1,0)) -> 0 | Z27: =Matrice!DC29 | AA27: =Matrice!DD29 | AB27: =IF(OR(Z27=0,AA27=0),"",IF(OR(Z27="",AA27=""),"",IF((AA27+Z27)<4,"Très faible",IF((Z27+AA27)=4,"Faible",IF((AA27+Z27)=6,"Moyenne",IF((Z27+AA27)=7,"Forte",IF((AA27+Z27)>=8,"Majeure",IF(OR(AND(Z27=4,AA27=1),AND(Z27=1,AA27=4)),"Faible",IF(OR(AND(Z27=3,AA27=2),AND(Z27=2,AA27=3)),"Moyenne","")))))))))
C28: =Matrice!C30 | D28: =IF(Matrice!D30="","",Matrice!D30) | E28: =IF(Matrice!E30="","",Matrice!E30) | F28: =IF(Matrice!F30="","",Matrice!F30) | G28: =IF(Matrice!G30="","",Matrice!G30) | H28: =VLOOKUP(G28,Listes!W11:Y58,2,FALSE) -> #N/A | I28: =VLOOKUP(G28,Listes!W11:Y58,3,FALSE) -> #N/A | J28: =IF(Matrice!J30="","",Matrice!J30) | K28: =IF(Matrice!K30="","",Matrice!K30) | L28: =IF(Matrice!L30="","",Matrice!L30) | M28: =IF(Matrice!M30="","",Matrice!M30) | N28: =IF(Matrice!N30="","",Matrice!N30) | O28: =IF(Matrice!O30="","",Matrice!O30) | P28: =IF(OR(J28="",O28=""),"",IF((O28+J28)<4,"Très faible",IF((J28+O28)=4,"Faible",IF((O28+J28)=6,"Moyenne",IF((J28+O28)=7,"Forte",IF((O28+J28)>=8,"Majeure",IF(OR(AND(J28=4,O28=1),AND(J28=1,O28=4)),"Faible",IF(OR(AND(J28=3,O28=2),AND(J28=2,O28=3)),"Moyenne","")))))))) | T28: =Matrice!BX30 | U28: =Matrice!BY30 | V28: =IF(OR(T28=0,U28=0),"",IF(OR(T28="",U28=""),"",IF((U28+T28)<4,"Très faible",IF((T28+U28)=4,"Faible",IF((U28+T28)=6,"Moyenne",IF((T28+U28)=7,"Forte",IF((U28+T28)>=8,"Majeure",IF(OR(AND(T28=4,U28=1),AND(T28=1,U28=4)),"Faible",IF(OR(AND(T28=3,U28=2),AND(T28=2,U28=3)),"Moyenne",""))))))))) | W28: =IF(V28="Majeure",2,IF(V28="Forte",1,0)) -> 0 | Z28: =Matrice!DC30 | AA28: =Matrice!DD30 | AB28: =IF(OR(Z28=0,AA28=0),"",IF(OR(Z28="",AA28=""),"",IF((AA28+Z28)<4,"Très faible",IF((Z28+AA28)=4,"Faible",IF((AA28+Z28)=6,"Moyenne",IF((Z28+AA28)=7,"Forte",IF((AA28+Z28)>=8,"Majeure",IF(OR(AND(Z28=4,AA28=1),AND(Z28=1,AA28=4)),"Faible",IF(OR(AND(Z28=3,AA28=2),AND(Z28=2,AA28=3)),"Moyenne","")))))))))
C29: =Matrice!C31 | D29: =IF(Matrice!D31="","",Matrice!D31) | E29: =IF(Matrice!E31="","",Matrice!E31) | F29: =IF(Matrice!F31="","",Matrice!F31) | G29: =IF(Matrice!G31="","",Matrice!G31) | H29: =VLOOKUP(G29,Listes!W12:Y59,2,FALSE) -> #N/A | I29: =VLOOKUP(G29,Listes!W12:Y59,3,FALSE) -> #N/A | J29: =IF(Matrice!J31="","",Matrice!J31) | K29: =IF(Matrice!K31="","",Matrice!K31) | L29: =IF(Matrice!L31="","",Matrice!L31) | M29: =IF(Matrice!M31="","",Matrice!M31) | N29: =IF(Matrice!N31="","",Matrice!N31) | O29: =IF(Matrice!O31="","",Matrice!O31) | P29: =IF(OR(J29="",O29=""),"",IF((O29+J29)<4,"Très faible",IF((J29+O29)=4,"Faible",IF((O29+J29)=6,"Moyenne",IF((J29+O29)=7,"Forte",IF((O29+J29)>=8,"Majeure",IF(OR(AND(J29=4,O29=1),AND(J29=1,O29=4)),"Faible",IF(OR(AND(J29=3,O29=2),AND(J29=2,O29=3)),"Moyenne","")))))))) | T29: =Matrice!BX31 | U29: =Matrice!BY31 | V29: =IF(OR(T29=0,U29=0),"",IF(OR(T29="",U29=""),"",IF((U29+T29)<4,"Très faible",IF((T29+U29)=4,"Faible",IF((U29+T29)=6,"Moyenne",IF((T29+U29)=7,"Forte",IF((U29+T29)>=8,"Majeure",IF(OR(AND(T29=4,U29=1),AND(T29=1,U29=4)),"Faible",IF(OR(AND(T29=3,U29=2),AND(T29=2,U29=3)),"Moyenne",""))))))))) | W29: =IF(V29="Majeure",2,IF(V29="Forte",1,0)) -> 0 | Z29: =Matrice!DC31 | AA29: =Matrice!DD31 | AB29: =IF(OR(Z29=0,AA29=0),"",IF(OR(Z29="",AA29=""),"",IF((AA29+Z29)<4,"Très faible",IF((Z29+AA29)=4,"Faible",IF((AA29+Z29)=6,"Moyenne",IF((Z29+AA29)=7,"Forte",IF((AA29+Z29)>=8,"Majeure",IF(OR(AND(Z29=4,AA29=1),AND(Z29=1,AA29=4)),"Faible",IF(OR(AND(Z29=3,AA29=2),AND(Z29=2,AA29=3)),"Moyenne","")))))))))
C30: =Matrice!C32 | D30: =IF(Matrice!D32="","",Matrice!D32) | E30: =IF(Matrice!E32="","",Matrice!E32) | F30: =IF(Matrice!F32="","",Matrice!F32) | G30: =IF(Matrice!G32="","",Matrice!G32) | H30: =VLOOKUP(G30,Listes!W13:Y60,2,FALSE) -> #N/A | I30: =VLOOKUP(G30,Listes!W13:Y60,3,FALSE) -> #N/A | J30: =IF(Matrice!J32="","",Matrice!J32) | K30: =IF(Matrice!K32="","",Matrice!K32) | L30: =IF(Matrice!L32="","",Matrice!L32) | M30: =IF(Matrice!M32="","",Matrice!M32) | N30: =IF(Matrice!N32="","",Matrice!N32) | O30: =IF(Matrice!O32="","",Matrice!O32) | P30: =IF(OR(J30="",O30=""),"",IF((O30+J30)<4,"Très faible",IF((J30+O30)=4,"Faible",IF((O30+J30)=6,"Moyenne",IF((J30+O30)=7,"Forte",IF((O30+J30)>=8,"Majeure",IF(OR(AND(J30=4,O30=1),AND(J30=1,O30=4)),"Faible",IF(OR(AND(J30=3,O30=2),AND(J30=2,O30=3)),"Moyenne","")))))))) | T30: =Matrice!BX32 | U30: =Matrice!BY32 | V30: =IF(OR(T30=0,U30=0),"",IF(OR(T30="",U30=""),"",IF((U30+T30)<4,"Très faible",IF((T30+U30)=4,"Faible",IF((U30+T30)=6,"Moyenne",IF((T30+U30)=7,"Forte",IF((U30+T30)>=8,"Majeure",IF(OR(AND(T30=4,U30=1),AND(T30=1,U30=4)),"Faible",IF(OR(AND(T30=3,U30=2),AND(T30=2,U30=3)),"Moyenne",""))))))))) | W30: =IF(V30="Majeure",2,IF(V30="Forte",1,0)) -> 0 | Z30: =Matrice!DC32 | AA30: =Matrice!DD32 | AB30: =IF(OR(Z30=0,AA30=0),"",IF(OR(Z30="",AA30=""),"",IF((AA30+Z30)<4,"Très faible",IF((Z30+AA30)=4,"Faible",IF((AA30+Z30)=6,"Moyenne",IF((Z30+AA30)=7,"Forte",IF((AA30+Z30)>=8,"Majeure",IF(OR(AND(Z30=4,AA30=1),AND(Z30=1,AA30=4)),"Faible",IF(OR(AND(Z30=3,AA30=2),AND(Z30=2,AA30=3)),"Moyenne","")))))))))
C31: =Matrice!C33 | D31: =IF(Matrice!D33="","",Matrice!D33) | E31: =IF(Matrice!E33="","",Matrice!E33) | F31: =IF(Matrice!F33="","",Matrice!F33) | G31: =IF(Matrice!G33="","",Matrice!G33) | H31: =VLOOKUP(G31,Listes!W14:Y61,2,FALSE) -> #N/A | I31: =VLOOKUP(G31,Listes!W14:Y61,3,FALSE) -> #N/A | J31: =IF(Matrice!J33="","",Matrice!J33) | K31: =IF(Matrice!K33="","",Matrice!K33) | L31: =IF(Matrice!L33="","",Matrice!L33) | M31: =IF(Matrice!M33="","",Matrice!M33) | N31: =IF(Matrice!N33="","",Matrice!N33) | O31: =IF(Matrice!O33="","",Matrice!O33) | P31: =IF(OR(J31="",O31=""),"",IF((O31+J31)<4,"Très faible",IF((J31+O31)=4,"Faible",IF((O31+J31)=6,"Moyenne",IF((J31+O31)=7,"Forte",IF((O31+J31)>=8,"Majeure",IF(OR(AND(J31=4,O31=1),AND(J31=1,O31=4)),"Faible",IF(OR(AND(J31=3,O31=2),AND(J31=2,O31=3)),"Moyenne","")))))))) | T31: =Matrice!BX33 | U31: =Matrice!BY33 | V31: =IF(OR(T31=0,U31=0),"",IF(OR(T31="",U31=""),"",IF((U31+T31)<4,"Très faible",IF((T31+U31)=4,"Faible",IF((U31+T31)=6,"Moyenne",IF((T31+U31)=7,"Forte",IF((U31+T31)>=8,"Majeure",IF(OR(AND(T31=4,U31=1),AND(T31=1,U31=4)),"Faible",IF(OR(AND(T31=3,U31=2),AND(T31=2,U31=3)),"Moyenne",""))))))))) | W31: =IF(V31="Majeure",2,IF(V31="Forte",1,0)) -> 0 | Z31: =Matrice!DC33 | AA31: =Matrice!DD33 | AB31: =IF(OR(Z31=0,AA31=0),"",IF(OR(Z31="",AA31=""),"",IF((AA31+Z31)<4,"Très faible",IF((Z31+AA31)=4,"Faible",IF((AA31+Z31)=6,"Moyenne",IF((Z31+AA31)=7,"Forte",IF((AA31+Z31)>=8,"Majeure",IF(OR(AND(Z31=4,AA31=1),AND(Z31=1,AA31=4)),"Faible",IF(OR(AND(Z31=3,AA31=2),AND(Z31=2,AA31=3)),"Moyenne","")))))))))
C32: =Matrice!C34 | D32: =IF(Matrice!D34="","",Matrice!D34) | E32: =IF(Matrice!E34="","",Matrice!E34) | F32: =IF(Matrice!F34="","",Matrice!F34) | G32: =IF(Matrice!G34="","",Matrice!G34) | H32: =VLOOKUP(G32,Listes!W15:Y62,2,FALSE) -> #N/A | I32: =VLOOKUP(G32,Listes!W15:Y62,3,FALSE) -> #N/A | J32: =IF(Matrice!J34="","",Matrice!J34) | K32: =IF(Matrice!K34="","",Matrice!K34) | L32: =IF(Matrice!L34="","",Matrice!L34) | M32: =IF(Matrice!M34="","",Matrice!M34) | N32: =IF(Matrice!N34="","",Matrice!N34) | O32: =IF(Matrice!O34="","",Matrice!O34) | P32: =IF(OR(J32="",O32=""),"",IF((O32+J32)<4,"Très faible",IF((J32+O32)=4,"Faible",IF((O32+J32)=6,"Moyenne",IF((J32+O32)=7,"Forte",IF((O32+J32)>=8,"Majeure",IF(OR(AND(J32=4,O32=1),AND(J32=1,O32=4)),"Faible",IF(OR(AND(J32=3,O32=2),AND(J32=2,O32=3)),"Moyenne","")))))))) | T32: =Matrice!BX34 | U32: =Matrice!BY34 | V32: =IF(OR(T32=0,U32=0),"",IF(OR(T32="",U32=""),"",IF((U32+T32)<4,"Très faible",IF((T32+U32)=4,"Faible",IF((U32+T32)=6,"Moyenne",IF((T32+U32)=7,"Forte",IF((U32+T32)>=8,"Majeure",IF(OR(AND(T32=4,U32=1),AND(T32=1,U32=4)),"Faible",IF(OR(AND(T32=3,U32=2),AND(T32=2,U32=3)),"Moyenne",""))))))))) | W32: =IF(V32="Majeure",2,IF(V32="Forte",1,0)) -> 0 | Z32: =Matrice!DC34 | AA32: =Matrice!DD34 | AB32: =IF(OR(Z32=0,AA32=0),"",IF(OR(Z32="",AA32=""),"",IF((AA32+Z32)<4,"Très faible",IF((Z32+AA32)=4,"Faible",IF((AA32+Z32)=6,"Moyenne",IF((Z32+AA32)=7,"Forte",IF((AA32+Z32)>=8,"Majeure",IF(OR(AND(Z32=4,AA32=1),AND(Z32=1,AA32=4)),"Faible",IF(OR(AND(Z32=3,AA32=2),AND(Z32=2,AA32=3)),"Moyenne","")))))))))
C33: =Matrice!C35 | D33: =IF(Matrice!D35="","",Matrice!D35) | E33: =IF(Matrice!E35="","",Matrice!E35) | F33: =IF(Matrice!F35="","",Matrice!F35) | G33: =IF(Matrice!G35="","",Matrice!G35) | H33: =VLOOKUP(G33,Listes!W16:Y63,2,FALSE) -> #N/A | I33: =VLOOKUP(G33,Listes!W16:Y63,3,FALSE) -> #N/A | J33: =IF(Matrice!J35="","",Matrice!J35) | K33: =IF(Matrice!K35="","",Matrice!K35) | L33: =IF(Matrice!L35="","",Matrice!L35) | M33: =IF(Matrice!M35="","",Matrice!M35) | N33: =IF(Matrice!N35="","",Matrice!N35) | O33: =IF(Matrice!O35="","",Matrice!O35) | P33: =IF(OR(J33="",O33=""),"",IF((O33+J33)<4,"Très faible",IF((J33+O33)=4,"Faible",IF((O33+J33)=6,"Moyenne",IF((J33+O33)=7,"Forte",IF((O33+J33)>=8,"Majeure",IF(OR(AND(J33=4,O33=1),AND(J33=1,O33=4)),"Faible",IF(OR(AND(J33=3,O33=2),AND(J33=2,O33=3)),"Moyenne","")))))))) | T33: =Matrice!BX35 | U33: =Matrice!BY35 | V33: =IF(OR(T33=0,U33=0),"",IF(OR(T33="",U33=""),"",IF((U33+T33)<4,"Très faible",IF((T33+U33)=4,"Faible",IF((U33+T33)=6,"Moyenne",IF((T33+U33)=7,"Forte",IF((U33+T33)>=8,"Majeure",IF(OR(AND(T33=4,U33=1),AND(T33=1,U33=4)),"Faible",IF(OR(AND(T33=3,U33=2),AND(T33=2,U33=3)),"Moyenne",""))))))))) | W33: =IF(V33="Majeure",2,IF(V33="Forte",1,0)) -> 0 | Z33: =Matrice!DC35 | AA33: =Matrice!DD35 | AB33: =IF(OR(Z33=0,AA33=0),"",IF(OR(Z33="",AA33=""),"",IF((AA33+Z33)<4,"Très faible",IF((Z33+AA33)=4,"Faible",IF((AA33+Z33)=6,"Moyenne",IF((Z33+AA33)=7,"Forte",IF((AA33+Z33)>=8,"Majeure",IF(OR(AND(Z33=4,AA33=1),AND(Z33=1,AA33=4)),"Faible",IF(OR(AND(Z33=3,AA33=2),AND(Z33=2,AA33=3)),"Moyenne","")))))))))
... C40: =Matrice!C42 | D40: =IF(Matrice!D42="","",Matrice!D42) | E40: =IF(Matrice!E42="","",Matrice!E42) | F40: =IF(Matrice!F42="","",Matrice!F42) | G40: =IF(Matrice!G42="","",Matrice!G42) | H40: =VLOOKUP(G40,Listes!W23:Y70,2,FALSE) -> #N/A | I40: =VLOOKUP(G40,Listes!W23:Y70,3,FALSE) -> #N/A | J40: =IF(Matrice!J42="","",Matrice!J42) | K40: =IF(Matrice!K42="","",Matrice!K42) | L40: =IF(Matrice!L42="","",Matrice!L42) | M40: =IF(Matrice!M42="","",Matrice!M42) | N40: =IF(Matrice!N42="","",Matrice!N42) | O40: =IF(Matrice!O42="","",Matrice!O42) | P40: =IF(OR(J40="",O40=""),"",IF((O40+J40)<4,"Très faible",IF((J40+O40)=4,"Faible",IF((O40+J40)=6,"Moyenne",IF((J40+O40)=7,"Forte",IF((O40+J40)>=8,"Majeure",IF(OR(AND(J40=4,O40=1),AND(J40=1,O40=4)),"Faible",IF(OR(AND(J40=3,O40=2),AND(J40=2,O40=3)),"Moyenne","")))))))) | T40: =Matrice!BX42 | U40: =Matrice!BY42 | V40: =IF(OR(T40=0,U40=0),"",IF(OR(T40="",U40=""),"",IF((U40+T40)<4,"Très faible",IF((T40+U40)=4,"Faible",IF((U40+T40)=6,"Moyenne",IF((T40+U40)=7,"Forte",IF((U40+T40)>=8,"Majeure",IF(OR(AND(T40=4,U40=1),AND(T40=1,U40=4)),"Faible",IF(OR(AND(T40=3,U40=2),AND(T40=2,U40=3)),"Moyenne",""))))))))) | W40: =IF(V40="Majeure",2,IF(V40="Forte",1,0)) -> 0 | Z40: =Matrice!DC42 | AA40: =Matrice!DD42 | AB40: =IF(OR(Z40=0,AA40=0),"",IF(OR(Z40="",AA40=""),"",IF((AA40+Z40)<4,"Très faible",IF((Z40+AA40)=4,"Faible",IF((AA40+Z40)=6,"Moyenne",IF((Z40+AA40)=7,"Forte",IF((AA40+Z40)>=8,"Majeure",IF(OR(AND(Z40=4,AA40=1),AND(Z40=1,AA40=4)),"Faible",IF(OR(AND(Z40=3,AA40=2),AND(Z40=2,AA40=3)),"Moyenne","")))))))))

Sheet Fiches risques
B2: RECAPITULATIF DES RISQUES RESIDUELS MAJEURS ET FORTS
B3: Processus | C3: N° | D3: Risque
A4: =LARGE(Risques!$W$21:$W$40,1) -> 0 | B4: =IF(OR(A4=1,A4=2),Matrice!$G$1,"") | C4: {=IF(A4=0,"",INDEX(Risques!$C$1:$C$40,MIN(IF(Risques!$W$21:$W$40='Fiches risques'!A4,IF(COUNTIF(C$3:C3,Risques!$C$21:$C$40)=0,ROW(Risques!$C$21:$C$40)))))&"")} | D4: {=IF(A4=0,"",INDEX(Risques!$D$1:$D$40,MIN(IF(Risques!$W$21:$W$40='Fiches risques'!A4,IF(COUNTIF(D$3:D3,Risques!$D$21:$D$40)=0,ROW(Risques!$D$21:$D$40)))))&"")}
A5: =LARGE(Risques!$W$21:$W$40,2) -> 0 | B5: =IF(OR(A5=1,A5=2),Matrice!$G$1,"") | C5: {=IF(A5=0,"",INDEX(Risques!$C$1:$C$40,MIN(IF(Risques!$W$21:$W$40='Fiches risques'!A5,IF(COUNTIF(C$3:C4,Risques!$C$21:$C$40)=0,ROW(Risques!$C$21:$C$40)))))&"")} | D5: {=IF(A5=0,"",INDEX(Risques!$D$1:$D$40,MIN(IF(Risques!$W$21:$W$40='Fiches risques'!A5,IF(COUNTIF(D$3:D4,Risques!$D$21:$D$40)=0,ROW(Risques!$D$21:$D$40)))))&"")}
A6: =LARGE(Risques!$W$21:$W$40,3) -> 0 | B6: =IF(OR(A6=1,A6=2),Matrice!$G$1,"") | C6: {=IF(A6=0,"",INDEX(Risques!$C$1:$C$40,MIN(IF(Risques!$W$21:$W$40='Fiches risques'!A6,IF(COUNTIF(C$3:C5,Risques!$C$21:$C$40)=0,ROW(Risques!$C$21:$C$40)))))&"")} | D6: {=IF(A6=0,"",INDEX(Risques!$D$1:$D$40,MIN(IF(Risques!$W$21:$W$40='Fiches risques'!A6,IF(COUNTIF(D$3:D5,Risques!$D$21:$D$40)=0,ROW(Risques!$D$21:$D$40)))))&"")}
A7: =LARGE(Risques!$W$21:$W$40,4) -> 0 | B7: =IF(OR(A7=1,A7=2),Matrice!$G$1,"") | C7: {=IF(A7=0,"",INDEX(Risques!$C$1:$C$40,MIN(IF(Risques!$W$21:$W$40='Fiches risques'!A7,IF(COUNTIF(C$3:C6,Risques!$C$21:$C$40)=0,ROW(Risques!$C$21:$C$40)))))&"")} | D7: {=IF(A7=0,"",INDEX(Risques!$D$1:$D$40,MIN(IF(Risques!$W$21:$W$40='Fiches risques'!A7,IF(COUNTIF(D$3:D6,Risques!$D$21:$D$40)=0,ROW(Risques!$D$21:$D$40)))))&"")}
A8: =LARGE(Risques!$W$21:$W$40,5) -> 0 | B8: =IF(OR(A8=1,A8=2),Matrice!$G$1,"") | C8: {=IF(A8=0,"",INDEX(Risques!$C$1:$C$40,MIN(IF(Risques!$W$21:$W$40='Fiches risques'!A8,IF(COUNTIF(C$3:C7,Risques!$C$21:$C$40)=0,ROW(Risques!$C$21:$C$40)))))&"")} | D8: {=IF(A8=0,"",INDEX(Risques!$D$1:$D$40,MIN(IF(Risques!$W$21:$W$40='Fiches risques'!A8,IF(COUNTIF(D$3:D7,Risques!$D$21:$D$40)=0,ROW(Risques!$D$21:$D$40)))))&"")}
A9: =LARGE(Risques!$W$21:$W$40,6) -> 0 | B9: =IF(OR(A9=1,A9=2),Matrice!$G$1,"") | C9: {=IF(A9=0,"",INDEX(Risques!$C$1:$C$40,MIN(IF(Risques!$W$21:$W$40='Fiches risques'!A9,IF(COUNTIF(C$3:C8,Risques!$C$21:$C$40)=0,ROW(Risques!$C$21:$C$40)))))&"")} | D9: {=IF(A9=0,"",INDEX(Risques!$D$1:$D$40,MIN(IF(Risques!$W$21:$W$40='Fiches risques'!A9,IF(COUNTIF(D$3:D8,Risques!$D$21:$D$40)=0,ROW(Risques!$D$21:$D$40)))))&"")}
A10: =LARGE(Risques!$W$21:$W$40,7) -> 0 | B10: =IF(OR(A10=1,A10=2),Matrice!$G$1,"") | C10: {=IF(A10=0,"",INDEX(Risques!$C$1:$C$40,MIN(IF(Risques!$W$21:$W$40='Fiches risques'!A10,IF(COUNTIF(C$3:C9,Risques!$C$21:$C$40)=0,ROW(Risques!$C$21:$C$40)))))&"")} | D10: {=IF(A10=0,"",INDEX(Risques!$D$1:$D$40,MIN(IF(Risques!$W$21:$W$40='Fiches risques'!A10,IF(COUNTIF(D$3:D9,Risques!$D$21:$D$40)=0,ROW(Risques!$D$21:$D$40)))))&"")}
A11: =LARGE(Risques!$W$21:$W$40,8) -> 0 | B11: =IF(OR(A11=1,A11=2),Matrice!$G$1,"") | C11: {=IF(A11=0,"",INDEX(Risques!$C$1:$C$40,MIN(IF(Risques!$W$21:$W$40='Fiches risques'!A11,IF(COUNTIF(C$3:C10,Risques!$C$21:$C$40)=0,ROW(Risques!$C$21:$C$40)))))&"")} | D11: {=IF(A11=0,"",INDEX(Risques!$D$1:$D$40,MIN(IF(Risques!$W$21:$W$40='Fiches risques'!A11,IF(COUNTIF(D$3:D10,Risques!$D$21:$D$40)=0,ROW(Risques!$D$21:$D$40)))))&"")}
A12: =LARGE(Risques!$W$21:$W$40,9) -> 0 | B12: =IF(OR(A12=1,A12=2),Matrice!$G$1,"") | C12: {=IF(A12=0,"",INDEX(Risques!$C$1:$C$40,MIN(IF(Risques!$W$21:$W$40='Fiches risques'!A12,IF(COUNTIF(C$3:C11,Risques!$C$21:$C$40)=0,ROW(Risques!$C$21:$C$40)))))&"")} | D12: {=IF(A12=0,"",INDEX(Risques!$D$1:$D$40,MIN(IF(Risques!$W$21:$W$40='Fiches risques'!A12,IF(COUNTIF(D$3:D11,Risques!$D$21:$D$40)=0,ROW(Risques!$D$21:$D$40)))))&"")}
A13: =LARGE(Risques!$W$21:$W$40,10) -> 0 | B13: =IF(OR(A13=1,A13=2),Matrice!$G$1,"") | C13: {=IF(A13=0,"",INDEX(Risques!$C$1:$C$40,MIN(IF(Risques!$W$21:$W$40='Fiches risques'!A13,IF(COUNTIF(C$3:C12,Risques!$C$21:$C$40)=0,ROW(Risques!$C$21:$C$40)))))&"")} | D13: {=IF(A13=0,"",INDEX(Risques!$D$1:$D$40,MIN(IF(Risques!$W$21:$W$40='Fiches risques'!A13,IF(COUNTIF(D$3:D12,Risques!$D$21:$D$40)=0,ROW(Risques!$D$21:$D$40)))))&"")}
A14: =LARGE(Risques!$W$21:$W$40,11) -> 0 | B14: =IF(OR(A14=1,A14=2),Matrice!$G$1,"") | C14: {=IF(A14=0,"",INDEX(Risques!$C$1:$C$40,MIN(IF(Risques!$W$21:$W$40='Fiches risques'!A14,IF(COUNTIF(C$3:C13,Risques!$C$21:$C$40)=0,ROW(Risques!$C$21:$C$40)))))&"")} | D14: {=IF(A14=0,"",INDEX(Risques!$D$1:$D$40,MIN(IF(Risques!$W$21:$W$40='Fiches risques'!A14,IF(COUNTIF(D$3:D13,Risques!$D$21:$D$40)=0,ROW(Risques!$D$21:$D$40)))))&"")}
A15: =LARGE(Risques!$W$21:$W$40,12) -> 0 | B15: =IF(OR(A15=1,A15=2),Matrice!$G$1,"") | C15: {=IF(A15=0,"",INDEX(Risques!$C$1:$C$40,MIN(IF(Risques!$W$21:$W$40='Fiches risques'!A15,IF(COUNTIF(C$3:C14,Risques!$C$21:$C$40)=0,ROW(Risques!$C$21:$C$40)))))&"")} | D15: {=IF(A15=0,"",INDEX(Risques!$D$1:$D$40,MIN(IF(Risques!$W$21:$W$40='Fiches risques'!A15,IF(COUNTIF(D$3:D14,Risques!$D$21:$D$40)=0,ROW(Risques!$D$21:$D$40)))))&"")}
A16: =LARGE(Risques!$W$21:$W$40,13) -> 0 | B16: =IF(OR(A16=1,A16=2),Matrice!$G$1,"") | C16: {=IF(A16=0,"",INDEX(Risques!$C$1:$C$40,MIN(IF(Risques!$W$21:$W$40='Fiches risques'!A16,IF(COUNTIF(C$3:C15,Risques!$C$21:$C$40)=0,ROW(Risques!$C$21:$C$40)))))&"")} | D16: {=IF(A16=0,"",INDEX(Risques!$D$1:$D$40,MIN(IF(Risques!$W$21:$W$40='Fiches risques'!A16,IF(COUNTIF(D$3:D15,Risques!$D$21:$D$40)=0,ROW(Risques!$D$21:$D$40)))))&"")}
A17: =LARGE(Risques!$W$21:$W$40,14) -> 0 | B17: =IF(OR(A17=1,A17=2),Matrice!$G$1,"") | C17: {=IF(A17=0,"",INDEX(Risques!$C$1:$C$40,MIN(IF(Risques!$W$21:$W$40='Fiches risques'!A17,IF(COUNTIF(C$3:C16,Risques!$C$21:$C$40)=0,ROW(Risques!$C$21:$C$40)))))&"")} | D17: {=IF(A17=0,"",INDEX(Risques!$D$1:$D$40,MIN(IF(Risques!$W$21:$W$40='Fiches risques'!A17,IF(COUNTIF(D$3:D16,Risques!$D$21:$D$40)=0,ROW(Risques!$D$21:$D$40)))))&"")}
A18: =LARGE(Risques!$W$21:$W$40,15) -> 0 | B18: =IF(OR(A18=1,A18=2),Matrice!$G$1,"") | C18: {=IF(A18=0,"",INDEX(Risques!$C$1:$C$40,MIN(IF(Risques!$W$21:$W$40='Fiches risques'!A18,IF(COUNTIF(C$3:C17,Risques!$C$21:$C$40)=0,ROW(Risques!$C$21:$C$40)))))&"")} | D18: {=IF(A18=0,"",INDEX(Risques!$D$1:$D$40,MIN(IF(Risques!$W$21:$W$40='Fiches risques'!A18,IF(COUNTIF(D$3:D17,Risques!$D$21:$D$40)=0,ROW(Risques!$D$21:$D$40)))))&"")}
A19: =LARGE(Risques!$W$21:$W$40,16) -> 0 | B19: =IF(OR(A19=1,A19=2),Matrice!$G$1,"") | C19: {=IF(A19=0,"",INDEX(Risques!$C$1:$C$40,MIN(IF(Risques!$W$21:$W$40='Fiches risques'!A19,IF(COUNTIF(C$3:C18,Risques!$C$21:$C$40)=0,ROW(Risques!$C$21:$C$40)))))&"")} | D19: {=IF(A19=0,"",INDEX(Risques!$D$1:$D$40,MIN(IF(Risques!$W$21:$W$40='Fiches risques'!A19,IF(COUNTIF(D$3:D18,Risques!$D$21:$D$40)=0,ROW(Risques!$D$21:$D$40)))))&"")}
A20: =LARGE(Risques!$W$21:$W$40,17) -> 0 | B20: =IF(OR(A20=1,A20=2),Matrice!$G$1,"") | C20: {=IF(A20=0,"",INDEX(Risques!$C$1:$C$40,MIN(IF(Risques!$W$21:$W$40='Fiches risques'!A20,IF(COUNTIF(C$3:C19,Risques!$C$21:$C$40)=0,ROW(Risques!$C$21:$C$40)))))&"")} | D20: {=IF(A20=0,"",INDEX(Risques!$D$1:$D$40,MIN(IF(Risques!$W$21:$W$40='Fiches risques'!A20,IF(COUNTIF(D$3:D19,Risques!$D$21:$D$40)=0,ROW(Risques!$D$21:$D$40)))))&"")}
A21: =LARGE(Risques!$W$21:$W$40,18) -> 0 | B21: =IF(OR(A21=1,A21=2),Matrice!$G$1,"") | C21: {=IF(A21=0,"",INDEX(Risques!$C$1:$C$40,MIN(IF(Risques!$W$21:$W$40='Fiches risques'!A21,IF(COUNTIF(C$3:C20,Risques!$C$21:$C$40)=0,ROW(Risques!$C$21:$C$40)))))&"")} | D21: {=IF(A21=0,"",INDEX(Risques!$D$1:$D$40,MIN(IF(Risques!$W$21:$W$40='Fiches risques'!A21,IF(COUNTIF(D$3:D20,Risques!$D$21:$D$40)=0,ROW(Risques!$D$21:$D$40)))))&"")}
A22: =LARGE(Risques!$W$21:$W$40,19) -> 0 | B22: =IF(OR(A22=1,A22=2),Matrice!$G$1,"") | C22: {=IF(A22=0,"",INDEX(Risques!$C$1:$C$40,MIN(IF(Risques!$W$21:$W$40='Fiches risques'!A22,IF(COUNTIF(C$3:C21,Risques!$C$21:$C$40)=0,ROW(Risques!$C$21:$C$40)))))&"")} | D22: {=IF(A22=0,"",INDEX(Risques!$D$1:$D$40,MIN(IF(Risques!$W$21:$W$40='Fiches risques'!A22,IF(COUNTIF(D$3:D21,Risques!$D$21:$D$40)=0,ROW(Risques!$D$21:$D$40)))))&"")}
A23: =LARGE(Risques!$W$21:$W$40,20) -> 0 | B23: =IF(OR(A23=1,A23=2),Matrice!$G$1,"") | C23: {=IF(A23=0,"",INDEX(Risques!$C$1:$C$40,MIN(IF(Risques!$W$21:$W$40='Fiches risques'!A23,IF(COUNTIF(C$3:C22,Risques!$C$21:$C$40)=0,ROW(Risques!$C$21:$C$40)))))&"")} | D23: {=IF(A23=0,"",INDEX(Risques!$D$1:$D$40,MIN(IF(Risques!$W$21:$W$40='Fiches risques'!A23,IF(COUNTIF(D$3:D22,Risques!$D$21:$D$40)=0,ROW(Risques!$D$21:$D$40)))))&"")}
G26: =C4 | K26: =D4
G29: Probabilité | H29: =IF(AND(O34=5,O35=1),"X","") | I29: =IF(AND(O34=5,O35=2),"X","") | J29: =IF(AND(O34=5,O35=3),"X","") | K29: =IF(AND(O34=5,O35=4),"X","") | L29: =IF(AND(O34=5,O35=5),"X","") | N29: ="Processus de rattachement " -> Processus de rattachement
H30: =IF(AND(O34=4,O35=1),"X","") | I30: =IF(AND(O34=4,O35=2),"X","") | J30: =IF(AND(O34=4,O35=3),"X","") | K30: =IF(AND(O34=4,O35=4),"X","") | L30: =IF(AND(O34=4,O35=5),"X","") | N30: =Matrice!$G$1&" - "&Matrice!$J$1 -> DI2 - YYY
H31: =IF(AND(O34=3,O35=1),"X","") | I31: =IF(AND(O34=3,O35=2),"X","") | J31: =IF(AND(O34=3,O35=3),"X","") | K31: =IF(AND(O34=3,O35=4),"X","") | L31: =IF(AND(O34=3,O35=5),"X","")
H32: =IF(AND(O34=2,O35=1),"X","") | I32: =IF(AND(O34=2,O35=2),"X","") | J32: =IF(AND(O34=2,O35=3),"X","") | K32: =IF(AND(O34=2,O35=4),"X","") | L32: =IF(AND(O34=2,O35=5),"X","") | N32: Restitution | S32: Arbitrage
H33: =IF(AND(O34=1,O35=1),"X","") | I33: =IF(AND(O34=1,O35=2),"X","") | J33: =IF(AND(O34=1,O35=3),"X","") | K33: =IF(AND(O34=1,O35=4),"X","") | L33: =IF(AND(O34=1,O35=5),"X","") | O33: Evaluation 2016 | P33: Risque projeté | T33: Evaluation 2016 | U33: Risque projeté
H34: Impact | N34: Probabilité : | O34: =VLOOKUP($K26,Risques!$D$21:$AB$40,17,FALSE) | P34: =VLOOKUP(K26,Risques!$D$21:$AB$40,23,FALSE) | S34: Probabilité :
N35: Impact : | O35: =VLOOKUP(K26,Risques!$D$21:$AB$40,18,FALSE) | P35: =VLOOKUP(K26,Risques!$D$21:$AB$40,24,FALSE) | S35: Impact :
N36: Criticité : | O36: =VLOOKUP(K26,Risques!$D$21:$AB$40,19,FALSE) | P36: =VLOOKUP(K26,Risques!$D$21:$AB$40,25,FALSE) | S36: Criticité :
J39: Analyse de causes | M39: =VLOOKUP($K26,Risques!$D$21:$AB$40,3,FALSE)
J42: N° de l'action | M42: Libellé de l'action à mettre en place | N42: Responsable de l'action | O42: Description de l'action | V42: Date échéance initiale
J43: {=IF($K$26="","",IF(INDEX('Plan d''actions détaillé'!A:A,MIN(IF((COUNTIF(J$41:J42,'Plan d''actions détaillé'!$A$6:$A$30)=0)*(INDEX('Plan d''actions détaillé'!$U$6:$AL$30,,MATCH($K$26,'Plan d''actions détaillé'!$U$5:$AL$5,0))="X"),ROW('Plan d''actions détaillé'!$T$6:$T$30))))=0,"",INDEX('Plan d''actions détaillé'!A:A,MIN(IF((COUNTIF(J$41:J42,'Plan d''actions détaillé'!$A$6:$A$30)=0)*(INDEX('Plan d''actions détaillé'!$U$6:$AL$30,,MATCH($K$26,'Plan d''actions détaillé'!$U$5:$AL$5,0))="X"),ROW('Plan d''actions détaillé'!$T$6:$T$30))))))} | M43: {=IF($K$26="","",IF(INDEX('Plan d''actions détaillé'!D:D,MIN(IF((COUNTIF(M$41:M42,'Plan d''actions détaillé'!$D$6:$D$30)=0)*(INDEX('Plan d''actions détaillé'!$U$6:$AL$30,,MATCH($K$26,'Plan d''actions détaillé'!$U$5:$AL$5,0))="X"),ROW('Plan d''actions détaillé'!$T$6:$T$30))))=0,"",INDEX('Plan d''actions détaillé'!D:D,MIN(IF((COUNTIF(M$41:M42,'Plan d''actions détaillé'!$D$6:$D$30)=0)*(INDEX('Plan d''actions détaillé'!$U$6:$AL$30,,MATCH($K$26,'Plan d''actions détaillé'!$U$5:$AL$5,0))="X"),ROW('Plan d''actions détaillé'!$T$6:$T$30))))))} | N43: =IF($M43<>"",IF(VLOOKUP($M43,'Plan d''actions détaillé'!$D$6:$P$30,8,FALSE)="","",VLOOKUP($M43,'Plan d''actions détaillé'!$D$6:$P$30,8,FALSE)),"") | O43: =IF($M43<>"",IF(VLOOKUP($M43,'Plan d''actions détaillé'!$D$6:$P$30,6,FALSE)="","",VLOOKUP($M43,'Plan d''actions détaillé'!$D$6:$P$30,6,FALSE)),"") | V43: =IF($M43<>"",IF(VLOOKUP($M43,'Plan d''actions détaillé'!$D$6:$P$30,12,FALSE)="","",VLOOKUP($M43,'Plan d''actions détaillé'!$D$6:$P$30,12,FALSE)),"")
J44: {=IF($K$26="","",IF(INDEX('Plan d''actions détaillé'!A:A,MIN(IF((COUNTIF(J$41:J43,'Plan d''actions détaillé'!$A$6:$A$30)=0)*(INDEX('Plan d''actions détaillé'!$U$6:$AL$30,,MATCH($K$26,'Plan d''actions détaillé'!$U$5:$AL$5,0))="X"),ROW('Plan d''actions détaillé'!$T$6:$T$30))))=0,"",INDEX('Plan d''actions détaillé'!A:A,MIN(IF((COUNTIF(J$41:J43,'Plan d''actions détaillé'!$A$6:$A$30)=0)*(INDEX('Plan d''actions détaillé'!$U$6:$AL$30,,MATCH($K$26,'Plan d''actions détaillé'!$U$5:$AL$5,0))="X"),ROW('Plan d''actions détaillé'!$T$6:$T$30))))))} | M44: {=IF($K$26="","",IF(INDEX('Plan d''actions détaillé'!D:D,MIN(IF((COUNTIF(M$41:M43,'Plan d''actions détaillé'!$D$6:$D$30)=0)*(INDEX('Plan d''actions détaillé'!$U$6:$AL$30,,MATCH($K$26,'Plan d''actions détaillé'!$U$5:$AL$5,0))="X"),ROW('Plan d''actions détaillé'!$T$6:$T$30))))=0,"",INDEX('Plan d''actions détaillé'!D:D,MIN(IF((COUNTIF(M$41:M43,'Plan d''actions détaillé'!$D$6:$D$30)=0)*(INDEX('Plan d''actions détaillé'!$U$6:$AL$30,,MATCH($K$26,'Plan d''actions détaillé'!$U$5:$AL$5,0))="X"),ROW('Plan d''actions détaillé'!$T$6:$T$30))))))} | N44: =IF($M44<>"",IF(VLOOKUP($M44,'Plan d''actions détaillé'!$D$6:$P$30,8,FALSE)="","",VLOOKUP($M44,'Plan d''actions détaillé'!$D$6:$P$30,8,FALSE)),"") | O44: =IF($M44<>"",IF(VLOOKUP($M44,'Plan d''actions détaillé'!$D$6:$P$30,6,FALSE)="","",VLOOKUP($M44,'Plan d''actions détaillé'!$D$6:$P$30,6,FALSE)),"") | V44: =IF($M44<>"",IF(VLOOKUP($M44,'Plan d''actions détaillé'!$D$6:$P$30,12,FALSE)="","",VLOOKUP($M44,'Plan d''actions détaillé'!$D$6:$P$30,12,FALSE)),"")
J45: {=IF($K$26="","",IF(INDEX('Plan d''actions détaillé'!A:A,MIN(IF((COUNTIF(J$41:J44,'Plan d''actions détaillé'!$A$6:$A$30)=0)*(INDEX('Plan d''actions détaillé'!$U$6:$AL$30,,MATCH($K$26,'Plan d''actions détaillé'!$U$5:$AL$5,0))="X"),ROW('Plan d''actions détaillé'!$T$6:$T$30))))=0,"",INDEX('Plan d''actions détaillé'!A:A,MIN(IF((COUNTIF(J$41:J44,'Plan d''actions détaillé'!$A$6:$A$30)=0)*(INDEX('Plan d''actions détaillé'!$U$6:$AL$30,,MATCH($K$26,'Plan d''actions détaillé'!$U$5:$AL$5,0))="X"),ROW('Plan d''actions détaillé'!$T$6:$T$30))))))} | M45: {=IF($K$26="","",IF(INDEX('Plan d''actions détaillé'!D:D,MIN(IF((COUNTIF(M$41:M44,'Plan d''actions détaillé'!$D$6:$D$30)=0)*(INDEX('Plan d''actions détaillé'!$U$6:$AL$30,,MATCH($K$26,'Plan d''actions détaillé'!$U$5:$AL$5,0))="X"),ROW('Plan d''actions détaillé'!$T$6:$T$30))))=0,"",INDEX('Plan d''actions détaillé'!D:D,MIN(IF((COUNTIF(M$41:M44,'Plan d''actions détaillé'!$D$6:$D$30)=0)*(INDEX('Plan d''actions détaillé'!$U$6:$AL$30,,MATCH($K$26,'Plan d''actions détaillé'!$U$5:$AL$5,0))="X"),ROW('Plan d''actions détaillé'!$T$6:$T$30))))))} | N45: =IF($M45<>"",IF(VLOOKUP($M45,'Plan d''actions détaillé'!$D$6:$P$30,8,FALSE)="","",VLOOKUP($M45,'Plan d''actions détaillé'!$D$6:$P$30,8,FALSE)),"") | O45: =IF($M45<>"",IF(VLOOKUP($M45,'Plan d''actions détaillé'!$D$6:$P$30,6,FALSE)="","",VLOOKUP($M45,'Plan d''actions détaillé'!$D$6:$P$30,6,FALSE)),"") | V45: =IF($M45<>"",IF(VLOOKUP($M45,'Plan d''actions détaillé'!$D$6:$P$30,12,FALSE)="","",VLOOKUP($M45,'Plan d''actions détaillé'!$D$6:$P$30,12,FALSE)),"")
J46: {=IF($K$26="","",IF(INDEX('Plan d''actions détaillé'!A:A,MIN(IF((COUNTIF(J$41:J45,'Plan d''actions détaillé'!$A$6:$A$30)=0)*(INDEX('Plan d''actions détaillé'!$U$6:$AL$30,,MATCH($K$26,'Plan d''actions détaillé'!$U$5:$AL$5,0))="X"),ROW('Plan d''actions détaillé'!$T$6:$T$30))))=0,"",INDEX('Plan d''actions détaillé'!A:A,MIN(IF((COUNTIF(J$41:J45,'Plan d''actions détaillé'!$A$6:$A$30)=0)*(INDEX('Plan d''actions détaillé'!$U$6:$AL$30,,MATCH($K$26,'Plan d''actions détaillé'!$U$5:$AL$5,0))="X"),ROW('Plan d''actions détaillé'!$T$6:$T$30))))))} | M46: {=IF($K$26="","",IF(INDEX('Plan d''actions détaillé'!D:D,MIN(IF((COUNTIF(M$41:M45,'Plan d''actions détaillé'!$D$6:$D$30)=0)*(INDEX('Plan d''actions détaillé'!$U$6:$AL$30,,MATCH($K$26,'Plan d''actions détaillé'!$U$5:$AL$5,0))="X"),ROW('Plan d''actions détaillé'!$T$6:$T$30))))=0,"",INDEX('Plan d''actions détaillé'!D:D,MIN(IF((COUNTIF(M$41:M45,'Plan d''actions détaillé'!$D$6:$D$30)=0)*(INDEX('Plan d''actions détaillé'!$U$6:$AL$30,,MATCH($K$26,'Plan d''actions détaillé'!$U$5:$AL$5,0))="X"),ROW('Plan d''actions détaillé'!$T$6:$T$30))))))} | N46: =IF($M46<>"",IF(VLOOKUP($M46,'Plan d''actions détaillé'!$D$6:$P$30,8,FALSE)="","",VLOOKUP($M46,'Plan d''actions détaillé'!$D$6:$P$30,8,FALSE)),"") | O46: =IF($M46<>"",IF(VLOOKUP($M46,'Plan d''actions détaillé'!$D$6:$P$30,6,FALSE)="","",VLOOKUP($M46,'Plan d''actions détaillé'!$D$6:$P$30,6,FALSE)),"") | V46: =IF($M46<>"",IF(VLOOKUP($M46,'Plan d''actions détaillé'!$D$6:$P$30,12,FALSE)="","",VLOOKUP($M46,'Plan d''actions détaillé'!$D$6:$P$30,12,FALSE)),"")
J47: {=IF($K$26="","",IF(INDEX('Plan d''actions détaillé'!A:A,MIN(IF((COUNTIF(J$41:J46,'Plan d''actions détaillé'!$A$6:$A$30)=0)*(INDEX('Plan d''actions détaillé'!$U$6:$AL$30,,MATCH($K$26,'Plan d''actions détaillé'!$U$5:$AL$5,0))="X"),ROW('Plan d''actions détaillé'!$T$6:$T$30))))=0,"",INDEX('Plan d''actions détaillé'!A:A,MIN(IF((COUNTIF(J$41:J46,'Plan d''actions détaillé'!$A$6:$A$30)=0)*(INDEX('Plan d''actions détaillé'!$U$6:$AL$30,,MATCH($K$26,'Plan d''actions détaillé'!$U$5:$AL$5,0))="X"),ROW('Plan d''actions détaillé'!$T$6:$T$30))))))} | M47: {=IF($K$26="","",IF(INDEX('Plan d''actions détaillé'!D:D,MIN(IF((COUNTIF(M$41:M46,'Plan d''actions détaillé'!$D$6:$D$30)=0)*(INDEX('Plan d''actions détaillé'!$U$6:$AL$30,,MATCH($K$26,'Plan d''actions détaillé'!$U$5:$AL$5,0))="X"),ROW('Plan d''actions détaillé'!$T$6:$T$30))))=0,"",INDEX('Plan d''actions détaillé'!D:D,MIN(IF((COUNTIF(M$41:M46,'Plan d''actions détaillé'!$D$6:$D$30)=0)*(INDEX('Plan d''actions détaillé'!$U$6:$AL$30,,MATCH($K$26,'Plan d''actions détaillé'!$U$5:$AL$5,0))="X"),ROW('Plan d''actions détaillé'!$T$6:$T$30))))))} | N47: =IF($M47<>"",IF(VLOOKUP($M47,'Plan d''actions détaillé'!$D$6:$P$30,8,FALSE)="","",VLOOKUP($M47,'Plan d''actions détaillé'!$D$6:$P$30,8,FALSE)),"") | O47: =IF($M47<>"",IF(VLOOKUP($M47,'Plan d''actions détaillé'!$D$6:$P$30,6,FALSE)="","",VLOOKUP($M47,'Plan d''actions détaillé'!$D$6:$P$30,6,FALSE)),"") | V47: =IF($M47<>"",IF(VLOOKUP($M47,'Plan d''actions détaillé'!$D$6:$P$30,12,FALSE)="","",VLOOKUP($M47,'Plan d''actions détaillé'!$D$6:$P$30,12,FALSE)),"")
J48: {=IF($K$26="","",IF(INDEX('Plan d''actions détaillé'!A:A,MIN(IF((COUNTIF(J$41:J47,'Plan d''actions détaillé'!$A$6:$A$30)=0)*(INDEX('Plan d''actions détaillé'!$U$6:$AL$30,,MATCH($K$26,'Plan d''actions détaillé'!$U$5:$AL$5,0))="X"),ROW('Plan d''actions détaillé'!$T$6:$T$30))))=0,"",INDEX('Plan d''actions détaillé'!A:A,MIN(IF((COUNTIF(J$41:J47,'Plan d''actions détaillé'!$A$6:$A$30)=0)*(INDEX('Plan d''actions détaillé'!$U$6:$AL$30,,MATCH($K$26,'Plan d''actions détaillé'!$U$5:$AL$5,0))="X"),ROW('Plan d''actions détaillé'!$T$6:$T$30))))))} | M48: {=IF($K$26="","",IF(INDEX('Plan d''actions détaillé'!D:D,MIN(IF((COUNTIF(M$41:M47,'Plan d''actions détaillé'!$D$6:$D$30)=0)*(INDEX('Plan d''actions détaillé'!$U$6:$AL$30,,MATCH($K$26,'Plan d''actions détaillé'!$U$5:$AL$5,0))="X"),ROW('Plan d''actions détaillé'!$T$6:$T$30))))=0,"",INDEX('Plan d''actions détaillé'!D:D,MIN(IF((COUNTIF(M$41:M47,'Plan d''actions détaillé'!$D$6:$D$30)=0)*(INDEX('Plan d''actions détaillé'!$U$6:$AL$30,,MATCH($K$26,'Plan d''actions détaillé'!$U$5:$AL$5,0))="X"),ROW('Plan d''actions détaillé'!$T$6:$T$30))))))} | N48: =IF($M48<>"",IF(VLOOKUP($M48,'Plan d''actions détaillé'!$D$6:$P$30,8,FALSE)="","",VLOOKUP($M48,'Plan d''actions détaillé'!$D$6:$P$30,8,FALSE)),"") | O48: =IF($M48<>"",IF(VLOOKUP($M48,'Plan d''actions détaillé'!$D$6:$P$30,6,FALSE)="","",VLOOKUP($M48,'Plan d''actions détaillé'!$D$6:$P$30,6,FALSE)),"") | V48: =IF($M48<>"",IF(VLOOKUP($M48,'Plan d''actions détaillé'!$D$6:$P$30,12,FALSE)="","",VLOOKUP($M48,'Plan d''actions détaillé'!$D$6:$P$30,12,FALSE)),"")
J49: {=IF($K$26="","",IF(INDEX('Plan d''actions détaillé'!A:A,MIN(IF((COUNTIF(J$41:J48,'Plan d''actions détaillé'!$A$6:$A$30)=0)*(INDEX('Plan d''actions détaillé'!$U$6:$AL$30,,MATCH($K$26,'Plan d''actions détaillé'!$U$5:$AL$5,0))="X"),ROW('Plan d''actions détaillé'!$T$6:$T$30))))=0,"",INDEX('Plan d''actions détaillé'!A:A,MIN(IF((COUNTIF(J$41:J48,'Plan d''actions détaillé'!$A$6:$A$30)=0)*(INDEX('Plan d''actions détaillé'!$U$6:$AL$30,,MATCH($K$26,'Plan d''actions détaillé'!$U$5:$AL$5,0))="X"),ROW('Plan d''actions détaillé'!$T$6:$T$30))))))} | M49: {=IF($K$26="","",IF(INDEX('Plan d''actions détaillé'!D:D,MIN(IF((COUNTIF(M$41:M48,'Plan d''actions détaillé'!$D$6:$D$30)=0)*(INDEX('Plan d''actions détaillé'!$U$6:$AL$30,,MATCH($K$26,'Plan d''actions détaillé'!$U$5:$AL$5,0))="X"),ROW('Plan d''actions détaillé'!$T$6:$T$30))))=0,"",INDEX('Plan d''actions détaillé'!D:D,MIN(IF((COUNTIF(M$41:M48,'Plan d''actions détaillé'!$D$6:$D$30)=0)*(INDEX('Plan d''actions détaillé'!$U$6:$AL$30,,MATCH($K$26,'Plan d''actions détaillé'!$U$5:$AL$5,0))="X"),ROW('Plan d''actions détaillé'!$T$6:$T$30))))))} | N49: =IF($M49<>"",IF(VLOOKUP($M49,'Plan d''actions détaillé'!$D$6:$P$30,8,FALSE)="","",VLOOKUP($M49,'Plan d''actions détaillé'!$D$6:$P$30,8,FALSE)),"") | O49: =IF($M49<>"",IF(VLOOKUP($M49,'Plan d''actions détaillé'!$D$6:$P$30,6,FALSE)="","",VLOOKUP($M49,'Plan d''actions détaillé'!$D$6:$P$30,6,FALSE)),"") | V49: =IF($M49<>"",IF(VLOOKUP($M49,'Plan d''actions détaillé'!$D$6:$P$30,12,FALSE)="","",VLOOKUP($M49,'Plan d''actions détaillé'!$D$6:$P$30,12,FALSE)),"")
...

Sheet Actions de maîtrise
B2: ="LISTE DES ACTIONS DE MAITRISE EN PLACE SUR LE PROCESSUS "&Matrice!G1 -> LISTE DES ACTIONS DE MAITRISE EN PLACE SUR LE PROCESSUS DI2
B5: N°de l'action | C5: Action à mettre en place | D5: ICOD | E5: Si D, récupéré? | F5: Si C, auto ou manuel? | G5: Si C, niveau ? | H5: Résultat du contrôle? | I5: Contrôle exploité ? | J5: Action préventive | K5: Action protective | L5: Diffusion | M5: Formalisation | N5: Mise en place | O5: Colonne1 | P5: =Matrice!D23 -> AAA | Q5: =Matrice!D24 -> BBB | R5: =Matrice!D25 -> CCC | S5: =Matrice!D26 -> 0 | T5: =Matrice!D27 -> 0 | U5: =Matrice!D28 -> 0 | V5: =Matrice!D29 -> 0 | W5: =Matrice!D30 -> 0 | X5: =Matrice!D31 -> 0 | Y5: =Matrice!D32 -> 0 | Z5: =Matrice!D33 -> 0 | AA5: =Matrice!D34 -> 0 | AB5: =Matrice!D35 -> 0 | AC5: =Matrice!D36 -> 0 | AD5: =Matrice!D37 -> 0 | AE5: =Matrice!D38 -> 0 | AF5: =Matrice!D39 -> 0 | AG5: =Matrice!D40 -> 0
B6: =IF((COUNTIF(Matrice!$2:$2,Matrice!$G$1&"-AM"&Listes!A2)=1)=TRUE,Matrice!$G$1&"-AM"&Listes!A2,"") | C6: =IF(IF(ISERROR(HLOOKUP(B6,Matrice!$A$2:$DP$100,20,FALSE)),"",HLOOKUP(B6,Matrice!$A$2:$DP$100,20,FALSE))="","",IF(ISERROR(HLOOKUP(B6,Matrice!$A$2:$DP$100,20,FALSE)),"-",HLOOKUP(B6,Matrice!$A$2:$DP$100,20,FALSE))) | D6: =IF(IF(ISERROR(HLOOKUP(B6,Matrice!$A$2:$DP$100,3,FALSE)),"",HLOOKUP(B6,Matrice!$A$2:$DP$100,3,FALSE))="","",IF(ISERROR(HLOOKUP(B6,Matrice!$A$2:$DP$100,3,FALSE)),"-",HLOOKUP(B6,Matrice!$A$2:$DP$100,3,FALSE))) | F6: =IF(ISERROR(HLOOKUP($B6,Matrice!$A$2:$DP$100,4,FALSE)),"",IF(HLOOKUP($B6,Matrice!$A$2:$DP$100,4,FALSE)="","",HLOOKUP($B6,Matrice!$A$2:$DP$100,4,FALSE))) | G6: =IF(ISERROR(HLOOKUP($B6,Matrice!$A$2:$DP$100,5,FALSE)),"",IF(HLOOKUP($B6,Matrice!$A$2:$DP$100,5,FALSE)="","",HLOOKUP($B6,Matrice!$A$2:$DP$100,5,FALSE))) | H6: =IF(ISERROR(HLOOKUP($B6,Matrice!$A$2:$DP$100,6,FALSE)),"",IF(HLOOKUP($B6,Matrice!$A$2:$DP$100,6,FALSE)="","",HLOOKUP($B6,Matrice!$A$2:$DP$100,6,FALSE))) | I6: =IF(ISERROR(HLOOKUP($B7,Matrice!$A$2:$DP$100,7,FALSE)),"",IF(HLOOKUP($B7,Matrice!$A$2:$DP$100,7,FALSE)="","",HLOOKUP($B7,Matrice!$A$2:$DP$100,7,FALSE))) | J6: =IF(ISERROR(HLOOKUP($B6,Matrice!$A$2:$DP$100,12,FALSE)),"",IF(HLOOKUP($B6,Matrice!$A$2:$DP$100,12,FALSE)="","",HLOOKUP($B6,Matrice!$A$2:$DP$100,12,FALSE))) | K6: =IF(ISERROR(HLOOKUP($B6,Matrice!$A$2:$DP$100,13,FALSE)),"",IF(HLOOKUP($B6,Matrice!$A$2:$DP$100,13,FALSE)="","",HLOOKUP($B6,Matrice!$A$2:$DP$100,13,FALSE))) | L6: =IF(ISERROR(HLOOKUP($B6,Matrice!$A$2:$DP$100,9,FALSE)),"",IF(HLOOKUP($B6,Matrice!$A$2:$DP$100,9,FALSE)="","",HLOOKUP($B6,Matrice!$A$2:$DP$100,9,FALSE))) | M6: =IF(ISERROR(HLOOKUP($B6,Matrice!$A$2:$DP$100,10,FALSE)),"",IF(HLOOKUP($B6,Matrice!$A$2:$DP$100,10,FALSE)="","",HLOOKUP($B6,Matrice!$A$2:$DP$100,10,FALSE))) | N6: =IF(ISERROR(HLOOKUP($B6,Matrice!$A$2:$DP$100,11,FALSE)),"",IF(HLOOKUP($B6,Matrice!$A$2:$DP$100,11,FALSE)="","",HLOOKUP($B6,Matrice!$A$2:$DP$100,11,FALSE))) | P6: =IF(SUMPRODUCT((Matrice!$D$23:$D$100='Actions de maîtrise'!P$5)*(Matrice!$T$21:$DP$21='Actions de maîtrise'!$C6)*(Matrice!$T$23:$DP$100="X"))=0,"",IF(SUMPRODUCT((Matrice!$D$23:$D$100='Actions de maîtrise'!P$5)*(Matrice!$T$21:$DP$21='Actions de maîtrise'!$C6)*(Matrice!$T$23:$DP$100="X"))=1,"X","erreur")) | Q6: =IF(SUMPRODUCT((Matrice!$D$23:$D$100='Actions de maîtrise'!Q$5)*(Matrice!$T$21:$DP$21='Actions de maîtrise'!$C6)*(Matrice!$T$23:$DP$100="X"))=0,"",IF(SUMPRODUCT((Matrice!$D$23:$D$100='Actions de maîtrise'!Q$5)*(Matrice!$T$21:$DP$21='Actions de maîtrise'!$C6)*(Matrice!$T$23:$DP$100="X"))=1,"X","erreur")) | R6: =IF(SUMPRODUCT((Matrice!$D$23:$D$100='Actions de maîtrise'!R$5)*(Matrice!$T$21:$DP$21='Actions de maîtrise'!$C6)*(Matrice!$T$23:$DP$100="X"))=0,"",IF(SUMPRODUCT((Matrice!$D$23:$D$100='Actions de maîtrise'!R$5)*(Matrice!$T$21:$DP$21='Actions de maîtrise'!$C6)*(Matrice!$T$23:$DP$100="X"))=1,"X","erreur")) | S6: =IF(SUMPRODUCT((Matrice!$D$23:$D$100='Actions de maîtrise'!S$5)*(Matrice!$T$21:$DP$21='Actions de maîtrise'!$C6)*(Matrice!$T$23:$DP$100="X"))=0,"",IF(SUMPRODUCT((Matrice!$D$23:$D$100='Actions de maîtrise'!S$5)*(Matrice!$T$21:$DP$21='Actions de maîtrise'!$C6)*(Matrice!$T$23:$DP$100="X"))=1,"X","erreur")) | T6: =IF(SUMPRODUCT((Matrice!$D$23:$D$100='Actions de maîtrise'!T$5)*(Matrice!$T$21:$DP$21='Actions de maîtrise'!$C6)*(Matrice!$T$23:$DP$100="X"))=0,"",IF(SUMPRODUCT((Matrice!$D$23:$D$100='Actions de maîtrise'!T$5)*(Matrice!$T$21:$DP$21='Actions de maîtrise'!$C6)*(Matrice!$T$23:$DP$100="X"))=1,"X","erreur")) | U6: =IF(SUMPRODUCT((Matrice!$D$23:$D$100='Actions de maîtrise'!U$5)*(Matrice!$T$21:$DP$21='Actions de maîtrise'!$C6)*(Matrice!$T$23:$DP$100="X"))=0,"",IF(SUMPRODUCT((Matrice!$D$23:$D$100='Actions de maîtrise'!U$5)*(Matrice!$T$21:$DP$21='Actions de maîtrise'!$C6)*(Matrice!$T$23:$DP$100="X"))=1,"X","erreur")) | V6: =IF(SUMPRODUCT((Matrice!$D$23:$D$100='Actions de maîtrise'!V$5)*(Matrice!$T$21:$DP$21='Actions de maîtrise'!$C6)*(Matrice!$T$23:$DP$100="X"))=0,"",IF(SUMPRODUCT((Matrice!$D$23:$D$100='Actions de maîtrise'!V$5)*(Matrice!$T$21:$DP$21='Actions de maîtrise'!$C6)*(Matrice!$T$23:$DP$100="X"))=1,"X","erreur")) | W6: =IF(SUMPRODUCT((Matrice!$D$23:$D$100='Actions de maîtrise'!W$5)*(Matrice!$T$21:$DP$21='Actions de maîtrise'!$C6)*(Matrice!$T$23:$DP$100="X"))=0,"",IF(SUMPRODUCT((Matrice!$D$23:$D$100='Actions de maîtrise'!W$5)*(Matrice!$T$21:$DP$21='Actions de maîtrise'!$C6)*(Matrice!$T$23:$DP$100="X"))=1,"X","erreur")) | ... AG6: =IF(SUMPRODUCT((Matrice!$D$23:$D$100='Actions de maîtrise'!AG$5)*(Matrice!$T$21:$DP$21='Actions de maîtrise'!$C6)*(Matrice!$T$23:$DP$100="X"))=0,"",IF(SUMPRODUCT((Matrice!$D$23:$D$100='Actions de maîtrise'!AG$5)*(Matrice!$T$21:$DP$21='Actions de maîtrise'!$C6)*(Matrice!$T$23:$DP$100="X"))=1,"X","erreur"))
